{"text_format":"1","workbook":"xlsx","n_sheets":22,"sheets":["a_Sadržaj","b_Upute i uvjeti","A_Izdanja Plana praćenja","B_Iden. operatora i postrojenja","C_Opis postrojenja","D_Metodologija proračuna","E_Tokovi izvora","F_Metodologija mjerenja","G_Nadomjesni pristupi","H_N2O","I_Određivanje PFC emisija","J_Preneseni ili inherentni CO2","J2_PermCCU","K_Upravljanje i kontrola","L_Specifične dodatne inform.","M_Izračun","UBA_Parameters","MSParameters","EUwideConstants","Translations","VersionDocumentation","empty"],"not_rendered":{"charts":0,"images":0,"macros":1,"external_links":0,"defined_names":207,"comments":2,"pivot_tables":0},"unopened":[],"bounds":{"document_bytes":16777216,"sheet_cells":100000,"rows_first":2000,"rows_last":500,"rows_between":2000,"halvings":0,"cell_chars":16384,"cell_head_chars":4096},"cells_cut":0,"cells_raw":0,"read":"whole","date_system":"1900"}

{"sheet":"a_Sadržaj","index":0,"n_rows":73,"n_cols":6,"rows_kept":73,"cut":false,"hidden":false,"merged":[[48,1,48,8],[6,1,6,8],[7,1,7,8],[72,1,72,4],[56,1,57,8],[64,1,64,3],[69,1,69,4],[70,1,70,4],[71,1,71,4],[63,1,63,3],[8,1,8,8],[47,2,47,8],[34,2,34,8],[40,2,40,8],[41,2,41,8],[42,2,42,8],[9,2,9,8],[11,2,11,8],[12,2,12,8],[13,2,13,8],[10,1,10,8],[22,2,22,8],[26,2,26,8],[28,2,28,8],[30,2,30,8],[23,2,23,8],[24,2,24,8],[25,1,25,8],[27,1,27,8],[29,1,29,8],[14,1,14,8],[17,1,17,8],[19,1,19,8],[21,1,21,8],[15,2,15,8],[16,2,16,8],[18,2,18,8],[20,2,20,8],[46,1,46,8],[44,2,44,8],[45,2,45,8],[31,2,31,8],[32,2,32,8],[35,2,35,8],[36,2,36,8],[43,2,43,8],[37,1,37,8],[38,2,38,8],[33,1,33,8],[39,1,39,8]]}
[null,{"$f":"Translations!$B$2","v":"GODIŠNJI PLAN PRAĆENJA EMISIJA STAKLENIČKIH PLINOVA"}]
[]
[null,{"$f":"Translations!$B$3","v":"SADRŽAJ"}]
[]
[null,{"$f":"Translations!$B$4","v":"Imena listova prikazana su u podebljanom fontu, a imena poglavlja u normalnom."}]
[]
[null,{"$f":"Translations!$B$5","v":"a_Sadržaj"}]
[null,{"$f":"Translations!$B$6","v":"b_Upute i uvjeti"}]
[null,{"$f":"Translations!$B$7","v":"A. Izdanja Plana praćenja"}]
[null,1,{"$f":"Translations!$B$8","v":"Popis izdanja Planova praćenja"}]
[null,{"$f":"Translations!$B$9","v":"B. Identifikacija operatera i postrojenja"}]
[null,2,{"$f":"Translations!$B$10","v":"Podaci o operateru"}]
[null,3,{"$f":"Translations!$B$11","v":"Podaci o postrojenju"}]
[null,4,{"$f":"Translations!$B$12","v":"Kontakt podaci"}]
[null,{"$f":"Translations!$B$13","v":"C. Opis postrojenja"}]
[null,5,{"$f":"Translations!$B$14","v":"Podaci o aktivnostima postrojenja"}]
[null,6,{"$f":"Translations!$B$15","v":"Podaci o emisijama"}]
[null,{"$f":"Translations!$B$16","v":"D. Metodologija proračuna"}]
[null,7,{"$f":"Translations!$B$17","v":"Izračun: Detalji potrebni za daljnje popunjavanje podataka u sljedećem listu"}]
[null,{"$f":"Translations!$B$18","v":"E. Tokovi izvora"}]
[null,8,{"$f":"Translations!$B$19","v":"Pojedinosti o primijenjenoj razini točnosti za podatke o djelatnostima i faktorima izračuna"}]
[null,{"$f":"Translations!$B$20","v":"F. Metodologija mjerenja"}]
[null,9,{"$f":"Translations!$B$21","v":"Mjerenja emisija CO2 i N2O"}]
[null,10,{"$f":"Translations!$B$22","v":"Pojedinosti o mjernim točkama"}]
[null,11,{"$f":"Translations!$B$23","v":"Upravljanje i procedure za metodologiju mjerenja"}]
[null,{"$f":"Translations!$B$24","v":"G. Nadomjesni pristupi"}]
[null,12,{"$f":"Translations!$B$25","v":"Opis nadomjesnih pristupa"}]
[null,{"$f":"Translations!$B$26","v":"H. N2O emisije"}]
[null,13,{"$f":"Translations!$B$27","v":"Upravljanje i procedure za praćenje emisija N2O "}]
[null,{"$f":"Translations!$B$28","v":"I. Određivanje emisija PFC iz proizvodnje primarnog aluminija"}]
[null,14,{"$f":"Translations!$B$29","v":"Određivanje emisija PFC"}]
[null,15,{"$f":"Translations!$B$30","v":"Pojedinosti praćenja za tokove izvora emisija PFC"}]
[null,16,{"$f":"Translations!$B$31","v":"Upravljanje i pisane procedure za praćenja emisija PFC"}]
[null,{"$f":"Translations!$B$32","v":"J. Određivanje prenesenog ili inherentnog CO2"}]
[null,17,{"$f":"Translations!$B$33","v":"Određivanje prenesenog ili inherentnog CO2   "}]
[null,18,{"$f":"Translations!$B$34","v":"Relevantne informacije za cjevovodne sustave koji se koriste za transport CO2"}]
[null,19,{"$f":"Translations!$B$35","v":"Relevantne informacije za postrojenja za geološko skladištenje CO2"}]
[null,{"$f":"J2_PermCCU!C6","v":"J2. CO2 trajno kemijski vezan u proizvodu"}]
[null,"19a",{"$f":"J2_PermCCU!D10","v":"Određivanje količina CO2 trajno kemijski vezanog"}]
[null,{"$f":"Translations!$B$36","v":"K. Upravljanje i kontrola"}]
[null,20,{"$f":"Translations!$B$37","v":"Upravljanje"}]
[null,21,{"$f":"Translations!$B$38","v":"Aktivnosti protoka podataka"}]
[null,22,{"$f":"Translations!$B$39","v":"Kontrolne aktivnosti"}]
[null,23,{"$f":"Translations!$B$40","v":"Lista korištenih definicija i skraćenica"}]
[null,24,{"$f":"Translations!$B$41","v":"Dodatne informacije"}]
[null,25,{"$f":"Translations!$B$1152","v":"Daljni postupci"}]
[null,{"$f":"Translations!$B$43","v":"L. Specifične dodatne informacije države članice"}]
[null,26,{"$f":"Translations!$B$44","v":"Komentari"}]
[null,{"$f":"Translations!$B$1153","v":"M.Izračun"}]
[]
[null,{"$f":"Translations!$B$45","v":"Informacije o ovom obrascu:"}]
[null,{"$f":"Translations!$B$46","v":"Plan praćenja podnosi:"},null,null,null,{"$f":"IF(ISBLANK('B_Iden. operatora i postrojenja'!I16),\"\",'B_Iden. operatora i postrojenja'!I16)","v":""}]
[null,{"$f":"Translations!$B$47","v":"Naziv postrojenja:"},null,null,null,{"$f":"IF(ISBLANK('B_Iden. operatora i postrojenja'!I22),\"\",'B_Iden. operatora i postrojenja'!I22)","v":""}]
[null,{"$f":"Translations!$B$48","v":"Jedinstveni identifikacijski broj postrojenja:"},null,null,null,{"$f":"IF(ISBLANK('B_Iden. operatora i postrojenja'!I24),\"\",'B_Iden. operatora i postrojenja'!I24)","v":""}]
[null,{"$f":"Translations!$B$49","v":"Broj izdanja Plana praćenja:"},null,null,null,{"$f":"IF(COUNTA('A_Izdanja Plana praćenja'!E23:E49)=0,\"\",MAX('A_Izdanja Plana praćenja'!E23:E49))","v":0.1}]
[]
[null,{"$f":"Translations!$B$50","v":"Ukoliko Ministarstvo zaštite okoliša i zelene tranzicije zahtjeva da se podnese potpisana kopija Plana praćenja u papirnatom obliku, koristite prostor ispod za potpisivanje:"}]
[]
[]
[]
[]
[]
[]
[]
[null,{"$f":"Translations!$B$51","v":"Datum"},null,null,null,{"$f":"Translations!$B$52","v":"Ime i potpis odgovorne osobe za zastupanje:"}]
[]
[]
[]
[null,{"$f":"Translations!$B$53","v":"Informacija o izdanju obrasca:"}]
[null,{"$f":"Translations!$B$54","v":"Obrazac dostavljen od:"},null,null,null,{"$f":"VersionDocumentation!B4","v":"European Commission"}]
[null,{"$f":"Translations!$B$55","v":"Datum objave:"},null,null,null,{"$f":"VersionDocumentation!B3","v":"2025-09-02"}]
[null,{"$f":"Translations!$B$56","v":"Službeni jezik: "},null,null,null,{"$f":"VersionDocumentation!B5","v":"Croatian"}]
[null,{"$f":"Translations!$B$57","v":"Važeći naziv obrasca:"},null,null,null,{"$f":"VersionDocumentation!C3","v":"MP P4 Inst_COM_hr_020925.xls"}]

{"sheet":"b_Upute i uvjeti","index":1,"n_rows":118,"n_cols":9,"rows_kept":118,"cut":false,"hidden":false,"merged":[[2,6,2,7],[22,1,22,11],[2,2,2,3],[4,1,4,9],[5,1,5,11],[7,1,7,11],[12,1,12,11],[6,1,6,11],[11,1,11,11],[8,1,8,11],[14,1,14,11],[18,1,18,11],[19,1,19,11],[15,1,15,11],[16,1,16,11],[20,1,20,11],[21,1,21,11],[117,3,117,9],[0,8,0,9],[0,10,0,11],[1,2,1,3],[1,4,1,5],[1,6,1,7],[1,8,1,9],[0,4,0,5],[0,6,0,7],[17,1,17,11],[1,10,1,11],[0,2,0,3],[23,1,23,11],[0,0,2,1],[2,8,2,9],[2,10,2,11],[2,4,2,5],[10,1,10,11],[13,1,13,11],[30,2,30,11],[31,2,31,11],[34,1,34,11],[26,1,26,11],[29,1,29,11],[25,1,25,11],[37,4,44,7],[46,1,46,11],[32,2,32,11],[33,2,33,11],[47,1,47,11],[35,1,35,11],[27,1,27,11],[60,1,60,11],[62,1,62,11],[63,1,63,11],[65,1,65,11],[70,2,70,3],[71,4,71,11],[73,2,73,3],[48,1,48,11],[49,1,49,11],[59,1,59,11],[66,1,66,11],[50,1,50,11],[52,1,52,11],[54,3,54,8],[57,3,57,8],[69,1,69,11],[72,2,72,3],[72,4,72,11],[75,2,75,3],[75,4,75,11],[81,1,81,11],[76,4,76,11],[79,1,79,11],[67,1,67,11],[68,1,68,11],[70,4,70,11],[71,2,71,3],[74,4,74,11],[80,1,80,11],[76,2,76,3],[73,4,73,11],[74,2,74,3],[96,1,96,11],[95,1,95,11],[93,1,93,11],[105,1,105,11],[87,1,87,11],[77,2,77,3],[77,4,77,11],[94,1,94,11],[86,1,86,11],[84,1,84,11],[82,1,82,11],[83,1,83,10],[88,1,88,11],[89,1,89,11],[92,1,92,11],[104,1,104,11],[100,1,100,11],[101,1,101,11],[98,1,98,11],[99,1,99,11],[102,1,102,11],[103,1,103,11],[97,1,97,11],[114,1,114,11],[106,1,106,11],[107,1,107,11],[108,1,108,11],[109,1,109,11],[110,1,110,11],[111,1,111,11],[112,1,112,11],[113,1,113,11]]}
[{"$f":"Translations!$B$58","v":"b.\nUpute "},null,{"$f":"Translations!$B$59","v":"Navigacijsko područje:"},null,{"$f":"Translations!$B$60","v":"Sadržaj"},null,{"$f":"Translations!$B$61","v":"Prethodni list"},null,{"$f":"Translations!$B$62","v":"Sljedeći list"}]
[null,null,{"$f":"Translations!$B$63","v":"Vrh lista"}]
[null,null,{"$f":"Translations!$B$64","v":"Dno lista"}]
[]
[null,{"$f":"Translations!$B$65","v":"UPUTE I UVJETI "}]
[]
[1,{"$f":"Translations!$B$66","v":"Zakon o klimatskim promjenama i zaštiti ozonskog sloja (NN 67/2025) propisuje da operateri postrojenja koji su uključeni u sustav trgovanja emisijskim jedinicama  (EU ETS) posjeduju važeću dozvolu za emisije stakleničkih plinova izdanu od Ministarstva zaštite okoliša i zelene tranzicije, također da prate i izvješćuju  o emisijama te da su izvješća verificirana od neovisnog i akreditiranog verifikatora."}]
[null,{"$f":"Translations!$B$67","v":"Zakon o klimatskim promjenama i zaštiti ozonskog sloja (NN 67/2025) može se preuzeti s internetske stranice:"}]
[null,{"$f":"Translations!$B$68","v":"https://narodne-novine.nn.hr/clanci/sluzbeni/2025_04_67_855.html"}]
[]
[2,{"$f":"Translations!$B$1155","v":"U Uredbi o praćenju i izvješćivanju (Uredba Komisije (EU) 2018/2066, kako je izmijenjena, dalje u tekstu Uredba) utvrđeni su daljnji zahtjevi za praćenje i izvješćivanje. Uredba o praćenju i izvješćivanju može se preuzeti s adrese:"}]
[null,"https://eur-lex.europa.eu/legal-content/EN/TXT/?uri=CELEX%3A02018R2066-20250527"]
[null,{"$f":"Translations!$B$71","v":"Članak 12. Uredbe propisuje posebne zahtjeve za sadržaj i predaju plana praćenja i njegovih dopuna. Članak 12. naglašava značaj plana praćenja kako slijedi:"}]
[null,{"$f":"Translations!$B$72","v":"Plan praćenja  se sastoji od podrobne, potpune i transparentne dokumentacije o metodologiji praćenja pojedinog postrojenja ili operatora zrakoplova te sadržava barem elemente utvrđene u Prilogu I."}]
[null,{"$f":"Translations!$B$73","v":"Nadalje, članak 74. stavak 1. propisuje:"}]
[null,{"$f":"Translations!$B$74","v":"Države članice mogu od operatera i operatora zrakoplova zahtijevati da koriste elektroničke obrasce ili specifične oblike datoteka za dostavljanje planova praćenja i izmjena plana praćenja kao i za dostavljanje godišnjih izvješća o emisijama, izvješća o tonskim kilometrima, izvješća o verifikaciji i izvješća o poboljšanjima.\nTi obrasci ili specifikacije oblika datoteka koje utvrđuju države članice sadržavaju barem informacije koje su obuhvaćene u elektroničkim obrascima ili specifikacijama oblika datoteka koje objavljuje Komisija."}]
[3,{"$f":"Translations!$B$75","v":"Ova datoteka predstavlja spomenuti obrazac za planove praćenja emisija stakleničkih plinova iz postrojenja, koje su službe Komisije razvile i uključuje zahtjeve definirane u Prilogu I. Uredbe, kao i daljnje zahtjeve za pomoć operaterima u dokazivanju usklađenosti s Uredbom. Pod određenim uvjetima kao što je opisano u nastavku, Ministarstvo zaštite okoliša i zelene tranzicije može obrazac u ograničenoj mjeri izmijeniti."}]
[null,{"$f":"Translations!$B$1147","v":"Ovaj obrazac plana praćenja predstavlja stavove službe Komisije u vrijeme objave."}]
[null,{"$f":"Translations!$B$1382","v":"Ovo je ažurirana verzija obrasca plana praćenja za postrojenja od 17. prosinca 2024., s manjim izmjenama od 2. rujna 2025."}]
[]
[4,{"$f":"Translations!$B$76","v":"U skladu s članakom 13. Uredbe dopušta se Državama članicama da razviju pojednostavljen i standardiziran plan praćenja za \"jednostavna\" postrojenja."}]
[null,{"$f":"Translations!$B$1336","v":"Države članice mogu dopustiti operaterima i operatorima zrakoplova korištenje standardiziranih ili pojednostavljenih planova praćenja, ne dovodeći u pitanje članak 12. stavak 3. Uredbe\nU tu svrhu države članice mogu objaviti obrasce za te planove praćenja, uključujući opis protoka podataka i kontrolnih postupaka iz članka 58. i članka 59. Uredbe, na temelju predložaka i smjernica koje je objavila Komisija."}]
[null,{"$f":"Translations!$B$78","v":"Prema Uputi Komisije broj 1 (\"Opće smjernice za postrojenja\"), takvi standardizirani obrasci se trebaju osigurati na način da se dodaju standardni tekstovi, gdje je to prikladno, u ovom obrascu."}]
[null,{"$f":"Translations!$B$79","v":"Ako je postrojenje podobno za takav pojednostavljen i/ili standardiziran plan praćenja  u skladu sa zahtjevima utvrđenima u Uputi br. 1, provjerite s Ministarstvom zaštite okoliša i zelene tranzicije ili na internetskim stranicama Ministarstva da li je li vaša Država članica omogućila predmetne pojednostavljene obrasce."}]
[]
[5,{"$f":"Translations!$B$80","v":"Sve upute Komisije o Uredbi o praćenju i izvješćivanju mogu se naći na internetskoj stranici:"}]
[null,"https://climate.ec.europa.eu/eu-action/eu-emissions-trading-system-eu-ets/monitoring-reporting-and-verification-eu-ets-emissions_en"]
[null,{"$f":"Translations!$B$1159","v":"Preporučuje se da počnete s „Brzim vodičem za operatere stacionarnih postrojenja” i „Uputama br. 1”."}]
[]
[6,{"$f":"Translations!$B$82","v":"Prije nego što počnete koristiti ovaj obrazac, molimo provesti sljedeće korake:"}]
[null,"(a)",{"$f":"Translations!$B$83","v":"Pročitajte pažljivo upute u nastavku za ispunjavanje ovog obrasca:"}]
[null,"(b)",{"$f":"Translations!$B$84","v":"Identificirajte nadležno tijelo odgovorno za vaše postrojenje u državi članici u kojoj se postrojenje nalazi. Imajte na umu da \"Država članica\" ovdje znači sve države koje sudjeluju u EU ETS, ne samo zemlje članice Europske unije."}]
[null,"(c)",{"$f":"Translations!$B$85","v":"Provjerite internetsku stranicu ili izravno kontaktirajte Ministarstvo zaštite okoliša i zelene tranzicije kako biste saznali imate li važeće izdanje obrasca.Izdanje obrasca (vidi pod važeći naziv obrasca) jasno je istaknuto na naslovnoj stranici ovog obrasca."}]
[null,"(d)",{"$f":"Translations!$B$86","v":"Neke države članice mogu zahtjevati da koristite alternativni sustav, kao što su internet-baziran obrazac umjesto proračunske tablice. Provjerite zahtjeve svoje Države članice. U ovom slučaju Ministarstvo zaštite okoliša i zelene tranzicije će vam pružiti dodatne informacije."}]
[]
[7,{"$f":"Translations!$B$87","v":"Ovaj Plan praćenja mora se dostaviti Ministarstvu zaštite okoliša i zelene tranzicije na sljedeće adrese elektroničke pošte:"}]
[]
[null,null,null,null,{"$f":"Translations!$B$88","v":"ets-postrojenja@mzozt.hr \nzavod.klima@mzozt.hr "}]
[]
[]
[]
[]
[]
[]
[]
[]
[8,{"$f":"Translations!$B$89","v":"Ministarstvo zaštite okoliša i zelene tranzicije može kontaktirati operatera kako bi diskutiralo o izmjenama vašeg Plana praćenja u svrhu osiguranja točnog i pouzdanog praćenja i izvješćivanja o godišnjim emisijama, u skladu s općim i specifičnim zahtjevima iz Uredbe. Bez obzira na članak 16. stavak 1. Uredbe, nakon obavijesti o odobrenju Plana praćenja iz Ministarstva zaštite okoliša i zelene tranzicije  koristit ćete posljednje odobreno izdanje Plana praćenja kao temelj za utvrđivanje godišnjih emisija i primjeniti ​​aktivnosti za prikupljanje podataka i njihovu obradu te aktivnosti kontrole. To će poslužiti i kao referenca za verifikaciju vašeg godišnjeg izvješća o emisijama.\n\n\n\n\n"}]
[9,{"$f":"Translations!$B$90","v":"Dužni ste bez odlaganja obavijestiti Ministarstvo zaštite okoliša i zelene tranzicije o prijedlogu  značajnih promjena u postrojenju koje dovode do izmjene plana praćenja. Svaka značajna promjena u vašoj metodologiji praćenja podliježe odobrenju Ministarstva zaštite okoliša i zelene tranzicije, kao što je navedeno u članku 14. i 15. Uredbe. U slučaju kada možete pretpostaviti (u skladu s člankom 15.) da potrebne nadopune plana praćenja nisu značajne, možete o istima obavijestiti Ministarstvo zaštite okoliša i zelene tranzicijea jednom godišnje u skladu s rokom navedenim u tom članku."}]
[10,{"$f":"Translations!$B$91","v":"Sve promjene plana praćenja i zapisi o tim promjenama provede se sukladno članku 16. Uredbe."}]
[11,{"$f":"Translations!$B$92","v":"Za dodatne informacije o ovom obrascu kontaktirajte Ministarstvo zaštite okoliša i zelene tranzicije."}]
[12,{"$f":"Translations!$B$93","v":"Izjava o povjerljivosti podataka - informacije dostavljene u ovom zahtjevu mogu biti predmet zahtjeva o javnom pristupu informacijama, uključujući i Direktive 2003/4/EZ o pristupu javnosti informacijama o okolišu. Ako smatrate da je neke informacije, koje ste dali u okviru vašeg zahtjeva potrebno tretirati kao poslovnu tajnu, molimo vas da o tome obavijestite Ministarstvo zaštite okoliša i zelene tranzicije. Potrebno je obratiti pažnju da sukladno odredbama Direktive 2003/4/EZ, Ministarstvo zaštite okoliša i zelene tranzicije može biti dužno objaviti  informacije čak i kada podnositelj zahtjeva traži tajnost podataka."}]
[]
[13,{"$f":"Translations!$B$94","v":"Izvori informacija:"}]
[null,{"$f":"Translations!$B$95","v":"Internetske stranice EU:"}]
[null,{"$f":"Translations!$B$96","v":"Zakonodavstvo EU:"},null,"https://eur-lex.europa.eu/homepage.html?locale=en"]
[null,{"$f":"Translations!$B$98","v":"EU ETS general:"},null,"https://climate.ec.europa.eu/eu-action/carbon-markets/eu-emissions-trading-system-eu-ets_en"]
[null,{"$f":"Translations!$B$100","v":"Praćenje i izvješćivanje u EU ETS: "}]
[null,null,null,"https://climate.ec.europa.eu/eu-action/carbon-markets/eu-emissions-trading-system-eu-ets/monitoring-reporting-and-verification_en"]
[null,{"$f":"Translations!$B$101","v":"Ostale web-stranice: "}]
[null,"https://www.haop.hr/hr/tematska-podrucja/zrak-klima-tlo/klimatske-promjene"]
[]
[null,{"$f":"Translations!$B$103","v":"Služba za podršku korisnicima: "}]
[null,{"$f":"Translations!$B$104","v":"ets-postrojenja@mzozt.hr"}]
[]
[]
[14,{"$f":"Translations!$B$105","v":"Kako se služiti ovim obrascem:"}]
[null,{"$f":"Translations!$B$106","v":"Ovaj obrazac je izrađen kako bi se ispunili minimalni zahtjevi sadržaja plana praćenja sukladno Uredbi. Operateri se stoga prilikom ispunjavanja trebaju pozvati na Uredbu."}]
[null,{"$f":"Translations!$B$107","v":"Preporuča se ispunjavati obrazac od početka do kraja. Postoji nekoliko funkcija koje će vas voditi kroz obrazac, a ovisit će o prethodnom unosu podataka poput, primjerice, ćelije tablice koje mijenjaju boju ukoliko unos nije potreban (vidi kodove boja u nastavku)."}]
[null,{"$f":"Translations!$B$108","v":"U nekoliko polja možete odabrati između unaprijed ponuđenih mogućnosti za unos. Kako biste odabrali unos iz takvog \"padajućeg izbornika\" pritisnite mišem strelicu koja se pojavljuje na desnom rubu ćelije  ili pritisnite \"Alt +  ↓\" kada ste odabrali ćeliju. Neka vam polja dozvoljavaju unos vlastitog teksta, unatoč tome što postoji unaprijed ponuđeni padajući izbornik. To je slučaj kada padajući izbornik sadrži prostor za unos dodatnih mogućnosti."}]
[null,{"$f":"Translations!$B$109","v":"Oznake boja i fontova:"}]
[null,null,{"$f":"Translations!$B$110","v":"Crno podebljani tekst:"},null,{"$f":"Translations!$B$111","v":"Ovo je tekst predviđen predloškom Komisije. Potrebno ga je ostaviti nepromijenjenim."}]
[null,null,{"$f":"Translations!$B$112","v":"Umanjeni tekst u kurzivu:"},null,{"$f":"Translations!$B$113","v":"Ovaj tekst pruža dodatna objašnjenja."}]
[null,null,null,null,{"$f":"Translations!$B$114","v":"Žuta polja upućuju na obavezan unos. Međutim, ako pitanje nije  relevantno  za postrojenje, unos je nepotreban."}]
[null,null,null,null,{"$f":"Translations!$B$115","v":"Svjetložuta polja označavaju ćelije gdje se unose podaci prema potrebi."}]
[null,null,null,null,{"$f":"Translations!$B$116","v":"Zelena polja prikazuju automatski izračunate rezultate. Tekst u crvenoj boji predstavlja poruke koje upućuju na pogreške (nedostajući podatak i sl.)."}]
[null,null,null,null,{"$f":"Translations!$B$117","v":"Osjenčana polja upućuju da određeni unos iz drugog polja, čini ovaj unos nevažnim."}]
[null,null,null,null,{"$f":"Translations!$B$118","v":"Države članice trebaju popuniti sivo osjenčana područja prije no što objave prilagođenu verziju obrasca. "}]
[null,null,null,null,{"$f":"Translations!$B$119","v":"Svjetlosiva područja su namijenjena za navigaciju i poveznice."}]
[]
[15,{"$f":"Translations!$B$120","v":"Navigacijske ploče na vrhu svakog lista nude poveznice za brzi prijelaz na pojedinačne odjeljke za unos podataka. Prvi redak (\"Sadržaj\", \"Prethodni list\", \"Sljedeći list\", \"Sažetak\"), kao i oznake \"Vrh lista\" i \"Dno lista\" jednaki su za sve listove. Ovisno o pojedinačnom listu, dodane su i druge stavke za odabir. "}]
[16,{"$f":"Translations!$B$121","v":"Ovaj je obrazac zaključan radi onemogućavanja unosa podataka, osim u žuta polja. Međutim, zbog transparentnosti, nije postavljena zaporka. To omogućava potpun uvid u sve formule. Pri korištenju ovog obrasca za unos podataka, preporučljivo je koristiti zaštitu lista.  Zaštita bi trebala biti isključena jedino prilikom provjere ispravnosti formula.  Navedenu provjeru je uputno učiniti u kopiji obrasca."}]
[17,{"$f":"Translations!$B$122","v":"Kako bi formule bile zaštićene od nenamjernih preinaka, koje obično dovode do pogrešnih i nejasnih rezultata, izrazito je važno NE KORISTITI OPCIJE 'IZREŽI & ZALIJEPI' ('CUT & PASTE'). Ukoliko želite pomicati podatke, prvo ih KOPIRAJTE (COPY) potom ZALIJEPITE (PASTE), a tek onda obrišite neželjene podatke na starom (pogrešnom) mjestu."}]
[18,{"$f":"Translations!$B$123","v":"Polja s podacima nisu optimizirana za brojčana i druga oblikovanja. Međutim, zaštita je ograničena kako biste mogli koristiti vlastite oblikovanja. Pogotovo, sami odlučujete koliko ćete decimalnih mjesta prikazati. Načelno, točnost izračuna ne ovisi o broju prikazanih decimalnih mjesta. U pravilu, trebalo bi onemogućiti opciju 'Preciznost prema prikazu' (\"Precision as displayed\") u MS Excelu. Za više pojedinosti o ovoj temi, koristite funkciju 'Pomoć' (\"Help\") u MS Excelu."}]
[]
[19,{"$f":"Translations!$B$124","v":"IZJAVA O OGRANIČENJU ODGOVORNOSTI: Sve su formule pažljivo i temeljito osmišljene. Međutim, pogreške se ne mogu potpuno isključiti. Kako je gore navedeno, u svrhu provjere valjanosti izračuna osigurana je potpuna transparentnost. Za moguće štete nastale uslijed pogrešnih ili nejasnih rezultata dostavljenih izračuna ne mogu biti odgovorni ni autori ovog obrasca, a niti Europska komisija.  \nPotpunu odgovornost dostave točnih podataka nadležnom tijelu snosi korisnik ovog obrasca (operater postrojenja obuhvaćenog  EU ETS-om)."}]
[]
[20,{"$f":"Translations!$B$125","v":"Na više mjesta u ovom obrascu morate ispuniti podatke s opisom postrojenja, njegove aktivnosti i specifične metode koje se primjenjuju za praćenje emisija. U takvim situacijama, tekstualna polja su predviđena za vaš unos, koja ponekad mogu biti nedovoljna za informacije koje želite unijeti."}]
[21,{"$f":"Translations!$B$126","v":"U takvim slučajevima, molimo priložite svoje podatke (tekst, formule, referentne podatke, sheme i crteže) kao zasebne dokumente pri dostavi Ministarstvu zaštite okoliša i zelene tranzicije. Pri tome je potrebno navesti referencu na te dokumente. U takvim situacijama navedite naziv priloga. Nadalje, preporučljivo je referencama dodati datum posljednje promjene dokumenta koji će biti vidljiv i u samom tiskanom primjerku dokumenta."}]
[22,{"$f":"Translations!$B$127","v":"Nadležno tijelo može ograničiti prihvatljive formate dokumenata. Molimo vas da koristite samo standardne vrste uredskih dokumenata kao što su .doc, .xls, .pdf. Za sve druge prihvatljive vrste dokumenata, obratite se Ministarstvu zaštite okoliša i zelene tranzicije (dalje u tekstu: nadležno tijelo)."}]
[23,{"$f":"Translations!$B$128","v":"Ovaj obrazac sadrži makronaredbe za nekoliko funkcija (dodavanje stavki na popise, i prikazivanje/skrivanje primjera). Ako su makronaredbe onemogućene na vašem računalu, i dalje ćete biti u mogućnosti koristiti obrazac, ali bez tih funkcija. Za osiguravanje da makronaredbe ne sadrže virus, one su elektronički potpisane. Molimo provjerite internetske stranice Komisije ili Ministarstva zaštite okoliša i zelene tranzicije za upute o provjeri vjerodostojnosti obrasca."}]
[]
[]
[24,{"$f":"Translations!$B$129","v":"Upute specifične za Republiku Hrvatsku nalaze se ovdje:"}]
[]
[]
[]
[]
[]
[]
[]
[]
[]
[]
[]
[]
[]
[]
[]
[]
[]
[]
[]
[]
[]
[]
[]
[]
[null,null,null,{"$f":"EUconst_MsgNextSheet","v":"<<< Pritisnite ovdje kako bi prešli na slijedeći list >>> "}]

{"sheet":"A_Izdanja Plana praćenja","index":2,"n_rows":55,"n_cols":16,"rows_kept":55,"cut":false,"hidden":false,"merged":[[47,6,47,7],[7,3,7,13],[3,4,3,5],[3,8,3,9],[1,4,1,5],[1,6,1,7],[1,12,1,13],[2,12,2,13],[5,2,5,13],[3,10,3,11],[3,12,3,13],[1,8,1,9],[1,10,1,11],[3,6,3,7],[1,1,3,3],[2,6,2,7],[2,8,2,9],[2,4,2,5],[2,10,2,11],[54,5,54,11],[50,6,52,10],[9,4,9,13],[10,4,10,13],[11,4,11,13],[12,4,12,13],[14,4,14,13],[13,4,13,13],[16,9,16,13],[16,6,16,7],[28,6,28,7],[17,6,17,7],[18,6,18,7],[19,6,19,7],[20,6,20,7],[21,6,21,7],[22,6,22,7],[23,6,23,7],[24,6,24,7],[25,6,25,7],[26,6,26,7],[27,6,27,7],[40,6,40,7],[29,6,29,7],[30,6,30,7],[31,6,31,7],[32,6,32,7],[33,6,33,7],[34,6,34,7],[48,6,48,7],[17,9,17,13],[18,9,18,13],[19,9,19,13],[20,9,20,13],[41,6,41,7],[42,6,42,7],[43,6,43,7],[44,6,44,7],[45,6,45,7],[46,6,46,7],[35,6,35,7],[36,6,36,7],[37,6,37,7],[38,6,38,7],[39,6,39,7]]}
["ausblenden",null,null,null,null,null,null,null,null,null,null,null,null,null,null,"ausblenden"]
[null,{"$f":"Translations!$B$130","v":"A. \nIzdanja Plana praćenja"},null,null,{"$f":"Translations!$B$59","v":"Navigacijsko područje:"},null,{"$f":"Translations!$B$60","v":"Sadržaj"},null,{"$f":"Translations!$B$61","v":"Prethodni list"},null,{"$f":"Translations!$B$62","v":"Sljedeći list"}]
[null,null,null,null,{"$f":"Translations!$B$63","v":"Vrh lista"}]
[null,null,null,null,{"$f":"Translations!$B$64","v":"Dno lista"}]
[]
[null,null,{"$f":"Translations!$B$7","v":"A. Izdanja Plana praćenja"}]
[]
[null,null,1,{"$f":"Translations!$B$8","v":"Popis izdanja Planova praćenja"}]
[]
[null,null,null,null,{"$f":"Translations!$B$1160","v":"Ovaj se list upotrebljava za utvrđivanje trenutačne verzije plana praćenja. Svaka verzija plana praćenja mora imati jedinstveni broj verzije koji se ne podudara s planovima iz prethodne faze te referentni datum."}]
[null,null,null,null,{"$f":"Translations!$B$132","v":"Operator mora imati pohranjene kopije svih izdanja plana praćenja."}]
[null,null,null,null,{"$f":"Translations!$B$133","v":"Status plana praćenja treba biti opisan u stupcu \"status\". Mogući statusi uključuju: \"podneseno nadležnom tijelu\", \"odobreno od strane nadležnog tijela\", \"radna verzija\" itd."}]
[null,null,null,null,{"$f":"Translations!$B$134","v":"Molimo obratite pažnju na to da praćenje emisija vašeg postrojenja mora uvijek biti provedeno u skladu s posljednjim odobrenim izdanjem plana praćenja, osim u slučaju kada je ažurirani plana praćenja već podnesen  nadležnom tijelu i/ili još u postupku odobrenja. U skladu sa člankom 16. stavak 1. Uredbe, u takvim slučajevima praćenje mora biti provedeno paralelno s korištenjem posljednjeg odobrenog izdanja plana praćenja ili posljednjeg izdanja plana praćenja podnesenog na odobrenje."}]
[null,null,null,null,{"$f":"Translations!$B$1161","v":"U stupcu „datum početka primjene”, ako je primjenjivo, upisuje se datum od kojeg se primjenjuje metodologija praćenja kako je opisana u planu."}]
[null,null,null,null,{"$f":"Translations!$B$135","v":"Za prikazivanje/skrivanje primjera, pritisnite na kućicu \"Primjeri\" unutar navigacijskog područja."}]
[]
[null,null,null,null,{"$f":"Translations!$B$136","v":"Izdanje br."},{"$f":"Translations!$B$137","v":"Datum izdavanja"},{"$f":"Translations!$B$138","v":"Status na datum izdavanja"},null,{"$f":"Translations!$B$1162","v":"Datum početka primjene"},{"$f":"Translations!$B$139","v":"Poglavlja u kojima su napravljene izmjene. \nKratko obrazloženje izmjena."}]
["HIDE_Example",null,null,null,1,"2020-06-30",{"$f":"Translations!$B$140","v":"Podneseno nadležnom tijelu"},null,"2021-01-01",{"$f":"Translations!$B$141","v":"Novi Plan praćenja sukladan zahtjevima Uredbe."}]
["HIDE_Example",null,null,null,2,"2020-07-19",{"$f":"Translations!$B$142","v":"Vraćeno s primjedbama"},null,null,{"$f":"Translations!$B$143","v":"Zavod za zaštitu okoliša i prirode dao je primjedbe za tokove izvora 1 i 2 te je potrebno dopuniti Plan praćenja sukladno danim primjedbama prije ponovnog podnošenja."}]
["HIDE_Example",null,null,null,3,"2020-08-07",{"$f":"Translations!$B$140","v":"Podneseno nadležnom tijelu"},null,"2021-01-01",{"$f":"Translations!$B$144","v":"Plan praćenja ažuriran sukladno preporukama Zavoda za zaštitu okoliša i prirode . Naknadno je dodan novi tok izvora br. 4 (ostaci drvenih ploča, onečišćeni s oko 5% fosilnih dijelova)."}]
["HIDE_Example",null,null,null,4,"2020-09-07",{"$f":"Translations!$B$145","v":"Odobreno od Zavoda za zaštitu okoliša i prirode "},null,"2021-01-01",{"$f":"Translations!$B$146","v":"Odobreno bez daljnjih promjena. Operater je zaprimio tiskanu kopiju zajedno s ažuriranom dozvolom za osiguravanje autentičnosti sadržaja Plana praćenja poslanog elektroničkim putem."}]
["ausblenden"]
[null,null,null,null,0.1]
[]
[]
[]
[]
[]
[]
[]
[]
[]
[]
[]
[]
[]
[]
[]
[]
[]
[]
[]
[]
[]
[]
[]
[]
[]
["ausblenden"]
["ADD_MPVersion"]
[null,null,null,null,null,null,{"$f":"Translations!$B$147","v":"Pritisnite \"+\" kako bi dodali više izdanja plana praćenja"}]
[]
[]
[]
[null,null,null,null,null,{"$f":"EUconst_MsgNextSheet","v":"<<< Pritisnite ovdje kako bi prešli na slijedeći list >>> "}]

{"sheet":"B_Iden. operatora i postrojenja","index":3,"n_rows":65,"n_cols":16,"rows_kept":65,"cut":false,"hidden":false,"merged":[[1,1,3,3],[5,2,5,13],[31,4,31,6],[7,3,7,13],[13,8,13,9],[15,8,15,11],[21,4,21,6],[21,8,21,11],[17,3,17,13],[1,12,1,13],[3,6,3,7],[1,6,1,7],[1,10,1,11],[3,8,3,9],[30,4,30,6],[28,4,28,9],[2,12,2,13],[1,8,1,9],[3,10,3,11],[3,12,3,13],[1,4,1,5],[3,4,3,5],[2,8,2,9],[2,4,2,5],[2,10,2,11],[2,6,2,7],[24,4,24,6],[23,8,23,11],[9,8,9,11],[11,8,11,11],[13,10,13,11],[13,4,13,6],[24,8,24,11],[22,8,22,11],[23,4,23,6],[9,4,9,6],[11,4,11,6],[22,4,22,6],[64,5,64,11],[42,4,42,11],[45,8,45,11],[40,3,40,13],[43,4,43,11],[54,8,54,11],[60,8,60,11],[61,8,61,11],[48,8,48,11],[59,8,59,11],[51,8,51,11],[50,8,50,11],[57,8,57,11],[55,8,55,11],[52,8,52,11],[56,8,56,11],[46,8,46,11],[47,8,47,11],[30,8,30,11],[26,4,26,13],[37,4,37,6],[37,8,37,11],[31,8,31,11],[38,4,38,13],[35,4,35,6],[35,8,35,11],[34,4,34,6],[34,8,34,11],[32,4,32,6],[32,8,32,11],[33,4,33,6],[33,8,33,11]]}
["ausblenden",null,null,null,null,null,null,null,null,null,null,null,null,null,null,"ausblenden"]
[null,{"$f":"Translations!$B$148","v":"B. \nID operatera postrojenja"},null,null,{"$f":"Translations!$B$59","v":"Navigacijsko područje:"},null,{"$f":"Translations!$B$60","v":"Sadržaj"},null,{"$f":"Translations!$B$61","v":"Prethodni list"},null,{"$f":"Translations!$B$62","v":"Sljedeći list"}]
[null,null,null,null,{"$f":"Translations!$B$63","v":"Vrh lista"},null,{"$f":"Translations!$B$149","v":"Operater"},null,{"$f":"Translations!$B$150","v":"Postrojenje"},null,{"$f":"Translations!$B$151","v":"Kontakti"}]
[null,null,null,null,{"$f":"Translations!$B$64","v":"Dno lista"}]
[]
[null,null,{"$f":"Translations!$B$9","v":"B. Identifikacija operatera i postrojenja"}]
[]
[null,null,2,{"$f":"Translations!$B$10","v":"Podaci o operateru"}]
[]
[null,null,null,"(a)",{"$f":"Translations!$B$152","v":"Nadležno tijelo"}]
[]
[null,null,null,"(b)",{"$f":"Translations!$B$153","v":"Država članica"}]
[]
[null,null,null,"(c) ",{"$f":"Translations!$B$154","v":"Broj dozvole za emisije stakleničkih plinova"},null,null,null,{"$f":"Translations!$B$155","v":"HR"}]
[]
[null,null,null,"(d)",{"$f":"Translations!$B$156","v":"Naziv operatera"}]
[]
[null,null,3,{"$f":"Translations!$B$11","v":"Podaci o postrojenju"}]
[]
[null,null,null,"(a)",{"$f":"Translations!$B$159","v":"Naziv postrojenja i lokacija"}]
[]
[null,null,null,"i.",{"$f":"Translations!$B$47","v":"Naziv postrojenja:"}]
[null,null,null,"ii.",{"$f":"Translations!$B$160","v":"Lokacija:"}]
[null,null,null,"iii.",{"$f":"Translations!$B$1276","v":"Jedinstveni ID postrojenja (kao i u Obrascu o podacima o djelatnostima-NIMs)"}]
[null,null,null,"iv.",{"$f":"Translations!$B$162","v":"EPRTR (nije potrebno ispuniti):"}]
[]
[null,null,null,null,{"$f":"Translations!$B$163","v":"Potrebno je napisati potpuni naziv postrojenja kako što je navedeno u izvatku iz Sudskog registra Ministarstva pravosuđa"}]
[]
[null,null,null,"(b)",{"$f":"Translations!$B$164","v":"Adresa/lokacija na kojem se nalazi postrojenje:"}]
[]
[null,null,null,"i.",{"$f":"Translations!$B$165","v":"Adresa 1:"}]
[null,null,null,"ii.",{"$f":"Translations!$B$166","v":"Adresa 2:"}]
[null,null,null,"iii.",{"$f":"Translations!$B$167","v":"Grad:"}]
[null,null,null,"iv.",{"$f":"Translations!$B$168","v":"Država/Županija/Grad:"}]
[null,null,null,"v.",{"$f":"Translations!$B$169","v":"Poštanski broj:"}]
[null,null,null,"vi.",{"$f":"Translations!$B$170","v":"Država:"}]
[]
[null,null,null,"vii.",{"$f":"Translations!$B$171","v":"Gauss-Krugerove koordinate dimnjaka (kao za ROO) za postrojenje:"}]
[null,null,null,null,{"$f":"Translations!$B$172","v":"Može se priložiti kao zaseban dokument."}]
[]
[null,null,4,{"$f":"Translations!$B$12","v":"Kontakt podaci"}]
[]
[null,null,null,null,{"$f":"Translations!$B$173","v":"Osoba za kontakt"}]
[null,null,null,null,{"$f":"Translations!$B$174","v":"Osoba koju imenujete bi trebala imati ovlasti da djeluje u ime operatora."}]
[]
[null,null,null,"(a)",{"$f":"Translations!$B$175","v":"Glavni kontakt:"},null,{"$f":"Translations!$B$176","v":"Zvanje (npr. mag, ing., prof.):"}]
[null,null,null,null,null,null,{"$f":"Translations!$B$177","v":"Ime:"}]
[null,null,null,null,null,null,{"$f":"Translations!$B$178","v":"Prezime:"}]
[null,null,null,null,null,null,{"$f":"Translations!$B$179","v":"Naziv radnog mjesta:"}]
[null,null,null,null,null,null,{"$f":"Translations!$B$180","v":"Naziv organizacije (ako je drugačiji od naziva operatera):"}]
[]
[null,null,null,null,null,null,{"$f":"Translations!$B$181","v":"Broj telefona i mobitela:"}]
[null,null,null,null,null,null,{"$f":"Translations!$B$182","v":"E-mail adresa:"}]
[]
[null,null,null,"(b)",{"$f":"Translations!$B$183","v":"Zamjenski kontakt:"},null,{"$f":"Translations!$B$176","v":"Zvanje (npr. mag, ing., prof.):"}]
[null,null,null,null,null,null,{"$f":"Translations!$B$177","v":"Ime:"}]
[null,null,null,null,null,null,{"$f":"Translations!$B$178","v":"Prezime:"}]
[null,null,null,null,null,null,{"$f":"Translations!$B$179","v":"Naziv radnog mjesta:"}]
[null,null,null,null,null,null,{"$f":"Translations!$B$180","v":"Naziv organizacije (ako je drugačiji od naziva operatera):"}]
[]
[null,null,null,null,null,null,{"$f":"Translations!$B$181","v":"Broj telefona i mobitela:"}]
[null,null,null,null,null,null,{"$f":"Translations!$B$182","v":"E-mail adresa:"}]
[]
[]
[null,null,null,null,null,{"$f":"EUconst_MsgNextSheet","v":"<<< Pritisnite ovdje kako bi prešli na slijedeći list >>> "}]

{"sheet":"C_Opis postrojenja","index":4,"n_rows":351,"n_cols":28,"rows_kept":351,"cut":false,"hidden":false,"merged":[[1,4,1,5],[1,6,1,7],[3,8,3,9],[2,4,2,5],[5,2,5,13],[1,10,1,11],[1,12,1,13],[1,1,3,3],[2,10,2,11],[1,8,1,9],[3,6,3,7],[2,8,2,9],[2,6,2,7],[3,4,3,5],[2,12,2,13],[3,12,3,13],[3,10,3,11],[27,4,27,13],[33,4,33,13],[35,4,35,13],[7,3,7,13],[13,4,13,13],[10,3,10,13],[31,4,31,13],[12,4,12,13],[18,4,18,13],[28,4,28,13],[9,3,9,13],[16,4,16,13],[17,4,17,13],[23,4,23,13],[25,4,25,13],[19,4,19,13],[20,4,20,13],[21,4,21,13],[22,4,22,13],[14,4,14,13],[57,5,57,9],[39,4,39,13],[38,4,38,13],[99,9,99,13],[77,4,77,13],[64,4,64,9],[91,4,91,13],[50,4,50,13],[26,4,26,13],[32,4,32,13],[34,4,34,13],[44,4,44,13],[30,4,30,13],[37,10,37,13],[37,4,37,9],[45,5,45,13],[73,4,73,13],[46,5,46,13],[47,4,47,13],[49,4,49,13],[54,5,54,9],[55,5,55,9],[56,5,56,9],[48,4,48,13],[65,4,65,13],[101,4,101,7],[98,9,98,13],[78,4,78,13],[59,5,59,9],[60,5,60,9],[83,4,83,13],[72,9,72,13],[82,4,82,13],[79,4,79,13],[62,5,62,9],[70,4,70,7],[67,4,67,13],[95,4,95,7],[74,4,74,13],[61,5,61,9],[84,4,84,13],[85,4,85,13],[134,4,134,13],[137,5,137,10],[124,5,124,12],[111,5,111,12],[100,4,100,7],[100,9,100,13],[115,5,115,12],[113,5,113,12],[108,4,108,13],[135,4,135,13],[107,4,107,13],[106,4,106,13],[103,4,103,13],[127,6,129,10],[112,5,112,12],[118,5,118,12],[120,5,120,12],[109,4,109,13],[101,9,101,13],[123,5,123,12],[267,4,267,8],[195,5,195,7],[174,5,174,9],[201,8,201,10],[194,5,194,7],[165,4,165,13],[190,5,190,7],[175,5,175,9],[182,10,182,13],[177,6,179,10],[181,11,181,13],[181,4,181,10],[265,5,265,11],[184,4,184,13],[200,8,200,10],[193,5,193,7],[192,5,192,7],[185,4,185,13],[199,8,199,10],[211,4,211,13],[172,5,172,9],[261,6,263,10],[252,11,252,13],[259,8,259,10],[41,4,41,13],[43,4,43,13],[133,4,133,13],[125,5,125,12],[98,4,98,7],[122,5,122,12],[53,5,53,9],[90,4,90,13],[92,4,92,13],[75,5,75,13],[95,9,95,13],[81,4,81,10],[121,5,121,12],[119,5,119,12],[117,5,117,12],[96,4,96,7],[97,9,97,13],[97,4,97,7],[99,4,99,7],[116,5,116,12],[114,5,114,12],[58,5,58,9],[76,5,76,13],[96,9,96,13],[157,10,157,13],[163,4,163,13],[164,4,164,13],[159,4,159,13],[170,5,170,9],[149,5,149,10],[138,5,138,10],[144,5,144,10],[161,4,161,13],[140,5,140,10],[139,5,139,10],[142,5,142,10],[147,5,147,10],[141,5,141,10],[150,5,150,10],[148,5,148,10],[258,11,258,13],[256,11,256,13],[255,11,255,13],[205,6,207,10],[233,5,233,10],[225,5,225,10],[259,11,259,13],[259,5,259,7],[257,5,257,7],[257,8,257,10],[258,8,258,10],[258,5,258,7],[257,11,257,13],[249,5,249,7],[250,5,250,7],[248,11,248,13],[250,11,250,13],[248,8,248,10],[239,10,239,13],[234,5,234,10],[210,4,210,13],[256,8,256,10],[255,8,255,10],[252,8,252,10],[253,5,253,7],[187,4,187,13],[248,5,248,7],[173,5,173,9],[188,4,188,13],[190,8,190,10],[256,5,256,7],[255,5,255,7],[252,5,252,7],[254,11,254,13],[253,11,253,13],[253,8,253,10],[254,8,254,10],[254,5,254,7],[230,5,230,10],[223,5,223,10],[249,11,249,13],[251,5,251,7],[251,11,251,13],[249,8,249,10],[186,4,186,13],[251,8,251,10],[218,4,218,13],[215,5,215,13],[220,4,220,13],[217,4,217,13],[216,5,216,13],[219,4,219,13],[231,5,231,10],[243,4,243,13],[237,10,237,13],[250,8,250,10],[227,5,227,10],[245,4,245,13],[246,4,246,13],[244,4,244,13],[241,10,241,13],[228,5,228,10],[232,5,232,10],[226,5,226,10],[192,8,192,10],[195,8,195,10],[193,8,193,10],[235,5,235,10],[198,5,198,7],[213,4,213,13],[212,4,212,13],[198,8,198,10],[197,5,197,7],[200,5,200,7],[224,5,224,10],[229,5,229,10],[222,5,222,10],[203,5,203,7],[203,8,203,10],[194,8,194,10],[199,5,199,7],[196,8,196,10],[196,5,196,7],[197,8,197,10],[214,5,214,13],[202,8,202,10],[202,5,202,7],[201,5,201,7],[191,5,191,7],[191,8,191,10],[156,4,156,10],[146,5,146,10],[143,5,143,10],[145,5,145,10],[42,4,42,13],[24,4,24,13],[29,4,29,13],[52,5,52,9],[69,4,69,7],[66,4,66,13],[132,4,132,13],[93,4,93,13],[87,3,87,13],[183,4,183,13],[162,4,162,13],[168,5,168,9],[152,6,154,10],[169,5,169,9],[171,5,171,9],[160,4,160,13],[156,11,156,13],[166,4,166,13]]}
["ausblenden",null,null,null,null,null,null,null,null,null,null,null,null,null,null,"ausblenden","ausblenden","ausblenden","ausblenden","ausblenden","ausblenden","ausblenden","ausblenden","ausblenden","ausblenden","ausblenden","ausblenden","ausblenden"]
[null,{"$f":"Translations!$B$184","v":"C. \nOpis postrojenja"},null,null,{"$f":"Translations!$B$59","v":"Navigacijsko područje:"},null,{"$f":"Translations!$B$60","v":"Sadržaj"},null,{"$f":"Translations!$B$61","v":"Prethodni list"},null,{"$f":"Translations!$B$62","v":"Sljedeći list"}]
[null,null,null,null,{"$f":"Translations!$B$63","v":"Vrh lista"},null,{"$f":"Translations!$B$185","v":"Aktivnosti postrojenja"},null,{"$f":"Translations!$B$186","v":"Metodologija praćenja"},null,{"$f":"Translations!$B$187","v":"Izvori emisija (točke)"}]
[null,null,null,null,{"$f":"Translations!$B$64","v":"Dno lista"},null,{"$f":"Translations!$B$188","v":"Mjerne točke"},null,{"$f":"Translations!$B$189","v":"Tokovi izvora"},null,{"$f":"Translations!$B$190","v":"Isključene aktivnosti"}]
[]
[null,null,{"$f":"Translations!$B$13","v":"C. Opis postrojenja"}]
[]
[null,null,5,{"$f":"Translations!$B$14","v":"Podaci o aktivnostima postrojenja"}]
[]
[null,null,null,{"$f":"Translations!$B$191","v":"Ovaj list koristite za opis postrojenja. Ovdje uneseni podaci su nužna podloga za detalje koje će biti potrebno upisati u sljedećim listovima."}]
[null,null,null,{"$f":"Translations!$B$192","v":"Tokovi izvora će biti detaljnije opisani u listu E_Tokovi_Izvora, a mjerne točke u listu F_Metodologija_Mjerenja."}]
[]
[null,null,null,"(a)",{"$f":"Translations!$B$193","v":"Opis postrojenja i njegovih aktivnosti:"}]
[null,null,null,null,{"$f":"Translations!$B$194","v":"Ovdje navedite kratak opis lokacije postrojenja i samog postrojenja. Opis također treba uključiti ne-tehnički sažetak aktivnosti koje se provode u postrojenju, ukratko opisujući svaku djelatnost koja se obavlja i tehničke jedinice koje se koriste u svakoj aktivnosti. Osim toga, opis također treba sadržavati i opis dijelova postrojenja koji nisu pod nadzorom podnositelja zahtjeva, i/ili dijelove za koje se smatra da ne pripadaju u djelokrug EU ETS."}]
[null,null,null,null,{"$f":"Translations!$B$195","v":"Ovaj opis bi trebao pružiti povezane informacije koje su potrebne za razumijevanje informacija navedenih u drugim dijelovima ovog obrasca te kako se koriste zajedno za izračun emisija. Mogu biti kratke kao dani primjer u listu D_Metodologija proračuna, odjeljak 7(a)."}]
[]
[]
[]
[]
[]
[]
[]
[]
[]
[]
[]
[]
[]
[]
[]
[]
[]
[]
[]
[]
[]
[]
[null,null,null,"(b) ",{"$f":"Translations!$B$196","v":"Naziv i referenca dokumenta Dijagram tokova izvora"}]
[null,null,null,null,{"$f":"Translations!$B$197","v":"Za bolje razumijevanje opisa aktivnosti može pomoći jednostavni dijagram koji prikazuje izvore emisija, tokove izvora, točke uzorkovanja i mjernu opremu. Ako je takav dijagram dostupan navedite ovdje referencu (naziv i datum dokumenta) i priložite kopiju prilikom podnošenja ovog Plana praćenja nadležnom tijelu."}]
[null,null,null,null,{"$f":"Translations!$B$198","v":"Napominjemo da nadležno tijelo to zahtijeva kao obvezni prilog."}]
[]
[null,null,null,"(c)",{"$f":"Translations!$B$199","v":"Lista djelatnosti u postrojenju sukladno Prilogu I. Uredbe o načinu trgovanja emisijskim jedinicama stakleničkih plinova (NN 89/20)."}]
[null,null,null,null,{"$f":"Translations!$B$200","v":"Navedite tehničke pojedinosti u postrojenju za svaku djelatnost u skladu s Prilogom I. Uredbe o načinu trgovanja emisijskim jedinicama stakleničkih plinova (NN 89/20)."}]
[null,null,null,null,{"$f":"Translations!$B$201","v":"Također molimo da navedete kapacitet svake djelatnosti postrojenja sukladno Prilogu I."}]
[null,null,null,null,{"$f":"Translations!$B$202","v":"\"Kapacitet\" u ovom kontekstu znači:"}]
[null,null,null,null,"-",{"$f":"Translations!$B$203","v":"Nazivna toplinska ulazna instalirana snaga (veća od 20 MW) je podatak koji govori pri kojem maksimumu može biti spaljeno gorivo u postrojenju te koji se pomnožen s kaloričnom vrijednošću izražava u MW."}]
[null,null,null,null,"-",{"$f":"Translations!$B$204","v":"Proizvodni kapaciteti za djelatnosti iz Priloga I.Uredbe o načinu trgovanja emisijskim jedinicama stakleničkih plinova (NN 89/2020) za koje kapacitet određuje uključivanje u EU ETS."}]
[null,null,null,null,{"$f":"Translations!$B$205","v":"Provjerite da su granice postrojenja točne, te u skladu s Prilogom I. Uredbe o načinu trgovanja emisijskim jedinicama stakleničkih plinova (NN 89/20). Za daljnje informacije obratite pažnju na relevantne dijelove Uputa Komisije o tumačenju Priloga I. Ovaj dokument može se naći pod sljedećim linkom:"}]
[null,null,null,null,"https://narodne-novine.nn.hr/clanci/sluzbeni/2020_07_89_1678.html"]
[null,null,null,null,{"$f":"Translations!$B$207","v":"Ovdje unesen popis biti će dostupan kao padajući izbornik u tablicama gdje je poveznica na pojedinu djelatnost potrebna za  opis postrojenja."}]
[null,null,null,null,{"$f":"Translations!$B$135","v":"Za prikazivanje/skrivanje primjera, pritisnite na kućicu \"Primjeri\" unutar navigacijskog područja."}]
[]
[null,null,null,null,{"$f":"Translations!$B$208","v":"Oznaka djelatnosti (A1, A2…)"},{"$f":"Translations!$B$209","v":"Djelatnosti Priloga I"},null,null,null,null,{"$f":"Translations!$B$210","v":"Ukupni kapacitet djelatnosti"},{"$f":"Translations!$B$211","v":"Jedinice kapaciteta"},{"$f":"Translations!$B$1163","v":"Nazivna ulazna toplinska snaga u MW (th) (ako je kapacitet izražen u tonama)"},{"$f":"Translations!$B$212","v":"Emitirani staklenički plinovi"},null,null,null,null,null,null,"Sorting","Sorting","Sorting","Sorting","Sorting"]
["HIDE_Example",null,null,null,"A01",{"$f":"Translations!$B$213","v":"Proizvodnja cementnog klinkera"},null,null,null,null,1500,{"$f":"Translations!$B$214","v":"Tone po danu"},230,{"$f":"IF(ISBLANK(F54),\"\",INDEX(EUConst_AnnexIListGHG,MATCH(F54,AnnexIActivities,0)))","v":"CO2"}]
["HIDE_Example",null,null,null,"A02",{"$f":"Translations!$B$215","v":"Izgaranje goriva "},null,null,null,null,120,{"$f":"Translations!$B$216","v":"MW(th)"},120,{"$f":"IF(ISBLANK(F55),\"\",INDEX(EUConst_AnnexIListGHG,MATCH(F55,AnnexIActivities,0)))","v":"CO2"}]
[null,null,null,null,"A1",null,null,null,null,null,null,null,null,"",null,null,null,null,null,1,{"$f":"IF(ISBLANK(F56),\"\",E56)","v":""},{"$f":"IF(ISBLANK(F56),\"\",F56)","v":""},{"$f":"IF(V56=\"\",\"\",MAX(W$55:W55)+1)","v":""},{"$f":"IF(COUNTIF($W$56:$W$60,T56)=1,INDEX($U$56:$U$60,MATCH(T56,$W$56:$W$60,0)) & \": \" & INDEX($V$56:$V$60,MATCH(T56,$W$56:$W$60,0)),EUconst_NA)","v":"nije primjenjivo"},{"$f":"IF(COUNTIF($W$56:$W$60,T56)=1,INDEX($V$56:$V$60,MATCH(T56,$W$56:$W$60,0)),EUconst_NA)","v":"nije primjenjivo"},{"$f":"IF(F56=\"\",\"\",MATCH(F56,AnnexIActivities,0))","v":""}]
[null,null,null,null,"A2",null,null,null,null,null,null,null,null,"",null,null,null,null,null,2,"","",{"$f":"IF(V57=\"\",\"\",MAX(W$55:W56)+1)","v":""},"nije primjenjivo","nije primjenjivo",""]
[null,null,null,null,"A3",null,null,null,null,null,null,null,null,"",null,null,null,null,null,3,"","",{"$f":"IF(V58=\"\",\"\",MAX(W$55:W57)+1)","v":""},"nije primjenjivo","nije primjenjivo",""]
[null,null,null,null,"A4",null,null,null,null,null,null,null,null,"",null,null,null,null,null,4,"","",{"$f":"IF(V59=\"\",\"\",MAX(W$55:W58)+1)","v":""},"nije primjenjivo","nije primjenjivo",""]
[null,null,null,null,"A5",null,null,null,null,null,null,null,null,"",null,null,null,null,null,5,"","",{"$f":"IF(V60=\"\",\"\",MAX(W$55:W59)+1)","v":""},"nije primjenjivo","nije primjenjivo",""]
[null,null,null,null,"A6",null,null,null,null,null,null,null,null,{"$f":"IF(ISBLANK(F61),\"\",INDEX(EUConst_AnnexIListGHG,MATCH(F61,AnnexIActivities,0)))","v":""},null,null,null,null,null,6,"","",{"$f":"IF(V61=\"\",\"\",MAX(W$55:W60)+1)","v":""},"nije primjenjivo","nije primjenjivo",""]
[null,null,null,null,"A7",null,null,null,null,null,null,null,null,{"$f":"IF(ISBLANK(F62),\"\",INDEX(EUConst_AnnexIListGHG,MATCH(F62,AnnexIActivities,0)))","v":""},null,null,null,null,null,7,"","",{"$f":"IF(V62=\"\",\"\",MAX(W$55:W61)+1)","v":""},"nije primjenjivo","nije primjenjivo",""]
["ausblenden",null,null,null,null,null,null,null,null,null,null,null,null,""]
[]
[null,null,null,"(d) ",{"$f":"Translations!$B$217","v":"Procjenjene godišnje emisije:"}]
[null,null,null,null,{"$f":"Translations!$B$1337","v":"Ovdje unesite prosječne godišnje emisije vašeg postrojenja. Ovi podaci su potrebni za kategorizaciju postrojenja sukladno članku 19. Uredbe. Upotrijebite podatke o prosječnim verificiranim godišnjim emisijama iz prethodnog razdoblja trgovanja ILI ako ti podaci nisu dostupni ili su neprikladni, konzervativnu procjenu prosječnih godišnjih emisija, sve prije oduzimanja bilo kojeg CO2 prenesenog iz postrojenja, ali isključujući CO2 biomase, obnovljivih goriva nebiološkog podrijetla ili goriva iz recikliranog ugljika ili sintetičkih niskougljičnih goriva ."}]
[null,null,null,null,{"$f":"Translations!$B$219","v":"Kategorija se koristi za utvrđivanje zahtjeva minimalne razine točnosti u poglavlju 8 (Tokovi izvora)."}]
[null,null,null,null,{"$f":"Translations!$B$1338","v":"Napomena: mogu postojati slučajevi u kojima iz postrojenja proizlaze nulte emisije (tj. čak ni iz jedinice za napajanje u nuždi, kotlova za grijanje ureda itd., a također nema emisija iz biomase, obnovljivih goriva nebiološkog podrijetla ili goriva iz recikliranog ugljika ili sintetičkih niskougljičnih goriva. U takvim slučajevima, procijenjene emisije bile bi nula i potrebno je ispuniti samo ovaj odjeljak i list \"K_Management\" ovog plana praćenja."}]
[]
[null,null,null,null,{"$f":"Translations!$B$220","v":"Procjenjene godišnje emisije"},null,null,null,null,"t CO2e"]
[null,null,null,null,{"$f":"Translations!$B$221","v":"Kategorija postrojenja u skladu s člankom 19."},null,null,null,{"$f":"IF(ISBLANK(CNTR_TotalEmissions),\"\",IF(CNTR_TotalEmissions>500000,\"C\",IF(CNTR_TotalEmissions>50000,\"B\",\"A\")))","v":""}]
[null,null,null,null,null,null,null,null,null,null,null,null,null,null,null,null,null,null,null,null,null,null,null,null,null,null,null,"make grey?"]
[null,null,null,"(e)",{"$f":"Translations!$B$222","v":"Postrojenje s niskim emisijama"},null,null,null,null,{"$f":"IF(ISBLANK(CNTR_SmallEmitter),\"\",IF(S73,IF(CNTR_SmallEmitter=TRUE,EUconst_ERR_NoN2OSmallEmitters,\"\"),IF(S74,EUconst_MsgSmallEmitters,\"\")))","v":""},null,null,null,null,null,null,null,null,{"$f":"OR(COUNTIF(Z56:Z60,19),COUNTIF(Z56:Z60,20),COUNTIF(Z56:Z60,21))","v":false},"Check N2O",null,null,null,null,null,null,null,{"$f":"AND(CNTR_Category<>\"\",CNTR_Category<>\"A\")","v":false}]
[null,null,null,null,{"$f":"Translations!$B$223","v":"Odabirom\"TRUE\"  znači da postrojenje zadovoljava kriterije za postrojenja s niskim emisijama kao što je definirano člankom 47.Uredbe"},null,null,null,null,null,null,null,null,null,null,null,null,null,{"$f":"AND(ISNUMBER(CNTR_TotalEmissions),OR(AND(CNTR_SmallEmitter=TRUE,CNTR_TotalEmissions>25000),AND(CNTR_SmallEmitter=FALSE,CNTR_TotalEmissions<=25000)))","v":false},"Check >=25000 / Contradiction"]
[null,null,null,null,{"$f":"Translations!$B$224","v":"Sukladno tom članku, operater može podnijeti pojednostavljen plan praćenja za postrojenja gdje ne postoje aktivnosti ispuštanja didušikovih oksida te se to može dokazati:"}]
[null,null,null,null,"-",{"$f":"Translations!$B$225","v":"prosječne verificirane godišnje emisije postrojenja tijekom prethodnog razdoblja trgovanja bile su manje od 25 000 tona CO2 (e) godišnje, ili"}]
[null,null,null,null,"-",{"$f":"Translations!$B$226","v":"gdje verificirane emisije nisu dostupne ili su neprimjerene, konzervativna procjena pokazuje da će emisije sljedećih pet godina biti manje od 25 000 tona CO2 (e) godišnje."}]
[null,null,null,null,{"$f":"Translations!$B$1339","v":"Napomena: gornji podaci uključuju preneseni CO2, ali isključuju CO2 koji proizlazi iz biomase, obnovljivih goriva nebiološkog podrijetla ili goriva iz recikliranog ugljika ili sintetičkih niskougljičnih goriva "}]
[null,null,null,null,{"$f":"Translations!$B$228","v":"Ako je vaš izbor u suprotnosti s brojem procijenjenih emisija pod točkom (d) gore, poruka će istaknuti ovu činjenicu. Molimo dati odgovarajuće opravdanje u nastavku."}]
[null,null,null,null,{"$f":"Translations!$B$229","v":"Ako je vaše postrojenje s niskim emisijama kao što je definirano člankom 47. Uredbe, primijenite  pojednostavljeni plan praćenja."}]
[]
[null,null,null,"(f) ",{"$f":"Translations!$B$1164","v":"Procijenjene emisije pod točkom d) ili e) na temelju konzervativnih procjena?"}]
[null,null,null,null,{"$f":"Translations!$B$1165","v":"Ako vaš unos u vezi s postrojenjem s niskim emisijama proturječi unosu pod točkom (d) ili ako se brojka pod točkom (d) temelji na konzervativnoj procjeni umjesto na verificiranim emisijama, odaberite „TRUE” i u nastavku navedite kratko obrazloženje."},null,null,null,null,null,null,null,null,null,null,null,null,null,null,null,null,null,null,null,null,null,null,"make grey?"]
[null,null,null,null,null,null,null,null,null,null,null,null,null,null,null,null,null,null,null,null,null,null,null,null,null,null,null,{"$f":"AND(L82<>\"\",L82=FALSE)","v":false}]
[]
[]
[]
[null,null,6,{"$f":"Translations!$B$15","v":"Podaci o emisijama"}]
[]
[null,null,null,"(a)",{"$f":"Translations!$B$232","v":"Metodologija praćenja predložena za primjenu:"}]
[null,null,null,null,{"$f":"Translations!$B$233","v":"Potvrdite koju od sljedećih metodologija praćenja predlažete primijeniti:"}]
[null,null,null,null,{"$f":"Translations!$B$234","v":"U skladu s člankom 21. Uredbe, emisije se mogu odrediti na temelju metodologije proračuna (\"proračun\") ili metodologije mjerenja (\"mjerenje\"), osim gdje je uporaba određene metodologije obvezna prema odredbama Uredbe."}]
[null,null,null,null,{"$f":"Translations!$B$235","v":"Napomena: Operater može, uz odobrenje nadležnog tijela, kombinirati mjerenje i proračun za različite izvore. Operater je dužan osigurati da nema propusta niti dvostrukog izvještavanja o emisijama."}]
[null,null,null,null,{"$f":"Translations!$B$236","v":"Ne ostavljajte prazna polja, zato što unosi u ta polja pokreću uvjetno formatiranje, koje vas vodi kroz dokument."}]
[]
[null,null,null,null,{"$f":"Translations!$B$237","v":"Metodologija proračuna CO2:"},null,null,null,null,{"$f":"IF(CNTR_InstHasCalculation=TRUE,EUConst_RelSectionCalc,\"\")","v":""}]
[null,null,null,null,{"$f":"Translations!$B$238","v":"Metodologija mjerenja CO2:"},null,null,null,null,{"$f":"IF(CNTR_InstHasMeasurement=TRUE,EUConst_RelSectionMeasure,\"\")","v":""}]
[null,null,null,null,{"$f":"Translations!$B$239","v":"Nadomjesna metodologija (članak 22.):"},null,null,null,null,{"$f":"IF(CNTR_InstHasFallBack=TRUE,EUConst_RelSectionFallback,\"\")","v":""}]
[null,null,null,null,{"$f":"Translations!$B$240","v":"Praćenje N2O emisija:"},null,null,null,null,{"$f":"IF(CNTR_InstHasN2O=TRUE,EUConst_RelSectionN2O,\"\")","v":""}]
[null,null,null,null,{"$f":"Translations!$B$241","v":"Praćenje PFC emisija:"},null,null,null,null,{"$f":"IF(CNTR_InstHasPFC=TRUE,EUConst_RelSectionPFC,\"\")","v":""}]
[null,null,null,null,{"$f":"Translations!$B$242","v":"Praćenje prenesenog/inherentnog CO2 i CCS:"},null,null,null,null,{"$f":"IF(CNTR_InstHasTransferredCO2=TRUE,EUConst_RelSectionCCS,\"\")","v":""}]
[null,null,null,null,{"$f":"Translations!$B$1340","v":"Praćenje trajno vezanog ugljika "},null,null,null,null,{"$f":"IF(CNTR_InstHasCCU=TRUE,EUConst_RelSectionCCU,\"\")","v":""}]
[]
[null,null,null,null,{"$f":"Translations!$B$243","v":"Popunite ostatak ovog lista te relevantne odjeljke temeljem gore odabrane metodologije, prije nego što nastavite na list \"K_Upravljanje_i_kontrola\" (Poglavlje 20. do 25.) što je obavezno za sva postrojenja."}]
[]
[null,null,null,"(b)",{"$f":"Translations!$B$244","v":"Izvori emisija:"}]
[null,null,null,null,{"$f":"Translations!$B$245","v":"Prilog I. zahtijeva da planovi praćenja uključuju opis postrojenja i djelatnosti koje se provode i prate u postrojenju, uključujući  popis izvora emisija i tokove izvora. Informacije u ovom obrascu moraju se odnositi na  aktivnosti iz Priloga I. U ovom poglavlju uključite sve aktivnosti koje se provode u vašem postrojenju i isključite povezane aktivnosti koje provode drugi operateri."}]
[null,null,null,null,{"$f":"Translations!$B$246","v":"Oznaka aktivnosti u zadnjem stupcu odnosi se na broj aktivnosti u poglavlju 5 (c) gore. Tamo gdje izvor emisije potječe iz više od jedne aktivnosti, unesite \"A1, A2\" ili \"A1 - A3\" ili slično, prema potrebi."}]
[null,null,null,null,{"$f":"Translations!$B$247","v":"Ovaj popis biti će dostupan kao padajući izbornik na sljedećim mjestima (c, d i e) gdje je potrebna oznaka za relevantne izvore emisija."}]
[null,null,null,null,{"$f":"Translations!$B$135","v":"Za prikazivanje/skrivanje primjera, pritisnite na kućicu \"Primjeri\" unutar navigacijskog područja."}]
[]
[null,null,null,null,{"$f":"Translations!$B$248","v":"Oznaka izvora emisije S1, S2,…"},{"$f":"Translations!$B$249","v":"Izvor emisije (naziv, opis)"},null,null,null,null,null,null,null,{"$f":"Translations!$B$250","v":"Oznaka aktivnosti"},null,null,null,null,null,null,"Sorting","Sorting","Sorting"]
["HIDE_Example",null,null,null,"S01",{"$f":"Translations!$B$251","v":"Peć cementnog klinkera (dekarbonizacija sirovine, izgaranje goriva)"},null,null,null,null,null,null,null,"A1"]
["HIDE_Example",null,null,null,"S02",{"$f":"Translations!$B$252","v":"Kotao na ugljen (izgaranje goriva)"},null,null,null,null,null,null,null,"A2"]
["HIDE_Example",null,null,null,"S03",{"$f":"Translations!$B$253","v":"Kotao na ugljen (dekompozicija vapnenca za čišćenje dimnih plinova)"},null,null,null,null,null,null,null,"A2"]
[null,null,null,null,"S1",null,null,null,null,null,null,null,null,null,null,null,null,null,null,1,{"$f":"IF(ISBLANK(F116),\"\",E116)","v":""},{"$f":"IF(U116=\"\",\"\",MAX(V$115:V115)+1)","v":""},{"$f":"IF(COUNTIF($V$116:$V$126,T116)=1,INDEX($U$116:$U$126,MATCH(T116,$V$116:$V$126,0)) & \": \" & INDEX($F$116:$F$126,MATCH(T116,$V$116:$V$126,0)),EUconst_NA)","v":"nije primjenjivo"}]
[null,null,null,null,"S2",null,null,null,null,null,null,null,null,null,null,null,null,null,null,2,{"$f":"IF(ISBLANK(F117),\"\",E117)","v":""},{"$f":"IF(U117=\"\",\"\",MAX(V$115:V116)+1)","v":""},"nije primjenjivo"]
[null,null,null,null,"S3",null,null,null,null,null,null,null,null,null,null,null,null,null,null,3,"",{"$f":"IF(U118=\"\",\"\",MAX(V$115:V117)+1)","v":""},"nije primjenjivo"]
[null,null,null,null,"S4",null,null,null,null,null,null,null,null,null,null,null,null,null,null,4,"",{"$f":"IF(U119=\"\",\"\",MAX(V$115:V118)+1)","v":""},"nije primjenjivo"]
[null,null,null,null,"S5",null,null,null,null,null,null,null,null,null,null,null,null,null,null,5,"",{"$f":"IF(U120=\"\",\"\",MAX(V$115:V119)+1)","v":""},"nije primjenjivo"]
[null,null,null,null,"S6",null,null,null,null,null,null,null,null,null,null,null,null,null,null,6,"",{"$f":"IF(U121=\"\",\"\",MAX(V$115:V120)+1)","v":""},"nije primjenjivo"]
[null,null,null,null,"S7",null,null,null,null,null,null,null,null,null,null,null,null,null,null,7,"",{"$f":"IF(U122=\"\",\"\",MAX(V$115:V121)+1)","v":""},"nije primjenjivo"]
[null,null,null,null,"S8",null,null,null,null,null,null,null,null,null,null,null,null,null,null,8,"",{"$f":"IF(U123=\"\",\"\",MAX(V$115:V122)+1)","v":""},"nije primjenjivo"]
[null,null,null,null,"S9",null,null,null,null,null,null,null,null,null,null,null,null,null,null,9,"",{"$f":"IF(U124=\"\",\"\",MAX(V$115:V123)+1)","v":""},"nije primjenjivo"]
[null,null,null,null,"S10",null,null,null,null,null,null,null,null,null,null,null,null,null,null,10,"",{"$f":"IF(U125=\"\",\"\",MAX(V$115:V124)+1)","v":""},{"$f":"IF(COUNTIF($V$116:$V$126,T125)=1,INDEX($U$116:$U$126,MATCH(T125,$V$116:$V$126,0)) & \": \" & INDEX($F$116:$F$126,MATCH(T125,$V$116:$V$126,0)),EUconst_NA)","v":"nije primjenjivo"}]
["ausblenden",null,null,null,null,null,null,null,null,null,null,null,null,null,null,null,null,null,null,null,"",{"$f":"IF(U126=\"\",\"\",MAX(V$115:V125)+1)","v":""}]
["ADD_EmissionSource"]
[null,null,null,null,null,null,{"$f":"Translations!$B$254","v":"Klikni \"+\" kako bi dodali nove izvore emisija"}]
[]
[]
[]
[null,null,null,"(c)",{"$f":"Translations!$B$255","v":"Točke emisija i ispušteni staklenički plinovi"}]
[null,null,null,null,{"$f":"Translations!$B$256","v":"Navedite i ukratko opišite sve relevantne točke emisija (uključujući i difuzne izvore emisija)."}]
[null,null,null,null,{"$f":"Translations!$B$257","v":"Odaberite aktivnosti Priloga I, izvore emisija i ispuštene stakleničke plinove iz padajućeg izbornika (sukladno podacima upisanim u poglavlju 5 (c) gore). Ako je u pitanju više od jedne aktivnosti ili izvora emisije, unesite npr. \"A1, A2\"."}]
[null,null,null,null,{"$f":"Translations!$B$258","v":"Ovaj popis biti će dostupan kao padajući izbornik na sljedećim mjestima dolje (d i e), gdje je potrebna oznaka na relevantnu točku emisije ."}]
[null,null,null,null,{"$f":"Translations!$B$135","v":"Za prikazivanje/skrivanje primjera, pritisnite na kućicu \"Primjeri\" unutar navigacijskog područja."}]
[]
[null,null,null,null,{"$f":"Translations!$B$259","v":"Oznaka točke emisije EP1, EP2,…"},{"$f":"Translations!$B$260","v":"Opis točke emisije"},null,null,null,null,null,{"$f":"Translations!$B$250","v":"Oznaka aktivnosti"},{"$f":"Translations!$B$261","v":"Oznaka Izvora emisije"},{"$f":"Translations!$B$212","v":"Emitirani staklenički plinovi"},null,null,null,null,null,null,"Sorting","Sorting","Sorting",null,null,null,null,"make grey?"]
["HIDE_Example",null,null,null,"EP01",{"$f":"Translations!$B$262","v":"Ispust 1 (kotao na ugljen)"},null,null,null,null,null,"A02","S102, S03","CO2"]
["HIDE_Example",null,null,null,"EP02",{"$f":"Translations!$B$263","v":"Ispust 2 (cementna peć)"},null,null,null,null,null,"A01","S01","CO2"]
[null,null,null,null,"EP1",null,null,null,null,null,null,null,null,null,null,null,null,null,null,1,{"$f":"IF(ISBLANK(F141),\"\",E141)","v":""},{"$f":"IF(U141=\"\",\"\",MAX(V$140:V140)+1)","v":""},{"$f":"IF(COUNTIF($V$141:$V$151,T141)=1,INDEX($U$141:$U$151,MATCH(T141,$V$141:$V$151,0)) & \": \" & INDEX($F$141:$F$151,MATCH(T141,$V$141:$V$151,0)),EUconst_NA)","v":"nije primjenjivo"},null,null,null,null,{"$f":"IF(OR(CNTR_InstHasMeasurement=TRUE,CNTR_InstHasN2O=TRUE,CNTR_InstHasTransferredCO2=TRUE),FALSE,IF(COUNTA(CNTR_ListRelevantSections)>0,TRUE,FALSE))","v":false}]
[null,null,null,null,"EP2",null,null,null,null,null,null,null,null,null,null,null,null,null,null,2,{"$f":"IF(ISBLANK(F142),\"\",E142)","v":""},{"$f":"IF(U142=\"\",\"\",MAX(V$140:V141)+1)","v":""},{"$f":"IF(COUNTIF($V$141:$V$151,T142)=1,INDEX($U$141:$U$151,MATCH(T142,$V$141:$V$151,0)) & \": \" & INDEX($F$141:$F$151,MATCH(T142,$V$141:$V$151,0)),EUconst_NA)","v":"nije primjenjivo"},null,null,null,null,false]
[null,null,null,null,"EP3",null,null,null,null,null,null,null,null,null,null,null,null,null,null,3,{"$f":"IF(ISBLANK(F143),\"\",E143)","v":""},{"$f":"IF(U143=\"\",\"\",MAX(V$140:V142)+1)","v":""},"nije primjenjivo",null,null,null,null,false]
[null,null,null,null,"EP4",null,null,null,null,null,null,null,null,null,null,null,null,null,null,4,"",{"$f":"IF(U144=\"\",\"\",MAX(V$140:V143)+1)","v":""},"nije primjenjivo",null,null,null,null,false]
[null,null,null,null,"EP5",null,null,null,null,null,null,null,null,null,null,null,null,null,null,5,"",{"$f":"IF(U145=\"\",\"\",MAX(V$140:V144)+1)","v":""},"nije primjenjivo",null,null,null,null,false]
[null,null,null,null,"EP6",null,null,null,null,null,null,null,null,null,null,null,null,null,null,6,"",{"$f":"IF(U146=\"\",\"\",MAX(V$140:V145)+1)","v":""},"nije primjenjivo",null,null,null,null,false]
[null,null,null,null,"EP7",null,null,null,null,null,null,null,null,null,null,null,null,null,null,7,"",{"$f":"IF(U147=\"\",\"\",MAX(V$140:V146)+1)","v":""},"nije primjenjivo",null,null,null,null,false]
[null,null,null,null,"EP8",null,null,null,null,null,null,null,null,null,null,null,null,null,null,8,"",{"$f":"IF(U148=\"\",\"\",MAX(V$140:V147)+1)","v":""},"nije primjenjivo",null,null,null,null,false]
[null,null,null,null,"EP9",null,null,null,null,null,null,null,null,null,null,null,null,null,null,9,"",{"$f":"IF(U149=\"\",\"\",MAX(V$140:V148)+1)","v":""},"nije primjenjivo",null,null,null,null,false]
[null,null,null,null,"EP10",null,null,null,null,null,null,null,null,null,null,null,null,null,null,10,"",{"$f":"IF(U150=\"\",\"\",MAX(V$140:V149)+1)","v":""},"nije primjenjivo",null,null,null,null,false]
["ausblenden",null,null,null,null,null,null,null,null,null,null,null,null,null,null,null,null,null,null,null,"",{"$f":"IF(U151=\"\",\"\",MAX(V$140:V150)+1)","v":""},null,null,null,null,null,false]
["ADD_EmissionPoint"]
[null,null,null,null,null,null,{"$f":"Translations!$B$264","v":"Klikni \"+\" kako bi dodali nove izvore emisija"}]
[]
[]
[]
[null,null,null,"(d)",{"$f":"Translations!$B$265","v":"Mjerne točke, gdje su ugrađeni sustavi za kontinuirano mjerenje emisija : "},null,null,null,null,null,null,{"$f":"IF(OR(CNTR_InstHasMeasurement=TRUE,CNTR_InstHasN2O=TRUE),EUconst_Relevant,IF(COUNTA(CNTR_ListRelevantSections)>0,EUconst_NotRelevant,EUconst_Relevant))","v":"relevantno"}]
[null,null,null,null,null,null,null,null,null,null,{"$f":"IF(L157=EUconst_NotRelevant,HYPERLINK(R158,EUconst_MsgGoOn),HYPERLINK(\"\",EUconst_MsgEnterThisSection))","v":"Molimo unesite podatke u ovo polje"},null,null,null,null,null,"Jump Address:",{"$f":"\"#\"&ADDRESS(ROW(D182),COLUMN(D182))","v":"#$D$182"}]
[]
[null,null,null,null,{"$f":"Translations!$B$266","v":"Kako bi se u ovom obrascu omogućilo automatsko predlaganje kategorije izvora emisije, prvo je potrebno definirati izvore emisija za koje su primijenjene metodologije mjerenja."}]
[null,null,null,null,{"$f":"Translations!$B$267","v":"Navedite i opišite sve mjerne točke na kojima su staklenički plinovi mjereni sustavima za kontinuirano mjerenje emisija (CEMS). To uključuje mjerne točke u cjevovodnim sustavima koji se koriste za prijenos CO2 s ciljem geološkog skladištenja CO2."}]
[null,null,null,null,{"$f":"Translations!$B$268","v":"Nije potreban unos ako je u poglavlju 6 (a) definirano da nisu korištene te metode mjerenja."}]
[null,null,null,null,{"$f":"Translations!$B$269","v":"Za svaku mjernu točku, unesite i procjenu za odgovarajuće godišnje emisije. Ova informacija je potrebna za utvrđivanje primjenjive razine točnosti."}]
[null,null,null,null,{"$f":"Translations!B1273","v":"U skladu s člankom 19. stavkom 4., zahtjev u pogledu niže razine dopustiv je za svaki izvor emisija koji godišnje emitira manje od 5000 tona ekvivalenta CO2 ili manje od 10 % ukupnih godišnjih emisija postrojenja, do maksimalnog godišnjeg iznosa od 100 000 tona ekvivalenta CO2, ovisno o tome koja je vrijednost veća u smislu apsolutnih emisija („manji” izvor emisija)."}]
[null,null,null,null,{"$f":"Translations!$B$271","v":"Svi ostali izvori emisija će biti kategorizirani kao \"glavni\" izvor emisija."}]
[null,null,null,null,{"$f":"Translations!$B$272","v":"Procjenjene emisije također su relevantne za kategorizaciju tokova izvora i na temelju metodologije proračuna pod točkom (f) dolje, ukoliko se primjenjuje pristup proračuna."}]
[null,null,null,null,{"$f":"Translations!$B$135","v":"Za prikazivanje/skrivanje primjera, pritisnite na kućicu \"Primjeri\" unutar navigacijskog područja."}]
[]
[null,null,null,null,{"$f":"Translations!$B$273","v":"Oznake točki mjerenja M1, M2,…"},{"$f":"Translations!$B$274","v":"Opis"},null,null,null,null,{"$f":"Translations!$B$275","v":"Oznaka točke emisija"},{"$f":"Translations!$B$276","v":"Procijenjene emisije (t CO2e/godina)"},{"$f":"Translations!$B$277","v":"Moguća kategorija"},{"$f":"Translations!$B$278","v":"Izmjereni staklenički plinovi"},null,null,null,null,null,null,null,null,"ABS",null,"minor",null,null,"make grey?"]
["HIDE_Example",null,null,null,"M01",{"$f":"Translations!$B$279","v":"Ispust peći na ugljen, mjerna platforma A"},null,null,null,null,"EP01",150000,{"$f":"IF(ISBLANK(L170),\"\",IF(L170<$Y$171,INDEX(SourceCategoryCEMS,2),INDEX(SourceCategoryCEMS,1)))","v":"Glavni"},"CO2"]
[null,null,null,null,"M1",null,null,null,null,null,null,null,"",null,null,null,{"$f":"EUconst_CNTR_SourceCategory&E171","v":"SourceCategory_M1"},{"$f":"EUconst_CNTR_SourceCategory&M171","v":"SourceCategory_"},null,null,null,null,{"$f":"IF(ISBLANK(L171),\"\",ABS(L171))","v":""},"LIMIT",{"$f":"MAX(5000,MIN(0.1*$Y$242,100000))","v":5000},null,null,{"$f":"L157=EUconst_NotRelevant","v":false}]
[null,null,null,null,"M2",null,null,null,null,null,null,null,"",null,null,null,"SourceCategory_M2","SourceCategory_",null,null,null,null,"",null,null,null,null,{"$f":"AB171","v":false}]
[null,null,null,null,"M3",null,null,null,null,null,null,null,"",null,null,null,"SourceCategory_M3","SourceCategory_",null,null,null,null,"",null,null,null,null,{"$f":"AB172","v":false}]
[null,null,null,null,"M4",null,null,null,null,null,null,null,"",null,null,null,"SourceCategory_M4","SourceCategory_",null,null,null,null,"",null,null,null,null,{"$f":"AB173","v":false}]
[null,null,null,null,"M5",null,null,null,null,null,null,null,"",null,null,null,"SourceCategory_M5","SourceCategory_",null,null,null,null,"",null,null,null,null,{"$f":"AB174","v":false}]
["ausblenden",null,null,null,null,null,null,null,null,null,null,null,"",null,null,null,"SourceCategory_","SourceCategory_",null,null,null,null,"",null,null,null,null,{"$f":"AB175","v":false}]
["ADD_MeasurementPoint"]
[null,null,null,null,null,null,{"$f":"Translations!$B$280","v":"Klikni \"+\" kako bi dodali nove mjerne točke"}]
[]
[]
[]
[null,null,null,"(e)",{"$f":"Translations!$B$281","v":"Relevantni tokovi izvora"},null,null,null,null,null,null,{"$f":"IF(OR(CNTR_InstHasCalculation=TRUE,CNTR_InstHasPFC=TRUE),EUconst_Relevant,IF(COUNTA(CNTR_ListRelevantSections)>0,EUconst_NotRelevant,EUconst_Relevant))","v":"relevantno"}]
[null,null,null,null,null,null,null,null,null,null,{"$f":"IF(L182=EUconst_NotRelevant,HYPERLINK(R183,EUconst_MsgGoOn),HYPERLINK(\"\",EUconst_MsgEnterThisSection))","v":"Molimo unesite podatke u ovo polje"},null,null,null,null,null,"Jump Address:",{"$f":"\"#\"&ADDRESS(ROW(D244),COLUMN(D244))","v":"#$D$244"}]
[null,null,null,null,{"$f":"Translations!$B$282","v":"Nabrojite sve tokove izvora (gorivo, sirovine, proizvode…) koji se moraju pratiti u vašem postrojenju koristeći metodologiju proračuna (standardna metodologija masene bilance). Za definiciju izraza \"tokovi izvora\" molimo vidjeti Upute br.1 (\"Opće upute za postrojenja\"). Za definiciju tokova izvora za PFC, molimo vidjeti točku 14(c) u listu \"I_PFC\"."}]
[null,null,null,null,{"$f":"Translations!$B$283","v":"Tokovi izvora mogu biti nazvani npr. \"prirodni plin\", \"mazut\", \"vapnenac\"."}]
[null,null,null,null,{"$f":"Translations!$B$284","v":"Pod pojmom vrsta toka izvora podrazumijevamo set pravila koja će se koristiti a definirana su u Uredbi.Ova klasifikacija je osnova za daljnje obveze npr. za razine točnosti koje se trebaju primijeniti."}]
[null,null,null,null,{"$f":"Translations!$B$285","v":"Padajući izbornik za odabir Vrsta tokova izvora se temelji na aktivnostima odabranim u odjeljku 5 (c) gore. Unos podataka potreban je za utvrđivanje mjerodavne minimalne razine točnosti u listu \"E_Tokovi_izvora\"."}]
[null,null,null,null,{"$f":"Translations!$B$286","v":"Kako bi nadležno tijelo, u potpunosti razumjelo funkcioniranje postrojenja, iz padajućeg izbornika odaberite jednu od odgovarajućih aktivnosti iz Priloga I, te izvore i točke emisija, koje odgovaraju svaki svom toku izvora. Ako je više od jedne aktivnosti ili izvora emisije u pitanju, unesite npr. \"A1, A2\"."}]
[null,null,null,null,{"$f":"Translations!$B$135","v":"Za prikazivanje/skrivanje primjera, pritisnite na kućicu \"Primjeri\" unutar navigacijskog područja."}]
[]
[null,null,null,null,{"$f":"Translations!$B$287","v":"Oznaka tokova izvora F1, F2,…"},{"$f":"Translations!$B$288","v":"Naziv toka izvora"},null,null,{"$f":"Translations!$B$289","v":"Vrsta toka izvora"},null,null,{"$f":"Translations!$B$250","v":"Oznaka aktivnosti"},{"$f":"Translations!$B$261","v":"Oznaka Izvora emisije"},{"$f":"Translations!$B$275","v":"Oznaka točke emisija"}]
["HIDE_Example",null,null,null,"F01",{"$f":"Translations!$B$290","v":"Sirovina"},null,null,{"$f":"Translations!$B$291","v":"Cementni klinker: Na temelju ulaza u peć (Metoda A)"},null,null,{"$f":"Translations!$B$292","v":"A1: Proizvodnja cementnog klinkera"},{"$f":"Translations!$B$293","v":"S1: Peć za cementni klinker (dekarbonizacija sirovina, izgaranje goriva)"},{"$f":"Translations!$B$294","v":"EP2: Ispust 2 (cementna peć)"}]
["HIDE_Example",null,null,null,"F02",{"$f":"Translations!$B$295","v":"Mazut"},null,null,{"$f":"Translations!$B$296","v":"Izgaranje: druga plinovita i tekuća goriva"},null,null,{"$f":"Translations!$B$292","v":"A1: Proizvodnja cementnog klinkera"},{"$f":"Translations!$B$293","v":"S1: Peć za cementni klinker (dekarbonizacija sirovina, izgaranje goriva)"},{"$f":"Translations!$B$294","v":"EP2: Ispust 2 (cementna peć)"},null,null,null,null,null,null,null,null,null,null,null,"CNTR_CheckPFC"]
[null,null,null,null,"F1",null,null,null,null,null,null,null,null,null,null,null,null,null,{"$f":"EUconst_CNTR_SourceStreamName&F194","v":"SourceStreamName_"},{"$f":"EUconst_CNTR_SourceStreamClass&I194","v":"SourceStreamClass_"},null,null,null,null,null,{"$f":"IF(I194=\"\",\"\",IF(COUNTIF(CNTR_PFCSourceStreams,I194)>0,MAX(Z$193:Z193)+1,\"\"))","v":""},null,{"$f":"L182=EUconst_NotRelevant","v":false}]
[null,null,null,null,"F2",null,null,null,null,null,null,null,null,null,null,null,null,null,"SourceStreamName_","SourceStreamClass_",null,null,null,null,null,{"$f":"IF(I195=\"\",\"\",IF(COUNTIF(CNTR_PFCSourceStreams,I195)>0,MAX(Z$193:Z194)+1,\"\"))","v":""},null,{"$f":"AB194","v":false}]
[null,null,null,null,"F3",null,null,null,null,null,null,null,null,null,null,null,null,null,"SourceStreamName_","SourceStreamClass_",null,null,null,null,null,{"$f":"IF(I196=\"\",\"\",IF(COUNTIF(CNTR_PFCSourceStreams,I196)>0,MAX(Z$193:Z195)+1,\"\"))","v":""},null,{"$f":"AB195","v":false}]
[null,null,null,null,"F4",null,null,null,null,null,null,null,null,null,null,null,null,null,"SourceStreamName_","SourceStreamClass_",null,null,null,null,null,{"$f":"IF(I197=\"\",\"\",IF(COUNTIF(CNTR_PFCSourceStreams,I197)>0,MAX(Z$193:Z196)+1,\"\"))","v":""},null,false]
[null,null,null,null,"F5",null,null,null,null,null,null,null,null,null,null,null,null,null,"SourceStreamName_","SourceStreamClass_",null,null,null,null,null,{"$f":"IF(I198=\"\",\"\",IF(COUNTIF(CNTR_PFCSourceStreams,I198)>0,MAX(Z$193:Z197)+1,\"\"))","v":""},null,false]
[null,null,null,null,"F6",null,null,null,null,null,null,null,null,null,null,null,null,null,"SourceStreamName_","SourceStreamClass_",null,null,null,null,null,{"$f":"IF(I199=\"\",\"\",IF(COUNTIF(CNTR_PFCSourceStreams,I199)>0,MAX(Z$193:Z198)+1,\"\"))","v":""},null,false]
[null,null,null,null,"F7",null,null,null,null,null,null,null,null,null,null,null,null,null,"SourceStreamName_","SourceStreamClass_",null,null,null,null,null,{"$f":"IF(I200=\"\",\"\",IF(COUNTIF(CNTR_PFCSourceStreams,I200)>0,MAX(Z$193:Z199)+1,\"\"))","v":""},null,false]
[null,null,null,null,"F8",null,null,null,null,null,null,null,null,null,null,null,null,null,"SourceStreamName_","SourceStreamClass_",null,null,null,null,null,{"$f":"IF(I201=\"\",\"\",IF(COUNTIF(CNTR_PFCSourceStreams,I201)>0,MAX(Z$193:Z200)+1,\"\"))","v":""},null,false]
[null,null,null,null,"F9",null,null,null,null,null,null,null,null,null,null,null,null,null,"SourceStreamName_","SourceStreamClass_",null,null,null,null,null,{"$f":"IF(I202=\"\",\"\",IF(COUNTIF(CNTR_PFCSourceStreams,I202)>0,MAX(Z$193:Z201)+1,\"\"))","v":""},null,false]
[null,null,null,null,"F10",null,null,null,null,null,null,null,null,null,null,null,null,null,"SourceStreamName_","SourceStreamClass_",null,null,null,null,null,{"$f":"IF(I203=\"\",\"\",IF(COUNTIF(CNTR_PFCSourceStreams,I203)>0,MAX(Z$193:Z202)+1,\"\"))","v":""},null,false]
["ausblenden",null,null,null,null,null,null,null,null,null,null,null,null,null,null,null,null,null,{"$f":"EUconst_CNTR_SourceStreamName&F204","v":"SourceStreamName_"},{"$f":"EUconst_CNTR_SourceStreamClass&I204","v":"SourceStreamClass_"},null,null,null,null,null,{"$f":"IF(I204=\"\",\"\",IF(COUNTIF(CNTR_PFCSourceStreams,I204)>0,MAX(Z$193:Z203)+1,\"\"))","v":""},null,{"$f":"AB203","v":false}]
["ADD_SourceStream"]
[null,null,null,null,null,null,{"$f":"Translations!$B$297","v":"Kliknite \"+\" kako bi dodali nove tokove izvora"}]
[]
[]
[]
[null,null,null,"(f)",{"$f":"Translations!$B$298","v":"Procijenjene  emisije i kategorije tokova izvora:"}]
[null,null,null,null,{"$f":"Translations!$B$299","v":"Unesite za svaki tok izvora (metodologija proračuna, uključujući PFC) procijenjene emisije i odaberite odgovarajuću kategoriju toka izvora."}]
[null,null,null,null,{"$f":"Translations!$B$300","v":"Podaci o oznaci toka izvora i puno ime toka izvora (ime i vrstu toka izvora) automatski će se povući iz točke (d)."}]
[null,null,null,null,{"$f":"Translations!$B$1341","v":"U slučaju da tokovi izvora izlaze iz bilance mase, emisije se moraju unijeti kao negativne vrijednosti. U slučaju nulte stope ugljika koji je uključen u bilancu mase, primjenjuje se članak 25. stavak 3. Uredbe"}]
[null,null,null,null,{"$f":"Translations!$B$302","v":"Napomena: Na temelju članka 19. stavak 3. Uredbe svaki tok izvora može se kategorizirati kao \"glavni\", \"manji\" ili \"de-minimis\"."}]
[null,null,null,null,"-",{"$f":"Translations!$B$303","v":"\"Manji\" tokovi izvora zajedno emitiraju 5 000 tona  ili manje fosilnog CO2 godišnje ili koji sudjeluju s manje od 10% (do ukupno maksimalnog učešća od 100 000 tona fosilnog CO2 godišnje) u ukupnoj godišnjoj emisiji CO2 postrojenja prije oduzimanja prenesenog CO2, ovisno o tome koja je vrijednost veća u smislu apsolutnih emisija."}]
[null,null,null,null,"-",{"$f":"Translations!$B$304","v":"\"De minimis\" tokovi izvora  grupa manjih tokova izvora koje je odabrao operater i koji zajedno emitiraju 1 000 tona  ili manje fosilnog CO2 godišnje ili koji sudjeluju s manje od 2% (do ukupnog maksimalnog učešća od 20 000 tona fosilnog CO2 godišnje) u ukupnoj godišnjoj emisiji fosilnog CO2 toga postrojenja prije oduzimanja prenesenog CO2 ovisno o tome koja je vrijednost veća u smislu apsolutnih emisija."}]
[null,null,null,null,"-",{"$f":"Translations!$B$305","v":"\"Glavni\" tokovi izvora su skupina tokova izvora koji ne pripadaju skupini \"manji\" tokovi izvora niti  \"de minimis\" tokova izvora"}]
[null,null,null,null,{"$f":"Translations!$B$306","v":"Kod klasifikacije tokova izvora iz masene bilance u obzir će se uzeti najviša (apsolutna) vrijednost."}]
[null,null,null,null,{"$f":"Translations!$B$307","v":"Za pomoć odabira odgovarajuće kategorije, moguće kategorije biti će automatski prikazane za svaki tok izvora u zelenom polju."}]
[null,null,null,null,{"$f":"Translations!$B$308","v":"Ovaj automatski prikaz  pruža informacije samo o mogućim kategorijama za svaki samostalan tok izvora. Ukoliko je bilo koji od gore navedenih uvjeta prekoračen, moguće kategorije se neće promijeniti, ali će se pojaviti poruka o pogrešci. U tom slučaju molimo odaberite kategoriju koja je najmanje za jednu razinu viša."}]
[null,null,null,null,{"$f":"Translations!$B$309","v":"Nakon što je unos procijenjenih emisija za sve tokove izvora završen, zbroj emisija biti će uspoređen s ukupnim godišnjim emisijama unesenim pod 5.d. iznad. Ako se zbroj procijenjenih emisija razlikuje za više od 5% ukupnih godišnjih emisija pojaviti će se automatska poruka o pogrešci."}]
[]
[null,null,null,null,{"$f":"Translations!$B$287","v":"Oznaka tokova izvora F1, F2,…"},{"$f":"Translations!$B$310","v":"Puni naziv tokova izvora (naziv + vrsta)"},null,null,null,null,null,{"$f":"Translations!$B$276","v":"Procijenjene emisije (t CO2e/godina)"},{"$f":"Translations!$B$277","v":"Moguća kategorija"},{"$f":"Translations!$B$311","v":"Odabrana kategorija"},null,null,null,null,"has entry?",null,null,null,"ABS",null,"minor","de-minimis"]
["HIDE_Example",null,null,null,"F01",{"$f":"Translations!$B$312","v":"Sirovina; Cementni klinker; Na temelju ulaza u peć (Metoda A)"},null,null,null,null,null,98000,{"$f":"Translations!$B$313","v":"Glavni"},{"$f":"Translations!$B$313","v":"Glavni"}]
["HIDE_Example",null,null,null,"F02",{"$f":"Translations!$B$314","v":"Mazut; Izgaranje; Druga plinovita i tekuća goriva"},null,null,null,null,null,19300,{"$f":"Translations!$B$313","v":"Glavni"},{"$f":"Translations!$B$313","v":"Glavni"}]
[null,null,null,null,{"$f":"IF(ISBLANK(F194),\"\",E194)","v":""},{"$f":"IF(COUNTA(F194:I194)<2,\"\",F194 & \"; \" &I194)","v":""},null,null,null,null,null,null,{"$f":"IF(W226=\"\",\"\",IF(W226<$Z$226,INDEX(SourceCategory,3),IF(W226<$Y$226,INDEX(SourceCategory,2),INDEX(SourceCategory,1))))","v":""},null,null,null,{"$f":"EUconst_CNTR_SourceCategory&E194","v":"SourceCategory_F1"},null,{"$f":"(F226<>\"\")","v":false},{"$f":"EUconst_CNTR_SourceCategory&N226","v":"SourceCategory_"},null,{"$f":"IF(I194=\"\",\"\",IFERROR(IF(AND(SUM(L226)<0,INDEX(EUwideConstants!$W$265:$W$334,MATCH(I194,EUConst_TierActivityListNames,0))),ABS(L226),\"\"),\"\"))","v":""},{"$f":"IF(ISBLANK(L226),\"\",ABS(L226))","v":""},"LIMIT",{"$f":"MAX(5000,MIN(0.1*$Y$242,100000))","v":5000},{"$f":"MAX(1000,MIN(0.02*$Y$242,20000))","v":1000},null,{"$f":"IF(COUNTIF($S$226:$S$236,TRUE)>0,NOT(S226),$L$182=EUconst_NotRelevant)","v":false}]
[null,null,null,null,"","",null,null,null,null,null,null,"",null,null,null,"SourceCategory_F2",null,{"$f":"(F227<>\"\")","v":false},"SourceCategory_",null,{"$f":"IF(I195=\"\",\"\",IFERROR(IF(AND(SUM(L227)<0,INDEX(EUwideConstants!$W$265:$W$334,MATCH(I195,EUConst_TierActivityListNames,0))),ABS(L227),\"\"),\"\"))","v":""},{"$f":"IF(ISBLANK(L227),\"\",ABS(L227))","v":""},"SUM",{"$f":"SUMIF(T$226:T236,EUconst_CNTR_SourceCategory&INDEX(SourceCategory,2),W$226:W236)","v":0},{"$f":"SUMIF(T$226:T236,EUconst_CNTR_SourceCategory&INDEX(SourceCategory,3),W$226:W236)","v":0},null,false]
[null,null,null,null,"","",null,null,null,null,null,null,"",null,null,null,"SourceCategory_F3",null,false,"SourceCategory_",null,{"$f":"IF(I196=\"\",\"\",IFERROR(IF(AND(SUM(L228)<0,INDEX(EUwideConstants!$W$265:$W$334,MATCH(I196,EUConst_TierActivityListNames,0))),ABS(L228),\"\"),\"\"))","v":""},"",null,null,null,null,false]
[null,null,null,null,"","",null,null,null,null,null,null,"",null,null,null,"SourceCategory_F4",null,false,"SourceCategory_",null,{"$f":"IF(I197=\"\",\"\",IFERROR(IF(AND(SUM(L229)<0,INDEX(EUwideConstants!$W$265:$W$334,MATCH(I197,EUConst_TierActivityListNames,0))),ABS(L229),\"\"),\"\"))","v":""},"",null,null,null,null,false]
[null,null,null,null,"","",null,null,null,null,null,null,"",null,null,null,"SourceCategory_F5",null,false,"SourceCategory_",null,{"$f":"IF(I198=\"\",\"\",IFERROR(IF(AND(SUM(L230)<0,INDEX(EUwideConstants!$W$265:$W$334,MATCH(I198,EUConst_TierActivityListNames,0))),ABS(L230),\"\"),\"\"))","v":""},"",null,null,null,null,false]
[null,null,null,null,"","",null,null,null,null,null,null,"",null,null,null,"SourceCategory_F6",null,{"$f":"(F231<>\"\")","v":false},{"$f":"EUconst_CNTR_SourceCategory&N231","v":"SourceCategory_"},null,{"$f":"IF(I199=\"\",\"\",IFERROR(IF(AND(SUM(L231)<0,INDEX(EUwideConstants!$W$265:$W$334,MATCH(I199,EUConst_TierActivityListNames,0))),ABS(L231),\"\"),\"\"))","v":""},"",null,null,null,null,false]
[null,null,null,null,"","",null,null,null,null,null,null,"",null,null,null,"SourceCategory_F7",null,false,"SourceCategory_",null,{"$f":"IF(I200=\"\",\"\",IFERROR(IF(AND(SUM(L232)<0,INDEX(EUwideConstants!$W$265:$W$334,MATCH(I200,EUConst_TierActivityListNames,0))),ABS(L232),\"\"),\"\"))","v":""},"",null,null,null,null,false]
[null,null,null,null,"","",null,null,null,null,null,null,"",null,null,null,"SourceCategory_F8",null,false,"SourceCategory_",null,{"$f":"IF(I201=\"\",\"\",IFERROR(IF(AND(SUM(L233)<0,INDEX(EUwideConstants!$W$265:$W$334,MATCH(I201,EUConst_TierActivityListNames,0))),ABS(L233),\"\"),\"\"))","v":""},"",null,null,null,null,false]
[null,null,null,null,"","",null,null,null,null,null,null,"",null,null,null,"SourceCategory_F9",null,false,"SourceCategory_",null,{"$f":"IF(I202=\"\",\"\",IFERROR(IF(AND(SUM(L234)<0,INDEX(EUwideConstants!$W$265:$W$334,MATCH(I202,EUConst_TierActivityListNames,0))),ABS(L234),\"\"),\"\"))","v":""},"",null,null,null,null,false]
[null,null,null,null,"","",null,null,null,null,null,null,"",null,null,null,"SourceCategory_F10",null,false,"SourceCategory_",null,{"$f":"IF(I203=\"\",\"\",IFERROR(IF(AND(SUM(L235)<0,INDEX(EUwideConstants!$W$265:$W$334,MATCH(I203,EUConst_TierActivityListNames,0))),ABS(L235),\"\"),\"\"))","v":""},"",null,null,null,null,false]
["ausblenden",null,null,null,{"$f":"IF(ISBLANK(F205),\"\",E205)","v":""},{"$f":"IF(COUNTA(F204:I204)<2,\"\",F204 & \"; \" &I204)","v":""},null,null,null,null,null,null,{"$f":"IF(W236=\"\",\"\",IF(W236<$Z$226,INDEX(SourceCategory,3),IF(W236<$Y$226,INDEX(SourceCategory,2),INDEX(SourceCategory,1))))","v":""},null,null,null,{"$f":"EUconst_CNTR_SourceCategory&E204","v":"SourceCategory_"},null,{"$f":"(F236<>\"\")","v":false},{"$f":"EUconst_CNTR_SourceCategory&N236","v":"SourceCategory_"},null,{"$f":"IF(I204=\"\",\"\",IFERROR(IF(AND(SUM(L236)<0,INDEX(EUwideConstants!$W$265:$W$334,MATCH(I204,EUConst_TierActivityListNames,0))),ABS(L236),\"\"),\"\"))","v":""},{"$f":"IF(ISBLANK(L236),\"\",ABS(L236))","v":""},null,null,null,null,false]
["ADD_SourceStream"]
[null,null,null,null,null,{"$f":"Translations!$B$315","v":"Poruka o pogrešci (zbroj manjih tokova izvora):"},null,null,null,null,{"$f":"IF(Y238=TRUE,EUconst_ERR_ThreshholdMinor,\"\")","v":""},null,null,null,null,null,null,null,null,null,null,null,null,"error?",{"$f":"Y227>Y226","v":false}]
[]
[null,null,null,null,null,{"$f":"Translations!$B$316","v":"Poruka o pogrešci (zbroj \"de minimis\" tokova izvora):"},null,null,null,null,{"$f":"IF(Y240=TRUE,EUconst_ERR_ThreshholdDeminimis,\"\")","v":""},null,null,null,null,null,null,null,null,null,null,null,null,"error?",{"$f":"Z227>Z226","v":false}]
[]
[null,null,null,null,null,{"$f":"Translations!$B$317","v":"Poruka o pogrešci (ukupne emisije, razlika do 5(d)):"},null,null,null,{"$f":"IF(ISBLANK(CNTR_TotalEmissions),\"\",IF(COUNTIF(S226:S236,TRUE)<>COUNT(W226:W236),\"\",SUM(L171:L176,L226:L236,V226:V236)/CNTR_TotalEmissions-1))","v":""},{"$f":"IF(ISBLANK(CNTR_TotalEmissions),\"\",IF(COUNTIF(S226:S236,TRUE)<>COUNT(W226:W236),\"\",IF(OR(SUM(L171:L176,L226:L236,V226:V236)/CNTR_TotalEmissions<0.95,SUM(L171:L176,L226:L236,V226:V236)/CNTR_TotalEmissions>1.05),EUconst_ERR_CheckEstimatedEmissions,\"\")))","v":""},null,null,null,null,null,null,null,null,null,null,null,null,"SUM",{"$f":"SUM(W171:W236)","v":0}]
[]
[null,null,null,"(g)",{"$f":"Translations!$B$318","v":"Dijelovi postrojenja i djelatnosti koje nisu uključene u EU ETS, ako je relevantno:"}]
[null,null,null,null,{"$f":"Translations!$B$319","v":"Navedite pojedinosti za bilo koje dijelove postrojenja ili aktivnosti koje nisu uključene u EU ETS gdje se goriva ili sirovine koji se koriste u tim aktivnostima obračunavaju mjernim uređajima koji se također nalaze u aktivnostima Priloga I."}]
[null,null,null,null,{"$f":"Translations!$B$320","v":"Za daljnje upute obratite pažnju na točke (b), (c) i (e)."}]
[null,null,null,null,{"$f":"Translations!$B$135","v":"Za prikazivanje/skrivanje primjera, pritisnite na kućicu \"Primjeri\" unutar navigacijskog područja."}]
[]
[null,null,null,null,{"$f":"Translations!$B$321","v":"Oznake izvora emisija"},{"$f":"Translations!$B$322","v":"Tokovi izvora (goriva/sirovine)"},null,null,{"$f":"Translations!$B$323","v":"Izvori emisija"},null,null,{"$f":"Translations!$B$324","v":"Točke emisija"}]
["HIDE_Example",null,null,null,"S011",{"$f":"Translations!$B$325","v":"Prirodni plin (koji prolazi kroz postrojenje do vanjskog korisnika)"},null,null,{"$f":"Translations!$B$326","v":"nekoliko kotlova (<3MW svaki)"},null,null,{"$f":"Translations!$B$327","v":"Ispusti povezanih postrojenja (grijanje od susjedne bolnice)"}]
[]
[]
[]
[]
[]
[]
[]
[]
[]
["ausblenden"]
["ADD_ActivitiesExcluded"]
[null,null,null,null,null,null,{"$f":"Translations!$B$328","v":"Pritisnite \"+\" kako bi dodali nove aktivnosti isključene iz EU ETS-a"}]
[]
[]
[]
[null,null,null,null,null,{"$f":"EUconst_MsgNextSheet","v":"<<< Pritisnite ovdje kako bi prešli na slijedeći list >>> "}]
[]
[null,null,null,null,null,10]
["ausblenden","End","End","End","End","End","End","End","End","End","End","End","End","End","End","End","End","End","End","End","End","End","End","End","End","End","End","End"]
["ausblenden"]
["ausblenden",null,null,null,null,{"$f":"Translations!$B$956","v":"Djelatnost"},"Source Stream Types"]
["ausblenden",null,null,null,"Act. 1",{"$f":"IF(ISBLANK(F56),\"\",F56)","v":""},{"$f":"IF($F272=\"\",\"\",INDEX(EUwideConstants!E$230:E$258,MATCH($F272,AnnexIActivities,0)))","v":""},{"$f":"IF($F272=\"\",\"\",INDEX(EUwideConstants!F$230:F$258,MATCH($F272,AnnexIActivities,0)))","v":""},{"$f":"IF($F272=\"\",\"\",INDEX(EUwideConstants!G$230:G$258,MATCH($F272,AnnexIActivities,0)))","v":""},{"$f":"IF($F272=\"\",\"\",INDEX(EUwideConstants!H$230:H$258,MATCH($F272,AnnexIActivities,0)))","v":""},{"$f":"IF($F272=\"\",\"\",INDEX(EUwideConstants!I$230:I$258,MATCH($F272,AnnexIActivities,0)))","v":""},{"$f":"IF($F272=\"\",\"\",INDEX(EUwideConstants!J$230:J$258,MATCH($F272,AnnexIActivities,0)))","v":""},{"$f":"IF($F272=\"\",\"\",INDEX(EUwideConstants!K$230:K$258,MATCH($F272,AnnexIActivities,0)))","v":""}]
["ausblenden",null,null,null,"Act. 2",{"$f":"IF(ISBLANK(F57),\"\",F57)","v":""},{"$f":"IF($F273=\"\",\"\",INDEX(EUwideConstants!E$230:E$258,MATCH($F273,AnnexIActivities,0)))","v":""},{"$f":"IF($F273=\"\",\"\",INDEX(EUwideConstants!F$230:F$258,MATCH($F273,AnnexIActivities,0)))","v":""},{"$f":"IF($F273=\"\",\"\",INDEX(EUwideConstants!G$230:G$258,MATCH($F273,AnnexIActivities,0)))","v":""},{"$f":"IF($F273=\"\",\"\",INDEX(EUwideConstants!H$230:H$258,MATCH($F273,AnnexIActivities,0)))","v":""},{"$f":"IF($F273=\"\",\"\",INDEX(EUwideConstants!I$230:I$258,MATCH($F273,AnnexIActivities,0)))","v":""},{"$f":"IF($F273=\"\",\"\",INDEX(EUwideConstants!J$230:J$258,MATCH($F273,AnnexIActivities,0)))","v":""},{"$f":"IF($F273=\"\",\"\",INDEX(EUwideConstants!K$230:K$258,MATCH($F273,AnnexIActivities,0)))","v":""}]
["ausblenden",null,null,null,"Act. 3",{"$f":"IF(ISBLANK(F58),\"\",F58)","v":""},{"$f":"IF($F274=\"\",\"\",INDEX(EUwideConstants!E$230:E$258,MATCH($F274,AnnexIActivities,0)))","v":""},{"$f":"IF($F274=\"\",\"\",INDEX(EUwideConstants!F$230:F$258,MATCH($F274,AnnexIActivities,0)))","v":""},{"$f":"IF($F274=\"\",\"\",INDEX(EUwideConstants!G$230:G$258,MATCH($F274,AnnexIActivities,0)))","v":""},{"$f":"IF($F274=\"\",\"\",INDEX(EUwideConstants!H$230:H$258,MATCH($F274,AnnexIActivities,0)))","v":""},{"$f":"IF($F274=\"\",\"\",INDEX(EUwideConstants!I$230:I$258,MATCH($F274,AnnexIActivities,0)))","v":""},{"$f":"IF($F274=\"\",\"\",INDEX(EUwideConstants!J$230:J$258,MATCH($F274,AnnexIActivities,0)))","v":""},{"$f":"IF($F274=\"\",\"\",INDEX(EUwideConstants!K$230:K$258,MATCH($F274,AnnexIActivities,0)))","v":""}]
["ausblenden",null,null,null,"Act. 4",{"$f":"IF(ISBLANK(F59),\"\",F59)","v":""},{"$f":"IF($F275=\"\",\"\",INDEX(EUwideConstants!E$230:E$258,MATCH($F275,AnnexIActivities,0)))","v":""},{"$f":"IF($F275=\"\",\"\",INDEX(EUwideConstants!F$230:F$258,MATCH($F275,AnnexIActivities,0)))","v":""},{"$f":"IF($F275=\"\",\"\",INDEX(EUwideConstants!G$230:G$258,MATCH($F275,AnnexIActivities,0)))","v":""},{"$f":"IF($F275=\"\",\"\",INDEX(EUwideConstants!H$230:H$258,MATCH($F275,AnnexIActivities,0)))","v":""},{"$f":"IF($F275=\"\",\"\",INDEX(EUwideConstants!I$230:I$258,MATCH($F275,AnnexIActivities,0)))","v":""},{"$f":"IF($F275=\"\",\"\",INDEX(EUwideConstants!J$230:J$258,MATCH($F275,AnnexIActivities,0)))","v":""},{"$f":"IF($F275=\"\",\"\",INDEX(EUwideConstants!K$230:K$258,MATCH($F275,AnnexIActivities,0)))","v":""}]
["ausblenden",null,null,null,"Act. 5",{"$f":"IF(ISBLANK(F60),\"\",F60)","v":""},{"$f":"IF($F276=\"\",\"\",INDEX(EUwideConstants!E$230:E$258,MATCH($F276,AnnexIActivities,0)))","v":""},{"$f":"IF($F276=\"\",\"\",INDEX(EUwideConstants!F$230:F$258,MATCH($F276,AnnexIActivities,0)))","v":""},{"$f":"IF($F276=\"\",\"\",INDEX(EUwideConstants!G$230:G$258,MATCH($F276,AnnexIActivities,0)))","v":""},{"$f":"IF($F276=\"\",\"\",INDEX(EUwideConstants!H$230:H$258,MATCH($F276,AnnexIActivities,0)))","v":""},{"$f":"IF($F276=\"\",\"\",INDEX(EUwideConstants!I$230:I$258,MATCH($F276,AnnexIActivities,0)))","v":""},{"$f":"IF($F276=\"\",\"\",INDEX(EUwideConstants!J$230:J$258,MATCH($F276,AnnexIActivities,0)))","v":""},{"$f":"IF($F276=\"\",\"\",INDEX(EUwideConstants!K$230:K$258,MATCH($F276,AnnexIActivities,0)))","v":""}]
["ausblenden",null,null,null,"Act. 6",{"$f":"IF(ISBLANK(F63),\"\",F63)","v":""},{"$f":"IF($F277=\"\",\"\",INDEX(EUwideConstants!E$230:E$258,MATCH($F277,AnnexIActivities,0)))","v":""},{"$f":"IF($F277=\"\",\"\",INDEX(EUwideConstants!F$230:F$258,MATCH($F277,AnnexIActivities,0)))","v":""},{"$f":"IF($F277=\"\",\"\",INDEX(EUwideConstants!G$230:G$258,MATCH($F277,AnnexIActivities,0)))","v":""},{"$f":"IF($F277=\"\",\"\",INDEX(EUwideConstants!H$230:H$258,MATCH($F277,AnnexIActivities,0)))","v":""},{"$f":"IF($F277=\"\",\"\",INDEX(EUwideConstants!I$230:I$258,MATCH($F277,AnnexIActivities,0)))","v":""},{"$f":"IF($F277=\"\",\"\",INDEX(EUwideConstants!J$230:J$258,MATCH($F277,AnnexIActivities,0)))","v":""},{"$f":"IF($F277=\"\",\"\",INDEX(EUwideConstants!K$230:K$258,MATCH($F277,AnnexIActivities,0)))","v":""}]
["ausblenden"]
["ausblenden",null,null,null,null,null,null,null,"source stream",null,"source stream name"]
["ausblenden",null,null,null,null,1,{"$f":"INDEX(EUConst_TierActivityListNames,F280)","v":"Izgaranje: Komercijalna standardna goriva"},{"$f":"F280","v":1},{"$f":"IF(ISERROR(INDEX($G$280:$G$350,MATCH(F280,$H$280:$H$350,0))),\"\",INDEX($G$280:$G$350,MATCH(F280,$H$280:$H$350,0)))","v":"Izgaranje: Komercijalna standardna goriva"}]
["ausblenden",null,null,null,null,{"$f":"F280+1","v":2},{"$f":"INDEX(EUConst_TierActivityListNames,F281)","v":"Izgaranje: Ostala plinovita & tekuća goriva"},2,{"$f":"IF(ISERROR(INDEX($G$280:$G$350,MATCH(F281,$H$280:$H$350,0))),\"\",INDEX($G$280:$G$350,MATCH(F281,$H$280:$H$350,0)))","v":"Izgaranje: Ostala plinovita & tekuća goriva"}]
["ausblenden",null,null,null,null,{"$f":"F281+1","v":3},"Izgaranje: Kruta goriva isključujući otpad",3,"Izgaranje: Kruta goriva isključujući otpad"]
["ausblenden",null,null,null,null,4,"Izgaranje: Otpad",4,"Izgaranje: Otpad"]
["ausblenden",null,null,null,null,5,"Izgaranje: Terminali za obradu plina ",5,"Izgaranje: Terminali za obradu plina "]
["ausblenden",null,null,null,null,6,"Izgaranje: Baklje",6,"Izgaranje: Baklje"]
["ausblenden",null,null,null,null,7,"Izgaranje: Čišćenje mokrim postupkom (karbonati)",7,"Izgaranje: Čišćenje mokrim postupkom (karbonati)"]
["ausblenden",null,null,null,null,8,"Izgaranje: Čišćenje mokrim postupkom (gips)",8,"Izgaranje: Čišćenje mokrim postupkom (gips)"]
["ausblenden",null,null,null,null,9,"Izgaranje: Čišćenje mokrim postupkom (urea)",9,"Izgaranje: Čišćenje mokrim postupkom (urea)"]
["ausblenden",null,null,null,null,10,{"$f":"INDEX(EUConst_TierActivityListNames,F289)","v":"Rafinerije: Bilanca mase"},{"$f":"IF(COUNTIF($G$272:$M$277,G289)>0,MAX(H$288:H288)+1,\"\")","v":""},""]
["ausblenden",null,null,null,null,11,"Rafinerije: Regeneriranje katalizatora iz procesa krekiranja ",{"$f":"IF(COUNTIF($G$272:$M$277,G290)>0,MAX(H$288:H289)+1,\"\")","v":""},""]
["ausblenden",null,null,null,null,12,"Rafinerije: Proizvodnja vodika",{"$f":"IF(COUNTIF($G$272:$M$277,G291)>0,MAX(H$288:H290)+1,\"\")","v":""},""]
["ausblenden",null,null,null,null,13,"Koks: Gorivo koje se koristi kao ulazni materijal procesa",{"$f":"IF(COUNTIF($G$272:$M$277,G292)>0,MAX(H$288:H291)+1,\"\")","v":""},""]
["ausblenden",null,null,null,null,14,"Koks: Proces (metoda A): samo karbonat",{"$f":"IF(COUNTIF($G$272:$M$277,G293)>0,MAX(H$288:H292)+1,\"\")","v":""},""]
["ausblenden",null,null,null,null,15,"Koks: Proces (metoda A): miješani (karbonat + nekarbonat)",{"$f":"IF(COUNTIF($G$272:$M$277,G294)>0,MAX(H$288:H293)+1,\"\")","v":""},""]
["ausblenden",null,null,null,null,16,"Koks: Proces (metoda A): nekarbonat",{"$f":"IF(COUNTIF($G$272:$M$277,G295)>0,MAX(H$288:H294)+1,\"\")","v":""},""]
["ausblenden",null,null,null,null,17,"Koks: Proces (metoda B): izlaz oksida",{"$f":"IF(COUNTIF($G$272:$M$277,G296)>0,MAX(H$288:H295)+1,\"\")","v":""},""]
["ausblenden",null,null,null,null,18,"Koks: Bilanca mase",{"$f":"IF(COUNTIF($G$272:$M$277,G297)>0,MAX(H$288:H296)+1,\"\")","v":""},""]
["ausblenden",null,null,null,null,19,"Metalne rude: Proces (metoda A): samo karbonat",{"$f":"IF(COUNTIF($G$272:$M$277,G298)>0,MAX(H$288:H297)+1,\"\")","v":""},""]
["ausblenden",null,null,null,null,20,"Metalne rude: Proces (metoda A): miješani (karbonat + nekarbonat)",{"$f":"IF(COUNTIF($G$272:$M$277,G299)>0,MAX(H$288:H298)+1,\"\")","v":""},""]
["ausblenden",null,null,null,null,21,"Metalne rude: Proces (metoda A): nekarbonat",{"$f":"IF(COUNTIF($G$272:$M$277,G300)>0,MAX(H$288:H299)+1,\"\")","v":""},""]
["ausblenden",null,null,null,null,22,"Metalne rude: Proces (metoda B): izlaz oksida",{"$f":"IF(COUNTIF($G$272:$M$277,G301)>0,MAX(H$288:H300)+1,\"\")","v":""},""]
["ausblenden",null,null,null,null,23,"Metalne rude: Bilanca mase",{"$f":"IF(COUNTIF($G$272:$M$277,G302)>0,MAX(H$288:H301)+1,\"\")","v":""},""]
["ausblenden",null,null,null,null,24,"Željezo i čelik: Gorivo koje se koristi kao ulazni materijal procesa",{"$f":"IF(COUNTIF($G$272:$M$277,G303)>0,MAX(H$288:H302)+1,\"\")","v":""},""]
["ausblenden",null,null,null,null,25,"Željezo i čelik: Proces (metoda A): samo karbonat",{"$f":"IF(COUNTIF($G$272:$M$277,G304)>0,MAX(H$288:H303)+1,\"\")","v":""},""]
["ausblenden",null,null,null,null,26,"Željezo i čelik: Proces (metoda A): miješani (karbonat + nekarbonat)",{"$f":"IF(COUNTIF($G$272:$M$277,G305)>0,MAX(H$288:H304)+1,\"\")","v":""},""]
["ausblenden",null,null,null,null,27,"Željezo i čelik: Proces (metoda A): nekarbonat",{"$f":"IF(COUNTIF($G$272:$M$277,G306)>0,MAX(H$288:H305)+1,\"\")","v":""},""]
["ausblenden",null,null,null,null,28,"Željezo i čelik: Proces (metoda B): izlaz oksida",{"$f":"IF(COUNTIF($G$272:$M$277,G307)>0,MAX(H$288:H306)+1,\"\")","v":""},""]
["ausblenden",null,null,null,null,29,"Željezo i čelik: Bilanca mase",{"$f":"IF(COUNTIF($G$272:$M$277,G308)>0,MAX(H$288:H307)+1,\"\")","v":""},""]
["ausblenden",null,null,null,null,30,"Cementni klinker: Na temelju ulaza u peć (Metoda A)",{"$f":"IF(COUNTIF($G$272:$M$277,G309)>0,MAX(H$288:H308)+1,\"\")","v":""},""]
["ausblenden",null,null,null,null,31,"Cementni klinker: Izlaz klinkera (Metoda B)",{"$f":"IF(COUNTIF($G$272:$M$277,G310)>0,MAX(H$288:H309)+1,\"\")","v":""},""]
["ausblenden",null,null,null,null,32,"Cementni klinker: CKD",{"$f":"IF(COUNTIF($G$272:$M$277,G311)>0,MAX(H$288:H310)+1,\"\")","v":""},""]
["ausblenden",null,null,null,null,33,"Cementni klinker: Ne-karbonatni ugljik",{"$f":"IF(COUNTIF($G$272:$M$277,G312)>0,MAX(H$288:H311)+1,\"\")","v":""},""]
["ausblenden",null,null,null,null,34,"Vapno / dolomit / magnezit: Proces (metoda A): samo karbonat",{"$f":"IF(COUNTIF($G$272:$M$277,G313)>0,MAX(H$288:H312)+1,\"\")","v":""},""]
["ausblenden",null,null,null,null,35,"Vapno / dolomit / magnezit: Proces (metoda A): miješani (karbonat + nekarbonat)",{"$f":"IF(COUNTIF($G$272:$M$277,G314)>0,MAX(H$288:H313)+1,\"\")","v":""},""]
["ausblenden",null,null,null,null,36,"Vapno / dolomit / magnezit: Proces (metoda A): nekarbonat",{"$f":"IF(COUNTIF($G$272:$M$277,G315)>0,MAX(H$288:H314)+1,\"\")","v":""},""]
["ausblenden",null,null,null,null,37,"Vapno / dolomit / magnezit: Proces (metoda B): izlaz oksida",{"$f":"IF(COUNTIF($G$272:$M$277,G316)>0,MAX(H$288:H315)+1,\"\")","v":""},""]
["ausblenden",null,null,null,null,38,"Vapno / dolomit / magnezit: Prašina iz peći (Metoda B)",{"$f":"IF(COUNTIF($G$272:$M$277,G317)>0,MAX(H$288:H316)+1,\"\")","v":""},""]
["ausblenden",null,null,null,null,39,"Staklo i mineralna vuna: Proces (metoda A): samo karbonat",{"$f":"IF(COUNTIF($G$272:$M$277,G318)>0,MAX(H$288:H317)+1,\"\")","v":""},""]
["ausblenden",null,null,null,null,40,"Staklo i mineralna vuna: Proces (metoda A): miješani (karbonat + nekarbonat)",{"$f":"IF(COUNTIF($G$272:$M$277,G319)>0,MAX(H$288:H318)+1,\"\")","v":""},""]
["ausblenden",null,null,null,null,41,"Staklo i mineralna vuna: Proces (metoda A): nekarbonat",{"$f":"IF(COUNTIF($G$272:$M$277,G320)>0,MAX(H$288:H319)+1,\"\")","v":""},""]
["ausblenden",null,null,null,null,42,"Keramika: Proces (metoda A): samo karbonat",{"$f":"IF(COUNTIF($G$272:$M$277,G321)>0,MAX(H$288:H320)+1,\"\")","v":""},""]
["ausblenden",null,null,null,null,43,"Keramika: Proces (metoda A): miješani (karbonat + nekarbonat)",{"$f":"IF(COUNTIF($G$272:$M$277,G322)>0,MAX(H$288:H321)+1,\"\")","v":""},""]
["ausblenden",null,null,null,null,44,"Keramika: Proces (metoda A): nekarbonat",{"$f":"IF(COUNTIF($G$272:$M$277,G323)>0,MAX(H$288:H322)+1,\"\")","v":""},""]
["ausblenden",null,null,null,null,45,"Keramika: Proces (metoda B): izlaz oksida",{"$f":"IF(COUNTIF($G$272:$M$277,G324)>0,MAX(H$288:H323)+1,\"\")","v":""},""]
["ausblenden",null,null,null,null,46,"Keramika: Čišćenje mokrim postupkom",{"$f":"IF(COUNTIF($G$272:$M$277,G325)>0,MAX(H$288:H324)+1,\"\")","v":""},""]
["ausblenden",null,null,null,null,47,"Celuloza i papir: Dodatne kemikalije",{"$f":"IF(COUNTIF($G$272:$M$277,G326)>0,MAX(H$288:H325)+1,\"\")","v":""},""]
["ausblenden",null,null,null,null,48,"Čađa: Metodologija masene bilance",{"$f":"IF(COUNTIF($G$272:$M$277,G327)>0,MAX(H$288:H326)+1,\"\")","v":""},""]
["ausblenden",null,null,null,null,49,"Amonijak: Gorivo koje se koristi kao ulazni materijal procesa",{"$f":"IF(COUNTIF($G$272:$M$277,G328)>0,MAX(H$288:H327)+1,\"\")","v":""},""]
["ausblenden",null,null,null,null,50,"Vodik i sintetski plin: Gorivo koje se koristi kao ulazni materijal procesa",{"$f":"IF(COUNTIF($G$272:$M$277,G329)>0,MAX(H$288:H328)+1,\"\")","v":""},""]
["ausblenden",null,null,null,null,51,"Vodik i sintetski plin: Metodologija masene bilance",{"$f":"IF(COUNTIF($G$272:$M$277,G330)>0,MAX(H$288:H329)+1,\"\")","v":""},""]
["ausblenden",null,null,null,null,52,"Organske kemikalije na veliko: Metodologija masene bilance",{"$f":"IF(COUNTIF($G$272:$M$277,G331)>0,MAX(H$288:H330)+1,\"\")","v":""},""]
["ausblenden",null,null,null,null,53,"Neobojeni, sek. aluminij: Proces (metoda A): samo karbonat",{"$f":"IF(COUNTIF($G$272:$M$277,G332)>0,MAX(H$288:H331)+1,\"\")","v":""},""]
["ausblenden",null,null,null,null,54,"Neobojeni, sek. aluminij: Proces (metoda A): miješani (karbonat + nekarbonat)",{"$f":"IF(COUNTIF($G$272:$M$277,G333)>0,MAX(H$288:H332)+1,\"\")","v":""},""]
["ausblenden",null,null,null,null,55,"Neobojeni, sek. aluminij: Proces (metoda A): nekarbonat",{"$f":"IF(COUNTIF($G$272:$M$277,G334)>0,MAX(H$288:H333)+1,\"\")","v":""},""]
["ausblenden",null,null,null,null,56,"Neobojeni, sek. aluminij: Proces (metoda B): izlaz oksida",{"$f":"IF(COUNTIF($G$272:$M$277,G335)>0,MAX(H$288:H334)+1,\"\")","v":""},""]
["ausblenden",null,null,null,null,57,"Neobojeni, sek. aluminij: Metodologija masene bilance",{"$f":"IF(COUNTIF($G$272:$M$277,G336)>0,MAX(H$288:H335)+1,\"\")","v":""},""]
["ausblenden",null,null,null,null,58,"Natrij karbonat / natrij bikarbonat: Metodologija masene bilance",{"$f":"IF(COUNTIF($G$272:$M$277,G337)>0,MAX(H$288:H336)+1,\"\")","v":""},""]
["ausblenden",null,null,null,null,59,"Primarni aluminij: Metodologija masene bilance",{"$f":"IF(COUNTIF($G$272:$M$277,G338)>0,MAX(H$288:H337)+1,\"\")","v":""},""]
["ausblenden",null,null,null,null,60,"Primarni aluminij: Emisije PFC (Metoda nagiba)",{"$f":"IF(COUNTIF($G$272:$M$277,G339)>0,MAX(H$288:H338)+1,\"\")","v":""},""]
["ausblenden",null,null,null,null,61,{"$f":"INDEX(EUConst_TierActivityListNames,F340)","v":"Primarni aluminij: Emisije PFC (prenaponska metoda)"},{"$f":"IF(COUNTIF($G$272:$M$277,G340)>0,MAX(H$288:H339)+1,\"\")","v":""},""]
["ausblenden",null,null,null,null,62,"CCS: Capture: CO2 transferred",{"$f":"IF(COUNTIF($G$272:$M$277,G341)>0,MAX(H$288:H340)+1,\"\")","v":""},""]
["ausblenden",null,null,null,null,63,"CCS: Transport: CO2 transferred",{"$f":"IF(COUNTIF($G$272:$M$277,G342)>0,MAX(H$288:H341)+1,\"\")","v":""},""]
["ausblenden",null,null,null,null,64,"CCS: Transport: CO2 vented",{"$f":"IF(COUNTIF($G$272:$M$277,G343)>0,MAX(H$288:H342)+1,\"\")","v":""},""]
["ausblenden",null,null,null,null,65,"CCS: Transport: CO2 leaked",{"$f":"IF(COUNTIF($G$272:$M$277,G344)>0,MAX(H$288:H343)+1,\"\")","v":""},""]
["ausblenden",null,null,null,null,66,"CCS: Transport: CO2 fugitive",{"$f":"IF(COUNTIF($G$272:$M$277,G345)>0,MAX(H$288:H344)+1,\"\")","v":""},{"$f":"IF(ISERROR(INDEX($G$280:$G$350,MATCH(F345,$H$280:$H$350,0))),\"\",INDEX($G$280:$G$350,MATCH(F345,$H$280:$H$350,0)))","v":""}]
["ausblenden",null,null,null,null,{"$f":"F345+1","v":67},"CCS: Storage: CO2 transferred",{"$f":"IF(COUNTIF($G$272:$M$277,G346)>0,MAX(H$288:H345)+1,\"\")","v":""},""]
["ausblenden",null,null,null,null,{"$f":"F346+1","v":68},"CCS: Storage: CO2 vented",{"$f":"IF(COUNTIF($G$272:$M$277,G347)>0,MAX(H$288:H346)+1,\"\")","v":""},""]
["ausblenden",null,null,null,null,{"$f":"F347+1","v":69},"CCS: Storage: CO2 leaked",{"$f":"IF(COUNTIF($G$272:$M$277,G348)>0,MAX(H$288:H347)+1,\"\")","v":""},""]
["ausblenden",null,null,null,null,{"$f":"F348+1","v":70},{"$f":"INDEX(EUConst_TierActivityListNames,F349)","v":"CCS: Storage: CO2 fugitive"},{"$f":"IF(COUNTIF($G$272:$M$277,G349)>0,MAX(H$288:H348)+1,\"\")","v":""},""]
["ausblenden",null,null,null,"only for CCU:",{"$f":"F349+1","v":71},{"$f":"IF(CNTR_InstHasCCU=TRUE,EUwideConstants!$Q$769,\"\")","v":""},{"$f":"IF(G350<>\"\",MAX(H$288:H349)+1,\"\")","v":""},""]
["ausblenden"]

{"sheet":"D_Metodologija proračuna","index":5,"n_rows":318,"n_cols":23,"rows_kept":318,"cut":false,"hidden":false,"merged":[[292,6,292,13],[293,6,293,13],[297,4,297,5],[297,6,297,13],[294,4,294,5],[294,6,294,13],[295,4,295,5],[295,6,295,13],[296,4,296,5],[296,6,296,13],[285,4,285,13],[286,4,286,13],[288,4,288,5],[288,6,288,13],[289,4,289,5],[289,6,289,13],[290,4,290,5],[290,6,290,13],[291,4,291,5],[291,6,291,13],[268,6,268,13],[269,4,269,5],[269,6,269,13],[264,6,264,13],[265,6,265,13],[266,4,266,5],[266,6,266,13],[267,4,267,5],[267,6,267,13],[227,4,227,5],[162,4,162,13],[188,4,188,13],[189,4,189,13],[234,4,234,5],[247,6,247,13],[248,4,248,5],[248,6,248,13],[200,6,200,13],[202,4,202,13],[205,6,205,13],[234,6,234,13],[230,4,230,13],[213,6,213,13],[210,6,210,13],[213,4,213,5],[212,4,212,5],[211,4,211,5],[211,6,211,13],[227,6,227,13],[220,4,220,5],[222,6,222,13],[226,4,226,5],[226,6,226,13],[312,6,314,10],[299,4,299,13],[237,6,237,13],[238,6,238,13],[239,4,239,5],[239,6,239,13],[240,4,240,5],[240,6,240,13],[241,4,241,5],[244,4,244,13],[249,4,249,5],[249,6,249,13],[250,6,250,13],[251,6,251,13],[252,4,252,5],[252,6,252,13],[253,4,253,5],[253,6,253,13],[254,4,254,5],[254,6,254,13],[255,4,255,5],[255,6,255,13],[257,4,257,13],[258,4,258,13],[301,4,301,5],[235,4,235,5],[235,6,235,13],[301,6,301,13],[243,4,243,13],[236,6,236,13],[238,4,238,5],[246,4,246,5],[246,6,246,13],[247,4,247,5],[260,4,260,5],[260,6,260,13],[261,4,261,5],[261,6,261,13],[262,4,262,5],[262,6,262,13],[263,4,263,5],[263,6,263,13],[268,4,268,5],[271,4,271,13],[272,4,272,13],[274,4,274,5],[274,6,274,13],[275,4,275,5],[316,5,316,11],[5,2,5,10],[58,4,58,13],[102,4,102,13],[133,4,133,13],[2,6,2,7],[1,1,3,3],[1,4,1,5],[1,6,1,7],[84,12,85,12],[84,13,85,13],[241,6,241,13],[114,5,114,13],[121,5,121,13],[109,5,109,13],[110,5,110,13],[89,6,91,10],[229,4,229,13],[232,4,232,5],[232,6,232,13],[233,4,233,5],[233,6,233,13],[196,6,196,13],[224,6,224,13],[1,8,1,9],[3,10,3,11],[163,4,163,13],[1,10,1,11],[1,12,1,13],[2,12,2,13],[2,8,2,9],[3,12,3,13],[3,8,3,9],[43,4,43,13],[2,10,2,11],[86,12,87,12],[155,6,157,10],[108,5,108,13],[145,12,145,13],[95,4,95,13],[141,8,141,10],[139,5,139,6],[125,6,127,10],[86,5,87,6],[93,9,93,13],[142,12,142,13],[76,8,77,8],[66,7,67,7],[3,4,3,5],[3,6,3,7],[2,4,2,5],[82,13,83,13],[78,12,79,12],[82,12,83,12],[40,4,40,13],[41,4,41,13],[44,4,44,13],[42,4,42,13],[66,8,67,8],[68,7,69,7],[68,8,69,8],[70,7,71,7],[70,8,71,8],[78,8,79,8],[80,7,81,7],[80,8,81,8],[82,7,83,7],[82,8,83,8],[72,7,73,7],[72,8,73,8],[74,7,75,7],[74,8,75,8],[78,19,79,19],[78,20,79,20],[80,19,81,19],[74,18,75,18],[54,4,54,13],[50,4,50,13],[53,4,53,13],[72,12,73,12],[66,20,67,20],[68,20,69,20],[68,18,69,18],[66,18,67,18],[66,19,67,19],[68,19,69,19],[76,7,77,7],[66,5,67,6],[68,5,69,6],[70,5,71,6],[72,5,73,6],[74,5,75,6],[76,5,77,6],[78,7,79,7],[70,19,71,19],[72,20,73,20],[74,20,75,20],[72,19,73,19],[74,19,75,19],[70,20,71,20],[70,13,71,13],[72,13,73,13],[74,12,75,12],[76,20,77,20],[76,19,77,19],[76,18,77,18],[225,4,225,5],[221,6,221,13],[225,6,225,13],[224,4,224,5],[223,6,223,13],[221,4,221,5],[219,4,219,5],[183,6,183,13],[194,6,194,13],[197,4,197,5],[199,6,199,13],[197,6,197,13],[208,6,208,13],[218,4,218,5],[220,6,220,13],[219,6,219,13],[206,4,206,5],[198,6,198,13],[187,4,187,13],[218,6,218,13],[212,6,212,13],[215,4,215,13],[198,4,198,5],[207,4,207,5],[206,6,206,13],[216,4,216,13],[207,6,207,13],[210,4,210,5],[194,4,194,5],[191,4,191,5],[192,4,192,5],[209,6,209,13],[183,4,183,5],[204,6,204,13],[205,4,205,5],[204,4,204,5],[186,4,186,13],[184,6,184,13],[184,4,184,5],[146,8,146,10],[167,6,167,13],[145,8,145,10],[147,12,147,13],[165,4,165,5],[159,4,159,13],[175,4,175,5],[174,4,174,5],[148,8,148,10],[153,8,153,10],[153,12,153,13],[148,5,148,6],[149,5,149,6],[168,6,168,13],[174,6,174,13],[173,6,173,13],[172,6,172,13],[172,4,172,5],[144,12,144,13],[55,4,55,13],[60,12,60,13],[62,12,63,12],[68,13,69,13],[64,12,65,12],[70,12,71,12],[68,12,69,12],[56,4,56,13],[60,8,60,10],[60,11,61,11],[60,5,61,6],[60,7,61,7],[60,4,61,4],[80,5,81,6],[82,5,83,6],[84,5,85,6],[84,7,85,7],[104,5,104,13],[105,5,105,13],[101,4,101,13],[136,12,136,13],[138,5,138,6],[138,12,138,13],[78,18,79,18],[76,13,77,13],[80,13,81,13],[74,13,75,13],[78,13,79,13],[64,13,65,13],[72,18,73,18],[70,18,71,18],[76,12,77,12],[82,19,83,19],[82,20,83,20],[80,20,81,20],[82,18,83,18],[99,4,99,13],[100,4,100,13],[94,4,94,13],[97,4,97,13],[86,18,87,18],[86,13,87,13],[80,18,81,18],[98,4,98,13],[84,20,85,20],[84,18,85,18],[86,20,87,20],[84,8,85,8],[86,7,87,7],[86,8,87,8],[84,19,85,19],[136,8,136,10],[113,5,113,13],[112,5,112,13],[106,5,106,13],[107,5,107,13],[111,5,111,13],[93,4,93,8],[86,19,87,19],[117,5,117,13],[115,5,115,13],[130,4,130,13],[129,4,129,13],[116,5,116,13],[135,12,135,13],[38,4,38,13],[31,4,31,13],[36,4,36,13],[37,4,37,13],[35,4,35,13],[29,4,29,13],[144,5,144,6],[143,5,143,6],[147,5,147,6],[147,8,147,10],[135,5,135,6],[118,5,118,13],[123,5,123,13],[131,4,131,13],[122,5,122,13],[119,5,119,13],[120,5,120,13],[135,8,135,10],[132,4,132,13],[136,5,136,6],[142,5,142,6],[142,8,142,10],[141,12,141,13],[139,12,139,13],[5,11,5,13],[7,10,7,13],[9,3,9,13],[30,4,30,13],[11,3,11,13],[28,4,28,13],[24,4,24,13],[21,4,21,13],[22,4,22,13],[12,3,12,13],[18,4,18,13],[27,4,27,13],[26,4,26,13],[20,4,20,13],[23,4,23,13],[303,4,303,5],[14,4,14,13],[16,4,16,13],[32,4,32,13],[33,4,33,13],[34,4,34,13],[66,12,67,12],[66,13,67,13],[15,4,15,13],[17,4,17,13],[25,4,25,13],[80,12,81,12],[62,13,63,13],[39,4,39,13],[45,4,45,13],[49,4,49,13],[57,4,57,13],[46,4,46,13],[48,4,48,13],[52,4,52,13],[51,4,51,13],[149,8,149,10],[149,12,149,13],[138,8,138,10],[310,4,310,5],[310,6,310,13],[307,4,307,5],[307,6,307,13],[309,4,309,5],[306,6,306,13],[309,6,309,13],[308,4,308,5],[308,6,308,13],[302,6,302,13],[150,5,150,6],[150,8,150,10],[151,8,151,10],[78,5,79,6],[303,6,303,13],[305,6,305,13],[304,4,304,5],[304,6,304,13],[150,12,150,13],[167,4,167,5],[151,12,151,13],[302,4,302,5],[170,6,170,13],[152,5,152,6],[153,5,153,6],[166,4,166,5],[168,4,168,5],[275,6,275,13],[173,4,173,5],[151,5,151,6],[152,8,152,10],[160,4,160,13],[283,4,283,5],[283,6,283,13],[280,4,280,5],[280,6,280,13],[281,4,281,5],[281,6,281,13],[282,4,282,5],[282,6,282,13],[276,4,276,5],[276,6,276,13],[277,4,277,5],[277,6,277,13],[278,6,278,13],[279,6,279,13],[137,5,137,6],[171,4,171,5],[177,6,177,13],[137,12,137,13],[152,12,152,13],[148,12,148,13],[140,12,140,13],[137,8,137,10],[140,8,140,10],[169,6,169,13],[171,6,171,13],[161,4,161,13],[141,5,141,6],[146,12,146,13],[143,8,143,10],[144,8,144,10],[143,12,143,13],[145,5,145,6],[146,5,146,6],[140,5,140,6],[166,6,166,13],[176,6,176,13],[165,6,165,13],[139,8,139,10],[181,4,181,5],[182,4,182,5],[193,4,193,5],[180,6,180,13],[200,4,200,5],[191,6,191,13],[175,6,175,13],[177,4,177,5],[192,6,192,13],[195,6,195,13],[193,6,193,13],[178,6,178,13],[176,4,176,5],[199,4,199,5],[182,6,182,13],[178,4,178,5],[181,6,181,13],[179,6,179,13]]}
["ausblenden",null,null,null,null,null,null,null,null,null,null,null,null,null,null,"ausblenden","ausblenden","ausblenden","ausblenden","ausblenden","ausblenden","ausblenden","ausblenden"]
[null,{"$f":"Translations!$B$329","v":"D.\nMetodologija proračuna"},null,null,{"$f":"Translations!$B$59","v":"Navigacijsko područje:"},null,{"$f":"Translations!$B$60","v":"Sadržaj"},null,{"$f":"Translations!$B$61","v":"Prethodni list"},null,{"$f":"Translations!$B$62","v":"Sljedeći list"}]
[null,null,null,null,{"$f":"Translations!$B$63","v":"Vrh lista"},null,{"$f":"Translations!$B$274","v":"Opis"},null,{"$f":"Translations!$B$330","v":"Mjerni instrumenti"},null,{"$f":"Translations!$B$331","v":"Izvori informacija:"}]
[null,null,null,null,{"$f":"Translations!$B$64","v":"Dno lista"},null,{"$f":"Translations!$B$332","v":"Laboratoriji"},null,{"$f":"Translations!$B$333","v":"Procedure"}]
[]
[null,null,{"$f":"Translations!$B$16","v":"D. Metodologija proračuna"},null,null,null,null,null,null,null,null,{"$f":"IF(OR(CNTR_InstHasCalculation=TRUE,CNTR_InstHasPFC=TRUE),EUconst_Relevant,IF(COUNTA(CNTR_ListRelevantSections)>0,EUconst_NotRelevant,EUconst_Relevant))","v":"relevantno"}]
[]
[null,null,null,null,null,null,null,null,null,null,{"$f":"IF(L6=EUconst_NotRelevant,HYPERLINK(\"#JUMP_E_Top\",EUconst_MsgNextSheet),HYPERLINK(\"\",EUconst_MsgEnterThisSection))","v":"Molimo unesite podatke u ovo polje"}]
[]
[null,null,7,{"$f":"Translations!$B$17","v":"Izračun: Detalji potrebni za daljnje popunjavanje podataka u sljedećem listu"}]
[]
[null,null,null,{"$f":"Translations!$B$334","v":"Koristite ovaj list za davanje informacija potrebnih za metodologiju proračuna. Ovdje unesene informacije koriste se kao referenca za detaljne unose u sljedećem listu (E_Tokovi_Izvora)."}]
[null,null,null,{"$f":"Translations!$B$335","v":"Konkretno, popis mjernih instrumenata je potreban za praćenje podataka o aktivnostima, popis izvora informacija je potreban za zadane vrijednosti za faktore proračuna u skladu sa člankom 31. Uredbe, a analitičke metode će biti navedene u slučaju da su potrebne analize za faktore proračuna."}]
[]
[null,null,null,"(a)",{"$f":"Translations!$B$336","v":"Ukoliko je primjenjivo opišite metodologiju proračuna za praćenje emisija CO2 iz vašeg postrojenja:"}]
[null,null,null,null,{"$f":"Translations!$B$337","v":"Navedite kratak opis metodologije proračuna, uključujući i formule, korištene za utvrđivanje godišnje emisije CO2 u polju ispod."}]
[null,null,null,null,{"$f":"Translations!$B$338","v":"Ako je opis presložen, npr. ako su korištene složene formule, možete dati opis u zasebnom dokumentu pomoću formata prihvatljivog za nadležno tijelo. U tom slučaju molimo da ovdje stavite referencu na dokument, koristeći ime i datum dokumenta."}]
[null,null,null,null,{"$f":"Translations!$B$339","v":"Ovaj opis bi trebao pružiti povezane informacije koje su potrebne za razumijevanje informacija navedenih u drugim dijelovima ovog obrasca, a koje se  zajedno koriste za proračun emisija. Opis može biti kratak poput danog primjera."}]
[null,null,null,null,{"$f":"Translations!$B$1166","v":"Ako su emisije iz proizvodnih procesa relevantne, jasno opišite uključuje li izračun anorganski ugljik (karbonati), organski ugljik ili oboje, u skladu s odjeljkom 4. Priloga II. Uredbe o praćenju i izvješćivanju."},null,null,null,null,null,null,null,null,null,null,null,null,null,null,null,null,null,"Make grey?"]
[]
["HIDE_Example",null,null,null,{"$f":"Translations!$B$340","v":"U principu, metodologija proračuna korištena za ovo postrojenje napravljena je u skladu sa sljedećim postavkama:"}]
["HIDE_Example",null,null,null,{"$f":"Translations!$B$341","v":"a) za svaki tok izvora, gdje su korištene zadane vrijednosti faktora proračuna (prirodni plin, mazut i svi manji tokovi izvora), podaci o aktivnosti se prvo zbrajaju, a potom se koristi računska formula sukladno članku 24. stavak 1. Uredbe"}]
["HIDE_Example",null,null,null,{"$f":"Translations!$B$342","v":"b) za svaki tok izvora, gdje se rezultati analiza koriste za faktore proračuna (ugljen, sirovine), podaci o djelatnostima i faktori proračuna za svaku šaržu, na koje se analize odnose, unose se u formulu proračuna prema članku  24. stavak 1. Uredbe. Dobivene emisije svake šarže se zatim zbrajaju i predstavljaju godišnje emisije toka izvora."}]
["HIDE_Example",null,null,null,{"$f":"Translations!$B$343","v":"c) u slučaju b) za izvješćivanje se određuje ponderirani prosjek faktora proračuna."}]
["HIDE_Example",null,null,null,{"$f":"Translations!$B$344","v":"d) emisije svih tokova izvora se zbrajaju u ukupnu godišnju emisiju postrojenja."}]
["HIDE_Example",null,null,null,{"$f":"Translations!$B$345","v":"Za kruta goriva, koristi se mjerenje šarže u skladu s člankom 27. stavak 2. Uredbe. Svi drugi tokovi izvora prate se pomoću kontinuiranog mjerenja."}]
["HIDE_Example",null,null,null,{"$f":"Translations!$B$346","v":"Svi detalji o tokovima izvora (određivanje podataka o djelatnostima, utvrđivanje faktora proračuna) navedeni su u drugim dijelovima ovog plana praćenja."}]
[null,null,null,null,null,null,null,null,null,null,null,null,null,null,null,null,null,null,null,null,null,null,{"$f":"IF(L6=EUconst_NotRelevant,TRUE,FALSE)","v":false}]
[]
[]
[]
[]
[]
[]
[]
[]
[]
[]
[]
[]
[]
[]
[]
[]
[]
[]
[]
[]
[null,null,null,"(b)",{"$f":"Translations!$B$347","v":"Specifikacija i lokacija mjernih sustava za određivanje podataka o djelatnostima za tokove izvora:"}]
[null,null,null,null,{"$f":"Translations!$B$348","v":"Opišite specifikaciju i lokaciju mjernih sustava koji će se koristiti za svaki tok izvora gdje se emisije određuju proračunom."}]
[null,null,null,null,{"$f":"Translations!$B$349","v":"Pod \"Lokacija\" treba specificirati gdje se u postrojenju nalazi mjerilo, i kako je označeno na shemi tijeka procesa."}]
[null,null,null,null,{"$f":"Translations!$B$350","v":"Za svaki mjerni instrument unesite određenu nesigurnost, uključujući raspon na koji se odnosi nesigurnosti, kako je navedeno u specifikaciji proizvođača. U nekim slučajevima nesigurnost se može odrediti za dva različita raspona. U tom slučaju unesite oba."}]
[null,null,null,null,{"$f":"Translations!$B$351","v":"Uobičajeni raspon korištenja odnosi se na raspon vrijednosti za relevantni mjerni instrument koji se koristi u vašem postrojenju. "}]
[null,null,null,null,{"$f":"Translations!$B$352","v":"Potrebno je opisati sve mjerne instrumente koji su relevantni za praćenje emisija, uključujući glavna i kontrolna mjerila koji se koriste za oduzimanje količina goriva i/ili sirovina koje se koriste izvan granica postrojenja. Mjerni uređaji koji se koriste za kontinuirano mjerenje emisije (CEMS) trebaju se specificirati u listu F_Metodologija_Mjerenja, poglavlje 9.c."}]
[null,null,null,null,{"$f":"Translations!$B$353","v":"\"Tip mjernog instrumenta\": odaberite odgovarajući tip iz padajućeg izbornika ili unesite tip koji Vam bolje odgovara."}]
[null,null,null,null,{"$f":"Translations!$B$354","v":"Ovdje unesen popis instrumenata bit će na raspolaganju kao padajući izbornik za svaki tok izvora u listu E_Tokovi_Izvora (točka b) s pripadajućim oznakama korištenih mjernih instrumenta."}]
[null,null,null,null,{"$f":"Translations!$B$355","v":"U slučaju mjerila protoka plina navedite Nm³/h ukoliko je kompenzacija p/T uključena u instrument.  Navedite m³ ukoliko je kompenzacija p/T napravljena pomoću posebnog instrumenta te navedite o kojem se posebnom instrumentu radi."}]
[null,null,null,null,{"$f":"Translations!$B$356","v":"Svi instrumenti koji se koriste moraju biti jasno prepoznatljivi na temelju jedinstvenog ID-a (kao što je serijski broj instrumenta). Promjena instrumenata (npr. potrebno primjerice zbog posljedice oštećenja) neće predstavljati značajnu promjenu plana praćenja u smislu članka 15. stavak 3. Uredbe. Jedinstvena identifikacija bi stoga trebala biti dokumentirana odvojeno od plana praćenja  i za to imati odgovarajuću pisanu proceduru."}]
[null,null,null,null,{"$f":"Translations!$B$135","v":"Za prikazivanje/skrivanje primjera, pritisnite na kućicu \"Primjeri\" unutar navigacijskog područja."}]
[]
[null,null,null,null,{"$f":"Translations!$B$357","v":"Oznaka"},{"$f":"Translations!$B$358","v":"Tip mjernog instrumenta"},null,{"$f":"Translations!$B$359","v":"lokacija (interni ID)"},{"$f":"Translations!$B$360","v":"Raspon mjerenja"},null,null,{"$f":"Translations!$B$361","v":"Specificirana\nnesigurnost\n(+/-%)"},{"$f":"Translations!$B$362","v":"Uobičajen raspon korištenja"}]
[null,null,null,null,null,null,null,null,{"$f":"Translations!$B$363","v":"jedinica"},{"$f":"Translations!$B$364","v":"donja granica"},{"$f":"Translations!$B$365","v":"gornja granica"},null,{"$f":"Translations!$B$364","v":"donja granica"},{"$f":"Translations!$B$365","v":"gornja granica"},null,null,null,null,"Sorting","Sorting","Sorting","Sorting"]
["HIDE_Example",null,null,null,"MI01",{"$f":"Translations!$B$366","v":"Rotametar"},null,"UBA RM-27","Nm³/h",0,250,3,500,750]
["HIDE_Example",null,null,null,null,null,null,null,null,250,1000,1.5]
["HIDE_Example",null,null,null,"MI02",{"$f":"Translations!$B$367","v":"Kolna vaga"},null,"WB-342","Kg",3000,40000,0.6,7500,40000]
["HIDE_Example"]
[null,null,null,null,"MI1",null,null,null,null,null,null,null,null,null,null,null,null,1,1,{"$f":"IF(ISBLANK(F67),\"\",MAX(T$66:T66)+1)","v":""},{"$f":"IF(ISBLANK(F67),\"\",E67 & \": \" &F67)","v":""},{"$f":"IF(COUNTIF($T$67:$T$88,R67)=1,INDEX($U$67:$U$88,MATCH(R67,$T$67:$T$88,0)),EUconst_NA)","v":"nije primjenjivo"}]
[null,null,null,null,null,null,null,null,null,null,null,null,null,null,null,null,null,2,null,null,null,"nije primjenjivo"]
[null,null,null,null,"MI2",null,null,null,null,null,null,null,null,null,null,null,null,3,2,{"$f":"IF(ISBLANK(F69),\"\",MAX(T$66:T68)+1)","v":""},{"$f":"IF(ISBLANK(F69),\"\",E69 & \": \" &F69)","v":""},"nije primjenjivo"]
[null,null,null,null,null,null,null,null,null,null,null,null,null,null,null,null,null,4,null,null,null,"nije primjenjivo"]
[null,null,null,null,"MI3",null,null,null,null,null,null,null,null,null,null,null,null,5,3,{"$f":"IF(ISBLANK(F71),\"\",MAX(T$66:T70)+1)","v":""},{"$f":"IF(ISBLANK(F71),\"\",E71 & \": \" &F71)","v":""},"nije primjenjivo"]
[null,null,null,null,null,null,null,null,null,null,null,null,null,null,null,null,null,6,null,null,null,"nije primjenjivo"]
[null,null,null,null,"MI4",null,null,null,null,null,null,null,null,null,null,null,null,7,4,{"$f":"IF(ISBLANK(F73),\"\",MAX(T$66:T72)+1)","v":""},{"$f":"IF(ISBLANK(F73),\"\",E73 & \": \" &F73)","v":""},"nije primjenjivo"]
[null,null,null,null,null,null,null,null,null,null,null,null,null,null,null,null,null,8,null,null,null,"nije primjenjivo"]
[null,null,null,null,"MI5",null,null,null,null,null,null,null,null,null,null,null,null,9,5,{"$f":"IF(ISBLANK(F75),\"\",MAX(T$66:T74)+1)","v":""},{"$f":"IF(ISBLANK(F75),\"\",E75 & \": \" &F75)","v":""},"nije primjenjivo"]
[null,null,null,null,null,null,null,null,null,null,null,null,null,null,null,null,null,10,null,null,null,"nije primjenjivo"]
[null,null,null,null,"MI6",null,null,null,null,null,null,null,null,null,null,null,null,11,6,{"$f":"IF(ISBLANK(F77),\"\",MAX(T$66:T76)+1)","v":""},{"$f":"IF(ISBLANK(F77),\"\",E77 & \": \" &F77)","v":""},"nije primjenjivo"]
[null,null,null,null,null,null,null,null,null,null,null,null,null,null,null,null,null,12,null,null,null,"nije primjenjivo"]
[null,null,null,null,"MI7",null,null,null,null,null,null,null,null,null,null,null,null,13,7,{"$f":"IF(ISBLANK(F79),\"\",MAX(T$66:T78)+1)","v":""},{"$f":"IF(ISBLANK(F79),\"\",E79 & \": \" &F79)","v":""},"nije primjenjivo"]
[null,null,null,null,null,null,null,null,null,null,null,null,null,null,null,null,null,14,null,null,null,"nije primjenjivo"]
[null,null,null,null,"MI8",null,null,null,null,null,null,null,null,null,null,null,null,15,8,{"$f":"IF(ISBLANK(F81),\"\",MAX(T$66:T80)+1)","v":""},{"$f":"IF(ISBLANK(F81),\"\",E81 & \": \" &F81)","v":""},"nije primjenjivo"]
[null,null,null,null,null,null,null,null,null,null,null,null,null,null,null,null,null,16,null,null,null,"nije primjenjivo"]
[null,null,null,null,"MI9",null,null,null,null,null,null,null,null,null,null,null,null,17,9,{"$f":"IF(ISBLANK(F83),\"\",MAX(T$66:T82)+1)","v":""},{"$f":"IF(ISBLANK(F83),\"\",E83 & \": \" &F83)","v":""},"nije primjenjivo"]
[null,null,null,null,null,null,null,null,null,null,null,null,null,null,null,null,null,18,null,null,null,"nije primjenjivo"]
[null,null,null,null,"MI10",null,null,null,null,null,null,null,null,null,null,null,null,19,10,{"$f":"IF(ISBLANK(F85),\"\",MAX(T$66:T84)+1)","v":""},{"$f":"IF(ISBLANK(F85),\"\",E85 & \": \" &F85)","v":""},"nije primjenjivo"]
[null,null,null,null,null,null,null,null,null,null,null,null,null,null,null,null,null,20,null,null,null,"nije primjenjivo"]
["ausblenden",null,null,null,null,null,null,null,null,null,null,null,null,null,null,null,null,null,null,{"$f":"IF(ISBLANK(F87),\"\",MAX(T$66:T86)+1)","v":""},{"$f":"IF(ISBLANK(F87),\"\",E87 & \": \" &F87)","v":""},"nije primjenjivo"]
["ausblenden",null,null,null,null,null,null,null,null,null,null,null,null,null,null,null,null,null,null,null,null,"nije primjenjivo"]
["ADD_MeasurementInstrument"]
[null,null,null,null,null,null,{"$f":"Translations!$B$368","v":"Pritisnite \"+\" kako bi dodali više mjernih instrumenata"}]
[]
[]
[]
[null,null,null,"(c)",{"$f":"Translations!$B$369","v":"Naslov i referenca dokumenta za procjenu izračuna nesigurnosti:"},null,null,null,null,null,null,null,null,null,null,null,null,null,null,null,null,null,{"$f":"CNTR_SmallEmitter=TRUE","v":false}]
[null,null,null,null,{"$f":"Translations!$B$370","v":"Morate osigurati dokaze o usklađenosti s primijenjenim razinama točnosti, u skladu s člankom 12. Uredbe. Navedite reference o izračunu nesigurnosti i/ili shematske prikaze u polje iznad."}]
[null,null,null,null,{"$f":"Translations!$B$371","v":"Imajte na umu da u skladu s člankom 47. stavkom 3. Uredbe, postrojenja s niskim emisijama ne moraju podnijeti ovaj dokument nadležnom tijelu."}]
[]
[null,null,null,"(d)",{"$f":"Translations!$B$372","v":"Popis izvora informacija za zadane vrijednosti faktora proračuna:"}]
[null,null,null,null,{"$f":"Translations!$B$373","v":"Navedite sve relevantne izvore informacija, iz kojih ste izveli zadane vrijednosti za faktore proračuna u skladu s člankom 31. Uredbe"}]
[null,null,null,null,{"$f":"Translations!$B$374","v":"Preproruka je da se koristi Uredba Prilog VI, Izvješće o inventaru stakleničkih plinova za područje RH (NIR), IPCC…"}]
[null,null,null,null,{"$f":"Translations!$B$375","v":"Ukoliko zadane vrijednosti operater uzima iz NIR-a, potrebno je navesti referencu na Izvješće o inventaru stakleničkih plinova na području RH (npr. NIR 2021). Izvješće NIR nalazi se na internetskim stranica nadležnog tijela (MZOZT-a i ZZOIP-a)."}]
[null,null,null,null,{"$f":"Translations!$B$376","v":"Ovaj popis će biti dostupan kao padajući izbornik u listu E_Tokovi_izvora tablica (g) s pripadajućim oznakama na izvore informacija s relevantnim faktorima proračuna za svaki tok izvora."}]
[null,null,null,null,{"$f":"Translations!$B$135","v":"Za prikazivanje/skrivanje primjera, pritisnite na kućicu \"Primjeri\" unutar navigacijskog područja."}]
[]
[null,null,null,null,{"$f":"Translations!$B$377","v":"Oznaka izvora informacija "},{"$f":"Translations!$B$378","v":"Opis izvora informacija"},null,null,null,null,null,null,null,null,null,null,null,null,null,"Sorting",null,"Sorting","Sorting"]
["HIDE_Example",null,null,null,"IS01",{"$f":"Translations!$B$379","v":"Nacionalni inventar stakleničkih plinova, ažuriran na godišnjoj razini (http://www.haop.hr/hr/tematska-podrucja/zrak-klima-tlo/klimatske-promjene). Koriste se najnovije vrijednosti objavljene u tekućoj godini. "}]
["HIDE_Example",null,null,null,"IS02",{"$f":"Translations!$B$380","v":"Handbook of Chemistry and Physics, 92. izdanje, http://www.hbcpnetbase.com/"}]
["HIDE_Example",null,null,null,"IS03",{"$f":"Translations!$B$381","v":"DOV i EF analize za tok izvora \"mazut\" NIR-a 2013.g."}]
[null,null,null,null,"IS1",null,null,null,null,null,null,null,null,null,null,null,null,null,null,1,null,{"$f":"IF(ISBLANK(F109),\"\",MAX(V$107:V107)+1)","v":""},{"$f":"IF(COUNTIF($V$109:$V$124,T109)=1,INDEX($E$109:$E$124,MATCH(T109,$V$109:$V$124,0)) & \": \" & INDEX($F$109:$F$124,MATCH(T109,$V$109:$V$124,0)),EUconst_NA)","v":"nije primjenjivo"}]
[null,null,null,null,"IS2",null,null,null,null,null,null,null,null,null,null,null,null,null,null,2,null,{"$f":"IF(ISBLANK(F110),\"\",MAX(V$107:V109)+1)","v":""},"nije primjenjivo"]
[null,null,null,null,"IS3",null,null,null,null,null,null,null,null,null,null,null,null,null,null,3,null,{"$f":"IF(ISBLANK(F111),\"\",MAX(V$107:V110)+1)","v":""},"nije primjenjivo"]
[null,null,null,null,"IS4",null,null,null,null,null,null,null,null,null,null,null,null,null,null,4,null,{"$f":"IF(ISBLANK(F112),\"\",MAX(V$107:V111)+1)","v":""},"nije primjenjivo"]
[null,null,null,null,"IS5",null,null,null,null,null,null,null,null,null,null,null,null,null,null,5,null,{"$f":"IF(ISBLANK(F113),\"\",MAX(V$107:V112)+1)","v":""},"nije primjenjivo"]
[null,null,null,null,"IS6",null,null,null,null,null,null,null,null,null,null,null,null,null,null,6,null,{"$f":"IF(ISBLANK(F114),\"\",MAX(V$107:V113)+1)","v":""},"nije primjenjivo"]
[null,null,null,null,"IS7",null,null,null,null,null,null,null,null,null,null,null,null,null,null,7,null,{"$f":"IF(ISBLANK(F115),\"\",MAX(V$107:V114)+1)","v":""},"nije primjenjivo"]
[null,null,null,null,"IS8",null,null,null,null,null,null,null,null,null,null,null,null,null,null,8,null,{"$f":"IF(ISBLANK(F116),\"\",MAX(V$107:V115)+1)","v":""},"nije primjenjivo"]
[null,null,null,null,"IS9",null,null,null,null,null,null,null,null,null,null,null,null,null,null,9,null,{"$f":"IF(ISBLANK(F117),\"\",MAX(V$107:V116)+1)","v":""},"nije primjenjivo"]
[null,null,null,null,"IS10",null,null,null,null,null,null,null,null,null,null,null,null,null,null,10,null,{"$f":"IF(ISBLANK(F118),\"\",MAX(V$107:V117)+1)","v":""},"nije primjenjivo"]
[null,null,null,null,"IS11",null,null,null,null,null,null,null,null,null,null,null,null,null,null,11,null,{"$f":"IF(ISBLANK(F119),\"\",MAX(V$107:V118)+1)","v":""},"nije primjenjivo"]
[null,null,null,null,"IS12",null,null,null,null,null,null,null,null,null,null,null,null,null,null,12,null,{"$f":"IF(ISBLANK(F120),\"\",MAX(V$107:V119)+1)","v":""},"nije primjenjivo"]
[null,null,null,null,"IS13",null,null,null,null,null,null,null,null,null,null,null,null,null,null,13,null,{"$f":"IF(ISBLANK(F121),\"\",MAX(V$107:V120)+1)","v":""},"nije primjenjivo"]
[null,null,null,null,"IS14",null,null,null,null,null,null,null,null,null,null,null,null,null,null,14,null,{"$f":"IF(ISBLANK(F122),\"\",MAX(V$107:V121)+1)","v":""},"nije primjenjivo"]
[null,null,null,null,"IS15",null,null,null,null,null,null,null,null,null,null,null,null,null,null,15,null,{"$f":"IF(ISBLANK(F123),\"\",MAX(V$107:V122)+1)","v":""},"nije primjenjivo"]
["ausblenden",null,null,null,null,null,null,null,null,null,null,null,null,null,null,null,null,null,null,null,null,{"$f":"IF(ISBLANK(F124),\"\",MAX(V$107:V123)+1)","v":""},"nije primjenjivo"]
["ADD_InformationSources"]
[null,null,null,null,null,null,{"$f":"Translations!$B$382","v":"Pritisnite \"+\" kako bi dodali više izvora informacija"}]
[]
[]
[]
[null,null,null,"(e)",{"$f":"Translations!$B$383","v":"Laboratoriji i analitičke metode korištene za određivanje faktora proračuna:"}]
[null,null,null,null,{"$f":"Translations!$B$384","v":"Navedite sve analitičke metode koje se koriste za analizu goriva i sirovina za određivanje svih faktora proračuna gdje je to primjenjivo s obzirom na odabranu razinu. Tamo gdje laboratorij nije akreditiran sukladno normi HRN EN ISO / IEC 17025, dužni ste pružiti dokaze da je laboratorij tehnički osposobljen u skladu s člankom 34.Uredbe. Za tu svrhu navedite referencu na priloženi dokument."}]
[null,null,null,null,{"$f":"Translations!$B$385","v":"Kada se koriste online plinski kromatografi ili ekstraktivni ili neekstraktivni analizatori plina, moraju se ispuniti zahtjevi iz članka 32. Uredbe"}]
[null,null,null,null,{"$f":"Translations!$B$386","v":"Ovaj popis će biti dostupan kao padajući izbornik u listu E_Tokovi_Izvora tablica (g) za upućivanje na analitičke metode za relevantne faktore proračuna za svaki tok izvora."}]
[null,null,null,null,{"$f":"Translations!$B$135","v":"Za prikazivanje/skrivanje primjera, pritisnite na kućicu \"Primjeri\" unutar navigacijskog područja."}]
[]
[null,null,null,null,{"$f":"Translations!$B$387","v":"Oznaka laboratorija"},{"$f":"Translations!$B$388","v":"Ime laboratorija"},null,{"$f":"Translations!$B$389","v":"Analitički parametar"},{"$f":"Translations!$B$390","v":"Analitička metoda\n(uključujući oznaku procedure i kratki opis metode)"},null,null,{"$f":"Translations!$B$391","v":"Je li laboratorij  akreditiran sukladno normi HRN EN ISO/IEC 17025 za ovu analizu?"},{"$f":"Translations!$B$392","v":"Ako nije, navedite oznaku dokumenta u kojem se referirate na taj dokaz."},null,null,null,null,null,null,"Sorting",null,"Sorting","Sorting"]
["HIDE_Example",null,null,null,"L01",{"$f":"Translations!$B$393","v":"Laboratorij d.o.o."},null,{"$f":"Translations!$B$394","v":"Sadržaj ugljika"},{"$f":"Translations!$B$395","v":"HRN EN 15104:2011. Vidi postupak ANA-1233/UBA"},null,null,true]
["HIDE_Example",null,null,null,"L02",{"$f":"Translations!$B$396","v":"Analiza d.o.o."},null,{"$f":"Translations!$B$397","v":"Udio biomase"},{"$f":"Translations!$B$398","v":"HRN EN 15440:2011 - postoje određena odstupanja u veličini uzorka i obradi. Vidi postupak ANA-1234/UBA"},null,null,false,{"$f":"Translations!$B$399","v":"Lab_kompetentnost.pdf, 2/3/2012"}]
[null,null,null,null,"L1",null,null,null,null,null,null,null,null,null,null,null,null,null,null,1,null,{"$f":"IF(ISBLANK(F139),\"\",MAX(V$138:V138)+1)","v":""},{"$f":"IF(COUNTIF($V$139:$V$154,T139)=1,INDEX($E$139:$E$154,MATCH(T139,$V$139:$V$154,0))& \": \" &INDEX($F$139:$F$154,MATCH(T139,$V$139:$V$154,0)),EUconst_NA)","v":"nije primjenjivo"}]
[null,null,null,null,"L2",null,null,null,null,null,null,null,null,null,null,null,null,null,null,2,null,{"$f":"IF(ISBLANK(F140),\"\",MAX(V$138:V139)+1)","v":""},"nije primjenjivo"]
[null,null,null,null,"L3",null,null,null,null,null,null,null,null,null,null,null,null,null,null,3,null,{"$f":"IF(ISBLANK(F141),\"\",MAX(V$138:V140)+1)","v":""},"nije primjenjivo"]
[null,null,null,null,"L4",null,null,null,null,null,null,null,null,null,null,null,null,null,null,4,null,{"$f":"IF(ISBLANK(F142),\"\",MAX(V$138:V141)+1)","v":""},"nije primjenjivo"]
[null,null,null,null,"L5",null,null,null,null,null,null,null,null,null,null,null,null,null,null,5,null,{"$f":"IF(ISBLANK(F143),\"\",MAX(V$138:V142)+1)","v":""},"nije primjenjivo"]
[null,null,null,null,"L6",null,null,null,null,null,null,null,null,null,null,null,null,null,null,6,null,{"$f":"IF(ISBLANK(F144),\"\",MAX(V$138:V143)+1)","v":""},"nije primjenjivo"]
[null,null,null,null,"L7",null,null,null,null,null,null,null,null,null,null,null,null,null,null,7,null,{"$f":"IF(ISBLANK(F145),\"\",MAX(V$138:V144)+1)","v":""},"nije primjenjivo"]
[null,null,null,null,"L8",null,null,null,null,null,null,null,null,null,null,null,null,null,null,8,null,{"$f":"IF(ISBLANK(F146),\"\",MAX(V$138:V145)+1)","v":""},"nije primjenjivo"]
[null,null,null,null,"L9",null,null,null,null,null,null,null,null,null,null,null,null,null,null,9,null,{"$f":"IF(ISBLANK(F147),\"\",MAX(V$138:V146)+1)","v":""},"nije primjenjivo"]
[null,null,null,null,"L10",null,null,null,null,null,null,null,null,null,null,null,null,null,null,10,null,{"$f":"IF(ISBLANK(F148),\"\",MAX(V$138:V147)+1)","v":""},"nije primjenjivo"]
[null,null,null,null,"L11",null,null,null,null,null,null,null,null,null,null,null,null,null,null,11,null,{"$f":"IF(ISBLANK(F149),\"\",MAX(V$138:V148)+1)","v":""},"nije primjenjivo"]
[null,null,null,null,"L12",null,null,null,null,null,null,null,null,null,null,null,null,null,null,12,null,{"$f":"IF(ISBLANK(F150),\"\",MAX(V$138:V149)+1)","v":""},"nije primjenjivo"]
[null,null,null,null,"L13",null,null,null,null,null,null,null,null,null,null,null,null,null,null,13,null,{"$f":"IF(ISBLANK(F151),\"\",MAX(V$138:V150)+1)","v":""},"nije primjenjivo"]
[null,null,null,null,"L14",null,null,null,null,null,null,null,null,null,null,null,null,null,null,14,null,{"$f":"IF(ISBLANK(F152),\"\",MAX(V$138:V151)+1)","v":""},"nije primjenjivo"]
[null,null,null,null,"L15",null,null,null,null,null,null,null,null,null,null,null,null,null,null,15,null,{"$f":"IF(ISBLANK(F153),\"\",MAX(V$138:V152)+1)","v":""},"nije primjenjivo"]
["ausblenden",null,null,null,null,null,null,null,null,null,null,null,null,null,null,null,null,null,null,null,null,{"$f":"IF(ISBLANK(F154),\"\",MAX(V$138:V153)+1)","v":""},"nije primjenjivo"]
["ADD_Laboratories"]
[null,null,null,null,null,null,{"$f":"Translations!$B$400","v":"Pritisnite \"+\" kako bi dodali više metoda & laboratorija"}]
[]
[]
[]
[null,null,null,"(f)",{"$f":"Translations!$B$401","v":"Opis pisanih pstupaka za analize:"}]
[null,null,null,null,{"$f":"Translations!$B$402","v":"Navedite pojedinosti o pisanim postupcima za analize navedene u tablici 7(e).Opis bi trebao obuhvatiti osnovne parametre i postupke koji se provode."}]
[null,null,null,null,{"$f":"Translations!$B$403","v":"Gdje se više postupaka koristi u slične svrhe, ali za različite tokove izvora ili parametre, navedite zajedničke elemente i osiguranje kvalitete primijenjenih postupaka."}]
[null,null,null,null,{"$f":"Translations!$B$404","v":"Ovdje možete navesti oznake pojedinih \"podpostupaka\". Ukoliko želite možete dati opise svakog relevantnog postupka odvojeno, pri tome kliknite na \"Pritisnite \"+\" kako bi dodali više postupaka\"  na kraju ovog lista. Navedite jasnu oznaku na odgovarajući (pod)postupak u poglavlju 8  List E_Tokovi_Izvora, tablica (g)."}]
[null,null,null,null,{"$f":"Translations!$B$135","v":"Za prikazivanje/skrivanje primjera, pritisnite na kućicu \"Primjeri\" unutar navigacijskog područja."}]
[]
["HIDE_Example",null,null,null,{"$f":"Translations!$B$405","v":"Naziv postupka"},null,{"$f":"Translations!$B$406","v":"Analiza DOV krutih i tekućih goriva."}]
["HIDE_Example",null,null,null,{"$f":"Translations!$B$407","v":"Oznaka postupka"},null,{"$f":"Translations!$B$408","v":"Kruta goriva: ANA 1-1/UBA; Tekuća goriva: ANA 1-2/UBA; Usporedba s vanjskim (akreditiranim) laboratorijem: ANA 1-3/ext"}]
["HIDE_Example",null,null,null,{"$f":"Translations!$B$409","v":"Oznaka dijagrama (ukoliko je primjenjivo)"},null,{"$f":"Translations!$B$410","v":"N.P. nije primjenjivo"}]
["HIDE_Example",null,null,null,{"$f":"Translations!$B$411","v":"Kratki opis postupka"},null,{"$f":"Translations!$B$412","v":"Koristi se  kalorimetrijska bomba. Odgovarajuća količina uzorka temelji se na iskustvima iz ranijih mjerenja na sličnim materijalima.\nUzorci se koriste u suhom stanju (sušeni na 120°C najmanje 6 h). DOV se korigira s obzirom na sadržaj vlage."}]
["HIDE_Example",null,null,null,null,null,{"$f":"Translations!$B$413","v":"Kruta goriva: kao i u normi. Tekuća goriva: samo djelomično prilagođena normi; uzorci nisu sušeni."}]
["HIDE_Example"]
["HIDE_Example",null,null,null,{"$f":"Translations!$B$414","v":"Ustrojstvena jedinica tvrtke odgovorna za postupke i za obradu podataka."},null,{"$f":"Translations!$B$415","v":"Pogonski laboratorij  - Voditelj odjela. Zamjenik: Voditelj kvalitete."}]
["HIDE_Example",null,null,null,{"$f":"Translations!$B$416","v":"Lokacija na kojoj se pohranjuju zapisi"},null,{"$f":"Translations!$B$417","v":"Tiskani primjerak: Ured laboratorija, ormar xy, naziv mape “ETS 01-ANA-yyyy”  (yyyy predstavlja tekuću  godinu).\nElektronički: “P:\\ETS_MRV\\labs\\ETS_01-ANA-yyyy.xls”\n"}]
["HIDE_Example",null,null,null,{"$f":"Translations!$B$418","v":"Naziv informatičkog sustava koji se koristi (ako je primjenjivo)."},null,{"$f":"Translations!$B$419","v":"Interna evidencija laboratorija (MS Access datoteka): brojevi uzoraka i porijeklo/naziv uzoraka mogu se pratiti zajedno s pripadajućim rezultatima."}]
["HIDE_Example",null,null,null,{"$f":"Translations!$B$420","v":"Popis HRN EN i ostalih primjenjenih normi (ako je primjenjivo)"},null,{"$f":"Translations!$B$421","v":"HRN EN 14918:2010 s izmjenama za analize tekućih goriva i uzoraka koji nisu biomasa."}]
[null,null,null,null,{"$f":"Translations!$B$405","v":"Naziv postupka"}]
[null,null,null,null,{"$f":"Translations!$B$407","v":"Oznaka postupka"}]
[null,null,null,null,{"$f":"Translations!$B$409","v":"Oznaka dijagrama (ukoliko je primjenjivo)"}]
[null,null,null,null,{"$f":"Translations!$B$411","v":"Kratki opis postupka"}]
[]
[]
[null,null,null,null,{"$f":"Translations!$B$414","v":"Ustrojstvena jedinica tvrtke odgovorna za postupke i za obradu podataka."}]
[null,null,null,null,{"$f":"Translations!$B$416","v":"Lokacija na kojoj se pohranjuju zapisi"}]
[null,null,null,null,{"$f":"Translations!$B$418","v":"Naziv informatičkog sustava koji se koristi (ako je primjenjivo)."}]
[null,null,null,null,{"$f":"Translations!$B$420","v":"Popis HRN EN i ostalih primjenjenih normi (ako je primjenjivo)"}]
[]
[null,null,null,"(g)",{"$f":"Translations!$B$422","v":"Opis postupka za planove uzorkovanja:"}]
[null,null,null,null,{"$f":"Translations!$B$423","v":"Postupci u nastavku trebaju opisati elemente plana uzorkovanja sukladno članku 33. Uredbe. Kopiju postupka treba dostaviti nadležnom tijelu zajedno s planom praćenja."}]
[null,null,null,null,{"$f":"Translations!$B$403","v":"Gdje se više postupaka koristi u slične svrhe, ali za različite tokove izvora ili parametre, navedite zajedničke elemente i osiguranje kvalitete primijenjenih postupaka."}]
[null,null,null,null,{"$f":"Translations!$B$404","v":"Ovdje možete navesti oznake pojedinih \"podpostupaka\". Ukoliko želite možete dati opise svakog relevantnog postupka odvojeno, pri tome kliknite na \"Pritisnite \"+\" kako bi dodali više postupaka\"  na kraju ovog lista. Navedite jasnu oznaku na odgovarajući (pod)postupak u poglavlju 8  List E_Tokovi_Izvora, tablica (g)."}]
[]
[null,null,null,null,{"$f":"Translations!$B$405","v":"Naziv postupka"}]
[null,null,null,null,{"$f":"Translations!$B$407","v":"Oznaka postupka"}]
[null,null,null,null,{"$f":"Translations!$B$409","v":"Oznaka dijagrama (ukoliko je primjenjivo)"}]
[null,null,null,null,{"$f":"Translations!$B$411","v":"Kratki opis postupka"}]
[]
[]
[null,null,null,null,{"$f":"Translations!$B$414","v":"Ustrojstvena jedinica tvrtke odgovorna za postupke i za obradu podataka."}]
[null,null,null,null,{"$f":"Translations!$B$416","v":"Lokacija na kojoj se pohranjuju zapisi"}]
[null,null,null,null,{"$f":"Translations!$B$418","v":"Naziv informatičkog sustava koji se koristi (ako je primjenjivo)."}]
[null,null,null,null,{"$f":"Translations!$B$420","v":"Popis HRN EN i ostalih primjenjenih normi (ako je primjenjivo)"}]
[]
[null,null,null,"(h)",{"$f":"Translations!$B$424","v":"Opis postupka za provjeru primjenjivosti provedbe plana uzorkovanja:"}]
[]
[null,null,null,null,{"$f":"Translations!$B$405","v":"Naziv postupka"}]
[null,null,null,null,{"$f":"Translations!$B$407","v":"Oznaka postupka"}]
[null,null,null,null,{"$f":"Translations!$B$409","v":"Oznaka dijagrama (ukoliko je primjenjivo)"}]
[null,null,null,null,{"$f":"Translations!$B$411","v":"Kratki opis postupka"}]
[]
[]
[null,null,null,null,{"$f":"Translations!$B$414","v":"Ustrojstvena jedinica tvrtke odgovorna za postupke i za obradu podataka."}]
[null,null,null,null,{"$f":"Translations!$B$416","v":"Lokacija na kojoj se pohranjuju zapisi"}]
[null,null,null,null,{"$f":"Translations!$B$418","v":"Naziv informatičkog sustava koji se koristi (ako je primjenjivo)."}]
[null,null,null,null,{"$f":"Translations!$B$420","v":"Popis HRN EN i ostalih primjenjenih normi (ako je primjenjivo)"}]
[]
[null,null,null,"(i)",{"$f":"Translations!$B$425","v":"Opis postupka za procjenu zaliha na početku/kraju izvještajne godine (ako je primjenjivo):"}]
[null,null,null,null,{"$f":"Translations!$B$426","v":"Opišite postupke koji će se koristiti za procjenu promjena zaliha svih tokova izvora koji se prate šaržno, npr.navedite gdje se koriste fakture "}]
[]
[null,null,null,null,{"$f":"Translations!$B$405","v":"Naziv postupka"}]
[null,null,null,null,{"$f":"Translations!$B$407","v":"Oznaka postupka"}]
[null,null,null,null,{"$f":"Translations!$B$409","v":"Oznaka dijagrama (ukoliko je primjenjivo)"}]
[null,null,null,null,{"$f":"Translations!$B$411","v":"Kratki opis postupka"}]
[]
[]
[null,null,null,null,{"$f":"Translations!$B$414","v":"Ustrojstvena jedinica tvrtke odgovorna za postupke i za obradu podataka."}]
[null,null,null,null,{"$f":"Translations!$B$416","v":"Lokacija na kojoj se pohranjuju zapisi"}]
[null,null,null,null,{"$f":"Translations!$B$418","v":"Naziv informatičkog sustava koji se koristi (ako je primjenjivo)."}]
[null,null,null,null,{"$f":"Translations!$B$420","v":"Popis HRN EN i ostalih primjenjenih normi (ako je primjenjivo)"}]
[]
[null,null,null,"(j)",{"$f":"Translations!$B$427","v":"Opis postupka za nadzor instrumenata instaliranih u postrojenju koji se koriste za određivanje podataka o aktivnosti"}]
[null,null,null,null,{"$f":"Translations!$B$428","v":"Ovj postupak je relevantan samo kad operater koristi mjerne instrumente koji su pod njegovom kontrolom."}]
[]
[null,null,null,null,{"$f":"Translations!$B$405","v":"Naziv postupka"}]
[null,null,null,null,{"$f":"Translations!$B$407","v":"Oznaka postupka"}]
[null,null,null,null,{"$f":"Translations!$B$409","v":"Oznaka dijagrama (ukoliko je primjenjivo)"}]
[null,null,null,null,{"$f":"Translations!$B$411","v":"Kratki opis postupka"}]
[]
[]
[null,null,null,null,{"$f":"Translations!$B$414","v":"Ustrojstvena jedinica tvrtke odgovorna za postupke i za obradu podataka."}]
[null,null,null,null,{"$f":"Translations!$B$416","v":"Lokacija na kojoj se pohranjuju zapisi"}]
[null,null,null,null,{"$f":"Translations!$B$418","v":"Naziv informatičkog sustava koji se koristi (ako je primjenjivo)."}]
[null,null,null,null,{"$f":"Translations!$B$420","v":"Popis HRN EN i ostalih primjenjenih normi (ako je primjenjivo)"}]
[]
[null,null,null,"(k)",{"$f":"Translations!$B$1342","v":"Opis postupka koji se koristi za procjenu jesu li biomasa ili bilo koji drugi tokovi izvora nulte stope ugljika u skladu s člankom 38. stavkom 5., 39.a stavkom 3. ili 39.a stavkom 4. Uredbe, ako je primjenjivo."}]
[null,null,null,null,{"$f":"Translations!$B$1343","v":"Ovaj postupak je relevantan samo za biomasu, RFNBO (obnovljiva goriva nebiološkog podrijetla), RCF (reciklirana ugljična goriva) i SLCF (sintetička goriva s niskim udjelom ugljika) koji podliježu primjenjivim kriterijima održivosti i uštede stakleničkih plinova u Direktivi o obnovljivoj energiji (2018/2001)."}]
[]
[null,null,null,null,{"$f":"Translations!$B$405","v":"Naziv postupka"}]
[null,null,null,null,{"$f":"Translations!$B$407","v":"Oznaka postupka"}]
[null,null,null,null,{"$f":"Translations!$B$409","v":"Oznaka dijagrama (ukoliko je primjenjivo)"}]
[null,null,null,null,{"$f":"Translations!$B$411","v":"Kratki opis postupka"}]
[]
[]
[null,null,null,null,{"$f":"Translations!$B$414","v":"Ustrojstvena jedinica tvrtke odgovorna za postupke i za obradu podataka."}]
[null,null,null,null,{"$f":"Translations!$B$416","v":"Lokacija na kojoj se pohranjuju zapisi"}]
[null,null,null,null,{"$f":"Translations!$B$418","v":"Naziv informatičkog sustava koji se koristi (ako je primjenjivo)."}]
[null,null,null,null,{"$f":"Translations!$B$420","v":"Popis HRN EN i ostalih primjenjenih normi (ako je primjenjivo)"}]
[]
[null,null,null,"(l)",{"$f":"Translations!$B$1344","v":"Opis postupka koji se koristi za određivanje količina bioplina na temelju evidencije o nabavi u skladu s člankom 39. stavkom 4. ili RFNBO ili RCF količina prema nultoj stopi u skladu s člankom 39.a stavkom 5. Uredbe, ako je primjenjivo."}]
[null,null,null,null,{"$f":"Translations!$B$1345","v":"Ovaj postupak je relevantan samo ako operater želi zatražiti korištenje bioplina ili RFNBO-a/RCF-a primljenih iz mreže (prirodnog) plina."}]
[]
[null,null,null,null,{"$f":"Translations!$B$405","v":"Naziv postupka"}]
[null,null,null,null,{"$f":"Translations!$B$407","v":"Oznaka postupka"}]
[null,null,null,null,{"$f":"Translations!$B$409","v":"Oznaka dijagrama (ukoliko je primjenjivo)"}]
[null,null,null,null,{"$f":"Translations!$B$411","v":"Kratki opis postupka"}]
[]
[]
[null,null,null,null,{"$f":"Translations!$B$414","v":"Ustrojstvena jedinica tvrtke odgovorna za postupke i za obradu podataka."}]
[null,null,null,null,{"$f":"Translations!$B$416","v":"Lokacija na kojoj se pohranjuju zapisi"}]
[null,null,null,null,{"$f":"Translations!$B$418","v":"Naziv informatičkog sustava koji se koristi (ako je primjenjivo)."}]
[null,null,null,null,{"$f":"Translations!$B$420","v":"Popis HRN EN i ostalih primjenjenih normi (ako je primjenjivo)"}]
[]
[null,null,null,"(m)",{"$f":"Translations!$B$1346","v":"Opis postupka koji se koristi za određivanje informacija za svaku kupnju kako se zahtijeva člankom 75v(2) i Prilogom Xa. Uredbe"}]
[null,null,null,null,{"$f":"Translations!$B$1347","v":"Ovaj postupak trebao bi opisati kako pratiti svaku kupnju goriva od svakog dobavljača goriva, količine godišnje potrošene za aktivnosti obuhvaćene Prilogom I. Direktive, količine preuzete/stavljene na zalihe i količine izvezene."}]
[]
[null,null,null,null,{"$f":"Translations!$B$405","v":"Naziv postupka"}]
[null,null,null,null,{"$f":"Translations!$B$407","v":"Oznaka postupka"}]
[null,null,null,null,{"$f":"Translations!$B$409","v":"Oznaka dijagrama (ukoliko je primjenjivo)"}]
[null,null,null,null,{"$f":"Translations!$B$411","v":"Kratki opis postupka"}]
[]
[]
[null,null,null,null,{"$f":"Translations!$B$414","v":"Ustrojstvena jedinica tvrtke odgovorna za postupke i za obradu podataka."}]
[null,null,null,null,{"$f":"Translations!$B$416","v":"Lokacija na kojoj se pohranjuju zapisi"}]
[null,null,null,null,{"$f":"Translations!$B$418","v":"Naziv informatičkog sustava koji se koristi (ako je primjenjivo)."}]
[null,null,null,null,{"$f":"Translations!$B$420","v":"Popis HRN EN i ostalih primjenjenih normi (ako je primjenjivo)"}]
[]
[null,null,null,"(n)",{"$f":"Translations!$B$1348","v":"Ako je primjenjivo, opis postupka korištenog za određivanje mogu li se procesne emisije iz materijala ocijeniti kao nula, gdje je odgovarajući CO2 prijavilo postrojenje koje proizvodi materijal."}]
[null,null,null,null,{"$f":"Translations!$B$1349","v":"Gdje je to relevantno (npr. natrij karbonat koja se koristi u industriji stakla, urea koja se koristi za DeNOx), ovaj postupak treba opisati kako osiguravate da takvi materijali ispunjavaju uvjete navedene u zadnjem podstavku Priloga II., odjeljak 4."}]
[]
[null,null,null,null,{"$f":"Translations!$B$405","v":"Naziv postupka"}]
[null,null,null,null,{"$f":"Translations!$B$407","v":"Oznaka postupka"}]
[null,null,null,null,{"$f":"Translations!$B$409","v":"Oznaka dijagrama (ukoliko je primjenjivo)"}]
[null,null,null,null,{"$f":"Translations!$B$411","v":"Kratki opis postupka"}]
[]
[]
[null,null,null,null,{"$f":"Translations!$B$414","v":"Ustrojstvena jedinica tvrtke odgovorna za postupke i za obradu podataka."}]
[null,null,null,null,{"$f":"Translations!$B$416","v":"Lokacija na kojoj se pohranjuju zapisi"}]
[null,null,null,null,{"$f":"Translations!$B$418","v":"Naziv informatičkog sustava koji se koristi (ako je primjenjivo)."}]
[null,null,null,null,{"$f":"Translations!$B$420","v":"Popis HRN EN i ostalih primjenjenih normi (ako je primjenjivo)"}]
["ausblenden"]
["ausblenden",null,null,null,{"$f":"Translations!$B$1150","v":"Daljnji postupak dodan od strane postrojenja"}]
["ausblenden"]
["ausblenden",null,null,null,{"$f":"Translations!$B$405","v":"Naziv postupka"}]
["ausblenden",null,null,null,{"$f":"Translations!$B$407","v":"Oznaka postupka"}]
["ausblenden",null,null,null,{"$f":"Translations!$B$409","v":"Oznaka dijagrama (ukoliko je primjenjivo)"}]
["ausblenden",null,null,null,{"$f":"Translations!$B$411","v":"Kratki opis postupka"}]
["ausblenden"]
["ausblenden"]
["ausblenden",null,null,null,{"$f":"Translations!$B$414","v":"Ustrojstvena jedinica tvrtke odgovorna za postupke i za obradu podataka."}]
["ausblenden",null,null,null,{"$f":"Translations!$B$416","v":"Lokacija na kojoj se pohranjuju zapisi"}]
["ausblenden",null,null,null,{"$f":"Translations!$B$418","v":"Naziv informatičkog sustava koji se koristi (ako je primjenjivo)."}]
["ausblenden",null,null,null,{"$f":"Translations!$B$420","v":"Popis HRN EN i ostalih primjenjenih normi (ako je primjenjivo)"}]
["ADD_Procedure"]
[null,null,null,null,null,null,{"$f":"Translations!$B$429","v":"Pritisnite \"+\" kako bi dodali više postupaka"}]
[]
[]
[]
[null,null,null,null,null,{"$f":"EUconst_MsgNextSheet","v":"<<< Pritisnite ovdje kako bi prešli na slijedeći list >>> "}]
["ausblenden",null,"end","end","end","end","end","end","end","end","end","end","end","end","end",null,"end","end","end","end","end","end","end"]

{"sheet":"E_Tokovi izvora","index":6,"n_rows":784,"n_cols":23,"rows_kept":784,"cut":false,"hidden":false,"merged":[[781,5,781,11],[138,4,138,6],[163,4,163,6],[171,4,171,6],[166,4,166,6],[164,4,164,6],[150,4,150,6],[170,4,170,6],[174,3,174,13],[169,4,169,6],[172,4,172,6],[179,4,179,13],[177,4,177,13],[176,4,176,13],[178,4,178,13],[182,4,182,13],[181,4,181,13],[167,4,167,6],[168,4,168,6],[139,9,139,13],[145,9,145,13],[190,4,190,6],[190,7,190,11],[379,4,379,13],[34,3,34,13],[37,5,37,13],[56,5,56,9],[15,3,15,13],[71,5,71,10],[1,10,1,11],[2,10,2,11],[3,6,3,7],[2,12,2,13],[5,11,5,13],[7,10,7,13],[14,3,14,13],[11,3,11,13],[12,3,12,13],[24,12,24,13],[62,4,62,13],[13,3,13,13],[9,3,9,13],[3,8,3,9],[1,1,3,3],[1,6,1,7],[1,8,1,9],[5,2,5,10],[3,4,3,5],[2,4,2,5],[2,6,2,7],[3,10,3,11],[3,12,3,13],[1,4,1,5],[1,12,1,13],[72,5,72,13],[85,4,85,13],[75,5,75,10],[74,5,74,10],[20,4,20,6],[24,3,24,6],[24,7,24,11],[26,4,26,6],[26,7,26,11],[28,7,28,11],[18,3,18,6],[18,7,18,11],[30,4,30,13],[21,4,21,6],[22,7,22,11],[21,7,21,11],[22,4,22,6],[28,4,28,6],[88,4,88,13],[162,4,162,6],[153,4,153,13],[147,9,147,13],[142,4,142,6],[104,3,104,13],[124,6,124,13],[146,4,146,6],[115,5,115,13],[144,4,144,6],[141,4,141,6],[140,9,140,13],[140,4,140,6],[161,4,161,6],[141,9,141,13],[160,4,160,6],[144,9,144,13],[111,4,114,4],[139,4,139,6],[106,4,106,13],[98,4,98,13],[97,4,97,13],[142,9,142,13],[149,9,149,13],[116,6,116,13],[122,6,122,13],[136,4,136,6],[107,4,107,13],[159,4,159,6],[145,4,145,6],[152,4,152,13],[150,9,150,13],[147,4,147,6],[149,4,149,6],[158,4,158,6],[148,4,148,6],[110,6,110,13],[109,6,109,13],[121,4,125,4],[127,5,127,13],[125,6,125,13],[20,7,20,11],[27,4,27,6],[51,7,51,8],[2,8,2,9],[68,5,68,13],[67,5,67,13],[56,10,56,11],[61,7,61,8],[66,5,66,10],[57,5,57,13],[65,5,65,10],[55,5,55,9],[53,4,53,13],[32,4,32,13],[40,4,40,13],[38,5,38,13],[42,4,42,13],[36,4,36,13],[47,3,47,13],[39,5,39,13],[45,4,45,13],[52,7,52,8],[31,4,31,13],[18,12,18,13],[27,7,27,11],[49,4,49,13],[55,10,55,11],[58,5,58,13],[111,5,111,13],[82,4,82,13],[115,4,117,4],[117,6,117,13],[108,4,110,4],[70,5,70,10],[108,5,108,13],[60,7,60,8],[76,5,76,13],[81,4,81,13],[87,4,87,13],[77,5,77,13],[86,4,86,13],[100,5,100,13],[99,5,99,13],[101,4,101,13],[112,6,112,13],[113,6,113,13],[114,6,114,13],[102,4,102,13],[63,4,63,13],[121,5,121,13],[188,4,188,6],[188,7,188,11],[189,4,189,6],[189,7,189,11],[186,3,186,6],[186,7,186,11],[118,5,118,13],[120,5,120,13],[128,5,128,13],[123,6,123,13],[186,12,186,13],[137,9,137,13],[119,5,119,13],[126,5,126,13],[136,9,136,13],[137,4,137,6],[119,4,120,4],[132,4,132,13],[154,4,154,13],[131,4,131,13],[148,9,148,13],[146,9,146,13],[192,4,192,13],[363,4,363,6],[363,9,363,13],[138,9,138,13],[183,4,183,13],[380,4,380,13],[381,4,381,13],[384,3,384,6],[384,7,384,11],[384,12,384,13],[370,4,370,6],[371,4,371,6],[372,4,372,6],[373,4,373,6],[375,3,375,13],[367,4,367,6],[368,4,368,6],[369,4,369,6],[194,3,194,13],[196,4,196,13],[198,7,198,8],[361,4,361,6],[361,9,361,13],[200,5,200,9],[200,10,200,11],[359,4,359,6],[359,9,359,13],[360,4,360,6],[360,9,360,13],[202,7,202,8],[204,5,204,10],[357,4,357,6],[357,9,357,13],[358,4,358,6],[358,9,358,13],[206,5,206,10],[208,5,208,10],[345,4,345,13],[346,4,346,13],[347,4,347,13],[353,3,353,13],[332,5,332,9],[332,10,332,11],[334,7,334,8],[336,5,336,10],[213,4,213,13],[214,4,214,13],[215,4,215,13],[221,3,221,13],[321,4,321,6],[321,7,321,11],[322,4,322,6],[322,7,322,11],[324,4,324,13],[314,4,314,13],[315,4,315,13],[318,3,318,6],[318,7,318,11],[318,12,318,13],[320,4,320,6],[320,7,320,11],[305,4,305,6],[306,4,306,6],[307,4,307,6],[228,4,228,6],[228,9,228,13],[229,4,229,6],[229,9,229,13],[230,4,230,6],[230,9,230,13],[225,4,225,6],[225,9,225,13],[226,4,226,6],[226,9,226,13],[227,4,227,6],[227,9,227,13],[231,4,231,6],[231,9,231,13],[235,4,235,6],[236,4,236,6],[237,4,237,6],[238,4,238,6],[239,4,239,6],[292,4,292,6],[292,9,292,13],[274,5,274,10],[279,4,279,13],[280,4,280,13],[281,4,281,13],[255,7,255,11],[247,4,247,13],[248,4,248,13],[249,4,249,13],[252,3,252,6],[252,7,252,11],[252,12,252,13],[262,4,262,13],[240,4,240,6],[241,4,241,6],[256,4,256,6],[256,7,256,11],[243,3,243,13],[245,4,245,13],[254,4,254,6],[254,7,254,11],[255,4,255,6],[387,4,387,6],[387,7,387,11],[388,4,388,6],[388,7,388,11],[309,3,309,13],[311,4,311,13],[313,4,313,13],[295,9,295,13],[296,4,296,6],[296,9,296,13],[297,4,297,6],[297,9,297,13],[301,4,301,6],[302,4,302,6],[303,4,303,6],[304,4,304,6],[338,5,338,10],[340,5,340,10],[326,3,326,13],[328,4,328,13],[390,4,390,13],[392,3,392,13],[386,4,386,6],[386,7,386,11],[258,4,258,13],[260,3,260,13],[287,3,287,13],[291,4,291,6],[291,9,291,13],[264,7,264,8],[266,5,266,9],[266,10,266,11],[268,7,268,8],[270,5,270,10],[272,5,272,10],[293,4,293,6],[293,9,293,13],[294,4,294,6],[294,9,294,13],[295,4,295,6],[362,4,362,6],[362,9,362,13],[377,4,377,13],[330,7,330,8],[404,5,404,10],[406,5,406,10],[411,4,411,13],[412,4,412,13],[413,4,413,13],[419,3,419,13],[394,4,394,13],[396,7,396,8],[398,5,398,9],[398,10,398,11],[400,7,400,8],[402,5,402,10],[426,4,426,6],[426,9,426,13],[427,4,427,6],[427,9,427,13],[428,4,428,6],[428,9,428,13],[423,4,423,6],[423,9,423,13],[424,4,424,6],[424,9,424,13],[425,4,425,6],[425,9,425,13],[437,4,437,6],[438,4,438,6],[439,4,439,6],[441,3,441,13],[443,4,443,13],[445,4,445,13],[429,4,429,6],[429,9,429,13],[433,4,433,6],[434,4,434,6],[435,4,435,6],[436,4,436,6],[453,4,453,6],[453,7,453,11],[454,4,454,6],[454,7,454,11],[456,4,456,13],[458,3,458,13],[446,4,446,13],[447,4,447,13],[450,3,450,6],[450,7,450,11],[450,12,450,13],[452,4,452,6],[452,7,452,11],[470,5,470,10],[472,5,472,10],[477,4,477,13],[478,4,478,13],[479,4,479,13],[485,3,485,13],[460,4,460,13],[462,7,462,8],[464,5,464,9],[464,10,464,11],[466,7,466,8],[468,5,468,10],[492,4,492,6],[492,9,492,13],[493,4,493,6],[493,9,493,13],[494,4,494,6],[494,9,494,13],[489,4,489,6],[489,9,489,13],[490,4,490,6],[490,9,490,13],[491,4,491,6],[491,9,491,13],[503,4,503,6],[504,4,504,6],[505,4,505,6],[507,3,507,13],[509,4,509,13],[511,4,511,13],[495,4,495,6],[495,9,495,13],[499,4,499,6],[500,4,500,6],[501,4,501,6],[502,4,502,6],[519,4,519,6],[519,7,519,11],[520,4,520,6],[520,7,520,11],[522,4,522,13],[524,3,524,13],[512,4,512,13],[513,4,513,13],[516,3,516,6],[516,7,516,11],[516,12,516,13],[518,4,518,6],[518,7,518,11],[536,5,536,10],[538,5,538,10],[543,4,543,13],[544,4,544,13],[545,4,545,13],[551,3,551,13],[526,4,526,13],[528,7,528,8],[530,5,530,9],[530,10,530,11],[532,7,532,8],[534,5,534,10],[558,4,558,6],[558,9,558,13],[559,4,559,6],[559,9,559,13],[560,4,560,6],[560,9,560,13],[555,4,555,6],[555,9,555,13],[556,4,556,6],[556,9,556,13],[557,4,557,6],[557,9,557,13],[569,4,569,6],[570,4,570,6],[571,4,571,6],[573,3,573,13],[575,4,575,13],[577,4,577,13],[561,4,561,6],[561,9,561,13],[565,4,565,6],[566,4,566,6],[567,4,567,6],[568,4,568,6],[585,4,585,6],[585,7,585,11],[586,4,586,6],[586,7,586,11],[588,4,588,13],[590,3,590,13],[578,4,578,13],[579,4,579,13],[582,3,582,6],[582,7,582,11],[582,12,582,13],[584,4,584,6],[584,7,584,11],[602,5,602,10],[604,5,604,10],[609,4,609,13],[610,4,610,13],[611,4,611,13],[617,3,617,13],[592,4,592,13],[594,7,594,8],[596,5,596,9],[596,10,596,11],[598,7,598,8],[600,5,600,10],[624,4,624,6],[624,9,624,13],[625,4,625,6],[625,9,625,13],[626,4,626,6],[626,9,626,13],[621,4,621,6],[621,9,621,13],[622,4,622,6],[622,9,622,13],[623,4,623,6],[623,9,623,13],[635,4,635,6],[636,4,636,6],[637,4,637,6],[639,3,639,13],[641,4,641,13],[643,4,643,13],[627,4,627,6],[627,9,627,13],[631,4,631,6],[632,4,632,6],[633,4,633,6],[634,4,634,6],[651,4,651,6],[651,7,651,11],[652,4,652,6],[652,7,652,11],[654,4,654,13],[656,3,656,13],[644,4,644,13],[645,4,645,13],[648,3,648,6],[648,7,648,11],[648,12,648,13],[650,4,650,6],[650,7,650,11],[668,5,668,10],[670,5,670,10],[675,4,675,13],[676,4,676,13],[677,4,677,13],[683,3,683,13],[658,4,658,13],[660,7,660,8],[662,5,662,9],[662,10,662,11],[664,7,664,8],[666,5,666,10],[690,4,690,6],[690,9,690,13],[691,4,691,6],[691,9,691,13],[692,4,692,6],[692,9,692,13],[687,4,687,6],[687,9,687,13],[688,4,688,6],[688,9,688,13],[689,4,689,6],[689,9,689,13],[701,4,701,6],[702,4,702,6],[703,4,703,6],[705,3,705,13],[707,4,707,13],[709,4,709,13],[693,4,693,6],[693,9,693,13],[697,4,697,6],[698,4,698,6],[699,4,699,6],[700,4,700,6],[717,4,717,6],[717,7,717,11],[718,4,718,6],[718,7,718,11],[720,4,720,13],[722,3,722,13],[710,4,710,13],[711,4,711,13],[714,3,714,6],[714,7,714,11],[714,12,714,13],[716,4,716,6],[716,7,716,11],[734,5,734,10],[736,5,736,10],[741,4,741,13],[742,4,742,13],[743,4,743,13],[749,3,749,13],[724,4,724,13],[726,7,726,8],[728,5,728,9],[728,10,728,11],[730,7,730,8],[732,5,732,10],[756,4,756,6],[756,9,756,13],[757,4,757,6],[757,9,757,13],[758,4,758,6],[758,9,758,13],[753,4,753,6],[753,9,753,13],[754,4,754,6],[754,9,754,13],[755,4,755,6],[755,9,755,13],[776,4,776,13],[777,4,777,13],[765,4,765,6],[766,4,766,6],[767,4,767,6],[768,4,768,6],[769,4,769,6],[771,3,771,13],[759,4,759,6],[759,9,759,13],[763,4,763,6],[764,4,764,6],[773,4,773,13],[775,4,775,13]]}
["ausblenden",null,null,null,null,null,null,null,null,null,null,null,null,null,null,"ausblenden","ausblenden","ausblenden","ausblenden","ausblenden","ausblenden","ausblenden","ausblenden"]
[null,{"$f":"Translations!$B$430","v":"E. \nTokovi izvora"},null,null,{"$f":"Translations!$B$59","v":"Navigacijsko područje:"},null,{"$f":"Translations!$B$60","v":"Sadržaj"},null,{"$f":"Translations!$B$61","v":"Prethodni list"},null,{"$f":"Translations!$B$62","v":"Sljedeći list"}]
[null,null,null,null,{"$f":"Translations!$B$63","v":"Vrh lista"},null,1,null,2,null,3]
[null,null,null,null,{"$f":"Translations!$B$64","v":"Dno lista"},null,4,null,5,null,{"$f":"Translations!$B$431","v":"6 do 10"}]
[]
[null,null,{"$f":"Translations!$B$432","v":"E. Tokovi izvora"},null,null,null,null,null,null,null,null,{"$f":"IF(AND(NOT(ISBLANK(CNTR_InstHasCalculation)), CNTR_InstHasCalculation=FALSE),EUconst_NotRelevant,EUconst_Relevant)","v":"relevantno"}]
[]
[null,null,null,null,null,null,null,null,null,null,{"$f":"IF(L6=EUconst_NotRelevant,HYPERLINK(\"#JUMP_F_Top\",EUconst_MsgNextSheet),HYPERLINK(\"\",EUconst_MsgEnterThisSection))","v":"Molimo unesite podatke u ovo polje"}]
[]
[null,null,8,{"$f":"Translations!$B$19","v":"Pojedinosti o primijenjenoj razini točnosti za podatke o djelatnostima i faktorima izračuna"}]
[]
[null,null,null,{"$f":"Translations!$B$433","v":"Napomena: upute su dane samo za prvi tok izvora."}]
[null,null,null,{"$f":"Translations!$B$434","v":"Ukoliko nisu vidljivi svi podaci za svaki tok izvora, kliknite na znak \"+\" koji se nalazi s lijeve strane, u sivom području."}]
[null,null,null,{"$f":"Translations!$B$435","v":"Za dodavanje dodatnih tokova izvora, idite na poglavlje 6.e u listu C_Opis_Postrojenja i koristite makronaredbu."}]
[null,null,null,{"$f":"Translations!$B$135","v":"Za prikazivanje/skrivanje primjera, pritisnite na kućicu \"Primjeri\" unutar navigacijskog područja."}]
[null,null,null,{"$f":"Translations!$B$436","v":"Primjer je prikazan u prvom toku izvora."},null,null,null,null,null,null,null,null,null,null,null,null,null,null,"Check source stream category","auto","manual"]
[]
[null,null,null,null,null,null,null,null,null,null,null,null,null,null,null,null,null,null,"Check source stream category","auto","manual"]
[null,null,{"$f":"\"F\"&Q19","v":"F1"},{"$f":"CONCATENATE(Euconst_SourceStream,\" \", Q19,\":\")","v":"Tok izvora 1:"},null,null,null,{"$f":"IF(INDEX('C_Opis postrojenja'!$F$194:$F$204,MATCH(C19,'C_Opis postrojenja'!$E$194:$E$204,0))>0,INDEX('C_Opis postrojenja'!$F$194:$F$204,MATCH(C19,'C_Opis postrojenja'!$E$194:$E$204,0)),\"\")","v":""},null,null,null,null,{"$f":"IF(S19=TRUE,IF(U19=\"\",T19,U19),\"\")","v":""},null,null,null,1,null,{"$f":"IF(INDEX('C_Opis postrojenja'!$M:$M,MATCH(Q21,'C_Opis postrojenja'!$Q:$Q,0))=\"\",FALSE,TRUE)","v":false},{"$f":"IF(S19=TRUE,INDEX('C_Opis postrojenja'!$M:$M,MATCH(Q21,'C_Opis postrojenja'!$Q:$Q,0)),\"\")","v":""},{"$f":"IF(S19=TRUE,IF(ISBLANK(INDEX('C_Opis postrojenja'!$N:$N,MATCH(Q21,'C_Opis postrojenja'!$Q:$Q,0))),\"\",INDEX('C_Opis postrojenja'!$N:$N,MATCH(Q21,'C_Opis postrojenja'!$Q:$Q,0))),\"\")","v":""}]
[]
[null,null,null,null,{"$f":"Translations!$B$437","v":"Vrsta toka izvora:"},null,null,{"$f":"IF(INDEX('C_Opis postrojenja'!$I$194:$I$204,MATCH(C19,'C_Opis postrojenja'!$E$194:$E$204,0))>0,INDEX('C_Opis postrojenja'!$I$194:$I$204,MATCH(C19,'C_Opis postrojenja'!$E$194:$E$204,0)),\"\")","v":""},null,null,null,null,null,null,null,null,{"$f":"EUconst_CNTR_SourceCategory&C19","v":"SourceCategory_F1"}]
[null,null,null,null,{"$f":"Translations!$B$438","v":"Primijenjiva metoda prema Uredbi:"},null,null,{"$f":"IF(H21=\"\",\"\",INDEX(EUwideConstants!F:F,MATCH(H21,EUwideConstants!Q:Q,0)))","v":""}]
[null,null,null,null,{"$f":"Translations!$B$439","v":"Parametar na koji se odnosi nesigurnost:"},null,null,{"$f":"IF(H21=\"\",\"\",INDEX(EUwideConstants!E:E,MATCH(H21,EUwideConstants!Q:Q,0)))","v":""}]
[]
["HIDE_Example",null,null,{"$f":"Translations!$B$440","v":"Primjer toka izvora:"},null,null,null,{"$f":"Translations!$B$295","v":"Mazut"},null,null,null,null,{"$f":"Translations!$B$313","v":"Glavni"},null,null,null,1,null,{"$f":"IF(INDEX('C_Opis postrojenja'!$M:$M,MATCH(Q27,'C_Opis postrojenja'!$Q:$Q,0))=\"\",FALSE,TRUE)","v":false},{"$f":"IF(S25=TRUE,INDEX('C_Opis postrojenja'!$M:$M,MATCH(Q27,'C_Opis postrojenja'!$Q:$Q,0)),\"\")","v":""},{"$f":"IF(S25=TRUE,IF(ISBLANK(INDEX('C_Opis postrojenja'!$N:$N,MATCH(Q27,'C_Opis postrojenja'!$Q:$Q,0))),\"\",INDEX('C_Opis postrojenja'!$N:$N,MATCH(Q27,'C_Opis postrojenja'!$Q:$Q,0))),\"\")","v":""}]
["HIDE_Example"]
["HIDE_Example",null,null,null,{"$f":"Translations!$B$437","v":"Vrsta toka izvora:"},null,null,{"$f":"Translations!$B$296","v":"Izgaranje: druga plinovita i tekuća goriva"},null,null,null,null,null,null,null,null,{"$f":"EUconst_CNTR_SourceCategory&C25","v":"SourceCategory_"}]
["HIDE_Example",null,null,null,{"$f":"Translations!$B$438","v":"Primijenjiva metoda prema Uredbi:"},null,null,{"$f":"Translations!$B$441","v":"Standardna metoda: Gorivo, članak 24. stavak 1.Uredbe"}]
["HIDE_Example",null,null,null,{"$f":"Translations!$B$439","v":"Parametar na koji se odnosi nesigurnost:"},null,null,{"$f":"Translations!$B$442","v":"Količina goriva (t) ili (Nm3)"}]
["HIDE_Example"]
[null,null,null,null,{"$f":"Translations!$B$443","v":"Naziv toka izvora, vrsta toka izvora i kategorija će se prikazati automatski na temelju unesenih podataka u poglavlju 6.e u listu C_Opis_Postrojenja."}]
[null,null,null,null,{"$f":"Translations!$B$444","v":"Ako niste pripisali tok izvora odgovarajućoj kategoriji (glavni, mali, de-minimis), koristit će se kategorija koja je automatski prikazana. U tom slučaju, obrazac ne može automatski točno prikazati razine točnosti koje će se primjenjivati​​. Stoga ispravno odaberite odgovarajuću kategoriju u gore navedenom poglavlju."}]
[null,null,null,null,{"$f":"Translations!$B$445","v":"Vrsta toka izvora je jasno povezana s metodom praćenja koja se primjenjuje sukladno Uredbi (članci 24. i 25. Uredbe) i parametara na koje se odnosi nesigurnost podataka o aktivnostima (Prilog II). Ova informacija se automatski prikazuje sukladno Uredbi."}]
[]
[null,null,null,{"$f":"Translations!$B$446","v":"Automatske upute o primjenjivim razinama točnosti:"}]
[]
[null,null,null,null,{"$f":"Translations!$B$447","v":"U poglavljima (c) i (f) potrebne razine točnosti za podatke o djelatnosti i faktore proračuna prikazane su u zelenim poljima na temelju unosa u poglavljima 5 (d) i (e) i 6 (e) i 6 (f). To su minimalne razine točnosti za glavne tokove izvora u postrojenjima kategorije C. Međutim, niže razine točnosti mogu biti dopuštene. Upute su prikazane u zelenim poljima u nastavku, ovisno o sljedećim točkama:"}]
[null,null,null,null,"-",{"$f":"Translations!$B$448","v":"Smanjeni zahtjevi za postrojenja s niskim emisijama u skladu s člankom 47. stavak 2.Uredbe"}]
[null,null,null,null,"-",{"$f":"Translations!$B$449","v":"Kategorija postrojenja (A, B ili C) u skladu s člankom 19. Uredbe;"}]
[null,null,null,null,"-",{"$f":"Translations!$B$450","v":"Smanjeni zahtjevi primijenjuju se na manje i de-minimimis tokove izvora prema klasifikaciji u skladu sa člankom 19. stavak 3.Uredbe"}]
[null,null,null,null,{"$f":"Translations!$B$451","v":"Ova poruka se odnosi na primjenjive razine točnosti za podatke o aktivnostima i za sve faktore proračuna:"}]
[]
[null,null,null,null,{"$f":"IF(H19=\"\",\"\",INDEX(EUconst_SmallEmiSouStreamMsg,MATCH(Q43,EUconst_SmallEmiSouStream,0)))","v":""},null,null,null,null,null,null,null,null,null,null,null,{"$f":"IF(CNTR_SmallEmitter=TRUE,EUconst_CNTR_SmallEmitter,EUconst_CNTR_NoSmallEmitter) & IF((CNTR_Category)=\"\",\"C\",CNTR_Category) & \"_\" & IF(M19=\"\",1,MATCH(M19,SourceCategory,0))","v":"NoSmallEmitter_C_1"}]
["HIDE_Example"]
["HIDE_Example",null,null,{"$f":"Translations!$B$452","v":"Primjer:"}]
["HIDE_Example",null,null,null,{"$f":"Translations!$B$453","v":"\n\"Članak 26. stavak 1. Uredbe: Primjenit će se barem minimalne razine točnosti prikazane u nastavku​​.\nMeđutim, može se koristiti do dvije razine nižu razinu točnosti, ali minimalno razinu točnosti 1. Tada je potrebno dokazati nadležnom tijelu da je zahtjevana razina točnosti tehnički neizvediva ili stvara neopravdano visoke troškove. \"\n\n\n\n\n"}]
[]
[null,null,null,{"$f":"Translations!$B$454","v":"Podaci o aktivnosti:"}]
[]
[null,null,null,"(a)",{"$f":"Translations!$B$455","v":"Metoda određivanja podataka o aktivnosti:"}]
[]
[null,null,null,"i.",{"$f":"Translations!$B$456","v":"Metoda određivanja:"},null,null,null,null,null,null,null,null,null,null,null,null,null,null,null,null,null,{"$f":"IF(M19=\"\",\"\",IF(M19=INDEX(SourceCategory,3),1,IF(CNTR_InstHasCalculation=FALSE,0,2)))","v":""}]
["HIDE_Example",null,null,null,null,null,null,{"$f":"Translations!$B$457","v":"Kontinuirano mjerenje"},null,null,null,null,null,null,null,null,null,null,null,null,null,null,{"$f":"IF(M28=\"\",\"\",IF(M28=INDEX(SourceCategory,3),1,IF(CNTR_InstHasCalculation=FALSE,0,2)))","v":""}]
[null,null,null,null,{"$f":"Translations!$B$458","v":"Na temelju članka 27. stavka 1.  podaci o aktivnosti toka izvora mogu se utvrditi (a) kontinuiranim mjerenjem količine ili (b) na temelju zbroja količina pojedinačnih isporuka uzimajući u obzir  promjene zaliha (šaržno)"}]
[]
[null,null,null,null,null,{"$f":"Translations!$B$459","v":"Oznaka postupka za utvrđivanje zaliha na kraju godine:"},null,null,null,null,null,null,null,null,null,null,null,null,null,null,null,{"$f":"IF(OR(H19=\"\",ISBLANK(H52)),FALSE,IF(MATCH(H52,EUconst_ActivityDeterminationMethod,0)=2,TRUE,FALSE))","v":false},{"$f":"IF(V56=TRUE,0,W52)","v":""}]
["HIDE_Example",null,null,null,null,null,null,null,null,null,null,null,null,null,null,null,null,null,null,null,null,{"$f":"IF(OR(H29=\"\",ISBLANK(H54)),FALSE,IF(MATCH(H54,EUconst_ActivityDeterminationMethod,0)=2,TRUE,FALSE))","v":false},{"$f":"IF(V57=TRUE,0,W54)","v":0}]
[null,null,null,null,null,{"$f":"Translations!$B$460","v":"Važno ukoliko ste odabrali \"Šarža\" kao metodu određivanja. Pogledajte postupak opisan u poglavlju 7 (i), list D_Metodologija_proračuna."}]
[null,null,null,null,null,{"$f":"Translations!$B$461","v":"Postrojenja s niskim emisijama (poglavlje 5 (e)) ne moraju uključiti određivanje podataka o zalihama u svojoj procjeni nesigurnosti (članak 47. stavak 5. Uredbe)"}]
[]
[null,null,null,"ii.",{"$f":"Translations!$B$462","v":"Instrumenti pod nadzorom:"},null,null,null,null,null,null,null,null,null,null,null,null,null,null,null,null,null,{"$f":"W52","v":""}]
["HIDE_Example",null,null,null,null,null,null,{"$f":"Translations!$B$149","v":"Operater"},null,null,null,null,null,null,null,null,null,null,null,null,null,null,{"$f":"W55","v":0}]
[null,null,null,null,{"$f":"Translations!$B$463","v":"Odaberite \"Operater\" ako su mjerni instrumenti pod vašim nadzorom ili \"Trgovinski partner\" ako nisu pod vašim nadzorom."}]
[null,null,null,null,{"$f":"Translations!$B$464","v":"Ukoliko je za tok izvora relevantno više od jednog instrumenta, a barem jedan od instrumenata nije pod vašim nadzorom odaberite \"Trgovinski partner\" .U tom slučaju koristite polje za komentare pod točkom (b) da se utvrdi koji instrumenti su pod nadzorom operatera i koji su pod nadzorom trgovinskog partnera."}]
[]
[null,null,null,null,"a.",{"$f":"Translations!$B$465","v":"Potvrdite da su ispunjeni zahtjevi iz članka 29. stavka 1. Uredbe"},null,null,null,null,null,null,null,null,null,null,null,null,null,null,null,{"$f":"IF(OR(H19=\"\",ISBLANK(H61)),FALSE,IF(MATCH(H61,EUconst_OwnerInstrument,0)=1,TRUE,FALSE))","v":false},{"$f":"IF(V66=TRUE,0,W52)","v":""}]
["HIDE_Example",null,null,null,null,null,null,null,null,null,null,null,null,null,null,null,null,null,null,null,null,{"$f":"IF(OR(H31=\"\",ISBLANK(H63)),FALSE,IF(MATCH(H63,EUconst_OwnerInstrument,0)=1,TRUE,FALSE))","v":false},{"$f":"IF(V67=TRUE,0,W56)","v":""}]
[null,null,null,null,null,{"$f":"Translations!$B$466","v":"Ova točka je relevantna ako niste vlasnik mjernog instrumenta."}]
[null,null,null,null,null,{"$f":"Translations!$B$467","v":"Na temelju članka 29. stavka 1. Uredbe kao izvor podataka mogu se koristiti  instrumenti koji nisu pod vašim nadzorom, samo ako ti instrumenti odgovaraju najmanje istoj razini točnosti kao i vaši instrumenti, a daju pouzdanije rezultate i manje su skloni rizicima pri nadzoru."}]
[]
[null,null,null,null,"b.",{"$f":"Translations!$B$468","v":"Koristite li fakture za utvrđivanje količine goriva ili sirovina?"},null,null,null,null,null,null,null,null,null,null,null,null,null,null,null,{"$f":"IF(OR(H19=\"\",ISBLANK(H61)),FALSE,IF(MATCH(H61,EUconst_OwnerInstrument,0)=1,TRUE,FALSE))","v":false},{"$f":"IF(V71=TRUE,0,W52)","v":""}]
["HIDE_Example",null,null,null,null,null,null,null,null,null,null,null,null,null,null,null,null,null,null,null,null,{"$f":"IF(OR(H36=\"\",ISBLANK(H68)),FALSE,IF(MATCH(H68,EUconst_OwnerInstrument,0)=1,TRUE,FALSE))","v":false},{"$f":"IF(V72=TRUE,0,W61)","v":""}]
[null,null,null,null,null,{"$f":"Translations!$B$466","v":"Ova točka je relevantna ako niste vlasnik mjernog instrumenta."}]
[]
[null,null,null,null,"c.",{"$f":"Translations!$B$469","v":"Potvrdite da su trgovinski partner i operater neovisni."},null,null,null,null,null,null,null,null,null,null,null,null,null,null,null,{"$f":"IF(OR(H19=\"\",ISBLANK(H61)),FALSE,IF(MATCH(H61,EUconst_OwnerInstrument,0)=1,TRUE,FALSE))","v":false},{"$f":"IF(V75=TRUE,0,W52)","v":""}]
["HIDE_Example",null,null,null,null,null,null,null,null,null,null,null,null,null,null,null,null,null,null,null,null,{"$f":"IF(OR(H40=\"\",ISBLANK(H72)),FALSE,IF(MATCH(H72,EUconst_OwnerInstrument,0)=1,TRUE,FALSE))","v":false},{"$f":"IF(V76=TRUE,0,W65)","v":0}]
[null,null,null,null,null,{"$f":"Translations!$B$470","v":"Ova točka je relevantna ako niste vlasnik mjernog instrumenta."}]
[null,null,null,null,null,{"$f":"Translations!$B$471","v":"Na temelju članka 29. stavka 1. točke (a) Uredbe smijete koristiti podatke s fakture ako su trgovinski partneri neovisni."}]
[]
[null,null,null,"(b)",{"$f":"Translations!$B$472","v":"Korišteni mjerni instrumenti:"}]
["HIDE_Example",null,null,null,null,null,null,"MI01","MI03"]
[null,null,null,null,{"$f":"Translations!$B$473","v":"Odaberite jedan ili više instrumenata koji su definirani u poglavlju 7(b), list D_Metodologija_proračuna"}]
[null,null,null,null,{"$f":"Translations!$B$474","v":"Ako se koristi više od 5 mjernih instrumenata za tok izvora, npr. ako se p/T kompenzacija utvrđuje različitim instrumentima, unesite detaljan opis u polje za komentar.  "}]
[]
[null,null,null,null,{"$f":"Translations!$B$475","v":"Komentar/opis pristupa ako se koristi više instrumenata:"}]
[null,null,null,null,{"$f":"Translations!$B$476","v":"Objasniti zašto i kada se koristi više od jednog instrumenta. Npr. moguće je da je jedan instrument potreban za oduzimanje dijela goriva koji je izvan ETS-a.Vage se mogu koristiti alternativno, ili u svrhu potvrde, itd."}]
[]
[]
[]
[]
[null,null,null,"(c)",{"$f":"Translations!$B$477","v":"Zahtijevana razina točnosti za podatak o djelatnosti:"},null,null,{"$f":"IF(H21=\"\",\"\",IF(CNTR_Category=\"A\",INDEX(EUwideConstants!$G:$G,MATCH(Q91,EUwideConstants!$S:$S,0)),INDEX(EUwideConstants!$P:$P,MATCH(Q91,EUwideConstants!$S:$S,0))))","v":""},{"$f":"IF(H91=\"\",\"\",IF(S91=0,EUconst_NA,IF(ISERROR(S91),\"\",EUconst_MsgTierActivityLevel & \" \" &S91)))","v":""},null,null,null,null,null,null,null,{"$f":"EUconst_CNTR_ActivityData&H21","v":"ActivityData_"},null,{"$f":"IF(H91=\"\",\"\",IF(H91=EUconst_NA,\"\",INDEX(EUwideConstants!$H:$O,MATCH(Q91,EUwideConstants!$S:$S,0),MATCH(H91,CNTR_TierList,0))))","v":""}]
[null,null,null,"(d)",{"$f":"Translations!$B$478","v":"Korištena razina točnosti za podatak o djelatnosti:"},null,null,null,{"$f":"IF(OR(ISBLANK(H92),H92=EUconst_NoTier),\"\",IF(S92=0,EUconst_NA,IF(ISERROR(S92),\"\",EUconst_MsgTierActivityLevel & \" \" &S92)))","v":""},null,null,null,null,null,null,null,{"$f":"EUconst_CNTR_ActivityData&H21","v":"ActivityData_"},null,{"$f":"IF(ISBLANK(H92),\"\",IF(H92=EUconst_NA,\"\",INDEX(EUwideConstants!$H:$O,MATCH(Q92,EUwideConstants!$S:$S,0),MATCH(H92,CNTR_TierList,0))))","v":""}]
[null,null,null,"(e)",{"$f":"Translations!$B$479","v":"Postignuta nesigurnost:"},null,null,null,{"$f":"Translations!$B$480","v":"Komentar:"}]
["HIDE_Example",null,null,{"$f":"Translations!$B$452","v":"Primjer:"}]
["HIDE_Example",null,null,"(c)",{"$f":"Translations!$B$477","v":"Zahtijevana razina točnosti za podatak o djelatnosti:"},null,null,2,{"$f":"Translations!$B$481","v":"Nesigurnost ne smije biti viša od ± 5,0%"}]
["HIDE_Example",null,null,"(d)",{"$f":"Translations!$B$478","v":"Korištena razina točnosti za podatak o djelatnosti:"},null,null,3,{"$f":"Translations!$B$482","v":"Nesigurnost ne smije biti viša od ± 2,5%"}]
["HIDE_Example",null,null,"(e)",{"$f":"Translations!$B$479","v":"Postignuta nesigurnost:"},null,null,2.2499999999999999E-2,{"$f":"Translations!$B$480","v":"Komentar:"},{"$f":"Translations!$B$483","v":"Podliježe nadzoru zakonskog mjeriteljstva ---> NDP u radu"}]
[null,null,null,null,{"$f":"Translations!$B$484","v":"S obzirom na zahtijevanu i korištenu razinu točnosti, navedite postignutu nesigurnost tijekom cijelog izvještajnog razdoblja."}]
[null,null,null,null,{"$f":"Translations!$B$485","v":"Navedena vrijednost treba biti rezultat procjene nesigurnosti (vidjeti odjeljak 7 (c), list D_Metodologija_proračuna). Međutim, članak 28. stavak  2., članak 28. stavak 3 . i članak 29. stavak 2. Uredbe omogućuju primjenu nekoliko pojednostavljenja:"}]
[null,null,null,null,"-",{"$f":"Translations!$B$486","v":"Možete koristiti najveću dopuštenu pogrešku specificiranu za mjerni instrument u uporabi ili niža odstupanja kada je nesigurnost dobivena umjeravanjem i pomnožena s konzervativnim faktorom prilagodbe (uzevši u obzir utjecaj nesigurnosti u radu), pod uvjetom da su mjerni instrumenti instalirani u skladu sa specifikacijama."}]
[null,null,null,null,"-",{"$f":"Translations!$B$487","v":"Možete koristiti najveću dopuštena pogrešku u uporabi kao postignutu nesigurnost pod uvjetom da mjerni instrument podliježe nadzoru zakonskog mjeriteljstva."}]
[null,null,null,null,{"$f":"Translations!$B$488","v":"Koristite polje za komentar (točka (h) u nastavku) za opis određivanja nesigurnosti koja je postignuta tijekom cijelog razdoblja."}]
[null,null,null,null,{"$f":"Translations!$B$1171","v":"Daljnje smjernice potražite u člancima 28. i 29. Uredbe o praćenju i izvješćivanju i Uputama br. 4 te upotrijebite „Alat za procjenu nesigurnosti”."}]
[]
[null,null,null,{"$f":"Translations!$B$490","v":"Faktori proračuna:"}]
[]
[null,null,null,null,{"$f":"Translations!$B$491","v":"Prema članku 30. stavku 1. faktori proračuna mogu biti određeni kao zadane vrijednosti ili kao laboratorijske analize. Koja od ovih opcija se koristi određuje se prema korištenoj razini točnosti."}]
[null,null,null,null,{"$f":"Translations!$B$492","v":"Koristite sljedeće razine točnosti u skladu s Uputama br. 1:"}]
[null,null,null,null,{"$f":"Translations!$B$1172","v":"Zadane vrijednosti tipa I. (razina 1):"},{"$f":"Translations!$B$1173","v":"Zadane vrijednosti tipa I. uključuju bilo koju od sljedećih metoda:"}]
[null,null,null,null,null,"-",{"$f":"Translations!$B$1174","v":"upotrebu standardnih faktora navedenih u Prilogu VI. (tj. u načelu vrijednosti IPCC-a) ili "}]
[null,null,null,null,null,"-",{"$f":"Translations!$B$1175","v":"upotrebu drugih konstantnih vrijednosti u skladu s člankom 31. stavkom 1. točkom (e) Uredbe ako takvi standardni faktori nisu dostupni, tj. analize provedene u prošlosti koje su i dalje valjane."}]
[null,null,null,null,{"$f":"Translations!$B$1176","v":"Zadane vrijednosti tipa II. (razina 2):"},{"$f":"Translations!$B$1177","v":"Zadane vrijednosti tipa II. uključuju jednu od sljedećih metoda, koje se smatraju istovrijednima:"}]
[null,null,null,null,null,"-",{"$f":"Translations!$B$1178","v":"upotrebu nacionalnih emisijskih faktora u skladu s člankom 31. stavkom 1. točkom (b) Uredbe, tj. vrijednosti upotrijebljenih za nacionalni inventar stakleničkih plinova ili "}]
[null,null,null,null,null,"-",{"$f":"Translations!$B$1179","v":"upotrebu drugih vrijednosti koje je objavilo nadležno tijelo za razdvojenije vrste goriva u skladu s člankom 31. stavkom 1. točkom (c) ili drugih vrijednosti iz literature dogovorenih s nadležnim tijelom ili "}]
[null,null,null,null,null,"-",{"$f":"Translations!$B$1180","v":"upotrebu drugih konstantnih vrijednosti u skladu s člankom 31. stavkom 1. točkom (d) Uredbe, tj. vrijednosti za koje jamči dobavljač sa sadržajem ugljika unutar 1 %."}]
[null,null,null,null,{"$f":"Translations!$B$1181","v":"Utvrđeni posredni faktori (razina 2b): "},{"$f":"Translations!$B$498","v":"To su metode koje se temelje na empirijskim korelacijama koje se određuju najmanje jednom godišnje u skladu sa zahtjevima primjenjivim za laboratorijske analize. Kako se ove analize provode samo jednom godišnje to je razina točnosti koja se smatra nižom razinom od potpune analize. Posredni faktori korelacije mogu se temeljiti na:"}]
[null,null,null,null,null,"-",{"$f":"Translations!$B$499","v":"mjerenju gustoće specifičnih ulja ili plinova, uključujući one koje su uobičajene za rafinerije ili  industriju čelika, ili"}]
[null,null,null,null,null,"-",{"$f":"Translations!$B$500","v":"neto kalorična vrijednost za specifične vrste ugljena."}]
[null,null,null,null,{"$f":"Translations!$B$1182","v":"Podaci s faktura (razina 2b): "},{"$f":"Translations!$B$502","v":"Neto kalorična vrijednost može biti preuzeta s fakture dobavljača goriva, pod uvjetom da je određena na temelju prihvaćenih nacionalnih ili međunarodnih normi. (Primjenjivo samo u slučaju komercijalnih goriva)."}]
[null,null,null,null,{"$f":"Translations!$B$1183","v":"Laboratorijske analize (najviša razina): "},{"$f":"Translations!$B$1184","v":"U tom su slučaju potpuno primjenjivi zahtjevi iz članaka od 32. do 35.Uredbe u pogledu analiza, među ostalim upotreba „utvrđenih posrednih faktora”, ako je primjenjivo i ako nesigurnost empirijske korelacije nije veća od jedne trećine vrijednosti nesigurnosti povezane s primjenjivom razinom za podatke o djelatnostima. "}]
[null,null,null,null,null,{"$f":"Translations!$B$1185","v":"Za čiste kemijske tvari nadležno tijelo može prihvatiti da se upotrebom stehiometrijskog sadržaja ugljika ispunjava razina koju zahtijeva laboratorijska analiza pod uvjetom da operater dokaže da bi takve analize dovele do neopravdano visokih troškova i da stehiometrijska vrijednost neće dovesti do podcjenjivanja emisija."}]
[null,null,null,null,{"$f":"Translations!$B$1186","v":"Udio biomase tipa I. (razina 1):"},{"$f":"Translations!$B$1187","v":"Treba primijeniti jednu od sljedećih metoda, koje se smatraju istovrijednima:"}]
[null,null,null,null,null,"-",{"$f":"Translations!$B$1188","v":"upotreba vrijednosti koje je objavilo nadležno tijelo ili Komisija za tu vrstu goriva ili materijala, ili"}]
[null,null,null,null,null,"-",{"$f":"Translations!$B$1189","v":"upotreba vrijednosti u skladu s člankom 31. stavkom 1. Uredbe, tj. „zadane vrijednosti tipa I.”."}]
[null,null,null,null,null,"-",{"$f":"Translations!$B$1190","v":"Alternativno, operater uvijek može pretpostaviti fosilni udio od 100 %. To se smatra metodologijom „bez razine” te se primjenjuje zadana vrijednost od 0 % udjela biomase. "}]
[null,null,null,null,null,"-",{"$f":"Translations!$B$1350","v":"Primjena članaka 39. stavka 3., 39. stavka 4. i 39.a stavka 5. Uredbe, u slučaju mreža prirodnog plina u koje se ubrizgava bioplin ili RFNBO/RCF, tj. kada nadležno tijelo dopušta da se udio nulte stope odredi računima o sadržaju ekvivalentne energije."}]
[null,null,null,null,{"$f":"Translations!$B$1192","v":"Udio biomase tipa II. (razina 2):"},{"$f":"Translations!$B$1351","v":"Udio biomase određuje se na temelju metode procjene u skladu s drugim podstavkom članka 39. stavka 2. Uredbe, koja se podnosi nadležnom tijelu na odobrenje, uzimajući u obzir sve smjernice o daljnjim primjenjivim metodama procjene koje je objavila Komisija (vidi Smjernice 3 )."}]
[null,null,null,null,{"$f":"Translations!$B$1352","v":"Analiza udjela biomase (razina 3a):"},{"$f":"Translations!$B$1197","v":"U tom slučaju treba provesti laboratorijske analize u skladu s člankom 39. stavkom 2. prvim podstavkom i člancima od 32. do 35. Uredbe"}]
[null,null,null,null,{"$f":"Translations!$B$1353","v":"Masena bilanca udio biomase (razina 3b)"},{"$f":"Translations!$B$1354","v":"Biomasa: Za goriva koja potječu iz proizvodnog procesa s definiranim i sljedivim ulaznim tokovima, operater može temeljiti procjenu na materijalnoj bilanci fosilnog ugljika i ugljika iz biomase koji ulazi u proces i izlazi iz njega, kao što je sustav bilance mase u skladu s člankom 30. stavkom 1.  Direktive (EU) 2018/2001."}]
[]
[null,null,null,null,{"$f":"Translations!$B$512","v":"Napomena:"}]
[null,null,null,null,{"$f":"Translations!$B$513","v":"Zahtijevane razine točnosti u tablici u nastavku, uvijek se odnose na glavne tokove izvora. Pogledajte informacije u polju poruke u zaglavlju ovog toka izvora jesu li dopuštene niže razine točnosti.\n\n"}]
[null,null,null,null,{"$f":"Translations!$B$514","v":"U skladu s člankom 26. stavkom 4. Uredbe, za oksidacijski faktor i konverzijski faktor operater će kao minimum, primjeniti najniže razine točnosti navedene u Prilogu II.\n"}]
[]
[null,null,null,"(f)",{"$f":"Translations!$B$515","v":"Korištene razine točnosti za faktore proračuna:"}]
[]
[null,null,null,null,{"$f":"Translations!$B$516","v":"Faktor proračuna:"},null,null,{"$f":"Translations!$B$517","v":"Zahtijevana razina točnosti:"},{"$f":"Translations!$B$518","v":"Korištena razina točnosti:"},{"$f":"Translations!$B$519","v":"Puni tekst za korištenu razinu točnosti"},null,null,null,null,null,null,null,null,"full text tier",null,null,null,"cond. form."]
[null,null,null,"i.",{"$f":"Translations!$B$520","v":"Donja ogrjevna vrijednost (DOV)"},null,null,{"$f":"IF(H21=\"\",\"\",IF(CNTR_Category=\"A\",INDEX(EUwideConstants!$G:$G,MATCH(Q138,EUwideConstants!$S:$S,0)),INDEX(EUwideConstants!$P:$P,MATCH(Q138,EUwideConstants!$S:$S,0))))","v":""},null,{"$f":"IF(OR(ISBLANK(I138),I138=EUconst_NoTier),\"\",IF(S138=0,EUconst_NotApplicable,IF(ISERROR(S138),\"\",S138)))","v":""},null,null,null,null,null,null,{"$f":"EUconst_CNTR_NCV&H21","v":"NCV_"},null,{"$f":"IF(ISBLANK(I138),\"\",IF(I138=EUconst_NA,\"\",INDEX(EUwideConstants!$H:$O,MATCH(Q138,EUwideConstants!$S:$S,0),MATCH(I138,CNTR_TierList,0))))","v":""},null,null,null,{"$f":"(H138=EUconst_NA)","v":false}]
[null,null,null,"ii.",{"$f":"Translations!$B$521","v":"Emisijski faktor (preliminarni)"},null,null,{"$f":"IF(H21=\"\",\"\",IF(CNTR_Category=\"A\",INDEX(EUwideConstants!$G:$G,MATCH(Q139,EUwideConstants!$S:$S,0)),INDEX(EUwideConstants!$P:$P,MATCH(Q139,EUwideConstants!$S:$S,0))))","v":""},null,"",null,null,null,null,null,null,{"$f":"EUconst_CNTR_EF&H21","v":"EF_"},null,{"$f":"IF(ISBLANK(I139),\"\",IF(I139=EUconst_NA,\"\",INDEX(EUwideConstants!$H:$O,MATCH(Q139,EUwideConstants!$S:$S,0),MATCH(I139,CNTR_TierList,0))))","v":""},null,null,null,false]
[null,null,null,"iii.",{"$f":"Translations!$B$522","v":"Oksidacijski faktor"},null,null,{"$f":"IF(H21=\"\",\"\",IF(CNTR_Category=\"A\",INDEX(EUwideConstants!$G:$G,MATCH(Q140,EUwideConstants!$S:$S,0)),INDEX(EUwideConstants!$P:$P,MATCH(Q140,EUwideConstants!$S:$S,0))))","v":""},null,"",null,null,null,null,null,null,{"$f":"EUconst_CNTR_OxidationFactor&H21","v":"OxF_"},null,{"$f":"IF(ISBLANK(I140),\"\",IF(I140=EUconst_NA,\"\",INDEX(EUwideConstants!$H:$O,MATCH(Q140,EUwideConstants!$S:$S,0),MATCH(I140,CNTR_TierList,0))))","v":""},null,null,null,false]
[null,null,null,"iv.",{"$f":"Translations!$B$523","v":"Konverzijski faktor"},null,null,{"$f":"IF(H21=\"\",\"\",IF(CNTR_Category=\"A\",INDEX(EUwideConstants!$G:$G,MATCH(Q141,EUwideConstants!$S:$S,0)),INDEX(EUwideConstants!$P:$P,MATCH(Q141,EUwideConstants!$S:$S,0))))","v":""},null,"",null,null,null,null,null,null,{"$f":"EUconst_CNTR_ConversionFactor&H21","v":"ConvF_"},null,{"$f":"IF(ISBLANK(I141),\"\",IF(I141=EUconst_NA,\"\",INDEX(EUwideConstants!$H:$O,MATCH(Q141,EUwideConstants!$S:$S,0),MATCH(I141,CNTR_TierList,0))))","v":""},null,null,null,false]
[null,null,null,"v.",{"$f":"Translations!$B$524","v":"Sadržaj ugljika"},null,null,{"$f":"IF(H21=\"\",\"\",IF(CNTR_Category=\"A\",INDEX(EUwideConstants!$G:$G,MATCH(Q142,EUwideConstants!$S:$S,0)),INDEX(EUwideConstants!$P:$P,MATCH(Q142,EUwideConstants!$S:$S,0))))","v":""},null,"",null,null,null,null,null,null,{"$f":"EUconst_CNTR_CarbonContent&H21","v":"CarbC_"},null,{"$f":"IF(ISBLANK(I142),\"\",IF(I142=EUconst_NA,\"\",INDEX(EUwideConstants!$H:$O,MATCH(Q142,EUwideConstants!$S:$S,0),MATCH(I142,CNTR_TierList,0))))","v":""},null,null,null,false]
[null,null,null,"vi.",{"$f":"Translations!$B$525","v":"Udio biomase (ukoliko je primjenjiv)"},null,null,{"$f":"IF(H21=\"\",\"\",IF(CNTR_Category=\"A\",INDEX(EUwideConstants!$G:$G,MATCH(Q143,EUwideConstants!$S:$S,0)),INDEX(EUwideConstants!$P:$P,MATCH(Q143,EUwideConstants!$S:$S,0))))","v":""},null,"",null,null,null,null,null,null,{"$f":"EUconst_CNTR_BiomassContent&H21","v":"BioC_"},null,{"$f":"IF(ISBLANK(I143),\"\",IF(I143=EUconst_NA,\"\",INDEX(EUwideConstants!$H:$O,MATCH(Q143,EUwideConstants!$S:$S,0),MATCH(I143,CNTR_TierList,0))))","v":""},null,null,null,false]
["HIDE_Example",null,null,{"$f":"Translations!$B$452","v":"Primjer:"}]
["HIDE_Example",null,null,null,{"$f":"Translations!$B$516","v":"Faktor proračuna:"},null,null,{"$f":"Translations!$B$517","v":"Zahtijevana razina točnosti:"},{"$f":"Translations!$B$518","v":"Korištena razina točnosti:"},{"$f":"Translations!$B$526","v":"Puni tekst za korištenu razinu točnosti"},null,null,null,null,null,null,null,null,"full text tier",null,null,null,"cond. form."]
["HIDE_Example",null,null,"i.",{"$f":"Translations!$B$520","v":"Donja ogrjevna vrijednost (DOV)"},null,null,"2a/2b",3,{"$f":"Translations!$B$527","v":"Laboratorijske analize:"},null,null,null,null,null,null,null,null,null,null,null,null,{"$f":"(H146=EUconst_NA)","v":false}]
["HIDE_Example",null,null,"ii.",{"$f":"Translations!$B$521","v":"Emisijski faktor (preliminarni)"},null,null,"2a/2b",3,{"$f":"Translations!$B$527","v":"Laboratorijske analize:"},null,null,null,null,null,null,null,null,null,null,null,null,false]
["HIDE_Example",null,null,"iii.",{"$f":"Translations!$B$522","v":"Oksidacijski faktor"},null,null,1,1,{"$f":"Translations!$B$529","v":"Zadana vrijednost OF=1"},null,null,null,null,null,null,null,null,null,null,null,null,false]
["HIDE_Example",null,null,"iv.",{"$f":"Translations!$B$523","v":"Konverzijski faktor"},null,null,{"$f":"Translations!$B$530","v":"nije primjenjivo"},null,"",null,null,null,null,null,null,null,null,null,null,null,null,true]
["HIDE_Example",null,null,"v.",{"$f":"Translations!$B$524","v":"Sadržaj ugljika"},null,null,{"$f":"Translations!$B$530","v":"nije primjenjivo"},null,"",null,null,null,null,null,null,null,null,null,null,null,null,true]
["HIDE_Example",null,null,"vi.",{"$f":"Translations!$B$525","v":"Udio biomase (ukoliko je primjenjiv)"},null,null,"",{"$f":"Translations!$B$530","v":"nije primjenjivo"},"",null,null,null,null,null,null,null,null,null,null,null,null,false]
[]
[null,null,null,null,{"$f":"Translations!$B$531","v":"Ovisno o odabranoj razini točnosti (zadane vrijednosti ili laboratorijska analiza) od vas se traži da, gdje je primjenjivo, unesete sljedeće informacije za svaki faktor proračuna:\n"}]
[null,null,null,null,{"$f":"Translations!$B$532","v":"Tamo gdje se koristi zadana vrijednost unesite vrijednost, jedinicu i referencu na izvor literature u tablici 7 (d) na prethodnom listu. Vrijednost treba odražavati konstantnu vrijednost u trenutku objave plana praćenja."}]
[null,null,null,null,{"$f":"Translations!$B$533","v":"Gdje je potrebna laboratorijska analiza, unesite analitičku metodu/laboratorij pozivanjem na referencu u tablici 7(e) na prethodnom listu, referencu na vaš Plan uzorkovanja te odaberite na padajućem izborniku učestalost analiza."}]
[]
[null,null,null,"(g)",{"$f":"Translations!$B$534","v":"Detalji faktora proračuna:"}]
[]
[null,null,null,null,{"$f":"E137","v":"Faktor proračuna:"},null,null,{"$f":"I137","v":"Korištena razina točnosti:"},{"$f":"Translations!$B$535","v":"Zadana vrijednost"},{"$f":"Translations!$B$536","v":"Jedinica"},{"$f":"Translations!$B$537","v":"Oznaka izvora"},{"$f":"Translations!$B$538","v":"Oznaka analize"},{"$f":"Translations!$B$539","v":"Oznaka uzorkovanja"},{"$f":"Translations!$B$540","v":"Učestalost analiza"},null,null,null,null,"default value or lab",null,null,null,"cond. form."]
[null,null,null,"i.","Donja ogrjevna vrijednost (DOV)",null,null,{"$f":"IF(OR(ISBLANK(I138),I138=EUconst_NA),\"\",I138)","v":""},null,null,null,null,null,null,null,null,null,null,{"$f":"IF(H160=\"\",\"\",IF(I138=EUconst_NA,\"\",INDEX(EUwideConstants!$AL:$AR,MATCH(Q138,EUwideConstants!$S:$S,0),MATCH(I138,CNTR_TierList,0))))","v":""},null,null,null,{"$f":"OR(H160=\"\",H160=EUconst_NA,J138=EUconst_NotApplicable)","v":true}]
[null,null,null,"ii.","Emisijski faktor (preliminarni)",null,null,"",null,null,null,null,null,null,null,null,null,null,{"$f":"IF(H161=\"\",\"\",IF(I139=EUconst_NA,\"\",INDEX(EUwideConstants!$AL:$AR,MATCH(Q139,EUwideConstants!$S:$S,0),MATCH(I139,CNTR_TierList,0))))","v":""},null,null,null,true]
[null,null,null,"iii.","Oksidacijski faktor",null,null,"",null,null,null,null,null,null,null,null,null,null,{"$f":"IF(H162=\"\",\"\",IF(I140=EUconst_NA,\"\",INDEX(EUwideConstants!$AL:$AR,MATCH(Q140,EUwideConstants!$S:$S,0),MATCH(I140,CNTR_TierList,0))))","v":""},null,null,null,true]
[null,null,null,"iv.","Konverzijski faktor",null,null,"",null,null,null,null,null,null,null,null,null,null,{"$f":"IF(H163=\"\",\"\",IF(I141=EUconst_NA,\"\",INDEX(EUwideConstants!$AL:$AR,MATCH(Q141,EUwideConstants!$S:$S,0),MATCH(I141,CNTR_TierList,0))))","v":""},null,null,null,true]
[null,null,null,"v.","Sadržaj ugljika",null,null,"",null,null,null,null,null,null,null,null,null,null,{"$f":"IF(H164=\"\",\"\",IF(I142=EUconst_NA,\"\",INDEX(EUwideConstants!$AL:$AR,MATCH(Q142,EUwideConstants!$S:$S,0),MATCH(I142,CNTR_TierList,0))))","v":""},null,null,null,true]
[null,null,null,"vi.","Udio biomase (ukoliko je primjenjiv)",null,null,"",null,null,null,null,null,null,null,null,null,null,{"$f":"IF(H165=\"\",\"\",IF(I143=EUconst_NA,\"\",INDEX(EUwideConstants!$AL:$AR,MATCH(Q143,EUwideConstants!$S:$S,0),MATCH(I143,CNTR_TierList,0))))","v":""},null,null,null,true]
["HIDE_Example",null,null,{"$f":"Translations!$B$452","v":"Primjer:"}]
["HIDE_Example",null,null,null,{"$f":"E153","v":"Ovisno o odabranoj razini točnosti (zadane vrijednosti ili laboratorijska analiza) od vas se traži da, gdje je primjenjivo, unesete sljedeće informacije za svaki faktor proračuna:\n"},null,null,{"$f":"H159","v":"Korištena razina točnosti:"},{"$f":"I159","v":"Zadana vrijednost"},"Jedinica","Oznaka izvora","Oznaka analize","Oznaka uzorkovanja","Učestalost analiza",null,null,null,null,null,null,null,null,"cond. form."]
["HIDE_Example",null,null,"i.",{"$f":"E160","v":"Donja ogrjevna vrijednost (DOV)"},null,null,3,null,null,null,"L1, L3",{"$f":"Translations!$B$541","v":"DOV_uzorak"},{"$f":"Translations!$B$542","v":"Tjedno"},null,null,null,null,null,null,null,null,{"$f":"OR(H168=\"\",H168=EUconst_NA,J154=EUconst_NotApplicable)","v":false}]
["HIDE_Example",null,null,"ii.","Emisijski faktor (preliminarni)",null,null,"2a","74.1","t CO2 / TJ",{"$f":"Translations!$B$543","v":"IS5: IPCC"},null,null,null,null,null,null,null,null,null,null,null,false]
["HIDE_Example",null,null,"iii.","Oksidacijski faktor",null,null,1,100,"%",{"$f":"Translations!$B$544","v":"IS1: MRR"},null,null,null,null,null,null,null,null,null,null,null,false]
["HIDE_Example",null,null,"iv.","Konverzijski faktor",null,null,null,null,null,null,null,null,null,null,null,null,null,null,null,null,null,true]
["HIDE_Example",null,null,"v.","Sadržaj ugljika",null,null,null,null,null,null,null,null,null,null,null,null,null,null,null,null,null,true]
["HIDE_Example",null,null,"vi.","Udio biomase (ukoliko je primjenjiv)",null,null,null,null,null,null,null,null,null,null,null,null,null,null,null,null,null,true]
[]
[null,null,null,{"$f":"Translations!$B$545","v":"Komentari i objašnjenja"}]
[]
[null,null,null,"(h)",{"$f":"Translations!$B$1198","v":"Komentari i obrazloženja ako nisu primijenjene zahtijevane razine:"}]
[null,null,null,null,{"$f":"Translations!$B$1199","v":"U nastavku navedite eventualne relevantne komentare. Objašnjenja se posebno mogu zahtijevati npr. za metodu procjene biomase, metodu posrednih faktora (korelacija), primjenu članka 31. stavka 4., članka 37. stavka 2. Uredbe itd."}]
[null,null,null,null,{"$f":"Translations!$B$549","v":"Ovdje navedite obrazloženje ukoliko se prema članku 26. Uredbe bilo koja od potrebnih razina točnosti ne primjenjuje za podatke o djelatnosti ili bilo koji od važećih faktora proračuna."}]
[null,null,null,null,{"$f":"Translations!$B$550","v":"Gdje je u skladu sa člankom 26. potrebno dostaviti plan poboljšanja, treba ga dostaviti s ovim Planom praćenja te navesti referencu na isti u obrazloženju ispod. Gdje je obrazloženje temeljeno na neopravdano visokim troškovima, u skladu s člankom 18. Uredbe, tu procjenu treba dostaviti s ovim Planom praćenja i navesti referencu na isti u obrazloženju ispod.\n"}]
[]
[]
[]
[]
[]
[null,null,null,null,null,null,null,null,null,null,null,null,null,null,null,null,null,null,"Check source stream category","auto","manual"]
[null,null,{"$f":"\"F\"&Q187","v":"F2"},{"$f":"CONCATENATE(Euconst_SourceStream,\" \", Q187,\":\")","v":"Tok izvora 2:"},null,null,null,{"$f":"IF(INDEX('C_Opis postrojenja'!$F$194:$F$204,MATCH(C187,'C_Opis postrojenja'!$E$194:$E$204,0))>0,INDEX('C_Opis postrojenja'!$F$194:$F$204,MATCH(C187,'C_Opis postrojenja'!$E$194:$E$204,0)),\"\")","v":""},null,null,null,null,{"$f":"IF(S187=TRUE,IF(U187=\"\",T187,U187),\"\")","v":""},null,null,null,{"$f":"Q19+1","v":2},null,{"$f":"IF(INDEX('C_Opis postrojenja'!$M:$M,MATCH(Q189,'C_Opis postrojenja'!$Q:$Q,0))=\"\",FALSE,TRUE)","v":false},{"$f":"IF(S187=TRUE,INDEX('C_Opis postrojenja'!$M:$M,MATCH(Q189,'C_Opis postrojenja'!$Q:$Q,0)),\"\")","v":""},{"$f":"IF(S187=TRUE,IF(ISBLANK(INDEX('C_Opis postrojenja'!$N:$N,MATCH(Q189,'C_Opis postrojenja'!$Q:$Q,0))),\"\",INDEX('C_Opis postrojenja'!$N:$N,MATCH(Q189,'C_Opis postrojenja'!$Q:$Q,0))),\"\")","v":""}]
[]
[null,null,null,null,{"$f":"Translations!$B$437","v":"Vrsta toka izvora:"},null,null,{"$f":"IF(INDEX('C_Opis postrojenja'!$I$194:$I$204,MATCH(C187,'C_Opis postrojenja'!$E$194:$E$204,0))>0,INDEX('C_Opis postrojenja'!$I$194:$I$204,MATCH(C187,'C_Opis postrojenja'!$E$194:$E$204,0)),\"\")","v":""},null,null,null,null,null,null,null,null,{"$f":"EUconst_CNTR_SourceCategory&C187","v":"SourceCategory_F2"}]
[null,null,null,null,{"$f":"Translations!$B$438","v":"Primijenjiva metoda prema Uredbi:"},null,null,{"$f":"IF(H189=\"\",\"\",INDEX(EUwideConstants!F:F,MATCH(H189,EUwideConstants!Q:Q,0)))","v":""}]
[null,null,null,null,{"$f":"Translations!$B$439","v":"Parametar na koji se odnosi nesigurnost:"},null,null,{"$f":"IF(H189=\"\",\"\",INDEX(EUwideConstants!E:E,MATCH(H189,EUwideConstants!Q:Q,0)))","v":""}]
[]
[null,null,null,null,{"$f":"IF(H187=\"\",\"\",INDEX(EUconst_SmallEmiSouStreamMsg,MATCH(Q193,EUconst_SmallEmiSouStream,0)))","v":""},null,null,null,null,null,null,null,null,null,null,null,{"$f":"IF(CNTR_SmallEmitter=TRUE,EUconst_CNTR_SmallEmitter,EUconst_CNTR_NoSmallEmitter) & IF((CNTR_Category)=\"\",\"C\",CNTR_Category) & \"_\" & IF(M187=\"\",1,MATCH(M187,SourceCategory,0))","v":"NoSmallEmitter_C_1"}]
[]
[null,null,null,{"$f":"Translations!$B$454","v":"Podaci o aktivnosti:"}]
[]
[null,null,null,"(a)",{"$f":"Translations!$B$455","v":"Metoda određivanja podataka o aktivnosti:"}]
[]
[null,null,null,"i.",{"$f":"Translations!$B$456","v":"Metoda određivanja:"},null,null,null,null,null,null,null,null,null,null,null,null,null,null,null,null,null,{"$f":"IF(M187=\"\",\"\",IF(M187=INDEX(SourceCategory,3),1,IF(CNTR_InstHasCalculation=FALSE,0,2)))","v":""}]
[]
[null,null,null,null,null,{"$f":"Translations!$B$459","v":"Oznaka postupka za utvrđivanje zaliha na kraju godine:"},null,null,null,null,null,null,null,null,null,null,null,null,null,null,null,{"$f":"IF(OR(H187=\"\",ISBLANK(H199)),FALSE,IF(MATCH(H199,EUconst_ActivityDeterminationMethod,0)=2,TRUE,FALSE))","v":false},{"$f":"IF(V201=TRUE,0,W199)","v":""}]
[]
[null,null,null,"ii.",{"$f":"Translations!$B$462","v":"Instrumenti pod nadzorom:"},null,null,null,null,null,null,null,null,null,null,null,null,null,null,null,null,null,{"$f":"W199","v":""}]
[]
[null,null,null,null,"a.",{"$f":"Translations!$B$465","v":"Potvrdite da su ispunjeni zahtjevi iz članka 29. stavka 1. Uredbe"},null,null,null,null,null,null,null,null,null,null,null,null,null,null,null,{"$f":"IF(OR(H187=\"\",ISBLANK(H203)),FALSE,IF(MATCH(H203,EUconst_OwnerInstrument,0)=1,TRUE,FALSE))","v":false},{"$f":"IF(V205=TRUE,0,W199)","v":""}]
[]
[null,null,null,null,"b.",{"$f":"Translations!$B$468","v":"Koristite li fakture za utvrđivanje količine goriva ili sirovina?"},null,null,null,null,null,null,null,null,null,null,null,null,null,null,null,{"$f":"IF(OR(H187=\"\",ISBLANK(H203)),FALSE,IF(MATCH(H203,EUconst_OwnerInstrument,0)=1,TRUE,FALSE))","v":false},{"$f":"IF(V207=TRUE,0,W199)","v":""}]
[]
[null,null,null,null,"c.",{"$f":"Translations!$B$469","v":"Potvrdite da su trgovinski partner i operater neovisni."},null,null,null,null,null,null,null,null,null,null,null,null,null,null,null,{"$f":"IF(OR(H187=\"\",ISBLANK(H203)),FALSE,IF(MATCH(H203,EUconst_OwnerInstrument,0)=1,TRUE,FALSE))","v":false},{"$f":"IF(V209=TRUE,0,W199)","v":""}]
[]
[null,null,null,"(b)",{"$f":"Translations!$B$472","v":"Korišteni mjerni instrumenti:"}]
[]
[null,null,null,null,{"$f":"Translations!$B$475","v":"Komentar/opis pristupa ako se koristi više instrumenata:"}]
[]
[]
[]
[]
[null,null,null,"(c)",{"$f":"Translations!$B$477","v":"Zahtijevana razina točnosti za podatak o djelatnosti:"},null,null,{"$f":"IF(H189=\"\",\"\",IF(CNTR_Category=\"A\",INDEX(EUwideConstants!$G:$G,MATCH(Q218,EUwideConstants!$S:$S,0)),INDEX(EUwideConstants!$P:$P,MATCH(Q218,EUwideConstants!$S:$S,0))))","v":""},{"$f":"IF(H218=\"\",\"\",IF(S218=0,EUconst_NA,IF(ISERROR(S218),\"\",EUconst_MsgTierActivityLevel & \" \" &S218)))","v":""},null,null,null,null,null,null,null,{"$f":"EUconst_CNTR_ActivityData&H189","v":"ActivityData_"},null,{"$f":"IF(H218=\"\",\"\",IF(H218=EUconst_NA,\"\",INDEX(EUwideConstants!$H:$O,MATCH(Q218,EUwideConstants!$S:$S,0),MATCH(H218,CNTR_TierList,0))))","v":""}]
[null,null,null,"(d)",{"$f":"Translations!$B$478","v":"Korištena razina točnosti za podatak o djelatnosti:"},null,null,null,{"$f":"IF(OR(ISBLANK(H219),H219=EUconst_NoTier),\"\",IF(S219=0,EUconst_NA,IF(ISERROR(S219),\"\",EUconst_MsgTierActivityLevel & \" \" &S219)))","v":""},null,null,null,null,null,null,null,{"$f":"EUconst_CNTR_ActivityData&H189","v":"ActivityData_"},null,{"$f":"IF(ISBLANK(H219),\"\",IF(H219=EUconst_NA,\"\",INDEX(EUwideConstants!$H:$O,MATCH(Q219,EUwideConstants!$S:$S,0),MATCH(H219,CNTR_TierList,0))))","v":""}]
[null,null,null,"(e)",{"$f":"Translations!$B$479","v":"Postignuta nesigurnost:"},null,null,null,{"$f":"Translations!$B$480","v":"Komentar:"}]
[]
[null,null,null,{"$f":"Translations!$B$490","v":"Faktori proračuna:"}]
[]
[null,null,null,"(f)",{"$f":"Translations!$B$515","v":"Korištene razine točnosti za faktore proračuna:"}]
[]
[null,null,null,null,{"$f":"Translations!$B$516","v":"Faktor proračuna:"},null,null,{"$f":"Translations!$B$517","v":"Zahtijevana razina točnosti:"},{"$f":"Translations!$B$518","v":"Korištena razina točnosti:"},{"$f":"Translations!$B$519","v":"Puni tekst za korištenu razinu točnosti"},null,null,null,null,null,null,null,null,"full text tier",null,null,null,"cond. form."]
[null,null,null,"i.",{"$f":"Translations!$B$520","v":"Donja ogrjevna vrijednost (DOV)"},null,null,{"$f":"IF(H189=\"\",\"\",IF(CNTR_Category=\"A\",INDEX(EUwideConstants!$G:$G,MATCH(Q227,EUwideConstants!$S:$S,0)),INDEX(EUwideConstants!$P:$P,MATCH(Q227,EUwideConstants!$S:$S,0))))","v":""},null,{"$f":"IF(OR(ISBLANK(I227),I227=EUconst_NoTier),\"\",IF(S227=0,EUconst_NotApplicable,IF(ISERROR(S227),\"\",S227)))","v":""},null,null,null,null,null,null,{"$f":"EUconst_CNTR_NCV&H189","v":"NCV_"},null,{"$f":"IF(ISBLANK(I227),\"\",IF(I227=EUconst_NA,\"\",INDEX(EUwideConstants!$H:$O,MATCH(Q227,EUwideConstants!$S:$S,0),MATCH(I227,CNTR_TierList,0))))","v":""},null,null,null,{"$f":"(H227=EUconst_NA)","v":false}]
[null,null,null,"ii.",{"$f":"Translations!$B$521","v":"Emisijski faktor (preliminarni)"},null,null,{"$f":"IF(H189=\"\",\"\",IF(CNTR_Category=\"A\",INDEX(EUwideConstants!$G:$G,MATCH(Q228,EUwideConstants!$S:$S,0)),INDEX(EUwideConstants!$P:$P,MATCH(Q228,EUwideConstants!$S:$S,0))))","v":""},null,"",null,null,null,null,null,null,{"$f":"EUconst_CNTR_EF&H189","v":"EF_"},null,{"$f":"IF(ISBLANK(I228),\"\",IF(I228=EUconst_NA,\"\",INDEX(EUwideConstants!$H:$O,MATCH(Q228,EUwideConstants!$S:$S,0),MATCH(I228,CNTR_TierList,0))))","v":""},null,null,null,false]
[null,null,null,"iii.",{"$f":"Translations!$B$522","v":"Oksidacijski faktor"},null,null,{"$f":"IF(H189=\"\",\"\",IF(CNTR_Category=\"A\",INDEX(EUwideConstants!$G:$G,MATCH(Q229,EUwideConstants!$S:$S,0)),INDEX(EUwideConstants!$P:$P,MATCH(Q229,EUwideConstants!$S:$S,0))))","v":""},null,"",null,null,null,null,null,null,{"$f":"EUconst_CNTR_OxidationFactor&H189","v":"OxF_"},null,{"$f":"IF(ISBLANK(I229),\"\",IF(I229=EUconst_NA,\"\",INDEX(EUwideConstants!$H:$O,MATCH(Q229,EUwideConstants!$S:$S,0),MATCH(I229,CNTR_TierList,0))))","v":""},null,null,null,false]
[null,null,null,"iv.",{"$f":"Translations!$B$523","v":"Konverzijski faktor"},null,null,{"$f":"IF(H189=\"\",\"\",IF(CNTR_Category=\"A\",INDEX(EUwideConstants!$G:$G,MATCH(Q230,EUwideConstants!$S:$S,0)),INDEX(EUwideConstants!$P:$P,MATCH(Q230,EUwideConstants!$S:$S,0))))","v":""},null,"",null,null,null,null,null,null,{"$f":"EUconst_CNTR_ConversionFactor&H189","v":"ConvF_"},null,{"$f":"IF(ISBLANK(I230),\"\",IF(I230=EUconst_NA,\"\",INDEX(EUwideConstants!$H:$O,MATCH(Q230,EUwideConstants!$S:$S,0),MATCH(I230,CNTR_TierList,0))))","v":""},null,null,null,false]
[null,null,null,"v.",{"$f":"Translations!$B$524","v":"Sadržaj ugljika"},null,null,{"$f":"IF(H189=\"\",\"\",IF(CNTR_Category=\"A\",INDEX(EUwideConstants!$G:$G,MATCH(Q231,EUwideConstants!$S:$S,0)),INDEX(EUwideConstants!$P:$P,MATCH(Q231,EUwideConstants!$S:$S,0))))","v":""},null,"",null,null,null,null,null,null,{"$f":"EUconst_CNTR_CarbonContent&H189","v":"CarbC_"},null,{"$f":"IF(ISBLANK(I231),\"\",IF(I231=EUconst_NA,\"\",INDEX(EUwideConstants!$H:$O,MATCH(Q231,EUwideConstants!$S:$S,0),MATCH(I231,CNTR_TierList,0))))","v":""},null,null,null,false]
[null,null,null,"vi.",{"$f":"Translations!$B$525","v":"Udio biomase (ukoliko je primjenjiv)"},null,null,{"$f":"IF(H189=\"\",\"\",IF(CNTR_Category=\"A\",INDEX(EUwideConstants!$G:$G,MATCH(Q232,EUwideConstants!$S:$S,0)),INDEX(EUwideConstants!$P:$P,MATCH(Q232,EUwideConstants!$S:$S,0))))","v":""},null,"",null,null,null,null,null,null,{"$f":"EUconst_CNTR_BiomassContent&H189","v":"BioC_"},null,{"$f":"IF(ISBLANK(I232),\"\",IF(I232=EUconst_NA,\"\",INDEX(EUwideConstants!$H:$O,MATCH(Q232,EUwideConstants!$S:$S,0),MATCH(I232,CNTR_TierList,0))))","v":""},null,null,null,false]
[]
[null,null,null,"(g)",{"$f":"Translations!$B$534","v":"Detalji faktora proračuna:"}]
[]
[null,null,null,null,{"$f":"E226","v":"Faktor proračuna:"},null,null,{"$f":"I226","v":"Korištena razina točnosti:"},{"$f":"Translations!$B$535","v":"Zadana vrijednost"},{"$f":"Translations!$B$536","v":"Jedinica"},{"$f":"Translations!$B$537","v":"Oznaka izvora"},{"$f":"Translations!$B$538","v":"Oznaka analize"},{"$f":"Translations!$B$539","v":"Oznaka uzorkovanja"},{"$f":"Translations!$B$540","v":"Učestalost analiza"},null,null,null,null,"default value or lab",null,null,null,"cond. form."]
[null,null,null,"i.","Donja ogrjevna vrijednost (DOV)",null,null,{"$f":"IF(OR(ISBLANK(I227),I227=EUconst_NA),\"\",I227)","v":""},null,null,null,null,null,null,null,null,null,null,{"$f":"IF(H237=\"\",\"\",IF(I227=EUconst_NA,\"\",INDEX(EUwideConstants!$AL:$AR,MATCH(Q227,EUwideConstants!$S:$S,0),MATCH(I227,CNTR_TierList,0))))","v":""},null,null,null,{"$f":"OR(H237=\"\",H237=EUconst_NA,J227=EUconst_NotApplicable)","v":true}]
[null,null,null,"ii.","Emisijski faktor (preliminarni)",null,null,"",null,null,null,null,null,null,null,null,null,null,{"$f":"IF(H238=\"\",\"\",IF(I228=EUconst_NA,\"\",INDEX(EUwideConstants!$AL:$AR,MATCH(Q228,EUwideConstants!$S:$S,0),MATCH(I228,CNTR_TierList,0))))","v":""},null,null,null,true]
[null,null,null,"iii.","Oksidacijski faktor",null,null,"",null,null,null,null,null,null,null,null,null,null,{"$f":"IF(H239=\"\",\"\",IF(I229=EUconst_NA,\"\",INDEX(EUwideConstants!$AL:$AR,MATCH(Q229,EUwideConstants!$S:$S,0),MATCH(I229,CNTR_TierList,0))))","v":""},null,null,null,true]
[null,null,null,"iv.","Konverzijski faktor",null,null,"",null,null,null,null,null,null,null,null,null,null,{"$f":"IF(H240=\"\",\"\",IF(I230=EUconst_NA,\"\",INDEX(EUwideConstants!$AL:$AR,MATCH(Q230,EUwideConstants!$S:$S,0),MATCH(I230,CNTR_TierList,0))))","v":""},null,null,null,true]
[null,null,null,"v.","Sadržaj ugljika",null,null,"",null,null,null,null,null,null,null,null,null,null,{"$f":"IF(H241=\"\",\"\",IF(I231=EUconst_NA,\"\",INDEX(EUwideConstants!$AL:$AR,MATCH(Q231,EUwideConstants!$S:$S,0),MATCH(I231,CNTR_TierList,0))))","v":""},null,null,null,true]
[null,null,null,"vi.","Udio biomase (ukoliko je primjenjiv)",null,null,"",null,null,null,null,null,null,null,null,null,null,{"$f":"IF(H242=\"\",\"\",IF(I232=EUconst_NA,\"\",INDEX(EUwideConstants!$AL:$AR,MATCH(Q232,EUwideConstants!$S:$S,0),MATCH(I232,CNTR_TierList,0))))","v":""},null,null,null,true]
[]
[null,null,null,{"$f":"Translations!$B$545","v":"Komentari i objašnjenja"}]
[]
[null,null,null,"(h)",{"$f":"Translations!$B$1198","v":"Komentari i obrazloženja ako nisu primijenjene zahtijevane razine:"}]
[]
[]
[]
[]
[]
[null,null,null,null,null,null,null,null,null,null,null,null,null,null,null,null,null,null,"Check source stream category","auto","manual"]
[null,null,{"$f":"\"F\"&Q253","v":"F3"},{"$f":"CONCATENATE(Euconst_SourceStream,\" \", Q253,\":\")","v":"Tok izvora 3:"},null,null,null,{"$f":"IF(INDEX('C_Opis postrojenja'!$F$194:$F$204,MATCH(C253,'C_Opis postrojenja'!$E$194:$E$204,0))>0,INDEX('C_Opis postrojenja'!$F$194:$F$204,MATCH(C253,'C_Opis postrojenja'!$E$194:$E$204,0)),\"\")","v":""},null,null,null,null,{"$f":"IF(S253=TRUE,IF(U253=\"\",T253,U253),\"\")","v":""},null,null,null,{"$f":"Q187+1","v":3},null,{"$f":"IF(INDEX('C_Opis postrojenja'!$M:$M,MATCH(Q255,'C_Opis postrojenja'!$Q:$Q,0))=\"\",FALSE,TRUE)","v":false},{"$f":"IF(S253=TRUE,INDEX('C_Opis postrojenja'!$M:$M,MATCH(Q255,'C_Opis postrojenja'!$Q:$Q,0)),\"\")","v":""},{"$f":"IF(S253=TRUE,IF(ISBLANK(INDEX('C_Opis postrojenja'!$N:$N,MATCH(Q255,'C_Opis postrojenja'!$Q:$Q,0))),\"\",INDEX('C_Opis postrojenja'!$N:$N,MATCH(Q255,'C_Opis postrojenja'!$Q:$Q,0))),\"\")","v":""}]
[]
[null,null,null,null,{"$f":"Translations!$B$437","v":"Vrsta toka izvora:"},null,null,{"$f":"IF(INDEX('C_Opis postrojenja'!$I$194:$I$204,MATCH(C253,'C_Opis postrojenja'!$E$194:$E$204,0))>0,INDEX('C_Opis postrojenja'!$I$194:$I$204,MATCH(C253,'C_Opis postrojenja'!$E$194:$E$204,0)),\"\")","v":""},null,null,null,null,null,null,null,null,{"$f":"EUconst_CNTR_SourceCategory&C253","v":"SourceCategory_F3"}]
[null,null,null,null,{"$f":"Translations!$B$438","v":"Primijenjiva metoda prema Uredbi:"},null,null,{"$f":"IF(H255=\"\",\"\",INDEX(EUwideConstants!F:F,MATCH(H255,EUwideConstants!Q:Q,0)))","v":""}]
[null,null,null,null,{"$f":"Translations!$B$439","v":"Parametar na koji se odnosi nesigurnost:"},null,null,{"$f":"IF(H255=\"\",\"\",INDEX(EUwideConstants!E:E,MATCH(H255,EUwideConstants!Q:Q,0)))","v":""}]
[]
[null,null,null,null,{"$f":"IF(H253=\"\",\"\",INDEX(EUconst_SmallEmiSouStreamMsg,MATCH(Q259,EUconst_SmallEmiSouStream,0)))","v":""},null,null,null,null,null,null,null,null,null,null,null,{"$f":"IF(CNTR_SmallEmitter=TRUE,EUconst_CNTR_SmallEmitter,EUconst_CNTR_NoSmallEmitter) & IF((CNTR_Category)=\"\",\"C\",CNTR_Category) & \"_\" & IF(M253=\"\",1,MATCH(M253,SourceCategory,0))","v":"NoSmallEmitter_C_1"}]
[]
[null,null,null,{"$f":"Translations!$B$454","v":"Podaci o aktivnosti:"}]
[]
[null,null,null,"(a)",{"$f":"Translations!$B$455","v":"Metoda određivanja podataka o aktivnosti:"}]
[]
[null,null,null,"i.",{"$f":"Translations!$B$456","v":"Metoda određivanja:"},null,null,null,null,null,null,null,null,null,null,null,null,null,null,null,null,null,{"$f":"IF(M253=\"\",\"\",IF(M253=INDEX(SourceCategory,3),1,IF(CNTR_InstHasCalculation=FALSE,0,2)))","v":""}]
[]
[null,null,null,null,null,{"$f":"Translations!$B$459","v":"Oznaka postupka za utvrđivanje zaliha na kraju godine:"},null,null,null,null,null,null,null,null,null,null,null,null,null,null,null,{"$f":"IF(OR(H253=\"\",ISBLANK(H265)),FALSE,IF(MATCH(H265,EUconst_ActivityDeterminationMethod,0)=2,TRUE,FALSE))","v":false},{"$f":"IF(V267=TRUE,0,W265)","v":""}]
[]
[null,null,null,"ii.",{"$f":"Translations!$B$462","v":"Instrumenti pod nadzorom:"},null,null,null,null,null,null,null,null,null,null,null,null,null,null,null,null,null,{"$f":"W265","v":""}]
[]
[null,null,null,null,"a.",{"$f":"Translations!$B$465","v":"Potvrdite da su ispunjeni zahtjevi iz članka 29. stavka 1. Uredbe"},null,null,null,null,null,null,null,null,null,null,null,null,null,null,null,{"$f":"IF(OR(H253=\"\",ISBLANK(H269)),FALSE,IF(MATCH(H269,EUconst_OwnerInstrument,0)=1,TRUE,FALSE))","v":false},{"$f":"IF(V271=TRUE,0,W265)","v":""}]
[]
[null,null,null,null,"b.",{"$f":"Translations!$B$468","v":"Koristite li fakture za utvrđivanje količine goriva ili sirovina?"},null,null,null,null,null,null,null,null,null,null,null,null,null,null,null,{"$f":"IF(OR(H253=\"\",ISBLANK(H269)),FALSE,IF(MATCH(H269,EUconst_OwnerInstrument,0)=1,TRUE,FALSE))","v":false},{"$f":"IF(V273=TRUE,0,W265)","v":""}]
[]
[null,null,null,null,"c.",{"$f":"Translations!$B$469","v":"Potvrdite da su trgovinski partner i operater neovisni."},null,null,null,null,null,null,null,null,null,null,null,null,null,null,null,{"$f":"IF(OR(H253=\"\",ISBLANK(H269)),FALSE,IF(MATCH(H269,EUconst_OwnerInstrument,0)=1,TRUE,FALSE))","v":false},{"$f":"IF(V275=TRUE,0,W265)","v":""}]
[]
[null,null,null,"(b)",{"$f":"Translations!$B$472","v":"Korišteni mjerni instrumenti:"}]
[]
[null,null,null,null,{"$f":"Translations!$B$475","v":"Komentar/opis pristupa ako se koristi više instrumenata:"}]
[]
[]
[]
[]
[null,null,null,"(c)",{"$f":"Translations!$B$477","v":"Zahtijevana razina točnosti za podatak o djelatnosti:"},null,null,{"$f":"IF(H255=\"\",\"\",IF(CNTR_Category=\"A\",INDEX(EUwideConstants!$G:$G,MATCH(Q284,EUwideConstants!$S:$S,0)),INDEX(EUwideConstants!$P:$P,MATCH(Q284,EUwideConstants!$S:$S,0))))","v":""},{"$f":"IF(H284=\"\",\"\",IF(S284=0,EUconst_NA,IF(ISERROR(S284),\"\",EUconst_MsgTierActivityLevel & \" \" &S284)))","v":""},null,null,null,null,null,null,null,{"$f":"EUconst_CNTR_ActivityData&H255","v":"ActivityData_"},null,{"$f":"IF(H284=\"\",\"\",IF(H284=EUconst_NA,\"\",INDEX(EUwideConstants!$H:$O,MATCH(Q284,EUwideConstants!$S:$S,0),MATCH(H284,CNTR_TierList,0))))","v":""}]
[null,null,null,"(d)",{"$f":"Translations!$B$478","v":"Korištena razina točnosti za podatak o djelatnosti:"},null,null,null,{"$f":"IF(OR(ISBLANK(H285),H285=EUconst_NoTier),\"\",IF(S285=0,EUconst_NA,IF(ISERROR(S285),\"\",EUconst_MsgTierActivityLevel & \" \" &S285)))","v":""},null,null,null,null,null,null,null,{"$f":"EUconst_CNTR_ActivityData&H255","v":"ActivityData_"},null,{"$f":"IF(ISBLANK(H285),\"\",IF(H285=EUconst_NA,\"\",INDEX(EUwideConstants!$H:$O,MATCH(Q285,EUwideConstants!$S:$S,0),MATCH(H285,CNTR_TierList,0))))","v":""}]
[null,null,null,"(e)",{"$f":"Translations!$B$479","v":"Postignuta nesigurnost:"},null,null,null,{"$f":"Translations!$B$480","v":"Komentar:"}]
[]
[null,null,null,{"$f":"Translations!$B$490","v":"Faktori proračuna:"}]
[]
[null,null,null,"(f)",{"$f":"Translations!$B$515","v":"Korištene razine točnosti za faktore proračuna:"}]
[]
[null,null,null,null,{"$f":"Translations!$B$516","v":"Faktor proračuna:"},null,null,{"$f":"Translations!$B$517","v":"Zahtijevana razina točnosti:"},{"$f":"Translations!$B$518","v":"Korištena razina točnosti:"},{"$f":"Translations!$B$519","v":"Puni tekst za korištenu razinu točnosti"},null,null,null,null,null,null,null,null,"full text tier",null,null,null,"cond. form."]
[null,null,null,"i.",{"$f":"Translations!$B$520","v":"Donja ogrjevna vrijednost (DOV)"},null,null,{"$f":"IF(H255=\"\",\"\",IF(CNTR_Category=\"A\",INDEX(EUwideConstants!$G:$G,MATCH(Q293,EUwideConstants!$S:$S,0)),INDEX(EUwideConstants!$P:$P,MATCH(Q293,EUwideConstants!$S:$S,0))))","v":""},null,{"$f":"IF(OR(ISBLANK(I293),I293=EUconst_NoTier),\"\",IF(S293=0,EUconst_NotApplicable,IF(ISERROR(S293),\"\",S293)))","v":""},null,null,null,null,null,null,{"$f":"EUconst_CNTR_NCV&H255","v":"NCV_"},null,{"$f":"IF(ISBLANK(I293),\"\",IF(I293=EUconst_NA,\"\",INDEX(EUwideConstants!$H:$O,MATCH(Q293,EUwideConstants!$S:$S,0),MATCH(I293,CNTR_TierList,0))))","v":""},null,null,null,{"$f":"(H293=EUconst_NA)","v":false}]
[null,null,null,"ii.",{"$f":"Translations!$B$521","v":"Emisijski faktor (preliminarni)"},null,null,{"$f":"IF(H255=\"\",\"\",IF(CNTR_Category=\"A\",INDEX(EUwideConstants!$G:$G,MATCH(Q294,EUwideConstants!$S:$S,0)),INDEX(EUwideConstants!$P:$P,MATCH(Q294,EUwideConstants!$S:$S,0))))","v":""},null,"",null,null,null,null,null,null,{"$f":"EUconst_CNTR_EF&H255","v":"EF_"},null,{"$f":"IF(ISBLANK(I294),\"\",IF(I294=EUconst_NA,\"\",INDEX(EUwideConstants!$H:$O,MATCH(Q294,EUwideConstants!$S:$S,0),MATCH(I294,CNTR_TierList,0))))","v":""},null,null,null,false]
[null,null,null,"iii.",{"$f":"Translations!$B$522","v":"Oksidacijski faktor"},null,null,{"$f":"IF(H255=\"\",\"\",IF(CNTR_Category=\"A\",INDEX(EUwideConstants!$G:$G,MATCH(Q295,EUwideConstants!$S:$S,0)),INDEX(EUwideConstants!$P:$P,MATCH(Q295,EUwideConstants!$S:$S,0))))","v":""},null,"",null,null,null,null,null,null,{"$f":"EUconst_CNTR_OxidationFactor&H255","v":"OxF_"},null,{"$f":"IF(ISBLANK(I295),\"\",IF(I295=EUconst_NA,\"\",INDEX(EUwideConstants!$H:$O,MATCH(Q295,EUwideConstants!$S:$S,0),MATCH(I295,CNTR_TierList,0))))","v":""},null,null,null,false]
[null,null,null,"iv.",{"$f":"Translations!$B$523","v":"Konverzijski faktor"},null,null,{"$f":"IF(H255=\"\",\"\",IF(CNTR_Category=\"A\",INDEX(EUwideConstants!$G:$G,MATCH(Q296,EUwideConstants!$S:$S,0)),INDEX(EUwideConstants!$P:$P,MATCH(Q296,EUwideConstants!$S:$S,0))))","v":""},null,"",null,null,null,null,null,null,{"$f":"EUconst_CNTR_ConversionFactor&H255","v":"ConvF_"},null,{"$f":"IF(ISBLANK(I296),\"\",IF(I296=EUconst_NA,\"\",INDEX(EUwideConstants!$H:$O,MATCH(Q296,EUwideConstants!$S:$S,0),MATCH(I296,CNTR_TierList,0))))","v":""},null,null,null,false]
[null,null,null,"v.",{"$f":"Translations!$B$524","v":"Sadržaj ugljika"},null,null,{"$f":"IF(H255=\"\",\"\",IF(CNTR_Category=\"A\",INDEX(EUwideConstants!$G:$G,MATCH(Q297,EUwideConstants!$S:$S,0)),INDEX(EUwideConstants!$P:$P,MATCH(Q297,EUwideConstants!$S:$S,0))))","v":""},null,"",null,null,null,null,null,null,{"$f":"EUconst_CNTR_CarbonContent&H255","v":"CarbC_"},null,{"$f":"IF(ISBLANK(I297),\"\",IF(I297=EUconst_NA,\"\",INDEX(EUwideConstants!$H:$O,MATCH(Q297,EUwideConstants!$S:$S,0),MATCH(I297,CNTR_TierList,0))))","v":""},null,null,null,false]
[null,null,null,"vi.",{"$f":"Translations!$B$525","v":"Udio biomase (ukoliko je primjenjiv)"},null,null,{"$f":"IF(H255=\"\",\"\",IF(CNTR_Category=\"A\",INDEX(EUwideConstants!$G:$G,MATCH(Q298,EUwideConstants!$S:$S,0)),INDEX(EUwideConstants!$P:$P,MATCH(Q298,EUwideConstants!$S:$S,0))))","v":""},null,"",null,null,null,null,null,null,{"$f":"EUconst_CNTR_BiomassContent&H255","v":"BioC_"},null,{"$f":"IF(ISBLANK(I298),\"\",IF(I298=EUconst_NA,\"\",INDEX(EUwideConstants!$H:$O,MATCH(Q298,EUwideConstants!$S:$S,0),MATCH(I298,CNTR_TierList,0))))","v":""},null,null,null,false]
[]
[null,null,null,"(g)",{"$f":"Translations!$B$534","v":"Detalji faktora proračuna:"}]
[]
[null,null,null,null,{"$f":"E292","v":"Faktor proračuna:"},null,null,{"$f":"I292","v":"Korištena razina točnosti:"},{"$f":"Translations!$B$535","v":"Zadana vrijednost"},{"$f":"Translations!$B$536","v":"Jedinica"},{"$f":"Translations!$B$537","v":"Oznaka izvora"},{"$f":"Translations!$B$538","v":"Oznaka analize"},{"$f":"Translations!$B$539","v":"Oznaka uzorkovanja"},{"$f":"Translations!$B$540","v":"Učestalost analiza"},null,null,null,null,"default value or lab",null,null,null,"cond. form."]
[null,null,null,"i.","Donja ogrjevna vrijednost (DOV)",null,null,{"$f":"IF(OR(ISBLANK(I293),I293=EUconst_NA),\"\",I293)","v":""},null,null,null,null,null,null,null,null,null,null,{"$f":"IF(H303=\"\",\"\",IF(I293=EUconst_NA,\"\",INDEX(EUwideConstants!$AL:$AR,MATCH(Q293,EUwideConstants!$S:$S,0),MATCH(I293,CNTR_TierList,0))))","v":""},null,null,null,{"$f":"OR(H303=\"\",H303=EUconst_NA,J293=EUconst_NotApplicable)","v":true}]
[null,null,null,"ii.","Emisijski faktor (preliminarni)",null,null,"",null,null,null,null,null,null,null,null,null,null,{"$f":"IF(H304=\"\",\"\",IF(I294=EUconst_NA,\"\",INDEX(EUwideConstants!$AL:$AR,MATCH(Q294,EUwideConstants!$S:$S,0),MATCH(I294,CNTR_TierList,0))))","v":""},null,null,null,true]
[null,null,null,"iii.","Oksidacijski faktor",null,null,"",null,null,null,null,null,null,null,null,null,null,{"$f":"IF(H305=\"\",\"\",IF(I295=EUconst_NA,\"\",INDEX(EUwideConstants!$AL:$AR,MATCH(Q295,EUwideConstants!$S:$S,0),MATCH(I295,CNTR_TierList,0))))","v":""},null,null,null,true]
[null,null,null,"iv.","Konverzijski faktor",null,null,"",null,null,null,null,null,null,null,null,null,null,{"$f":"IF(H306=\"\",\"\",IF(I296=EUconst_NA,\"\",INDEX(EUwideConstants!$AL:$AR,MATCH(Q296,EUwideConstants!$S:$S,0),MATCH(I296,CNTR_TierList,0))))","v":""},null,null,null,true]
[null,null,null,"v.","Sadržaj ugljika",null,null,"",null,null,null,null,null,null,null,null,null,null,{"$f":"IF(H307=\"\",\"\",IF(I297=EUconst_NA,\"\",INDEX(EUwideConstants!$AL:$AR,MATCH(Q297,EUwideConstants!$S:$S,0),MATCH(I297,CNTR_TierList,0))))","v":""},null,null,null,true]
[null,null,null,"vi.","Udio biomase (ukoliko je primjenjiv)",null,null,"",null,null,null,null,null,null,null,null,null,null,{"$f":"IF(H308=\"\",\"\",IF(I298=EUconst_NA,\"\",INDEX(EUwideConstants!$AL:$AR,MATCH(Q298,EUwideConstants!$S:$S,0),MATCH(I298,CNTR_TierList,0))))","v":""},null,null,null,true]
[]
[null,null,null,{"$f":"Translations!$B$545","v":"Komentari i objašnjenja"}]
[]
[null,null,null,"(h)",{"$f":"Translations!$B$1198","v":"Komentari i obrazloženja ako nisu primijenjene zahtijevane razine:"}]
[]
[]
[]
[]
[]
[null,null,null,null,null,null,null,null,null,null,null,null,null,null,null,null,null,null,"Check source stream category","auto","manual"]
[null,null,{"$f":"\"F\"&Q319","v":"F4"},{"$f":"CONCATENATE(Euconst_SourceStream,\" \", Q319,\":\")","v":"Tok izvora 4:"},null,null,null,{"$f":"IF(INDEX('C_Opis postrojenja'!$F$194:$F$204,MATCH(C319,'C_Opis postrojenja'!$E$194:$E$204,0))>0,INDEX('C_Opis postrojenja'!$F$194:$F$204,MATCH(C319,'C_Opis postrojenja'!$E$194:$E$204,0)),\"\")","v":""},null,null,null,null,{"$f":"IF(S319=TRUE,IF(U319=\"\",T319,U319),\"\")","v":""},null,null,null,{"$f":"Q253+1","v":4},null,{"$f":"IF(INDEX('C_Opis postrojenja'!$M:$M,MATCH(Q321,'C_Opis postrojenja'!$Q:$Q,0))=\"\",FALSE,TRUE)","v":false},{"$f":"IF(S319=TRUE,INDEX('C_Opis postrojenja'!$M:$M,MATCH(Q321,'C_Opis postrojenja'!$Q:$Q,0)),\"\")","v":""},{"$f":"IF(S319=TRUE,IF(ISBLANK(INDEX('C_Opis postrojenja'!$N:$N,MATCH(Q321,'C_Opis postrojenja'!$Q:$Q,0))),\"\",INDEX('C_Opis postrojenja'!$N:$N,MATCH(Q321,'C_Opis postrojenja'!$Q:$Q,0))),\"\")","v":""}]
[]
[null,null,null,null,{"$f":"Translations!$B$437","v":"Vrsta toka izvora:"},null,null,{"$f":"IF(INDEX('C_Opis postrojenja'!$I$194:$I$204,MATCH(C319,'C_Opis postrojenja'!$E$194:$E$204,0))>0,INDEX('C_Opis postrojenja'!$I$194:$I$204,MATCH(C319,'C_Opis postrojenja'!$E$194:$E$204,0)),\"\")","v":""},null,null,null,null,null,null,null,null,{"$f":"EUconst_CNTR_SourceCategory&C319","v":"SourceCategory_F4"}]
[null,null,null,null,{"$f":"Translations!$B$438","v":"Primijenjiva metoda prema Uredbi:"},null,null,{"$f":"IF(H321=\"\",\"\",INDEX(EUwideConstants!F:F,MATCH(H321,EUwideConstants!Q:Q,0)))","v":""}]
[null,null,null,null,{"$f":"Translations!$B$439","v":"Parametar na koji se odnosi nesigurnost:"},null,null,{"$f":"IF(H321=\"\",\"\",INDEX(EUwideConstants!E:E,MATCH(H321,EUwideConstants!Q:Q,0)))","v":""}]
[]
[null,null,null,null,{"$f":"IF(H319=\"\",\"\",INDEX(EUconst_SmallEmiSouStreamMsg,MATCH(Q325,EUconst_SmallEmiSouStream,0)))","v":""},null,null,null,null,null,null,null,null,null,null,null,{"$f":"IF(CNTR_SmallEmitter=TRUE,EUconst_CNTR_SmallEmitter,EUconst_CNTR_NoSmallEmitter) & IF((CNTR_Category)=\"\",\"C\",CNTR_Category) & \"_\" & IF(M319=\"\",1,MATCH(M319,SourceCategory,0))","v":"NoSmallEmitter_C_1"}]
[]
[null,null,null,{"$f":"Translations!$B$454","v":"Podaci o aktivnosti:"}]
[]
[null,null,null,"(a)",{"$f":"Translations!$B$455","v":"Metoda određivanja podataka o aktivnosti:"}]
[]
[null,null,null,"i.",{"$f":"Translations!$B$456","v":"Metoda određivanja:"},null,null,null,null,null,null,null,null,null,null,null,null,null,null,null,null,null,{"$f":"IF(M319=\"\",\"\",IF(M319=INDEX(SourceCategory,3),1,IF(CNTR_InstHasCalculation=FALSE,0,2)))","v":""}]
[]
[null,null,null,null,null,{"$f":"Translations!$B$459","v":"Oznaka postupka za utvrđivanje zaliha na kraju godine:"},null,null,null,null,null,null,null,null,null,null,null,null,null,null,null,{"$f":"IF(OR(H319=\"\",ISBLANK(H331)),FALSE,IF(MATCH(H331,EUconst_ActivityDeterminationMethod,0)=2,TRUE,FALSE))","v":false},{"$f":"IF(V333=TRUE,0,W331)","v":""}]
[]
[null,null,null,"ii.",{"$f":"Translations!$B$462","v":"Instrumenti pod nadzorom:"},null,null,null,null,null,null,null,null,null,null,null,null,null,null,null,null,null,{"$f":"W331","v":""}]
[]
[null,null,null,null,"a.",{"$f":"Translations!$B$465","v":"Potvrdite da su ispunjeni zahtjevi iz članka 29. stavka 1. Uredbe"},null,null,null,null,null,null,null,null,null,null,null,null,null,null,null,{"$f":"IF(OR(H319=\"\",ISBLANK(H335)),FALSE,IF(MATCH(H335,EUconst_OwnerInstrument,0)=1,TRUE,FALSE))","v":false},{"$f":"IF(V337=TRUE,0,W331)","v":""}]
[]
[null,null,null,null,"b.",{"$f":"Translations!$B$468","v":"Koristite li fakture za utvrđivanje količine goriva ili sirovina?"},null,null,null,null,null,null,null,null,null,null,null,null,null,null,null,{"$f":"IF(OR(H319=\"\",ISBLANK(H335)),FALSE,IF(MATCH(H335,EUconst_OwnerInstrument,0)=1,TRUE,FALSE))","v":false},{"$f":"IF(V339=TRUE,0,W331)","v":""}]
[]
[null,null,null,null,"c.",{"$f":"Translations!$B$469","v":"Potvrdite da su trgovinski partner i operater neovisni."},null,null,null,null,null,null,null,null,null,null,null,null,null,null,null,{"$f":"IF(OR(H319=\"\",ISBLANK(H335)),FALSE,IF(MATCH(H335,EUconst_OwnerInstrument,0)=1,TRUE,FALSE))","v":false},{"$f":"IF(V341=TRUE,0,W331)","v":""}]
[]
[null,null,null,"(b)",{"$f":"Translations!$B$472","v":"Korišteni mjerni instrumenti:"}]
[]
[null,null,null,null,{"$f":"Translations!$B$475","v":"Komentar/opis pristupa ako se koristi više instrumenata:"}]
[]
[]
[]
[]
[null,null,null,"(c)",{"$f":"Translations!$B$477","v":"Zahtijevana razina točnosti za podatak o djelatnosti:"},null,null,{"$f":"IF(H321=\"\",\"\",IF(CNTR_Category=\"A\",INDEX(EUwideConstants!$G:$G,MATCH(Q350,EUwideConstants!$S:$S,0)),INDEX(EUwideConstants!$P:$P,MATCH(Q350,EUwideConstants!$S:$S,0))))","v":""},{"$f":"IF(H350=\"\",\"\",IF(S350=0,EUconst_NA,IF(ISERROR(S350),\"\",EUconst_MsgTierActivityLevel & \" \" &S350)))","v":""},null,null,null,null,null,null,null,{"$f":"EUconst_CNTR_ActivityData&H321","v":"ActivityData_"},null,{"$f":"IF(H350=\"\",\"\",IF(H350=EUconst_NA,\"\",INDEX(EUwideConstants!$H:$O,MATCH(Q350,EUwideConstants!$S:$S,0),MATCH(H350,CNTR_TierList,0))))","v":""}]
[null,null,null,"(d)",{"$f":"Translations!$B$478","v":"Korištena razina točnosti za podatak o djelatnosti:"},null,null,null,{"$f":"IF(OR(ISBLANK(H351),H351=EUconst_NoTier),\"\",IF(S351=0,EUconst_NA,IF(ISERROR(S351),\"\",EUconst_MsgTierActivityLevel & \" \" &S351)))","v":""},null,null,null,null,null,null,null,{"$f":"EUconst_CNTR_ActivityData&H321","v":"ActivityData_"},null,{"$f":"IF(ISBLANK(H351),\"\",IF(H351=EUconst_NA,\"\",INDEX(EUwideConstants!$H:$O,MATCH(Q351,EUwideConstants!$S:$S,0),MATCH(H351,CNTR_TierList,0))))","v":""}]
[null,null,null,"(e)",{"$f":"Translations!$B$479","v":"Postignuta nesigurnost:"},null,null,null,{"$f":"Translations!$B$480","v":"Komentar:"}]
[]
[null,null,null,{"$f":"Translations!$B$490","v":"Faktori proračuna:"}]
[]
[null,null,null,"(f)",{"$f":"Translations!$B$515","v":"Korištene razine točnosti za faktore proračuna:"}]
[]
[null,null,null,null,{"$f":"Translations!$B$516","v":"Faktor proračuna:"},null,null,{"$f":"Translations!$B$517","v":"Zahtijevana razina točnosti:"},{"$f":"Translations!$B$518","v":"Korištena razina točnosti:"},{"$f":"Translations!$B$519","v":"Puni tekst za korištenu razinu točnosti"},null,null,null,null,null,null,null,null,"full text tier",null,null,null,"cond. form."]
[null,null,null,"i.",{"$f":"Translations!$B$520","v":"Donja ogrjevna vrijednost (DOV)"},null,null,{"$f":"IF(H321=\"\",\"\",IF(CNTR_Category=\"A\",INDEX(EUwideConstants!$G:$G,MATCH(Q359,EUwideConstants!$S:$S,0)),INDEX(EUwideConstants!$P:$P,MATCH(Q359,EUwideConstants!$S:$S,0))))","v":""},null,{"$f":"IF(OR(ISBLANK(I359),I359=EUconst_NoTier),\"\",IF(S359=0,EUconst_NotApplicable,IF(ISERROR(S359),\"\",S359)))","v":""},null,null,null,null,null,null,{"$f":"EUconst_CNTR_NCV&H321","v":"NCV_"},null,{"$f":"IF(ISBLANK(I359),\"\",IF(I359=EUconst_NA,\"\",INDEX(EUwideConstants!$H:$O,MATCH(Q359,EUwideConstants!$S:$S,0),MATCH(I359,CNTR_TierList,0))))","v":""},null,null,null,{"$f":"(H359=EUconst_NA)","v":false}]
[null,null,null,"ii.",{"$f":"Translations!$B$521","v":"Emisijski faktor (preliminarni)"},null,null,{"$f":"IF(H321=\"\",\"\",IF(CNTR_Category=\"A\",INDEX(EUwideConstants!$G:$G,MATCH(Q360,EUwideConstants!$S:$S,0)),INDEX(EUwideConstants!$P:$P,MATCH(Q360,EUwideConstants!$S:$S,0))))","v":""},null,"",null,null,null,null,null,null,{"$f":"EUconst_CNTR_EF&H321","v":"EF_"},null,{"$f":"IF(ISBLANK(I360),\"\",IF(I360=EUconst_NA,\"\",INDEX(EUwideConstants!$H:$O,MATCH(Q360,EUwideConstants!$S:$S,0),MATCH(I360,CNTR_TierList,0))))","v":""},null,null,null,false]
[null,null,null,"iii.",{"$f":"Translations!$B$522","v":"Oksidacijski faktor"},null,null,{"$f":"IF(H321=\"\",\"\",IF(CNTR_Category=\"A\",INDEX(EUwideConstants!$G:$G,MATCH(Q361,EUwideConstants!$S:$S,0)),INDEX(EUwideConstants!$P:$P,MATCH(Q361,EUwideConstants!$S:$S,0))))","v":""},null,"",null,null,null,null,null,null,{"$f":"EUconst_CNTR_OxidationFactor&H321","v":"OxF_"},null,{"$f":"IF(ISBLANK(I361),\"\",IF(I361=EUconst_NA,\"\",INDEX(EUwideConstants!$H:$O,MATCH(Q361,EUwideConstants!$S:$S,0),MATCH(I361,CNTR_TierList,0))))","v":""},null,null,null,false]
[null,null,null,"iv.",{"$f":"Translations!$B$523","v":"Konverzijski faktor"},null,null,{"$f":"IF(H321=\"\",\"\",IF(CNTR_Category=\"A\",INDEX(EUwideConstants!$G:$G,MATCH(Q362,EUwideConstants!$S:$S,0)),INDEX(EUwideConstants!$P:$P,MATCH(Q362,EUwideConstants!$S:$S,0))))","v":""},null,"",null,null,null,null,null,null,{"$f":"EUconst_CNTR_ConversionFactor&H321","v":"ConvF_"},null,{"$f":"IF(ISBLANK(I362),\"\",IF(I362=EUconst_NA,\"\",INDEX(EUwideConstants!$H:$O,MATCH(Q362,EUwideConstants!$S:$S,0),MATCH(I362,CNTR_TierList,0))))","v":""},null,null,null,false]
[null,null,null,"v.",{"$f":"Translations!$B$524","v":"Sadržaj ugljika"},null,null,{"$f":"IF(H321=\"\",\"\",IF(CNTR_Category=\"A\",INDEX(EUwideConstants!$G:$G,MATCH(Q363,EUwideConstants!$S:$S,0)),INDEX(EUwideConstants!$P:$P,MATCH(Q363,EUwideConstants!$S:$S,0))))","v":""},null,"",null,null,null,null,null,null,{"$f":"EUconst_CNTR_CarbonContent&H321","v":"CarbC_"},null,{"$f":"IF(ISBLANK(I363),\"\",IF(I363=EUconst_NA,\"\",INDEX(EUwideConstants!$H:$O,MATCH(Q363,EUwideConstants!$S:$S,0),MATCH(I363,CNTR_TierList,0))))","v":""},null,null,null,false]
[null,null,null,"vi.",{"$f":"Translations!$B$525","v":"Udio biomase (ukoliko je primjenjiv)"},null,null,{"$f":"IF(H321=\"\",\"\",IF(CNTR_Category=\"A\",INDEX(EUwideConstants!$G:$G,MATCH(Q364,EUwideConstants!$S:$S,0)),INDEX(EUwideConstants!$P:$P,MATCH(Q364,EUwideConstants!$S:$S,0))))","v":""},null,"",null,null,null,null,null,null,{"$f":"EUconst_CNTR_BiomassContent&H321","v":"BioC_"},null,{"$f":"IF(ISBLANK(I364),\"\",IF(I364=EUconst_NA,\"\",INDEX(EUwideConstants!$H:$O,MATCH(Q364,EUwideConstants!$S:$S,0),MATCH(I364,CNTR_TierList,0))))","v":""},null,null,null,false]
[]
[null,null,null,"(g)",{"$f":"Translations!$B$534","v":"Detalji faktora proračuna:"}]
[]
[null,null,null,null,{"$f":"E358","v":"Faktor proračuna:"},null,null,{"$f":"I358","v":"Korištena razina točnosti:"},{"$f":"Translations!$B$535","v":"Zadana vrijednost"},{"$f":"Translations!$B$536","v":"Jedinica"},{"$f":"Translations!$B$537","v":"Oznaka izvora"},{"$f":"Translations!$B$538","v":"Oznaka analize"},{"$f":"Translations!$B$539","v":"Oznaka uzorkovanja"},{"$f":"Translations!$B$540","v":"Učestalost analiza"},null,null,null,null,"default value or lab",null,null,null,"cond. form."]
[null,null,null,"i.","Donja ogrjevna vrijednost (DOV)",null,null,{"$f":"IF(OR(ISBLANK(I359),I359=EUconst_NA),\"\",I359)","v":""},null,null,null,null,null,null,null,null,null,null,{"$f":"IF(H369=\"\",\"\",IF(I359=EUconst_NA,\"\",INDEX(EUwideConstants!$AL:$AR,MATCH(Q359,EUwideConstants!$S:$S,0),MATCH(I359,CNTR_TierList,0))))","v":""},null,null,null,{"$f":"OR(H369=\"\",H369=EUconst_NA,J359=EUconst_NotApplicable)","v":true}]
[null,null,null,"ii.","Emisijski faktor (preliminarni)",null,null,"",null,null,null,null,null,null,null,null,null,null,{"$f":"IF(H370=\"\",\"\",IF(I360=EUconst_NA,\"\",INDEX(EUwideConstants!$AL:$AR,MATCH(Q360,EUwideConstants!$S:$S,0),MATCH(I360,CNTR_TierList,0))))","v":""},null,null,null,true]
[null,null,null,"iii.","Oksidacijski faktor",null,null,"",null,null,null,null,null,null,null,null,null,null,{"$f":"IF(H371=\"\",\"\",IF(I361=EUconst_NA,\"\",INDEX(EUwideConstants!$AL:$AR,MATCH(Q361,EUwideConstants!$S:$S,0),MATCH(I361,CNTR_TierList,0))))","v":""},null,null,null,true]
[null,null,null,"iv.","Konverzijski faktor",null,null,"",null,null,null,null,null,null,null,null,null,null,{"$f":"IF(H372=\"\",\"\",IF(I362=EUconst_NA,\"\",INDEX(EUwideConstants!$AL:$AR,MATCH(Q362,EUwideConstants!$S:$S,0),MATCH(I362,CNTR_TierList,0))))","v":""},null,null,null,true]
[null,null,null,"v.","Sadržaj ugljika",null,null,"",null,null,null,null,null,null,null,null,null,null,{"$f":"IF(H373=\"\",\"\",IF(I363=EUconst_NA,\"\",INDEX(EUwideConstants!$AL:$AR,MATCH(Q363,EUwideConstants!$S:$S,0),MATCH(I363,CNTR_TierList,0))))","v":""},null,null,null,true]
[null,null,null,"vi.","Udio biomase (ukoliko je primjenjiv)",null,null,"",null,null,null,null,null,null,null,null,null,null,{"$f":"IF(H374=\"\",\"\",IF(I364=EUconst_NA,\"\",INDEX(EUwideConstants!$AL:$AR,MATCH(Q364,EUwideConstants!$S:$S,0),MATCH(I364,CNTR_TierList,0))))","v":""},null,null,null,true]
[]
[null,null,null,{"$f":"Translations!$B$545","v":"Komentari i objašnjenja"}]
[]
[null,null,null,"(h)",{"$f":"Translations!$B$1198","v":"Komentari i obrazloženja ako nisu primijenjene zahtijevane razine:"}]
[]
[]
[]
[]
[]
[null,null,null,null,null,null,null,null,null,null,null,null,null,null,null,null,null,null,"Check source stream category","auto","manual"]
[null,null,{"$f":"\"F\"&Q385","v":"F5"},{"$f":"CONCATENATE(Euconst_SourceStream,\" \", Q385,\":\")","v":"Tok izvora 5:"},null,null,null,{"$f":"IF(INDEX('C_Opis postrojenja'!$F$194:$F$204,MATCH(C385,'C_Opis postrojenja'!$E$194:$E$204,0))>0,INDEX('C_Opis postrojenja'!$F$194:$F$204,MATCH(C385,'C_Opis postrojenja'!$E$194:$E$204,0)),\"\")","v":""},null,null,null,null,{"$f":"IF(S385=TRUE,IF(U385=\"\",T385,U385),\"\")","v":""},null,null,null,{"$f":"Q319+1","v":5},null,{"$f":"IF(INDEX('C_Opis postrojenja'!$M:$M,MATCH(Q387,'C_Opis postrojenja'!$Q:$Q,0))=\"\",FALSE,TRUE)","v":false},{"$f":"IF(S385=TRUE,INDEX('C_Opis postrojenja'!$M:$M,MATCH(Q387,'C_Opis postrojenja'!$Q:$Q,0)),\"\")","v":""},{"$f":"IF(S385=TRUE,IF(ISBLANK(INDEX('C_Opis postrojenja'!$N:$N,MATCH(Q387,'C_Opis postrojenja'!$Q:$Q,0))),\"\",INDEX('C_Opis postrojenja'!$N:$N,MATCH(Q387,'C_Opis postrojenja'!$Q:$Q,0))),\"\")","v":""}]
[]
[null,null,null,null,{"$f":"Translations!$B$437","v":"Vrsta toka izvora:"},null,null,{"$f":"IF(INDEX('C_Opis postrojenja'!$I$194:$I$204,MATCH(C385,'C_Opis postrojenja'!$E$194:$E$204,0))>0,INDEX('C_Opis postrojenja'!$I$194:$I$204,MATCH(C385,'C_Opis postrojenja'!$E$194:$E$204,0)),\"\")","v":""},null,null,null,null,null,null,null,null,{"$f":"EUconst_CNTR_SourceCategory&C385","v":"SourceCategory_F5"}]
[null,null,null,null,{"$f":"Translations!$B$438","v":"Primijenjiva metoda prema Uredbi:"},null,null,{"$f":"IF(H387=\"\",\"\",INDEX(EUwideConstants!F:F,MATCH(H387,EUwideConstants!Q:Q,0)))","v":""}]
[null,null,null,null,{"$f":"Translations!$B$439","v":"Parametar na koji se odnosi nesigurnost:"},null,null,{"$f":"IF(H387=\"\",\"\",INDEX(EUwideConstants!E:E,MATCH(H387,EUwideConstants!Q:Q,0)))","v":""}]
[]
[null,null,null,null,{"$f":"IF(H385=\"\",\"\",INDEX(EUconst_SmallEmiSouStreamMsg,MATCH(Q391,EUconst_SmallEmiSouStream,0)))","v":""},null,null,null,null,null,null,null,null,null,null,null,{"$f":"IF(CNTR_SmallEmitter=TRUE,EUconst_CNTR_SmallEmitter,EUconst_CNTR_NoSmallEmitter) & IF((CNTR_Category)=\"\",\"C\",CNTR_Category) & \"_\" & IF(M385=\"\",1,MATCH(M385,SourceCategory,0))","v":"NoSmallEmitter_C_1"}]
[]
[null,null,null,{"$f":"Translations!$B$454","v":"Podaci o aktivnosti:"}]
[]
[null,null,null,"(a)",{"$f":"Translations!$B$455","v":"Metoda određivanja podataka o aktivnosti:"}]
[]
[null,null,null,"i.",{"$f":"Translations!$B$456","v":"Metoda određivanja:"},null,null,null,null,null,null,null,null,null,null,null,null,null,null,null,null,null,{"$f":"IF(M385=\"\",\"\",IF(M385=INDEX(SourceCategory,3),1,IF(CNTR_InstHasCalculation=FALSE,0,2)))","v":""}]
[]
[null,null,null,null,null,{"$f":"Translations!$B$459","v":"Oznaka postupka za utvrđivanje zaliha na kraju godine:"},null,null,null,null,null,null,null,null,null,null,null,null,null,null,null,{"$f":"IF(OR(H385=\"\",ISBLANK(H397)),FALSE,IF(MATCH(H397,EUconst_ActivityDeterminationMethod,0)=2,TRUE,FALSE))","v":false},{"$f":"IF(V399=TRUE,0,W397)","v":""}]
[]
[null,null,null,"ii.",{"$f":"Translations!$B$462","v":"Instrumenti pod nadzorom:"},null,null,null,null,null,null,null,null,null,null,null,null,null,null,null,null,null,{"$f":"W397","v":""}]
[]
[null,null,null,null,"a.",{"$f":"Translations!$B$465","v":"Potvrdite da su ispunjeni zahtjevi iz članka 29. stavka 1. Uredbe"},null,null,null,null,null,null,null,null,null,null,null,null,null,null,null,{"$f":"IF(OR(H385=\"\",ISBLANK(H401)),FALSE,IF(MATCH(H401,EUconst_OwnerInstrument,0)=1,TRUE,FALSE))","v":false},{"$f":"IF(V403=TRUE,0,W397)","v":""}]
[]
[null,null,null,null,"b.",{"$f":"Translations!$B$468","v":"Koristite li fakture za utvrđivanje količine goriva ili sirovina?"},null,null,null,null,null,null,null,null,null,null,null,null,null,null,null,{"$f":"IF(OR(H385=\"\",ISBLANK(H401)),FALSE,IF(MATCH(H401,EUconst_OwnerInstrument,0)=1,TRUE,FALSE))","v":false},{"$f":"IF(V405=TRUE,0,W397)","v":""}]
[]
[null,null,null,null,"c.",{"$f":"Translations!$B$469","v":"Potvrdite da su trgovinski partner i operater neovisni."},null,null,null,null,null,null,null,null,null,null,null,null,null,null,null,{"$f":"IF(OR(H385=\"\",ISBLANK(H401)),FALSE,IF(MATCH(H401,EUconst_OwnerInstrument,0)=1,TRUE,FALSE))","v":false},{"$f":"IF(V407=TRUE,0,W397)","v":""}]
[]
[null,null,null,"(b)",{"$f":"Translations!$B$472","v":"Korišteni mjerni instrumenti:"}]
[]
[null,null,null,null,{"$f":"Translations!$B$475","v":"Komentar/opis pristupa ako se koristi više instrumenata:"}]
[]
[]
[]
[]
[null,null,null,"(c)",{"$f":"Translations!$B$477","v":"Zahtijevana razina točnosti za podatak o djelatnosti:"},null,null,{"$f":"IF(H387=\"\",\"\",IF(CNTR_Category=\"A\",INDEX(EUwideConstants!$G:$G,MATCH(Q416,EUwideConstants!$S:$S,0)),INDEX(EUwideConstants!$P:$P,MATCH(Q416,EUwideConstants!$S:$S,0))))","v":""},{"$f":"IF(H416=\"\",\"\",IF(S416=0,EUconst_NA,IF(ISERROR(S416),\"\",EUconst_MsgTierActivityLevel & \" \" &S416)))","v":""},null,null,null,null,null,null,null,{"$f":"EUconst_CNTR_ActivityData&H387","v":"ActivityData_"},null,{"$f":"IF(H416=\"\",\"\",IF(H416=EUconst_NA,\"\",INDEX(EUwideConstants!$H:$O,MATCH(Q416,EUwideConstants!$S:$S,0),MATCH(H416,CNTR_TierList,0))))","v":""}]
[null,null,null,"(d)",{"$f":"Translations!$B$478","v":"Korištena razina točnosti za podatak o djelatnosti:"},null,null,null,{"$f":"IF(OR(ISBLANK(H417),H417=EUconst_NoTier),\"\",IF(S417=0,EUconst_NA,IF(ISERROR(S417),\"\",EUconst_MsgTierActivityLevel & \" \" &S417)))","v":""},null,null,null,null,null,null,null,{"$f":"EUconst_CNTR_ActivityData&H387","v":"ActivityData_"},null,{"$f":"IF(ISBLANK(H417),\"\",IF(H417=EUconst_NA,\"\",INDEX(EUwideConstants!$H:$O,MATCH(Q417,EUwideConstants!$S:$S,0),MATCH(H417,CNTR_TierList,0))))","v":""}]
[null,null,null,"(e)",{"$f":"Translations!$B$479","v":"Postignuta nesigurnost:"},null,null,null,{"$f":"Translations!$B$480","v":"Komentar:"}]
[]
[null,null,null,{"$f":"Translations!$B$490","v":"Faktori proračuna:"}]
[]
[null,null,null,"(f)",{"$f":"Translations!$B$515","v":"Korištene razine točnosti za faktore proračuna:"}]
[]
[null,null,null,null,{"$f":"Translations!$B$516","v":"Faktor proračuna:"},null,null,{"$f":"Translations!$B$517","v":"Zahtijevana razina točnosti:"},{"$f":"Translations!$B$518","v":"Korištena razina točnosti:"},{"$f":"Translations!$B$519","v":"Puni tekst za korištenu razinu točnosti"},null,null,null,null,null,null,null,null,"full text tier",null,null,null,"cond. form."]
[null,null,null,"i.",{"$f":"Translations!$B$520","v":"Donja ogrjevna vrijednost (DOV)"},null,null,{"$f":"IF(H387=\"\",\"\",IF(CNTR_Category=\"A\",INDEX(EUwideConstants!$G:$G,MATCH(Q425,EUwideConstants!$S:$S,0)),INDEX(EUwideConstants!$P:$P,MATCH(Q425,EUwideConstants!$S:$S,0))))","v":""},null,{"$f":"IF(OR(ISBLANK(I425),I425=EUconst_NoTier),\"\",IF(S425=0,EUconst_NotApplicable,IF(ISERROR(S425),\"\",S425)))","v":""},null,null,null,null,null,null,{"$f":"EUconst_CNTR_NCV&H387","v":"NCV_"},null,{"$f":"IF(ISBLANK(I425),\"\",IF(I425=EUconst_NA,\"\",INDEX(EUwideConstants!$H:$O,MATCH(Q425,EUwideConstants!$S:$S,0),MATCH(I425,CNTR_TierList,0))))","v":""},null,null,null,{"$f":"(H425=EUconst_NA)","v":false}]
[null,null,null,"ii.",{"$f":"Translations!$B$521","v":"Emisijski faktor (preliminarni)"},null,null,{"$f":"IF(H387=\"\",\"\",IF(CNTR_Category=\"A\",INDEX(EUwideConstants!$G:$G,MATCH(Q426,EUwideConstants!$S:$S,0)),INDEX(EUwideConstants!$P:$P,MATCH(Q426,EUwideConstants!$S:$S,0))))","v":""},null,"",null,null,null,null,null,null,{"$f":"EUconst_CNTR_EF&H387","v":"EF_"},null,{"$f":"IF(ISBLANK(I426),\"\",IF(I426=EUconst_NA,\"\",INDEX(EUwideConstants!$H:$O,MATCH(Q426,EUwideConstants!$S:$S,0),MATCH(I426,CNTR_TierList,0))))","v":""},null,null,null,false]
[null,null,null,"iii.",{"$f":"Translations!$B$522","v":"Oksidacijski faktor"},null,null,{"$f":"IF(H387=\"\",\"\",IF(CNTR_Category=\"A\",INDEX(EUwideConstants!$G:$G,MATCH(Q427,EUwideConstants!$S:$S,0)),INDEX(EUwideConstants!$P:$P,MATCH(Q427,EUwideConstants!$S:$S,0))))","v":""},null,"",null,null,null,null,null,null,{"$f":"EUconst_CNTR_OxidationFactor&H387","v":"OxF_"},null,{"$f":"IF(ISBLANK(I427),\"\",IF(I427=EUconst_NA,\"\",INDEX(EUwideConstants!$H:$O,MATCH(Q427,EUwideConstants!$S:$S,0),MATCH(I427,CNTR_TierList,0))))","v":""},null,null,null,false]
[null,null,null,"iv.",{"$f":"Translations!$B$523","v":"Konverzijski faktor"},null,null,{"$f":"IF(H387=\"\",\"\",IF(CNTR_Category=\"A\",INDEX(EUwideConstants!$G:$G,MATCH(Q428,EUwideConstants!$S:$S,0)),INDEX(EUwideConstants!$P:$P,MATCH(Q428,EUwideConstants!$S:$S,0))))","v":""},null,"",null,null,null,null,null,null,{"$f":"EUconst_CNTR_ConversionFactor&H387","v":"ConvF_"},null,{"$f":"IF(ISBLANK(I428),\"\",IF(I428=EUconst_NA,\"\",INDEX(EUwideConstants!$H:$O,MATCH(Q428,EUwideConstants!$S:$S,0),MATCH(I428,CNTR_TierList,0))))","v":""},null,null,null,false]
[null,null,null,"v.",{"$f":"Translations!$B$524","v":"Sadržaj ugljika"},null,null,{"$f":"IF(H387=\"\",\"\",IF(CNTR_Category=\"A\",INDEX(EUwideConstants!$G:$G,MATCH(Q429,EUwideConstants!$S:$S,0)),INDEX(EUwideConstants!$P:$P,MATCH(Q429,EUwideConstants!$S:$S,0))))","v":""},null,"",null,null,null,null,null,null,{"$f":"EUconst_CNTR_CarbonContent&H387","v":"CarbC_"},null,{"$f":"IF(ISBLANK(I429),\"\",IF(I429=EUconst_NA,\"\",INDEX(EUwideConstants!$H:$O,MATCH(Q429,EUwideConstants!$S:$S,0),MATCH(I429,CNTR_TierList,0))))","v":""},null,null,null,false]
[null,null,null,"vi.",{"$f":"Translations!$B$525","v":"Udio biomase (ukoliko je primjenjiv)"},null,null,{"$f":"IF(H387=\"\",\"\",IF(CNTR_Category=\"A\",INDEX(EUwideConstants!$G:$G,MATCH(Q430,EUwideConstants!$S:$S,0)),INDEX(EUwideConstants!$P:$P,MATCH(Q430,EUwideConstants!$S:$S,0))))","v":""},null,"",null,null,null,null,null,null,{"$f":"EUconst_CNTR_BiomassContent&H387","v":"BioC_"},null,{"$f":"IF(ISBLANK(I430),\"\",IF(I430=EUconst_NA,\"\",INDEX(EUwideConstants!$H:$O,MATCH(Q430,EUwideConstants!$S:$S,0),MATCH(I430,CNTR_TierList,0))))","v":""},null,null,null,false]
[]
[null,null,null,"(g)",{"$f":"Translations!$B$534","v":"Detalji faktora proračuna:"}]
[]
[null,null,null,null,{"$f":"E424","v":"Faktor proračuna:"},null,null,{"$f":"I424","v":"Korištena razina točnosti:"},{"$f":"Translations!$B$535","v":"Zadana vrijednost"},{"$f":"Translations!$B$536","v":"Jedinica"},{"$f":"Translations!$B$537","v":"Oznaka izvora"},{"$f":"Translations!$B$538","v":"Oznaka analize"},{"$f":"Translations!$B$539","v":"Oznaka uzorkovanja"},{"$f":"Translations!$B$540","v":"Učestalost analiza"},null,null,null,null,"default value or lab",null,null,null,"cond. form."]
[null,null,null,"i.","Donja ogrjevna vrijednost (DOV)",null,null,{"$f":"IF(OR(ISBLANK(I425),I425=EUconst_NA),\"\",I425)","v":""},null,null,null,null,null,null,null,null,null,null,{"$f":"IF(H435=\"\",\"\",IF(I425=EUconst_NA,\"\",INDEX(EUwideConstants!$AL:$AR,MATCH(Q425,EUwideConstants!$S:$S,0),MATCH(I425,CNTR_TierList,0))))","v":""},null,null,null,{"$f":"OR(H435=\"\",H435=EUconst_NA,J425=EUconst_NotApplicable)","v":true}]
[null,null,null,"ii.","Emisijski faktor (preliminarni)",null,null,"",null,null,null,null,null,null,null,null,null,null,{"$f":"IF(H436=\"\",\"\",IF(I426=EUconst_NA,\"\",INDEX(EUwideConstants!$AL:$AR,MATCH(Q426,EUwideConstants!$S:$S,0),MATCH(I426,CNTR_TierList,0))))","v":""},null,null,null,true]
[null,null,null,"iii.","Oksidacijski faktor",null,null,"",null,null,null,null,null,null,null,null,null,null,{"$f":"IF(H437=\"\",\"\",IF(I427=EUconst_NA,\"\",INDEX(EUwideConstants!$AL:$AR,MATCH(Q427,EUwideConstants!$S:$S,0),MATCH(I427,CNTR_TierList,0))))","v":""},null,null,null,true]
[null,null,null,"iv.","Konverzijski faktor",null,null,"",null,null,null,null,null,null,null,null,null,null,{"$f":"IF(H438=\"\",\"\",IF(I428=EUconst_NA,\"\",INDEX(EUwideConstants!$AL:$AR,MATCH(Q428,EUwideConstants!$S:$S,0),MATCH(I428,CNTR_TierList,0))))","v":""},null,null,null,true]
[null,null,null,"v.","Sadržaj ugljika",null,null,"",null,null,null,null,null,null,null,null,null,null,{"$f":"IF(H439=\"\",\"\",IF(I429=EUconst_NA,\"\",INDEX(EUwideConstants!$AL:$AR,MATCH(Q429,EUwideConstants!$S:$S,0),MATCH(I429,CNTR_TierList,0))))","v":""},null,null,null,true]
[null,null,null,"vi.","Udio biomase (ukoliko je primjenjiv)",null,null,"",null,null,null,null,null,null,null,null,null,null,{"$f":"IF(H440=\"\",\"\",IF(I430=EUconst_NA,\"\",INDEX(EUwideConstants!$AL:$AR,MATCH(Q430,EUwideConstants!$S:$S,0),MATCH(I430,CNTR_TierList,0))))","v":""},null,null,null,true]
[]
[null,null,null,{"$f":"Translations!$B$545","v":"Komentari i objašnjenja"}]
[]
[null,null,null,"(h)",{"$f":"Translations!$B$1198","v":"Komentari i obrazloženja ako nisu primijenjene zahtijevane razine:"}]
[]
[]
[]
[]
[]
[null,null,null,null,null,null,null,null,null,null,null,null,null,null,null,null,null,null,"Check source stream category","auto","manual"]
[null,null,{"$f":"\"F\"&Q451","v":"F6"},{"$f":"CONCATENATE(Euconst_SourceStream,\" \", Q451,\":\")","v":"Tok izvora 6:"},null,null,null,{"$f":"IF(INDEX('C_Opis postrojenja'!$F$194:$F$204,MATCH(C451,'C_Opis postrojenja'!$E$194:$E$204,0))>0,INDEX('C_Opis postrojenja'!$F$194:$F$204,MATCH(C451,'C_Opis postrojenja'!$E$194:$E$204,0)),\"\")","v":""},null,null,null,null,{"$f":"IF(S451=TRUE,IF(U451=\"\",T451,U451),\"\")","v":""},null,null,null,{"$f":"Q385+1","v":6},null,{"$f":"IF(INDEX('C_Opis postrojenja'!$M:$M,MATCH(Q453,'C_Opis postrojenja'!$Q:$Q,0))=\"\",FALSE,TRUE)","v":false},{"$f":"IF(S451=TRUE,INDEX('C_Opis postrojenja'!$M:$M,MATCH(Q453,'C_Opis postrojenja'!$Q:$Q,0)),\"\")","v":""},{"$f":"IF(S451=TRUE,IF(ISBLANK(INDEX('C_Opis postrojenja'!$N:$N,MATCH(Q453,'C_Opis postrojenja'!$Q:$Q,0))),\"\",INDEX('C_Opis postrojenja'!$N:$N,MATCH(Q453,'C_Opis postrojenja'!$Q:$Q,0))),\"\")","v":""}]
[]
[null,null,null,null,{"$f":"Translations!$B$437","v":"Vrsta toka izvora:"},null,null,{"$f":"IF(INDEX('C_Opis postrojenja'!$I$194:$I$204,MATCH(C451,'C_Opis postrojenja'!$E$194:$E$204,0))>0,INDEX('C_Opis postrojenja'!$I$194:$I$204,MATCH(C451,'C_Opis postrojenja'!$E$194:$E$204,0)),\"\")","v":""},null,null,null,null,null,null,null,null,{"$f":"EUconst_CNTR_SourceCategory&C451","v":"SourceCategory_F6"}]
[null,null,null,null,{"$f":"Translations!$B$438","v":"Primijenjiva metoda prema Uredbi:"},null,null,{"$f":"IF(H453=\"\",\"\",INDEX(EUwideConstants!F:F,MATCH(H453,EUwideConstants!Q:Q,0)))","v":""}]
[null,null,null,null,{"$f":"Translations!$B$439","v":"Parametar na koji se odnosi nesigurnost:"},null,null,{"$f":"IF(H453=\"\",\"\",INDEX(EUwideConstants!E:E,MATCH(H453,EUwideConstants!Q:Q,0)))","v":""}]
[]
[null,null,null,null,{"$f":"IF(H451=\"\",\"\",INDEX(EUconst_SmallEmiSouStreamMsg,MATCH(Q457,EUconst_SmallEmiSouStream,0)))","v":""},null,null,null,null,null,null,null,null,null,null,null,{"$f":"IF(CNTR_SmallEmitter=TRUE,EUconst_CNTR_SmallEmitter,EUconst_CNTR_NoSmallEmitter) & IF((CNTR_Category)=\"\",\"C\",CNTR_Category) & \"_\" & IF(M451=\"\",1,MATCH(M451,SourceCategory,0))","v":"NoSmallEmitter_C_1"}]
[]
[null,null,null,{"$f":"Translations!$B$454","v":"Podaci o aktivnosti:"}]
[]
[null,null,null,"(a)",{"$f":"Translations!$B$455","v":"Metoda određivanja podataka o aktivnosti:"}]
[]
[null,null,null,"i.",{"$f":"Translations!$B$456","v":"Metoda određivanja:"},null,null,null,null,null,null,null,null,null,null,null,null,null,null,null,null,null,{"$f":"IF(M451=\"\",\"\",IF(M451=INDEX(SourceCategory,3),1,IF(CNTR_InstHasCalculation=FALSE,0,2)))","v":""}]
[]
[null,null,null,null,null,{"$f":"Translations!$B$459","v":"Oznaka postupka za utvrđivanje zaliha na kraju godine:"},null,null,null,null,null,null,null,null,null,null,null,null,null,null,null,{"$f":"IF(OR(H451=\"\",ISBLANK(H463)),FALSE,IF(MATCH(H463,EUconst_ActivityDeterminationMethod,0)=2,TRUE,FALSE))","v":false},{"$f":"IF(V465=TRUE,0,W463)","v":""}]
[]
[null,null,null,"ii.",{"$f":"Translations!$B$462","v":"Instrumenti pod nadzorom:"},null,null,null,null,null,null,null,null,null,null,null,null,null,null,null,null,null,{"$f":"W463","v":""}]
[]
[null,null,null,null,"a.",{"$f":"Translations!$B$465","v":"Potvrdite da su ispunjeni zahtjevi iz članka 29. stavka 1. Uredbe"},null,null,null,null,null,null,null,null,null,null,null,null,null,null,null,{"$f":"IF(OR(H451=\"\",ISBLANK(H467)),FALSE,IF(MATCH(H467,EUconst_OwnerInstrument,0)=1,TRUE,FALSE))","v":false},{"$f":"IF(V469=TRUE,0,W463)","v":""}]
[]
[null,null,null,null,"b.",{"$f":"Translations!$B$468","v":"Koristite li fakture za utvrđivanje količine goriva ili sirovina?"},null,null,null,null,null,null,null,null,null,null,null,null,null,null,null,{"$f":"IF(OR(H451=\"\",ISBLANK(H467)),FALSE,IF(MATCH(H467,EUconst_OwnerInstrument,0)=1,TRUE,FALSE))","v":false},{"$f":"IF(V471=TRUE,0,W463)","v":""}]
[]
[null,null,null,null,"c.",{"$f":"Translations!$B$469","v":"Potvrdite da su trgovinski partner i operater neovisni."},null,null,null,null,null,null,null,null,null,null,null,null,null,null,null,{"$f":"IF(OR(H451=\"\",ISBLANK(H467)),FALSE,IF(MATCH(H467,EUconst_OwnerInstrument,0)=1,TRUE,FALSE))","v":false},{"$f":"IF(V473=TRUE,0,W463)","v":""}]
[]
[null,null,null,"(b)",{"$f":"Translations!$B$472","v":"Korišteni mjerni instrumenti:"}]
[]
[null,null,null,null,{"$f":"Translations!$B$475","v":"Komentar/opis pristupa ako se koristi više instrumenata:"}]
[]
[]
[]
[]
[null,null,null,"(c)",{"$f":"Translations!$B$477","v":"Zahtijevana razina točnosti za podatak o djelatnosti:"},null,null,{"$f":"IF(H453=\"\",\"\",IF(CNTR_Category=\"A\",INDEX(EUwideConstants!$G:$G,MATCH(Q482,EUwideConstants!$S:$S,0)),INDEX(EUwideConstants!$P:$P,MATCH(Q482,EUwideConstants!$S:$S,0))))","v":""},{"$f":"IF(H482=\"\",\"\",IF(S482=0,EUconst_NA,IF(ISERROR(S482),\"\",EUconst_MsgTierActivityLevel & \" \" &S482)))","v":""},null,null,null,null,null,null,null,{"$f":"EUconst_CNTR_ActivityData&H453","v":"ActivityData_"},null,{"$f":"IF(H482=\"\",\"\",IF(H482=EUconst_NA,\"\",INDEX(EUwideConstants!$H:$O,MATCH(Q482,EUwideConstants!$S:$S,0),MATCH(H482,CNTR_TierList,0))))","v":""}]
[null,null,null,"(d)",{"$f":"Translations!$B$478","v":"Korištena razina točnosti za podatak o djelatnosti:"},null,null,null,{"$f":"IF(OR(ISBLANK(H483),H483=EUconst_NoTier),\"\",IF(S483=0,EUconst_NA,IF(ISERROR(S483),\"\",EUconst_MsgTierActivityLevel & \" \" &S483)))","v":""},null,null,null,null,null,null,null,{"$f":"EUconst_CNTR_ActivityData&H453","v":"ActivityData_"},null,{"$f":"IF(ISBLANK(H483),\"\",IF(H483=EUconst_NA,\"\",INDEX(EUwideConstants!$H:$O,MATCH(Q483,EUwideConstants!$S:$S,0),MATCH(H483,CNTR_TierList,0))))","v":""}]
[null,null,null,"(e)",{"$f":"Translations!$B$479","v":"Postignuta nesigurnost:"},null,null,null,{"$f":"Translations!$B$480","v":"Komentar:"}]
[]
[null,null,null,{"$f":"Translations!$B$490","v":"Faktori proračuna:"}]
[]
[null,null,null,"(f)",{"$f":"Translations!$B$515","v":"Korištene razine točnosti za faktore proračuna:"}]
[]
[null,null,null,null,{"$f":"Translations!$B$516","v":"Faktor proračuna:"},null,null,{"$f":"Translations!$B$517","v":"Zahtijevana razina točnosti:"},{"$f":"Translations!$B$518","v":"Korištena razina točnosti:"},{"$f":"Translations!$B$519","v":"Puni tekst za korištenu razinu točnosti"},null,null,null,null,null,null,null,null,"full text tier",null,null,null,"cond. form."]
[null,null,null,"i.",{"$f":"Translations!$B$520","v":"Donja ogrjevna vrijednost (DOV)"},null,null,{"$f":"IF(H453=\"\",\"\",IF(CNTR_Category=\"A\",INDEX(EUwideConstants!$G:$G,MATCH(Q491,EUwideConstants!$S:$S,0)),INDEX(EUwideConstants!$P:$P,MATCH(Q491,EUwideConstants!$S:$S,0))))","v":""},null,{"$f":"IF(OR(ISBLANK(I491),I491=EUconst_NoTier),\"\",IF(S491=0,EUconst_NotApplicable,IF(ISERROR(S491),\"\",S491)))","v":""},null,null,null,null,null,null,{"$f":"EUconst_CNTR_NCV&H453","v":"NCV_"},null,{"$f":"IF(ISBLANK(I491),\"\",IF(I491=EUconst_NA,\"\",INDEX(EUwideConstants!$H:$O,MATCH(Q491,EUwideConstants!$S:$S,0),MATCH(I491,CNTR_TierList,0))))","v":""},null,null,null,{"$f":"(H491=EUconst_NA)","v":false}]
[null,null,null,"ii.",{"$f":"Translations!$B$521","v":"Emisijski faktor (preliminarni)"},null,null,{"$f":"IF(H453=\"\",\"\",IF(CNTR_Category=\"A\",INDEX(EUwideConstants!$G:$G,MATCH(Q492,EUwideConstants!$S:$S,0)),INDEX(EUwideConstants!$P:$P,MATCH(Q492,EUwideConstants!$S:$S,0))))","v":""},null,"",null,null,null,null,null,null,{"$f":"EUconst_CNTR_EF&H453","v":"EF_"},null,{"$f":"IF(ISBLANK(I492),\"\",IF(I492=EUconst_NA,\"\",INDEX(EUwideConstants!$H:$O,MATCH(Q492,EUwideConstants!$S:$S,0),MATCH(I492,CNTR_TierList,0))))","v":""},null,null,null,false]
[null,null,null,"iii.",{"$f":"Translations!$B$522","v":"Oksidacijski faktor"},null,null,{"$f":"IF(H453=\"\",\"\",IF(CNTR_Category=\"A\",INDEX(EUwideConstants!$G:$G,MATCH(Q493,EUwideConstants!$S:$S,0)),INDEX(EUwideConstants!$P:$P,MATCH(Q493,EUwideConstants!$S:$S,0))))","v":""},null,"",null,null,null,null,null,null,{"$f":"EUconst_CNTR_OxidationFactor&H453","v":"OxF_"},null,{"$f":"IF(ISBLANK(I493),\"\",IF(I493=EUconst_NA,\"\",INDEX(EUwideConstants!$H:$O,MATCH(Q493,EUwideConstants!$S:$S,0),MATCH(I493,CNTR_TierList,0))))","v":""},null,null,null,false]
[null,null,null,"iv.",{"$f":"Translations!$B$523","v":"Konverzijski faktor"},null,null,{"$f":"IF(H453=\"\",\"\",IF(CNTR_Category=\"A\",INDEX(EUwideConstants!$G:$G,MATCH(Q494,EUwideConstants!$S:$S,0)),INDEX(EUwideConstants!$P:$P,MATCH(Q494,EUwideConstants!$S:$S,0))))","v":""},null,"",null,null,null,null,null,null,{"$f":"EUconst_CNTR_ConversionFactor&H453","v":"ConvF_"},null,{"$f":"IF(ISBLANK(I494),\"\",IF(I494=EUconst_NA,\"\",INDEX(EUwideConstants!$H:$O,MATCH(Q494,EUwideConstants!$S:$S,0),MATCH(I494,CNTR_TierList,0))))","v":""},null,null,null,false]
[null,null,null,"v.",{"$f":"Translations!$B$524","v":"Sadržaj ugljika"},null,null,{"$f":"IF(H453=\"\",\"\",IF(CNTR_Category=\"A\",INDEX(EUwideConstants!$G:$G,MATCH(Q495,EUwideConstants!$S:$S,0)),INDEX(EUwideConstants!$P:$P,MATCH(Q495,EUwideConstants!$S:$S,0))))","v":""},null,"",null,null,null,null,null,null,{"$f":"EUconst_CNTR_CarbonContent&H453","v":"CarbC_"},null,{"$f":"IF(ISBLANK(I495),\"\",IF(I495=EUconst_NA,\"\",INDEX(EUwideConstants!$H:$O,MATCH(Q495,EUwideConstants!$S:$S,0),MATCH(I495,CNTR_TierList,0))))","v":""},null,null,null,false]
[null,null,null,"vi.",{"$f":"Translations!$B$525","v":"Udio biomase (ukoliko je primjenjiv)"},null,null,{"$f":"IF(H453=\"\",\"\",IF(CNTR_Category=\"A\",INDEX(EUwideConstants!$G:$G,MATCH(Q496,EUwideConstants!$S:$S,0)),INDEX(EUwideConstants!$P:$P,MATCH(Q496,EUwideConstants!$S:$S,0))))","v":""},null,"",null,null,null,null,null,null,{"$f":"EUconst_CNTR_BiomassContent&H453","v":"BioC_"},null,{"$f":"IF(ISBLANK(I496),\"\",IF(I496=EUconst_NA,\"\",INDEX(EUwideConstants!$H:$O,MATCH(Q496,EUwideConstants!$S:$S,0),MATCH(I496,CNTR_TierList,0))))","v":""},null,null,null,false]
[]
[null,null,null,"(g)",{"$f":"Translations!$B$534","v":"Detalji faktora proračuna:"}]
[]
[null,null,null,null,{"$f":"E490","v":"Faktor proračuna:"},null,null,{"$f":"I490","v":"Korištena razina točnosti:"},{"$f":"Translations!$B$535","v":"Zadana vrijednost"},{"$f":"Translations!$B$536","v":"Jedinica"},{"$f":"Translations!$B$537","v":"Oznaka izvora"},{"$f":"Translations!$B$538","v":"Oznaka analize"},{"$f":"Translations!$B$539","v":"Oznaka uzorkovanja"},{"$f":"Translations!$B$540","v":"Učestalost analiza"},null,null,null,null,"default value or lab",null,null,null,"cond. form."]
[null,null,null,"i.","Donja ogrjevna vrijednost (DOV)",null,null,{"$f":"IF(OR(ISBLANK(I491),I491=EUconst_NA),\"\",I491)","v":""},null,null,null,null,null,null,null,null,null,null,{"$f":"IF(H501=\"\",\"\",IF(I491=EUconst_NA,\"\",INDEX(EUwideConstants!$AL:$AR,MATCH(Q491,EUwideConstants!$S:$S,0),MATCH(I491,CNTR_TierList,0))))","v":""},null,null,null,{"$f":"OR(H501=\"\",H501=EUconst_NA,J491=EUconst_NotApplicable)","v":true}]
[null,null,null,"ii.","Emisijski faktor (preliminarni)",null,null,"",null,null,null,null,null,null,null,null,null,null,{"$f":"IF(H502=\"\",\"\",IF(I492=EUconst_NA,\"\",INDEX(EUwideConstants!$AL:$AR,MATCH(Q492,EUwideConstants!$S:$S,0),MATCH(I492,CNTR_TierList,0))))","v":""},null,null,null,true]
[null,null,null,"iii.","Oksidacijski faktor",null,null,"",null,null,null,null,null,null,null,null,null,null,{"$f":"IF(H503=\"\",\"\",IF(I493=EUconst_NA,\"\",INDEX(EUwideConstants!$AL:$AR,MATCH(Q493,EUwideConstants!$S:$S,0),MATCH(I493,CNTR_TierList,0))))","v":""},null,null,null,true]
[null,null,null,"iv.","Konverzijski faktor",null,null,"",null,null,null,null,null,null,null,null,null,null,{"$f":"IF(H504=\"\",\"\",IF(I494=EUconst_NA,\"\",INDEX(EUwideConstants!$AL:$AR,MATCH(Q494,EUwideConstants!$S:$S,0),MATCH(I494,CNTR_TierList,0))))","v":""},null,null,null,true]
[null,null,null,"v.","Sadržaj ugljika",null,null,"",null,null,null,null,null,null,null,null,null,null,{"$f":"IF(H505=\"\",\"\",IF(I495=EUconst_NA,\"\",INDEX(EUwideConstants!$AL:$AR,MATCH(Q495,EUwideConstants!$S:$S,0),MATCH(I495,CNTR_TierList,0))))","v":""},null,null,null,true]
[null,null,null,"vi.","Udio biomase (ukoliko je primjenjiv)",null,null,"",null,null,null,null,null,null,null,null,null,null,{"$f":"IF(H506=\"\",\"\",IF(I496=EUconst_NA,\"\",INDEX(EUwideConstants!$AL:$AR,MATCH(Q496,EUwideConstants!$S:$S,0),MATCH(I496,CNTR_TierList,0))))","v":""},null,null,null,true]
[]
[null,null,null,{"$f":"Translations!$B$545","v":"Komentari i objašnjenja"}]
[]
[null,null,null,"(h)",{"$f":"Translations!$B$1198","v":"Komentari i obrazloženja ako nisu primijenjene zahtijevane razine:"}]
[]
[]
[]
[]
[]
[null,null,null,null,null,null,null,null,null,null,null,null,null,null,null,null,null,null,"Check source stream category","auto","manual"]
[null,null,{"$f":"\"F\"&Q517","v":"F7"},{"$f":"CONCATENATE(Euconst_SourceStream,\" \", Q517,\":\")","v":"Tok izvora 7:"},null,null,null,{"$f":"IF(INDEX('C_Opis postrojenja'!$F$194:$F$204,MATCH(C517,'C_Opis postrojenja'!$E$194:$E$204,0))>0,INDEX('C_Opis postrojenja'!$F$194:$F$204,MATCH(C517,'C_Opis postrojenja'!$E$194:$E$204,0)),\"\")","v":""},null,null,null,null,{"$f":"IF(S517=TRUE,IF(U517=\"\",T517,U517),\"\")","v":""},null,null,null,{"$f":"Q451+1","v":7},null,{"$f":"IF(INDEX('C_Opis postrojenja'!$M:$M,MATCH(Q519,'C_Opis postrojenja'!$Q:$Q,0))=\"\",FALSE,TRUE)","v":false},{"$f":"IF(S517=TRUE,INDEX('C_Opis postrojenja'!$M:$M,MATCH(Q519,'C_Opis postrojenja'!$Q:$Q,0)),\"\")","v":""},{"$f":"IF(S517=TRUE,IF(ISBLANK(INDEX('C_Opis postrojenja'!$N:$N,MATCH(Q519,'C_Opis postrojenja'!$Q:$Q,0))),\"\",INDEX('C_Opis postrojenja'!$N:$N,MATCH(Q519,'C_Opis postrojenja'!$Q:$Q,0))),\"\")","v":""}]
[]
[null,null,null,null,{"$f":"Translations!$B$437","v":"Vrsta toka izvora:"},null,null,{"$f":"IF(INDEX('C_Opis postrojenja'!$I$194:$I$204,MATCH(C517,'C_Opis postrojenja'!$E$194:$E$204,0))>0,INDEX('C_Opis postrojenja'!$I$194:$I$204,MATCH(C517,'C_Opis postrojenja'!$E$194:$E$204,0)),\"\")","v":""},null,null,null,null,null,null,null,null,{"$f":"EUconst_CNTR_SourceCategory&C517","v":"SourceCategory_F7"}]
[null,null,null,null,{"$f":"Translations!$B$438","v":"Primijenjiva metoda prema Uredbi:"},null,null,{"$f":"IF(H519=\"\",\"\",INDEX(EUwideConstants!F:F,MATCH(H519,EUwideConstants!Q:Q,0)))","v":""}]
[null,null,null,null,{"$f":"Translations!$B$439","v":"Parametar na koji se odnosi nesigurnost:"},null,null,{"$f":"IF(H519=\"\",\"\",INDEX(EUwideConstants!E:E,MATCH(H519,EUwideConstants!Q:Q,0)))","v":""}]
[]
[null,null,null,null,{"$f":"IF(H517=\"\",\"\",INDEX(EUconst_SmallEmiSouStreamMsg,MATCH(Q523,EUconst_SmallEmiSouStream,0)))","v":""},null,null,null,null,null,null,null,null,null,null,null,{"$f":"IF(CNTR_SmallEmitter=TRUE,EUconst_CNTR_SmallEmitter,EUconst_CNTR_NoSmallEmitter) & IF((CNTR_Category)=\"\",\"C\",CNTR_Category) & \"_\" & IF(M517=\"\",1,MATCH(M517,SourceCategory,0))","v":"NoSmallEmitter_C_1"}]
[]
[null,null,null,{"$f":"Translations!$B$454","v":"Podaci o aktivnosti:"}]
[]
[null,null,null,"(a)",{"$f":"Translations!$B$455","v":"Metoda određivanja podataka o aktivnosti:"}]
[]
[null,null,null,"i.",{"$f":"Translations!$B$456","v":"Metoda određivanja:"},null,null,null,null,null,null,null,null,null,null,null,null,null,null,null,null,null,{"$f":"IF(M517=\"\",\"\",IF(M517=INDEX(SourceCategory,3),1,IF(CNTR_InstHasCalculation=FALSE,0,2)))","v":""}]
[]
[null,null,null,null,null,{"$f":"Translations!$B$459","v":"Oznaka postupka za utvrđivanje zaliha na kraju godine:"},null,null,null,null,null,null,null,null,null,null,null,null,null,null,null,{"$f":"IF(OR(H517=\"\",ISBLANK(H529)),FALSE,IF(MATCH(H529,EUconst_ActivityDeterminationMethod,0)=2,TRUE,FALSE))","v":false},{"$f":"IF(V531=TRUE,0,W529)","v":""}]
[]
[null,null,null,"ii.",{"$f":"Translations!$B$462","v":"Instrumenti pod nadzorom:"},null,null,null,null,null,null,null,null,null,null,null,null,null,null,null,null,null,{"$f":"W529","v":""}]
[]
[null,null,null,null,"a.",{"$f":"Translations!$B$465","v":"Potvrdite da su ispunjeni zahtjevi iz članka 29. stavka 1. Uredbe"},null,null,null,null,null,null,null,null,null,null,null,null,null,null,null,{"$f":"IF(OR(H517=\"\",ISBLANK(H533)),FALSE,IF(MATCH(H533,EUconst_OwnerInstrument,0)=1,TRUE,FALSE))","v":false},{"$f":"IF(V535=TRUE,0,W529)","v":""}]
[]
[null,null,null,null,"b.",{"$f":"Translations!$B$468","v":"Koristite li fakture za utvrđivanje količine goriva ili sirovina?"},null,null,null,null,null,null,null,null,null,null,null,null,null,null,null,{"$f":"IF(OR(H517=\"\",ISBLANK(H533)),FALSE,IF(MATCH(H533,EUconst_OwnerInstrument,0)=1,TRUE,FALSE))","v":false},{"$f":"IF(V537=TRUE,0,W529)","v":""}]
[]
[null,null,null,null,"c.",{"$f":"Translations!$B$469","v":"Potvrdite da su trgovinski partner i operater neovisni."},null,null,null,null,null,null,null,null,null,null,null,null,null,null,null,{"$f":"IF(OR(H517=\"\",ISBLANK(H533)),FALSE,IF(MATCH(H533,EUconst_OwnerInstrument,0)=1,TRUE,FALSE))","v":false},{"$f":"IF(V539=TRUE,0,W529)","v":""}]
[]
[null,null,null,"(b)",{"$f":"Translations!$B$472","v":"Korišteni mjerni instrumenti:"}]
[]
[null,null,null,null,{"$f":"Translations!$B$475","v":"Komentar/opis pristupa ako se koristi više instrumenata:"}]
[]
[]
[]
[]
[null,null,null,"(c)",{"$f":"Translations!$B$477","v":"Zahtijevana razina točnosti za podatak o djelatnosti:"},null,null,{"$f":"IF(H519=\"\",\"\",IF(CNTR_Category=\"A\",INDEX(EUwideConstants!$G:$G,MATCH(Q548,EUwideConstants!$S:$S,0)),INDEX(EUwideConstants!$P:$P,MATCH(Q548,EUwideConstants!$S:$S,0))))","v":""},{"$f":"IF(H548=\"\",\"\",IF(S548=0,EUconst_NA,IF(ISERROR(S548),\"\",EUconst_MsgTierActivityLevel & \" \" &S548)))","v":""},null,null,null,null,null,null,null,{"$f":"EUconst_CNTR_ActivityData&H519","v":"ActivityData_"},null,{"$f":"IF(H548=\"\",\"\",IF(H548=EUconst_NA,\"\",INDEX(EUwideConstants!$H:$O,MATCH(Q548,EUwideConstants!$S:$S,0),MATCH(H548,CNTR_TierList,0))))","v":""}]
[null,null,null,"(d)",{"$f":"Translations!$B$478","v":"Korištena razina točnosti za podatak o djelatnosti:"},null,null,null,{"$f":"IF(OR(ISBLANK(H549),H549=EUconst_NoTier),\"\",IF(S549=0,EUconst_NA,IF(ISERROR(S549),\"\",EUconst_MsgTierActivityLevel & \" \" &S549)))","v":""},null,null,null,null,null,null,null,{"$f":"EUconst_CNTR_ActivityData&H519","v":"ActivityData_"},null,{"$f":"IF(ISBLANK(H549),\"\",IF(H549=EUconst_NA,\"\",INDEX(EUwideConstants!$H:$O,MATCH(Q549,EUwideConstants!$S:$S,0),MATCH(H549,CNTR_TierList,0))))","v":""}]
[null,null,null,"(e)",{"$f":"Translations!$B$479","v":"Postignuta nesigurnost:"},null,null,null,{"$f":"Translations!$B$480","v":"Komentar:"}]
[]
[null,null,null,{"$f":"Translations!$B$490","v":"Faktori proračuna:"}]
[]
[null,null,null,"(f)",{"$f":"Translations!$B$515","v":"Korištene razine točnosti za faktore proračuna:"}]
[]
[null,null,null,null,{"$f":"Translations!$B$516","v":"Faktor proračuna:"},null,null,{"$f":"Translations!$B$517","v":"Zahtijevana razina točnosti:"},{"$f":"Translations!$B$518","v":"Korištena razina točnosti:"},{"$f":"Translations!$B$519","v":"Puni tekst za korištenu razinu točnosti"},null,null,null,null,null,null,null,null,"full text tier",null,null,null,"cond. form."]
[null,null,null,"i.",{"$f":"Translations!$B$520","v":"Donja ogrjevna vrijednost (DOV)"},null,null,{"$f":"IF(H519=\"\",\"\",IF(CNTR_Category=\"A\",INDEX(EUwideConstants!$G:$G,MATCH(Q557,EUwideConstants!$S:$S,0)),INDEX(EUwideConstants!$P:$P,MATCH(Q557,EUwideConstants!$S:$S,0))))","v":""},null,{"$f":"IF(OR(ISBLANK(I557),I557=EUconst_NoTier),\"\",IF(S557=0,EUconst_NotApplicable,IF(ISERROR(S557),\"\",S557)))","v":""},null,null,null,null,null,null,{"$f":"EUconst_CNTR_NCV&H519","v":"NCV_"},null,{"$f":"IF(ISBLANK(I557),\"\",IF(I557=EUconst_NA,\"\",INDEX(EUwideConstants!$H:$O,MATCH(Q557,EUwideConstants!$S:$S,0),MATCH(I557,CNTR_TierList,0))))","v":""},null,null,null,{"$f":"(H557=EUconst_NA)","v":false}]
[null,null,null,"ii.",{"$f":"Translations!$B$521","v":"Emisijski faktor (preliminarni)"},null,null,{"$f":"IF(H519=\"\",\"\",IF(CNTR_Category=\"A\",INDEX(EUwideConstants!$G:$G,MATCH(Q558,EUwideConstants!$S:$S,0)),INDEX(EUwideConstants!$P:$P,MATCH(Q558,EUwideConstants!$S:$S,0))))","v":""},null,"",null,null,null,null,null,null,{"$f":"EUconst_CNTR_EF&H519","v":"EF_"},null,{"$f":"IF(ISBLANK(I558),\"\",IF(I558=EUconst_NA,\"\",INDEX(EUwideConstants!$H:$O,MATCH(Q558,EUwideConstants!$S:$S,0),MATCH(I558,CNTR_TierList,0))))","v":""},null,null,null,false]
[null,null,null,"iii.",{"$f":"Translations!$B$522","v":"Oksidacijski faktor"},null,null,{"$f":"IF(H519=\"\",\"\",IF(CNTR_Category=\"A\",INDEX(EUwideConstants!$G:$G,MATCH(Q559,EUwideConstants!$S:$S,0)),INDEX(EUwideConstants!$P:$P,MATCH(Q559,EUwideConstants!$S:$S,0))))","v":""},null,"",null,null,null,null,null,null,{"$f":"EUconst_CNTR_OxidationFactor&H519","v":"OxF_"},null,{"$f":"IF(ISBLANK(I559),\"\",IF(I559=EUconst_NA,\"\",INDEX(EUwideConstants!$H:$O,MATCH(Q559,EUwideConstants!$S:$S,0),MATCH(I559,CNTR_TierList,0))))","v":""},null,null,null,false]
[null,null,null,"iv.",{"$f":"Translations!$B$523","v":"Konverzijski faktor"},null,null,{"$f":"IF(H519=\"\",\"\",IF(CNTR_Category=\"A\",INDEX(EUwideConstants!$G:$G,MATCH(Q560,EUwideConstants!$S:$S,0)),INDEX(EUwideConstants!$P:$P,MATCH(Q560,EUwideConstants!$S:$S,0))))","v":""},null,"",null,null,null,null,null,null,{"$f":"EUconst_CNTR_ConversionFactor&H519","v":"ConvF_"},null,{"$f":"IF(ISBLANK(I560),\"\",IF(I560=EUconst_NA,\"\",INDEX(EUwideConstants!$H:$O,MATCH(Q560,EUwideConstants!$S:$S,0),MATCH(I560,CNTR_TierList,0))))","v":""},null,null,null,false]
[null,null,null,"v.",{"$f":"Translations!$B$524","v":"Sadržaj ugljika"},null,null,{"$f":"IF(H519=\"\",\"\",IF(CNTR_Category=\"A\",INDEX(EUwideConstants!$G:$G,MATCH(Q561,EUwideConstants!$S:$S,0)),INDEX(EUwideConstants!$P:$P,MATCH(Q561,EUwideConstants!$S:$S,0))))","v":""},null,"",null,null,null,null,null,null,{"$f":"EUconst_CNTR_CarbonContent&H519","v":"CarbC_"},null,{"$f":"IF(ISBLANK(I561),\"\",IF(I561=EUconst_NA,\"\",INDEX(EUwideConstants!$H:$O,MATCH(Q561,EUwideConstants!$S:$S,0),MATCH(I561,CNTR_TierList,0))))","v":""},null,null,null,false]
[null,null,null,"vi.",{"$f":"Translations!$B$525","v":"Udio biomase (ukoliko je primjenjiv)"},null,null,{"$f":"IF(H519=\"\",\"\",IF(CNTR_Category=\"A\",INDEX(EUwideConstants!$G:$G,MATCH(Q562,EUwideConstants!$S:$S,0)),INDEX(EUwideConstants!$P:$P,MATCH(Q562,EUwideConstants!$S:$S,0))))","v":""},null,"",null,null,null,null,null,null,{"$f":"EUconst_CNTR_BiomassContent&H519","v":"BioC_"},null,{"$f":"IF(ISBLANK(I562),\"\",IF(I562=EUconst_NA,\"\",INDEX(EUwideConstants!$H:$O,MATCH(Q562,EUwideConstants!$S:$S,0),MATCH(I562,CNTR_TierList,0))))","v":""},null,null,null,false]
[]
[null,null,null,"(g)",{"$f":"Translations!$B$534","v":"Detalji faktora proračuna:"}]
[]
[null,null,null,null,{"$f":"E556","v":"Faktor proračuna:"},null,null,{"$f":"I556","v":"Korištena razina točnosti:"},{"$f":"Translations!$B$535","v":"Zadana vrijednost"},{"$f":"Translations!$B$536","v":"Jedinica"},{"$f":"Translations!$B$537","v":"Oznaka izvora"},{"$f":"Translations!$B$538","v":"Oznaka analize"},{"$f":"Translations!$B$539","v":"Oznaka uzorkovanja"},{"$f":"Translations!$B$540","v":"Učestalost analiza"},null,null,null,null,"default value or lab",null,null,null,"cond. form."]
[null,null,null,"i.","Donja ogrjevna vrijednost (DOV)",null,null,{"$f":"IF(OR(ISBLANK(I557),I557=EUconst_NA),\"\",I557)","v":""},null,null,null,null,null,null,null,null,null,null,{"$f":"IF(H567=\"\",\"\",IF(I557=EUconst_NA,\"\",INDEX(EUwideConstants!$AL:$AR,MATCH(Q557,EUwideConstants!$S:$S,0),MATCH(I557,CNTR_TierList,0))))","v":""},null,null,null,{"$f":"OR(H567=\"\",H567=EUconst_NA,J557=EUconst_NotApplicable)","v":true}]
[null,null,null,"ii.","Emisijski faktor (preliminarni)",null,null,"",null,null,null,null,null,null,null,null,null,null,{"$f":"IF(H568=\"\",\"\",IF(I558=EUconst_NA,\"\",INDEX(EUwideConstants!$AL:$AR,MATCH(Q558,EUwideConstants!$S:$S,0),MATCH(I558,CNTR_TierList,0))))","v":""},null,null,null,true]
[null,null,null,"iii.","Oksidacijski faktor",null,null,"",null,null,null,null,null,null,null,null,null,null,{"$f":"IF(H569=\"\",\"\",IF(I559=EUconst_NA,\"\",INDEX(EUwideConstants!$AL:$AR,MATCH(Q559,EUwideConstants!$S:$S,0),MATCH(I559,CNTR_TierList,0))))","v":""},null,null,null,true]
[null,null,null,"iv.","Konverzijski faktor",null,null,"",null,null,null,null,null,null,null,null,null,null,{"$f":"IF(H570=\"\",\"\",IF(I560=EUconst_NA,\"\",INDEX(EUwideConstants!$AL:$AR,MATCH(Q560,EUwideConstants!$S:$S,0),MATCH(I560,CNTR_TierList,0))))","v":""},null,null,null,true]
[null,null,null,"v.","Sadržaj ugljika",null,null,"",null,null,null,null,null,null,null,null,null,null,{"$f":"IF(H571=\"\",\"\",IF(I561=EUconst_NA,\"\",INDEX(EUwideConstants!$AL:$AR,MATCH(Q561,EUwideConstants!$S:$S,0),MATCH(I561,CNTR_TierList,0))))","v":""},null,null,null,true]
[null,null,null,"vi.","Udio biomase (ukoliko je primjenjiv)",null,null,"",null,null,null,null,null,null,null,null,null,null,{"$f":"IF(H572=\"\",\"\",IF(I562=EUconst_NA,\"\",INDEX(EUwideConstants!$AL:$AR,MATCH(Q562,EUwideConstants!$S:$S,0),MATCH(I562,CNTR_TierList,0))))","v":""},null,null,null,true]
[]
[null,null,null,{"$f":"Translations!$B$545","v":"Komentari i objašnjenja"}]
[]
[null,null,null,"(h)",{"$f":"Translations!$B$1198","v":"Komentari i obrazloženja ako nisu primijenjene zahtijevane razine:"}]
[]
[]
[]
[]
[]
[null,null,null,null,null,null,null,null,null,null,null,null,null,null,null,null,null,null,"Check source stream category","auto","manual"]
[null,null,{"$f":"\"F\"&Q583","v":"F8"},{"$f":"CONCATENATE(Euconst_SourceStream,\" \", Q583,\":\")","v":"Tok izvora 8:"},null,null,null,{"$f":"IF(INDEX('C_Opis postrojenja'!$F$194:$F$204,MATCH(C583,'C_Opis postrojenja'!$E$194:$E$204,0))>0,INDEX('C_Opis postrojenja'!$F$194:$F$204,MATCH(C583,'C_Opis postrojenja'!$E$194:$E$204,0)),\"\")","v":""},null,null,null,null,{"$f":"IF(S583=TRUE,IF(U583=\"\",T583,U583),\"\")","v":""},null,null,null,{"$f":"Q517+1","v":8},null,{"$f":"IF(INDEX('C_Opis postrojenja'!$M:$M,MATCH(Q585,'C_Opis postrojenja'!$Q:$Q,0))=\"\",FALSE,TRUE)","v":false},{"$f":"IF(S583=TRUE,INDEX('C_Opis postrojenja'!$M:$M,MATCH(Q585,'C_Opis postrojenja'!$Q:$Q,0)),\"\")","v":""},{"$f":"IF(S583=TRUE,IF(ISBLANK(INDEX('C_Opis postrojenja'!$N:$N,MATCH(Q585,'C_Opis postrojenja'!$Q:$Q,0))),\"\",INDEX('C_Opis postrojenja'!$N:$N,MATCH(Q585,'C_Opis postrojenja'!$Q:$Q,0))),\"\")","v":""}]
[]
[null,null,null,null,{"$f":"Translations!$B$437","v":"Vrsta toka izvora:"},null,null,{"$f":"IF(INDEX('C_Opis postrojenja'!$I$194:$I$204,MATCH(C583,'C_Opis postrojenja'!$E$194:$E$204,0))>0,INDEX('C_Opis postrojenja'!$I$194:$I$204,MATCH(C583,'C_Opis postrojenja'!$E$194:$E$204,0)),\"\")","v":""},null,null,null,null,null,null,null,null,{"$f":"EUconst_CNTR_SourceCategory&C583","v":"SourceCategory_F8"}]
[null,null,null,null,{"$f":"Translations!$B$438","v":"Primijenjiva metoda prema Uredbi:"},null,null,{"$f":"IF(H585=\"\",\"\",INDEX(EUwideConstants!F:F,MATCH(H585,EUwideConstants!Q:Q,0)))","v":""}]
[null,null,null,null,{"$f":"Translations!$B$439","v":"Parametar na koji se odnosi nesigurnost:"},null,null,{"$f":"IF(H585=\"\",\"\",INDEX(EUwideConstants!E:E,MATCH(H585,EUwideConstants!Q:Q,0)))","v":""}]
[]
[null,null,null,null,{"$f":"IF(H583=\"\",\"\",INDEX(EUconst_SmallEmiSouStreamMsg,MATCH(Q589,EUconst_SmallEmiSouStream,0)))","v":""},null,null,null,null,null,null,null,null,null,null,null,{"$f":"IF(CNTR_SmallEmitter=TRUE,EUconst_CNTR_SmallEmitter,EUconst_CNTR_NoSmallEmitter) & IF((CNTR_Category)=\"\",\"C\",CNTR_Category) & \"_\" & IF(M583=\"\",1,MATCH(M583,SourceCategory,0))","v":"NoSmallEmitter_C_1"}]
[]
[null,null,null,{"$f":"Translations!$B$454","v":"Podaci o aktivnosti:"}]
[]
[null,null,null,"(a)",{"$f":"Translations!$B$455","v":"Metoda određivanja podataka o aktivnosti:"}]
[]
[null,null,null,"i.",{"$f":"Translations!$B$456","v":"Metoda određivanja:"},null,null,null,null,null,null,null,null,null,null,null,null,null,null,null,null,null,{"$f":"IF(M583=\"\",\"\",IF(M583=INDEX(SourceCategory,3),1,IF(CNTR_InstHasCalculation=FALSE,0,2)))","v":""}]
[]
[null,null,null,null,null,{"$f":"Translations!$B$459","v":"Oznaka postupka za utvrđivanje zaliha na kraju godine:"},null,null,null,null,null,null,null,null,null,null,null,null,null,null,null,{"$f":"IF(OR(H583=\"\",ISBLANK(H595)),FALSE,IF(MATCH(H595,EUconst_ActivityDeterminationMethod,0)=2,TRUE,FALSE))","v":false},{"$f":"IF(V597=TRUE,0,W595)","v":""}]
[]
[null,null,null,"ii.",{"$f":"Translations!$B$462","v":"Instrumenti pod nadzorom:"},null,null,null,null,null,null,null,null,null,null,null,null,null,null,null,null,null,{"$f":"W595","v":""}]
[]
[null,null,null,null,"a.",{"$f":"Translations!$B$465","v":"Potvrdite da su ispunjeni zahtjevi iz članka 29. stavka 1. Uredbe"},null,null,null,null,null,null,null,null,null,null,null,null,null,null,null,{"$f":"IF(OR(H583=\"\",ISBLANK(H599)),FALSE,IF(MATCH(H599,EUconst_OwnerInstrument,0)=1,TRUE,FALSE))","v":false},{"$f":"IF(V601=TRUE,0,W595)","v":""}]
[]
[null,null,null,null,"b.",{"$f":"Translations!$B$468","v":"Koristite li fakture za utvrđivanje količine goriva ili sirovina?"},null,null,null,null,null,null,null,null,null,null,null,null,null,null,null,{"$f":"IF(OR(H583=\"\",ISBLANK(H599)),FALSE,IF(MATCH(H599,EUconst_OwnerInstrument,0)=1,TRUE,FALSE))","v":false},{"$f":"IF(V603=TRUE,0,W595)","v":""}]
[]
[null,null,null,null,"c.",{"$f":"Translations!$B$469","v":"Potvrdite da su trgovinski partner i operater neovisni."},null,null,null,null,null,null,null,null,null,null,null,null,null,null,null,{"$f":"IF(OR(H583=\"\",ISBLANK(H599)),FALSE,IF(MATCH(H599,EUconst_OwnerInstrument,0)=1,TRUE,FALSE))","v":false},{"$f":"IF(V605=TRUE,0,W595)","v":""}]
[]
[null,null,null,"(b)",{"$f":"Translations!$B$472","v":"Korišteni mjerni instrumenti:"}]
[]
[null,null,null,null,{"$f":"Translations!$B$475","v":"Komentar/opis pristupa ako se koristi više instrumenata:"}]
[]
[]
[]
[]
[null,null,null,"(c)",{"$f":"Translations!$B$477","v":"Zahtijevana razina točnosti za podatak o djelatnosti:"},null,null,{"$f":"IF(H585=\"\",\"\",IF(CNTR_Category=\"A\",INDEX(EUwideConstants!$G:$G,MATCH(Q614,EUwideConstants!$S:$S,0)),INDEX(EUwideConstants!$P:$P,MATCH(Q614,EUwideConstants!$S:$S,0))))","v":""},{"$f":"IF(H614=\"\",\"\",IF(S614=0,EUconst_NA,IF(ISERROR(S614),\"\",EUconst_MsgTierActivityLevel & \" \" &S614)))","v":""},null,null,null,null,null,null,null,{"$f":"EUconst_CNTR_ActivityData&H585","v":"ActivityData_"},null,{"$f":"IF(H614=\"\",\"\",IF(H614=EUconst_NA,\"\",INDEX(EUwideConstants!$H:$O,MATCH(Q614,EUwideConstants!$S:$S,0),MATCH(H614,CNTR_TierList,0))))","v":""}]
[null,null,null,"(d)",{"$f":"Translations!$B$478","v":"Korištena razina točnosti za podatak o djelatnosti:"},null,null,null,{"$f":"IF(OR(ISBLANK(H615),H615=EUconst_NoTier),\"\",IF(S615=0,EUconst_NA,IF(ISERROR(S615),\"\",EUconst_MsgTierActivityLevel & \" \" &S615)))","v":""},null,null,null,null,null,null,null,{"$f":"EUconst_CNTR_ActivityData&H585","v":"ActivityData_"},null,{"$f":"IF(ISBLANK(H615),\"\",IF(H615=EUconst_NA,\"\",INDEX(EUwideConstants!$H:$O,MATCH(Q615,EUwideConstants!$S:$S,0),MATCH(H615,CNTR_TierList,0))))","v":""}]
[null,null,null,"(e)",{"$f":"Translations!$B$479","v":"Postignuta nesigurnost:"},null,null,null,{"$f":"Translations!$B$480","v":"Komentar:"}]
[]
[null,null,null,{"$f":"Translations!$B$490","v":"Faktori proračuna:"}]
[]
[null,null,null,"(f)",{"$f":"Translations!$B$515","v":"Korištene razine točnosti za faktore proračuna:"}]
[]
[null,null,null,null,{"$f":"Translations!$B$516","v":"Faktor proračuna:"},null,null,{"$f":"Translations!$B$517","v":"Zahtijevana razina točnosti:"},{"$f":"Translations!$B$518","v":"Korištena razina točnosti:"},{"$f":"Translations!$B$519","v":"Puni tekst za korištenu razinu točnosti"},null,null,null,null,null,null,null,null,"full text tier",null,null,null,"cond. form."]
[null,null,null,"i.",{"$f":"Translations!$B$520","v":"Donja ogrjevna vrijednost (DOV)"},null,null,{"$f":"IF(H585=\"\",\"\",IF(CNTR_Category=\"A\",INDEX(EUwideConstants!$G:$G,MATCH(Q623,EUwideConstants!$S:$S,0)),INDEX(EUwideConstants!$P:$P,MATCH(Q623,EUwideConstants!$S:$S,0))))","v":""},null,{"$f":"IF(OR(ISBLANK(I623),I623=EUconst_NoTier),\"\",IF(S623=0,EUconst_NotApplicable,IF(ISERROR(S623),\"\",S623)))","v":""},null,null,null,null,null,null,{"$f":"EUconst_CNTR_NCV&H585","v":"NCV_"},null,{"$f":"IF(ISBLANK(I623),\"\",IF(I623=EUconst_NA,\"\",INDEX(EUwideConstants!$H:$O,MATCH(Q623,EUwideConstants!$S:$S,0),MATCH(I623,CNTR_TierList,0))))","v":""},null,null,null,{"$f":"(H623=EUconst_NA)","v":false}]
[null,null,null,"ii.",{"$f":"Translations!$B$521","v":"Emisijski faktor (preliminarni)"},null,null,{"$f":"IF(H585=\"\",\"\",IF(CNTR_Category=\"A\",INDEX(EUwideConstants!$G:$G,MATCH(Q624,EUwideConstants!$S:$S,0)),INDEX(EUwideConstants!$P:$P,MATCH(Q624,EUwideConstants!$S:$S,0))))","v":""},null,"",null,null,null,null,null,null,{"$f":"EUconst_CNTR_EF&H585","v":"EF_"},null,{"$f":"IF(ISBLANK(I624),\"\",IF(I624=EUconst_NA,\"\",INDEX(EUwideConstants!$H:$O,MATCH(Q624,EUwideConstants!$S:$S,0),MATCH(I624,CNTR_TierList,0))))","v":""},null,null,null,false]
[null,null,null,"iii.",{"$f":"Translations!$B$522","v":"Oksidacijski faktor"},null,null,{"$f":"IF(H585=\"\",\"\",IF(CNTR_Category=\"A\",INDEX(EUwideConstants!$G:$G,MATCH(Q625,EUwideConstants!$S:$S,0)),INDEX(EUwideConstants!$P:$P,MATCH(Q625,EUwideConstants!$S:$S,0))))","v":""},null,"",null,null,null,null,null,null,{"$f":"EUconst_CNTR_OxidationFactor&H585","v":"OxF_"},null,{"$f":"IF(ISBLANK(I625),\"\",IF(I625=EUconst_NA,\"\",INDEX(EUwideConstants!$H:$O,MATCH(Q625,EUwideConstants!$S:$S,0),MATCH(I625,CNTR_TierList,0))))","v":""},null,null,null,false]
[null,null,null,"iv.",{"$f":"Translations!$B$523","v":"Konverzijski faktor"},null,null,{"$f":"IF(H585=\"\",\"\",IF(CNTR_Category=\"A\",INDEX(EUwideConstants!$G:$G,MATCH(Q626,EUwideConstants!$S:$S,0)),INDEX(EUwideConstants!$P:$P,MATCH(Q626,EUwideConstants!$S:$S,0))))","v":""},null,"",null,null,null,null,null,null,{"$f":"EUconst_CNTR_ConversionFactor&H585","v":"ConvF_"},null,{"$f":"IF(ISBLANK(I626),\"\",IF(I626=EUconst_NA,\"\",INDEX(EUwideConstants!$H:$O,MATCH(Q626,EUwideConstants!$S:$S,0),MATCH(I626,CNTR_TierList,0))))","v":""},null,null,null,false]
[null,null,null,"v.",{"$f":"Translations!$B$524","v":"Sadržaj ugljika"},null,null,{"$f":"IF(H585=\"\",\"\",IF(CNTR_Category=\"A\",INDEX(EUwideConstants!$G:$G,MATCH(Q627,EUwideConstants!$S:$S,0)),INDEX(EUwideConstants!$P:$P,MATCH(Q627,EUwideConstants!$S:$S,0))))","v":""},null,"",null,null,null,null,null,null,{"$f":"EUconst_CNTR_CarbonContent&H585","v":"CarbC_"},null,{"$f":"IF(ISBLANK(I627),\"\",IF(I627=EUconst_NA,\"\",INDEX(EUwideConstants!$H:$O,MATCH(Q627,EUwideConstants!$S:$S,0),MATCH(I627,CNTR_TierList,0))))","v":""},null,null,null,false]
[null,null,null,"vi.",{"$f":"Translations!$B$525","v":"Udio biomase (ukoliko je primjenjiv)"},null,null,{"$f":"IF(H585=\"\",\"\",IF(CNTR_Category=\"A\",INDEX(EUwideConstants!$G:$G,MATCH(Q628,EUwideConstants!$S:$S,0)),INDEX(EUwideConstants!$P:$P,MATCH(Q628,EUwideConstants!$S:$S,0))))","v":""},null,"",null,null,null,null,null,null,{"$f":"EUconst_CNTR_BiomassContent&H585","v":"BioC_"},null,{"$f":"IF(ISBLANK(I628),\"\",IF(I628=EUconst_NA,\"\",INDEX(EUwideConstants!$H:$O,MATCH(Q628,EUwideConstants!$S:$S,0),MATCH(I628,CNTR_TierList,0))))","v":""},null,null,null,false]
[]
[null,null,null,"(g)",{"$f":"Translations!$B$534","v":"Detalji faktora proračuna:"}]
[]
[null,null,null,null,{"$f":"E622","v":"Faktor proračuna:"},null,null,{"$f":"I622","v":"Korištena razina točnosti:"},{"$f":"Translations!$B$535","v":"Zadana vrijednost"},{"$f":"Translations!$B$536","v":"Jedinica"},{"$f":"Translations!$B$537","v":"Oznaka izvora"},{"$f":"Translations!$B$538","v":"Oznaka analize"},{"$f":"Translations!$B$539","v":"Oznaka uzorkovanja"},{"$f":"Translations!$B$540","v":"Učestalost analiza"},null,null,null,null,"default value or lab",null,null,null,"cond. form."]
[null,null,null,"i.","Donja ogrjevna vrijednost (DOV)",null,null,{"$f":"IF(OR(ISBLANK(I623),I623=EUconst_NA),\"\",I623)","v":""},null,null,null,null,null,null,null,null,null,null,{"$f":"IF(H633=\"\",\"\",IF(I623=EUconst_NA,\"\",INDEX(EUwideConstants!$AL:$AR,MATCH(Q623,EUwideConstants!$S:$S,0),MATCH(I623,CNTR_TierList,0))))","v":""},null,null,null,{"$f":"OR(H633=\"\",H633=EUconst_NA,J623=EUconst_NotApplicable)","v":true}]
[null,null,null,"ii.","Emisijski faktor (preliminarni)",null,null,"",null,null,null,null,null,null,null,null,null,null,{"$f":"IF(H634=\"\",\"\",IF(I624=EUconst_NA,\"\",INDEX(EUwideConstants!$AL:$AR,MATCH(Q624,EUwideConstants!$S:$S,0),MATCH(I624,CNTR_TierList,0))))","v":""},null,null,null,true]
[null,null,null,"iii.","Oksidacijski faktor",null,null,"",null,null,null,null,null,null,null,null,null,null,{"$f":"IF(H635=\"\",\"\",IF(I625=EUconst_NA,\"\",INDEX(EUwideConstants!$AL:$AR,MATCH(Q625,EUwideConstants!$S:$S,0),MATCH(I625,CNTR_TierList,0))))","v":""},null,null,null,true]
[null,null,null,"iv.","Konverzijski faktor",null,null,"",null,null,null,null,null,null,null,null,null,null,{"$f":"IF(H636=\"\",\"\",IF(I626=EUconst_NA,\"\",INDEX(EUwideConstants!$AL:$AR,MATCH(Q626,EUwideConstants!$S:$S,0),MATCH(I626,CNTR_TierList,0))))","v":""},null,null,null,true]
[null,null,null,"v.","Sadržaj ugljika",null,null,"",null,null,null,null,null,null,null,null,null,null,{"$f":"IF(H637=\"\",\"\",IF(I627=EUconst_NA,\"\",INDEX(EUwideConstants!$AL:$AR,MATCH(Q627,EUwideConstants!$S:$S,0),MATCH(I627,CNTR_TierList,0))))","v":""},null,null,null,true]
[null,null,null,"vi.","Udio biomase (ukoliko je primjenjiv)",null,null,"",null,null,null,null,null,null,null,null,null,null,{"$f":"IF(H638=\"\",\"\",IF(I628=EUconst_NA,\"\",INDEX(EUwideConstants!$AL:$AR,MATCH(Q628,EUwideConstants!$S:$S,0),MATCH(I628,CNTR_TierList,0))))","v":""},null,null,null,true]
[]
[null,null,null,{"$f":"Translations!$B$545","v":"Komentari i objašnjenja"}]
[]
[null,null,null,"(h)",{"$f":"Translations!$B$1198","v":"Komentari i obrazloženja ako nisu primijenjene zahtijevane razine:"}]
[]
[]
[]
[]
[]
[null,null,null,null,null,null,null,null,null,null,null,null,null,null,null,null,null,null,"Check source stream category","auto","manual"]
[null,null,{"$f":"\"F\"&Q649","v":"F9"},{"$f":"CONCATENATE(Euconst_SourceStream,\" \", Q649,\":\")","v":"Tok izvora 9:"},null,null,null,{"$f":"IF(INDEX('C_Opis postrojenja'!$F$194:$F$204,MATCH(C649,'C_Opis postrojenja'!$E$194:$E$204,0))>0,INDEX('C_Opis postrojenja'!$F$194:$F$204,MATCH(C649,'C_Opis postrojenja'!$E$194:$E$204,0)),\"\")","v":""},null,null,null,null,{"$f":"IF(S649=TRUE,IF(U649=\"\",T649,U649),\"\")","v":""},null,null,null,{"$f":"Q583+1","v":9},null,{"$f":"IF(INDEX('C_Opis postrojenja'!$M:$M,MATCH(Q651,'C_Opis postrojenja'!$Q:$Q,0))=\"\",FALSE,TRUE)","v":false},{"$f":"IF(S649=TRUE,INDEX('C_Opis postrojenja'!$M:$M,MATCH(Q651,'C_Opis postrojenja'!$Q:$Q,0)),\"\")","v":""},{"$f":"IF(S649=TRUE,IF(ISBLANK(INDEX('C_Opis postrojenja'!$N:$N,MATCH(Q651,'C_Opis postrojenja'!$Q:$Q,0))),\"\",INDEX('C_Opis postrojenja'!$N:$N,MATCH(Q651,'C_Opis postrojenja'!$Q:$Q,0))),\"\")","v":""}]
[]
[null,null,null,null,{"$f":"Translations!$B$437","v":"Vrsta toka izvora:"},null,null,{"$f":"IF(INDEX('C_Opis postrojenja'!$I$194:$I$204,MATCH(C649,'C_Opis postrojenja'!$E$194:$E$204,0))>0,INDEX('C_Opis postrojenja'!$I$194:$I$204,MATCH(C649,'C_Opis postrojenja'!$E$194:$E$204,0)),\"\")","v":""},null,null,null,null,null,null,null,null,{"$f":"EUconst_CNTR_SourceCategory&C649","v":"SourceCategory_F9"}]
[null,null,null,null,{"$f":"Translations!$B$438","v":"Primijenjiva metoda prema Uredbi:"},null,null,{"$f":"IF(H651=\"\",\"\",INDEX(EUwideConstants!F:F,MATCH(H651,EUwideConstants!Q:Q,0)))","v":""}]
[null,null,null,null,{"$f":"Translations!$B$439","v":"Parametar na koji se odnosi nesigurnost:"},null,null,{"$f":"IF(H651=\"\",\"\",INDEX(EUwideConstants!E:E,MATCH(H651,EUwideConstants!Q:Q,0)))","v":""}]
[]
[null,null,null,null,{"$f":"IF(H649=\"\",\"\",INDEX(EUconst_SmallEmiSouStreamMsg,MATCH(Q655,EUconst_SmallEmiSouStream,0)))","v":""},null,null,null,null,null,null,null,null,null,null,null,{"$f":"IF(CNTR_SmallEmitter=TRUE,EUconst_CNTR_SmallEmitter,EUconst_CNTR_NoSmallEmitter) & IF((CNTR_Category)=\"\",\"C\",CNTR_Category) & \"_\" & IF(M649=\"\",1,MATCH(M649,SourceCategory,0))","v":"NoSmallEmitter_C_1"}]
[]
[null,null,null,{"$f":"Translations!$B$454","v":"Podaci o aktivnosti:"}]
[]
[null,null,null,"(a)",{"$f":"Translations!$B$455","v":"Metoda određivanja podataka o aktivnosti:"}]
[]
[null,null,null,"i.",{"$f":"Translations!$B$456","v":"Metoda određivanja:"},null,null,null,null,null,null,null,null,null,null,null,null,null,null,null,null,null,{"$f":"IF(M649=\"\",\"\",IF(M649=INDEX(SourceCategory,3),1,IF(CNTR_InstHasCalculation=FALSE,0,2)))","v":""}]
[]
[null,null,null,null,null,{"$f":"Translations!$B$459","v":"Oznaka postupka za utvrđivanje zaliha na kraju godine:"},null,null,null,null,null,null,null,null,null,null,null,null,null,null,null,{"$f":"IF(OR(H649=\"\",ISBLANK(H661)),FALSE,IF(MATCH(H661,EUconst_ActivityDeterminationMethod,0)=2,TRUE,FALSE))","v":false},{"$f":"IF(V663=TRUE,0,W661)","v":""}]
[]
[null,null,null,"ii.",{"$f":"Translations!$B$462","v":"Instrumenti pod nadzorom:"},null,null,null,null,null,null,null,null,null,null,null,null,null,null,null,null,null,{"$f":"W661","v":""}]
[]
[null,null,null,null,"a.",{"$f":"Translations!$B$465","v":"Potvrdite da su ispunjeni zahtjevi iz članka 29. stavka 1. Uredbe"},null,null,null,null,null,null,null,null,null,null,null,null,null,null,null,{"$f":"IF(OR(H649=\"\",ISBLANK(H665)),FALSE,IF(MATCH(H665,EUconst_OwnerInstrument,0)=1,TRUE,FALSE))","v":false},{"$f":"IF(V667=TRUE,0,W661)","v":""}]
[]
[null,null,null,null,"b.",{"$f":"Translations!$B$468","v":"Koristite li fakture za utvrđivanje količine goriva ili sirovina?"},null,null,null,null,null,null,null,null,null,null,null,null,null,null,null,{"$f":"IF(OR(H649=\"\",ISBLANK(H665)),FALSE,IF(MATCH(H665,EUconst_OwnerInstrument,0)=1,TRUE,FALSE))","v":false},{"$f":"IF(V669=TRUE,0,W661)","v":""}]
[]
[null,null,null,null,"c.",{"$f":"Translations!$B$469","v":"Potvrdite da su trgovinski partner i operater neovisni."},null,null,null,null,null,null,null,null,null,null,null,null,null,null,null,{"$f":"IF(OR(H649=\"\",ISBLANK(H665)),FALSE,IF(MATCH(H665,EUconst_OwnerInstrument,0)=1,TRUE,FALSE))","v":false},{"$f":"IF(V671=TRUE,0,W661)","v":""}]
[]
[null,null,null,"(b)",{"$f":"Translations!$B$472","v":"Korišteni mjerni instrumenti:"}]
[]
[null,null,null,null,{"$f":"Translations!$B$475","v":"Komentar/opis pristupa ako se koristi više instrumenata:"}]
[]
[]
[]
[]
[null,null,null,"(c)",{"$f":"Translations!$B$477","v":"Zahtijevana razina točnosti za podatak o djelatnosti:"},null,null,{"$f":"IF(H651=\"\",\"\",IF(CNTR_Category=\"A\",INDEX(EUwideConstants!$G:$G,MATCH(Q680,EUwideConstants!$S:$S,0)),INDEX(EUwideConstants!$P:$P,MATCH(Q680,EUwideConstants!$S:$S,0))))","v":""},{"$f":"IF(H680=\"\",\"\",IF(S680=0,EUconst_NA,IF(ISERROR(S680),\"\",EUconst_MsgTierActivityLevel & \" \" &S680)))","v":""},null,null,null,null,null,null,null,{"$f":"EUconst_CNTR_ActivityData&H651","v":"ActivityData_"},null,{"$f":"IF(H680=\"\",\"\",IF(H680=EUconst_NA,\"\",INDEX(EUwideConstants!$H:$O,MATCH(Q680,EUwideConstants!$S:$S,0),MATCH(H680,CNTR_TierList,0))))","v":""}]
[null,null,null,"(d)",{"$f":"Translations!$B$478","v":"Korištena razina točnosti za podatak o djelatnosti:"},null,null,null,{"$f":"IF(OR(ISBLANK(H681),H681=EUconst_NoTier),\"\",IF(S681=0,EUconst_NA,IF(ISERROR(S681),\"\",EUconst_MsgTierActivityLevel & \" \" &S681)))","v":""},null,null,null,null,null,null,null,{"$f":"EUconst_CNTR_ActivityData&H651","v":"ActivityData_"},null,{"$f":"IF(ISBLANK(H681),\"\",IF(H681=EUconst_NA,\"\",INDEX(EUwideConstants!$H:$O,MATCH(Q681,EUwideConstants!$S:$S,0),MATCH(H681,CNTR_TierList,0))))","v":""}]
[null,null,null,"(e)",{"$f":"Translations!$B$479","v":"Postignuta nesigurnost:"},null,null,null,{"$f":"Translations!$B$480","v":"Komentar:"}]
[]
[null,null,null,{"$f":"Translations!$B$490","v":"Faktori proračuna:"}]
[]
[null,null,null,"(f)",{"$f":"Translations!$B$515","v":"Korištene razine točnosti za faktore proračuna:"}]
[]
[null,null,null,null,{"$f":"Translations!$B$516","v":"Faktor proračuna:"},null,null,{"$f":"Translations!$B$517","v":"Zahtijevana razina točnosti:"},{"$f":"Translations!$B$518","v":"Korištena razina točnosti:"},{"$f":"Translations!$B$519","v":"Puni tekst za korištenu razinu točnosti"},null,null,null,null,null,null,null,null,"full text tier",null,null,null,"cond. form."]
[null,null,null,"i.",{"$f":"Translations!$B$520","v":"Donja ogrjevna vrijednost (DOV)"},null,null,{"$f":"IF(H651=\"\",\"\",IF(CNTR_Category=\"A\",INDEX(EUwideConstants!$G:$G,MATCH(Q689,EUwideConstants!$S:$S,0)),INDEX(EUwideConstants!$P:$P,MATCH(Q689,EUwideConstants!$S:$S,0))))","v":""},null,{"$f":"IF(OR(ISBLANK(I689),I689=EUconst_NoTier),\"\",IF(S689=0,EUconst_NotApplicable,IF(ISERROR(S689),\"\",S689)))","v":""},null,null,null,null,null,null,{"$f":"EUconst_CNTR_NCV&H651","v":"NCV_"},null,{"$f":"IF(ISBLANK(I689),\"\",IF(I689=EUconst_NA,\"\",INDEX(EUwideConstants!$H:$O,MATCH(Q689,EUwideConstants!$S:$S,0),MATCH(I689,CNTR_TierList,0))))","v":""},null,null,null,{"$f":"(H689=EUconst_NA)","v":false}]
[null,null,null,"ii.",{"$f":"Translations!$B$521","v":"Emisijski faktor (preliminarni)"},null,null,{"$f":"IF(H651=\"\",\"\",IF(CNTR_Category=\"A\",INDEX(EUwideConstants!$G:$G,MATCH(Q690,EUwideConstants!$S:$S,0)),INDEX(EUwideConstants!$P:$P,MATCH(Q690,EUwideConstants!$S:$S,0))))","v":""},null,"",null,null,null,null,null,null,{"$f":"EUconst_CNTR_EF&H651","v":"EF_"},null,{"$f":"IF(ISBLANK(I690),\"\",IF(I690=EUconst_NA,\"\",INDEX(EUwideConstants!$H:$O,MATCH(Q690,EUwideConstants!$S:$S,0),MATCH(I690,CNTR_TierList,0))))","v":""},null,null,null,false]
[null,null,null,"iii.",{"$f":"Translations!$B$522","v":"Oksidacijski faktor"},null,null,{"$f":"IF(H651=\"\",\"\",IF(CNTR_Category=\"A\",INDEX(EUwideConstants!$G:$G,MATCH(Q691,EUwideConstants!$S:$S,0)),INDEX(EUwideConstants!$P:$P,MATCH(Q691,EUwideConstants!$S:$S,0))))","v":""},null,"",null,null,null,null,null,null,{"$f":"EUconst_CNTR_OxidationFactor&H651","v":"OxF_"},null,{"$f":"IF(ISBLANK(I691),\"\",IF(I691=EUconst_NA,\"\",INDEX(EUwideConstants!$H:$O,MATCH(Q691,EUwideConstants!$S:$S,0),MATCH(I691,CNTR_TierList,0))))","v":""},null,null,null,false]
[null,null,null,"iv.",{"$f":"Translations!$B$523","v":"Konverzijski faktor"},null,null,{"$f":"IF(H651=\"\",\"\",IF(CNTR_Category=\"A\",INDEX(EUwideConstants!$G:$G,MATCH(Q692,EUwideConstants!$S:$S,0)),INDEX(EUwideConstants!$P:$P,MATCH(Q692,EUwideConstants!$S:$S,0))))","v":""},null,"",null,null,null,null,null,null,{"$f":"EUconst_CNTR_ConversionFactor&H651","v":"ConvF_"},null,{"$f":"IF(ISBLANK(I692),\"\",IF(I692=EUconst_NA,\"\",INDEX(EUwideConstants!$H:$O,MATCH(Q692,EUwideConstants!$S:$S,0),MATCH(I692,CNTR_TierList,0))))","v":""},null,null,null,false]
[null,null,null,"v.",{"$f":"Translations!$B$524","v":"Sadržaj ugljika"},null,null,{"$f":"IF(H651=\"\",\"\",IF(CNTR_Category=\"A\",INDEX(EUwideConstants!$G:$G,MATCH(Q693,EUwideConstants!$S:$S,0)),INDEX(EUwideConstants!$P:$P,MATCH(Q693,EUwideConstants!$S:$S,0))))","v":""},null,"",null,null,null,null,null,null,{"$f":"EUconst_CNTR_CarbonContent&H651","v":"CarbC_"},null,{"$f":"IF(ISBLANK(I693),\"\",IF(I693=EUconst_NA,\"\",INDEX(EUwideConstants!$H:$O,MATCH(Q693,EUwideConstants!$S:$S,0),MATCH(I693,CNTR_TierList,0))))","v":""},null,null,null,false]
[null,null,null,"vi.",{"$f":"Translations!$B$525","v":"Udio biomase (ukoliko je primjenjiv)"},null,null,{"$f":"IF(H651=\"\",\"\",IF(CNTR_Category=\"A\",INDEX(EUwideConstants!$G:$G,MATCH(Q694,EUwideConstants!$S:$S,0)),INDEX(EUwideConstants!$P:$P,MATCH(Q694,EUwideConstants!$S:$S,0))))","v":""},null,"",null,null,null,null,null,null,{"$f":"EUconst_CNTR_BiomassContent&H651","v":"BioC_"},null,{"$f":"IF(ISBLANK(I694),\"\",IF(I694=EUconst_NA,\"\",INDEX(EUwideConstants!$H:$O,MATCH(Q694,EUwideConstants!$S:$S,0),MATCH(I694,CNTR_TierList,0))))","v":""},null,null,null,false]
[]
[null,null,null,"(g)",{"$f":"Translations!$B$534","v":"Detalji faktora proračuna:"}]
[]
[null,null,null,null,{"$f":"E688","v":"Faktor proračuna:"},null,null,{"$f":"I688","v":"Korištena razina točnosti:"},{"$f":"Translations!$B$535","v":"Zadana vrijednost"},{"$f":"Translations!$B$536","v":"Jedinica"},{"$f":"Translations!$B$537","v":"Oznaka izvora"},{"$f":"Translations!$B$538","v":"Oznaka analize"},{"$f":"Translations!$B$539","v":"Oznaka uzorkovanja"},{"$f":"Translations!$B$540","v":"Učestalost analiza"},null,null,null,null,"default value or lab",null,null,null,"cond. form."]
[null,null,null,"i.","Donja ogrjevna vrijednost (DOV)",null,null,{"$f":"IF(OR(ISBLANK(I689),I689=EUconst_NA),\"\",I689)","v":""},null,null,null,null,null,null,null,null,null,null,{"$f":"IF(H699=\"\",\"\",IF(I689=EUconst_NA,\"\",INDEX(EUwideConstants!$AL:$AR,MATCH(Q689,EUwideConstants!$S:$S,0),MATCH(I689,CNTR_TierList,0))))","v":""},null,null,null,{"$f":"OR(H699=\"\",H699=EUconst_NA,J689=EUconst_NotApplicable)","v":true}]
[null,null,null,"ii.","Emisijski faktor (preliminarni)",null,null,"",null,null,null,null,null,null,null,null,null,null,{"$f":"IF(H700=\"\",\"\",IF(I690=EUconst_NA,\"\",INDEX(EUwideConstants!$AL:$AR,MATCH(Q690,EUwideConstants!$S:$S,0),MATCH(I690,CNTR_TierList,0))))","v":""},null,null,null,true]
[null,null,null,"iii.","Oksidacijski faktor",null,null,"",null,null,null,null,null,null,null,null,null,null,{"$f":"IF(H701=\"\",\"\",IF(I691=EUconst_NA,\"\",INDEX(EUwideConstants!$AL:$AR,MATCH(Q691,EUwideConstants!$S:$S,0),MATCH(I691,CNTR_TierList,0))))","v":""},null,null,null,true]
[null,null,null,"iv.","Konverzijski faktor",null,null,"",null,null,null,null,null,null,null,null,null,null,{"$f":"IF(H702=\"\",\"\",IF(I692=EUconst_NA,\"\",INDEX(EUwideConstants!$AL:$AR,MATCH(Q692,EUwideConstants!$S:$S,0),MATCH(I692,CNTR_TierList,0))))","v":""},null,null,null,true]
[null,null,null,"v.","Sadržaj ugljika",null,null,"",null,null,null,null,null,null,null,null,null,null,{"$f":"IF(H703=\"\",\"\",IF(I693=EUconst_NA,\"\",INDEX(EUwideConstants!$AL:$AR,MATCH(Q693,EUwideConstants!$S:$S,0),MATCH(I693,CNTR_TierList,0))))","v":""},null,null,null,true]
[null,null,null,"vi.","Udio biomase (ukoliko je primjenjiv)",null,null,"",null,null,null,null,null,null,null,null,null,null,{"$f":"IF(H704=\"\",\"\",IF(I694=EUconst_NA,\"\",INDEX(EUwideConstants!$AL:$AR,MATCH(Q694,EUwideConstants!$S:$S,0),MATCH(I694,CNTR_TierList,0))))","v":""},null,null,null,true]
[]
[null,null,null,{"$f":"Translations!$B$545","v":"Komentari i objašnjenja"}]
[]
[null,null,null,"(h)",{"$f":"Translations!$B$1198","v":"Komentari i obrazloženja ako nisu primijenjene zahtijevane razine:"}]
[]
[]
[]
[]
[]
["ADD_CompleteSourceStream",null,null,null,null,null,null,null,null,null,null,null,null,null,null,null,null,null,"Check source stream category","auto","manual"]
[null,null,{"$f":"\"F\"&Q715","v":"F10"},{"$f":"CONCATENATE(Euconst_SourceStream,\" \", Q715,\":\")","v":"Tok izvora 10:"},null,null,null,{"$f":"IF(INDEX('C_Opis postrojenja'!$F$194:$F$204,MATCH(C715,'C_Opis postrojenja'!$E$194:$E$204,0))>0,INDEX('C_Opis postrojenja'!$F$194:$F$204,MATCH(C715,'C_Opis postrojenja'!$E$194:$E$204,0)),\"\")","v":""},null,null,null,null,{"$f":"IF(S715=TRUE,IF(U715=\"\",T715,U715),\"\")","v":""},null,null,null,{"$f":"Q649+1","v":10},null,{"$f":"IF(INDEX('C_Opis postrojenja'!$M:$M,MATCH(Q717,'C_Opis postrojenja'!$Q:$Q,0))=\"\",FALSE,TRUE)","v":false},{"$f":"IF(S715=TRUE,INDEX('C_Opis postrojenja'!$M:$M,MATCH(Q717,'C_Opis postrojenja'!$Q:$Q,0)),\"\")","v":""},{"$f":"IF(S715=TRUE,IF(ISBLANK(INDEX('C_Opis postrojenja'!$N:$N,MATCH(Q717,'C_Opis postrojenja'!$Q:$Q,0))),\"\",INDEX('C_Opis postrojenja'!$N:$N,MATCH(Q717,'C_Opis postrojenja'!$Q:$Q,0))),\"\")","v":""}]
[]
[null,null,null,null,{"$f":"Translations!$B$437","v":"Vrsta toka izvora:"},null,null,{"$f":"IF(INDEX('C_Opis postrojenja'!$I$194:$I$204,MATCH(C715,'C_Opis postrojenja'!$E$194:$E$204,0))>0,INDEX('C_Opis postrojenja'!$I$194:$I$204,MATCH(C715,'C_Opis postrojenja'!$E$194:$E$204,0)),\"\")","v":""},null,null,null,null,null,null,null,null,{"$f":"EUconst_CNTR_SourceCategory&C715","v":"SourceCategory_F10"}]
[null,null,null,null,{"$f":"Translations!$B$438","v":"Primijenjiva metoda prema Uredbi:"},null,null,{"$f":"IF(H717=\"\",\"\",INDEX(EUwideConstants!$F$265:$F$335,MATCH(H717,EUConst_TierActivityListNames,0)))","v":""}]
[null,null,null,null,{"$f":"Translations!$B$439","v":"Parametar na koji se odnosi nesigurnost:"},null,null,{"$f":"IF(H717=\"\",\"\",INDEX(EUwideConstants!$E$265:$E$335,MATCH(H717,EUConst_TierActivityListNames,0)))","v":""}]
[]
[null,null,null,null,{"$f":"IF(H715=\"\",\"\",INDEX(EUconst_SmallEmiSouStreamMsg,MATCH(Q721,EUconst_SmallEmiSouStream,0)))","v":""},null,null,null,null,null,null,null,null,null,null,null,{"$f":"IF(CNTR_SmallEmitter=TRUE,EUconst_CNTR_SmallEmitter,EUconst_CNTR_NoSmallEmitter) & IF((CNTR_Category)=\"\",\"C\",CNTR_Category) & \"_\" & IF(M715=\"\",1,MATCH(M715,SourceCategory,0))","v":"NoSmallEmitter_C_1"}]
[]
[null,null,null,{"$f":"Translations!$B$454","v":"Podaci o aktivnosti:"}]
[]
[null,null,null,"(a)",{"$f":"Translations!$B$455","v":"Metoda određivanja podataka o aktivnosti:"}]
[]
[null,null,null,"i.",{"$f":"Translations!$B$456","v":"Metoda određivanja:"},null,null,null,null,null,null,null,null,null,null,null,null,null,null,null,null,null,{"$f":"IF(M715=\"\",\"\",IF(M715=INDEX(SourceCategory,3),1,IF(CNTR_InstHasCalculation=FALSE,0,2)))","v":""}]
[]
[null,null,null,null,null,{"$f":"Translations!$B$459","v":"Oznaka postupka za utvrđivanje zaliha na kraju godine:"},null,null,null,null,null,null,null,null,null,null,null,null,null,null,null,{"$f":"IF(OR(H715=\"\",ISBLANK(H727)),FALSE,IF(MATCH(H727,EUconst_ActivityDeterminationMethod,0)=2,TRUE,FALSE))","v":false},{"$f":"IF(V729=TRUE,0,W727)","v":""}]
[]
[null,null,null,"ii.",{"$f":"Translations!$B$462","v":"Instrumenti pod nadzorom:"},null,null,null,null,null,null,null,null,null,null,null,null,null,null,null,null,null,{"$f":"W727","v":""}]
[]
[null,null,null,null,"a.",{"$f":"Translations!$B$465","v":"Potvrdite da su ispunjeni zahtjevi iz članka 29. stavka 1. Uredbe"},null,null,null,null,null,null,null,null,null,null,null,null,null,null,null,{"$f":"IF(OR(H715=\"\",ISBLANK(H731)),FALSE,IF(MATCH(H731,EUconst_OwnerInstrument,0)=1,TRUE,FALSE))","v":false},{"$f":"IF(V733=TRUE,0,W727)","v":""}]
[]
[null,null,null,null,"b.",{"$f":"Translations!$B$468","v":"Koristite li fakture za utvrđivanje količine goriva ili sirovina?"},null,null,null,null,null,null,null,null,null,null,null,null,null,null,null,{"$f":"IF(OR(H715=\"\",ISBLANK(H731)),FALSE,IF(MATCH(H731,EUconst_OwnerInstrument,0)=1,TRUE,FALSE))","v":false},{"$f":"IF(V735=TRUE,0,W727)","v":""}]
[]
[null,null,null,null,"c.",{"$f":"Translations!$B$469","v":"Potvrdite da su trgovinski partner i operater neovisni."},null,null,null,null,null,null,null,null,null,null,null,null,null,null,null,{"$f":"IF(OR(H715=\"\",ISBLANK(H731)),FALSE,IF(MATCH(H731,EUconst_OwnerInstrument,0)=1,TRUE,FALSE))","v":false},{"$f":"IF(V737=TRUE,0,W727)","v":""}]
[]
[null,null,null,"(b)",{"$f":"Translations!$B$472","v":"Korišteni mjerni instrumenti:"}]
[]
[null,null,null,null,{"$f":"Translations!$B$475","v":"Komentar/opis pristupa ako se koristi više instrumenata:"}]
[]
[]
[]
[]
[null,null,null,"(c)",{"$f":"Translations!$B$477","v":"Zahtijevana razina točnosti za podatak o djelatnosti:"},null,null,{"$f":"IF(H717=\"\",\"\",IF(CNTR_Category=\"A\",INDEX(EUwideConstants!$G:$G,MATCH(Q746,EUwideConstants!$S:$S,0)),INDEX(EUwideConstants!$P:$P,MATCH(Q746,EUwideConstants!$S:$S,0))))","v":""},{"$f":"IF(H746=\"\",\"\",IF(S746=0,EUconst_NA,IF(ISERROR(S746),\"\",EUconst_MsgTierActivityLevel & \" \" &S746)))","v":""},null,null,null,null,null,null,null,{"$f":"EUconst_CNTR_ActivityData&H717","v":"ActivityData_"},null,{"$f":"IF(H746=\"\",\"\",IF(H746=EUconst_NA,\"\",INDEX(EUwideConstants!$H:$O,MATCH(Q746,EUwideConstants!$S:$S,0),MATCH(H746,CNTR_TierList,0))))","v":""}]
[null,null,null,"(d)",{"$f":"Translations!$B$478","v":"Korištena razina točnosti za podatak o djelatnosti:"},null,null,null,{"$f":"IF(OR(ISBLANK(H747),H747=EUconst_NoTier),\"\",IF(S747=0,EUconst_NA,IF(ISERROR(S747),\"\",EUconst_MsgTierActivityLevel & \" \" &S747)))","v":""},null,null,null,null,null,null,null,{"$f":"EUconst_CNTR_ActivityData&H717","v":"ActivityData_"},null,{"$f":"IF(ISBLANK(H747),\"\",IF(H747=EUconst_NA,\"\",INDEX(EUwideConstants!$H:$O,MATCH(Q747,EUwideConstants!$S:$S,0),MATCH(H747,CNTR_TierList,0))))","v":""}]
[null,null,null,"(e)",{"$f":"Translations!$B$479","v":"Postignuta nesigurnost:"},null,null,null,{"$f":"Translations!$B$480","v":"Komentar:"}]
[]
[null,null,null,{"$f":"Translations!$B$490","v":"Faktori proračuna:"}]
[]
[null,null,null,"(f)",{"$f":"Translations!$B$515","v":"Korištene razine točnosti za faktore proračuna:"}]
[]
[null,null,null,null,{"$f":"Translations!$B$516","v":"Faktor proračuna:"},null,null,{"$f":"Translations!$B$517","v":"Zahtijevana razina točnosti:"},{"$f":"Translations!$B$518","v":"Korištena razina točnosti:"},{"$f":"Translations!$B$519","v":"Puni tekst za korištenu razinu točnosti"},null,null,null,null,null,null,null,null,"full text tier",null,null,null,"cond. form."]
[null,null,null,"i.",{"$f":"Translations!$B$520","v":"Donja ogrjevna vrijednost (DOV)"},null,null,{"$f":"IF(H717=\"\",\"\",IF(CNTR_Category=\"A\",INDEX(EUwideConstants!$G:$G,MATCH(Q755,EUwideConstants!$S:$S,0)),INDEX(EUwideConstants!$P:$P,MATCH(Q755,EUwideConstants!$S:$S,0))))","v":""},null,{"$f":"IF(OR(ISBLANK(I755),I755=EUconst_NoTier),\"\",IF(S755=0,EUconst_NotApplicable,IF(ISERROR(S755),\"\",S755)))","v":""},null,null,null,null,null,null,{"$f":"EUconst_CNTR_NCV&H717","v":"NCV_"},null,{"$f":"IF(ISBLANK(I755),\"\",IF(I755=EUconst_NA,\"\",INDEX(EUwideConstants!$H:$O,MATCH(Q755,EUwideConstants!$S:$S,0),MATCH(I755,CNTR_TierList,0))))","v":""},null,null,null,{"$f":"(H755=EUconst_NA)","v":false}]
[null,null,null,"ii.",{"$f":"Translations!$B$521","v":"Emisijski faktor (preliminarni)"},null,null,{"$f":"IF(H717=\"\",\"\",IF(CNTR_Category=\"A\",INDEX(EUwideConstants!$G:$G,MATCH(Q756,EUwideConstants!$S:$S,0)),INDEX(EUwideConstants!$P:$P,MATCH(Q756,EUwideConstants!$S:$S,0))))","v":""},null,"",null,null,null,null,null,null,{"$f":"EUconst_CNTR_EF&H717","v":"EF_"},null,{"$f":"IF(ISBLANK(I756),\"\",IF(I756=EUconst_NA,\"\",INDEX(EUwideConstants!$H:$O,MATCH(Q756,EUwideConstants!$S:$S,0),MATCH(I756,CNTR_TierList,0))))","v":""},null,null,null,false]
[null,null,null,"iii.",{"$f":"Translations!$B$522","v":"Oksidacijski faktor"},null,null,{"$f":"IF(H717=\"\",\"\",IF(CNTR_Category=\"A\",INDEX(EUwideConstants!$G:$G,MATCH(Q757,EUwideConstants!$S:$S,0)),INDEX(EUwideConstants!$P:$P,MATCH(Q757,EUwideConstants!$S:$S,0))))","v":""},null,"",null,null,null,null,null,null,{"$f":"EUconst_CNTR_OxidationFactor&H717","v":"OxF_"},null,{"$f":"IF(ISBLANK(I757),\"\",IF(I757=EUconst_NA,\"\",INDEX(EUwideConstants!$H:$O,MATCH(Q757,EUwideConstants!$S:$S,0),MATCH(I757,CNTR_TierList,0))))","v":""},null,null,null,false]
[null,null,null,"iv.",{"$f":"Translations!$B$523","v":"Konverzijski faktor"},null,null,{"$f":"IF(H717=\"\",\"\",IF(CNTR_Category=\"A\",INDEX(EUwideConstants!$G:$G,MATCH(Q758,EUwideConstants!$S:$S,0)),INDEX(EUwideConstants!$P:$P,MATCH(Q758,EUwideConstants!$S:$S,0))))","v":""},null,"",null,null,null,null,null,null,{"$f":"EUconst_CNTR_ConversionFactor&H717","v":"ConvF_"},null,{"$f":"IF(ISBLANK(I758),\"\",IF(I758=EUconst_NA,\"\",INDEX(EUwideConstants!$H:$O,MATCH(Q758,EUwideConstants!$S:$S,0),MATCH(I758,CNTR_TierList,0))))","v":""},null,null,null,false]
[null,null,null,"v.",{"$f":"Translations!$B$524","v":"Sadržaj ugljika"},null,null,{"$f":"IF(H717=\"\",\"\",IF(CNTR_Category=\"A\",INDEX(EUwideConstants!$G:$G,MATCH(Q759,EUwideConstants!$S:$S,0)),INDEX(EUwideConstants!$P:$P,MATCH(Q759,EUwideConstants!$S:$S,0))))","v":""},null,"",null,null,null,null,null,null,{"$f":"EUconst_CNTR_CarbonContent&H717","v":"CarbC_"},null,{"$f":"IF(ISBLANK(I759),\"\",IF(I759=EUconst_NA,\"\",INDEX(EUwideConstants!$H:$O,MATCH(Q759,EUwideConstants!$S:$S,0),MATCH(I759,CNTR_TierList,0))))","v":""},null,null,null,false]
[null,null,null,"vi.",{"$f":"Translations!$B$525","v":"Udio biomase (ukoliko je primjenjiv)"},null,null,{"$f":"IF(H717=\"\",\"\",IF(CNTR_Category=\"A\",INDEX(EUwideConstants!$G:$G,MATCH(Q760,EUwideConstants!$S:$S,0)),INDEX(EUwideConstants!$P:$P,MATCH(Q760,EUwideConstants!$S:$S,0))))","v":""},null,"",null,null,null,null,null,null,{"$f":"EUconst_CNTR_BiomassContent&H717","v":"BioC_"},null,{"$f":"IF(ISBLANK(I760),\"\",IF(I760=EUconst_NA,\"\",INDEX(EUwideConstants!$H:$O,MATCH(Q760,EUwideConstants!$S:$S,0),MATCH(I760,CNTR_TierList,0))))","v":""},null,null,null,false]
[]
[null,null,null,"(g)",{"$f":"Translations!$B$534","v":"Detalji faktora proračuna:"}]
[]
[null,null,null,null,{"$f":"E754","v":"Faktor proračuna:"},null,null,{"$f":"I754","v":"Korištena razina točnosti:"},{"$f":"Translations!$B$535","v":"Zadana vrijednost"},{"$f":"Translations!$B$536","v":"Jedinica"},{"$f":"Translations!$B$537","v":"Oznaka izvora"},{"$f":"Translations!$B$538","v":"Oznaka analize"},{"$f":"Translations!$B$539","v":"Oznaka uzorkovanja"},{"$f":"Translations!$B$540","v":"Učestalost analiza"},null,null,null,null,"default value or lab",null,null,null,"cond. form."]
[null,null,null,"i.","Donja ogrjevna vrijednost (DOV)",null,null,{"$f":"IF(OR(ISBLANK(I755),I755=EUconst_NA),\"\",I755)","v":""},null,null,null,null,null,null,null,null,null,null,{"$f":"IF(H765=\"\",\"\",IF(I755=EUconst_NA,\"\",INDEX(EUwideConstants!$AL:$AR,MATCH(Q755,EUwideConstants!$S:$S,0),MATCH(I755,CNTR_TierList,0))))","v":""},null,null,null,{"$f":"OR(H765=\"\",H765=EUconst_NA,J755=EUconst_NotApplicable)","v":true}]
[null,null,null,"ii.","Emisijski faktor (preliminarni)",null,null,"",null,null,null,null,null,null,null,null,null,null,{"$f":"IF(H766=\"\",\"\",IF(I756=EUconst_NA,\"\",INDEX(EUwideConstants!$AL:$AR,MATCH(Q756,EUwideConstants!$S:$S,0),MATCH(I756,CNTR_TierList,0))))","v":""},null,null,null,true]
[null,null,null,"iii.","Oksidacijski faktor",null,null,"",null,null,null,null,null,null,null,null,null,null,{"$f":"IF(H767=\"\",\"\",IF(I757=EUconst_NA,\"\",INDEX(EUwideConstants!$AL:$AR,MATCH(Q757,EUwideConstants!$S:$S,0),MATCH(I757,CNTR_TierList,0))))","v":""},null,null,null,true]
[null,null,null,"iv.","Konverzijski faktor",null,null,"",null,null,null,null,null,null,null,null,null,null,{"$f":"IF(H768=\"\",\"\",IF(I758=EUconst_NA,\"\",INDEX(EUwideConstants!$AL:$AR,MATCH(Q758,EUwideConstants!$S:$S,0),MATCH(I758,CNTR_TierList,0))))","v":""},null,null,null,true]
[null,null,null,"v.","Sadržaj ugljika",null,null,"",null,null,null,null,null,null,null,null,null,null,{"$f":"IF(H769=\"\",\"\",IF(I759=EUconst_NA,\"\",INDEX(EUwideConstants!$AL:$AR,MATCH(Q759,EUwideConstants!$S:$S,0),MATCH(I759,CNTR_TierList,0))))","v":""},null,null,null,true]
[null,null,null,"vi.","Udio biomase (ukoliko je primjenjiv)",null,null,"",null,null,null,null,null,null,null,null,null,null,{"$f":"IF(H770=\"\",\"\",IF(I760=EUconst_NA,\"\",INDEX(EUwideConstants!$AL:$AR,MATCH(Q760,EUwideConstants!$S:$S,0),MATCH(I760,CNTR_TierList,0))))","v":""},null,null,null,true]
[]
[null,null,null,{"$f":"Translations!$B$545","v":"Komentari i objašnjenja"}]
[]
[null,null,null,"(h)",{"$f":"Translations!$B$1198","v":"Komentari i obrazloženja ako nisu primijenjene zahtijevane razine:"}]
[]
[]
[]
[]
[]
["ADD_CompleteSourceStream"]
[]
[null,null,null,null,null,{"$f":"EUconst_MsgNextSheet","v":"<<< Pritisnite ovdje kako bi prešli na slijedeći list >>> "}]
[]
["ausblenden","End","End","End","End","End","End","End","End","End","End","End","End","End","End",null,"End","End","End","End","End","End","End"]

{"sheet":"F_Metodologija mjerenja","index":7,"n_rows":526,"n_cols":25,"rows_kept":526,"cut":false,"hidden":false,"merged":[[452,4,452,13],[485,4,485,5],[480,6,480,13],[450,3,450,13],[481,6,481,13],[469,6,469,13],[469,4,469,5],[466,4,466,13],[461,4,461,5],[455,4,455,13],[457,6,457,13],[459,4,459,5],[474,4,474,5],[459,6,459,13],[464,6,464,13],[460,6,460,13],[462,6,462,13],[462,4,462,5],[474,6,474,13],[471,4,471,5],[458,4,458,5],[461,6,461,13],[464,4,464,5],[463,6,463,13],[472,4,472,5],[463,4,463,5],[458,6,458,13],[482,6,482,13],[472,6,472,13],[483,6,483,13],[475,4,475,5],[473,4,473,5],[479,6,479,13],[473,6,473,13],[479,4,479,5],[476,4,476,5],[475,6,475,13],[478,4,478,13],[476,6,476,13],[214,4,214,13],[185,4,185,13],[198,5,198,13],[186,4,186,13],[194,5,194,13],[188,4,188,13],[206,3,206,13],[209,4,209,13],[197,5,197,13],[213,4,213,13],[81,6,82,6],[103,5,103,6],[165,4,165,13],[153,3,153,13],[129,3,129,13],[124,3,124,13],[158,4,158,13],[150,4,150,13],[136,7,136,9],[138,12,138,13],[134,12,134,13],[163,4,163,13],[136,12,136,13],[143,4,143,13],[142,4,142,13],[145,3,145,13],[117,8,117,10],[117,12,117,13],[130,3,130,13],[138,3,138,6],[138,7,138,11],[147,4,147,13],[151,4,151,13],[156,3,156,6],[81,20,82,20],[81,7,82,7],[92,4,92,13],[73,20,74,20],[75,20,76,20],[77,19,78,19],[77,20,78,20],[79,11,80,11],[81,18,82,18],[79,19,80,19],[79,20,80,20],[77,18,78,18],[79,18,80,18],[77,4,78,5],[77,6,78,6],[73,6,74,6],[79,4,80,5],[79,6,80,6],[81,19,82,19],[83,7,84,7],[83,12,84,12],[81,11,82,11],[81,12,82,12],[81,13,82,13],[83,20,84,20],[83,11,84,11],[90,4,90,8],[90,9,90,13],[83,18,84,18],[86,6,88,10],[470,4,470,5],[126,3,126,13],[116,8,116,10],[83,19,84,19],[91,4,91,13],[83,13,84,13],[83,6,84,6],[83,4,84,5],[454,4,454,13],[83,2,84,3],[170,3,170,6],[203,5,203,13],[176,4,176,13],[195,5,195,13],[181,4,181,13],[175,4,175,13],[184,4,184,13],[201,5,201,13],[57,2,58,3],[59,13,60,13],[57,6,58,6],[112,5,112,6],[112,8,112,10],[112,12,112,13],[104,12,104,13],[63,2,64,3],[65,2,66,3],[71,2,72,3],[59,2,60,3],[105,5,105,6],[75,2,76,3],[61,2,62,3],[71,6,72,6],[75,6,76,6],[79,2,80,3],[63,4,64,5],[67,2,68,3],[69,2,70,3],[71,4,72,5],[77,2,78,3],[81,4,82,5],[81,2,82,3],[2,4,2,5],[2,8,2,9],[1,1,3,3],[1,10,1,11],[3,10,3,11],[1,12,1,13],[1,8,1,9],[3,12,3,13],[3,4,3,5],[1,4,1,5],[1,6,1,7],[2,6,2,7],[2,10,2,11],[2,12,2,13],[7,10,7,13],[12,4,12,13],[11,4,11,13],[24,4,24,13],[3,6,3,7],[3,8,3,9],[14,4,14,13],[23,4,23,13],[19,4,19,13],[15,4,15,13],[21,4,21,13],[22,4,22,13],[5,2,5,10],[5,11,5,13],[9,3,9,13],[16,4,16,13],[17,4,17,13],[18,4,18,13],[43,4,43,13],[46,4,46,13],[51,4,51,13],[52,4,52,13],[53,4,53,13],[55,4,55,13],[25,4,25,13],[77,13,78,13],[28,4,28,13],[26,4,26,13],[40,4,40,13],[50,4,50,13],[47,4,47,13],[45,4,45,13],[42,9,42,13],[39,4,39,13],[36,4,36,13],[27,4,27,13],[42,4,42,8],[35,4,35,13],[29,4,29,13],[34,4,34,13],[38,4,38,13],[37,4,37,13],[79,12,80,12],[79,13,80,13],[79,7,80,7],[77,11,78,11],[77,12,78,12],[77,7,78,7],[65,7,66,7],[65,6,66,6],[67,11,68,11],[69,6,70,6],[69,7,70,7],[65,11,66,11],[75,7,76,7],[75,11,76,11],[73,7,74,7],[73,11,74,11],[31,4,31,13],[33,4,33,13],[30,4,30,13],[32,4,32,13],[54,4,54,13],[48,4,48,13],[49,4,49,13],[67,20,68,20],[63,19,64,19],[63,13,64,13],[63,18,64,18],[65,18,66,18],[67,18,68,18],[65,13,66,13],[57,7,57,9],[57,13,58,13],[63,7,64,7],[67,6,68,6],[63,6,64,6],[63,11,64,11],[63,20,64,20],[57,4,58,5],[61,7,62,7],[57,10,58,10],[57,11,57,12],[61,4,62,5],[71,20,72,20],[69,19,70,19],[71,18,72,18],[69,18,70,18],[69,20,70,20],[69,12,70,12],[67,13,68,13],[67,19,68,19],[65,12,66,12],[65,20,66,20],[65,19,66,19],[67,12,68,12],[71,7,72,7],[71,11,72,11],[59,12,60,12],[65,4,66,5],[67,4,68,5],[61,13,62,13],[59,6,60,6],[59,4,60,5],[63,12,64,12],[67,7,68,7],[61,12,62,12],[69,4,70,5],[73,4,74,5],[75,4,76,5],[69,13,70,13],[69,11,70,11],[61,6,62,6],[61,11,62,11],[59,7,60,7],[59,11,60,11],[71,19,72,19],[75,13,76,13],[71,12,72,12],[71,13,72,13],[75,12,76,12],[75,18,76,18],[75,19,76,19],[73,13,74,13],[136,4,136,6],[119,6,121,10],[73,18,74,18],[73,19,74,19],[127,3,127,13],[113,8,113,10],[106,12,106,13],[100,8,100,10],[100,12,100,13],[95,4,95,13],[101,5,101,6],[101,8,101,10],[101,12,101,13],[103,8,103,10],[103,12,103,13],[102,5,102,6],[73,2,74,3],[73,12,74,12],[108,12,108,13],[117,5,117,6],[105,12,105,13],[107,12,107,13],[108,5,108,6],[94,4,94,13],[114,5,114,6],[114,8,114,10],[114,12,114,13],[115,8,115,10],[102,8,102,10],[99,12,99,13],[100,5,100,6],[97,4,97,13],[99,8,99,10],[96,4,96,13],[99,5,99,6],[104,5,104,6],[113,12,113,13],[115,12,115,13],[106,5,106,6],[113,5,113,6],[102,12,102,13],[116,12,116,13],[106,8,106,10],[115,5,115,6],[104,8,104,10],[105,8,105,10],[110,12,110,13],[109,8,109,10],[134,3,134,6],[110,5,110,6],[107,8,107,10],[111,5,111,6],[109,12,109,13],[111,12,111,13],[111,8,111,10],[108,8,108,10],[109,5,109,6],[128,3,128,13],[134,7,134,11],[110,8,110,10],[116,5,116,6],[107,5,107,6],[140,12,140,13],[159,4,159,13],[164,4,164,13],[140,7,140,9],[148,5,148,13],[191,5,191,13],[179,3,179,13],[208,4,208,13],[212,4,212,13],[140,4,140,6],[189,4,189,13],[200,5,200,13],[182,4,182,13],[192,5,192,13],[177,4,177,13],[204,5,204,13],[210,4,210,13],[453,4,453,13],[525,5,525,11],[467,4,467,13],[471,6,471,13],[470,6,470,13],[485,6,485,13],[460,4,460,5],[492,6,492,13],[482,4,482,5],[457,4,457,5],[491,4,491,5],[491,6,491,13],[490,6,490,13],[489,4,489,5],[489,6,489,13],[483,4,483,5],[480,4,480,5],[484,4,484,5],[481,4,481,5],[486,4,486,5],[494,6,494,13],[499,4,499,5],[484,6,484,13],[498,4,498,13],[502,4,502,5],[501,4,501,5],[496,4,496,5],[494,4,494,5],[486,6,486,13],[495,4,495,5],[493,4,493,5],[490,4,490,5],[492,4,492,5],[488,4,488,13],[493,6,493,13],[500,4,500,5],[495,6,495,13],[496,6,496,13],[500,6,500,13],[509,4,509,13],[508,4,508,13],[512,4,512,5],[504,6,504,13],[521,6,523,10],[499,6,499,13],[518,4,518,5],[518,6,518,13],[502,6,502,13],[513,4,513,5],[512,6,512,13],[515,6,515,13],[503,4,503,5],[504,4,504,5],[516,4,516,5],[505,4,505,5],[511,4,511,5],[513,6,513,13],[506,6,506,13],[514,6,514,13],[510,4,510,5],[517,6,517,13],[501,6,501,13],[503,6,503,13],[505,6,505,13],[516,6,516,13],[506,4,506,5],[519,4,519,5],[519,6,519,13],[511,6,511,13],[517,4,517,5],[510,6,510,13],[356,3,356,13],[379,5,379,13],[380,5,380,13],[393,4,393,6],[393,7,393,9],[393,12,393,13],[395,3,395,13],[398,4,398,13],[400,3,400,13],[382,3,382,13],[384,4,384,13],[386,4,386,13],[387,4,387,13],[388,4,388,13],[391,3,391,6],[391,7,391,11],[233,4,233,13],[234,4,234,13],[340,4,340,13],[342,3,342,13],[348,4,348,13],[349,4,349,13],[217,3,217,6],[217,7,217,11],[217,12,217,13],[219,4,219,6],[219,7,219,9],[219,12,219,13],[221,3,221,13],[224,4,224,13],[240,3,240,13],[242,4,242,13],[243,4,243,13],[245,4,245,13],[246,4,246,13],[247,4,247,13],[226,3,226,13],[232,4,232,13],[279,3,279,13],[282,4,282,13],[249,4,249,13],[251,5,251,13],[252,5,252,13],[254,5,254,13],[255,5,255,13],[337,3,337,13],[257,5,257,13],[258,5,258,13],[260,5,260,13],[261,5,261,13],[272,4,272,13],[275,3,275,6],[275,7,275,11],[275,12,275,13],[277,4,277,6],[277,7,277,9],[277,12,277,13],[263,5,263,13],[264,5,264,13],[266,3,266,13],[268,4,268,13],[270,4,270,13],[271,4,271,13],[284,3,284,13],[290,4,290,13],[291,4,291,13],[292,4,292,13],[335,4,335,6],[335,7,335,9],[335,12,335,13],[307,4,307,13],[309,5,309,13],[310,5,310,13],[312,5,312,13],[313,5,313,13],[315,5,315,13],[298,3,298,13],[300,4,300,13],[301,4,301,13],[303,4,303,13],[304,4,304,13],[305,4,305,13],[326,4,326,13],[328,4,328,13],[329,4,329,13],[330,4,330,13],[333,3,333,6],[333,7,333,11],[333,12,333,13],[316,5,316,13],[318,5,318,13],[319,5,319,13],[321,5,321,13],[322,5,322,13],[324,3,324,13],[377,5,377,13],[365,4,365,13],[373,5,373,13],[374,5,374,13],[376,5,376,13],[358,4,358,13],[359,4,359,13],[367,5,367,13],[368,5,368,13],[370,5,370,13],[371,5,371,13],[361,4,361,13],[362,4,362,13],[363,4,363,13],[350,4,350,13],[391,12,391,13],[419,4,419,13],[420,4,420,13],[421,4,421,13],[423,4,423,13],[425,5,425,13],[426,5,426,13],[406,4,406,13],[407,4,407,13],[408,4,408,13],[414,3,414,13],[416,4,416,13],[417,4,417,13],[446,4,446,13],[437,5,437,13],[438,5,438,13],[440,3,440,13],[442,4,442,13],[444,4,444,13],[445,4,445,13],[428,5,428,13],[429,5,429,13],[431,5,431,13],[432,5,432,13],[434,5,434,13],[435,5,435,13]]}
["ausblenden",null,null,null,null,null,null,null,null,null,null,null,null,null,null,"ausblenden","ausblenden","ausblenden","ausblenden","ausblenden","ausblenden","ausblenden","ausblenden","ausblenden","ausblenden"]
[null,{"$f":"Translations!$B$551","v":"F.\nMetodologija mjerenja"},null,null,{"$f":"Translations!$B$59","v":"Navigacijsko područje:"},null,{"$f":"Translations!$B$60","v":"Sadržaj"},null,{"$f":"Translations!$B$61","v":"Prethodni list"},null,{"$f":"Translations!$B$62","v":"Sljedeći list"}]
[null,null,null,null,{"$f":"Translations!$B$63","v":"Vrh lista"},null,{"$f":"Translations!$B$552","v":"Mjerenje emisija"},null,{"$f":"Translations!$B$188","v":"Mjerne točke"}]
[null,null,null,null,{"$f":"Translations!$B$64","v":"Dno lista"},null,{"$f":"Translations!$B$553","v":"Upravljanje i procedure"}]
[null,null,null,null,null,null,null,null,null,null,null,null,null,null,null,null,null,null,null,null,null,null,null,null,"Make grey?"]
[null,null,{"$f":"Translations!$B$20","v":"F. Metodologija mjerenja"},null,null,null,null,null,null,null,null,{"$f":"IF(OR(CNTR_InstHasMeasurement=TRUE,CNTR_InstHasN2O=TRUE),EUconst_Relevant,IF(COUNTA(CNTR_ListRelevantSections)>0,EUconst_NotRelevant,EUconst_Relevant))","v":"relevantno"},null,null,null,null,null,null,null,null,null,null,null,null,{"$f":"IF(L6=EUconst_NotRelevant,TRUE,FALSE)","v":false}]
[]
[null,null,null,null,null,null,null,null,null,null,{"$f":"IF(L6=EUconst_NotRelevant,HYPERLINK(\"#JUMP_G_Top\",EUconst_MsgNextSheet),HYPERLINK(\"\",EUconst_MsgEnterThisSection))","v":"Molimo unesite podatke u ovo polje"}]
[]
[null,null,9,{"$f":"Translations!$B$21","v":"Mjerenja emisija CO2 i N2O"}]
[]
[null,null,null,null,{"$f":"Translations!$B$554","v":"Napomena: Ovo poglavlje se mora popuniti za kontinuirana mjerenja emisija CO2 kao i emisija N2O. "}]
[null,null,null,null,{"$f":"Translations!$B$1200","v":"Nadalje, ovdje treba navesti neke od informacija potrebnih za praćenje prenesenog CO2 i N2O, kao i inherentnog CO2."}]
[]
[null,null,null,"(a)",{"$f":"Translations!$B$556","v":"Opis metodologije mjerenja"}]
[null,null,null,null,{"$f":"Translations!$B$557","v":"Unesite sažet opis metodologije mjerenja korištene za određivanje godišnjih emisija CO2 i N2O u donje tekstualno polje. Ukoliko se mjere emisije N2O potrebno je uključiti izračun tih emisija u CO2e."}]
[null,null,null,null,{"$f":"Translations!$B$558","v":"Opis treba uključivati vrste korištenih instrumenata, bilo da su mjerenja izvršena pri mokrim ili suhim uvjetima; formule za primjenu faktora korekcije (p, T, O2 i H20). Tamo gdje je primijenjena norma HRN EN 14181 treba priložiti kalibracijske faktore za proceduru QAL2. Ako se računa volumen dimnih plinova, opišite ukratko metodu određivanja."}]
[null,null,null,null,{"$f":"Translations!$B$559","v":"Opišete kako se određuju godišnje emisije s obzirom na koncentraciju i protok dimnih plinova, uzimajući u obzir učestalost određivanja koncentracije i protoka dimnih plinova. U opis također uključite i kako ste pribavili zamjenske podatke ukoliko se ne može odrediti stvarni broj radnih sati. "}]
[null,null,null,null,{"$f":"Translations!$B$1355","v":"Ako je primjenjivo, opišite i metodologiju prema kojoj se emisije ocjenjuju nultom stopom (članak 43. stavci 4. do (4.c) Uredbe ) za oduzimanje od ukupnih emisija."}]
[null,null,null,null,{"$f":"Translations!$B$195","v":"Ovaj opis bi trebao pružiti povezane informacije koje su potrebne za razumijevanje informacija navedenih u drugim dijelovima ovog obrasca te kako se koriste zajedno za izračun emisija. Mogu biti kratke kao dani primjer u listu D_Metodologija proračuna, odjeljak 7(a)."}]
[]
[]
[]
[]
[]
[]
[]
[]
[]
[]
[]
[]
[]
[]
[]
[]
[]
[]
[]
[]
[]
[]
[null,null,null,"(b)",{"$f":"Translations!$B$561","v":"Dijagram procesa:"},null,null,null,null,null,null,null,null,null,null,null,null,null,null,null,null,null,null,null,{"$f":"CNTR_SmallEmitter=TRUE","v":false}]
[null,null,null,null,{"$f":"Translations!$B$562","v":"Osigurajte dijagram procesa koji sadrži sve relevantne točke emisija tijekom redovnog rada i izvanrednog rada npr. tijekom faza restrikcije i tranzicije, uključujući razdoblja prekida proizvodnje ili faze puštanja u pogon."}]
[]
[null,null,null,"(c)",{"$f":"Translations!$B$563","v":"Specifikacija i lokacija mjernih sustava za mjerne točke:"}]
[null,null,null,null,{"$f":"Translations!$B$564","v":"Opišete specifikacije i lokacije mjernih sustava koji će se koristiti za svaki izvor emisija, tamo gdje će se emisije utvrđivati mjerenjem kao i za mjerne točke za prijenos CO2. "}]
[null,null,null,null,{"$f":"Translations!$B$565","v":"Uključite i instrumente za dodatne parametre kao što su udio O2 i vlage te u slučaju indirektnih mjerenja i instrumente za mjerenje koncentracije za druge sastavnice otpadnog plina osim CO2."}]
[null,null,null,null,{"$f":"Translations!$B$349","v":"Pod \"Lokacija\" treba specificirati gdje se u postrojenju nalazi mjerilo, i kako je označeno na shemi tijeka procesa."}]
[null,null,null,null,{"$f":"Translations!$B$356","v":"Svi instrumenti koji se koriste moraju biti jasno prepoznatljivi na temelju jedinstvenog ID-a (kao što je serijski broj instrumenta). Promjena instrumenata (npr. potrebno primjerice zbog posljedice oštećenja) neće predstavljati značajnu promjenu plana praćenja u smislu članka 15. stavak 3. Uredbe. Jedinstvena identifikacija bi stoga trebala biti dokumentirana odvojeno od plana praćenja  i za to imati odgovarajuću pisanu proceduru."}]
[null,null,null,null,{"$f":"Translations!$B$350","v":"Za svaki mjerni instrument unesite određenu nesigurnost, uključujući raspon na koji se odnosi nesigurnosti, kako je navedeno u specifikaciji proizvođača. U nekim slučajevima nesigurnost se može odrediti za dva različita raspona. U tom slučaju unesite oba."}]
[null,null,null,null,{"$f":"Translations!$B$351","v":"Uobičajeni raspon korištenja odnosi se na raspon vrijednosti za relevantni mjerni instrument koji se koristi u vašem postrojenju. "}]
[null,null,null,null,{"$f":"Translations!$B$353","v":"\"Tip mjernog instrumenta\": odaberite odgovarajući tip iz padajućeg izbornika ili unesite tip koji Vam bolje odgovara."}]
[null,null,null,null,{"$f":"Translations!$B$566","v":"Popis instrumenata unesenih ovdje bit će dostupan kao padajući izbornik za svaki izvor emisija u poglavlju 10, u slučaju da se odnosi na odgovarajuće mjerne instrumente. "}]
[null,null,null,null,{"$f":"Translations!$B$355","v":"U slučaju mjerila protoka plina navedite Nm³/h ukoliko je kompenzacija p/T uključena u instrument.  Navedite m³ ukoliko je kompenzacija p/T napravljena pomoću posebnog instrumenta te navedite o kojem se posebnom instrumentu radi."}]
[null,null,null,null,{"$f":"Translations!$B$567","v":"Učestalost mjerenja bi trebala pokazivati učestalost podatkovnih zapisa koje je napravio mjerni instrument prije nego što su podaci združeni kako bi se dobili satni prosjeci ili prosjeci u kraćim razdobljima."}]
[]
[null,null,{"$f":"Translations!$B$357","v":"Oznaka"},null,{"$f":"Translations!$B$358","v":"Tip mjernog instrumenta"},null,{"$f":"Translations!$B$359","v":"lokacija (interni ID)"},{"$f":"Translations!$B$360","v":"Raspon mjerenja"},null,null,{"$f":"Translations!$B$361","v":"Specificirana\nnesigurnost\n(+/-%)"},{"$f":"Translations!$B$362","v":"Uobičajen raspon korištenja"},null,{"$f":"Translations!$B$568","v":"Učestalost mjerenja"}]
[null,null,null,null,null,null,null,{"$f":"Translations!$B$363","v":"jedinica"},{"$f":"Translations!$B$364","v":"donja granica"},{"$f":"Translations!$B$365","v":"gornja granica"},null,{"$f":"Translations!$B$364","v":"donja granica"},{"$f":"Translations!$B$365","v":"gornja granica"},null,null,null,null,null,"Sorting","Sorting","Sorting","Sorting"]
["HIDE_Example",null,"MM01",null,{"$f":"Translations!$B$569","v":"koncentracija CO2 (NDIR)"},null,{"$f":"Translations!$B$570","v":"Ispust1 platforma A (graf: St.1-A)"},{"$f":"Translations!$B$1201","v":"g CO2/Nm³"},0,250,5.5,25,200,{"$f":"Translations!$B$571","v":"1 u sekundi"}]
["HIDE_Example"]
["HIDE_Example",null,"MM02",null,{"$f":"Translations!$B$572","v":"Mjerenje protoka (Pitotova cijev, uprosječeno mjerenje)"},null,{"$f":"Translations!$B$570","v":"Ispust1 platforma A (graf: St.1-A)"},"Nm³/h",10,10000,4,1000,8000,{"$f":"Translations!$B$571","v":"1 u sekundi"}]
["HIDE_Example"]
[null,null,"MM1",null,null,null,null,null,null,null,null,null,null,null,null,null,null,1,1,{"$f":"IF(ISBLANK(E64),\"\",MAX(T$60:T63)+1)","v":""},{"$f":"IF(ISBLANK(E64),\"\",C64 & \": \" &E64)","v":""},{"$f":"IF(COUNTIF($T$61:$T$85,R64)=1,INDEX($U$61:$U$85,MATCH(R64,$T$61:$T$85,0)),EUconst_NA)","v":"nije primjenjivo"}]
[null,null,null,null,null,null,null,null,null,null,null,null,null,null,null,null,null,2,null,null,null,"nije primjenjivo"]
[null,null,"MM2",null,null,null,null,null,null,null,null,null,null,null,null,null,null,3,2,{"$f":"IF(ISBLANK(E66),\"\",MAX(T$60:T65)+1)","v":""},{"$f":"IF(ISBLANK(E66),\"\",C66 & \": \" &E66)","v":""},"nije primjenjivo"]
[null,null,null,null,null,null,null,null,null,null,null,null,null,null,null,null,null,4,null,null,null,"nije primjenjivo"]
[null,null,"MM3",null,null,null,null,null,null,null,null,null,null,null,null,null,null,5,3,{"$f":"IF(ISBLANK(E68),\"\",MAX(T$60:T67)+1)","v":""},{"$f":"IF(ISBLANK(E68),\"\",C68 & \": \" &E68)","v":""},"nije primjenjivo"]
[null,null,null,null,null,null,null,null,null,null,null,null,null,null,null,null,null,6,null,null,null,"nije primjenjivo"]
[null,null,"MM4",null,null,null,null,null,null,null,null,null,null,null,null,null,null,7,4,{"$f":"IF(ISBLANK(E70),\"\",MAX(T$60:T69)+1)","v":""},{"$f":"IF(ISBLANK(E70),\"\",C70 & \": \" &E70)","v":""},"nije primjenjivo"]
[null,null,null,null,null,null,null,null,null,null,null,null,null,null,null,null,null,8,null,null,null,"nije primjenjivo"]
[null,null,"MM5",null,null,null,null,null,null,null,null,null,null,null,null,null,null,9,5,{"$f":"IF(ISBLANK(E72),\"\",MAX(T$60:T71)+1)","v":""},{"$f":"IF(ISBLANK(E72),\"\",C72 & \": \" &E72)","v":""},"nije primjenjivo"]
[null,null,null,null,null,null,null,null,null,null,null,null,null,null,null,null,null,10,null,null,null,"nije primjenjivo"]
[null,null,"MM6",null,null,null,null,null,null,null,null,null,null,null,null,null,null,11,6,{"$f":"IF(ISBLANK(E74),\"\",MAX(T$60:T73)+1)","v":""},{"$f":"IF(ISBLANK(E74),\"\",C74 & \": \" &E74)","v":""},"nije primjenjivo"]
[null,null,null,null,null,null,null,null,null,null,null,null,null,null,null,null,null,12,null,null,null,"nije primjenjivo"]
[null,null,"MM7",null,null,null,null,null,null,null,null,null,null,null,null,null,null,13,7,{"$f":"IF(ISBLANK(E76),\"\",MAX(T$60:T75)+1)","v":""},{"$f":"IF(ISBLANK(E76),\"\",C76 & \": \" &E76)","v":""},"nije primjenjivo"]
[null,null,null,null,null,null,null,null,null,null,null,null,null,null,null,null,null,14,null,null,null,"nije primjenjivo"]
[null,null,"MM8",null,null,null,null,null,null,null,null,null,null,null,null,null,null,15,8,{"$f":"IF(ISBLANK(E78),\"\",MAX(T$60:T77)+1)","v":""},{"$f":"IF(ISBLANK(E78),\"\",C78 & \": \" &E78)","v":""},"nije primjenjivo"]
[null,null,null,null,null,null,null,null,null,null,null,null,null,null,null,null,null,16,null,null,null,"nije primjenjivo"]
[null,null,"MM9",null,null,null,null,null,null,null,null,null,null,null,null,null,null,17,9,{"$f":"IF(ISBLANK(E80),\"\",MAX(T$60:T79)+1)","v":""},{"$f":"IF(ISBLANK(E80),\"\",C80 & \": \" &E80)","v":""},"nije primjenjivo"]
[null,null,null,null,null,null,null,null,null,null,null,null,null,null,null,null,null,18,null,null,null,"nije primjenjivo"]
[null,null,"MM10",null,null,null,null,null,null,null,null,null,null,null,null,null,null,19,10,{"$f":"IF(ISBLANK(E82),\"\",MAX(T$60:T81)+1)","v":""},{"$f":"IF(ISBLANK(E82),\"\",C82 & \": \" &E82)","v":""},"nije primjenjivo"]
[null,null,null,null,null,null,null,null,null,null,null,null,null,null,null,null,null,20,null,null,null,"nije primjenjivo"]
["ausblenden",null,null,null,null,null,null,null,null,null,null,null,null,null,null,null,null,null,null,{"$f":"IF(ISBLANK(E84),\"\",MAX(T$60:T83)+1)","v":""},{"$f":"IF(ISBLANK(E84),\"\",C84 & \": \" &E84)","v":""},"nije primjenjivo"]
["ausblenden",null,null,null,null,null,null,null,null,null,null,null,null,null,null,null,null,null,null,null,null,"nije primjenjivo"]
["ADD_MeasurementInstrument"]
[null,null,null,null,null,null,{"$f":"Translations!$B$368","v":"Pritisnite \"+\" kako bi dodali više mjernih instrumenata"}]
[]
[]
[]
[null,null,null,"(d)",{"$f":"Translations!$B$369","v":"Naslov i referenca dokumenta za procjenu izračuna nesigurnosti:"},null,null,null,null,null,null,null,null,null,null,null,null,null,null,null,null,null,{"$f":"CNTR_SmallEmitter=TRUE","v":false}]
[null,null,null,null,{"$f":"Translations!$B$370","v":"Morate osigurati dokaze o usklađenosti s primijenjenim razinama točnosti, u skladu s člankom 12. Uredbe. Navedite reference o izračunu nesigurnosti i/ili shematske prikaze u polje iznad."}]
[null,null,null,null,{"$f":"Translations!$B$371","v":"Imajte na umu da u skladu s člankom 47. stavkom 3. Uredbe, postrojenja s niskim emisijama ne moraju podnijeti ovaj dokument nadležnom tijelu."}]
[]
[null,null,null,"(e)",{"$f":"Translations!$B$573","v":"Laboratoriji i metode korištene za primjenu kontinuiranog mjerenja:"}]
[null,null,null,null,{"$f":"Translations!$B$384","v":"Navedite sve analitičke metode koje se koriste za analizu goriva i sirovina za određivanje svih faktora proračuna gdje je to primjenjivo s obzirom na odabranu razinu. Tamo gdje laboratorij nije akreditiran sukladno normi HRN EN ISO / IEC 17025, dužni ste pružiti dokaze da je laboratorij tehnički osposobljen u skladu s člankom 34.Uredbe. Za tu svrhu navedite referencu na priloženi dokument."}]
[null,null,null,null,{"$f":"Translations!$B$574","v":"Ova lista će biti dostupna kao padajući izbornik u poglavlju 10 za analitičke metode za navedene mjerne točke."}]
[null,null,null,null,{"$f":"Translations!$B$135","v":"Za prikazivanje/skrivanje primjera, pritisnite na kućicu \"Primjeri\" unutar navigacijskog područja."}]
[]
[null,null,null,null,{"$f":"Translations!$B$387","v":"Oznaka laboratorija"},{"$f":"Translations!$B$388","v":"Ime laboratorija"},null,{"$f":"Translations!$B$389","v":"Analitički parametar"},{"$f":"Translations!$B$390","v":"Analitička metoda\n(uključujući oznaku procedure i kratki opis metode)"},null,null,{"$f":"Translations!$B$391","v":"Je li laboratorij  akreditiran sukladno normi HRN EN ISO/IEC 17025 za ovu analizu?"},{"$f":"Translations!$B$392","v":"Ako nije, navedite oznaku dokumenta u kojem se referirate na taj dokaz."},null,null,null,null,null,null,"Sorting",null,"Sorting","Sorting"]
["HIDE_Example",null,null,null,"LC01",{"$f":"Translations!$B$393","v":"Laboratorij d.o.o."},null,{"$f":"Translations!$B$575","v":"QAL procedure"},{"$f":"Translations!$B$576","v":"HRN EN 14181"},null,null,true]
["HIDE_Example",null,null,null,"LC02",{"$f":"Translations!$B$396","v":"Analiza d.o.o."},null,{"$f":"Translations!$B$577","v":"CO2 koncentracija"},{"$f":"Translations!$B$578","v":"ISO 12039"},null,null,false,{"$f":"Translations!$B$399","v":"Lab_kompetentnost.pdf, 2/3/2012"}]
[null,null,null,null,"LC1",null,null,null,null,null,null,null,null,null,null,null,null,null,null,1,null,{"$f":"IF(ISBLANK(F103),\"\",MAX(V$102:V102)+1)","v":""},{"$f":"IF(COUNTIF($V$103:$V$118,T103)=1,INDEX($E$103:$E$118,MATCH(T103,$V$103:$V$118,0))& \": \" &INDEX($F$103:$F$118,MATCH(T103,$V$103:$V$118,0)),EUconst_NA)","v":"nije primjenjivo"}]
[null,null,null,null,"LC2",null,null,null,null,null,null,null,null,null,null,null,null,null,null,2,null,{"$f":"IF(ISBLANK(F104),\"\",MAX(V$102:V103)+1)","v":""},"nije primjenjivo"]
[null,null,null,null,"LC3",null,null,null,null,null,null,null,null,null,null,null,null,null,null,3,null,{"$f":"IF(ISBLANK(F105),\"\",MAX(V$102:V104)+1)","v":""},"nije primjenjivo"]
[null,null,null,null,"LC4",null,null,null,null,null,null,null,null,null,null,null,null,null,null,4,null,{"$f":"IF(ISBLANK(F106),\"\",MAX(V$102:V105)+1)","v":""},"nije primjenjivo"]
[null,null,null,null,"LC5",null,null,null,null,null,null,null,null,null,null,null,null,null,null,5,null,{"$f":"IF(ISBLANK(F107),\"\",MAX(V$102:V106)+1)","v":""},"nije primjenjivo"]
[null,null,null,null,"LC6",null,null,null,null,null,null,null,null,null,null,null,null,null,null,6,null,{"$f":"IF(ISBLANK(F108),\"\",MAX(V$102:V107)+1)","v":""},"nije primjenjivo"]
[null,null,null,null,"LC7",null,null,null,null,null,null,null,null,null,null,null,null,null,null,7,null,{"$f":"IF(ISBLANK(F109),\"\",MAX(V$102:V108)+1)","v":""},"nije primjenjivo"]
[null,null,null,null,"LC8",null,null,null,null,null,null,null,null,null,null,null,null,null,null,8,null,{"$f":"IF(ISBLANK(F110),\"\",MAX(V$102:V109)+1)","v":""},"nije primjenjivo"]
[null,null,null,null,"LC9",null,null,null,null,null,null,null,null,null,null,null,null,null,null,9,null,{"$f":"IF(ISBLANK(F111),\"\",MAX(V$102:V110)+1)","v":""},"nije primjenjivo"]
[null,null,null,null,"LC10",null,null,null,null,null,null,null,null,null,null,null,null,null,null,10,null,{"$f":"IF(ISBLANK(F112),\"\",MAX(V$102:V111)+1)","v":""},"nije primjenjivo"]
[null,null,null,null,"LC11",null,null,null,null,null,null,null,null,null,null,null,null,null,null,11,null,{"$f":"IF(ISBLANK(F113),\"\",MAX(V$102:V112)+1)","v":""},"nije primjenjivo"]
[null,null,null,null,"LC12",null,null,null,null,null,null,null,null,null,null,null,null,null,null,12,null,{"$f":"IF(ISBLANK(F114),\"\",MAX(V$102:V113)+1)","v":""},"nije primjenjivo"]
[null,null,null,null,"LC13",null,null,null,null,null,null,null,null,null,null,null,null,null,null,13,null,{"$f":"IF(ISBLANK(F115),\"\",MAX(V$102:V114)+1)","v":""},"nije primjenjivo"]
[null,null,null,null,"LC14",null,null,null,null,null,null,null,null,null,null,null,null,null,null,14,null,{"$f":"IF(ISBLANK(F116),\"\",MAX(V$102:V115)+1)","v":""},"nije primjenjivo"]
[null,null,null,null,"LC15",null,null,null,null,null,null,null,null,null,null,null,null,null,null,15,null,{"$f":"IF(ISBLANK(F117),\"\",MAX(V$102:V116)+1)","v":""},"nije primjenjivo"]
["ausblenden",null,null,null,null,null,null,null,null,null,null,null,null,null,null,null,null,null,null,null,null,{"$f":"IF(ISBLANK(F118),\"\",MAX(V$102:V117)+1)","v":""},"nije primjenjivo"]
["ADD_Laboratories"]
[null,null,null,null,null,null,{"$f":"Translations!$B$400","v":"Pritisnite \"+\" kako bi dodali više metoda & laboratorija"}]
[]
[]
[]
[]
[null,null,10,{"$f":"Translations!$B$22","v":"Pojedinosti o mjernim točkama"}]
[]
[null,null,null,{"$f":"Translations!$B$579","v":"Ova uputa prikazana je samo za prvu mjernu točku."}]
[null,null,null,{"$f":"Translations!$B$580","v":"Ukoliko želite prikazati podatke za sljedeće mjerne točke, kliknite na znak \"+\" na lijevoj strani u sivom području (funkcija grupiranja podataka)."}]
[null,null,null,{"$f":"Translations!$B$581","v":"Za dodavanje dodatnih mjernih točaka vratite se na poglavlje 6.d na listu C_Opis_postrojenja i tamo ih dodajte."}]
[null,null,null,{"$f":"Translations!$B$135","v":"Za prikazivanje/skrivanje primjera, pritisnite na kućicu \"Primjeri\" unutar navigacijskog područja."}]
[null,null,null,{"$f":"Translations!$B$582","v":"Primjer je prikazan u prvoj mjernoj točki."}]
[]
[]
[null,null,null,null,null,null,null,null,null,null,null,null,null,null,null,null,null,null,null,null,null,null,null,null,"make grey?"]
[null,null,{"$f":"\"M\"&Q135","v":"M1"},{"$f":"CONCATENATE(EUconst_MeasurementPoint,\" \",Q135,\":\")","v":"Točka mjerenja 1:"},null,null,null,{"$f":"IF(INDEX('C_Opis postrojenja'!$F$171:$F$176,MATCH(C135,'C_Opis postrojenja'!$E$171:$E$176,0))>0,INDEX('C_Opis postrojenja'!$F$171:$F$176,MATCH(C135,'C_Opis postrojenja'!$E$171:$E$176,0)),\"\")","v":""},null,null,null,null,{"$f":"IF(U135=TRUE,V135,\"\")","v":""},null,null,null,1,null,{"$f":"IF(INDEX('C_Opis postrojenja'!$M:$M,MATCH(Q137,'C_Opis postrojenja'!$Q:$Q,0))=\"\",FALSE,TRUE)","v":false},{"$f":"IF(S135=TRUE,INDEX('C_Opis postrojenja'!$M:$M,MATCH(Q137,'C_Opis postrojenja'!$Q:$Q,0)),\"\")","v":""},{"$f":"IF(INDEX('C_Opis postrojenja'!$N:$N,MATCH(Q137,'C_Opis postrojenja'!$Q:$Q,0))=\"\",FALSE,TRUE)","v":false},{"$f":"IF(U135=TRUE,INDEX('C_Opis postrojenja'!$N:$N,MATCH(Q137,'C_Opis postrojenja'!$Q:$Q,0)),\"\")","v":""},null,null,"xxx"]
[]
[null,null,null,"(a)",{"$f":"Translations!$B$583","v":"Način rada:"},null,null,null,null,null,null,null,{"$f":"IF(S135=TRUE,T135,\"\")","v":""},null,null,null,{"$f":"EUconst_CNTR_SourceCategory&C135","v":"SourceCategory_M1"}]
["HIDE_Example"]
["HIDE_Example",null,null,{"$f":"Translations!$B$452","v":"Primjer:"},null,null,null,{"$f":"Translations!$B$279","v":"Ispust peći na ugljen, mjerna platforma A"},null,null,null,null,"CO2"]
["HIDE_Example"]
["HIDE_Example",null,null,null,null,null,null,{"$f":"Translations!$B$584","v":"Redovni i izvanredni rad"},null,null,null,null,{"$f":"Translations!$B$313","v":"Glavni"}]
["HIDE_Example"]
[null,null,null,null,{"$f":"Translations!$B$585","v":"Potvrdite je li ova mjerna točka mjesto mjerenja emisije tokom redovnog rada ili izvanrednog rada (tijekom razdoblja restrikcije i tranzicije, uključujući vrijeme kada je postrojenje u kvaru i probnom radu)."},null,null,null,null,null,null,null,null,null,null,null,null,null,null,null,null,null,"cond. Format?"]
[null,null,null,null,{"$f":"Translations!$B$586","v":"Informacija u zelenom polju preuzeta je automatski iz točke 6(d) u listu C_Opis_postrojenja."}]
[]
[null,null,null,{"$f":"Translations!$B$446","v":"Automatske upute o primjenjivim razinama točnosti:"}]
[]
[null,null,null,null,{"$f":"Translations!$B$587","v":"Temeljem unosa u poglavljima 5(d) i 6(d) zahtjevane razine točnosti za metodologiju mjerenja prikazat će se u zelenim poljima. To su minimalne razine točnosti za glavne izvore emisija. Ipak, mogu biti dozvoljene i niže razine točnosti. Upute će biti prikazane dolje u zelenom polju, ovisno o sljedećim točkama:  "}]
[null,null,null,null,"-",{"$f":"Translations!$B$588","v":"Niže razine točnosti primjenjuju se na izvore emisija koji emitiraju manje od 5000 tona CO2(e) godišnje ili koji doprinose ukupnoj godišnjoj emisiji postrojenja s manje od 10% , odnosno ono što iznosi više u skladu s člankom 41. stavkom 1. Uredbe"}]
[]
[null,null,null,null,{"$f":"IF(H135=\"\",\"\",INDEX(EUconst_CEMSTiersMsg,MATCH(Q151,EUconst_CEMSTiers,0)))","v":""},null,null,null,null,null,null,null,null,null,null,null,{"$f":"IF(CNTR_SmallEmitter=TRUE,EUconst_CNTR_SmallEmitter,EUconst_CNTR_NoSmallEmitter) & \"_\" & IF(M137=\"\",1,MATCH(M137,SourceCategoryCEMS,0))","v":"NoSmallEmitter__1"}]
["HIDE_Example",null,null,null,{"$f":"Translations!$B$589","v":"Članak 41. Uredbe: Minimalna razina točnosti prikazana ispod biti će primjenjena. \nNiža razina točnosti može se koristiti uz minimum razine točnosti 1 samo tamo, gdje možete dokazati do zadovoljavajuće mjere nadležnom tijelu, da primjena zahtijevane razine točnosti tehnički nije izvediva ili će dovesti do neopravdano visokih troškova. Odnosno,  da primjena metodologije proračuna korištenjem pragova razina prema članku 26.Uredbe tehnički nije izvediva ili će dovesti do neopravdano visokih troškova."}]
[]
[null,null,null,{"$f":"Translations!$B$590","v":"Instrumenti i razine točnosti:"}]
[]
[null,null,null,"(b)",{"$f":"Translations!$B$472","v":"Korišteni mjerni instrumenti:"}]
["HIDE_Example",null,null,null,null,null,null,{"$f":"Translations!$B$591","v":"MM1: CO2"},{"$f":"Translations!$B$592","v":"MM2: Protok"}]
[]
[null,null,null,null,{"$f":"Translations!$B$593","v":"Odaberite jedan ili više instrumenata koje ste definirali u odjeljku 9 (c)."}]
[null,null,null,null,{"$f":"Translations!$B$594","v":"Ako se koristi više od pet mjernih instrumenata za ovu mjernu točku, u polje za komentar dodajte objašnjenje."}]
[]
[null,null,null,null,{"$f":"Translations!$B$475","v":"Komentar/opis pristupa ako se koristi više instrumenata:"}]
[]
[]
[]
[]
[null,null,null,null,null,null,null,null,null,null,null,null,null,null,null,null,null,null,"Tier def."]
[null,null,null,"(c)",{"$f":"Translations!$B$595","v":"Zahtijevana razina točnosti:"},null,null,{"$f":"IF(H135=\"\",\"\",IF(CNTR_Category=\"A\",INDEX(EUconst_CEMSMinimumTiers,MATCH(M135,EUconst_CEMSTypes,0)),INDEX(EUconst_CEMSHighestTiers,MATCH(M135,EUconst_CEMSTypes,0))))","v":""},{"$f":"IF(H168=\"\",\"\",IF(S168=0,EUconst_NA,IF(ISERROR(S168),\"\",EUconst_MsgTierActivityLevel & \" \" &S168)))","v":""},null,null,null,null,null,null,null,null,null,{"$f":"IF(H168=\"\",\"\",IF(H168=EUconst_NA,\"\",INDEX(EUwideConstants!$H$778:$O$781,MATCH(M135,EUconst_CEMSTypes,0),MATCH(H168,CNTR_TierList,0))))","v":""}]
[null,null,null,"(d)",{"$f":"Translations!$B$596","v":"Korištena razina točnosti:"},null,null,null,{"$f":"IF(OR(ISBLANK(H169),H169=EUconst_NoTier),\"\",IF(S169=EUconst_NA,EUconst_NA,IF(ISERROR(S169),\"\",EUconst_MsgTierActivityLevel & \" \" &S169)))","v":""},null,null,null,null,null,null,null,null,null,{"$f":"IF(H169=\"\",\"\",IF(H169=EUconst_NA,\"\",INDEX(EUwideConstants!$H$778:$O$781,MATCH(M135,EUconst_CEMSTypes,0),MATCH(H169,CNTR_TierList,0))))","v":""}]
[null,null,null,"(e)",{"$f":"Translations!$B$479","v":"Postignuta nesigurnost:"},null,null,null,{"$f":"Translations!$B$480","v":"Komentar:"}]
["HIDE_Example",null,null,{"$f":"Translations!$B$452","v":"Primjer:"}]
["HIDE_Example",null,null,"(c)",{"$f":"Translations!$B$595","v":"Zahtijevana razina točnosti:"},null,null,4,{"$f":"Translations!$B$482","v":"Nesigurnost ne smije biti viša od ± 2,5%"}]
["HIDE_Example",null,null,"(d)",{"$f":"Translations!$B$596","v":"Korištena razina točnosti:"},null,null,3,{"$f":"Translations!$B$481","v":"Nesigurnost ne smije biti viša od ± 5,0%"}]
["HIDE_Example",null,null,"(e)",{"$f":"Translations!$B$479","v":"Postignuta nesigurnost:"},null,null,3.5999999999999997E-2,{"$f":"Translations!$B$480","v":"Komentar:"}]
["HIDE_Example"]
[null,null,null,null,{"$f":"Translations!$B$597","v":"Obzirom na zahtijevanu i korištenu razinu točnosti unesite ukupnu nesigurnost ostvarenu tijekom cjelokupnog izvještajnog razdoblja."}]
[null,null,null,null,{"$f":"Translations!$B$598","v":"Ova vrijednost treba biti rezultat procjene nesigurnosti (vidi  poglavlje 7(c))."}]
[null,null,null,null,{"$f":"Translations!$B$488","v":"Koristite polje za komentar (točka (h) u nastavku) za opis određivanja nesigurnosti koja je postignuta tijekom cijelog razdoblja."}]
[]
[null,null,null,{"$f":"Translations!$B$599","v":"Norme i postupci:"}]
[]
[null,null,null,"(f)",{"$f":"Translations!$B$600","v":"Primjenjene norme i odstupanje od istih"}]
[null,null,null,null,{"$f":"Translations!$B$601","v":"Koristite reference na prikazanu tablicu 9(e), prema potrebi."}]
[]
[]
[]
[]
[]
[null,null,null,"(g)",{"$f":"Translations!$B$602","v":"Reference na postupke"}]
[null,null,null,null,{"$f":"Translations!$B$603","v":"Kako bi mogli u potpunosti opisati primijenjenu metodologiju mjerenja, navedite slijedeće informacije. Navedite reference na korištene pisane postupke. Postupci moraju biti navedeni u poglavlju 11 na ovom listu."}]
[]
[null,null,null,null,"i.",{"$f":"Translations!$B$604","v":"Formule za objedinjavanje podataka i utvrđivanje godišnjih emisija."}]
[]
[]
[null,null,null,null,"ii.",{"$f":"Translations!$B$605","v":"Metoda za utvrđivanje valjanih satnih vrijednosti ili kraćih referentnih razdoblja potrebnih za izračun svakog parametra sukladno uvjetu u članku 44. stavku 2. Uredbe i za utvrđivanje zamjenskih podataka koji nedostaju, u skladu sa člankom 45. Uredbe"}]
[]
[]
[null,null,null,null,"iii.",{"$f":"Translations!$B$606","v":"Proračun protoka otpadnih plinova, ako je primjenjivo"}]
[]
[]
[null,null,null,null,"iv.",{"$f":"Translations!$B$1356","v":"Određivanje CO2 koji potječe iz biomase ili bilo kojeg drugog udjela s nultom stopom, ako je primjenjivo"}]
[]
[]
[null,null,null,null,"v.",{"$f":"Translations!$B$608","v":"Provedeni proračuni u skladu sa člankom 46. Uredbe, ako je primjenjivo "}]
[]
[]
[null,null,null,{"$f":"Translations!$B$545","v":"Komentari i objašnjenja"}]
[]
[null,null,null,"(h)",{"$f":"Translations!$B$1202","v":"Komentari i obrazloženja ako nije primijenjena zahtijevana razina:"}]
[null,null,null,null,{"$f":"Translations!$B$609","v":"Navedite sve relevantne komentare ispod. Obrazloženja osobito mogu biti potrebna za npr.Metodu procjene biomase, dodatne QA / QC mjere, itd."}]
[null,null,null,null,{"$f":"Translations!$B$610","v":"Obrazložite ukoliko zahtijevana razina točnosti nije primjenjena sukladno članku 41.Uredbe za ovu mjernu točku.\n"}]
[]
[]
[]
[]
[]
[null,null,null,null,null,null,null,null,null,null,null,null,null,null,null,null,null,null,null,null,null,null,null,null,"make grey?"]
[null,null,{"$f":"\"M\"&Q218","v":"M2"},{"$f":"CONCATENATE(EUconst_MeasurementPoint,\" \",Q218,\":\")","v":"Točka mjerenja 2:"},null,null,null,{"$f":"IF(INDEX('C_Opis postrojenja'!$F$171:$F$176,MATCH(C218,'C_Opis postrojenja'!$E$171:$E$176,0))>0,INDEX('C_Opis postrojenja'!$F$171:$F$176,MATCH(C218,'C_Opis postrojenja'!$E$171:$E$176,0)),\"\")","v":""},null,null,null,null,{"$f":"IF(U218=TRUE,V218,\"\")","v":""},null,null,null,2,null,{"$f":"IF(INDEX('C_Opis postrojenja'!$M:$M,MATCH(Q220,'C_Opis postrojenja'!$Q:$Q,0))=\"\",FALSE,TRUE)","v":false},{"$f":"IF(S218=TRUE,INDEX('C_Opis postrojenja'!$M:$M,MATCH(Q220,'C_Opis postrojenja'!$Q:$Q,0)),\"\")","v":""},{"$f":"IF(INDEX('C_Opis postrojenja'!$N:$N,MATCH(Q220,'C_Opis postrojenja'!$Q:$Q,0))=\"\",FALSE,TRUE)","v":false},{"$f":"IF(U218=TRUE,INDEX('C_Opis postrojenja'!$N:$N,MATCH(Q220,'C_Opis postrojenja'!$Q:$Q,0)),\"\")","v":""},null,null,"xxx"]
[]
[null,null,null,"(a)",{"$f":"Translations!$B$583","v":"Način rada:"},null,null,null,null,null,null,null,{"$f":"IF(S218=TRUE,T218,\"\")","v":""},null,null,null,{"$f":"EUconst_CNTR_SourceCategory&C218","v":"SourceCategory_M2"}]
[]
[null,null,null,{"$f":"Translations!$B$446","v":"Automatske upute o primjenjivim razinama točnosti:"}]
[]
[]
[null,null,null,null,{"$f":"IF(H218=\"\",\"\",INDEX(EUconst_CEMSTiersMsg,MATCH(Q225,EUconst_CEMSTiers,0)))","v":""},null,null,null,null,null,null,null,null,null,null,null,{"$f":"IF(CNTR_SmallEmitter=TRUE,EUconst_CNTR_SmallEmitter,EUconst_CNTR_NoSmallEmitter) & \"_\" & IF(M220=\"\",1,MATCH(M220,SourceCategoryCEMS,0))","v":"NoSmallEmitter__1"}]
[]
[null,null,null,{"$f":"Translations!$B$590","v":"Instrumenti i razine točnosti:"}]
[]
[null,null,null,"(b)",{"$f":"Translations!$B$472","v":"Korišteni mjerni instrumenti:"}]
[]
[null,null,null,null,{"$f":"Translations!$B$475","v":"Komentar/opis pristupa ako se koristi više instrumenata:"}]
[]
[]
[]
[]
[null,null,null,null,null,null,null,null,null,null,null,null,null,null,null,null,null,null,"Tier def."]
[null,null,null,"(c)",{"$f":"Translations!$B$595","v":"Zahtijevana razina točnosti:"},null,null,{"$f":"IF(H218=\"\",\"\",IF(CNTR_Category=\"A\",INDEX(EUconst_CEMSMinimumTiers,MATCH(M218,EUconst_CEMSTypes,0)),INDEX(EUconst_CEMSHighestTiers,MATCH(M218,EUconst_CEMSTypes,0))))","v":""},{"$f":"IF(H237=\"\",\"\",IF(S237=0,EUconst_NA,IF(ISERROR(S237),\"\",EUconst_MsgTierActivityLevel & \" \" &S237)))","v":""},null,null,null,null,null,null,null,null,null,{"$f":"IF(H237=\"\",\"\",IF(H237=EUconst_NA,\"\",INDEX(EUwideConstants!$H$778:$O$781,MATCH(M218,EUconst_CEMSTypes,0),MATCH(H237,CNTR_TierList,0))))","v":""}]
[null,null,null,"(d)",{"$f":"Translations!$B$596","v":"Korištena razina točnosti:"},null,null,null,{"$f":"IF(OR(ISBLANK(H238),H238=EUconst_NoTier),\"\",IF(S238=EUconst_NA,EUconst_NA,IF(ISERROR(S238),\"\",EUconst_MsgTierActivityLevel & \" \" &S238)))","v":""},null,null,null,null,null,null,null,null,null,{"$f":"IF(H238=\"\",\"\",IF(H238=EUconst_NA,\"\",INDEX(EUwideConstants!$H$778:$O$781,MATCH(M218,EUconst_CEMSTypes,0),MATCH(H238,CNTR_TierList,0))))","v":""}]
[null,null,null,"(e)",{"$f":"Translations!$B$479","v":"Postignuta nesigurnost:"},null,null,null,{"$f":"Translations!$B$480","v":"Komentar:"}]
[]
[null,null,null,{"$f":"Translations!$B$599","v":"Norme i postupci:"}]
[]
[null,null,null,"(f)",{"$f":"Translations!$B$600","v":"Primjenjene norme i odstupanje od istih"}]
[null,null,null,null,{"$f":"Translations!$B$601","v":"Koristite reference na prikazanu tablicu 9(e), prema potrebi."}]
[]
[]
[]
[]
[]
[null,null,null,"(g)",{"$f":"Translations!$B$602","v":"Reference na postupke"}]
[]
[null,null,null,null,"i.",{"$f":"Translations!$B$604","v":"Formule za objedinjavanje podataka i utvrđivanje godišnjih emisija."}]
[]
[]
[null,null,null,null,"ii.",{"$f":"Translations!$B$605","v":"Metoda za utvrđivanje valjanih satnih vrijednosti ili kraćih referentnih razdoblja potrebnih za izračun svakog parametra sukladno uvjetu u članku 44. stavku 2. Uredbe i za utvrđivanje zamjenskih podataka koji nedostaju, u skladu sa člankom 45. Uredbe"}]
[]
[]
[null,null,null,null,"iii.",{"$f":"Translations!$B$606","v":"Proračun protoka otpadnih plinova, ako je primjenjivo"}]
[]
[]
[null,null,null,null,"iv.",{"$f":"Translations!$B$1356","v":"Određivanje CO2 koji potječe iz biomase ili bilo kojeg drugog udjela s nultom stopom, ako je primjenjivo"}]
[]
[]
[null,null,null,null,"v.",{"$f":"Translations!$B$608","v":"Provedeni proračuni u skladu sa člankom 46. Uredbe, ako je primjenjivo "}]
[]
[]
[null,null,null,{"$f":"Translations!$B$545","v":"Komentari i objašnjenja"}]
[]
[null,null,null,"(h)",{"$f":"Translations!$B$1202","v":"Komentari i obrazloženja ako nije primijenjena zahtijevana razina:"}]
[]
[]
[]
[]
[]
[null,null,null,null,null,null,null,null,null,null,null,null,null,null,null,null,null,null,null,null,null,null,null,null,"make grey?"]
[null,null,{"$f":"\"M\"&Q276","v":"M3"},{"$f":"CONCATENATE(EUconst_MeasurementPoint,\" \",Q276,\":\")","v":"Točka mjerenja 3:"},null,null,null,{"$f":"IF(INDEX('C_Opis postrojenja'!$F$171:$F$176,MATCH(C276,'C_Opis postrojenja'!$E$171:$E$176,0))>0,INDEX('C_Opis postrojenja'!$F$171:$F$176,MATCH(C276,'C_Opis postrojenja'!$E$171:$E$176,0)),\"\")","v":""},null,null,null,null,{"$f":"IF(U276=TRUE,V276,\"\")","v":""},null,null,null,{"$f":"Q218+1","v":3},null,{"$f":"IF(INDEX('C_Opis postrojenja'!$M:$M,MATCH(Q278,'C_Opis postrojenja'!$Q:$Q,0))=\"\",FALSE,TRUE)","v":false},{"$f":"IF(S276=TRUE,INDEX('C_Opis postrojenja'!$M:$M,MATCH(Q278,'C_Opis postrojenja'!$Q:$Q,0)),\"\")","v":""},{"$f":"IF(INDEX('C_Opis postrojenja'!$N:$N,MATCH(Q278,'C_Opis postrojenja'!$Q:$Q,0))=\"\",FALSE,TRUE)","v":false},{"$f":"IF(U276=TRUE,INDEX('C_Opis postrojenja'!$N:$N,MATCH(Q278,'C_Opis postrojenja'!$Q:$Q,0)),\"\")","v":""},null,null,"xxx"]
[]
[null,null,null,"(a)",{"$f":"Translations!$B$583","v":"Način rada:"},null,null,null,null,null,null,null,{"$f":"IF(S276=TRUE,T276,\"\")","v":""},null,null,null,{"$f":"EUconst_CNTR_SourceCategory&C276","v":"SourceCategory_M3"}]
[]
[null,null,null,{"$f":"Translations!$B$446","v":"Automatske upute o primjenjivim razinama točnosti:"}]
[]
[]
[null,null,null,null,{"$f":"IF(H276=\"\",\"\",INDEX(EUconst_CEMSTiersMsg,MATCH(Q283,EUconst_CEMSTiers,0)))","v":""},null,null,null,null,null,null,null,null,null,null,null,{"$f":"IF(CNTR_SmallEmitter=TRUE,EUconst_CNTR_SmallEmitter,EUconst_CNTR_NoSmallEmitter) & \"_\" & IF(M278=\"\",1,MATCH(M278,SourceCategoryCEMS,0))","v":"NoSmallEmitter__1"}]
[]
[null,null,null,{"$f":"Translations!$B$590","v":"Instrumenti i razine točnosti:"}]
[]
[null,null,null,"(b)",{"$f":"Translations!$B$472","v":"Korišteni mjerni instrumenti:"}]
[]
[null,null,null,null,{"$f":"Translations!$B$475","v":"Komentar/opis pristupa ako se koristi više instrumenata:"}]
[]
[]
[]
[]
[null,null,null,null,null,null,null,null,null,null,null,null,null,null,null,null,null,null,"Tier def."]
[null,null,null,"(c)",{"$f":"Translations!$B$595","v":"Zahtijevana razina točnosti:"},null,null,{"$f":"IF(H276=\"\",\"\",IF(CNTR_Category=\"A\",INDEX(EUconst_CEMSMinimumTiers,MATCH(M276,EUconst_CEMSTypes,0)),INDEX(EUconst_CEMSHighestTiers,MATCH(M276,EUconst_CEMSTypes,0))))","v":""},{"$f":"IF(H295=\"\",\"\",IF(S295=0,EUconst_NA,IF(ISERROR(S295),\"\",EUconst_MsgTierActivityLevel & \" \" &S295)))","v":""},null,null,null,null,null,null,null,null,null,{"$f":"IF(H295=\"\",\"\",IF(H295=EUconst_NA,\"\",INDEX(EUwideConstants!$H$778:$O$781,MATCH(M276,EUconst_CEMSTypes,0),MATCH(H295,CNTR_TierList,0))))","v":""}]
[null,null,null,"(d)",{"$f":"Translations!$B$596","v":"Korištena razina točnosti:"},null,null,null,{"$f":"IF(OR(ISBLANK(H296),H296=EUconst_NoTier),\"\",IF(S296=EUconst_NA,EUconst_NA,IF(ISERROR(S296),\"\",EUconst_MsgTierActivityLevel & \" \" &S296)))","v":""},null,null,null,null,null,null,null,null,null,{"$f":"IF(H296=\"\",\"\",IF(H296=EUconst_NA,\"\",INDEX(EUwideConstants!$H$778:$O$781,MATCH(M276,EUconst_CEMSTypes,0),MATCH(H296,CNTR_TierList,0))))","v":""}]
[null,null,null,"(e)",{"$f":"Translations!$B$479","v":"Postignuta nesigurnost:"},null,null,null,{"$f":"Translations!$B$480","v":"Komentar:"}]
[]
[null,null,null,{"$f":"Translations!$B$599","v":"Norme i postupci:"}]
[]
[null,null,null,"(f)",{"$f":"Translations!$B$600","v":"Primjenjene norme i odstupanje od istih"}]
[null,null,null,null,{"$f":"Translations!$B$601","v":"Koristite reference na prikazanu tablicu 9(e), prema potrebi."}]
[]
[]
[]
[]
[]
[null,null,null,"(g)",{"$f":"Translations!$B$602","v":"Reference na postupke"}]
[]
[null,null,null,null,"i.",{"$f":"Translations!$B$604","v":"Formule za objedinjavanje podataka i utvrđivanje godišnjih emisija."}]
[]
[]
[null,null,null,null,"ii.",{"$f":"Translations!$B$605","v":"Metoda za utvrđivanje valjanih satnih vrijednosti ili kraćih referentnih razdoblja potrebnih za izračun svakog parametra sukladno uvjetu u članku 44. stavku 2. Uredbe i za utvrđivanje zamjenskih podataka koji nedostaju, u skladu sa člankom 45. Uredbe"}]
[]
[]
[null,null,null,null,"iii.",{"$f":"Translations!$B$606","v":"Proračun protoka otpadnih plinova, ako je primjenjivo"}]
[]
[]
[null,null,null,null,"iv.",{"$f":"Translations!$B$1356","v":"Određivanje CO2 koji potječe iz biomase ili bilo kojeg drugog udjela s nultom stopom, ako je primjenjivo"}]
[]
[]
[null,null,null,null,"v.",{"$f":"Translations!$B$608","v":"Provedeni proračuni u skladu sa člankom 46. Uredbe, ako je primjenjivo "}]
[]
[]
[null,null,null,{"$f":"Translations!$B$545","v":"Komentari i objašnjenja"}]
[]
[null,null,null,"(h)",{"$f":"Translations!$B$1202","v":"Komentari i obrazloženja ako nije primijenjena zahtijevana razina:"}]
[]
[]
[]
[]
[]
[null,null,null,null,null,null,null,null,null,null,null,null,null,null,null,null,null,null,null,null,null,null,null,null,"make grey?"]
[null,null,{"$f":"\"M\"&Q334","v":"M4"},{"$f":"CONCATENATE(EUconst_MeasurementPoint,\" \",Q334,\":\")","v":"Točka mjerenja 4:"},null,null,null,{"$f":"IF(INDEX('C_Opis postrojenja'!$F$171:$F$176,MATCH(C334,'C_Opis postrojenja'!$E$171:$E$176,0))>0,INDEX('C_Opis postrojenja'!$F$171:$F$176,MATCH(C334,'C_Opis postrojenja'!$E$171:$E$176,0)),\"\")","v":""},null,null,null,null,{"$f":"IF(U334=TRUE,V334,\"\")","v":""},null,null,null,{"$f":"Q276+1","v":4},null,{"$f":"IF(INDEX('C_Opis postrojenja'!$M:$M,MATCH(Q336,'C_Opis postrojenja'!$Q:$Q,0))=\"\",FALSE,TRUE)","v":false},{"$f":"IF(S334=TRUE,INDEX('C_Opis postrojenja'!$M:$M,MATCH(Q336,'C_Opis postrojenja'!$Q:$Q,0)),\"\")","v":""},{"$f":"IF(INDEX('C_Opis postrojenja'!$N:$N,MATCH(Q336,'C_Opis postrojenja'!$Q:$Q,0))=\"\",FALSE,TRUE)","v":false},{"$f":"IF(U334=TRUE,INDEX('C_Opis postrojenja'!$N:$N,MATCH(Q336,'C_Opis postrojenja'!$Q:$Q,0)),\"\")","v":""},null,null,"xxx"]
[]
[null,null,null,"(a)",{"$f":"Translations!$B$583","v":"Način rada:"},null,null,null,null,null,null,null,{"$f":"IF(S334=TRUE,T334,\"\")","v":""},null,null,null,{"$f":"EUconst_CNTR_SourceCategory&C334","v":"SourceCategory_M4"}]
[]
[null,null,null,{"$f":"Translations!$B$446","v":"Automatske upute o primjenjivim razinama točnosti:"}]
[]
[]
[null,null,null,null,{"$f":"IF(H334=\"\",\"\",INDEX(EUconst_CEMSTiersMsg,MATCH(Q341,EUconst_CEMSTiers,0)))","v":""},null,null,null,null,null,null,null,null,null,null,null,{"$f":"IF(CNTR_SmallEmitter=TRUE,EUconst_CNTR_SmallEmitter,EUconst_CNTR_NoSmallEmitter) & \"_\" & IF(M336=\"\",1,MATCH(M336,SourceCategoryCEMS,0))","v":"NoSmallEmitter__1"}]
[]
[null,null,null,{"$f":"Translations!$B$590","v":"Instrumenti i razine točnosti:"}]
[]
[null,null,null,"(b)",{"$f":"Translations!$B$472","v":"Korišteni mjerni instrumenti:"}]
[]
[null,null,null,null,{"$f":"Translations!$B$475","v":"Komentar/opis pristupa ako se koristi više instrumenata:"}]
[]
[]
[]
[]
[null,null,null,null,null,null,null,null,null,null,null,null,null,null,null,null,null,null,"Tier def."]
[null,null,null,"(c)",{"$f":"Translations!$B$595","v":"Zahtijevana razina točnosti:"},null,null,{"$f":"IF(H334=\"\",\"\",IF(CNTR_Category=\"A\",INDEX(EUconst_CEMSMinimumTiers,MATCH(M334,EUconst_CEMSTypes,0)),INDEX(EUconst_CEMSHighestTiers,MATCH(M334,EUconst_CEMSTypes,0))))","v":""},{"$f":"IF(H353=\"\",\"\",IF(S353=0,EUconst_NA,IF(ISERROR(S353),\"\",EUconst_MsgTierActivityLevel & \" \" &S353)))","v":""},null,null,null,null,null,null,null,null,null,{"$f":"IF(H353=\"\",\"\",IF(H353=EUconst_NA,\"\",INDEX(EUwideConstants!$H$778:$O$781,MATCH(M334,EUconst_CEMSTypes,0),MATCH(H353,CNTR_TierList,0))))","v":""}]
[null,null,null,"(d)",{"$f":"Translations!$B$596","v":"Korištena razina točnosti:"},null,null,null,{"$f":"IF(OR(ISBLANK(H354),H354=EUconst_NoTier),\"\",IF(S354=EUconst_NA,EUconst_NA,IF(ISERROR(S354),\"\",EUconst_MsgTierActivityLevel & \" \" &S354)))","v":""},null,null,null,null,null,null,null,null,null,{"$f":"IF(H354=\"\",\"\",IF(H354=EUconst_NA,\"\",INDEX(EUwideConstants!$H$778:$O$781,MATCH(M334,EUconst_CEMSTypes,0),MATCH(H354,CNTR_TierList,0))))","v":""}]
[null,null,null,"(e)",{"$f":"Translations!$B$479","v":"Postignuta nesigurnost:"},null,null,null,{"$f":"Translations!$B$480","v":"Komentar:"}]
[]
[null,null,null,{"$f":"Translations!$B$599","v":"Norme i postupci:"}]
[]
[null,null,null,"(f)",{"$f":"Translations!$B$600","v":"Primjenjene norme i odstupanje od istih"}]
[null,null,null,null,{"$f":"Translations!$B$601","v":"Koristite reference na prikazanu tablicu 9(e), prema potrebi."}]
[]
[]
[]
[]
[]
[null,null,null,"(g)",{"$f":"Translations!$B$602","v":"Reference na postupke"}]
[]
[null,null,null,null,"i.",{"$f":"Translations!$B$604","v":"Formule za objedinjavanje podataka i utvrđivanje godišnjih emisija."}]
[]
[]
[null,null,null,null,"ii.",{"$f":"Translations!$B$605","v":"Metoda za utvrđivanje valjanih satnih vrijednosti ili kraćih referentnih razdoblja potrebnih za izračun svakog parametra sukladno uvjetu u članku 44. stavku 2. Uredbe i za utvrđivanje zamjenskih podataka koji nedostaju, u skladu sa člankom 45. Uredbe"}]
[]
[]
[null,null,null,null,"iii.",{"$f":"Translations!$B$606","v":"Proračun protoka otpadnih plinova, ako je primjenjivo"}]
[]
[]
[null,null,null,null,"iv.",{"$f":"Translations!$B$1356","v":"Određivanje CO2 koji potječe iz biomase ili bilo kojeg drugog udjela s nultom stopom, ako je primjenjivo"}]
[]
[]
[null,null,null,null,"v.",{"$f":"Translations!$B$608","v":"Provedeni proračuni u skladu sa člankom 46. Uredbe, ako je primjenjivo "}]
[]
[]
[null,null,null,{"$f":"Translations!$B$545","v":"Komentari i objašnjenja"}]
[]
[null,null,null,"(h)",{"$f":"Translations!$B$1202","v":"Komentari i obrazloženja ako nije primijenjena zahtijevana razina:"}]
[]
[]
[]
[]
[]
["ADD_CompleteMeasurementPoint",null,null,null,null,null,null,null,null,null,null,null,null,null,null,null,null,null,null,null,null,null,null,null,"make grey?"]
[null,null,{"$f":"\"M\"&Q392","v":"M5"},{"$f":"CONCATENATE(EUconst_MeasurementPoint,\" \",Q392,\":\")","v":"Točka mjerenja 5:"},null,null,null,{"$f":"IF(INDEX('C_Opis postrojenja'!$F$171:$F$176,MATCH(C392,'C_Opis postrojenja'!$E$171:$E$176,0))>0,INDEX('C_Opis postrojenja'!$F$171:$F$176,MATCH(C392,'C_Opis postrojenja'!$E$171:$E$176,0)),\"\")","v":""},null,null,null,null,{"$f":"IF(U392=TRUE,V392,\"\")","v":""},null,null,null,{"$f":"Q334+1","v":5},null,{"$f":"IF(INDEX('C_Opis postrojenja'!$M:$M,MATCH(Q394,'C_Opis postrojenja'!$Q:$Q,0))=\"\",FALSE,TRUE)","v":false},{"$f":"IF(S392=TRUE,INDEX('C_Opis postrojenja'!$M:$M,MATCH(Q394,'C_Opis postrojenja'!$Q:$Q,0)),\"\")","v":""},{"$f":"IF(INDEX('C_Opis postrojenja'!$N:$N,MATCH(Q394,'C_Opis postrojenja'!$Q:$Q,0))=\"\",FALSE,TRUE)","v":false},{"$f":"IF(U392=TRUE,INDEX('C_Opis postrojenja'!$N:$N,MATCH(Q394,'C_Opis postrojenja'!$Q:$Q,0)),\"\")","v":""},null,null,"xxx"]
[]
[null,null,null,"(a)",{"$f":"Translations!$B$583","v":"Način rada:"},null,null,null,null,null,null,null,{"$f":"IF(S392=TRUE,T392,\"\")","v":""},null,null,null,{"$f":"EUconst_CNTR_SourceCategory&C392","v":"SourceCategory_M5"}]
[]
[null,null,null,{"$f":"Translations!$B$446","v":"Automatske upute o primjenjivim razinama točnosti:"}]
[]
[]
[null,null,null,null,{"$f":"IF(H392=\"\",\"\",INDEX(EUconst_CEMSTiersMsg,MATCH(Q399,EUconst_CEMSTiers,0)))","v":""},null,null,null,null,null,null,null,null,null,null,null,{"$f":"IF(CNTR_SmallEmitter=TRUE,EUconst_CNTR_SmallEmitter,EUconst_CNTR_NoSmallEmitter) & \"_\" & IF(M394=\"\",1,MATCH(M394,SourceCategoryCEMS,0))","v":"NoSmallEmitter__1"}]
[]
[null,null,null,{"$f":"Translations!$B$590","v":"Instrumenti i razine točnosti:"}]
[]
[null,null,null,"(b)",{"$f":"Translations!$B$472","v":"Korišteni mjerni instrumenti:"}]
[]
[null,null,null,null,{"$f":"Translations!$B$475","v":"Komentar/opis pristupa ako se koristi više instrumenata:"}]
[]
[]
[]
[]
[null,null,null,null,null,null,null,null,null,null,null,null,null,null,null,null,null,null,"Tier def."]
[null,null,null,"(c)",{"$f":"Translations!$B$595","v":"Zahtijevana razina točnosti:"},null,null,{"$f":"IF(H392=\"\",\"\",IF(CNTR_Category=\"A\",INDEX(EUconst_CEMSMinimumTiers,MATCH(M392,EUconst_CEMSTypes,0)),INDEX(EUconst_CEMSHighestTiers,MATCH(M392,EUconst_CEMSTypes,0))))","v":""},{"$f":"IF(H411=\"\",\"\",IF(S411=0,EUconst_NA,IF(ISERROR(S411),\"\",EUconst_MsgTierActivityLevel & \" \" &S411)))","v":""},null,null,null,null,null,null,null,null,null,{"$f":"IF(H411=\"\",\"\",IF(H411=EUconst_NA,\"\",INDEX(EUwideConstants!$H$778:$O$781,MATCH(M392,EUconst_CEMSTypes,0),MATCH(H411,CNTR_TierList,0))))","v":""}]
[null,null,null,"(d)",{"$f":"Translations!$B$596","v":"Korištena razina točnosti:"},null,null,null,{"$f":"IF(OR(ISBLANK(H412),H412=EUconst_NoTier),\"\",IF(S412=EUconst_NA,EUconst_NA,IF(ISERROR(S412),\"\",EUconst_MsgTierActivityLevel & \" \" &S412)))","v":""},null,null,null,null,null,null,null,null,null,{"$f":"IF(H412=\"\",\"\",IF(H412=EUconst_NA,\"\",INDEX(EUwideConstants!$H$778:$O$781,MATCH(M392,EUconst_CEMSTypes,0),MATCH(H412,CNTR_TierList,0))))","v":""}]
[null,null,null,"(e)",{"$f":"Translations!$B$479","v":"Postignuta nesigurnost:"},null,null,null,{"$f":"Translations!$B$480","v":"Komentar:"}]
[]
[null,null,null,{"$f":"Translations!$B$599","v":"Norme i postupci:"}]
[]
[null,null,null,"(f)",{"$f":"Translations!$B$600","v":"Primjenjene norme i odstupanje od istih"}]
[null,null,null,null,{"$f":"Translations!$B$601","v":"Koristite reference na prikazanu tablicu 9(e), prema potrebi."}]
[]
[]
[]
[]
[]
[null,null,null,"(g)",{"$f":"Translations!$B$602","v":"Reference na postupke"}]
[]
[null,null,null,null,"i.",{"$f":"Translations!$B$604","v":"Formule za objedinjavanje podataka i utvrđivanje godišnjih emisija."}]
[]
[]
[null,null,null,null,"ii.",{"$f":"Translations!$B$605","v":"Metoda za utvrđivanje valjanih satnih vrijednosti ili kraćih referentnih razdoblja potrebnih za izračun svakog parametra sukladno uvjetu u članku 44. stavku 2. Uredbe i za utvrđivanje zamjenskih podataka koji nedostaju, u skladu sa člankom 45. Uredbe"}]
[]
[]
[null,null,null,null,"iii.",{"$f":"Translations!$B$606","v":"Proračun protoka otpadnih plinova, ako je primjenjivo"}]
[]
[]
[null,null,null,null,"iv.",{"$f":"Translations!$B$1356","v":"Određivanje CO2 koji potječe iz biomase ili bilo kojeg drugog udjela s nultom stopom, ako je primjenjivo"}]
[]
[]
[null,null,null,null,"v.",{"$f":"Translations!$B$608","v":"Provedeni proračuni u skladu sa člankom 46. Uredbe, ako je primjenjivo "}]
[]
[]
[null,null,null,{"$f":"Translations!$B$545","v":"Komentari i objašnjenja"}]
[]
[null,null,null,"(h)",{"$f":"Translations!$B$1202","v":"Komentari i obrazloženja ako nije primijenjena zahtijevana razina:"}]
[]
[]
[]
[]
[]
["ADD_CompleteMeasurementPoint"]
[]
[null,null,11,{"$f":"Translations!$B$23","v":"Upravljanje i procedure za metodologiju mjerenja"}]
[]
[null,null,null,"(a)",{"$f":"Translations!$B$611","v":"Navedite pojedinosti iz pisanih postupaka navodeći detalje metode te sve formule korištene za prikupljanje podataka i utvrđivanje godišnjih CO2e emisija gdje su primjenjene metodologije mjerenja."}]
[null,null,null,null,{"$f":"Translations!$B$612","v":"Navedite detalje o pisanim postupcima u skladu s člankom 44. Uredbe."}]
[null,null,null,null,{"$f":"Translations!$B$613","v":"Gdje se brojni postupci koriste u slične svrhe, ali za različite izvore emisije ili mjerne točke, navedite pojedinosti o sveobuhvatnom postupku koji obuhvaća zajedničke elemente i osiguranje kvalitete primijenjenih metoda."}]
[null,null,null,null,{"$f":"Translations!$B$614","v":"Nakon toga možete dati ovdje reference na pojedine \"pod-postupke\", ili možete dati pojedinosti svakog relevantnog postupka odvojeno. Za potonje, molimo da koristite \"dodaj postupak\" gumb na kraju ovog lista. Međutim, molimo vas da osigurate jasnu referencu na odgovarajući (pod-)postupak."}]
[]
[null,null,null,null,{"$f":"Translations!$B$405","v":"Naziv postupka"}]
[null,null,null,null,{"$f":"Translations!$B$407","v":"Oznaka postupka"}]
[null,null,null,null,{"$f":"Translations!$B$409","v":"Oznaka dijagrama (ukoliko je primjenjivo)"}]
[null,null,null,null,{"$f":"Translations!$B$615","v":"Kratak opis postupka (Opis treba pokriti osnovne parametre i provedene operacije)"}]
[null,null,null,null,{"$f":"Translations!$B$414","v":"Ustrojstvena jedinica tvrtke odgovorna za postupke i za obradu podataka."}]
[null,null,null,null,{"$f":"Translations!$B$416","v":"Lokacija na kojoj se pohranjuju zapisi"}]
[null,null,null,null,{"$f":"Translations!$B$418","v":"Naziv informatičkog sustava koji se koristi (ako je primjenjivo)."}]
[null,null,null,null,{"$f":"Translations!$B$420","v":"Popis HRN EN i ostalih primjenjenih normi (ako je primjenjivo)"}]
[]
[null,null,null,"(b)",{"$f":"Translations!$B$616","v":"Navedite pojedinosti o pisanim postupcima koje opisuju metode korištene za utvrđivanje valjanih sati (ili kraćih referentnih razdoblja) za svaki parametar i za zamjenu nedostajućih podataka."}]
[null,null,null,null,{"$f":"Translations!$B$617","v":"Navedite pojedinosti o pisanim postupcima koje opisuju metode za utvrđivanje je li moguće osigurati valjane sate ili kraća referentna razdoblja za svaki pojedini parametar, i za zamjenu nedostajućih podataka u skladu s člankom 45. Uredbe"}]
[]
[null,null,null,null,{"$f":"Translations!$B$405","v":"Naziv postupka"}]
[null,null,null,null,{"$f":"Translations!$B$407","v":"Oznaka postupka"}]
[null,null,null,null,{"$f":"Translations!$B$409","v":"Oznaka dijagrama (ukoliko je primjenjivo)"}]
[null,null,null,null,{"$f":"Translations!$B$615","v":"Kratak opis postupka (Opis treba pokriti osnovne parametre i provedene operacije)"}]
[null,null,null,null,{"$f":"Translations!$B$414","v":"Ustrojstvena jedinica tvrtke odgovorna za postupke i za obradu podataka."}]
[null,null,null,null,{"$f":"Translations!$B$416","v":"Lokacija na kojoj se pohranjuju zapisi"}]
[null,null,null,null,{"$f":"Translations!$B$418","v":"Naziv informatičkog sustava koji se koristi (ako je primjenjivo)."}]
[null,null,null,null,{"$f":"Translations!$B$420","v":"Popis HRN EN i ostalih primjenjenih normi (ako je primjenjivo)"}]
[]
[null,null,null,"(c)",{"$f":"Translations!$B$618","v":"Kada se protok dimnih plinova određuje izračunom, navedite pojedinosti o pisanom postupku i za ovaj izračun za svaku odgovarajući izvor emisije u skladu s člankom 43. stavkom 5a. Uredbe."}]
[null,null,null,null,{"$f":"Translations!$B$405","v":"Naziv postupka"}]
[null,null,null,null,{"$f":"Translations!$B$407","v":"Oznaka postupka"}]
[null,null,null,null,{"$f":"Translations!$B$409","v":"Oznaka dijagrama (ukoliko je primjenjivo)"}]
[null,null,null,null,{"$f":"Translations!$B$615","v":"Kratak opis postupka (Opis treba pokriti osnovne parametre i provedene operacije)"}]
[null,null,null,null,{"$f":"Translations!$B$414","v":"Ustrojstvena jedinica tvrtke odgovorna za postupke i za obradu podataka."}]
[null,null,null,null,{"$f":"Translations!$B$416","v":"Lokacija na kojoj se pohranjuju zapisi"}]
[null,null,null,null,{"$f":"Translations!$B$418","v":"Naziv informatičkog sustava koji se koristi (ako je primjenjivo)."}]
[null,null,null,null,{"$f":"Translations!$B$420","v":"Popis HRN EN i ostalih primjenjenih normi (ako je primjenjivo)"}]
[]
[null,null,null,"(d)",{"$f":"Translations!$B$1203","v":"U skladu s člankom 43. stavkom 4. i stavkom 4. točkom (a) Uredbe o praćenju i izvješćivanju, ako se u mjerenje emisija uključi CO2 koji potječe iz biomase, navedite pojedinosti o pisanom postupku za utvrđivanje CO2 iz biomase i njegovo oduzimanje od izmjerenih emisija CO2 ako je primjenjivo."}]
[null,null,null,null,{"$f":"Translations!$B$405","v":"Naziv postupka"}]
[null,null,null,null,{"$f":"Translations!$B$407","v":"Oznaka postupka"}]
[null,null,null,null,{"$f":"Translations!$B$409","v":"Oznaka dijagrama (ukoliko je primjenjivo)"}]
[null,null,null,null,{"$f":"Translations!$B$615","v":"Kratak opis postupka (Opis treba pokriti osnovne parametre i provedene operacije)"}]
[null,null,null,null,{"$f":"Translations!$B$414","v":"Ustrojstvena jedinica tvrtke odgovorna za postupke i za obradu podataka."}]
[null,null,null,null,{"$f":"Translations!$B$416","v":"Lokacija na kojoj se pohranjuju zapisi"}]
[null,null,null,null,{"$f":"Translations!$B$418","v":"Naziv informatičkog sustava koji se koristi (ako je primjenjivo)."}]
[null,null,null,null,{"$f":"Translations!$B$420","v":"Popis HRN EN i ostalih primjenjenih normi (ako je primjenjivo)"}]
[]
[null,null,null,"(e)",{"$f":"Translations!$B$620","v":"Molimo navedite pojedinosti o pisanom postupku za obavljanje potvrdnog izračuna, gdje je to primjenjivo, u skladu s člankom 46. Uredbe."}]
[null,null,null,null,{"$f":"Translations!$B$405","v":"Naziv postupka"}]
[null,null,null,null,{"$f":"Translations!$B$407","v":"Oznaka postupka"}]
[null,null,null,null,{"$f":"Translations!$B$409","v":"Oznaka dijagrama (ukoliko je primjenjivo)"}]
[null,null,null,null,{"$f":"Translations!$B$615","v":"Kratak opis postupka (Opis treba pokriti osnovne parametre i provedene operacije)"}]
[null,null,null,null,{"$f":"Translations!$B$414","v":"Ustrojstvena jedinica tvrtke odgovorna za postupke i za obradu podataka."}]
[null,null,null,null,{"$f":"Translations!$B$416","v":"Lokacija na kojoj se pohranjuju zapisi"}]
[null,null,null,null,{"$f":"Translations!$B$418","v":"Naziv informatičkog sustava koji se koristi (ako je primjenjivo)."}]
[null,null,null,null,{"$f":"Translations!$B$420","v":"Popis HRN EN i ostalih primjenjenih normi (ako je primjenjivo)"}]
["ausblenden"]
["ausblenden",null,null,null,{"$f":"Translations!$B$1150","v":"Daljnji postupak dodan od strane postrojenja"}]
["ausblenden"]
["ausblenden",null,null,null,{"$f":"Translations!$B$405","v":"Naziv postupka"}]
["ausblenden",null,null,null,{"$f":"Translations!$B$407","v":"Oznaka postupka"}]
["ausblenden",null,null,null,{"$f":"Translations!$B$409","v":"Oznaka dijagrama (ukoliko je primjenjivo)"}]
["ausblenden",null,null,null,{"$f":"Translations!$B$615","v":"Kratak opis postupka (Opis treba pokriti osnovne parametre i provedene operacije)"}]
["ausblenden"]
["ausblenden"]
["ausblenden",null,null,null,{"$f":"Translations!$B$414","v":"Ustrojstvena jedinica tvrtke odgovorna za postupke i za obradu podataka."}]
["ausblenden",null,null,null,{"$f":"Translations!$B$416","v":"Lokacija na kojoj se pohranjuju zapisi"}]
["ausblenden",null,null,null,{"$f":"Translations!$B$418","v":"Naziv informatičkog sustava koji se koristi (ako je primjenjivo)."}]
["ausblenden",null,null,null,{"$f":"Translations!$B$420","v":"Popis HRN EN i ostalih primjenjenih normi (ako je primjenjivo)"}]
["ADD_Procedure"]
[null,null,null,null,null,null,{"$f":"Translations!$B$429","v":"Pritisnite \"+\" kako bi dodali više postupaka"}]
[]
[]
[]
[null,null,null,null,null,{"$f":"EUconst_MsgNextSheet","v":"<<< Pritisnite ovdje kako bi prešli na slijedeći list >>> "}]

{"sheet":"G_Nadomjesni pristupi","index":8,"n_rows":86,"n_cols":12,"rows_kept":86,"cut":false,"hidden":false,"merged":[[77,4,77,5],[73,4,73,5],[63,6,63,13],[65,6,65,13],[75,6,75,13],[73,6,73,13],[70,6,70,13],[64,6,64,13],[66,4,66,5],[70,4,70,5],[62,6,62,13],[85,5,85,11],[81,6,83,10],[76,6,76,13],[72,4,72,5],[79,6,79,13],[72,6,72,13],[78,4,78,5],[79,4,79,5],[78,6,78,13],[74,6,74,13],[77,6,77,13],[71,6,71,13],[76,4,76,5],[71,4,71,5],[68,4,68,13],[55,4,55,13],[45,4,45,13],[66,6,66,13],[62,4,62,5],[59,4,59,5],[59,6,59,13],[64,4,64,5],[63,4,63,5],[65,4,65,5],[60,4,60,5],[61,4,61,5],[61,6,61,13],[60,6,60,13],[50,4,50,13],[51,4,51,13],[57,4,57,13],[52,4,52,13],[53,4,53,13],[54,4,54,13],[43,4,43,13],[41,4,41,13],[44,4,44,13],[49,4,49,13],[48,4,48,13],[46,4,46,13],[47,4,47,13],[40,4,40,13],[14,4,14,13],[11,2,11,13],[13,4,13,13],[12,4,12,13],[39,4,39,13],[37,4,37,13],[36,4,36,13],[28,4,28,13],[29,4,29,13],[33,4,33,13],[34,4,34,13],[30,4,30,13],[31,4,31,13],[32,4,32,13],[35,4,35,13],[26,4,26,13],[27,4,27,13],[3,8,3,9],[3,4,3,5],[25,4,25,13],[16,4,16,13],[23,4,23,13],[24,4,24,13],[21,4,21,13],[3,6,3,7],[20,4,20,13],[22,4,22,13],[18,4,18,13],[19,4,19,13],[7,10,7,13],[15,4,15,13],[2,4,2,5],[2,6,2,7],[2,8,2,9],[2,12,2,13],[9,3,9,13],[1,1,3,3],[1,10,1,11],[5,2,5,10],[1,6,1,7],[1,8,1,9],[2,10,2,11],[1,4,1,5],[5,11,5,13],[3,10,3,11],[1,12,1,13],[3,12,3,13]]}
["ausblenden"]
[null,{"$f":"Translations!$B$621","v":"G. Nadomjesni pristupi"},null,null,{"$f":"Translations!$B$59","v":"Navigacijsko područje:"},null,{"$f":"Translations!$B$60","v":"Sadržaj"},null,{"$f":"Translations!$B$61","v":"Prethodni list"},null,{"$f":"Translations!$B$62","v":"Sljedeći list"}]
[null,null,null,null,{"$f":"Translations!$B$63","v":"Vrh lista"}]
[null,null,null,null,{"$f":"Translations!$B$64","v":"Dno lista"}]
[]
[null,null,{"$f":"Translations!$B$24","v":"G. Nadomjesni pristupi"},null,null,null,null,null,null,null,null,{"$f":"IF(AND(NOT(ISBLANK(CNTR_InstHasFallBack)), CNTR_InstHasFallBack=FALSE),EUconst_NotRelevant,EUconst_Relevant)","v":"relevantno"}]
[]
[null,null,null,null,null,null,null,null,null,null,{"$f":"IF(L6=EUconst_NotRelevant,HYPERLINK(\"#JUMP_H_Top\",EUconst_MsgNextSheet),HYPERLINK(\"\",EUconst_MsgEnterThisSection))","v":"Molimo unesite podatke u ovo polje"}]
[]
[null,null,12,{"$f":"Translations!$B$25","v":"Opis nadomjesnih pristupa"}]
[]
[null,null,{"$f":"Translations!$B$622","v":"Ukoliko su određeni kriteriji navedeni u članku 22.Uredbe zadovoljeni, operater može koristiti metodologiju koja se ne temelji na razinama točnosti za odabrane tokove izvora ili izvora emisije. Ispunite ovo poglavlje ukoliko želite koristiti nadomjesni pristup za bilo koji tok izvora ili izvora emisija. Nadležno tijelo može zatražiti dodatne informacije kako bi se opravdao ovaj pristup."}]
[]
[null,null,null,"(a)",{"$f":"Translations!$B$623","v":"Gdje se primjenjuje nadomjesni pristup u skladu sa člankom 22. Uredbe, navedite detaljan opis metodologije praćenja primjenjen za sve tokove izvora ili izvora emisija, za koje se ne primjenjuju razine točnosti."}]
[null,null,null,null,{"$f":"Translations!$B$624","v":"Navedite kratak opis metodologije praćenja, uključujući i formule korištene za utvrđivanje ​​godišnjih emisija CO2 ili CO2 (e) u polju ispod."}]
[null,null,null,null,{"$f":"Translations!$B$338","v":"Ako je opis presložen, npr. ako su korištene složene formule, možete dati opis u zasebnom dokumentu pomoću formata prihvatljivog za nadležno tijelo. U tom slučaju molimo da ovdje stavite referencu na dokument, koristeći ime i datum dokumenta."}]
[null,null,null,null,{"$f":"Translations!$B$195","v":"Ovaj opis bi trebao pružiti povezane informacije koje su potrebne za razumijevanje informacija navedenih u drugim dijelovima ovog obrasca te kako se koriste zajedno za izračun emisija. Mogu biti kratke kao dani primjer u listu D_Metodologija proračuna, odjeljak 7(a)."}]
[]
[]
[]
[]
[]
[]
[]
[]
[]
[]
[]
[]
[]
[]
[]
[]
[]
[]
[]
[]
[]
[]
[null,null,null,"(b) ",{"$f":"Translations!$B$625","v":"Navedite kratko obrazloženje za primjenu nadomjesnog pristupa navedenih izvora emisije, u skladu s odredbama iz članka 22. Uredbe"}]
[null,null,null,null,{"$f":"Translations!$B$626","v":"Morate dokazati da ukupna nesigurnost za godišnju razinu emisija stakleničkih plinova za čitavo postrojenje ne prelazi 7,5% za kategoriju A, 5,0% za kategoriju B i 2,5% za kategoriju C postrojenja. Napomena: nadležno tijelo može zatražiti dodatne pojedinosti o primjeni nadomjesnog pristupa da bi se dokazalo kako primjena metodologije proračuna ili metodologije mjerenja nije tehnički izvediva ili bi dovela do nerazumnih troškova."}]
[null,null,null,null,{"$f":"Translations!$B$338","v":"Ako je opis presložen, npr. ako su korištene složene formule, možete dati opis u zasebnom dokumentu pomoću formata prihvatljivog za nadležno tijelo. U tom slučaju molimo da ovdje stavite referencu na dokument, koristeći ime i datum dokumenta."}]
[]
[]
[]
[]
[]
[]
[]
[]
[]
[]
[]
[]
[]
[]
[]
[null,null,null,"(c)",{"$f":"Translations!$B$627","v":"Navedite pojedinosti o pisanim postupcima koji se koriste za godišnju analizu nesigurnosti sukladno članku 22. Uredbe."}]
[]
[null,null,null,null,{"$f":"Translations!$B$405","v":"Naziv postupka"}]
[null,null,null,null,{"$f":"Translations!$B$407","v":"Oznaka postupka"}]
[null,null,null,null,{"$f":"Translations!$B$409","v":"Oznaka dijagrama (ukoliko je primjenjivo)"}]
[null,null,null,null,{"$f":"Translations!$B$615","v":"Kratak opis postupka (Opis treba pokriti osnovne parametre i provedene operacije)"}]
[null,null,null,null,{"$f":"Translations!$B$414","v":"Ustrojstvena jedinica tvrtke odgovorna za postupke i za obradu podataka."}]
[null,null,null,null,{"$f":"Translations!$B$416","v":"Lokacija na kojoj se pohranjuju zapisi"}]
[null,null,null,null,{"$f":"Translations!$B$418","v":"Naziv informatičkog sustava koji se koristi (ako je primjenjivo)."}]
[null,null,null,null,{"$f":"Translations!$B$420","v":"Popis HRN EN i ostalih primjenjenih normi (ako je primjenjivo)"}]
["ausblenden"]
["ausblenden",null,null,null,{"$f":"Translations!$B$1150","v":"Daljnji postupak dodan od strane postrojenja"}]
["ausblenden"]
["ausblenden",null,null,null,{"$f":"Translations!$B$405","v":"Naziv postupka"}]
["ausblenden",null,null,null,{"$f":"Translations!$B$407","v":"Oznaka postupka"}]
["ausblenden",null,null,null,{"$f":"Translations!$B$409","v":"Oznaka dijagrama (ukoliko je primjenjivo)"}]
["ausblenden",null,null,null,{"$f":"Translations!$B$411","v":"Kratki opis postupka"}]
["ausblenden"]
["ausblenden"]
["ausblenden",null,null,null,{"$f":"Translations!$B$414","v":"Ustrojstvena jedinica tvrtke odgovorna za postupke i za obradu podataka."}]
["ausblenden",null,null,null,{"$f":"Translations!$B$416","v":"Lokacija na kojoj se pohranjuju zapisi"}]
["ausblenden",null,null,null,{"$f":"Translations!$B$418","v":"Naziv informatičkog sustava koji se koristi (ako je primjenjivo)."}]
["ausblenden",null,null,null,{"$f":"Translations!$B$420","v":"Popis HRN EN i ostalih primjenjenih normi (ako je primjenjivo)"}]
["ADD_Procedure"]
[null,null,null,null,null,null,{"$f":"Translations!$B$429","v":"Pritisnite \"+\" kako bi dodali više postupaka"}]
[]
[]
[]
[null,null,null,null,null,{"$f":"EUconst_MsgNextSheet","v":"<<< Pritisnite ovdje kako bi prešli na slijedeći list >>> "}]

{"sheet":"H_N2O","index":9,"n_rows":116,"n_cols":12,"rows_kept":116,"cut":false,"hidden":false,"merged":[[21,4,21,5],[23,6,23,13],[24,6,24,13],[27,6,27,13],[28,6,28,13],[26,4,26,13],[1,1,3,3],[3,4,3,5],[19,6,19,13],[1,10,1,11],[2,4,2,5],[2,6,2,7],[1,8,1,9],[1,12,1,13],[2,8,2,9],[2,10,2,11],[1,4,1,5],[1,6,1,7],[9,3,9,13],[3,8,3,9],[3,10,3,11],[3,6,3,7],[2,12,2,13],[3,12,3,13],[20,6,20,13],[15,4,15,5],[16,4,16,5],[5,2,5,10],[5,11,5,13],[17,6,17,13],[15,6,15,13],[18,4,18,5],[18,6,18,13],[17,4,17,5],[16,6,16,13],[14,4,14,13],[11,4,11,13],[12,4,12,13],[7,10,7,13],[48,4,48,5],[22,6,22,13],[21,6,21,13],[29,4,29,5],[72,4,72,5],[65,6,65,13],[60,4,60,5],[22,4,22,5],[30,4,30,5],[71,4,71,5],[71,6,71,13],[66,4,66,5],[69,4,69,5],[70,4,70,5],[63,4,63,5],[41,4,41,5],[39,4,39,5],[53,4,53,5],[65,4,65,5],[62,4,62,13],[54,4,54,5],[45,6,45,13],[46,6,46,13],[52,4,52,5],[110,6,112,10],[90,4,90,13],[91,4,91,13],[92,4,92,13],[93,4,93,13],[107,4,107,5],[107,6,107,13],[94,4,94,13],[95,4,95,13],[108,6,108,13],[108,4,108,5],[105,4,105,5],[106,4,106,5],[106,6,106,13],[105,6,105,13],[101,4,101,5],[101,6,101,13],[104,6,104,13],[103,6,103,13],[74,4,74,13],[75,4,75,13],[76,4,76,13],[77,4,77,13],[100,4,100,5],[89,4,89,13],[86,4,86,13],[80,4,80,13],[100,6,100,13],[81,4,81,13],[85,4,85,13],[78,4,78,13],[79,4,79,13],[99,4,99,5],[82,4,82,13],[84,4,84,13],[83,4,83,13],[99,6,99,13],[87,4,87,13],[88,4,88,13],[97,4,97,13],[59,4,59,5],[64,4,64,5],[51,4,51,5],[55,6,55,13],[56,6,56,13],[57,4,57,5],[58,4,58,5],[72,6,72,13],[70,6,70,13],[57,6,57,13],[58,6,58,13],[59,6,59,13],[68,6,68,13],[63,6,63,13],[67,6,67,13],[69,6,69,13],[24,4,24,5],[23,4,23,5],[27,4,27,5],[28,4,28,5],[42,6,42,13],[34,4,34,5],[36,6,36,13],[38,4,38,13],[33,4,33,5],[34,6,34,13],[39,6,39,13],[29,6,29,13],[30,6,30,13],[31,6,31,13],[35,6,35,13],[40,4,40,5],[36,4,36,5],[115,5,115,11],[32,6,32,13],[33,6,33,13],[102,4,102,5],[102,6,102,13],[35,4,35,5],[50,4,50,13],[47,4,47,5],[40,6,40,13],[41,6,41,13],[53,6,53,13],[54,6,54,13],[43,6,43,13],[44,6,44,13],[45,4,45,5],[46,4,46,5],[47,6,47,13],[42,4,42,5],[48,6,48,13],[51,6,51,13],[52,6,52,13],[66,6,66,13],[60,6,60,13],[64,6,64,13]]}
["ausblenden"]
[null,{"$f":"Translations!$B$26","v":"H. N2O emisije"},null,null,{"$f":"Translations!$B$59","v":"Navigacijsko područje:"},null,{"$f":"Translations!$B$60","v":"Sadržaj"},null,{"$f":"Translations!$B$61","v":"Prethodni list"},null,{"$f":"Translations!$B$62","v":"Sljedeći list"}]
[null,null,null,null,{"$f":"Translations!$B$63","v":"Vrh lista"}]
[null,null,null,null,{"$f":"Translations!$B$64","v":"Dno lista"}]
[]
[null,null,{"$f":"Translations!$B$26","v":"H. N2O emisije"},null,null,null,null,null,null,null,null,{"$f":"IF(AND(NOT(ISBLANK(CNTR_InstHasN2O)), CNTR_InstHasN2O=FALSE),EUconst_NotRelevant,EUconst_Relevant)","v":"relevantno"}]
[]
[null,null,null,null,null,null,null,null,null,null,{"$f":"IF(L6=EUconst_NotRelevant,HYPERLINK(\"#JUMP_I_Top\",EUconst_MsgNextSheet),HYPERLINK(\"\",EUconst_MsgEnterThisSection))","v":"Molimo unesite podatke u ovo polje"}]
[]
[null,null,13,{"$f":"Translations!$B$27","v":"Upravljanje i procedure za praćenje emisija N2O "}]
[]
[null,null,null,null,{"$f":"Translations!$B$628","v":"\nNapomena: ovaj dio treba popuniti kako bi se odredile emisije N2O iz određenih proizvodnih aktivnosti u postrojenju. Emisije N2O iz izgaranja goriva nisu uključene. Provjerite jesu li informacije o vašem mjernom sustavu unesene u listu F_Metodologija_mjerenja.\n\n\n\n\n"}]
[null,null,null,null,{"$f":"Translations!$B$629","v":"U ovom listu potrebno je navesti zahtjeve koji nisu relevantni za praćenje CO2."}]
[]
[null,null,null,"(a)",{"$f":"Translations!$B$630","v":"Navedite pojedinosti o pisanom postupku koji opisuje metodu i parametre kojima se određuje upotrebljena količina materijala u proizvodnom procesu i maksimalna količina materijala upotrebljena pri punom kapacitetu proizvodnje."}]
[null,null,null,null,{"$f":"Translations!$B$405","v":"Naziv postupka"}]
[null,null,null,null,{"$f":"Translations!$B$407","v":"Oznaka postupka"}]
[null,null,null,null,{"$f":"Translations!$B$409","v":"Oznaka dijagrama (ukoliko je primjenjivo)"}]
[null,null,null,null,{"$f":"Translations!$B$411","v":"Kratki opis postupka"}]
[]
[]
[null,null,null,null,{"$f":"Translations!$B$414","v":"Ustrojstvena jedinica tvrtke odgovorna za postupke i za obradu podataka."}]
[null,null,null,null,{"$f":"Translations!$B$416","v":"Lokacija na kojoj se pohranjuju zapisi"}]
[null,null,null,null,{"$f":"Translations!$B$418","v":"Naziv informatičkog sustava koji se koristi (ako je primjenjivo)."}]
[null,null,null,null,{"$f":"Translations!$B$420","v":"Popis HRN EN i ostalih primjenjenih normi (ako je primjenjivo)"}]
[]
[null,null,null,"(b)",{"$f":"Translations!$B$631","v":"Navedite pojedinosti o pisanom postupku koji opisuje metodu i parametre kojima se određuje količina proizvoda kao satno opterećenje izraženo kao dušična kiselina (100%), adipinska kiselina (100%), glioksalna i glioksilna kiselina i kaprolaktam po satu."}]
[null,null,null,null,{"$f":"Translations!$B$405","v":"Naziv postupka"}]
[null,null,null,null,{"$f":"Translations!$B$407","v":"Oznaka postupka"}]
[null,null,null,null,{"$f":"Translations!$B$409","v":"Oznaka dijagrama (ukoliko je primjenjivo)"}]
[null,null,null,null,{"$f":"Translations!$B$411","v":"Kratki opis postupka"}]
[]
[]
[null,null,null,null,{"$f":"Translations!$B$414","v":"Ustrojstvena jedinica tvrtke odgovorna za postupke i za obradu podataka."}]
[null,null,null,null,{"$f":"Translations!$B$416","v":"Lokacija na kojoj se pohranjuju zapisi"}]
[null,null,null,null,{"$f":"Translations!$B$418","v":"Naziv informatičkog sustava koji se koristi (ako je primjenjivo)."}]
[null,null,null,null,{"$f":"Translations!$B$420","v":"Popis HRN EN i ostalih primjenjenih normi (ako je primjenjivo)"}]
[]
[null,null,null,"(c)",{"$f":"Translations!$B$632","v":"Navedite pojedinosti o pisanom postupku koji opisuje metodu i parametre kojima se određuje koncentracija N2O u dimnom plinu iz svakog izvora emisije, operativni raspon, nesigurnost, te detalje o svim alternativnim metodama koje se primjenjuju ako je koncentracija izvan opearativnih raspona i situacije u kojima se to može dogoditi."}]
[null,null,null,null,{"$f":"Translations!$B$405","v":"Naziv postupka"}]
[null,null,null,null,{"$f":"Translations!$B$407","v":"Oznaka postupka"}]
[null,null,null,null,{"$f":"Translations!$B$409","v":"Oznaka dijagrama (ukoliko je primjenjivo)"}]
[null,null,null,null,{"$f":"Translations!$B$411","v":"Kratki opis postupka"}]
[]
[]
[null,null,null,null,{"$f":"Translations!$B$414","v":"Ustrojstvena jedinica tvrtke odgovorna za postupke i za obradu podataka."}]
[null,null,null,null,{"$f":"Translations!$B$416","v":"Lokacija na kojoj se pohranjuju zapisi"}]
[null,null,null,null,{"$f":"Translations!$B$418","v":"Naziv informatičkog sustava koji se koristi (ako je primjenjivo)."}]
[null,null,null,null,{"$f":"Translations!$B$420","v":"Popis HRN EN i ostalih primjenjenih normi (ako je primjenjivo)"}]
[]
[null,null,null,"(d)",{"$f":"Translations!$B$633","v":"Navedite pojedinosti o pisanom postupku koji detaljno opisuje metodologiju proračuna za određivanje emisija N2O iz periodičnih, nesmanjenih izvora u proizvodnji dušične kiseline, adipinske kiseline, kaprolaktama, glioksalne i glioksilne kiseline."}]
[null,null,null,null,{"$f":"Translations!$B$405","v":"Naziv postupka"}]
[null,null,null,null,{"$f":"Translations!$B$407","v":"Oznaka postupka"}]
[null,null,null,null,{"$f":"Translations!$B$409","v":"Oznaka dijagrama (ukoliko je primjenjivo)"}]
[null,null,null,null,{"$f":"Translations!$B$411","v":"Kratki opis postupka"}]
[]
[]
[null,null,null,null,{"$f":"Translations!$B$414","v":"Ustrojstvena jedinica tvrtke odgovorna za postupke i za obradu podataka."}]
[null,null,null,null,{"$f":"Translations!$B$416","v":"Lokacija na kojoj se pohranjuju zapisi"}]
[null,null,null,null,{"$f":"Translations!$B$418","v":"Naziv informatičkog sustava koji se koristi (ako je primjenjivo)."}]
[null,null,null,null,{"$f":"Translations!$B$420","v":"Popis HRN EN i ostalih primjenjenih normi (ako je primjenjivo)"}]
[]
[null,null,null,"(e)",{"$f":"Translations!$B$634","v":"Navedite pojedinosti o pisanom postupku koji opisuje na koji način ili u kojoj mjeri postrojenje radi s promjenjivim opterećenjima i načinu na koji se  upravlja u tim situacijama."}]
[null,null,null,null,{"$f":"Translations!$B$405","v":"Naziv postupka"}]
[null,null,null,null,{"$f":"Translations!$B$407","v":"Oznaka postupka"}]
[null,null,null,null,{"$f":"Translations!$B$409","v":"Oznaka dijagrama (ukoliko je primjenjivo)"}]
[null,null,null,null,{"$f":"Translations!$B$411","v":"Kratki opis postupka"}]
[]
[]
[null,null,null,null,{"$f":"Translations!$B$414","v":"Ustrojstvena jedinica tvrtke odgovorna za postupke i za obradu podataka."}]
[null,null,null,null,{"$f":"Translations!$B$416","v":"Lokacija na kojoj se pohranjuju zapisi"}]
[null,null,null,null,{"$f":"Translations!$B$418","v":"Naziv informatičkog sustava koji se koristi (ako je primjenjivo)."}]
[null,null,null,null,{"$f":"Translations!$B$420","v":"Popis HRN EN i ostalih primjenjenih normi (ako je primjenjivo)"}]
[]
[null,null,null,"(f)",{"$f":"Translations!$B$635","v":"Dostavite podatke o procesnim uvjetima koji odstupaju od normalnih."}]
[null,null,null,null,{"$f":"Translations!$B$636","v":"Ove informacije trebaju uključiti moguće učestalosti i trajanje takvih procesnih uvjeta, kao i naznaku volumena emisija N2O tijekom odstupanja od procesnih uvjeta (npr., kao što je kvar uređaja za smanjenje). "}]
[]
[]
[]
[]
[]
[]
[]
[]
[]
[]
[]
[]
[]
[]
[]
[]
[]
[]
[]
[]
["ausblenden"]
["ausblenden",null,null,null,{"$f":"Translations!$B$1150","v":"Daljnji postupak dodan od strane postrojenja"}]
["ausblenden"]
["ausblenden",null,null,null,{"$f":"Translations!$B$405","v":"Naziv postupka"}]
["ausblenden",null,null,null,{"$f":"Translations!$B$407","v":"Oznaka postupka"}]
["ausblenden",null,null,null,{"$f":"Translations!$B$409","v":"Oznaka dijagrama (ukoliko je primjenjivo)"}]
["ausblenden",null,null,null,{"$f":"Translations!$B$411","v":"Kratki opis postupka"}]
["ausblenden"]
["ausblenden"]
["ausblenden",null,null,null,{"$f":"Translations!$B$414","v":"Ustrojstvena jedinica tvrtke odgovorna za postupke i za obradu podataka."}]
["ausblenden",null,null,null,{"$f":"Translations!$B$416","v":"Lokacija na kojoj se pohranjuju zapisi"}]
["ausblenden",null,null,null,{"$f":"Translations!$B$418","v":"Naziv informatičkog sustava koji se koristi (ako je primjenjivo)."}]
["ausblenden",null,null,null,{"$f":"Translations!$B$420","v":"Popis HRN EN i ostalih primjenjenih normi (ako je primjenjivo)"}]
["ADD_Procedure"]
[null,null,null,null,null,null,{"$f":"Translations!$B$429","v":"Pritisnite \"+\" kako bi dodali više postupaka"}]
[]
[]
[]
[]
[null,null,null,null,null,{"$f":"EUconst_MsgNextSheet","v":"<<< Pritisnite ovdje kako bi prešli na slijedeći list >>> "}]

{"sheet":"I_Određivanje PFC emisija","index":10,"n_rows":500,"n_cols":23,"rows_kept":500,"cut":false,"hidden":false,"merged":[[409,9,409,13],[410,9,410,13],[407,9,407,13],[419,3,419,13],[435,4,435,13],[436,4,436,13],[429,4,429,13],[430,4,430,13],[426,4,426,13],[428,4,428,13],[432,4,432,13],[434,4,434,13],[425,3,425,13],[404,3,404,13],[408,9,408,13],[387,9,387,13],[390,8,390,13],[391,8,391,13],[392,9,392,13],[395,8,395,13],[396,8,396,13],[397,9,397,13],[400,8,400,13],[401,8,401,13],[402,9,402,13],[385,8,385,13],[386,8,386,13],[370,4,370,6],[370,7,370,11],[371,4,371,6],[371,7,371,11],[373,3,373,13],[375,4,375,13],[377,3,377,13],[380,8,380,13],[381,8,381,13],[382,9,382,13],[367,3,367,6],[367,7,367,11],[367,12,367,13],[329,8,329,13],[330,9,330,13],[369,4,369,6],[369,7,369,11],[354,4,354,13],[356,4,356,13],[357,4,357,13],[337,9,337,13],[338,9,338,13],[347,3,347,13],[353,3,353,13],[363,4,363,13],[364,4,364,13],[358,4,358,13],[360,4,360,13],[362,4,362,13],[336,9,336,13],[335,9,335,13],[301,3,301,13],[303,4,303,13],[305,3,305,13],[308,8,308,13],[309,8,309,13],[310,9,310,13],[319,8,319,13],[332,3,332,13],[299,4,299,6],[299,7,299,11],[313,8,313,13],[314,8,314,13],[315,9,315,13],[318,8,318,13],[323,8,323,13],[324,8,324,13],[325,9,325,13],[328,8,328,13],[320,9,320,13],[286,4,286,13],[288,4,288,13],[295,7,295,11],[297,4,297,6],[290,4,290,13],[298,4,298,6],[298,7,298,11],[291,4,291,13],[246,8,246,13],[247,8,247,13],[292,4,292,13],[295,3,295,6],[264,9,264,13],[282,4,282,13],[266,9,266,13],[275,3,275,13],[281,3,281,13],[284,4,284,13],[285,4,285,13],[263,9,263,13],[2,12,2,13],[1,6,1,7],[22,3,22,13],[446,6,446,13],[241,8,241,13],[446,4,446,5],[1,12,1,13],[2,4,2,5],[1,10,1,11],[7,10,7,13],[1,4,1,5],[2,6,2,7],[2,8,2,9],[248,9,248,13],[3,6,3,7],[3,8,3,9],[223,3,223,6],[223,7,223,11],[223,12,223,13],[225,4,225,6],[251,8,251,13],[231,4,231,13],[440,3,440,13],[297,7,297,11],[14,4,14,13],[28,3,28,13],[23,3,23,13],[25,3,25,13],[26,3,26,13],[18,3,18,13],[16,4,16,13],[5,2,5,10],[5,11,5,13],[24,3,24,13],[11,3,11,14],[9,3,9,13],[15,4,15,13],[45,3,45,13],[39,9,39,13],[227,4,227,6],[30,3,30,13],[485,6,485,13],[484,4,484,5],[484,6,484,13],[485,4,485,5],[233,3,233,13],[238,9,238,13],[253,9,253,13],[447,4,447,5],[445,6,445,13],[447,6,447,13],[265,9,265,13],[444,6,444,13],[444,4,444,5],[445,4,445,5],[295,12,295,13],[256,8,256,13],[257,8,257,13],[258,9,258,13],[260,3,260,13],[229,3,229,13],[31,3,31,13],[44,3,44,13],[35,3,35,13],[32,3,32,13],[33,3,33,13],[34,3,34,13],[3,10,3,11],[3,12,3,13],[27,3,27,13],[1,1,3,3],[3,4,3,5],[2,10,2,11],[19,3,19,13],[20,3,20,13],[21,3,21,13],[1,8,1,9],[36,3,36,13],[37,3,37,13],[39,3,39,8],[43,3,43,13],[40,3,40,13],[42,3,42,13],[29,3,29,13],[13,3,13,13],[48,4,48,6],[49,4,49,6],[48,11,48,13],[49,11,49,13],[48,7,48,10],[80,5,80,13],[78,4,78,13],[79,5,79,13],[64,3,64,13],[72,4,72,6],[49,7,49,10],[50,7,50,10],[51,7,51,10],[52,7,52,10],[90,8,90,13],[84,4,84,13],[86,3,86,13],[73,4,73,6],[73,7,73,11],[72,7,72,11],[67,3,67,13],[68,3,68,13],[70,3,70,6],[81,5,81,13],[82,4,82,13],[499,5,499,11],[469,4,469,13],[489,6,489,13],[490,4,490,5],[490,6,490,13],[95,8,95,13],[91,9,91,13],[242,8,242,13],[139,4,139,13],[136,4,136,13],[151,7,151,11],[151,12,151,13],[226,4,226,6],[226,7,226,11],[94,8,94,13],[448,6,448,13],[451,6,451,13],[117,9,117,13],[113,3,113,13],[225,7,225,11],[450,4,450,5],[243,9,243,13],[166,9,166,13],[161,3,161,13],[442,4,442,13],[455,4,455,13],[451,4,451,5],[450,6,450,13],[449,6,449,13],[453,6,453,13],[480,6,480,13],[471,6,471,13],[472,6,472,13],[476,6,476,13],[474,6,474,13],[465,6,465,13],[478,6,478,13],[479,6,479,13],[452,4,452,5],[452,6,452,13],[464,6,464,13],[460,4,460,5],[461,6,461,13],[461,4,461,5],[464,4,464,5],[458,6,458,13],[460,6,460,13],[456,4,456,13],[459,4,459,5],[458,4,458,5],[459,6,459,13],[453,4,453,5],[462,6,462,13],[463,6,463,13],[466,4,466,5],[477,6,477,13],[474,4,474,5],[475,6,475,13],[467,4,467,5],[466,6,466,13],[467,6,467,13],[472,4,472,5],[477,4,477,5],[471,4,471,5],[473,4,473,5],[473,6,473,13],[465,4,465,5],[495,6,497,10],[482,4,482,13],[478,4,478,5],[479,4,479,5],[488,6,488,13],[493,4,493,5],[493,6,493,13],[486,6,486,13],[492,6,492,13],[491,6,491,13],[491,4,491,5],[480,4,480,5],[487,4,487,5],[487,6,487,13],[486,4,486,5],[492,4,492,5],[46,3,46,13],[51,4,51,6],[50,4,50,6],[175,8,175,13],[170,8,170,13],[171,9,171,13],[144,4,144,13],[153,7,153,11],[157,3,157,13],[153,4,153,6],[66,3,66,13],[53,4,53,6],[56,6,58,10],[62,3,62,13],[54,4,54,6],[52,4,52,6],[53,11,53,13],[54,11,54,13],[96,9,96,13],[99,8,99,13],[140,4,140,13],[118,9,118,13],[135,4,135,13],[164,8,164,13],[213,4,213,13],[209,3,209,13],[180,8,180,13],[210,4,210,13],[176,9,176,13],[179,8,179,13],[192,9,192,13],[186,9,186,13],[185,8,185,13],[193,9,193,13],[212,4,212,13],[194,9,194,13],[203,3,203,13],[191,9,191,13],[188,3,188,13],[181,9,181,13],[184,8,184,13],[159,4,159,13],[142,4,142,13],[119,9,119,13],[104,8,104,13],[105,8,105,13],[53,7,53,10],[54,7,54,10],[50,11,50,13],[51,11,51,13],[52,11,52,13],[65,3,65,13],[74,7,74,11],[76,3,76,13],[74,4,74,6],[70,7,70,11],[70,12,70,13],[100,8,100,13],[101,9,101,13],[110,8,110,13],[111,9,111,13],[109,8,109,13],[106,9,106,13],[116,9,116,13],[89,8,89,13],[227,7,227,11],[252,8,252,13],[236,8,236,13],[237,8,237,13],[134,3,134,13],[128,3,128,13],[155,4,155,6],[155,7,155,11],[151,3,151,6],[219,4,219,13],[220,4,220,13],[216,4,216,13],[218,4,218,13],[214,4,214,13],[169,8,169,13],[174,8,174,13],[165,8,165,13],[138,4,138,13],[154,4,154,6],[154,7,154,11],[148,4,148,13],[147,4,147,13],[143,4,143,13],[146,4,146,13]]}
["ausblenden",null,null,null,null,null,null,null,null,null,null,null,null,null,null,"ausblenden","ausblenden","ausblenden","ausblenden","ausblenden","ausblenden","ausblenden","ausblenden"]
[null,{"$f":"Translations!$B$637","v":"I. PFC emisije"},null,null,{"$f":"Translations!$B$59","v":"Navigacijsko područje:"},null,{"$f":"Translations!$B$60","v":"Sadržaj"},null,{"$f":"Translations!$B$61","v":"Prethodni list"},null,{"$f":"Translations!$B$62","v":"Sljedeći list"}]
[null,null,null,null,{"$f":"Translations!$B$63","v":"Vrh lista"},null,{"$f":"Translations!$B$29","v":"Određivanje emisija PFC"},null,{"$f":"EUwideConstants!$A$94","v":"PFCi"},null,{"$f":"'F_Metodologija mjerenja'!$G$4","v":"Upravljanje i procedure"}]
[null,null,null,null,{"$f":"Translations!$B$64","v":"Dno lista"}]
[]
[null,null,{"$f":"Translations!$B$28","v":"I. Određivanje emisija PFC iz proizvodnje primarnog aluminija"},null,null,null,null,null,null,null,null,{"$f":"IF(AND(NOT(ISBLANK(CNTR_InstHasPFC)), CNTR_InstHasPFC=FALSE),EUconst_NotRelevant,EUconst_Relevant)","v":"relevantno"}]
[]
[null,null,null,null,null,null,null,null,null,null,{"$f":"IF(L6=EUconst_NotRelevant,HYPERLINK(\"#JUMP_J_Top\",EUconst_MsgNextSheet),HYPERLINK(\"\",EUconst_MsgEnterThisSection))","v":"Molimo unesite podatke u ovo polje"}]
[]
[null,null,14,{"$f":"Translations!$B$29","v":"Određivanje emisija PFC"}]
[]
[null,null,null,{"$f":"Translations!$B$638","v":"Napomena: ovo poglavlje potrebno je popuniti za određivanje emisija perfluorougljika iz proizvodnje ili prerade primarnog aluminija u postrojenju. Budući da ovdje koristite \"Metodologiju proračuna\"  provjerite da ste unijeli sve odgovarajuće podatke (osim detalja o tokovima izvora i procedurama koji se prikazuju na ovom listu) u poglavlju 7 (list D_Metodologija_proračuna)."}]
[]
[null,null,"(a)",{"$f":"Translations!$B$639","v":"U tekstualno polje ispod navedite kratak opis za određivanje vaših PFC emisija i kako ste ih pretvorili u godišnje CO2(e) emisije. "}]
[null,null,null,null,{"$f":"Translations!$B$640","v":"U polje ispod navedite kratak opis metodologije praćenja, uključujući i formule, koje se koriste za određivanje godišnje CO2(e) emisije ."}]
[null,null,null,null,{"$f":"Translations!$B$338","v":"Ako je opis presložen, npr. ako su korištene složene formule, možete dati opis u zasebnom dokumentu pomoću formata prihvatljivog za nadležno tijelo. U tom slučaju molimo da ovdje stavite referencu na dokument, koristeći ime i datum dokumenta."}]
[null,null,null,null,{"$f":"Translations!$B$195","v":"Ovaj opis bi trebao pružiti povezane informacije koje su potrebne za razumijevanje informacija navedenih u drugim dijelovima ovog obrasca te kako se koriste zajedno za izračun emisija. Mogu biti kratke kao dani primjer u listu D_Metodologija proračuna, odjeljak 7(a)."}]
[]
[]
[]
[]
[]
[]
[]
[]
[]
[]
[]
[]
[]
[]
[]
[]
[]
[]
[]
[]
[]
[null,null,null,null,null,null,null,null,null,null,null,null,null,null,null,null,null,null,null,null,null,null,"make conditional"]
[null,null,"(b)",{"$f":"Translations!$B$561","v":"Dijagram procesa:"},null,null,null,null,null,null,null,null,null,null,null,null,null,null,null,null,null,null,{"$f":"CNTR_SmallEmitter=TRUE","v":false}]
[null,null,null,{"$f":"Translations!$B$641","v":"Navedite referencu na dijagram procesa koji sadrži sve relevantne izvore emisija i točke emisija tijekom normalnog rada i tijekom neuobičajenog rada, odnosno restriktivne i prijelazne faze, uključujući razdoblja prekida proizvodnje ili faze puštanja u pogon."}]
[]
[null,null,"(c)",{"$f":"Translations!$B$642","v":"Popis tokova izvora za praćenje PFC-a:"}]
[null,null,null,{"$f":"Translations!$B$643","v":"U slučaju PFC emisija mogu se koristiti dvije metodologije (A: Metoda nagiba, B: Metoda prenapona). Nekoliko vrsta ćelija (kada) može postojati u postrojenju (npr. različite tehnologije ili godine izgradnje) koji mogu prouzročiti različite karakteristike emisija."}]
[null,null,null,{"$f":"Translations!$B$644","v":"Grupe ćelija koje se prate na isti način i koje pokazuju iste karakteristike emisija (isti emisijski faktori) treba smatrati \"tokovima izvora\" (tj. subjekte koje treba pratiti) u usporedbi s drugim metodologijama praćenja baziranima na proračunu."}]
[null,null,null,{"$f":"Translations!$B$645","v":"U popisu \"tokova izvora\"  iz vašeg postrojenja navedite metodologiju praćenja i vrstu ćelija/anoda. Popis je automatski preuzet iz poglavlja 6.e s lista C_Opis_postrojenja."}]
[null,null,null,{"$f":"Translations!$B$646","v":"Ovaj popis će se koristiti u sljedećem poglavlju za definiranje daljnjih pojedinosti za svaki tok izvora."}]
[]
[null,null,null,null,{"$f":"Translations!$B$288","v":"Naziv toka izvora"},null,null,{"$f":"Translations!$B$289","v":"Vrsta toka izvora"},null,null,null,{"$f":"Translations!$B$647","v":"Vrsta ćelija"},null,null,null,null,null,null,null,null,{"$f":"Translations!$B$648","v":"Metodologija praćenja"}]
[null,null,null,{"$f":"IF(COUNTIF(CNTR_CheckPFC,S50)=0,\"\",INDEX('C_Opis postrojenja'!$E$194:$E$204,MATCH(S50,CNTR_CheckPFC,0)))","v":""},{"$f":"IF(D50=\"\",\"\",INDEX('C_Opis postrojenja'!$F$194:$F$204,MATCH(D50,'C_Opis postrojenja'!$E$194:$E$204,0)))","v":""},null,null,{"$f":"IF(D50=\"\",\"\",INDEX('C_Opis postrojenja'!$I$194:$I$204,MATCH(D50,'C_Opis postrojenja'!$E$194:$E$204,0)))","v":""},null,null,null,null,null,null,null,null,null,null,1,null,{"$f":"IF(D50=\"\",\"\",MATCH(H50,CNTR_PFCSourceStreams,0))","v":""}]
[null,null,null,{"$f":"IF(COUNTIF(CNTR_CheckPFC,S51)=0,\"\",INDEX('C_Opis postrojenja'!$E$194:$E$204,MATCH(S51,CNTR_CheckPFC,0)))","v":""},{"$f":"IF(D51=\"\",\"\",INDEX('C_Opis postrojenja'!$F$194:$F$204,MATCH(D51,'C_Opis postrojenja'!$E$194:$E$204,0)))","v":""},null,null,{"$f":"IF(D51=\"\",\"\",INDEX('C_Opis postrojenja'!$I$194:$I$204,MATCH(D51,'C_Opis postrojenja'!$E$194:$E$204,0)))","v":""},null,null,null,null,null,null,null,null,null,null,2,null,""]
[null,null,null,{"$f":"IF(COUNTIF(CNTR_CheckPFC,S52)=0,\"\",INDEX('C_Opis postrojenja'!$E$194:$E$204,MATCH(S52,CNTR_CheckPFC,0)))","v":""},{"$f":"IF(D52=\"\",\"\",INDEX('C_Opis postrojenja'!$F$194:$F$204,MATCH(D52,'C_Opis postrojenja'!$E$194:$E$204,0)))","v":""},null,null,{"$f":"IF(D52=\"\",\"\",INDEX('C_Opis postrojenja'!$I$194:$I$204,MATCH(D52,'C_Opis postrojenja'!$E$194:$E$204,0)))","v":""},null,null,null,null,null,null,null,null,null,null,3,null,""]
[null,null,null,{"$f":"IF(COUNTIF(CNTR_CheckPFC,S53)=0,\"\",INDEX('C_Opis postrojenja'!$E$194:$E$204,MATCH(S53,CNTR_CheckPFC,0)))","v":""},{"$f":"IF(D53=\"\",\"\",INDEX('C_Opis postrojenja'!$F$194:$F$204,MATCH(D53,'C_Opis postrojenja'!$E$194:$E$204,0)))","v":""},null,null,{"$f":"IF(D53=\"\",\"\",INDEX('C_Opis postrojenja'!$I$194:$I$204,MATCH(D53,'C_Opis postrojenja'!$E$194:$E$204,0)))","v":""},null,null,null,null,null,null,null,null,null,null,4,null,""]
[null,null,null,{"$f":"IF(COUNTIF(CNTR_CheckPFC,S54)=0,\"\",INDEX('C_Opis postrojenja'!$E$194:$E$204,MATCH(S54,CNTR_CheckPFC,0)))","v":""},{"$f":"IF(D54=\"\",\"\",INDEX('C_Opis postrojenja'!$F$194:$F$204,MATCH(D54,'C_Opis postrojenja'!$E$194:$E$204,0)))","v":""},null,null,{"$f":"IF(D54=\"\",\"\",INDEX('C_Opis postrojenja'!$I$194:$I$204,MATCH(D54,'C_Opis postrojenja'!$E$194:$E$204,0)))","v":""},null,null,null,null,null,null,null,null,null,null,5,null,""]
["ausblenden",null,null,{"$f":"IF(COUNTIF(CNTR_CheckPFC,S55)=0,\"\",INDEX('C_Opis postrojenja'!$E$194:$E$204,MATCH(S55,CNTR_CheckPFC,0)))","v":""},{"$f":"IF(D55=\"\",\"\",INDEX('C_Opis postrojenja'!$F$194:$F$204,MATCH(D55,'C_Opis postrojenja'!$E$194:$E$204,0)))","v":""},null,null,{"$f":"IF(D55=\"\",\"\",INDEX('C_Opis postrojenja'!$I$194:$I$204,MATCH(D55,'C_Opis postrojenja'!$E$194:$E$204,0)))","v":""},null,null,null,null,null,null,null,null,null,null,null,null,""]
["ADD_AluSourceStream"]
[null,null,null,null,null,null,{"$f":"Translations!$B$297","v":"Kliknite \"+\" kako bi dodali nove tokove izvora"}]
[]
[]
[]
[]
[]
[null,null,15,{"$f":"Translations!$B$30","v":"Pojedinosti praćenja za tokove izvora emisija PFC"}]
[null,null,null,null,null,null,null,null,null,null,null,null,null,null,null,null,null,null,"Check source stream category","auto","manual"]
[null,null,null,{"$f":"Translations!$B$433","v":"Napomena: upute su dane samo za prvi tok izvora."}]
[null,null,null,{"$f":"Translations!$B$434","v":"Ukoliko nisu vidljivi svi podaci za svaki tok izvora, kliknite na znak \"+\" koji se nalazi s lijeve strane, u sivom području."}]
[null,null,null,{"$f":"Translations!$B$435","v":"Za dodavanje dodatnih tokova izvora, idite na poglavlje 6.e u listu C_Opis_Postrojenja i koristite makronaredbu."}]
["ausblenden",null,null,{"$f":"Translations!$B$135","v":"Za prikazivanje/skrivanje primjera, pritisnite na kućicu \"Primjeri\" unutar navigacijskog područja."}]
["ausblenden",null,null,{"$f":"Translations!$B$436","v":"Primjer je prikazan u prvom toku izvora."},null,null,null,null,null,null,null,null,null,null,null,null,null,null,"Check source stream category","auto","manual"]
[null,null,null,null,null,null,null,null,null,null,null,null,null,null,null,null,null,null,"Check source stream category","auto","manual","Method"]
[null,null,{"$f":"INDEX($D$50:$D$55,Q71)","v":""},{"$f":"CONCATENATE(Euconst_SourceStream,\" \", Q71,\":\")","v":"Tok izvora 1:"},null,null,null,{"$f":"IF(INDEX($E$50:$E$55,Q71)=\"\",\"\",INDEX($E$50:$E$55,Q71))","v":""},null,null,null,null,{"$f":"IF(S71=TRUE,IF(U71=\"\",T71,U71),\"\")","v":""},null,null,null,1,null,{"$f":"IF(INDEX('C_Opis postrojenja'!$M:$M,MATCH(Q73,'C_Opis postrojenja'!$Q:$Q,0))=\"\",FALSE,TRUE)","v":false},{"$f":"IF(S71=TRUE,INDEX('C_Opis postrojenja'!$M:$M,MATCH(Q73,'C_Opis postrojenja'!$Q:$Q,0)),\"\")","v":""},{"$f":"IF(S71=TRUE,IF(ISBLANK(INDEX('C_Opis postrojenja'!$N:$N,MATCH(Q73,'C_Opis postrojenja'!$Q:$Q,0))),\"\",INDEX('C_Opis postrojenja'!$N:$N,MATCH(Q73,'C_Opis postrojenja'!$Q:$Q,0))),\"\")","v":""},{"$f":"IF(ISNUMBER(INDEX(CNTR_ListPFCmethods,Q71)),INDEX(CNTR_ListPFCmethods,Q71),\"\")","v":""}]
[]
[null,null,null,null,{"$f":"Translations!$B$437","v":"Vrsta toka izvora:"},null,null,{"$f":"IF(INDEX($H$50:$H$55,Q71)=\"\",\"\",INDEX($H$50:$H$55,Q71))","v":""},null,null,null,null,null,null,null,null,{"$f":"EUconst_CNTR_SourceCategory&C71","v":"SourceCategory_"}]
[null,null,null,null,{"$f":"Translations!$B$438","v":"Primijenjiva metoda prema Uredbi:"},null,null,{"$f":"IF(H73=\"\",\"\",INDEX(EUwideConstants!$F$265:$F$325,MATCH(H73,EUConst_TierActivityListNames,0)))","v":""}]
[null,null,null,null,{"$f":"Translations!$B$439","v":"Parametar na koji se odnosi nesigurnost:"},null,null,{"$f":"IF(H73=\"\",\"\",INDEX(EUwideConstants!$E$265:$E$325,MATCH(H73,EUConst_TierActivityListNames,0)))","v":""}]
[]
[null,null,null,{"$f":"Translations!$B$446","v":"Automatske upute o primjenjivim razinama točnosti:"}]
[]
[null,null,null,null,{"$f":"Translations!$B$649","v":"\nU zelenim poljima su prikazane razine točnosti za podatke o djelatnosti i faktore proračuna na temelju vaših unosa u poglavlju 5 (d) i (e), i 6 (e) i 6 (f). To su minimalne razine točnosti za glavne tokove izvora za postrojenje kategorije C. Međutim, niži zahtjevi mogu biti dopušteni. Odgovarajuće upute biti će prikazane u zelenom polju u nastavku, ovisno o sljedećim točkama:"}]
[null,null,null,null,"-",{"$f":"Translations!$B$650","v":"Smanjeni zahtjevi primjenjuju se na postrojenja s niskim emisijama u skladu s člankom 47. stavkom 2. Uredbe;"}]
[null,null,null,null,"-",{"$f":"Translations!$B$651","v":"Kategorija (A, B ili C) postrojenja u skladu s člankom 19. Uredbe;"}]
[null,null,null,null,"-",{"$f":"Translations!$B$450","v":"Smanjeni zahtjevi primijenjuju se na manje i de-minimimis tokove izvora prema klasifikaciji u skladu sa člankom 19. stavak 3.Uredbe"}]
[null,null,null,null,{"$f":"Translations!$B$451","v":"Ova poruka se odnosi na primjenjive razine točnosti za podatke o aktivnostima i za sve faktore proračuna:"}]
[]
[null,null,null,null,{"$f":"IF(H71=\"\",\"\",INDEX(EUconst_SmallEmiSouStreamMsg,MATCH(Q85,EUconst_SmallEmiSouStream,0)))","v":""},null,null,null,null,null,null,null,null,null,null,null,{"$f":"IF(ISBLANK(CNTR_SmallEmitter),IF(CNTR_SmallEmitter=TRUE,EUconst_CNTR_SmallEmitter,EUconst_CNTR_NoSmallEmitter),EUconst_CNTR_NoSmallEmitter) & IF((CNTR_Category)=\"\",\"C\",CNTR_Category) & \"_\" & IF(M71=\"\",1,MATCH(M71,SourceCategory,0))","v":"NoSmallEmitter_C_1"}]
[]
[null,null,null,{"$f":"Translations!$B$652","v":"Podaci o djelatnostima"}]
[]
[null,null,null,{"$f":"Translations!$B$653","v":"Primarna proizvodnja aluminija:"},null,null,null,null,null,null,null,null,null,null,null,null,null,null,null,null,"Stream method","Relevant method","Make grey?"]
[null,null,null,"(b)",{"$f":"Translations!$B$477","v":"Zahtijevana razina točnosti za podatak o djelatnosti:"},null,null,{"$f":"IF(H73=\"\",\"\",IF(CNTR_Category=\"A\",INDEX(EUwideConstants!$G:$G,MATCH(Q90,EUwideConstants!$S:$S,0)),INDEX(EUwideConstants!$P:$P,MATCH(Q90,EUwideConstants!$S:$S,0))))","v":""},{"$f":"IF(H90=\"\",\"\",IF(S90=0,EUconst_NA,IF(ISERROR(S90),\"\",EUconst_MsgTierActivityLevel & \" \" &S90)))","v":""},null,null,null,null,null,null,null,{"$f":"EUconst_CNTR_ActivityData&H73","v":"ActivityData_"},null,{"$f":"IF(H90=\"\",\"\",IF(H90=EUconst_NA,\"\",INDEX(EUwideConstants!$H:$O,MATCH(Q90,EUwideConstants!$S:$S,0),MATCH(H90,CNTR_TierList,0))))","v":""},null,{"$f":"V71","v":""},0,{"$f":"IF($L$6=EUconst_NotRelevant,TRUE,IF(V90>0,(V90<>U90),IF(U90=\"\",TRUE,FALSE)))","v":true}]
[null,null,null,"(c)",{"$f":"Translations!$B$478","v":"Korištena razina točnosti za podatak o djelatnosti:"},null,null,null,{"$f":"IF(OR(ISBLANK(H91),H91=EUconst_NoTier),\"\",IF(S91=0,EUconst_NA,IF(ISERROR(S91),\"\",EUconst_MsgTierActivityLevel & \" \" &S91)))","v":""},null,null,null,null,null,null,null,{"$f":"EUconst_CNTR_ActivityData&H73","v":"ActivityData_"},null,{"$f":"IF(ISBLANK(H91),\"\",IF(H91=EUconst_NA,\"\",INDEX(EUwideConstants!$H:$O,MATCH(Q91,EUwideConstants!$S:$S,0),MATCH(H91,CNTR_TierList,0))))","v":""},null,{"$f":"U90","v":""},0,{"$f":"IF($L$6=EUconst_NotRelevant,TRUE,IF(V91>0,(V91<>U91),IF(U91=\"\",TRUE,FALSE)))","v":true}]
[null,null,null,"(d)",{"$f":"Translations!$B$479","v":"Postignuta nesigurnost:"},null,null,null,{"$f":"Translations!$B$480","v":"Komentar:"},null,null,null,null,null,null,null,null,null,null,null,{"$f":"U91","v":""},0,{"$f":"IF($L$6=EUconst_NotRelevant,TRUE,IF(V92>0,(V92<>U92),IF(U92=\"\",TRUE,FALSE)))","v":true}]
[]
[null,null,null,{"$f":"Translations!$B$654","v":"Metoda A: broj anodnog učinka ćelija po danu"}]
[null,null,null,"(e)",{"$f":"Translations!$B$477","v":"Zahtijevana razina točnosti za podatak o djelatnosti:"},null,null,{"$f":"IF(W95,\"\",H90)","v":""},{"$f":"IF(W95,\"\",I90)","v":""},null,null,null,null,null,null,null,null,null,null,null,{"$f":"U92","v":""},1,{"$f":"IF($L$6=EUconst_NotRelevant,TRUE,IF(V95>0,(V95<>U95),IF(U95=\"\",TRUE,FALSE)))","v":true}]
[null,null,null,"(f)",{"$f":"Translations!$B$478","v":"Korištena razina točnosti za podatak o djelatnosti:"},null,null,null,{"$f":"IF(OR(ISBLANK(H96),H96=EUconst_NoTier),\"\",IF(S96=0,EUconst_NA,IF(ISERROR(S96),\"\",EUconst_MsgTierActivityLevel & \" \" &S96)))","v":""},null,null,null,null,null,null,null,{"$f":"EUconst_CNTR_ActivityData&H73","v":"ActivityData_"},null,{"$f":"IF(ISBLANK(H96),\"\",IF(H96=EUconst_NA,\"\",INDEX(EUwideConstants!$H:$O,MATCH(Q96,EUwideConstants!$S:$S,0),MATCH(H96,CNTR_TierList,0))))","v":""},null,{"$f":"U95","v":""},1,{"$f":"IF($L$6=EUconst_NotRelevant,TRUE,IF(V96>0,(V96<>U96),IF(U96=\"\",TRUE,FALSE)))","v":true}]
[null,null,null,"(g)",{"$f":"Translations!$B$479","v":"Postignuta nesigurnost:"},null,null,null,{"$f":"Translations!$B$480","v":"Komentar:"},null,null,null,null,null,null,null,null,null,null,null,{"$f":"U96","v":""},1,{"$f":"IF($L$6=EUconst_NotRelevant,TRUE,IF(V97>0,(V97<>U97),IF(U97=\"\",TRUE,FALSE)))","v":true}]
[]
[null,null,null,{"$f":"Translations!$B$655","v":"Metoda A: prosjek anodnog učinka minute po pojavi "}]
[null,null,null,"(h)",{"$f":"Translations!$B$477","v":"Zahtijevana razina točnosti za podatak o djelatnosti:"},null,null,{"$f":"IF(W100,\"\",H90)","v":""},{"$f":"IF(W100,\"\",I90)","v":""},null,null,null,null,null,null,null,null,null,null,null,{"$f":"U97","v":""},1,{"$f":"IF($L$6=EUconst_NotRelevant,TRUE,IF(V100>0,(V100<>U100),IF(U100=\"\",TRUE,FALSE)))","v":true}]
[null,null,null,"(i)",{"$f":"Translations!$B$478","v":"Korištena razina točnosti za podatak o djelatnosti:"},null,null,null,{"$f":"IF(OR(ISBLANK(H101),H101=EUconst_NoTier),\"\",IF(S101=0,EUconst_NA,IF(ISERROR(S101),\"\",EUconst_MsgTierActivityLevel & \" \" &S101)))","v":""},null,null,null,null,null,null,null,{"$f":"EUconst_CNTR_ActivityData&H73","v":"ActivityData_"},null,{"$f":"IF(ISBLANK(H101),\"\",IF(H101=EUconst_NA,\"\",INDEX(EUwideConstants!$H:$O,MATCH(Q101,EUwideConstants!$S:$S,0),MATCH(H101,CNTR_TierList,0))))","v":""},null,{"$f":"U100","v":""},1,{"$f":"IF($L$6=EUconst_NotRelevant,TRUE,IF(V101>0,(V101<>U101),IF(U101=\"\",TRUE,FALSE)))","v":true}]
[null,null,null,"(j)",{"$f":"Translations!$B$479","v":"Postignuta nesigurnost:"},null,null,null,{"$f":"Translations!$B$480","v":"Komentar:"},null,null,null,null,null,null,null,null,null,null,null,{"$f":"U101","v":""},1,{"$f":"IF($L$6=EUconst_NotRelevant,TRUE,IF(V102>0,(V102<>U102),IF(U102=\"\",TRUE,FALSE)))","v":true}]
[]
[null,null,null,{"$f":"Translations!$B$656","v":"Metoda B: anodni učinak prednapona po ćeliji"}]
[null,null,null,"(k)",{"$f":"Translations!$B$477","v":"Zahtijevana razina točnosti za podatak o djelatnosti:"},null,null,{"$f":"IF(W105,\"\",H90)","v":""},{"$f":"IF(W105,\"\",I90)","v":""},null,null,null,null,null,null,null,null,null,null,null,{"$f":"U102","v":""},2,{"$f":"IF($L$6=EUconst_NotRelevant,TRUE,IF(V105>0,(V105<>U105),IF(U105=\"\",TRUE,FALSE)))","v":true}]
[null,null,null,"(l)",{"$f":"Translations!$B$478","v":"Korištena razina točnosti za podatak o djelatnosti:"},null,null,null,{"$f":"IF(OR(ISBLANK(H106),H106=EUconst_NoTier),\"\",IF(S106=0,EUconst_NA,IF(ISERROR(S106),\"\",EUconst_MsgTierActivityLevel & \" \" &S106)))","v":""},null,null,null,null,null,null,null,{"$f":"EUconst_CNTR_ActivityData&H73","v":"ActivityData_"},null,{"$f":"IF(ISBLANK(H106),\"\",IF(H106=EUconst_NA,\"\",INDEX(EUwideConstants!$H:$O,MATCH(Q106,EUwideConstants!$S:$S,0),MATCH(H106,CNTR_TierList,0))))","v":""},null,{"$f":"U105","v":""},2,{"$f":"IF($L$6=EUconst_NotRelevant,TRUE,IF(V106>0,(V106<>U106),IF(U106=\"\",TRUE,FALSE)))","v":true}]
[null,null,null,"(m)",{"$f":"Translations!$B$479","v":"Postignuta nesigurnost:"},null,null,null,{"$f":"Translations!$B$480","v":"Komentar:"},null,null,null,null,null,null,null,null,null,null,null,{"$f":"U106","v":""},2,{"$f":"IF($L$6=EUconst_NotRelevant,TRUE,IF(V107>0,(V107<>U107),IF(U107=\"\",TRUE,FALSE)))","v":true}]
[]
[null,null,null,{"$f":"Translations!$B$657","v":"Metoda B: Trenutna učinkovitost"}]
[null,null,null,"(n)",{"$f":"Translations!$B$477","v":"Zahtijevana razina točnosti za podatak o djelatnosti:"},null,null,{"$f":"IF(W110,\"\",H90)","v":""},{"$f":"IF(W110,\"\",I90)","v":""},null,null,null,null,null,null,null,null,null,null,null,{"$f":"U107","v":""},2,{"$f":"IF($L$6=EUconst_NotRelevant,TRUE,IF(V110>0,(V110<>U110),IF(U110=\"\",TRUE,FALSE)))","v":true}]
[null,null,null,"(o)",{"$f":"Translations!$B$478","v":"Korištena razina točnosti za podatak o djelatnosti:"},null,null,null,{"$f":"IF(OR(ISBLANK(H111),H111=EUconst_NoTier),\"\",IF(S111=0,EUconst_NA,IF(ISERROR(S111),\"\",EUconst_MsgTierActivityLevel & \" \" &S111)))","v":""},null,null,null,null,null,null,null,{"$f":"EUconst_CNTR_ActivityData&H73","v":"ActivityData_"},null,{"$f":"IF(ISBLANK(H111),\"\",IF(H111=EUconst_NA,\"\",INDEX(EUwideConstants!$H:$O,MATCH(Q111,EUwideConstants!$S:$S,0),MATCH(H111,CNTR_TierList,0))))","v":""},null,{"$f":"U110","v":""},2,{"$f":"IF($L$6=EUconst_NotRelevant,TRUE,IF(V111>0,(V111<>U111),IF(U111=\"\",TRUE,FALSE)))","v":true}]
[null,null,null,"(p)",{"$f":"Translations!$B$479","v":"Postignuta nesigurnost:"},null,null,null,{"$f":"Translations!$B$480","v":"Komentar:"},null,null,null,null,null,null,null,null,null,null,null,{"$f":"U111","v":""},2,{"$f":"IF($L$6=EUconst_NotRelevant,TRUE,IF(V112>0,(V112<>U112),IF(U112=\"\",TRUE,FALSE)))","v":true}]
[]
[null,null,null,{"$f":"Translations!$B$658","v":"Faktori proračuna"}]
[null,null,null,"(q)",{"$f":"Translations!$B$659","v":"Primjenjene razine točnosti"}]
[]
[null,null,null,null,{"$f":"Translations!$B$516","v":"Faktor proračuna:"},null,null,{"$f":"Translations!$B$517","v":"Zahtijevana razina točnosti:"},{"$f":"Translations!$B$518","v":"Korištena razina točnosti:"},{"$f":"Translations!$B$526","v":"Puni tekst za korištenu razinu točnosti"},null,null,null,null,null,null,null,null,"full text tier"]
[null,null,null,"i.",{"$f":"Translations!$B$660","v":"SEF (CF4) Nagibni emisijski faktor"},null,null,{"$f":"IF(H73=\"\",\"\",IF(W118=FALSE,IF(CNTR_Category=\"A\",INDEX(EUwideConstants!$G:$G,MATCH(Q118,EUwideConstants!$S:$S,0)),INDEX(EUwideConstants!$P:$P,MATCH(Q118,EUwideConstants!$S:$S,0))),\"\"))","v":""},null,{"$f":"IF(OR(ISBLANK(I118),I118=EUconst_NoTier),\"\",IF(S118=0,EUconst_NotApplicable,IF(ISERROR(S118),\"\",S118)))","v":""},null,null,null,null,null,null,{"$f":"EUconst_CNTR_EF&H73","v":"EF_"},null,{"$f":"IF(ISBLANK(I118),\"\",IF(I118=EUconst_NA,\"\",INDEX(EUwideConstants!$H:$O,MATCH(Q118,EUwideConstants!$S:$S,0),MATCH(I118,CNTR_TierList,0))))","v":""},null,{"$f":"U112","v":""},1,{"$f":"IF($L$6=EUconst_NotRelevant,TRUE,IF(V118>0,(V118<>U118),IF(U118=\"\",TRUE,FALSE)))","v":true}]
[null,null,null,"ii.",{"$f":"Translations!$B$661","v":"OVC (koeficijent prednapona)"},null,null,{"$f":"IF(H74=\"\",\"\",IF(W119=FALSE,IF(CNTR_Category=\"A\",INDEX(EUwideConstants!$G:$G,MATCH(Q119,EUwideConstants!$S:$S,0)),INDEX(EUwideConstants!$P:$P,MATCH(Q119,EUwideConstants!$S:$S,0))),\"\"))","v":""},null,{"$f":"IF(OR(ISBLANK(I119),I119=EUconst_NoTier),\"\",IF(S119=0,EUconst_NotApplicable,IF(ISERROR(S119),\"\",S119)))","v":""},null,null,null,null,null,null,{"$f":"EUconst_CNTR_EF&H73","v":"EF_"},null,{"$f":"IF(ISBLANK(I119),\"\",IF(I119=EUconst_NA,\"\",INDEX(EUwideConstants!$H:$O,MATCH(Q119,EUwideConstants!$S:$S,0),MATCH(I119,CNTR_TierList,0))))","v":""},null,{"$f":"U118","v":""},2,{"$f":"IF($L$6=EUconst_NotRelevant,TRUE,IF(V119>0,(V119<>U119),IF(U119=\"\",TRUE,FALSE)))","v":true}]
[null,null,null,"iii.",{"$f":"Translations!$B$662","v":"F(C2F6) Maseni udio C2F6"},null,null,{"$f":"IF(H75=\"\",\"\",IF(W120=FALSE,IF(CNTR_Category=\"A\",INDEX(EUwideConstants!$G:$G,MATCH(Q120,EUwideConstants!$S:$S,0)),INDEX(EUwideConstants!$P:$P,MATCH(Q120,EUwideConstants!$S:$S,0))),\"\"))","v":""},null,{"$f":"IF(OR(ISBLANK(I120),I120=EUconst_NoTier),\"\",IF(S120=0,EUconst_NotApplicable,IF(ISERROR(S120),\"\",S120)))","v":""},null,null,null,null,null,null,{"$f":"EUconst_CNTR_EF&H73","v":"EF_"},null,{"$f":"IF(ISBLANK(I120),\"\",IF(I120=EUconst_NA,\"\",INDEX(EUwideConstants!$H:$O,MATCH(Q120,EUwideConstants!$S:$S,0),MATCH(I120,CNTR_TierList,0))))","v":""},null,{"$f":"U119","v":""},0,{"$f":"IF($L$6=EUconst_NotRelevant,TRUE,IF(V120>0,(V120<>U120),IF(U120=\"\",TRUE,FALSE)))","v":true}]
[]
[null,null,null,"(r)",{"$f":"Translations!$B$663","v":"Detalji o razini točnosti"}]
[]
[null,null,null,null,{"$f":"Translations!$B$516","v":"Faktor proračuna:"},null,null,{"$f":"I117","v":"Korištena razina točnosti:"},{"$f":"Translations!$B$664","v":"zadana ili najnovija vrijednost"},{"$f":"Translations!$B$536","v":"Jedinica"},{"$f":"Translations!$B$537","v":"Oznaka izvora"},{"$f":"Translations!$B$538","v":"Oznaka analize"},{"$f":"Translations!$B$665","v":"datum najnovije analize"},{"$f":"Translations!$B$540","v":"Učestalost analiza"},null,null,null,null,"default value or lab"]
[null,null,null,"i.",{"$f":"E118","v":"SEF (CF4) Nagibni emisijski faktor"},null,null,{"$f":"IF(OR(ISBLANK(I118),I118=EUconst_NA),\"\",I118)","v":""},null,null,null,null,null,null,null,null,{"$f":"Q118","v":"EF_"},null,{"$f":"IF(H125=\"\",\"\",IF(I118=EUconst_NA,\"\",INDEX(EUwideConstants!$AL:$AP,MATCH(Q118,EUwideConstants!$S:$S,0),MATCH(I118,CNTR_TierList,0))))","v":""},null,{"$f":"U120","v":""},1,{"$f":"IF($L$6=EUconst_NotRelevant,TRUE,IF(V125>0,(V125<>U125),IF(U125=\"\",TRUE,FALSE)))","v":true}]
[null,null,null,"ii.",{"$f":"E119","v":"OVC (koeficijent prednapona)"},null,null,{"$f":"IF(OR(ISBLANK(I119),I119=EUconst_NA),\"\",I119)","v":""},null,null,null,null,null,null,null,null,{"$f":"Q119","v":"EF_"},null,{"$f":"IF(H126=\"\",\"\",IF(I119=EUconst_NA,\"\",INDEX(EUwideConstants!$AL:$AP,MATCH(Q119,EUwideConstants!$S:$S,0),MATCH(I119,CNTR_TierList,0))))","v":""},null,{"$f":"U125","v":""},2,{"$f":"IF($L$6=EUconst_NotRelevant,TRUE,IF(V126>0,(V126<>U126),IF(U126=\"\",TRUE,FALSE)))","v":true}]
[null,null,null,"iii.",{"$f":"E120","v":"F(C2F6) Maseni udio C2F6"},null,null,{"$f":"IF(OR(ISBLANK(I120),I120=EUconst_NA),\"\",I120)","v":""},null,null,null,null,null,null,null,null,{"$f":"Q120","v":"EF_"},null,{"$f":"IF(H127=\"\",\"\",IF(I120=EUconst_NA,\"\",INDEX(EUwideConstants!$AL:$AP,MATCH(Q120,EUwideConstants!$S:$S,0),MATCH(I120,CNTR_TierList,0))))","v":""},null,{"$f":"U126","v":""},0,{"$f":"IF($L$6=EUconst_NotRelevant,TRUE,IF(V127>0,(V127<>U127),IF(U127=\"\",TRUE,FALSE)))","v":true}]
[]
[null,null,null,{"$f":"Translations!$B$666","v":"Učinkovitost prikupljanja podataka o fugitivnim emisijama"}]
[null,null,null,"(s)",{"$f":"Translations!$B$667","v":"Određivanje učinkovitosti prikupljanja podataka"}]
[]
[null,null,null,null,null,null,null,null,{"$f":"Translations!$B$664","v":"zadana ili najnovija vrijednost"},{"$f":"Translations!$B$536","v":"Jedinica"},{"$f":"Translations!$B$537","v":"Oznaka izvora"},{"$f":"Translations!$B$538","v":"Oznaka analize"},{"$f":"Translations!$B$665","v":"datum najnovije analize"},{"$f":"Translations!$B$540","v":"Učestalost analiza"}]
[null,null,null,null,{"$f":"Translations!$B$668","v":"Učinkovitost prikupljanja  "},null,null,null,null,null,null,null,null,null,null,null,null,null,null,null,{"$f":"U127","v":""},0,{"$f":"IF($L$6=EUconst_NotRelevant,TRUE,IF(V133>0,(V133<>U133),IF(U133=\"\",TRUE,FALSE)))","v":true}]
[]
[null,null,null,{"$f":"Translations!$B$44","v":"Komentari"}]
[null,null,null,"(t)",{"$f":"Translations!$B$546","v":"Komentari:"}]
[null,null,null,null,{"$f":"Translations!$B$669","v":"Ispod navedite sve relevantne komentare. Objašnjenja su posebno potrebna za opis kako se određuju faktori proračuna,  te koji se mjerni instrumenti i uređaji za kontrolu procesa koriste za određivanje podataka o djelatnostima, itd."}]
[]
[null,null,null,null,null,null,null,null,null,null,null,null,null,null,null,null,null,null,null,null,{"$f":"U133","v":""},0,{"$f":"IF($L$6=EUconst_NotRelevant,TRUE,IF(V139>0,(V139<>U139),IF(U139=\"\",TRUE,FALSE)))","v":true}]
[null,null,null,null,null,null,null,null,null,null,null,null,null,null,null,null,null,null,null,null,{"$f":"U139","v":""},0,{"$f":"IF($L$6=EUconst_NotRelevant,TRUE,IF(V140>0,(V140<>U140),IF(U140=\"\",TRUE,FALSE)))","v":true}]
[null,null,null,null,null,null,null,null,null,null,null,null,null,null,null,null,null,null,null,null,{"$f":"U140","v":""},0,{"$f":"IF($L$6=EUconst_NotRelevant,TRUE,IF(V141>0,(V141<>U141),IF(U141=\"\",TRUE,FALSE)))","v":true}]
[]
[null,null,null,"(u)",{"$f":"Translations!$B$548","v":"Obrazloženje ako zahtijevane razine točnosti nisu primjenjene:\n"}]
[null,null,null,null,{"$f":"Translations!$B$549","v":"Ovdje navedite obrazloženje ukoliko se prema članku 26. Uredbe bilo koja od potrebnih razina točnosti ne primjenjuje za podatke o djelatnosti ili bilo koji od važećih faktora proračuna."}]
[null,null,null,null,{"$f":"Translations!$B$550","v":"Gdje je u skladu sa člankom 26. potrebno dostaviti plan poboljšanja, treba ga dostaviti s ovim Planom praćenja te navesti referencu na isti u obrazloženju ispod. Gdje je obrazloženje temeljeno na neopravdano visokim troškovima, u skladu s člankom 18. Uredbe, tu procjenu treba dostaviti s ovim Planom praćenja i navesti referencu na isti u obrazloženju ispod.\n"}]
[]
[null,null,null,null,null,null,null,null,null,null,null,null,null,null,null,null,null,null,null,null,{"$f":"U141","v":""},0,{"$f":"IF($L$6=EUconst_NotRelevant,TRUE,IF(V147>0,(V147<>U147),IF(U147=\"\",TRUE,FALSE)))","v":true}]
[null,null,null,null,null,null,null,null,null,null,null,null,null,null,null,null,null,null,null,null,{"$f":"U147","v":""},0,{"$f":"IF($L$6=EUconst_NotRelevant,TRUE,IF(V148>0,(V148<>U148),IF(U148=\"\",TRUE,FALSE)))","v":true}]
[null,null,null,null,null,null,null,null,null,null,null,null,null,null,null,null,null,null,null,null,{"$f":"U148","v":""},0,{"$f":"IF($L$6=EUconst_NotRelevant,TRUE,IF(V149>0,(V149<>U149),IF(U149=\"\",TRUE,FALSE)))","v":true}]
[]
[]
[null,null,{"$f":"INDEX($D$50:$D$55,Q152)","v":""},{"$f":"CONCATENATE(Euconst_SourceStream,\" \", Q152,\":\")","v":"Tok izvora 2:"},null,null,null,{"$f":"IF(INDEX($E$50:$E$55,Q152)=\"\",\"\",INDEX($E$50:$E$55,Q152))","v":""},null,null,null,null,{"$f":"IF(S152=TRUE,IF(U152=\"\",T152,U152),\"\")","v":""},null,null,null,{"$f":"Q71+1","v":2},null,{"$f":"IF(INDEX('C_Opis postrojenja'!$M:$M,MATCH(Q154,'C_Opis postrojenja'!$Q:$Q,0))=\"\",FALSE,TRUE)","v":false},{"$f":"IF(S152=TRUE,INDEX('C_Opis postrojenja'!$M:$M,MATCH(Q154,'C_Opis postrojenja'!$Q:$Q,0)),\"\")","v":""},{"$f":"IF(S152=TRUE,IF(ISBLANK(INDEX('C_Opis postrojenja'!$N:$N,MATCH(Q154,'C_Opis postrojenja'!$Q:$Q,0))),\"\",INDEX('C_Opis postrojenja'!$N:$N,MATCH(Q154,'C_Opis postrojenja'!$Q:$Q,0))),\"\")","v":""},{"$f":"IF(ISNUMBER(INDEX(CNTR_ListPFCmethods,Q152)),INDEX(CNTR_ListPFCmethods,Q152),\"\")","v":""}]
[]
[null,null,null,null,{"$f":"Translations!$B$437","v":"Vrsta toka izvora:"},null,null,{"$f":"IF(INDEX($H$50:$H$55,Q152)=\"\",\"\",INDEX($H$50:$H$55,Q152))","v":""},null,null,null,null,null,null,null,null,{"$f":"EUconst_CNTR_SourceCategory&C152","v":"SourceCategory_"}]
[null,null,null,null,{"$f":"Translations!$B$438","v":"Primijenjiva metoda prema Uredbi:"},null,null,{"$f":"IF(H154=\"\",\"\",INDEX(EUwideConstants!$F$265:$F$325,MATCH(H154,EUConst_TierActivityListNames,0)))","v":""}]
[null,null,null,null,{"$f":"Translations!$B$439","v":"Parametar na koji se odnosi nesigurnost:"},null,null,{"$f":"IF(H154=\"\",\"\",INDEX(EUwideConstants!$E$265:$E$325,MATCH(H154,EUConst_TierActivityListNames,0)))","v":""}]
[]
[null,null,null,{"$f":"Translations!$B$446","v":"Automatske upute o primjenjivim razinama točnosti:"}]
[]
[null,null,null,null,{"$f":"IF(H152=\"\",\"\",INDEX(EUconst_SmallEmiSouStreamMsg,MATCH(Q160,EUconst_SmallEmiSouStream,0)))","v":""},null,null,null,null,null,null,null,null,null,null,null,{"$f":"IF(ISBLANK(CNTR_SmallEmitter),IF(CNTR_SmallEmitter=TRUE,EUconst_CNTR_SmallEmitter,EUconst_CNTR_NoSmallEmitter),EUconst_CNTR_NoSmallEmitter) & IF((CNTR_Category)=\"\",\"C\",CNTR_Category) & \"_\" & IF(M152=\"\",1,MATCH(M152,SourceCategory,0))","v":"NoSmallEmitter_C_1"}]
[]
[null,null,null,{"$f":"Translations!$B$652","v":"Podaci o djelatnostima"}]
[]
[null,null,null,{"$f":"Translations!$B$653","v":"Primarna proizvodnja aluminija:"},null,null,null,null,null,null,null,null,null,null,null,null,null,null,null,null,"Stream method","Relevant method","Make grey?"]
[null,null,null,"(b)",{"$f":"Translations!$B$477","v":"Zahtijevana razina točnosti za podatak o djelatnosti:"},null,null,{"$f":"IF(H154=\"\",\"\",IF(CNTR_Category=\"A\",INDEX(EUwideConstants!$G:$G,MATCH(Q165,EUwideConstants!$S:$S,0)),INDEX(EUwideConstants!$P:$P,MATCH(Q165,EUwideConstants!$S:$S,0))))","v":""},{"$f":"IF(H165=\"\",\"\",IF(S165=0,EUconst_NA,IF(ISERROR(S165),\"\",EUconst_MsgTierActivityLevel & \" \" &S165)))","v":""},null,null,null,null,null,null,null,{"$f":"EUconst_CNTR_ActivityData&H154","v":"ActivityData_"},null,{"$f":"IF(H165=\"\",\"\",IF(H165=EUconst_NA,\"\",INDEX(EUwideConstants!$H:$O,MATCH(Q165,EUwideConstants!$S:$S,0),MATCH(H165,CNTR_TierList,0))))","v":""},null,{"$f":"V152","v":""},0,{"$f":"IF($L$6=EUconst_NotRelevant,TRUE,IF(V165>0,(V165<>U165),IF(U165=\"\",TRUE,FALSE)))","v":true}]
[null,null,null,"(c)",{"$f":"Translations!$B$478","v":"Korištena razina točnosti za podatak o djelatnosti:"},null,null,null,{"$f":"IF(OR(ISBLANK(H166),H166=EUconst_NoTier),\"\",IF(S166=0,EUconst_NA,IF(ISERROR(S166),\"\",EUconst_MsgTierActivityLevel & \" \" &S166)))","v":""},null,null,null,null,null,null,null,{"$f":"EUconst_CNTR_ActivityData&H154","v":"ActivityData_"},null,{"$f":"IF(ISBLANK(H166),\"\",IF(H166=EUconst_NA,\"\",INDEX(EUwideConstants!$H:$O,MATCH(Q166,EUwideConstants!$S:$S,0),MATCH(H166,CNTR_TierList,0))))","v":""},null,{"$f":"U165","v":""},0,{"$f":"IF($L$6=EUconst_NotRelevant,TRUE,IF(V166>0,(V166<>U166),IF(U166=\"\",TRUE,FALSE)))","v":true}]
[null,null,null,"(d)",{"$f":"Translations!$B$479","v":"Postignuta nesigurnost:"},null,null,null,{"$f":"Translations!$B$480","v":"Komentar:"},null,null,null,null,null,null,null,null,null,null,null,{"$f":"U166","v":""},0,{"$f":"IF($L$6=EUconst_NotRelevant,TRUE,IF(V167>0,(V167<>U167),IF(U167=\"\",TRUE,FALSE)))","v":true}]
[]
[null,null,null,{"$f":"Translations!$B$654","v":"Metoda A: broj anodnog učinka ćelija po danu"}]
[null,null,null,"(e)",{"$f":"Translations!$B$477","v":"Zahtijevana razina točnosti za podatak o djelatnosti:"},null,null,{"$f":"IF(W170,\"\",H165)","v":""},{"$f":"IF(W170,\"\",I165)","v":""},null,null,null,null,null,null,null,null,null,null,null,{"$f":"U167","v":""},1,{"$f":"IF($L$6=EUconst_NotRelevant,TRUE,IF(V170>0,(V170<>U170),IF(U170=\"\",TRUE,FALSE)))","v":true}]
[null,null,null,"(f)",{"$f":"Translations!$B$478","v":"Korištena razina točnosti za podatak o djelatnosti:"},null,null,null,{"$f":"IF(OR(ISBLANK(H171),H171=EUconst_NoTier),\"\",IF(S171=0,EUconst_NA,IF(ISERROR(S171),\"\",EUconst_MsgTierActivityLevel & \" \" &S171)))","v":""},null,null,null,null,null,null,null,{"$f":"EUconst_CNTR_ActivityData&H154","v":"ActivityData_"},null,{"$f":"IF(ISBLANK(H171),\"\",IF(H171=EUconst_NA,\"\",INDEX(EUwideConstants!$H:$O,MATCH(Q171,EUwideConstants!$S:$S,0),MATCH(H171,CNTR_TierList,0))))","v":""},null,{"$f":"U170","v":""},1,{"$f":"IF($L$6=EUconst_NotRelevant,TRUE,IF(V171>0,(V171<>U171),IF(U171=\"\",TRUE,FALSE)))","v":true}]
[null,null,null,"(g)",{"$f":"Translations!$B$479","v":"Postignuta nesigurnost:"},null,null,null,{"$f":"Translations!$B$480","v":"Komentar:"},null,null,null,null,null,null,null,null,null,null,null,{"$f":"U171","v":""},1,{"$f":"IF($L$6=EUconst_NotRelevant,TRUE,IF(V172>0,(V172<>U172),IF(U172=\"\",TRUE,FALSE)))","v":true}]
[]
[null,null,null,{"$f":"Translations!$B$655","v":"Metoda A: prosjek anodnog učinka minute po pojavi "}]
[null,null,null,"(h)",{"$f":"Translations!$B$477","v":"Zahtijevana razina točnosti za podatak o djelatnosti:"},null,null,{"$f":"IF(W175,\"\",H165)","v":""},{"$f":"IF(W175,\"\",I165)","v":""},null,null,null,null,null,null,null,null,null,null,null,{"$f":"U172","v":""},1,{"$f":"IF($L$6=EUconst_NotRelevant,TRUE,IF(V175>0,(V175<>U175),IF(U175=\"\",TRUE,FALSE)))","v":true}]
[null,null,null,"(i)",{"$f":"Translations!$B$478","v":"Korištena razina točnosti za podatak o djelatnosti:"},null,null,null,{"$f":"IF(OR(ISBLANK(H176),H176=EUconst_NoTier),\"\",IF(S176=0,EUconst_NA,IF(ISERROR(S176),\"\",EUconst_MsgTierActivityLevel & \" \" &S176)))","v":""},null,null,null,null,null,null,null,{"$f":"EUconst_CNTR_ActivityData&H154","v":"ActivityData_"},null,{"$f":"IF(ISBLANK(H176),\"\",IF(H176=EUconst_NA,\"\",INDEX(EUwideConstants!$H:$O,MATCH(Q176,EUwideConstants!$S:$S,0),MATCH(H176,CNTR_TierList,0))))","v":""},null,{"$f":"U175","v":""},1,{"$f":"IF($L$6=EUconst_NotRelevant,TRUE,IF(V176>0,(V176<>U176),IF(U176=\"\",TRUE,FALSE)))","v":true}]
[null,null,null,"(j)",{"$f":"Translations!$B$479","v":"Postignuta nesigurnost:"},null,null,null,{"$f":"Translations!$B$480","v":"Komentar:"},null,null,null,null,null,null,null,null,null,null,null,{"$f":"U176","v":""},1,{"$f":"IF($L$6=EUconst_NotRelevant,TRUE,IF(V177>0,(V177<>U177),IF(U177=\"\",TRUE,FALSE)))","v":true}]
[]
[null,null,null,{"$f":"Translations!$B$656","v":"Metoda B: anodni učinak prednapona po ćeliji"}]
[null,null,null,"(k)",{"$f":"Translations!$B$477","v":"Zahtijevana razina točnosti za podatak o djelatnosti:"},null,null,{"$f":"IF(W180,\"\",H165)","v":""},{"$f":"IF(W180,\"\",I165)","v":""},null,null,null,null,null,null,null,null,null,null,null,{"$f":"U177","v":""},2,{"$f":"IF($L$6=EUconst_NotRelevant,TRUE,IF(V180>0,(V180<>U180),IF(U180=\"\",TRUE,FALSE)))","v":true}]
[null,null,null,"(l)",{"$f":"Translations!$B$478","v":"Korištena razina točnosti za podatak o djelatnosti:"},null,null,null,{"$f":"IF(OR(ISBLANK(H181),H181=EUconst_NoTier),\"\",IF(S181=0,EUconst_NA,IF(ISERROR(S181),\"\",EUconst_MsgTierActivityLevel & \" \" &S181)))","v":""},null,null,null,null,null,null,null,{"$f":"EUconst_CNTR_ActivityData&H154","v":"ActivityData_"},null,{"$f":"IF(ISBLANK(H181),\"\",IF(H181=EUconst_NA,\"\",INDEX(EUwideConstants!$H:$O,MATCH(Q181,EUwideConstants!$S:$S,0),MATCH(H181,CNTR_TierList,0))))","v":""},null,{"$f":"U180","v":""},2,{"$f":"IF($L$6=EUconst_NotRelevant,TRUE,IF(V181>0,(V181<>U181),IF(U181=\"\",TRUE,FALSE)))","v":true}]
[null,null,null,"(m)",{"$f":"Translations!$B$479","v":"Postignuta nesigurnost:"},null,null,null,{"$f":"Translations!$B$480","v":"Komentar:"},null,null,null,null,null,null,null,null,null,null,null,{"$f":"U181","v":""},2,{"$f":"IF($L$6=EUconst_NotRelevant,TRUE,IF(V182>0,(V182<>U182),IF(U182=\"\",TRUE,FALSE)))","v":true}]
[]
[null,null,null,{"$f":"Translations!$B$657","v":"Metoda B: Trenutna učinkovitost"}]
[null,null,null,"(n)",{"$f":"Translations!$B$477","v":"Zahtijevana razina točnosti za podatak o djelatnosti:"},null,null,{"$f":"IF(W185,\"\",H165)","v":""},{"$f":"IF(W185,\"\",I165)","v":""},null,null,null,null,null,null,null,null,null,null,null,{"$f":"U182","v":""},2,{"$f":"IF($L$6=EUconst_NotRelevant,TRUE,IF(V185>0,(V185<>U185),IF(U185=\"\",TRUE,FALSE)))","v":true}]
[null,null,null,"(o)",{"$f":"Translations!$B$478","v":"Korištena razina točnosti za podatak o djelatnosti:"},null,null,null,{"$f":"IF(OR(ISBLANK(H186),H186=EUconst_NoTier),\"\",IF(S186=0,EUconst_NA,IF(ISERROR(S186),\"\",EUconst_MsgTierActivityLevel & \" \" &S186)))","v":""},null,null,null,null,null,null,null,{"$f":"EUconst_CNTR_ActivityData&H154","v":"ActivityData_"},null,{"$f":"IF(ISBLANK(H186),\"\",IF(H186=EUconst_NA,\"\",INDEX(EUwideConstants!$H:$O,MATCH(Q186,EUwideConstants!$S:$S,0),MATCH(H186,CNTR_TierList,0))))","v":""},null,{"$f":"U185","v":""},2,{"$f":"IF($L$6=EUconst_NotRelevant,TRUE,IF(V186>0,(V186<>U186),IF(U186=\"\",TRUE,FALSE)))","v":true}]
[null,null,null,"(p)",{"$f":"Translations!$B$479","v":"Postignuta nesigurnost:"},null,null,null,{"$f":"Translations!$B$480","v":"Komentar:"},null,null,null,null,null,null,null,null,null,null,null,{"$f":"U186","v":""},2,{"$f":"IF($L$6=EUconst_NotRelevant,TRUE,IF(V187>0,(V187<>U187),IF(U187=\"\",TRUE,FALSE)))","v":true}]
[]
[null,null,null,{"$f":"Translations!$B$658","v":"Faktori proračuna"}]
[null,null,null,"(q)",{"$f":"Translations!$B$659","v":"Primjenjene razine točnosti"}]
[]
[null,null,null,null,{"$f":"Translations!$B$516","v":"Faktor proračuna:"},null,null,{"$f":"Translations!$B$517","v":"Zahtijevana razina točnosti:"},{"$f":"Translations!$B$518","v":"Korištena razina točnosti:"},{"$f":"Translations!$B$519","v":"Puni tekst za korištenu razinu točnosti"},null,null,null,null,null,null,null,null,"full text tier"]
[null,null,null,"i.",{"$f":"Translations!$B$660","v":"SEF (CF4) Nagibni emisijski faktor"},null,null,{"$f":"IF(H154=\"\",\"\",IF(W193=FALSE,IF(CNTR_Category=\"A\",INDEX(EUwideConstants!$G:$G,MATCH(Q193,EUwideConstants!$S:$S,0)),INDEX(EUwideConstants!$P:$P,MATCH(Q193,EUwideConstants!$S:$S,0))),\"\"))","v":""},null,{"$f":"IF(OR(ISBLANK(I193),I193=EUconst_NoTier),\"\",IF(S193=0,EUconst_NotApplicable,IF(ISERROR(S193),\"\",S193)))","v":""},null,null,null,null,null,null,{"$f":"EUconst_CNTR_EF&H154","v":"EF_"},null,{"$f":"IF(ISBLANK(I193),\"\",IF(I193=EUconst_NA,\"\",INDEX(EUwideConstants!$H:$O,MATCH(Q193,EUwideConstants!$S:$S,0),MATCH(I193,CNTR_TierList,0))))","v":""},null,{"$f":"U187","v":""},1,{"$f":"IF($L$6=EUconst_NotRelevant,TRUE,IF(V193>0,(V193<>U193),IF(U193=\"\",TRUE,FALSE)))","v":true}]
[null,null,null,"ii.",{"$f":"Translations!$B$661","v":"OVC (koeficijent prednapona)"},null,null,{"$f":"IF(H155=\"\",\"\",IF(W194=FALSE,IF(CNTR_Category=\"A\",INDEX(EUwideConstants!$G:$G,MATCH(Q194,EUwideConstants!$S:$S,0)),INDEX(EUwideConstants!$P:$P,MATCH(Q194,EUwideConstants!$S:$S,0))),\"\"))","v":""},null,{"$f":"IF(OR(ISBLANK(I194),I194=EUconst_NoTier),\"\",IF(S194=0,EUconst_NotApplicable,IF(ISERROR(S194),\"\",S194)))","v":""},null,null,null,null,null,null,{"$f":"EUconst_CNTR_EF&H154","v":"EF_"},null,{"$f":"IF(ISBLANK(I194),\"\",IF(I194=EUconst_NA,\"\",INDEX(EUwideConstants!$H:$O,MATCH(Q194,EUwideConstants!$S:$S,0),MATCH(I194,CNTR_TierList,0))))","v":""},null,{"$f":"U193","v":""},2,{"$f":"IF($L$6=EUconst_NotRelevant,TRUE,IF(V194>0,(V194<>U194),IF(U194=\"\",TRUE,FALSE)))","v":true}]
[null,null,null,"iii.",{"$f":"Translations!$B$662","v":"F(C2F6) Maseni udio C2F6"},null,null,{"$f":"IF(H156=\"\",\"\",IF(W195=FALSE,IF(CNTR_Category=\"A\",INDEX(EUwideConstants!$G:$G,MATCH(Q195,EUwideConstants!$S:$S,0)),INDEX(EUwideConstants!$P:$P,MATCH(Q195,EUwideConstants!$S:$S,0))),\"\"))","v":""},null,{"$f":"IF(OR(ISBLANK(I195),I195=EUconst_NoTier),\"\",IF(S195=0,EUconst_NotApplicable,IF(ISERROR(S195),\"\",S195)))","v":""},null,null,null,null,null,null,{"$f":"EUconst_CNTR_EF&H154","v":"EF_"},null,{"$f":"IF(ISBLANK(I195),\"\",IF(I195=EUconst_NA,\"\",INDEX(EUwideConstants!$H:$O,MATCH(Q195,EUwideConstants!$S:$S,0),MATCH(I195,CNTR_TierList,0))))","v":""},null,{"$f":"U194","v":""},0,{"$f":"IF($L$6=EUconst_NotRelevant,TRUE,IF(V195>0,(V195<>U195),IF(U195=\"\",TRUE,FALSE)))","v":true}]
[]
[null,null,null,"(r)",{"$f":"Translations!$B$663","v":"Detalji o razini točnosti"}]
[]
[null,null,null,null,{"$f":"Translations!$B$516","v":"Faktor proračuna:"},null,null,{"$f":"I192","v":"Korištena razina točnosti:"},{"$f":"Translations!$B$664","v":"zadana ili najnovija vrijednost"},{"$f":"Translations!$B$536","v":"Jedinica"},{"$f":"Translations!$B$537","v":"Oznaka izvora"},{"$f":"Translations!$B$538","v":"Oznaka analize"},{"$f":"Translations!$B$665","v":"datum najnovije analize"},{"$f":"Translations!$B$540","v":"Učestalost analiza"},null,null,null,null,"default value or lab"]
[null,null,null,"i.",{"$f":"E193","v":"SEF (CF4) Nagibni emisijski faktor"},null,null,{"$f":"IF(OR(ISBLANK(I193),I193=EUconst_NA),\"\",I193)","v":""},null,null,null,null,null,null,null,null,{"$f":"Q193","v":"EF_"},null,{"$f":"IF(H200=\"\",\"\",IF(I193=EUconst_NA,\"\",INDEX(EUwideConstants!$AL:$AP,MATCH(Q193,EUwideConstants!$S:$S,0),MATCH(I193,CNTR_TierList,0))))","v":""},null,{"$f":"U195","v":""},1,{"$f":"IF($L$6=EUconst_NotRelevant,TRUE,IF(V200>0,(V200<>U200),IF(U200=\"\",TRUE,FALSE)))","v":true}]
[null,null,null,"ii.",{"$f":"E194","v":"OVC (koeficijent prednapona)"},null,null,{"$f":"IF(OR(ISBLANK(I194),I194=EUconst_NA),\"\",I194)","v":""},null,null,null,null,null,null,null,null,{"$f":"Q194","v":"EF_"},null,{"$f":"IF(H201=\"\",\"\",IF(I194=EUconst_NA,\"\",INDEX(EUwideConstants!$AL:$AP,MATCH(Q194,EUwideConstants!$S:$S,0),MATCH(I194,CNTR_TierList,0))))","v":""},null,{"$f":"U200","v":""},2,{"$f":"IF($L$6=EUconst_NotRelevant,TRUE,IF(V201>0,(V201<>U201),IF(U201=\"\",TRUE,FALSE)))","v":true}]
[null,null,null,"iii.",{"$f":"E195","v":"F(C2F6) Maseni udio C2F6"},null,null,{"$f":"IF(OR(ISBLANK(I195),I195=EUconst_NA),\"\",I195)","v":""},null,null,null,null,null,null,null,null,{"$f":"Q195","v":"EF_"},null,{"$f":"IF(H202=\"\",\"\",IF(I195=EUconst_NA,\"\",INDEX(EUwideConstants!$AL:$AP,MATCH(Q195,EUwideConstants!$S:$S,0),MATCH(I195,CNTR_TierList,0))))","v":""},null,{"$f":"U201","v":""},0,{"$f":"IF($L$6=EUconst_NotRelevant,TRUE,IF(V202>0,(V202<>U202),IF(U202=\"\",TRUE,FALSE)))","v":true}]
[]
[null,null,null,{"$f":"Translations!$B$666","v":"Učinkovitost prikupljanja podataka o fugitivnim emisijama"}]
[null,null,null,"(s)",{"$f":"Translations!$B$667","v":"Određivanje učinkovitosti prikupljanja podataka"}]
[]
[null,null,null,null,null,null,null,null,{"$f":"Translations!$B$664","v":"zadana ili najnovija vrijednost"},{"$f":"Translations!$B$536","v":"Jedinica"},{"$f":"Translations!$B$537","v":"Oznaka izvora"},{"$f":"Translations!$B$538","v":"Oznaka analize"},{"$f":"Translations!$B$665","v":"datum najnovije analize"},{"$f":"Translations!$B$540","v":"Učestalost analiza"}]
[null,null,null,null,{"$f":"Translations!$B$668","v":"Učinkovitost prikupljanja  "},null,null,null,null,null,null,null,null,null,null,null,null,null,null,null,{"$f":"U202","v":""},0,{"$f":"IF($L$6=EUconst_NotRelevant,TRUE,IF(V208>0,(V208<>U208),IF(U208=\"\",TRUE,FALSE)))","v":true}]
[]
[null,null,null,{"$f":"Translations!$B$44","v":"Komentari"}]
[null,null,null,"(t)",{"$f":"Translations!$B$546","v":"Komentari:"}]
[]
[null,null,null,null,null,null,null,null,null,null,null,null,null,null,null,null,null,null,null,null,{"$f":"U208","v":""},0,{"$f":"IF($L$6=EUconst_NotRelevant,TRUE,IF(V213>0,(V213<>U213),IF(U213=\"\",TRUE,FALSE)))","v":true}]
[null,null,null,null,null,null,null,null,null,null,null,null,null,null,null,null,null,null,null,null,{"$f":"U213","v":""},0,{"$f":"IF($L$6=EUconst_NotRelevant,TRUE,IF(V214>0,(V214<>U214),IF(U214=\"\",TRUE,FALSE)))","v":true}]
[null,null,null,null,null,null,null,null,null,null,null,null,null,null,null,null,null,null,null,null,{"$f":"U214","v":""},0,{"$f":"IF($L$6=EUconst_NotRelevant,TRUE,IF(V215>0,(V215<>U215),IF(U215=\"\",TRUE,FALSE)))","v":true}]
[]
[null,null,null,"(u)",{"$f":"Translations!$B$548","v":"Obrazloženje ako zahtijevane razine točnosti nisu primjenjene:\n"}]
[]
[null,null,null,null,null,null,null,null,null,null,null,null,null,null,null,null,null,null,null,null,{"$f":"U215","v":""},0,{"$f":"IF($L$6=EUconst_NotRelevant,TRUE,IF(V219>0,(V219<>U219),IF(U219=\"\",TRUE,FALSE)))","v":true}]
[null,null,null,null,null,null,null,null,null,null,null,null,null,null,null,null,null,null,null,null,{"$f":"U219","v":""},0,{"$f":"IF($L$6=EUconst_NotRelevant,TRUE,IF(V220>0,(V220<>U220),IF(U220=\"\",TRUE,FALSE)))","v":true}]
[null,null,null,null,null,null,null,null,null,null,null,null,null,null,null,null,null,null,null,null,{"$f":"U220","v":""},0,{"$f":"IF($L$6=EUconst_NotRelevant,TRUE,IF(V221>0,(V221<>U221),IF(U221=\"\",TRUE,FALSE)))","v":true}]
[]
[]
[null,null,{"$f":"INDEX($D$50:$D$55,Q224)","v":""},{"$f":"CONCATENATE(Euconst_SourceStream,\" \", Q224,\":\")","v":"Tok izvora 3:"},null,null,null,{"$f":"IF(INDEX($E$50:$E$55,Q224)=\"\",\"\",INDEX($E$50:$E$55,Q224))","v":""},null,null,null,null,{"$f":"IF(S224=TRUE,IF(U224=\"\",T224,U224),\"\")","v":""},null,null,null,{"$f":"Q152+1","v":3},null,{"$f":"IF(INDEX('C_Opis postrojenja'!$M:$M,MATCH(Q226,'C_Opis postrojenja'!$Q:$Q,0))=\"\",FALSE,TRUE)","v":false},{"$f":"IF(S224=TRUE,INDEX('C_Opis postrojenja'!$M:$M,MATCH(Q226,'C_Opis postrojenja'!$Q:$Q,0)),\"\")","v":""},{"$f":"IF(S224=TRUE,IF(ISBLANK(INDEX('C_Opis postrojenja'!$N:$N,MATCH(Q226,'C_Opis postrojenja'!$Q:$Q,0))),\"\",INDEX('C_Opis postrojenja'!$N:$N,MATCH(Q226,'C_Opis postrojenja'!$Q:$Q,0))),\"\")","v":""},{"$f":"IF(ISNUMBER(INDEX(CNTR_ListPFCmethods,Q224)),INDEX(CNTR_ListPFCmethods,Q224),\"\")","v":""}]
[]
[null,null,null,null,{"$f":"Translations!$B$437","v":"Vrsta toka izvora:"},null,null,{"$f":"IF(INDEX($H$50:$H$55,Q224)=\"\",\"\",INDEX($H$50:$H$55,Q224))","v":""},null,null,null,null,null,null,null,null,{"$f":"EUconst_CNTR_SourceCategory&C224","v":"SourceCategory_"}]
[null,null,null,null,{"$f":"Translations!$B$438","v":"Primijenjiva metoda prema Uredbi:"},null,null,{"$f":"IF(H226=\"\",\"\",INDEX(EUwideConstants!$F$265:$F$325,MATCH(H226,EUConst_TierActivityListNames,0)))","v":""}]
[null,null,null,null,{"$f":"Translations!$B$439","v":"Parametar na koji se odnosi nesigurnost:"},null,null,{"$f":"IF(H226=\"\",\"\",INDEX(EUwideConstants!$E$265:$E$325,MATCH(H226,EUConst_TierActivityListNames,0)))","v":""}]
[]
[null,null,null,{"$f":"Translations!$B$446","v":"Automatske upute o primjenjivim razinama točnosti:"}]
[]
[null,null,null,null,{"$f":"IF(H224=\"\",\"\",INDEX(EUconst_SmallEmiSouStreamMsg,MATCH(Q232,EUconst_SmallEmiSouStream,0)))","v":""},null,null,null,null,null,null,null,null,null,null,null,{"$f":"IF(ISBLANK(CNTR_SmallEmitter),IF(CNTR_SmallEmitter=TRUE,EUconst_CNTR_SmallEmitter,EUconst_CNTR_NoSmallEmitter),EUconst_CNTR_NoSmallEmitter) & IF((CNTR_Category)=\"\",\"C\",CNTR_Category) & \"_\" & IF(M224=\"\",1,MATCH(M224,SourceCategory,0))","v":"NoSmallEmitter_C_1"}]
[]
[null,null,null,{"$f":"Translations!$B$652","v":"Podaci o djelatnostima"}]
[]
[null,null,null,{"$f":"Translations!$B$653","v":"Primarna proizvodnja aluminija:"},null,null,null,null,null,null,null,null,null,null,null,null,null,null,null,null,"Stream method","Relevant method","Make grey?"]
[null,null,null,"(b)",{"$f":"Translations!$B$477","v":"Zahtijevana razina točnosti za podatak o djelatnosti:"},null,null,{"$f":"IF(H226=\"\",\"\",IF(CNTR_Category=\"A\",INDEX(EUwideConstants!$G:$G,MATCH(Q237,EUwideConstants!$S:$S,0)),INDEX(EUwideConstants!$P:$P,MATCH(Q237,EUwideConstants!$S:$S,0))))","v":""},{"$f":"IF(H237=\"\",\"\",IF(S237=0,EUconst_NA,IF(ISERROR(S237),\"\",EUconst_MsgTierActivityLevel & \" \" &S237)))","v":""},null,null,null,null,null,null,null,{"$f":"EUconst_CNTR_ActivityData&H226","v":"ActivityData_"},null,{"$f":"IF(H237=\"\",\"\",IF(H237=EUconst_NA,\"\",INDEX(EUwideConstants!$H:$O,MATCH(Q237,EUwideConstants!$S:$S,0),MATCH(H237,CNTR_TierList,0))))","v":""},null,{"$f":"V224","v":""},0,{"$f":"IF($L$6=EUconst_NotRelevant,TRUE,IF(V237>0,(V237<>U237),IF(U237=\"\",TRUE,FALSE)))","v":true}]
[null,null,null,"(c)",{"$f":"Translations!$B$478","v":"Korištena razina točnosti za podatak o djelatnosti:"},null,null,null,{"$f":"IF(OR(ISBLANK(H238),H238=EUconst_NoTier),\"\",IF(S238=0,EUconst_NA,IF(ISERROR(S238),\"\",EUconst_MsgTierActivityLevel & \" \" &S238)))","v":""},null,null,null,null,null,null,null,{"$f":"EUconst_CNTR_ActivityData&H226","v":"ActivityData_"},null,{"$f":"IF(ISBLANK(H238),\"\",IF(H238=EUconst_NA,\"\",INDEX(EUwideConstants!$H:$O,MATCH(Q238,EUwideConstants!$S:$S,0),MATCH(H238,CNTR_TierList,0))))","v":""},null,{"$f":"U237","v":""},0,{"$f":"IF($L$6=EUconst_NotRelevant,TRUE,IF(V238>0,(V238<>U238),IF(U238=\"\",TRUE,FALSE)))","v":true}]
[null,null,null,"(d)",{"$f":"Translations!$B$479","v":"Postignuta nesigurnost:"},null,null,null,{"$f":"Translations!$B$480","v":"Komentar:"},null,null,null,null,null,null,null,null,null,null,null,{"$f":"U238","v":""},0,{"$f":"IF($L$6=EUconst_NotRelevant,TRUE,IF(V239>0,(V239<>U239),IF(U239=\"\",TRUE,FALSE)))","v":true}]
[]
[null,null,null,{"$f":"Translations!$B$654","v":"Metoda A: broj anodnog učinka ćelija po danu"}]
[null,null,null,"(e)",{"$f":"Translations!$B$477","v":"Zahtijevana razina točnosti za podatak o djelatnosti:"},null,null,{"$f":"IF(W242,\"\",H237)","v":""},{"$f":"IF(W242,\"\",I237)","v":""},null,null,null,null,null,null,null,null,null,null,null,{"$f":"U239","v":""},1,{"$f":"IF($L$6=EUconst_NotRelevant,TRUE,IF(V242>0,(V242<>U242),IF(U242=\"\",TRUE,FALSE)))","v":true}]
[null,null,null,"(f)",{"$f":"Translations!$B$478","v":"Korištena razina točnosti za podatak o djelatnosti:"},null,null,null,{"$f":"IF(OR(ISBLANK(H243),H243=EUconst_NoTier),\"\",IF(S243=0,EUconst_NA,IF(ISERROR(S243),\"\",EUconst_MsgTierActivityLevel & \" \" &S243)))","v":""},null,null,null,null,null,null,null,{"$f":"EUconst_CNTR_ActivityData&H226","v":"ActivityData_"},null,{"$f":"IF(ISBLANK(H243),\"\",IF(H243=EUconst_NA,\"\",INDEX(EUwideConstants!$H:$O,MATCH(Q243,EUwideConstants!$S:$S,0),MATCH(H243,CNTR_TierList,0))))","v":""},null,{"$f":"U242","v":""},1,{"$f":"IF($L$6=EUconst_NotRelevant,TRUE,IF(V243>0,(V243<>U243),IF(U243=\"\",TRUE,FALSE)))","v":true}]
[null,null,null,"(g)",{"$f":"Translations!$B$479","v":"Postignuta nesigurnost:"},null,null,null,{"$f":"Translations!$B$480","v":"Komentar:"},null,null,null,null,null,null,null,null,null,null,null,{"$f":"U243","v":""},1,{"$f":"IF($L$6=EUconst_NotRelevant,TRUE,IF(V244>0,(V244<>U244),IF(U244=\"\",TRUE,FALSE)))","v":true}]
[]
[null,null,null,{"$f":"Translations!$B$655","v":"Metoda A: prosjek anodnog učinka minute po pojavi "}]
[null,null,null,"(h)",{"$f":"Translations!$B$477","v":"Zahtijevana razina točnosti za podatak o djelatnosti:"},null,null,{"$f":"IF(W247,\"\",H237)","v":""},{"$f":"IF(W247,\"\",I237)","v":""},null,null,null,null,null,null,null,null,null,null,null,{"$f":"U244","v":""},1,{"$f":"IF($L$6=EUconst_NotRelevant,TRUE,IF(V247>0,(V247<>U247),IF(U247=\"\",TRUE,FALSE)))","v":true}]
[null,null,null,"(i)",{"$f":"Translations!$B$478","v":"Korištena razina točnosti za podatak o djelatnosti:"},null,null,null,{"$f":"IF(OR(ISBLANK(H248),H248=EUconst_NoTier),\"\",IF(S248=0,EUconst_NA,IF(ISERROR(S248),\"\",EUconst_MsgTierActivityLevel & \" \" &S248)))","v":""},null,null,null,null,null,null,null,{"$f":"EUconst_CNTR_ActivityData&H226","v":"ActivityData_"},null,{"$f":"IF(ISBLANK(H248),\"\",IF(H248=EUconst_NA,\"\",INDEX(EUwideConstants!$H:$O,MATCH(Q248,EUwideConstants!$S:$S,0),MATCH(H248,CNTR_TierList,0))))","v":""},null,{"$f":"U247","v":""},1,{"$f":"IF($L$6=EUconst_NotRelevant,TRUE,IF(V248>0,(V248<>U248),IF(U248=\"\",TRUE,FALSE)))","v":true}]
[null,null,null,"(j)",{"$f":"Translations!$B$479","v":"Postignuta nesigurnost:"},null,null,null,{"$f":"Translations!$B$480","v":"Komentar:"},null,null,null,null,null,null,null,null,null,null,null,{"$f":"U248","v":""},1,{"$f":"IF($L$6=EUconst_NotRelevant,TRUE,IF(V249>0,(V249<>U249),IF(U249=\"\",TRUE,FALSE)))","v":true}]
[]
[null,null,null,{"$f":"Translations!$B$656","v":"Metoda B: anodni učinak prednapona po ćeliji"}]
[null,null,null,"(k)",{"$f":"Translations!$B$477","v":"Zahtijevana razina točnosti za podatak o djelatnosti:"},null,null,{"$f":"IF(W252,\"\",H237)","v":""},{"$f":"IF(W252,\"\",I237)","v":""},null,null,null,null,null,null,null,null,null,null,null,{"$f":"U249","v":""},2,{"$f":"IF($L$6=EUconst_NotRelevant,TRUE,IF(V252>0,(V252<>U252),IF(U252=\"\",TRUE,FALSE)))","v":true}]
[null,null,null,"(l)",{"$f":"Translations!$B$478","v":"Korištena razina točnosti za podatak o djelatnosti:"},null,null,null,{"$f":"IF(OR(ISBLANK(H253),H253=EUconst_NoTier),\"\",IF(S253=0,EUconst_NA,IF(ISERROR(S253),\"\",EUconst_MsgTierActivityLevel & \" \" &S253)))","v":""},null,null,null,null,null,null,null,{"$f":"EUconst_CNTR_ActivityData&H226","v":"ActivityData_"},null,{"$f":"IF(ISBLANK(H253),\"\",IF(H253=EUconst_NA,\"\",INDEX(EUwideConstants!$H:$O,MATCH(Q253,EUwideConstants!$S:$S,0),MATCH(H253,CNTR_TierList,0))))","v":""},null,{"$f":"U252","v":""},2,{"$f":"IF($L$6=EUconst_NotRelevant,TRUE,IF(V253>0,(V253<>U253),IF(U253=\"\",TRUE,FALSE)))","v":true}]
[null,null,null,"(m)",{"$f":"Translations!$B$479","v":"Postignuta nesigurnost:"},null,null,null,{"$f":"Translations!$B$480","v":"Komentar:"},null,null,null,null,null,null,null,null,null,null,null,{"$f":"U253","v":""},2,{"$f":"IF($L$6=EUconst_NotRelevant,TRUE,IF(V254>0,(V254<>U254),IF(U254=\"\",TRUE,FALSE)))","v":true}]
[]
[null,null,null,{"$f":"Translations!$B$657","v":"Metoda B: Trenutna učinkovitost"}]
[null,null,null,"(n)",{"$f":"Translations!$B$477","v":"Zahtijevana razina točnosti za podatak o djelatnosti:"},null,null,{"$f":"IF(W257,\"\",H237)","v":""},{"$f":"IF(W257,\"\",I237)","v":""},null,null,null,null,null,null,null,null,null,null,null,{"$f":"U254","v":""},2,{"$f":"IF($L$6=EUconst_NotRelevant,TRUE,IF(V257>0,(V257<>U257),IF(U257=\"\",TRUE,FALSE)))","v":true}]
[null,null,null,"(o)",{"$f":"Translations!$B$478","v":"Korištena razina točnosti za podatak o djelatnosti:"},null,null,null,{"$f":"IF(OR(ISBLANK(H258),H258=EUconst_NoTier),\"\",IF(S258=0,EUconst_NA,IF(ISERROR(S258),\"\",EUconst_MsgTierActivityLevel & \" \" &S258)))","v":""},null,null,null,null,null,null,null,{"$f":"EUconst_CNTR_ActivityData&H226","v":"ActivityData_"},null,{"$f":"IF(ISBLANK(H258),\"\",IF(H258=EUconst_NA,\"\",INDEX(EUwideConstants!$H:$O,MATCH(Q258,EUwideConstants!$S:$S,0),MATCH(H258,CNTR_TierList,0))))","v":""},null,{"$f":"U257","v":""},2,{"$f":"IF($L$6=EUconst_NotRelevant,TRUE,IF(V258>0,(V258<>U258),IF(U258=\"\",TRUE,FALSE)))","v":true}]
[null,null,null,"(p)",{"$f":"Translations!$B$479","v":"Postignuta nesigurnost:"},null,null,null,{"$f":"Translations!$B$480","v":"Komentar:"},null,null,null,null,null,null,null,null,null,null,null,{"$f":"U258","v":""},2,{"$f":"IF($L$6=EUconst_NotRelevant,TRUE,IF(V259>0,(V259<>U259),IF(U259=\"\",TRUE,FALSE)))","v":true}]
[]
[null,null,null,{"$f":"Translations!$B$658","v":"Faktori proračuna"}]
[null,null,null,"(q)",{"$f":"Translations!$B$659","v":"Primjenjene razine točnosti"}]
[]
[null,null,null,null,{"$f":"Translations!$B$516","v":"Faktor proračuna:"},null,null,{"$f":"Translations!$B$517","v":"Zahtijevana razina točnosti:"},{"$f":"Translations!$B$518","v":"Korištena razina točnosti:"},{"$f":"Translations!$B$519","v":"Puni tekst za korištenu razinu točnosti"},null,null,null,null,null,null,null,null,"full text tier"]
[null,null,null,"i.",{"$f":"Translations!$B$660","v":"SEF (CF4) Nagibni emisijski faktor"},null,null,{"$f":"IF(H226=\"\",\"\",IF(W265=FALSE,IF(CNTR_Category=\"A\",INDEX(EUwideConstants!$G:$G,MATCH(Q265,EUwideConstants!$S:$S,0)),INDEX(EUwideConstants!$P:$P,MATCH(Q265,EUwideConstants!$S:$S,0))),\"\"))","v":""},null,{"$f":"IF(OR(ISBLANK(I265),I265=EUconst_NoTier),\"\",IF(S265=0,EUconst_NotApplicable,IF(ISERROR(S265),\"\",S265)))","v":""},null,null,null,null,null,null,{"$f":"EUconst_CNTR_EF&H226","v":"EF_"},null,{"$f":"IF(ISBLANK(I265),\"\",IF(I265=EUconst_NA,\"\",INDEX(EUwideConstants!$H:$O,MATCH(Q265,EUwideConstants!$S:$S,0),MATCH(I265,CNTR_TierList,0))))","v":""},null,{"$f":"U259","v":""},1,{"$f":"IF($L$6=EUconst_NotRelevant,TRUE,IF(V265>0,(V265<>U265),IF(U265=\"\",TRUE,FALSE)))","v":true}]
[null,null,null,"ii.",{"$f":"Translations!$B$661","v":"OVC (koeficijent prednapona)"},null,null,{"$f":"IF(H227=\"\",\"\",IF(W266=FALSE,IF(CNTR_Category=\"A\",INDEX(EUwideConstants!$G:$G,MATCH(Q266,EUwideConstants!$S:$S,0)),INDEX(EUwideConstants!$P:$P,MATCH(Q266,EUwideConstants!$S:$S,0))),\"\"))","v":""},null,{"$f":"IF(OR(ISBLANK(I266),I266=EUconst_NoTier),\"\",IF(S266=0,EUconst_NotApplicable,IF(ISERROR(S266),\"\",S266)))","v":""},null,null,null,null,null,null,{"$f":"EUconst_CNTR_EF&H226","v":"EF_"},null,{"$f":"IF(ISBLANK(I266),\"\",IF(I266=EUconst_NA,\"\",INDEX(EUwideConstants!$H:$O,MATCH(Q266,EUwideConstants!$S:$S,0),MATCH(I266,CNTR_TierList,0))))","v":""},null,{"$f":"U265","v":""},2,{"$f":"IF($L$6=EUconst_NotRelevant,TRUE,IF(V266>0,(V266<>U266),IF(U266=\"\",TRUE,FALSE)))","v":true}]
[null,null,null,"iii.",{"$f":"Translations!$B$662","v":"F(C2F6) Maseni udio C2F6"},null,null,{"$f":"IF(H228=\"\",\"\",IF(W267=FALSE,IF(CNTR_Category=\"A\",INDEX(EUwideConstants!$G:$G,MATCH(Q267,EUwideConstants!$S:$S,0)),INDEX(EUwideConstants!$P:$P,MATCH(Q267,EUwideConstants!$S:$S,0))),\"\"))","v":""},null,{"$f":"IF(OR(ISBLANK(I267),I267=EUconst_NoTier),\"\",IF(S267=0,EUconst_NotApplicable,IF(ISERROR(S267),\"\",S267)))","v":""},null,null,null,null,null,null,{"$f":"EUconst_CNTR_EF&H226","v":"EF_"},null,{"$f":"IF(ISBLANK(I267),\"\",IF(I267=EUconst_NA,\"\",INDEX(EUwideConstants!$H:$O,MATCH(Q267,EUwideConstants!$S:$S,0),MATCH(I267,CNTR_TierList,0))))","v":""},null,{"$f":"U266","v":""},0,{"$f":"IF($L$6=EUconst_NotRelevant,TRUE,IF(V267>0,(V267<>U267),IF(U267=\"\",TRUE,FALSE)))","v":true}]
[]
[null,null,null,"(r)",{"$f":"Translations!$B$663","v":"Detalji o razini točnosti"}]
[]
[null,null,null,null,{"$f":"Translations!$B$516","v":"Faktor proračuna:"},null,null,{"$f":"I264","v":"Korištena razina točnosti:"},{"$f":"Translations!$B$664","v":"zadana ili najnovija vrijednost"},{"$f":"Translations!$B$536","v":"Jedinica"},{"$f":"Translations!$B$537","v":"Oznaka izvora"},{"$f":"Translations!$B$538","v":"Oznaka analize"},{"$f":"Translations!$B$665","v":"datum najnovije analize"},{"$f":"Translations!$B$540","v":"Učestalost analiza"},null,null,null,null,"default value or lab"]
[null,null,null,"i.",{"$f":"E265","v":"SEF (CF4) Nagibni emisijski faktor"},null,null,{"$f":"IF(OR(ISBLANK(I265),I265=EUconst_NA),\"\",I265)","v":""},null,null,null,null,null,null,null,null,{"$f":"Q265","v":"EF_"},null,{"$f":"IF(H272=\"\",\"\",IF(I265=EUconst_NA,\"\",INDEX(EUwideConstants!$AL:$AP,MATCH(Q265,EUwideConstants!$S:$S,0),MATCH(I265,CNTR_TierList,0))))","v":""},null,{"$f":"U267","v":""},1,{"$f":"IF($L$6=EUconst_NotRelevant,TRUE,IF(V272>0,(V272<>U272),IF(U272=\"\",TRUE,FALSE)))","v":true}]
[null,null,null,"ii.",{"$f":"E266","v":"OVC (koeficijent prednapona)"},null,null,{"$f":"IF(OR(ISBLANK(I266),I266=EUconst_NA),\"\",I266)","v":""},null,null,null,null,null,null,null,null,{"$f":"Q266","v":"EF_"},null,{"$f":"IF(H273=\"\",\"\",IF(I266=EUconst_NA,\"\",INDEX(EUwideConstants!$AL:$AP,MATCH(Q266,EUwideConstants!$S:$S,0),MATCH(I266,CNTR_TierList,0))))","v":""},null,{"$f":"U272","v":""},2,{"$f":"IF($L$6=EUconst_NotRelevant,TRUE,IF(V273>0,(V273<>U273),IF(U273=\"\",TRUE,FALSE)))","v":true}]
[null,null,null,"iii.",{"$f":"E267","v":"F(C2F6) Maseni udio C2F6"},null,null,{"$f":"IF(OR(ISBLANK(I267),I267=EUconst_NA),\"\",I267)","v":""},null,null,null,null,null,null,null,null,{"$f":"Q267","v":"EF_"},null,{"$f":"IF(H274=\"\",\"\",IF(I267=EUconst_NA,\"\",INDEX(EUwideConstants!$AL:$AP,MATCH(Q267,EUwideConstants!$S:$S,0),MATCH(I267,CNTR_TierList,0))))","v":""},null,{"$f":"U273","v":""},0,{"$f":"IF($L$6=EUconst_NotRelevant,TRUE,IF(V274>0,(V274<>U274),IF(U274=\"\",TRUE,FALSE)))","v":true}]
[]
[null,null,null,{"$f":"Translations!$B$666","v":"Učinkovitost prikupljanja podataka o fugitivnim emisijama"}]
[null,null,null,"(s)",{"$f":"Translations!$B$667","v":"Određivanje učinkovitosti prikupljanja podataka"}]
[]
[null,null,null,null,null,null,null,null,{"$f":"Translations!$B$664","v":"zadana ili najnovija vrijednost"},{"$f":"Translations!$B$536","v":"Jedinica"},{"$f":"Translations!$B$537","v":"Oznaka izvora"},{"$f":"Translations!$B$538","v":"Oznaka analize"},{"$f":"Translations!$B$665","v":"datum najnovije analize"},{"$f":"Translations!$B$540","v":"Učestalost analiza"}]
[null,null,null,null,{"$f":"Translations!$B$668","v":"Učinkovitost prikupljanja  "},null,null,null,null,null,null,null,null,null,null,null,null,null,null,null,{"$f":"U274","v":""},0,{"$f":"IF($L$6=EUconst_NotRelevant,TRUE,IF(V280>0,(V280<>U280),IF(U280=\"\",TRUE,FALSE)))","v":true}]
[]
[null,null,null,{"$f":"Translations!$B$44","v":"Komentari"}]
[null,null,null,"(t)",{"$f":"Translations!$B$546","v":"Komentari:"}]
[]
[null,null,null,null,null,null,null,null,null,null,null,null,null,null,null,null,null,null,null,null,{"$f":"U280","v":""},0,{"$f":"IF($L$6=EUconst_NotRelevant,TRUE,IF(V285>0,(V285<>U285),IF(U285=\"\",TRUE,FALSE)))","v":true}]
[null,null,null,null,null,null,null,null,null,null,null,null,null,null,null,null,null,null,null,null,{"$f":"U285","v":""},0,{"$f":"IF($L$6=EUconst_NotRelevant,TRUE,IF(V286>0,(V286<>U286),IF(U286=\"\",TRUE,FALSE)))","v":true}]
[null,null,null,null,null,null,null,null,null,null,null,null,null,null,null,null,null,null,null,null,{"$f":"U286","v":""},0,{"$f":"IF($L$6=EUconst_NotRelevant,TRUE,IF(V287>0,(V287<>U287),IF(U287=\"\",TRUE,FALSE)))","v":true}]
[]
[null,null,null,"(u)",{"$f":"Translations!$B$548","v":"Obrazloženje ako zahtijevane razine točnosti nisu primjenjene:\n"}]
[]
[null,null,null,null,null,null,null,null,null,null,null,null,null,null,null,null,null,null,null,null,{"$f":"U287","v":""},0,{"$f":"IF($L$6=EUconst_NotRelevant,TRUE,IF(V291>0,(V291<>U291),IF(U291=\"\",TRUE,FALSE)))","v":true}]
[null,null,null,null,null,null,null,null,null,null,null,null,null,null,null,null,null,null,null,null,{"$f":"U291","v":""},0,{"$f":"IF($L$6=EUconst_NotRelevant,TRUE,IF(V292>0,(V292<>U292),IF(U292=\"\",TRUE,FALSE)))","v":true}]
[null,null,null,null,null,null,null,null,null,null,null,null,null,null,null,null,null,null,null,null,{"$f":"U292","v":""},0,{"$f":"IF($L$6=EUconst_NotRelevant,TRUE,IF(V293>0,(V293<>U293),IF(U293=\"\",TRUE,FALSE)))","v":true}]
[]
[]
[null,null,{"$f":"INDEX($D$50:$D$55,Q296)","v":""},{"$f":"CONCATENATE(Euconst_SourceStream,\" \", Q296,\":\")","v":"Tok izvora 4:"},null,null,null,{"$f":"IF(INDEX($E$50:$E$55,Q296)=\"\",\"\",INDEX($E$50:$E$55,Q296))","v":""},null,null,null,null,{"$f":"IF(S296=TRUE,IF(U296=\"\",T296,U296),\"\")","v":""},null,null,null,{"$f":"Q224+1","v":4},null,{"$f":"IF(INDEX('C_Opis postrojenja'!$M:$M,MATCH(Q298,'C_Opis postrojenja'!$Q:$Q,0))=\"\",FALSE,TRUE)","v":false},{"$f":"IF(S296=TRUE,INDEX('C_Opis postrojenja'!$M:$M,MATCH(Q298,'C_Opis postrojenja'!$Q:$Q,0)),\"\")","v":""},{"$f":"IF(S296=TRUE,IF(ISBLANK(INDEX('C_Opis postrojenja'!$N:$N,MATCH(Q298,'C_Opis postrojenja'!$Q:$Q,0))),\"\",INDEX('C_Opis postrojenja'!$N:$N,MATCH(Q298,'C_Opis postrojenja'!$Q:$Q,0))),\"\")","v":""},{"$f":"IF(ISNUMBER(INDEX(CNTR_ListPFCmethods,Q296)),INDEX(CNTR_ListPFCmethods,Q296),\"\")","v":""}]
[]
[null,null,null,null,{"$f":"Translations!$B$437","v":"Vrsta toka izvora:"},null,null,{"$f":"IF(INDEX($H$50:$H$55,Q296)=\"\",\"\",INDEX($H$50:$H$55,Q296))","v":""},null,null,null,null,null,null,null,null,{"$f":"EUconst_CNTR_SourceCategory&C296","v":"SourceCategory_"}]
[null,null,null,null,{"$f":"Translations!$B$438","v":"Primijenjiva metoda prema Uredbi:"},null,null,{"$f":"IF(H298=\"\",\"\",INDEX(EUwideConstants!$F$265:$F$325,MATCH(H298,EUConst_TierActivityListNames,0)))","v":""}]
[null,null,null,null,{"$f":"Translations!$B$439","v":"Parametar na koji se odnosi nesigurnost:"},null,null,{"$f":"IF(H298=\"\",\"\",INDEX(EUwideConstants!$E$265:$E$325,MATCH(H298,EUConst_TierActivityListNames,0)))","v":""}]
[]
[null,null,null,{"$f":"Translations!$B$446","v":"Automatske upute o primjenjivim razinama točnosti:"}]
[]
[null,null,null,null,{"$f":"IF(H296=\"\",\"\",INDEX(EUconst_SmallEmiSouStreamMsg,MATCH(Q304,EUconst_SmallEmiSouStream,0)))","v":""},null,null,null,null,null,null,null,null,null,null,null,{"$f":"IF(ISBLANK(CNTR_SmallEmitter),IF(CNTR_SmallEmitter=TRUE,EUconst_CNTR_SmallEmitter,EUconst_CNTR_NoSmallEmitter),EUconst_CNTR_NoSmallEmitter) & IF((CNTR_Category)=\"\",\"C\",CNTR_Category) & \"_\" & IF(M296=\"\",1,MATCH(M296,SourceCategory,0))","v":"NoSmallEmitter_C_1"}]
[]
[null,null,null,{"$f":"Translations!$B$652","v":"Podaci o djelatnostima"}]
[]
[null,null,null,{"$f":"Translations!$B$653","v":"Primarna proizvodnja aluminija:"},null,null,null,null,null,null,null,null,null,null,null,null,null,null,null,null,"Stream method","Relevant method","Make grey?"]
[null,null,null,"(b)",{"$f":"Translations!$B$477","v":"Zahtijevana razina točnosti za podatak o djelatnosti:"},null,null,{"$f":"IF(H298=\"\",\"\",IF(CNTR_Category=\"A\",INDEX(EUwideConstants!$G:$G,MATCH(Q309,EUwideConstants!$S:$S,0)),INDEX(EUwideConstants!$P:$P,MATCH(Q309,EUwideConstants!$S:$S,0))))","v":""},{"$f":"IF(H309=\"\",\"\",IF(S309=0,EUconst_NA,IF(ISERROR(S309),\"\",EUconst_MsgTierActivityLevel & \" \" &S309)))","v":""},null,null,null,null,null,null,null,{"$f":"EUconst_CNTR_ActivityData&H298","v":"ActivityData_"},null,{"$f":"IF(H309=\"\",\"\",IF(H309=EUconst_NA,\"\",INDEX(EUwideConstants!$H:$O,MATCH(Q309,EUwideConstants!$S:$S,0),MATCH(H309,CNTR_TierList,0))))","v":""},null,{"$f":"V296","v":""},0,{"$f":"IF($L$6=EUconst_NotRelevant,TRUE,IF(V309>0,(V309<>U309),IF(U309=\"\",TRUE,FALSE)))","v":true}]
[null,null,null,"(c)",{"$f":"Translations!$B$478","v":"Korištena razina točnosti za podatak o djelatnosti:"},null,null,null,{"$f":"IF(OR(ISBLANK(H310),H310=EUconst_NoTier),\"\",IF(S310=0,EUconst_NA,IF(ISERROR(S310),\"\",EUconst_MsgTierActivityLevel & \" \" &S310)))","v":""},null,null,null,null,null,null,null,{"$f":"EUconst_CNTR_ActivityData&H298","v":"ActivityData_"},null,{"$f":"IF(ISBLANK(H310),\"\",IF(H310=EUconst_NA,\"\",INDEX(EUwideConstants!$H:$O,MATCH(Q310,EUwideConstants!$S:$S,0),MATCH(H310,CNTR_TierList,0))))","v":""},null,{"$f":"U309","v":""},0,{"$f":"IF($L$6=EUconst_NotRelevant,TRUE,IF(V310>0,(V310<>U310),IF(U310=\"\",TRUE,FALSE)))","v":true}]
[null,null,null,"(d)",{"$f":"Translations!$B$479","v":"Postignuta nesigurnost:"},null,null,null,{"$f":"Translations!$B$480","v":"Komentar:"},null,null,null,null,null,null,null,null,null,null,null,{"$f":"U310","v":""},0,{"$f":"IF($L$6=EUconst_NotRelevant,TRUE,IF(V311>0,(V311<>U311),IF(U311=\"\",TRUE,FALSE)))","v":true}]
[]
[null,null,null,{"$f":"Translations!$B$654","v":"Metoda A: broj anodnog učinka ćelija po danu"}]
[null,null,null,"(e)",{"$f":"Translations!$B$477","v":"Zahtijevana razina točnosti za podatak o djelatnosti:"},null,null,{"$f":"IF(W314,\"\",H309)","v":""},{"$f":"IF(W314,\"\",I309)","v":""},null,null,null,null,null,null,null,null,null,null,null,{"$f":"U311","v":""},1,{"$f":"IF($L$6=EUconst_NotRelevant,TRUE,IF(V314>0,(V314<>U314),IF(U314=\"\",TRUE,FALSE)))","v":true}]
[null,null,null,"(f)",{"$f":"Translations!$B$478","v":"Korištena razina točnosti za podatak o djelatnosti:"},null,null,null,{"$f":"IF(OR(ISBLANK(H315),H315=EUconst_NoTier),\"\",IF(S315=0,EUconst_NA,IF(ISERROR(S315),\"\",EUconst_MsgTierActivityLevel & \" \" &S315)))","v":""},null,null,null,null,null,null,null,{"$f":"EUconst_CNTR_ActivityData&H298","v":"ActivityData_"},null,{"$f":"IF(ISBLANK(H315),\"\",IF(H315=EUconst_NA,\"\",INDEX(EUwideConstants!$H:$O,MATCH(Q315,EUwideConstants!$S:$S,0),MATCH(H315,CNTR_TierList,0))))","v":""},null,{"$f":"U314","v":""},1,{"$f":"IF($L$6=EUconst_NotRelevant,TRUE,IF(V315>0,(V315<>U315),IF(U315=\"\",TRUE,FALSE)))","v":true}]
[null,null,null,"(g)",{"$f":"Translations!$B$479","v":"Postignuta nesigurnost:"},null,null,null,{"$f":"Translations!$B$480","v":"Komentar:"},null,null,null,null,null,null,null,null,null,null,null,{"$f":"U315","v":""},1,{"$f":"IF($L$6=EUconst_NotRelevant,TRUE,IF(V316>0,(V316<>U316),IF(U316=\"\",TRUE,FALSE)))","v":true}]
[]
[null,null,null,{"$f":"Translations!$B$655","v":"Metoda A: prosjek anodnog učinka minute po pojavi "}]
[null,null,null,"(h)",{"$f":"Translations!$B$477","v":"Zahtijevana razina točnosti za podatak o djelatnosti:"},null,null,{"$f":"IF(W319,\"\",H309)","v":""},{"$f":"IF(W319,\"\",I309)","v":""},null,null,null,null,null,null,null,null,null,null,null,{"$f":"U316","v":""},1,{"$f":"IF($L$6=EUconst_NotRelevant,TRUE,IF(V319>0,(V319<>U319),IF(U319=\"\",TRUE,FALSE)))","v":true}]
[null,null,null,"(i)",{"$f":"Translations!$B$478","v":"Korištena razina točnosti za podatak o djelatnosti:"},null,null,null,{"$f":"IF(OR(ISBLANK(H320),H320=EUconst_NoTier),\"\",IF(S320=0,EUconst_NA,IF(ISERROR(S320),\"\",EUconst_MsgTierActivityLevel & \" \" &S320)))","v":""},null,null,null,null,null,null,null,{"$f":"EUconst_CNTR_ActivityData&H298","v":"ActivityData_"},null,{"$f":"IF(ISBLANK(H320),\"\",IF(H320=EUconst_NA,\"\",INDEX(EUwideConstants!$H:$O,MATCH(Q320,EUwideConstants!$S:$S,0),MATCH(H320,CNTR_TierList,0))))","v":""},null,{"$f":"U319","v":""},1,{"$f":"IF($L$6=EUconst_NotRelevant,TRUE,IF(V320>0,(V320<>U320),IF(U320=\"\",TRUE,FALSE)))","v":true}]
[null,null,null,"(j)",{"$f":"Translations!$B$479","v":"Postignuta nesigurnost:"},null,null,null,{"$f":"Translations!$B$480","v":"Komentar:"},null,null,null,null,null,null,null,null,null,null,null,{"$f":"U320","v":""},1,{"$f":"IF($L$6=EUconst_NotRelevant,TRUE,IF(V321>0,(V321<>U321),IF(U321=\"\",TRUE,FALSE)))","v":true}]
[]
[null,null,null,{"$f":"Translations!$B$656","v":"Metoda B: anodni učinak prednapona po ćeliji"}]
[null,null,null,"(k)",{"$f":"Translations!$B$477","v":"Zahtijevana razina točnosti za podatak o djelatnosti:"},null,null,{"$f":"IF(W324,\"\",H309)","v":""},{"$f":"IF(W324,\"\",I309)","v":""},null,null,null,null,null,null,null,null,null,null,null,{"$f":"U321","v":""},2,{"$f":"IF($L$6=EUconst_NotRelevant,TRUE,IF(V324>0,(V324<>U324),IF(U324=\"\",TRUE,FALSE)))","v":true}]
[null,null,null,"(l)",{"$f":"Translations!$B$478","v":"Korištena razina točnosti za podatak o djelatnosti:"},null,null,null,{"$f":"IF(OR(ISBLANK(H325),H325=EUconst_NoTier),\"\",IF(S325=0,EUconst_NA,IF(ISERROR(S325),\"\",EUconst_MsgTierActivityLevel & \" \" &S325)))","v":""},null,null,null,null,null,null,null,{"$f":"EUconst_CNTR_ActivityData&H298","v":"ActivityData_"},null,{"$f":"IF(ISBLANK(H325),\"\",IF(H325=EUconst_NA,\"\",INDEX(EUwideConstants!$H:$O,MATCH(Q325,EUwideConstants!$S:$S,0),MATCH(H325,CNTR_TierList,0))))","v":""},null,{"$f":"U324","v":""},2,{"$f":"IF($L$6=EUconst_NotRelevant,TRUE,IF(V325>0,(V325<>U325),IF(U325=\"\",TRUE,FALSE)))","v":true}]
[null,null,null,"(m)",{"$f":"Translations!$B$479","v":"Postignuta nesigurnost:"},null,null,null,{"$f":"Translations!$B$480","v":"Komentar:"},null,null,null,null,null,null,null,null,null,null,null,{"$f":"U325","v":""},2,{"$f":"IF($L$6=EUconst_NotRelevant,TRUE,IF(V326>0,(V326<>U326),IF(U326=\"\",TRUE,FALSE)))","v":true}]
[]
[null,null,null,{"$f":"Translations!$B$657","v":"Metoda B: Trenutna učinkovitost"}]
[null,null,null,"(n)",{"$f":"Translations!$B$477","v":"Zahtijevana razina točnosti za podatak o djelatnosti:"},null,null,{"$f":"IF(W329,\"\",H309)","v":""},{"$f":"IF(W329,\"\",I309)","v":""},null,null,null,null,null,null,null,null,null,null,null,{"$f":"U326","v":""},2,{"$f":"IF($L$6=EUconst_NotRelevant,TRUE,IF(V329>0,(V329<>U329),IF(U329=\"\",TRUE,FALSE)))","v":true}]
[null,null,null,"(o)",{"$f":"Translations!$B$478","v":"Korištena razina točnosti za podatak o djelatnosti:"},null,null,null,{"$f":"IF(OR(ISBLANK(H330),H330=EUconst_NoTier),\"\",IF(S330=0,EUconst_NA,IF(ISERROR(S330),\"\",EUconst_MsgTierActivityLevel & \" \" &S330)))","v":""},null,null,null,null,null,null,null,{"$f":"EUconst_CNTR_ActivityData&H298","v":"ActivityData_"},null,{"$f":"IF(ISBLANK(H330),\"\",IF(H330=EUconst_NA,\"\",INDEX(EUwideConstants!$H:$O,MATCH(Q330,EUwideConstants!$S:$S,0),MATCH(H330,CNTR_TierList,0))))","v":""},null,{"$f":"U329","v":""},2,{"$f":"IF($L$6=EUconst_NotRelevant,TRUE,IF(V330>0,(V330<>U330),IF(U330=\"\",TRUE,FALSE)))","v":true}]
[null,null,null,"(p)",{"$f":"Translations!$B$479","v":"Postignuta nesigurnost:"},null,null,null,{"$f":"Translations!$B$480","v":"Komentar:"},null,null,null,null,null,null,null,null,null,null,null,{"$f":"U330","v":""},2,{"$f":"IF($L$6=EUconst_NotRelevant,TRUE,IF(V331>0,(V331<>U331),IF(U331=\"\",TRUE,FALSE)))","v":true}]
[]
[null,null,null,{"$f":"Translations!$B$658","v":"Faktori proračuna"}]
[null,null,null,"(q)",{"$f":"Translations!$B$659","v":"Primjenjene razine točnosti"}]
[]
[null,null,null,null,{"$f":"Translations!$B$516","v":"Faktor proračuna:"},null,null,{"$f":"Translations!$B$517","v":"Zahtijevana razina točnosti:"},{"$f":"Translations!$B$518","v":"Korištena razina točnosti:"},{"$f":"Translations!$B$519","v":"Puni tekst za korištenu razinu točnosti"},null,null,null,null,null,null,null,null,"full text tier"]
[null,null,null,"i.",{"$f":"Translations!$B$660","v":"SEF (CF4) Nagibni emisijski faktor"},null,null,{"$f":"IF(H298=\"\",\"\",IF(W337=FALSE,IF(CNTR_Category=\"A\",INDEX(EUwideConstants!$G:$G,MATCH(Q337,EUwideConstants!$S:$S,0)),INDEX(EUwideConstants!$P:$P,MATCH(Q337,EUwideConstants!$S:$S,0))),\"\"))","v":""},null,{"$f":"IF(OR(ISBLANK(I337),I337=EUconst_NoTier),\"\",IF(S337=0,EUconst_NotApplicable,IF(ISERROR(S337),\"\",S337)))","v":""},null,null,null,null,null,null,{"$f":"EUconst_CNTR_EF&H298","v":"EF_"},null,{"$f":"IF(ISBLANK(I337),\"\",IF(I337=EUconst_NA,\"\",INDEX(EUwideConstants!$H:$O,MATCH(Q337,EUwideConstants!$S:$S,0),MATCH(I337,CNTR_TierList,0))))","v":""},null,{"$f":"U331","v":""},1,{"$f":"IF($L$6=EUconst_NotRelevant,TRUE,IF(V337>0,(V337<>U337),IF(U337=\"\",TRUE,FALSE)))","v":true}]
[null,null,null,"ii.",{"$f":"Translations!$B$661","v":"OVC (koeficijent prednapona)"},null,null,{"$f":"IF(H299=\"\",\"\",IF(W338=FALSE,IF(CNTR_Category=\"A\",INDEX(EUwideConstants!$G:$G,MATCH(Q338,EUwideConstants!$S:$S,0)),INDEX(EUwideConstants!$P:$P,MATCH(Q338,EUwideConstants!$S:$S,0))),\"\"))","v":""},null,{"$f":"IF(OR(ISBLANK(I338),I338=EUconst_NoTier),\"\",IF(S338=0,EUconst_NotApplicable,IF(ISERROR(S338),\"\",S338)))","v":""},null,null,null,null,null,null,{"$f":"EUconst_CNTR_EF&H298","v":"EF_"},null,{"$f":"IF(ISBLANK(I338),\"\",IF(I338=EUconst_NA,\"\",INDEX(EUwideConstants!$H:$O,MATCH(Q338,EUwideConstants!$S:$S,0),MATCH(I338,CNTR_TierList,0))))","v":""},null,{"$f":"U337","v":""},2,{"$f":"IF($L$6=EUconst_NotRelevant,TRUE,IF(V338>0,(V338<>U338),IF(U338=\"\",TRUE,FALSE)))","v":true}]
[null,null,null,"iii.",{"$f":"Translations!$B$662","v":"F(C2F6) Maseni udio C2F6"},null,null,{"$f":"IF(H300=\"\",\"\",IF(W339=FALSE,IF(CNTR_Category=\"A\",INDEX(EUwideConstants!$G:$G,MATCH(Q339,EUwideConstants!$S:$S,0)),INDEX(EUwideConstants!$P:$P,MATCH(Q339,EUwideConstants!$S:$S,0))),\"\"))","v":""},null,{"$f":"IF(OR(ISBLANK(I339),I339=EUconst_NoTier),\"\",IF(S339=0,EUconst_NotApplicable,IF(ISERROR(S339),\"\",S339)))","v":""},null,null,null,null,null,null,{"$f":"EUconst_CNTR_EF&H298","v":"EF_"},null,{"$f":"IF(ISBLANK(I339),\"\",IF(I339=EUconst_NA,\"\",INDEX(EUwideConstants!$H:$O,MATCH(Q339,EUwideConstants!$S:$S,0),MATCH(I339,CNTR_TierList,0))))","v":""},null,{"$f":"U338","v":""},0,{"$f":"IF($L$6=EUconst_NotRelevant,TRUE,IF(V339>0,(V339<>U339),IF(U339=\"\",TRUE,FALSE)))","v":true}]
[]
[null,null,null,"(r)",{"$f":"Translations!$B$663","v":"Detalji o razini točnosti"}]
[]
[null,null,null,null,{"$f":"Translations!$B$516","v":"Faktor proračuna:"},null,null,{"$f":"I336","v":"Korištena razina točnosti:"},{"$f":"Translations!$B$664","v":"zadana ili najnovija vrijednost"},{"$f":"Translations!$B$536","v":"Jedinica"},{"$f":"Translations!$B$537","v":"Oznaka izvora"},{"$f":"Translations!$B$538","v":"Oznaka analize"},{"$f":"Translations!$B$665","v":"datum najnovije analize"},{"$f":"Translations!$B$540","v":"Učestalost analiza"},null,null,null,null,"default value or lab"]
[null,null,null,"i.",{"$f":"E337","v":"SEF (CF4) Nagibni emisijski faktor"},null,null,{"$f":"IF(OR(ISBLANK(I337),I337=EUconst_NA),\"\",I337)","v":""},null,null,null,null,null,null,null,null,{"$f":"Q337","v":"EF_"},null,{"$f":"IF(H344=\"\",\"\",IF(I337=EUconst_NA,\"\",INDEX(EUwideConstants!$AL:$AP,MATCH(Q337,EUwideConstants!$S:$S,0),MATCH(I337,CNTR_TierList,0))))","v":""},null,{"$f":"U339","v":""},1,{"$f":"IF($L$6=EUconst_NotRelevant,TRUE,IF(V344>0,(V344<>U344),IF(U344=\"\",TRUE,FALSE)))","v":true}]
[null,null,null,"ii.",{"$f":"E338","v":"OVC (koeficijent prednapona)"},null,null,{"$f":"IF(OR(ISBLANK(I338),I338=EUconst_NA),\"\",I338)","v":""},null,null,null,null,null,null,null,null,{"$f":"Q338","v":"EF_"},null,{"$f":"IF(H345=\"\",\"\",IF(I338=EUconst_NA,\"\",INDEX(EUwideConstants!$AL:$AP,MATCH(Q338,EUwideConstants!$S:$S,0),MATCH(I338,CNTR_TierList,0))))","v":""},null,{"$f":"U344","v":""},2,{"$f":"IF($L$6=EUconst_NotRelevant,TRUE,IF(V345>0,(V345<>U345),IF(U345=\"\",TRUE,FALSE)))","v":true}]
[null,null,null,"iii.",{"$f":"E339","v":"F(C2F6) Maseni udio C2F6"},null,null,{"$f":"IF(OR(ISBLANK(I339),I339=EUconst_NA),\"\",I339)","v":""},null,null,null,null,null,null,null,null,{"$f":"Q339","v":"EF_"},null,{"$f":"IF(H346=\"\",\"\",IF(I339=EUconst_NA,\"\",INDEX(EUwideConstants!$AL:$AP,MATCH(Q339,EUwideConstants!$S:$S,0),MATCH(I339,CNTR_TierList,0))))","v":""},null,{"$f":"U345","v":""},0,{"$f":"IF($L$6=EUconst_NotRelevant,TRUE,IF(V346>0,(V346<>U346),IF(U346=\"\",TRUE,FALSE)))","v":true}]
[]
[null,null,null,{"$f":"Translations!$B$666","v":"Učinkovitost prikupljanja podataka o fugitivnim emisijama"}]
[null,null,null,"(s)",{"$f":"Translations!$B$667","v":"Određivanje učinkovitosti prikupljanja podataka"}]
[]
[null,null,null,null,null,null,null,null,{"$f":"Translations!$B$664","v":"zadana ili najnovija vrijednost"},{"$f":"Translations!$B$536","v":"Jedinica"},{"$f":"Translations!$B$537","v":"Oznaka izvora"},{"$f":"Translations!$B$538","v":"Oznaka analize"},{"$f":"Translations!$B$665","v":"datum najnovije analize"},{"$f":"Translations!$B$540","v":"Učestalost analiza"}]
[null,null,null,null,{"$f":"Translations!$B$668","v":"Učinkovitost prikupljanja  "},null,null,null,null,null,null,null,null,null,null,null,null,null,null,null,{"$f":"U346","v":""},0,{"$f":"IF($L$6=EUconst_NotRelevant,TRUE,IF(V352>0,(V352<>U352),IF(U352=\"\",TRUE,FALSE)))","v":true}]
[]
[null,null,null,{"$f":"Translations!$B$44","v":"Komentari"}]
[null,null,null,"(t)",{"$f":"Translations!$B$546","v":"Komentari:"}]
[]
[null,null,null,null,null,null,null,null,null,null,null,null,null,null,null,null,null,null,null,null,{"$f":"U352","v":""},0,{"$f":"IF($L$6=EUconst_NotRelevant,TRUE,IF(V357>0,(V357<>U357),IF(U357=\"\",TRUE,FALSE)))","v":true}]
[null,null,null,null,null,null,null,null,null,null,null,null,null,null,null,null,null,null,null,null,{"$f":"U357","v":""},0,{"$f":"IF($L$6=EUconst_NotRelevant,TRUE,IF(V358>0,(V358<>U358),IF(U358=\"\",TRUE,FALSE)))","v":true}]
[null,null,null,null,null,null,null,null,null,null,null,null,null,null,null,null,null,null,null,null,{"$f":"U358","v":""},0,{"$f":"IF($L$6=EUconst_NotRelevant,TRUE,IF(V359>0,(V359<>U359),IF(U359=\"\",TRUE,FALSE)))","v":true}]
[]
[null,null,null,"(u)",{"$f":"Translations!$B$548","v":"Obrazloženje ako zahtijevane razine točnosti nisu primjenjene:\n"}]
[]
[null,null,null,null,null,null,null,null,null,null,null,null,null,null,null,null,null,null,null,null,{"$f":"U359","v":""},0,{"$f":"IF($L$6=EUconst_NotRelevant,TRUE,IF(V363>0,(V363<>U363),IF(U363=\"\",TRUE,FALSE)))","v":true}]
[null,null,null,null,null,null,null,null,null,null,null,null,null,null,null,null,null,null,null,null,{"$f":"U363","v":""},0,{"$f":"IF($L$6=EUconst_NotRelevant,TRUE,IF(V364>0,(V364<>U364),IF(U364=\"\",TRUE,FALSE)))","v":true}]
[null,null,null,null,null,null,null,null,null,null,null,null,null,null,null,null,null,null,null,null,{"$f":"U364","v":""},0,{"$f":"IF($L$6=EUconst_NotRelevant,TRUE,IF(V365>0,(V365<>U365),IF(U365=\"\",TRUE,FALSE)))","v":true}]
[]
["ADD_CompleteAluSourceStream"]
[null,null,{"$f":"INDEX($D$50:$D$55,Q368)","v":""},{"$f":"CONCATENATE(Euconst_SourceStream,\" \", Q368,\":\")","v":"Tok izvora 5:"},null,null,null,{"$f":"IF(INDEX($E$50:$E$55,Q368)=\"\",\"\",INDEX($E$50:$E$55,Q368))","v":""},null,null,null,null,{"$f":"IF(S368=TRUE,IF(U368=\"\",T368,U368),\"\")","v":""},null,null,null,{"$f":"Q296+1","v":5},null,{"$f":"IF(INDEX('C_Opis postrojenja'!$M:$M,MATCH(Q370,'C_Opis postrojenja'!$Q:$Q,0))=\"\",FALSE,TRUE)","v":false},{"$f":"IF(S368=TRUE,INDEX('C_Opis postrojenja'!$M:$M,MATCH(Q370,'C_Opis postrojenja'!$Q:$Q,0)),\"\")","v":""},{"$f":"IF(S368=TRUE,IF(ISBLANK(INDEX('C_Opis postrojenja'!$N:$N,MATCH(Q370,'C_Opis postrojenja'!$Q:$Q,0))),\"\",INDEX('C_Opis postrojenja'!$N:$N,MATCH(Q370,'C_Opis postrojenja'!$Q:$Q,0))),\"\")","v":""},{"$f":"IF(ISNUMBER(INDEX(CNTR_ListPFCmethods,Q368)),INDEX(CNTR_ListPFCmethods,Q368),\"\")","v":""}]
[]
[null,null,null,null,{"$f":"Translations!$B$437","v":"Vrsta toka izvora:"},null,null,{"$f":"IF(INDEX($H$50:$H$55,Q368)=\"\",\"\",INDEX($H$50:$H$55,Q368))","v":""},null,null,null,null,null,null,null,null,{"$f":"EUconst_CNTR_SourceCategory&C368","v":"SourceCategory_"}]
[null,null,null,null,{"$f":"Translations!$B$438","v":"Primijenjiva metoda prema Uredbi:"},null,null,{"$f":"IF(H370=\"\",\"\",INDEX(EUwideConstants!$F$265:$F$325,MATCH(H370,EUConst_TierActivityListNames,0)))","v":""}]
[null,null,null,null,{"$f":"Translations!$B$439","v":"Parametar na koji se odnosi nesigurnost:"},null,null,{"$f":"IF(H370=\"\",\"\",INDEX(EUwideConstants!$E$265:$E$325,MATCH(H370,EUConst_TierActivityListNames,0)))","v":""}]
[]
[null,null,null,{"$f":"Translations!$B$446","v":"Automatske upute o primjenjivim razinama točnosti:"}]
[]
[null,null,null,null,{"$f":"IF(H368=\"\",\"\",INDEX(EUconst_SmallEmiSouStreamMsg,MATCH(Q376,EUconst_SmallEmiSouStream,0)))","v":""},null,null,null,null,null,null,null,null,null,null,null,{"$f":"IF(ISBLANK(CNTR_SmallEmitter),IF(CNTR_SmallEmitter=TRUE,EUconst_CNTR_SmallEmitter,EUconst_CNTR_NoSmallEmitter),EUconst_CNTR_NoSmallEmitter) & IF((CNTR_Category)=\"\",\"C\",CNTR_Category) & \"_\" & IF(M368=\"\",1,MATCH(M368,SourceCategory,0))","v":"NoSmallEmitter_C_1"}]
[]
[null,null,null,{"$f":"Translations!$B$652","v":"Podaci o djelatnostima"}]
[]
[null,null,null,{"$f":"Translations!$B$653","v":"Primarna proizvodnja aluminija:"},null,null,null,null,null,null,null,null,null,null,null,null,null,null,null,null,"Stream method","Relevant method","Make grey?"]
[null,null,null,"(b)",{"$f":"Translations!$B$477","v":"Zahtijevana razina točnosti za podatak o djelatnosti:"},null,null,{"$f":"IF(H370=\"\",\"\",IF(CNTR_Category=\"A\",INDEX(EUwideConstants!$G:$G,MATCH(Q381,EUwideConstants!$S:$S,0)),INDEX(EUwideConstants!$P:$P,MATCH(Q381,EUwideConstants!$S:$S,0))))","v":""},{"$f":"IF(H381=\"\",\"\",IF(S381=0,EUconst_NA,IF(ISERROR(S381),\"\",EUconst_MsgTierActivityLevel & \" \" &S381)))","v":""},null,null,null,null,null,null,null,{"$f":"EUconst_CNTR_ActivityData&H370","v":"ActivityData_"},null,{"$f":"IF(H381=\"\",\"\",IF(H381=EUconst_NA,\"\",INDEX(EUwideConstants!$H:$O,MATCH(Q381,EUwideConstants!$S:$S,0),MATCH(H381,CNTR_TierList,0))))","v":""},null,{"$f":"V368","v":""},0,{"$f":"IF($L$6=EUconst_NotRelevant,TRUE,IF(V381>0,(V381<>U381),IF(U381=\"\",TRUE,FALSE)))","v":true}]
[null,null,null,"(c)",{"$f":"Translations!$B$478","v":"Korištena razina točnosti za podatak o djelatnosti:"},null,null,null,{"$f":"IF(OR(ISBLANK(H382),H382=EUconst_NoTier),\"\",IF(S382=0,EUconst_NA,IF(ISERROR(S382),\"\",EUconst_MsgTierActivityLevel & \" \" &S382)))","v":""},null,null,null,null,null,null,null,{"$f":"EUconst_CNTR_ActivityData&H370","v":"ActivityData_"},null,{"$f":"IF(ISBLANK(H382),\"\",IF(H382=EUconst_NA,\"\",INDEX(EUwideConstants!$H:$O,MATCH(Q382,EUwideConstants!$S:$S,0),MATCH(H382,CNTR_TierList,0))))","v":""},null,{"$f":"U381","v":""},0,{"$f":"IF($L$6=EUconst_NotRelevant,TRUE,IF(V382>0,(V382<>U382),IF(U382=\"\",TRUE,FALSE)))","v":true}]
[null,null,null,"(d)",{"$f":"Translations!$B$479","v":"Postignuta nesigurnost:"},null,null,null,{"$f":"Translations!$B$480","v":"Komentar:"},null,null,null,null,null,null,null,null,null,null,null,{"$f":"U382","v":""},0,{"$f":"IF($L$6=EUconst_NotRelevant,TRUE,IF(V383>0,(V383<>U383),IF(U383=\"\",TRUE,FALSE)))","v":true}]
[]
[null,null,null,{"$f":"Translations!$B$654","v":"Metoda A: broj anodnog učinka ćelija po danu"}]
[null,null,null,"(e)",{"$f":"Translations!$B$477","v":"Zahtijevana razina točnosti za podatak o djelatnosti:"},null,null,{"$f":"IF(W386,\"\",H381)","v":""},{"$f":"IF(W386,\"\",I381)","v":""},null,null,null,null,null,null,null,null,null,null,null,{"$f":"U383","v":""},1,{"$f":"IF($L$6=EUconst_NotRelevant,TRUE,IF(V386>0,(V386<>U386),IF(U386=\"\",TRUE,FALSE)))","v":true}]
[null,null,null,"(f)",{"$f":"Translations!$B$478","v":"Korištena razina točnosti za podatak o djelatnosti:"},null,null,null,{"$f":"IF(OR(ISBLANK(H387),H387=EUconst_NoTier),\"\",IF(S387=0,EUconst_NA,IF(ISERROR(S387),\"\",EUconst_MsgTierActivityLevel & \" \" &S387)))","v":""},null,null,null,null,null,null,null,{"$f":"EUconst_CNTR_ActivityData&H370","v":"ActivityData_"},null,{"$f":"IF(ISBLANK(H387),\"\",IF(H387=EUconst_NA,\"\",INDEX(EUwideConstants!$H:$O,MATCH(Q387,EUwideConstants!$S:$S,0),MATCH(H387,CNTR_TierList,0))))","v":""},null,{"$f":"U386","v":""},1,{"$f":"IF($L$6=EUconst_NotRelevant,TRUE,IF(V387>0,(V387<>U387),IF(U387=\"\",TRUE,FALSE)))","v":true}]
[null,null,null,"(g)",{"$f":"Translations!$B$479","v":"Postignuta nesigurnost:"},null,null,null,{"$f":"Translations!$B$480","v":"Komentar:"},null,null,null,null,null,null,null,null,null,null,null,{"$f":"U387","v":""},1,{"$f":"IF($L$6=EUconst_NotRelevant,TRUE,IF(V388>0,(V388<>U388),IF(U388=\"\",TRUE,FALSE)))","v":true}]
[]
[null,null,null,{"$f":"Translations!$B$655","v":"Metoda A: prosjek anodnog učinka minute po pojavi "}]
[null,null,null,"(h)",{"$f":"Translations!$B$477","v":"Zahtijevana razina točnosti za podatak o djelatnosti:"},null,null,{"$f":"IF(W391,\"\",H381)","v":""},{"$f":"IF(W391,\"\",I381)","v":""},null,null,null,null,null,null,null,null,null,null,null,{"$f":"U388","v":""},1,{"$f":"IF($L$6=EUconst_NotRelevant,TRUE,IF(V391>0,(V391<>U391),IF(U391=\"\",TRUE,FALSE)))","v":true}]
[null,null,null,"(i)",{"$f":"Translations!$B$478","v":"Korištena razina točnosti za podatak o djelatnosti:"},null,null,null,{"$f":"IF(OR(ISBLANK(H392),H392=EUconst_NoTier),\"\",IF(S392=0,EUconst_NA,IF(ISERROR(S392),\"\",EUconst_MsgTierActivityLevel & \" \" &S392)))","v":""},null,null,null,null,null,null,null,{"$f":"EUconst_CNTR_ActivityData&H370","v":"ActivityData_"},null,{"$f":"IF(ISBLANK(H392),\"\",IF(H392=EUconst_NA,\"\",INDEX(EUwideConstants!$H:$O,MATCH(Q392,EUwideConstants!$S:$S,0),MATCH(H392,CNTR_TierList,0))))","v":""},null,{"$f":"U391","v":""},1,{"$f":"IF($L$6=EUconst_NotRelevant,TRUE,IF(V392>0,(V392<>U392),IF(U392=\"\",TRUE,FALSE)))","v":true}]
[null,null,null,"(j)",{"$f":"Translations!$B$479","v":"Postignuta nesigurnost:"},null,null,null,{"$f":"Translations!$B$480","v":"Komentar:"},null,null,null,null,null,null,null,null,null,null,null,{"$f":"U392","v":""},1,{"$f":"IF($L$6=EUconst_NotRelevant,TRUE,IF(V393>0,(V393<>U393),IF(U393=\"\",TRUE,FALSE)))","v":true}]
[]
[null,null,null,{"$f":"Translations!$B$656","v":"Metoda B: anodni učinak prednapona po ćeliji"}]
[null,null,null,"(k)",{"$f":"Translations!$B$477","v":"Zahtijevana razina točnosti za podatak o djelatnosti:"},null,null,{"$f":"IF(W396,\"\",H381)","v":""},{"$f":"IF(W396,\"\",I381)","v":""},null,null,null,null,null,null,null,null,null,null,null,{"$f":"U393","v":""},2,{"$f":"IF($L$6=EUconst_NotRelevant,TRUE,IF(V396>0,(V396<>U396),IF(U396=\"\",TRUE,FALSE)))","v":true}]
[null,null,null,"(l)",{"$f":"Translations!$B$478","v":"Korištena razina točnosti za podatak o djelatnosti:"},null,null,null,{"$f":"IF(OR(ISBLANK(H397),H397=EUconst_NoTier),\"\",IF(S397=0,EUconst_NA,IF(ISERROR(S397),\"\",EUconst_MsgTierActivityLevel & \" \" &S397)))","v":""},null,null,null,null,null,null,null,{"$f":"EUconst_CNTR_ActivityData&H370","v":"ActivityData_"},null,{"$f":"IF(ISBLANK(H397),\"\",IF(H397=EUconst_NA,\"\",INDEX(EUwideConstants!$H:$O,MATCH(Q397,EUwideConstants!$S:$S,0),MATCH(H397,CNTR_TierList,0))))","v":""},null,{"$f":"U396","v":""},2,{"$f":"IF($L$6=EUconst_NotRelevant,TRUE,IF(V397>0,(V397<>U397),IF(U397=\"\",TRUE,FALSE)))","v":true}]
[null,null,null,"(m)",{"$f":"Translations!$B$479","v":"Postignuta nesigurnost:"},null,null,null,{"$f":"Translations!$B$480","v":"Komentar:"},null,null,null,null,null,null,null,null,null,null,null,{"$f":"U397","v":""},2,{"$f":"IF($L$6=EUconst_NotRelevant,TRUE,IF(V398>0,(V398<>U398),IF(U398=\"\",TRUE,FALSE)))","v":true}]
[]
[null,null,null,{"$f":"Translations!$B$657","v":"Metoda B: Trenutna učinkovitost"}]
[null,null,null,"(n)",{"$f":"Translations!$B$477","v":"Zahtijevana razina točnosti za podatak o djelatnosti:"},null,null,{"$f":"IF(W401,\"\",H381)","v":""},{"$f":"IF(W401,\"\",I381)","v":""},null,null,null,null,null,null,null,null,null,null,null,{"$f":"U398","v":""},2,{"$f":"IF($L$6=EUconst_NotRelevant,TRUE,IF(V401>0,(V401<>U401),IF(U401=\"\",TRUE,FALSE)))","v":true}]
[null,null,null,"(o)",{"$f":"Translations!$B$478","v":"Korištena razina točnosti za podatak o djelatnosti:"},null,null,null,{"$f":"IF(OR(ISBLANK(H402),H402=EUconst_NoTier),\"\",IF(S402=0,EUconst_NA,IF(ISERROR(S402),\"\",EUconst_MsgTierActivityLevel & \" \" &S402)))","v":""},null,null,null,null,null,null,null,{"$f":"EUconst_CNTR_ActivityData&H370","v":"ActivityData_"},null,{"$f":"IF(ISBLANK(H402),\"\",IF(H402=EUconst_NA,\"\",INDEX(EUwideConstants!$H:$O,MATCH(Q402,EUwideConstants!$S:$S,0),MATCH(H402,CNTR_TierList,0))))","v":""},null,{"$f":"U401","v":""},2,{"$f":"IF($L$6=EUconst_NotRelevant,TRUE,IF(V402>0,(V402<>U402),IF(U402=\"\",TRUE,FALSE)))","v":true}]
[null,null,null,"(p)",{"$f":"Translations!$B$479","v":"Postignuta nesigurnost:"},null,null,null,{"$f":"Translations!$B$480","v":"Komentar:"},null,null,null,null,null,null,null,null,null,null,null,{"$f":"U402","v":""},2,{"$f":"IF($L$6=EUconst_NotRelevant,TRUE,IF(V403>0,(V403<>U403),IF(U403=\"\",TRUE,FALSE)))","v":true}]
[]
[null,null,null,{"$f":"Translations!$B$658","v":"Faktori proračuna"}]
[null,null,null,"(q)",{"$f":"Translations!$B$659","v":"Primjenjene razine točnosti"}]
[]
[null,null,null,null,{"$f":"Translations!$B$516","v":"Faktor proračuna:"},null,null,{"$f":"Translations!$B$517","v":"Zahtijevana razina točnosti:"},{"$f":"Translations!$B$518","v":"Korištena razina točnosti:"},{"$f":"Translations!$B$519","v":"Puni tekst za korištenu razinu točnosti"},null,null,null,null,null,null,null,null,"full text tier"]
[null,null,null,"i.",{"$f":"Translations!$B$660","v":"SEF (CF4) Nagibni emisijski faktor"},null,null,{"$f":"IF(H370=\"\",\"\",IF(W409=FALSE,IF(CNTR_Category=\"A\",INDEX(EUwideConstants!$G:$G,MATCH(Q409,EUwideConstants!$S:$S,0)),INDEX(EUwideConstants!$P:$P,MATCH(Q409,EUwideConstants!$S:$S,0))),\"\"))","v":""},null,{"$f":"IF(OR(ISBLANK(I409),I409=EUconst_NoTier),\"\",IF(S409=0,EUconst_NotApplicable,IF(ISERROR(S409),\"\",S409)))","v":""},null,null,null,null,null,null,{"$f":"EUconst_CNTR_EF&H370","v":"EF_"},null,{"$f":"IF(ISBLANK(I409),\"\",IF(I409=EUconst_NA,\"\",INDEX(EUwideConstants!$H:$O,MATCH(Q409,EUwideConstants!$S:$S,0),MATCH(I409,CNTR_TierList,0))))","v":""},null,{"$f":"U403","v":""},1,{"$f":"IF($L$6=EUconst_NotRelevant,TRUE,IF(V409>0,(V409<>U409),IF(U409=\"\",TRUE,FALSE)))","v":true}]
[null,null,null,"ii.",{"$f":"Translations!$B$661","v":"OVC (koeficijent prednapona)"},null,null,{"$f":"IF(H371=\"\",\"\",IF(W410=FALSE,IF(CNTR_Category=\"A\",INDEX(EUwideConstants!$G:$G,MATCH(Q410,EUwideConstants!$S:$S,0)),INDEX(EUwideConstants!$P:$P,MATCH(Q410,EUwideConstants!$S:$S,0))),\"\"))","v":""},null,{"$f":"IF(OR(ISBLANK(I410),I410=EUconst_NoTier),\"\",IF(S410=0,EUconst_NotApplicable,IF(ISERROR(S410),\"\",S410)))","v":""},null,null,null,null,null,null,{"$f":"EUconst_CNTR_EF&H370","v":"EF_"},null,{"$f":"IF(ISBLANK(I410),\"\",IF(I410=EUconst_NA,\"\",INDEX(EUwideConstants!$H:$O,MATCH(Q410,EUwideConstants!$S:$S,0),MATCH(I410,CNTR_TierList,0))))","v":""},null,{"$f":"U409","v":""},2,{"$f":"IF($L$6=EUconst_NotRelevant,TRUE,IF(V410>0,(V410<>U410),IF(U410=\"\",TRUE,FALSE)))","v":true}]
[null,null,null,"iii.",{"$f":"Translations!$B$662","v":"F(C2F6) Maseni udio C2F6"},null,null,{"$f":"IF(H372=\"\",\"\",IF(W411=FALSE,IF(CNTR_Category=\"A\",INDEX(EUwideConstants!$G:$G,MATCH(Q411,EUwideConstants!$S:$S,0)),INDEX(EUwideConstants!$P:$P,MATCH(Q411,EUwideConstants!$S:$S,0))),\"\"))","v":""},null,{"$f":"IF(OR(ISBLANK(I411),I411=EUconst_NoTier),\"\",IF(S411=0,EUconst_NotApplicable,IF(ISERROR(S411),\"\",S411)))","v":""},null,null,null,null,null,null,{"$f":"EUconst_CNTR_EF&H370","v":"EF_"},null,{"$f":"IF(ISBLANK(I411),\"\",IF(I411=EUconst_NA,\"\",INDEX(EUwideConstants!$H:$O,MATCH(Q411,EUwideConstants!$S:$S,0),MATCH(I411,CNTR_TierList,0))))","v":""},null,{"$f":"U410","v":""},0,{"$f":"IF($L$6=EUconst_NotRelevant,TRUE,IF(V411>0,(V411<>U411),IF(U411=\"\",TRUE,FALSE)))","v":true}]
[]
[null,null,null,"(r)",{"$f":"Translations!$B$663","v":"Detalji o razini točnosti"}]
[]
[null,null,null,null,{"$f":"Translations!$B$516","v":"Faktor proračuna:"},null,null,{"$f":"I408","v":"Korištena razina točnosti:"},{"$f":"Translations!$B$664","v":"zadana ili najnovija vrijednost"},{"$f":"Translations!$B$536","v":"Jedinica"},{"$f":"Translations!$B$537","v":"Oznaka izvora"},{"$f":"Translations!$B$538","v":"Oznaka analize"},{"$f":"Translations!$B$665","v":"datum najnovije analize"},{"$f":"Translations!$B$540","v":"Učestalost analiza"},null,null,null,null,"default value or lab"]
[null,null,null,"i.",{"$f":"E409","v":"SEF (CF4) Nagibni emisijski faktor"},null,null,{"$f":"IF(OR(ISBLANK(I409),I409=EUconst_NA),\"\",I409)","v":""},null,null,null,null,null,null,null,null,{"$f":"Q409","v":"EF_"},null,{"$f":"IF(H416=\"\",\"\",IF(I409=EUconst_NA,\"\",INDEX(EUwideConstants!$AL:$AP,MATCH(Q409,EUwideConstants!$S:$S,0),MATCH(I409,CNTR_TierList,0))))","v":""},null,{"$f":"U411","v":""},1,{"$f":"IF($L$6=EUconst_NotRelevant,TRUE,IF(V416>0,(V416<>U416),IF(U416=\"\",TRUE,FALSE)))","v":true}]
[null,null,null,"ii.",{"$f":"E410","v":"OVC (koeficijent prednapona)"},null,null,{"$f":"IF(OR(ISBLANK(I410),I410=EUconst_NA),\"\",I410)","v":""},null,null,null,null,null,null,null,null,{"$f":"Q410","v":"EF_"},null,{"$f":"IF(H417=\"\",\"\",IF(I410=EUconst_NA,\"\",INDEX(EUwideConstants!$AL:$AP,MATCH(Q410,EUwideConstants!$S:$S,0),MATCH(I410,CNTR_TierList,0))))","v":""},null,{"$f":"U416","v":""},2,{"$f":"IF($L$6=EUconst_NotRelevant,TRUE,IF(V417>0,(V417<>U417),IF(U417=\"\",TRUE,FALSE)))","v":true}]
[null,null,null,"iii.",{"$f":"E411","v":"F(C2F6) Maseni udio C2F6"},null,null,{"$f":"IF(OR(ISBLANK(I411),I411=EUconst_NA),\"\",I411)","v":""},null,null,null,null,null,null,null,null,{"$f":"Q411","v":"EF_"},null,{"$f":"IF(H418=\"\",\"\",IF(I411=EUconst_NA,\"\",INDEX(EUwideConstants!$AL:$AP,MATCH(Q411,EUwideConstants!$S:$S,0),MATCH(I411,CNTR_TierList,0))))","v":""},null,{"$f":"U417","v":""},0,{"$f":"IF($L$6=EUconst_NotRelevant,TRUE,IF(V418>0,(V418<>U418),IF(U418=\"\",TRUE,FALSE)))","v":true}]
[]
[null,null,null,{"$f":"Translations!$B$666","v":"Učinkovitost prikupljanja podataka o fugitivnim emisijama"}]
[null,null,null,"(s)",{"$f":"Translations!$B$667","v":"Određivanje učinkovitosti prikupljanja podataka"}]
[]
[null,null,null,null,null,null,null,null,{"$f":"Translations!$B$664","v":"zadana ili najnovija vrijednost"},{"$f":"Translations!$B$536","v":"Jedinica"},{"$f":"Translations!$B$537","v":"Oznaka izvora"},{"$f":"Translations!$B$538","v":"Oznaka analize"},{"$f":"Translations!$B$665","v":"datum najnovije analize"},{"$f":"Translations!$B$540","v":"Učestalost analiza"}]
[null,null,null,null,{"$f":"Translations!$B$668","v":"Učinkovitost prikupljanja  "},null,null,null,null,null,null,null,null,null,null,null,null,null,null,null,{"$f":"U418","v":""},0,{"$f":"IF($L$6=EUconst_NotRelevant,TRUE,IF(V424>0,(V424<>U424),IF(U424=\"\",TRUE,FALSE)))","v":true}]
[]
[null,null,null,{"$f":"Translations!$B$44","v":"Komentari"}]
[null,null,null,"(t)",{"$f":"Translations!$B$546","v":"Komentari:"}]
[]
[null,null,null,null,null,null,null,null,null,null,null,null,null,null,null,null,null,null,null,null,{"$f":"U424","v":""},0,{"$f":"IF($L$6=EUconst_NotRelevant,TRUE,IF(V429>0,(V429<>U429),IF(U429=\"\",TRUE,FALSE)))","v":true}]
[null,null,null,null,null,null,null,null,null,null,null,null,null,null,null,null,null,null,null,null,{"$f":"U429","v":""},0,{"$f":"IF($L$6=EUconst_NotRelevant,TRUE,IF(V430>0,(V430<>U430),IF(U430=\"\",TRUE,FALSE)))","v":true}]
[null,null,null,null,null,null,null,null,null,null,null,null,null,null,null,null,null,null,null,null,{"$f":"U430","v":""},0,{"$f":"IF($L$6=EUconst_NotRelevant,TRUE,IF(V431>0,(V431<>U431),IF(U431=\"\",TRUE,FALSE)))","v":true}]
[]
[null,null,null,"(u)",{"$f":"Translations!$B$548","v":"Obrazloženje ako zahtijevane razine točnosti nisu primjenjene:\n"}]
[]
[null,null,null,null,null,null,null,null,null,null,null,null,null,null,null,null,null,null,null,null,{"$f":"U431","v":""},0,{"$f":"IF($L$6=EUconst_NotRelevant,TRUE,IF(V435>0,(V435<>U435),IF(U435=\"\",TRUE,FALSE)))","v":true}]
[null,null,null,null,null,null,null,null,null,null,null,null,null,null,null,null,null,null,null,null,{"$f":"U435","v":""},0,{"$f":"IF($L$6=EUconst_NotRelevant,TRUE,IF(V436>0,(V436<>U436),IF(U436=\"\",TRUE,FALSE)))","v":true}]
[null,null,null,null,null,null,null,null,null,null,null,null,null,null,null,null,null,null,null,null,{"$f":"U436","v":""},0,{"$f":"IF($L$6=EUconst_NotRelevant,TRUE,IF(V437>0,(V437<>U437),IF(U437=\"\",TRUE,FALSE)))","v":true}]
[]
["ADD_CompleteAluSourceStream"]
[]
[null,null,16,{"$f":"Translations!$B$31","v":"Upravljanje i pisane procedure za praćenja emisija PFC"}]
[]
[null,null,null,"(a)",{"$f":"Translations!$B$670","v":"Gdje se primjenjuje razina točnosti 2 za emisijski faktor, navedite pojedinosti o pisanoj proceduri kojom se utvrđuje raspored ponavljanja mjerenja koji treba provesti u skladu s točkom 8. Priloga IV Uredbe (emisijski faktori i učinkovitost prikupljanja)."}]
[]
[null,null,null,null,{"$f":"Translations!$B$405","v":"Naziv postupka"}]
[null,null,null,null,{"$f":"Translations!$B$407","v":"Oznaka postupka"}]
[null,null,null,null,{"$f":"Translations!$B$409","v":"Oznaka dijagrama (ukoliko je primjenjivo)"}]
[null,null,null,null,{"$f":"Translations!$B$411","v":"Kratki opis postupka"}]
[]
[]
[null,null,null,null,{"$f":"Translations!$B$414","v":"Ustrojstvena jedinica tvrtke odgovorna za postupke i za obradu podataka."}]
[null,null,null,null,{"$f":"Translations!$B$416","v":"Lokacija na kojoj se pohranjuju zapisi"}]
[null,null,null,null,{"$f":"Translations!$B$418","v":"Naziv informatičkog sustava koji se koristi (ako je primjenjivo)."}]
[null,null,null,null,{"$f":"Translations!$B$420","v":"Popis HRN EN i ostalih primjenjenih normi (ako je primjenjivo)"}]
[]
[null,null,null,"(b)",{"$f":"Translations!$B$671","v":"Gdje se primjenjuje razina točnosti 2 za emisijski faktor, navedite pojedinosti o postupku kojim se opisuje pisana procedura korištena za određivanje  emisijskih faktora CF4 i C2F6, specifičnih za postrojenje."}]
[null,null,null,null,{"$f":"Translations!$B$672","v":"Napomena: Procedurom treba pokazati da su mjerenja bila provođena i da će se provoditi dovoljno dugo vremena kako bi izmjerene vrijednosti konvergirale, ali najmanje 72 sata."}]
[]
[null,null,null,null,{"$f":"Translations!$B$405","v":"Naziv postupka"}]
[null,null,null,null,{"$f":"Translations!$B$407","v":"Oznaka postupka"}]
[null,null,null,null,{"$f":"Translations!$B$409","v":"Oznaka dijagrama (ukoliko je primjenjivo)"}]
[null,null,null,null,{"$f":"Translations!$B$411","v":"Kratki opis postupka"}]
[]
[]
[null,null,null,null,{"$f":"Translations!$B$414","v":"Ustrojstvena jedinica tvrtke odgovorna za postupke i za obradu podataka."}]
[null,null,null,null,{"$f":"Translations!$B$416","v":"Lokacija na kojoj se pohranjuju zapisi"}]
[null,null,null,null,{"$f":"Translations!$B$418","v":"Naziv informatičkog sustava koji se koristi (ako je primjenjivo)."}]
[null,null,null,null,{"$f":"Translations!$B$420","v":"Popis HRN EN i ostalih primjenjenih normi (ako je primjenjivo)"}]
[]
[null,null,null,"(c)",{"$f":"Translations!$B$673","v":"Gdje je primjenjivo navedite pojedinosti o pisanoj proceduri za metodologiju određivanje učinkovitosti prikupljanja podataka za fugitivne emisije."}]
[]
[null,null,null,null,{"$f":"Translations!$B$405","v":"Naziv postupka"}]
[null,null,null,null,{"$f":"Translations!$B$407","v":"Oznaka postupka"}]
[null,null,null,null,{"$f":"Translations!$B$409","v":"Oznaka dijagrama (ukoliko je primjenjivo)"}]
[null,null,null,null,{"$f":"Translations!$B$411","v":"Kratki opis postupka"}]
[]
[]
[null,null,null,null,{"$f":"Translations!$B$414","v":"Ustrojstvena jedinica tvrtke odgovorna za postupke i za obradu podataka."}]
[null,null,null,null,{"$f":"Translations!$B$416","v":"Lokacija na kojoj se pohranjuju zapisi"}]
[null,null,null,null,{"$f":"Translations!$B$418","v":"Naziv informatičkog sustava koji se koristi (ako je primjenjivo)."}]
[null,null,null,null,{"$f":"Translations!$B$420","v":"Popis HRN EN i ostalih primjenjenih normi (ako je primjenjivo)"}]
["ausblenden"]
["ausblenden",null,null,null,{"$f":"Translations!$B$1150","v":"Daljnji postupak dodan od strane postrojenja"}]
["ausblenden"]
["ausblenden",null,null,null,{"$f":"Translations!$B$405","v":"Naziv postupka"}]
["ausblenden",null,null,null,{"$f":"Translations!$B$407","v":"Oznaka postupka"}]
["ausblenden",null,null,null,{"$f":"Translations!$B$409","v":"Oznaka dijagrama (ukoliko je primjenjivo)"}]
["ausblenden",null,null,null,{"$f":"Translations!$B$411","v":"Kratki opis postupka"}]
["ausblenden"]
["ausblenden"]
["ausblenden",null,null,null,{"$f":"Translations!$B$414","v":"Ustrojstvena jedinica tvrtke odgovorna za postupke i za obradu podataka."}]
["ausblenden",null,null,null,{"$f":"Translations!$B$416","v":"Lokacija na kojoj se pohranjuju zapisi"}]
["ausblenden",null,null,null,{"$f":"Translations!$B$418","v":"Naziv informatičkog sustava koji se koristi (ako je primjenjivo)."}]
["ausblenden",null,null,null,{"$f":"Translations!$B$420","v":"Popis HRN EN i ostalih primjenjenih normi (ako je primjenjivo)"}]
["ADD_Procedure"]
[null,null,null,null,null,null,{"$f":"Translations!$B$429","v":"Pritisnite \"+\" kako bi dodali više postupaka"}]
[]
[]
[]
[null,null,null,null,null,{"$f":"EUconst_MsgNextSheet","v":"<<< Pritisnite ovdje kako bi prešli na slijedeći list >>> "}]

{"sheet":"J_Preneseni ili inherentni CO2","index":11,"n_rows":255,"n_cols":17,"rows_kept":255,"cut":false,"hidden":false,"merged":[[250,6,252,10],[246,4,246,5],[246,6,246,13],[247,4,247,5],[247,6,247,13],[241,6,241,13],[233,4,233,5],[235,4,235,5],[235,6,235,13],[233,6,233,13],[234,6,234,13],[248,4,248,5],[234,4,234,5],[245,4,245,5],[245,6,245,13],[237,4,237,13],[239,4,239,5],[239,6,239,13],[240,6,240,13],[240,4,240,5],[241,4,241,5],[248,6,248,13],[243,6,243,13],[242,4,242,5],[222,6,222,13],[220,4,220,5],[220,6,220,13],[242,6,242,13],[244,6,244,13],[219,6,219,13],[221,6,221,13],[221,4,221,5],[222,4,222,5],[228,6,228,13],[229,4,229,5],[229,6,229,13],[228,4,228,5],[232,4,232,5],[232,6,232,13],[230,6,230,13],[227,4,227,5],[227,6,227,13],[224,4,224,13],[231,6,231,13],[43,4,43,13],[50,4,50,13],[49,4,49,13],[216,4,216,5],[226,4,226,5],[194,3,194,13],[195,3,195,13],[196,3,196,13],[201,4,201,5],[213,6,213,13],[207,6,207,13],[208,4,208,5],[207,4,207,5],[226,6,226,13],[214,4,214,5],[214,6,214,13],[211,4,211,13],[213,4,213,5],[217,6,217,13],[218,6,218,13],[215,4,215,5],[216,6,216,13],[215,6,215,13],[219,4,219,5],[67,4,67,5],[56,10,56,11],[54,5,54,6],[54,7,54,8],[27,4,27,13],[31,4,31,13],[28,4,28,13],[56,12,56,13],[56,5,56,6],[56,7,56,8],[47,5,47,13],[48,5,48,13],[55,10,55,11],[29,4,29,13],[30,4,30,13],[44,5,44,13],[52,10,52,11],[34,4,34,13],[52,5,52,6],[37,4,37,13],[46,5,46,13],[35,4,35,13],[38,4,38,13],[54,10,54,11],[9,3,9,13],[11,3,11,13],[12,3,12,13],[13,3,13,13],[25,4,25,13],[15,4,15,13],[16,4,16,13],[17,4,17,13],[18,4,18,13],[21,4,21,13],[23,4,23,13],[22,4,22,13],[98,12,98,13],[97,5,97,6],[36,4,36,13],[40,4,40,13],[42,4,42,13],[45,5,45,13],[52,12,52,13],[39,4,39,13],[24,4,24,13],[94,12,94,13],[74,6,74,13],[53,5,53,6],[55,5,55,6],[55,12,55,13],[54,12,54,13],[53,7,53,8],[68,4,68,5],[87,4,87,9],[55,7,55,8],[52,7,52,8],[32,4,32,13],[33,4,33,13],[74,4,74,5],[57,12,57,13],[75,6,75,13],[85,4,85,13],[71,6,71,13],[68,6,68,13],[83,12,83,13],[76,4,76,5],[81,3,81,13],[26,4,26,13],[19,4,19,13],[53,10,53,11],[60,7,62,11],[65,4,65,13],[57,5,57,6],[57,7,57,8],[58,12,58,13],[58,10,58,11],[58,5,58,6],[57,10,57,11],[73,6,73,13],[58,7,58,8],[69,6,69,13],[70,4,70,5],[67,6,67,13],[53,12,53,13],[96,7,96,11],[98,7,98,11],[69,4,69,5],[93,7,93,11],[98,5,98,6],[96,12,96,13],[95,12,95,13],[84,4,84,13],[79,3,79,13],[94,5,94,6],[91,4,91,13],[95,5,95,6],[95,7,95,11],[76,6,76,13],[97,7,97,11],[96,5,96,6],[94,7,94,11],[75,4,75,5],[93,12,93,13],[88,4,88,13],[90,4,90,13],[87,10,87,13],[70,6,70,13],[73,4,73,5],[101,5,101,6],[100,5,100,6],[99,7,99,11],[100,7,100,11],[99,5,99,6],[99,12,99,13],[102,5,102,6],[116,4,116,5],[101,7,101,11],[113,4,113,13],[100,12,100,13],[115,6,115,13],[116,6,116,13],[103,7,103,11],[104,12,104,13],[128,6,128,13],[131,4,131,5],[130,6,130,13],[110,9,110,13],[102,7,102,11],[104,7,104,11],[103,5,103,6],[103,12,103,13],[122,4,122,5],[122,6,122,13],[104,5,104,6],[118,4,118,5],[119,6,119,13],[102,12,102,13],[121,4,121,5],[121,6,121,13],[128,4,128,5],[123,4,123,5],[124,4,124,5],[124,6,124,13],[126,4,126,13],[169,6,169,13],[170,4,170,5],[170,6,170,13],[160,4,160,5],[157,6,157,13],[167,6,167,13],[165,4,165,13],[163,6,163,13],[136,4,136,5],[136,6,136,13],[143,4,143,5],[156,4,156,5],[161,4,161,5],[163,4,163,5],[146,6,146,13],[147,4,147,5],[155,4,155,5],[168,6,168,13],[144,4,144,5],[148,6,148,13],[154,6,154,13],[149,6,149,13],[152,4,152,13],[154,4,154,5],[209,4,209,5],[202,4,202,5],[206,6,206,13],[205,6,205,13],[209,6,209,13],[204,6,204,13],[203,4,203,5],[203,6,203,13],[208,6,208,13],[206,4,206,5],[202,6,202,13],[200,4,200,5],[192,3,192,13],[200,6,200,13],[198,4,198,13],[176,6,176,13],[174,4,174,5],[173,4,173,5],[175,4,175,5],[174,6,174,13],[189,4,189,5],[189,6,189,13],[183,4,183,5],[183,6,183,13],[184,6,184,13],[185,6,185,13],[186,4,186,5],[186,6,186,13],[169,4,169,5],[160,6,160,13],[161,6,161,13],[201,6,201,13],[175,6,175,13],[171,6,171,13],[162,6,162,13],[168,4,168,5],[167,4,167,5],[178,4,178,13],[180,4,180,5],[180,6,180,13],[181,4,181,5],[181,6,181,13],[182,4,182,5],[182,6,182,13],[172,6,172,13],[173,6,173,13],[176,4,176,5],[162,4,162,5],[187,4,187,5],[187,6,187,13],[188,4,188,5],[188,6,188,13],[2,10,2,11],[3,8,3,9],[130,4,130,5],[120,6,120,13],[117,6,117,13],[72,6,72,13],[118,6,118,13],[1,10,1,11],[1,12,1,13],[2,12,2,13],[1,4,1,5],[2,6,2,7],[2,8,2,9],[1,6,1,7],[1,8,1,9],[5,2,5,10],[5,11,5,13],[2,4,2,5],[1,1,3,3],[3,4,3,5],[101,12,101,13],[123,6,123,13],[129,6,129,13],[129,4,129,5],[254,5,254,11],[7,10,7,13],[110,4,110,8],[115,4,115,5],[117,4,117,5],[111,4,111,13],[106,7,108,11],[97,12,97,13],[3,10,3,11],[3,12,3,13],[3,6,3,7],[159,6,159,13],[137,4,137,5],[137,6,137,13],[150,4,150,5],[150,6,150,13],[149,4,149,5],[143,6,143,13],[158,6,158,13],[156,6,156,13],[144,6,144,13],[155,6,155,13],[145,6,145,13],[147,6,147,13],[157,4,157,5],[139,4,139,13],[141,4,141,5],[142,4,142,5],[131,6,131,13],[133,6,133,13],[135,4,135,5],[135,6,135,13],[141,6,141,13],[142,6,142,13],[148,4,148,5],[134,4,134,5],[132,6,132,13],[134,6,134,13]]}
["ausblenden",null,null,null,null,null,null,null,null,null,null,null,null,null,null,"ausblenden","ausblenden"]
[null,{"$f":"Translations!$B$674","v":"J. Preneseni CO2 & CCS"},null,null,{"$f":"Translations!$B$59","v":"Navigacijsko područje:"},null,{"$f":"Translations!$B$60","v":"Sadržaj"},null,{"$f":"Translations!$B$61","v":"Prethodni list"},null,{"$f":"Translations!$B$62","v":"Sljedeći list"}]
[null,null,null,null,{"$f":"Translations!$B$63","v":"Vrh lista"}]
[null,null,null,null,{"$f":"Translations!$B$64","v":"Dno lista"}]
[]
[null,null,{"$f":"Translations!$B$1204","v":"J. Utvrđivanje prenesenog ili inherentnog CO2 i prenesenog N2O"},null,null,null,null,null,null,null,null,{"$f":"IF(AND(NOT(ISBLANK(CNTR_InstHasTransferredCO2)), CNTR_InstHasTransferredCO2=FALSE),EUconst_NotRelevant,EUconst_Relevant)","v":"relevantno"}]
[]
[null,null,null,null,null,null,null,null,null,null,{"$f":"IF(L6=EUconst_NotRelevant,HYPERLINK(\"#JUMP_J2_Top\",EUconst_MsgNextSheet),HYPERLINK(\"\",EUconst_MsgEnterThisSection))","v":"Molimo unesite podatke u ovo polje"}]
[]
[null,null,17,{"$f":"Translations!$B$1205","v":"Utvrđivanje inherentnog i prenesenog CO2  i N2O"}]
[]
[null,null,null,{"$f":"Translations!$B$1206","v":"Napomena: ovaj odjeljak treba popuniti ako se obavlja prijenos inherentnog CO2 kao dijela toka izvora u skladu s člankom 48. Uredbe, prijenos CO2 u skladu s člankom 49. ili prijenos N2O u skladu s člankom 50. Uredbe o praćenju i izvješćivanju."}]
[null,null,null,{"$f":"Translations!$B$1357","v":"Nadalje, ovaj list relevantan je za informacije koje je potrebno pružiti kada se provode aktivnosti hvatanja CO2, transporta ili geološkog skladištenja CO2 kako je obuhvaćeno Prilogom I EU ETS Direktive."}]
[null,null,null,{"$f":"Translations!$B$1358","v":"Ovisno o odabranom pristupu praćenja, informacije o svim tokovima izvora moraju se dostaviti na stranici E_SourceStreams, a sve informacije o mjernim točkama i mjernim instrumentima moraju se dostaviti na stranici F_MeasurementBasedApproaches."}]
[]
[null,null,null,"(a)",{"$f":"Translations!$B$1207","v":"Navedite detaljan opis metodologije praćenja korištene za određivanje inherentnog ili prenesenog CO2 ili N2O. "}]
[null,null,null,null,{"$f":"Translations!$B$1208","v":"U okviru u nastavku navedite sažeti opis metodologije praćenja, uključujući formule, korištene za utvrđivanje vaših godišnjih emisija CO2, N2O ili ekvivalenta CO2."}]
[null,null,null,null,{"$f":"Translations!$B$1209","v":"Posebno bi trebalo obuhvatiti količine CO2 i N2O koje treba dodati zbog primanja prenesenog CO2 i N2O ili za oduzimanje ekvivalenta CO2 zbog prijenosa izvan postrojenja, ovisno o slučaju. Pripazite da izračun bude u skladu s člancima 48., 49. i 50. Uredbe o praćenju i izvješćivanju."}]
[null,null,null,null,{"$f":"Translations!$B$680","v":"Ako je opis previše složen, npr. primjenjuju se složene formula ili je potrebno napraviti dijagram za pojašnjenje opisa, može se dati opis u posebnom dokumentu. U tom slučaju navedite referencu na taj dokument (navesti naziv i datum dokumenta)."}]
[null,null,null,null,{"$f":"Translations!$B$195","v":"Ovaj opis bi trebao pružiti povezane informacije koje su potrebne za razumijevanje informacija navedenih u drugim dijelovima ovog obrasca te kako se koriste zajedno za izračun emisija. Mogu biti kratke kao dani primjer u listu D_Metodologija proračuna, odjeljak 7(a)."}]
[]
[]
[]
[]
[]
[]
[]
[]
[]
[]
[]
[]
[]
[]
[]
[]
[]
[]
[]
[]
[]
[]
[null,null,null,"(b)",{"$f":"Translations!$B$681","v":"Navedite pojedinosti o postrojenjima koja zaprimaju i prenose CO2"}]
[null,null,null,null,{"$f":"Translations!$B$1210","v":"Za svako postrojenje (ili drugi objekt) od kojeg primate ili u koji prenosite inherentni ili preneseni ekvivalent CO2 navedite sljedeće informacije:"}]
[null,null,null,null,{"$f":"Translations!$B$683","v":"Naziv postrojenja"},{"$f":"Translations!$B$1211","v":"Ovdje navedite ime postrojenja ili objekta koji nije obuhvaćen ETS-om iz kojeg ili u koji se prenosi ekvivalent CO2. U mjeri u kojoj je to izvedivo upotrijebite isto ime koje upotrebljavaju nadležno tijelo i Registar."}]
[null,null,null,null,{"$f":"Translations!$B$156","v":"Naziv operatera"},{"$f":"Translations!$B$685","v":"Naziv operatera postrojenja ili subjekta koji nije u ETS-u."}]
[null,null,null,null,{"$f":"Translations!$B$686","v":"Jedinstveni ID"},{"$f":"Translations!$B$687","v":"Za EU ETS postrojenja, navedite jedinstveni ID postrojenja kao što je korišteno u sustavu Registra. Ako imate nedoumica, kontaktirajte nadležno tijelo  (Zavod za zaštitu okoliša i prirodu) za točan format ID-a,."}]
[null,null,null,null,{"$f":"Translations!$B$688","v":"Vrsta prijenosa"},{"$f":"Translations!$B$1212","v":"Iz padajućeg izbornika odaberite je li riječ o prijenosu iz postrojenja ili objekta koji nije obuhvaćen ETS-om ili u njega te odnosi li se to na inherentni CO2 (članak 48. Uredbe) ili preneseni CO2 (članak 49.) ili N2O (članak 50. Uredbe) kako je utvrđeno u Uredbi o praćenju i izvješćivanju."}]
[null,null,null,null,{"$f":"Translations!$B$690","v":"Metodologija mjerenja"},{"$f":"Translations!$B$691","v":"Sukladno članku 48. stavkom 3. Uredbe, može se odrediti preneseni ili inherentni CO2 vlastitim instrumentima ili mjerenjem od strane drugog postrojenja, ili se mogu koristiti obje metodologije mjerenja te kao razultat uzeti prosjek mjerenja. Navedite ovdje, koja se metodologija koristi."}]
[]
[null,null,null,null,{"$f":"Translations!$B$692","v":"Napomena: Detalji o kontinuiranoj metodologiji mjerenja, mjernim točkama i mjernim instrumentima trebaju biti upisani u list F_Metodologija_mjerenja."}]
[]
[null,null,null,null,{"$f":"Translations!$B$693","v":"Oznaka prijenosa"},{"$f":"Translations!$B$694","v":"Naziv postrojenja"},null,{"$f":"Translations!$B$156","v":"Naziv operatera"},null,{"$f":"Translations!$B$695","v":"Jedinstveni ID postrojenja"},{"$f":"Translations!$B$688","v":"Vrsta prijenosa"},null,{"$f":"Translations!$B$690","v":"Metodologija mjerenja"}]
[null,null,null,null,"TR1"]
[null,null,null,null,"TR2"]
[null,null,null,null,"TR3"]
[null,null,null,null,"TR4"]
[null,null,null,null,"TR5"]
["ausblenden"]
["ADD_TransferCO2Installations"]
[null,null,null,null,null,null,null,{"$f":"Translations!$B$696","v":"Kliknite \"+\" za dodavanje više postrojenja"}]
[]
[]
[]
[]
[null,null,null,"(c)",{"$f":"Translations!$B$1359","v":"Ako je dio prenesenog CO2 proizveden iz bilo kojeg ugljika nulte stope (npr. biomasa), ili gdje je postrojenje samo djelomično obuhvaćeno EU ETS Direktivom, navedite detalje pisanog postupka koji se koristi za oduzimanje količine prenesenog CO2 koji ne potječu od aktivnosti fosilnog ugljika obuhvaćenih EU ETS Direktivom."}]
[]
[null,null,null,null,{"$f":"Translations!$B$405","v":"Naziv postupka"}]
[null,null,null,null,{"$f":"Translations!$B$407","v":"Oznaka postupka"}]
[null,null,null,null,{"$f":"Translations!$B$409","v":"Oznaka dijagrama (ukoliko je primjenjivo)"}]
[null,null,null,null,{"$f":"Translations!$B$411","v":"Kratki opis postupka"}]
[]
[]
[null,null,null,null,{"$f":"Translations!$B$414","v":"Ustrojstvena jedinica tvrtke odgovorna za postupke i za obradu podataka."}]
[null,null,null,null,{"$f":"Translations!$B$416","v":"Lokacija na kojoj se pohranjuju zapisi"}]
[null,null,null,null,{"$f":"Translations!$B$418","v":"Naziv informatičkog sustava koji se koristi (ako je primjenjivo)."}]
[null,null,null,null,{"$f":"Translations!$B$420","v":"Popis HRN EN i ostalih primjenjenih normi (ako je primjenjivo)"}]
[]
[]
[null,null,18,{"$f":"Translations!$B$1360","v":"Informacije relevantne za transportnu infrastrukturu CO2 koja se koristi za transport CO2 i N2O"}]
[]
[null,null,null,{"$f":"Translations!$B$1361","v":"Infrastruktura za transport CO2 obuhvaća sve načine transporta CO2 (cjevovodi, brodovi, kamioni, vlakovi itd.) u svrhu geološkog skladištenja. Stoga molimo da u odjeljku C.5.a detaljno opišete organizacijsku strukturu, broj i vrstu uključenih vozila, granice sustava, uključujući sve pomoćne objekte koji su funkcionalno povezani s prometnom infrastrukturom, kao što su međuskladište CO2, uređaj za povećanje tlaka, ukapljivanje, rasplinjavanje, stanice za pročišćavanje ili grijalice itd."}]
[]
[null,null,null,"(a)",{"$f":"Translations!$B$1362","v":"Navedite odabrani pristup praćenja za vašu prometnu infrastrukturu:"},null,null,null,null,null,null,null,null,null,null,{"$f":"IF(ISBLANK(M84),\"\",MATCH(M84,EUconst_PipelineApproaches,0))","v":""},"CNTR_TransportApproach"]
[null,null,null,null,{"$f":"Translations!$B$1363","v":"U skladu s odjeljkom 22.B Priloga IV Uredbe, možete odabrati jednu od dvije metode za transportirani CO2. Metoda A uključuje bilancu mase svih emitiranih CO2 i N2O koji ulaze i izlaze iz prometne infrastrukture, dok se Metoda B temelji na određivanju fugitivnih i ispuštenih emisija, kao i istjecanja, iz svih pojedinačnih izvora emisije."}]
[null,null,null,null,{"$f":"Translations!$B$1364","v":"Prednost se daje metodi B, osim ako možete dokazati da će metoda A dovesti do pouzdanijih rezultata s manjom nesigurnošću, bez stvaranja neopravdanih troškova."}]
[]
[null,null,null,"(b)",{"$f":"Translations!$B$700","v":"Gdje je primijenjivo treba navesti referencu za analizu nesigurnosti:"}]
[null,null,null,null,{"$f":"Translations!$B$1365","v":"Ako ste odabrali metodu B, morate pružiti dokaze za dokazivanje usklađenosti s ukupnom nesigurnošću od najviše 7,5% za emisije cijele prometne infrastrukture. Ako ste odabrali metodu A, morate dokazati razloge navedene pod a). Ovdje navedite referencu na priloženi dokument prema potrebi."}]
[]
[null,null,null,"(c)",{"$f":"Translations!$B$1366","v":"Gdje je primjenjivo, opišite opremu koja se koristi za mjerenje temperature i tlaka u prometnoj infrastrukturi."}]
[null,null,null,null,{"$f":"Translations!$B$1367","v":"Navedite svu opremu koja se koristi za mjerenje temperature i tlaka u prometnoj infrastrukturi u određivanju emisija prilikom događaja istjecanja u skladu s odjeljkom 22. Priloga IV. Uredbe."}]
[]
[null,null,null,null,{"$f":"Translations!$B$704","v":"Oznaka"},{"$f":"Translations!$B$705","v":"Lokacija"},null,{"$f":"Translations!$B$706","v":"Vrsta mjernog uređaja "},null,null,null,null,{"$f":"Translations!$B$707","v":"Oznaka uređaja"}]
[null,null,null,null,"ND1"]
[null,null,null,null,"ND2"]
[null,null,null,null,"ND3"]
[null,null,null,null,"ND4"]
[null,null,null,null,"ND5"]
[null,null,null,null,"ND6"]
[null,null,null,null,"ND7"]
[null,null,null,null,"ND8"]
[null,null,null,null,"ND9"]
[null,null,null,null,"ND10"]
["ausblenden"]
["ADD_PipelineDevice"]
[null,null,null,null,null,null,null,{"$f":"Translations!$B$708","v":"Kliknite \"+\" za dodavanje više mjernih uređaja"}]
[]
[]
[]
[null,null,null,"(d)",{"$f":"Translations!$B$709","v":"Referenca na detaljniji opis, ako je relevantno"}]
[null,null,null,null,{"$f":"Translations!$B$710","v":"Ako je potrebno, možete dati popis u točki (c) i detaljniji opis u zasebnom dokumentu. U tom slučaju navedite referencu na taj dokument (navesti naziv i datuma dokumenta)."}]
[]
[null,null,null,"(e)",{"$f":"Translations!$B$1368","v":"Gdje je primjenjivo, navedite pojedinosti pisanog postupka za sprječavanje, otkrivanje i kvantifikaciju događaja istjecanja iz prometne infrastrukture."}]
[]
[null,null,null,null,{"$f":"Translations!$B$405","v":"Naziv postupka"}]
[null,null,null,null,{"$f":"Translations!$B$407","v":"Oznaka postupka"}]
[null,null,null,null,{"$f":"Translations!$B$409","v":"Oznaka dijagrama (ukoliko je primjenjivo)"}]
[null,null,null,null,{"$f":"Translations!$B$411","v":"Kratki opis postupka"}]
[]
[]
[null,null,null,null,{"$f":"Translations!$B$414","v":"Ustrojstvena jedinica tvrtke odgovorna za postupke i za obradu podataka."}]
[null,null,null,null,{"$f":"Translations!$B$416","v":"Lokacija na kojoj se pohranjuju zapisi"}]
[null,null,null,null,{"$f":"Translations!$B$418","v":"Naziv informatičkog sustava koji se koristi (ako je primjenjivo)."}]
[null,null,null,null,{"$f":"Translations!$B$420","v":"Popis HRN EN i ostalih primjenjenih normi (ako je primjenjivo)"}]
[]
[null,null,null,"(f)",{"$f":"Translations!$B$1369","v":"Za prometnu infrastrukturu navedite pojedinosti o pisanom postupku kojim se osigurava da se CO2(e) prenosi samo u postrojenja koja imaju važeću dozvolu za emisiju stakleničkih plinova ili gdje se svaki ispušteni CO2 ili N2O učinkovito prati i obračunava u skladu s člancima 49. i 50. Uredbe"}]
[]
[null,null,null,null,{"$f":"Translations!$B$405","v":"Naziv postupka"}]
[null,null,null,null,{"$f":"Translations!$B$407","v":"Oznaka postupka"}]
[null,null,null,null,{"$f":"Translations!$B$409","v":"Oznaka dijagrama (ukoliko je primjenjivo)"}]
[null,null,null,null,{"$f":"Translations!$B$411","v":"Kratki opis postupka"}]
[]
[]
[null,null,null,null,{"$f":"Translations!$B$414","v":"Ustrojstvena jedinica tvrtke odgovorna za postupke i za obradu podataka."}]
[null,null,null,null,{"$f":"Translations!$B$416","v":"Lokacija na kojoj se pohranjuju zapisi"}]
[null,null,null,null,{"$f":"Translations!$B$418","v":"Naziv informatičkog sustava koji se koristi (ako je primjenjivo)."}]
[null,null,null,null,{"$f":"Translations!$B$420","v":"Popis HRN EN i ostalih primjenjenih normi (ako je primjenjivo)"}]
[]
[null,null,null,"(g)",{"$f":"Translations!$B$1370","v":"Ako se Metoda B primjenjuje za prometnu infrastrukturu, ovdje navedite opis postupka korištenog za validaciju rezultata metode B metodom A najmanje jednom godišnje:"},null,null,null,null,null,null,null,null,null,null,null,"make grey?"]
[]
[null,null,null,null,{"$f":"Translations!$B$405","v":"Naziv postupka"},null,null,null,null,null,null,null,null,null,null,null,{"$f":"CNTR_TransportApproach=1","v":false}]
[null,null,null,null,{"$f":"Translations!$B$407","v":"Oznaka postupka"},null,null,null,null,null,null,null,null,null,null,null,{"$f":"Q142","v":false}]
[null,null,null,null,{"$f":"Translations!$B$409","v":"Oznaka dijagrama (ukoliko je primjenjivo)"},null,null,null,null,null,null,null,null,null,null,null,{"$f":"Q143","v":false}]
[null,null,null,null,{"$f":"Translations!$B$411","v":"Kratki opis postupka"},null,null,null,null,null,null,null,null,null,null,null,false]
[null,null,null,null,null,null,null,null,null,null,null,null,null,null,null,null,false]
[null,null,null,null,null,null,null,null,null,null,null,null,null,null,null,null,false]
[null,null,null,null,{"$f":"Translations!$B$414","v":"Ustrojstvena jedinica tvrtke odgovorna za postupke i za obradu podataka."},null,null,null,null,null,null,null,null,null,null,null,false]
[null,null,null,null,{"$f":"Translations!$B$416","v":"Lokacija na kojoj se pohranjuju zapisi"},null,null,null,null,null,null,null,null,null,null,null,false]
[null,null,null,null,{"$f":"Translations!$B$418","v":"Naziv informatičkog sustava koji se koristi (ako je primjenjivo)."},null,null,null,null,null,null,null,null,null,null,null,false]
[null,null,null,null,{"$f":"Translations!$B$420","v":"Popis HRN EN i ostalih primjenjenih normi (ako je primjenjivo)"},null,null,null,null,null,null,null,null,null,null,null,false]
[]
[null,null,null,"(h)",{"$f":"Translations!$B$714","v":"Ako se koristi metoda B, ovdje navedite opis postupka korištenog za određivanje fugitivnih emisija:"}]
[]
[null,null,null,null,{"$f":"Translations!$B$405","v":"Naziv postupka"},null,null,null,null,null,null,null,null,null,null,null,{"$f":"Q142","v":false}]
[null,null,null,null,{"$f":"Translations!$B$407","v":"Oznaka postupka"},null,null,null,null,null,null,null,null,null,null,null,{"$f":"Q155","v":false}]
[null,null,null,null,{"$f":"Translations!$B$409","v":"Oznaka dijagrama (ukoliko je primjenjivo)"},null,null,null,null,null,null,null,null,null,null,null,{"$f":"Q156","v":false}]
[null,null,null,null,{"$f":"Translations!$B$411","v":"Kratki opis postupka"},null,null,null,null,null,null,null,null,null,null,null,false]
[null,null,null,null,null,null,null,null,null,null,null,null,null,null,null,null,false]
[null,null,null,null,null,null,null,null,null,null,null,null,null,null,null,null,false]
[null,null,null,null,{"$f":"Translations!$B$414","v":"Ustrojstvena jedinica tvrtke odgovorna za postupke i za obradu podataka."},null,null,null,null,null,null,null,null,null,null,null,false]
[null,null,null,null,{"$f":"Translations!$B$416","v":"Lokacija na kojoj se pohranjuju zapisi"},null,null,null,null,null,null,null,null,null,null,null,false]
[null,null,null,null,{"$f":"Translations!$B$418","v":"Naziv informatičkog sustava koji se koristi (ako je primjenjivo)."},null,null,null,null,null,null,null,null,null,null,null,false]
[null,null,null,null,{"$f":"Translations!$B$420","v":"Popis HRN EN i ostalih primjenjenih normi (ako je primjenjivo)"},null,null,null,null,null,null,null,null,null,null,null,false]
[]
[null,null,null,"(i)",{"$f":"Translations!$B$715","v":"Ako se primjenjuje metoda B, ovdje navedite opis postupka korištenog za određivanje ispuštenih emisija:"}]
[]
[null,null,null,null,{"$f":"Translations!$B$405","v":"Naziv postupka"},null,null,null,null,null,null,null,null,null,null,null,{"$f":"Q155","v":false}]
[null,null,null,null,{"$f":"Translations!$B$407","v":"Oznaka postupka"},null,null,null,null,null,null,null,null,null,null,null,{"$f":"Q168","v":false}]
[null,null,null,null,{"$f":"Translations!$B$409","v":"Oznaka dijagrama (ukoliko je primjenjivo)"},null,null,null,null,null,null,null,null,null,null,null,{"$f":"Q169","v":false}]
[null,null,null,null,{"$f":"Translations!$B$411","v":"Kratki opis postupka"},null,null,null,null,null,null,null,null,null,null,null,false]
[null,null,null,null,null,null,null,null,null,null,null,null,null,null,null,null,false]
[null,null,null,null,null,null,null,null,null,null,null,null,null,null,null,null,false]
[null,null,null,null,{"$f":"Translations!$B$414","v":"Ustrojstvena jedinica tvrtke odgovorna za postupke i za obradu podataka."},null,null,null,null,null,null,null,null,null,null,null,false]
[null,null,null,null,{"$f":"Translations!$B$416","v":"Lokacija na kojoj se pohranjuju zapisi"},null,null,null,null,null,null,null,null,null,null,null,false]
[null,null,null,null,{"$f":"Translations!$B$418","v":"Naziv informatičkog sustava koji se koristi (ako je primjenjivo)."},null,null,null,null,null,null,null,null,null,null,null,false]
[null,null,null,null,{"$f":"Translations!$B$420","v":"Popis HRN EN i ostalih primjenjenih normi (ako je primjenjivo)"},null,null,null,null,null,null,null,null,null,null,null,false]
[]
[null,null,null,"(j)",{"$f":"Translations!$B$1371","v":"Ako se primjenjuje metoda A, ovdje navedite opis postupka koji se koristi za sastavljanje godišnjeg inventara CO2 koji godišnje ulazi i izlazi iz transportne infrastrukture CO2 i za praćenje bilo kojeg CO2 u tranzitu, u skladu s člankom 49. stavkom 6. Uredbe"}]
[]
[null,null,null,null,{"$f":"Translations!$B$405","v":"Naziv postupka"},null,null,null,null,null,null,null,null,null,null,null,{"$f":"CNTR_TransportApproach=2","v":false}]
[null,null,null,null,{"$f":"Translations!$B$407","v":"Oznaka postupka"},null,null,null,null,null,null,null,null,null,null,null,{"$f":"Q181","v":false}]
[null,null,null,null,{"$f":"Translations!$B$409","v":"Oznaka dijagrama (ukoliko je primjenjivo)"},null,null,null,null,null,null,null,null,null,null,null,{"$f":"Q182","v":false}]
[null,null,null,null,{"$f":"Translations!$B$411","v":"Kratki opis postupka"},null,null,null,null,null,null,null,null,null,null,null,false]
[null,null,null,null,null,null,null,null,null,null,null,null,null,null,null,null,false]
[null,null,null,null,null,null,null,null,null,null,null,null,null,null,null,null,false]
[null,null,null,null,{"$f":"Translations!$B$414","v":"Ustrojstvena jedinica tvrtke odgovorna za postupke i za obradu podataka."},null,null,null,null,null,null,null,null,null,null,null,false]
[null,null,null,null,{"$f":"Translations!$B$416","v":"Lokacija na kojoj se pohranjuju zapisi"},null,null,null,null,null,null,null,null,null,null,null,false]
[null,null,null,null,{"$f":"Translations!$B$418","v":"Naziv informatičkog sustava koji se koristi (ako je primjenjivo)."},null,null,null,null,null,null,null,null,null,null,null,false]
[null,null,null,null,{"$f":"Translations!$B$420","v":"Popis HRN EN i ostalih primjenjenih normi (ako je primjenjivo)"},null,null,null,null,null,null,null,null,null,null,null,false]
[]
[]
[null,null,19,{"$f":"Translations!$B$35","v":"Relevantne informacije za postrojenja za geološko skladištenje CO2"}]
[]
[null,null,null,{"$f":"Translations!$B$716","v":"Napomena: U slučaju geološkog skladištenja CO2, emisije iz skladišnog kompleksa, kao i oslobađanje CO2 u vodenom stupcu treba pratiti samo ako se otkrije propuštanje. Gdje propuštanje nije otkriveno, plan praćenja ne mora imati nikakvih posebnih odredbi za praćenje."}]
[null,null,null,{"$f":"Translations!$B$717","v":"Od iznimne je važnosti da je uspostavljen postupak za hitnu reakciju ako se otkrije propuštanje. U tom slučaju plan praćenja mora biti ažuriran bez nepotrebnog odgađanja."}]
[null,null,null,{"$f":"Translations!$B$718","v":"Navedite pojedinosti o postupku koja se koristi za redovitu procjenu prikladnosti plana praćenja. U tu svrhu koristite točku 19 (c) u listu K_Kontrola_upravljanja."}]
[]
[null,null,null,"(a)",{"$f":"Translations!$B$719","v":"Gdje je primjenjivo treba navesti pojedinosti o pisanom postupku koji opisuje metodologiju kvantifikacije emisija ili CO2 puštenog na stupcu vode od potencijalnih propuštanja, kao i primijenjenih i eventualno prilagođenih  kvantitativnih metodologija za stvarne emisije ili CO2 ispuštenog u stupcu vode od propuštanja, kao što je navedeno u poglavlju 23. Priloga IV. Uredbe"}]
[]
[null,null,null,null,{"$f":"Translations!$B$405","v":"Naziv postupka"}]
[null,null,null,null,{"$f":"Translations!$B$407","v":"Oznaka postupka"}]
[null,null,null,null,{"$f":"Translations!$B$409","v":"Oznaka dijagrama (ukoliko je primjenjivo)"}]
[null,null,null,null,{"$f":"Translations!$B$411","v":"Kratki opis postupka"}]
[]
[]
[null,null,null,null,{"$f":"Translations!$B$414","v":"Ustrojstvena jedinica tvrtke odgovorna za postupke i za obradu podataka."}]
[null,null,null,null,{"$f":"Translations!$B$416","v":"Lokacija na kojoj se pohranjuju zapisi"}]
[null,null,null,null,{"$f":"Translations!$B$418","v":"Naziv informatičkog sustava koji se koristi (ako je primjenjivo)."}]
[null,null,null,null,{"$f":"Translations!$B$420","v":"Popis HRN EN i ostalih primjenjenih normi (ako je primjenjivo)"}]
[]
[null,null,null,"(b)",{"$f":"Translations!$B$720","v":"Navedite opis metodologije i postupaka koji se koriste kako bi se utvrdile fugitivne ili ispuštene emisije, uključujući emisije koje potječu od mjesta gdje se provodi poboljšano crpljenje ugljikovodika. Ako se metode mjerenja u skladu s člancima 41. do 46. ne primjenjuju, potrebno je priložiti obrazloženje za neopravdano visoke troškove.\n"}]
[]
[null,null,null,null,{"$f":"Translations!$B$405","v":"Naziv postupka"}]
[null,null,null,null,{"$f":"Translations!$B$407","v":"Oznaka postupka"}]
[null,null,null,null,{"$f":"Translations!$B$409","v":"Oznaka dijagrama (ukoliko je primjenjivo)"}]
[null,null,null,null,{"$f":"Translations!$B$411","v":"Kratki opis postupka"}]
[]
[]
[null,null,null,null,{"$f":"Translations!$B$414","v":"Ustrojstvena jedinica tvrtke odgovorna za postupke i za obradu podataka."}]
[null,null,null,null,{"$f":"Translations!$B$416","v":"Lokacija na kojoj se pohranjuju zapisi"}]
[null,null,null,null,{"$f":"Translations!$B$418","v":"Naziv informatičkog sustava koji se koristi (ako je primjenjivo)."}]
[null,null,null,null,{"$f":"Translations!$B$420","v":"Popis HRN EN i ostalih primjenjenih normi (ako je primjenjivo)"}]
[]
[null,null,null,"(c)",{"$f":"Translations!$B$721","v":"Ako je primjenjivo navedite opis postupka korištenog za određivanje nesigurnosti emisija uslijed propuštanja, u svrhu ispravljanja iznosa emisija u skladu sa stavkom B.3 članka 23. Priloga IV Uredbe."}]
[]
[null,null,null,null,{"$f":"Translations!$B$405","v":"Naziv postupka"}]
[null,null,null,null,{"$f":"Translations!$B$407","v":"Oznaka postupka"}]
[null,null,null,null,{"$f":"Translations!$B$409","v":"Oznaka dijagrama (ukoliko je primjenjivo)"}]
[null,null,null,null,{"$f":"Translations!$B$411","v":"Kratki opis postupka"}]
[]
[]
[null,null,null,null,{"$f":"Translations!$B$414","v":"Ustrojstvena jedinica tvrtke odgovorna za postupke i za obradu podataka."}]
[null,null,null,null,{"$f":"Translations!$B$416","v":"Lokacija na kojoj se pohranjuju zapisi"}]
[null,null,null,null,{"$f":"Translations!$B$418","v":"Naziv informatičkog sustava koji se koristi (ako je primjenjivo)."}]
[null,null,null,null,{"$f":"Translations!$B$420","v":"Popis HRN EN i ostalih primjenjenih normi (ako je primjenjivo)"}]
["ausblenden"]
["ausblenden",null,null,null,{"$f":"Translations!$B$1150","v":"Daljnji postupak dodan od strane postrojenja"}]
["ausblenden"]
["ausblenden",null,null,null,{"$f":"Translations!$B$405","v":"Naziv postupka"}]
["ausblenden",null,null,null,{"$f":"Translations!$B$407","v":"Oznaka postupka"}]
["ausblenden",null,null,null,{"$f":"Translations!$B$409","v":"Oznaka dijagrama (ukoliko je primjenjivo)"}]
["ausblenden",null,null,null,{"$f":"Translations!$B$411","v":"Kratki opis postupka"}]
["ausblenden"]
["ausblenden"]
["ausblenden",null,null,null,{"$f":"Translations!$B$414","v":"Ustrojstvena jedinica tvrtke odgovorna za postupke i za obradu podataka."}]
["ausblenden",null,null,null,{"$f":"Translations!$B$416","v":"Lokacija na kojoj se pohranjuju zapisi"}]
["ausblenden",null,null,null,{"$f":"Translations!$B$418","v":"Naziv informatičkog sustava koji se koristi (ako je primjenjivo)."}]
["ausblenden",null,null,null,{"$f":"Translations!$B$420","v":"Popis HRN EN i ostalih primjenjenih normi (ako je primjenjivo)"}]
["ADD_Procedure"]
[null,null,null,null,null,null,{"$f":"Translations!$B$429","v":"Pritisnite \"+\" kako bi dodali više postupaka"}]
[]
[]
[]
[null,null,null,null,null,{"$f":"EUconst_MsgNextSheet","v":"<<< Pritisnite ovdje kako bi prešli na slijedeći list >>> "}]

{"sheet":"J2_PermCCU","index":12,"n_rows":67,"n_cols":17,"rows_kept":67,"cut":false,"hidden":false,"merged":[[1,12,1,13],[2,4,2,5],[2,6,2,7],[2,8,2,9],[2,10,2,11],[2,12,2,13],[1,1,3,3],[1,4,1,5],[1,6,1,7],[1,8,1,9],[1,10,1,11],[3,4,3,5],[3,6,3,7],[3,8,3,9],[3,10,3,11],[3,12,3,13],[24,4,24,13],[15,4,15,13],[5,2,5,10],[5,11,5,13],[7,10,7,13],[9,3,9,13],[11,3,11,13],[12,3,12,13],[13,4,13,13],[14,4,14,13],[19,4,19,13],[20,4,20,13],[21,4,21,13],[22,4,22,13],[23,4,23,13],[36,4,36,13],[25,4,25,13],[26,4,26,13],[27,4,27,13],[28,4,28,13],[29,4,29,13],[30,4,30,13],[31,4,31,13],[32,4,32,13],[33,4,33,13],[34,4,34,13],[35,4,35,13],[63,4,63,5],[63,6,63,13],[64,4,64,5],[64,6,64,13],[37,4,37,13],[38,4,38,13],[60,6,60,13],[61,4,61,5],[61,6,61,13],[62,4,62,5],[62,6,62,13],[57,4,57,5],[57,6,57,13],[58,4,58,5],[58,6,58,13],[59,6,59,13],[53,4,53,13],[55,4,55,5],[55,6,55,13],[56,4,56,5],[56,6,56,13],[49,4,49,5],[49,6,49,13],[50,4,50,5],[50,6,50,13],[51,4,51,5],[51,6,51,13],[16,4,16,13],[17,4,17,13],[66,5,66,11],[40,4,40,13],[42,4,42,5],[42,6,42,13],[43,4,43,5],[43,6,43,13],[44,4,44,5],[44,6,44,13],[45,4,45,5],[45,6,45,13],[46,6,46,13],[47,6,47,13],[48,4,48,5],[48,6,48,13]]}
["ausblenden",null,null,null,null,null,null,null,null,null,null,null,null,null,null,"ausblenden","ausblenden"]
[null,{"$f":"Translations!$B$1372","v":"J2. Trajni CCU (hvatanje i korištenje ugljika)"},null,null,{"$f":"Translations!$B$59","v":"Navigacijsko područje:"},null,{"$f":"Translations!$B$60","v":"Sadržaj"},null,{"$f":"Translations!$B$61","v":"Prethodni list"},null,{"$f":"Translations!$B$62","v":"Sljedeći list"}]
[null,null,null,null,{"$f":"Translations!$B$63","v":"Vrh lista"}]
[null,null,null,null,{"$f":"Translations!$B$64","v":"Dno lista"}]
[]
[null,null,{"$f":"Translations!$B$1373","v":"J2. CO2 trajno kemijski vezan u proizvodu"},null,null,null,null,null,null,null,null,{"$f":"IF(AND(NOT(ISBLANK(CNTR_InstHasCCU)), CNTR_InstHasCCU=FALSE),EUconst_NotRelevant,EUconst_Relevant)","v":"relevantno"}]
[]
[null,null,null,null,null,null,null,null,null,null,{"$f":"IF(L6=EUconst_NotRelevant,HYPERLINK(\"#JUMP_K_Top\",EUconst_MsgNextSheet),HYPERLINK(\"\",EUconst_MsgEnterThisSection))","v":"Molimo unesite podatke u ovo polje"}]
[]
[null,null,"19a",{"$f":"Translations!$B$1374","v":"Određivanje količina CO2 trajno kemijski vezanog"}]
[]
[null,null,null,{"$f":"Translations!$B$1375","v":"Napomena: ovaj odjeljak treba ispuniti ako se CO2 hvata i koristi (CCU) u proizvodu u kojem je CO2 trajno kemijski vezan, u skladu s člankom 49a Uredbe. CO2 vezan u proizvodima koji ne zadovoljavaju specifikacije navedene u članku 49.a Uredbe nije ovdje obuhvaćen."}]
[]
[null,null,null,"(a)",{"$f":"Translations!$B$1376","v":"Navedite detaljan opis procesa u kojem je CO2 trajno kemijski vezan."}]
[null,null,null,null,{"$f":"Translations!$B$1377","v":"Navedite sažeti opis pristupa praćenju, uključujući formule, koje se koriste za određivanje godišnje količine CO2 koji je trajno kemijski vezan u proizvodu."}]
[null,null,null,null,{"$f":"Translations!$B$1378","v":"Ovo bi posebno trebalo obuhvatiti proces u kojem je CO2 kemijski vezan, granice sustava procesa, lokaciju (bilo na licu mjesta ili u drugom postrojenju ili subjektu), te relevantni ulazni i izlazni materijal i njihov kemijski sastav, posebno sadržaj ugljika. Provjerite je li ovaj izračun u skladu s člankom 49.a Uredbe."}]
[null,null,null,null,{"$f":"Translations!$B$680","v":"Ako je opis previše složen, npr. primjenjuju se složene formula ili je potrebno napraviti dijagram za pojašnjenje opisa, može se dati opis u posebnom dokumentu. U tom slučaju navedite referencu na taj dokument (navesti naziv i datum dokumenta)."}]
[null,null,null,null,{"$f":"Translations!$B$195","v":"Ovaj opis bi trebao pružiti povezane informacije koje su potrebne za razumijevanje informacija navedenih u drugim dijelovima ovog obrasca te kako se koriste zajedno za izračun emisija. Mogu biti kratke kao dani primjer u listu D_Metodologija proračuna, odjeljak 7(a)."}]
[]
[]
[]
[]
[]
[]
[]
[]
[]
[]
[]
[]
[]
[]
[]
[]
[]
[]
[]
[]
[]
[]
[null,null,null,"(b)",{"$f":"Translations!$B$1379","v":"Ovdje navedite opis postupka koji se koristi za utvrđivanje ispunjava li ili ne proizvod u kojem je CO2 trajno kemijski vezan u skladu s člankom 49.a stavkom 1. Uredbe zahtjeve utvrđene u delegiranoj Uredbi 2024/2620  i vrste uporabe tih proizvoda."}]
[]
[null,null,null,null,{"$f":"Translations!$B$405","v":"Naziv postupka"}]
[null,null,null,null,{"$f":"Translations!$B$407","v":"Oznaka postupka"}]
[null,null,null,null,{"$f":"Translations!$B$409","v":"Oznaka dijagrama (ukoliko je primjenjivo)"}]
[null,null,null,null,{"$f":"Translations!$B$411","v":"Kratki opis postupka"}]
[]
[]
[null,null,null,null,{"$f":"Translations!$B$414","v":"Ustrojstvena jedinica tvrtke odgovorna za postupke i za obradu podataka."}]
[null,null,null,null,{"$f":"Translations!$B$416","v":"Lokacija na kojoj se pohranjuju zapisi"}]
[null,null,null,null,{"$f":"Translations!$B$418","v":"Naziv informatičkog sustava koji se koristi (ako je primjenjivo)."}]
[null,null,null,null,{"$f":"Translations!$B$420","v":"Popis HRN EN i ostalih primjenjenih normi (ako je primjenjivo)"}]
[]
[null,null,null,"(c)",{"$f":"Translations!$B$1380","v":"Ovdje navedite opis postupka korištenog za metodologiju izračuna za određivanje količina trajno kemijski vezanog CO2 u skladu s člankom 49.a stavkom 2. Uredbe"}]
[]
[null,null,null,null,{"$f":"Translations!$B$405","v":"Naziv postupka"}]
[null,null,null,null,{"$f":"Translations!$B$407","v":"Oznaka postupka"}]
[null,null,null,null,{"$f":"Translations!$B$409","v":"Oznaka dijagrama (ukoliko je primjenjivo)"}]
[null,null,null,null,{"$f":"Translations!$B$411","v":"Kratki opis postupka"}]
[]
[]
[null,null,null,null,{"$f":"Translations!$B$414","v":"Ustrojstvena jedinica tvrtke odgovorna za postupke i za obradu podataka."}]
[null,null,null,null,{"$f":"Translations!$B$416","v":"Lokacija na kojoj se pohranjuju zapisi"}]
[null,null,null,null,{"$f":"Translations!$B$418","v":"Naziv informatičkog sustava koji se koristi (ako je primjenjivo)."}]
[null,null,null,null,{"$f":"Translations!$B$420","v":"Popis HRN EN i ostalih primjenjenih normi (ako je primjenjivo)"}]
[]
[null,null,null,null,null,{"$f":"EUconst_MsgNextSheet","v":"<<< Pritisnite ovdje kako bi prešli na slijedeći list >>> "}]

{"sheet":"K_Upravljanje i kontrola","index":13,"n_rows":285,"n_cols":17,"rows_kept":285,"cut":false,"hidden":false,"merged":[[270,4,270,5],[270,6,270,13],[259,4,259,5],[259,6,259,13],[256,4,256,5],[256,6,256,13],[258,6,258,13],[253,4,253,5],[278,4,278,5],[278,6,278,13],[269,6,269,13],[261,6,261,13],[262,6,262,13],[262,4,262,5],[260,6,260,13],[258,4,258,5],[260,4,260,5],[254,4,254,5],[254,6,254,13],[257,4,257,5],[257,6,257,13],[280,6,282,10],[5,11,5,13],[7,10,7,13],[7,2,7,9],[267,4,267,13],[276,4,276,5],[276,6,276,13],[277,4,277,5],[271,4,271,5],[271,6,271,13],[261,4,261,5],[272,4,272,5],[272,6,272,13],[277,6,277,13],[273,6,273,13],[274,6,274,13],[275,4,275,5],[275,6,275,13],[232,4,232,13],[227,4,227,13],[234,4,234,5],[234,6,234,13],[264,3,264,13],[269,4,269,5],[244,6,244,13],[252,4,252,5],[249,4,249,13],[250,4,250,13],[255,6,255,13],[238,6,238,13],[237,6,237,13],[235,6,235,13],[255,4,255,5],[253,6,253,13],[235,4,235,5],[236,4,236,5],[242,4,242,5],[237,4,237,5],[243,4,243,5],[244,4,244,5],[243,6,243,13],[252,6,252,13],[241,6,241,13],[239,6,239,13],[238,4,238,5],[239,4,239,5],[240,4,240,5],[240,6,240,13],[241,4,241,5],[236,6,236,13],[242,6,242,13],[246,3,246,13],[248,4,248,13],[196,6,196,13],[197,6,197,13],[200,6,200,13],[230,3,230,13],[202,6,202,13],[203,6,203,13],[201,4,201,5],[201,6,201,13],[202,4,202,5],[220,4,220,13],[198,4,200,5],[198,6,198,13],[222,4,222,8],[218,4,218,5],[218,6,218,13],[203,4,203,5],[225,4,225,8],[221,4,221,13],[204,4,204,5],[204,6,204,13],[224,4,224,13],[228,4,228,8],[192,4,192,13],[189,4,189,5],[189,6,189,13],[181,6,181,13],[191,4,191,13],[188,4,188,5],[182,4,182,5],[183,4,185,5],[185,6,185,13],[186,4,186,5],[186,6,186,13],[188,6,188,13],[187,6,187,13],[193,4,193,13],[215,4,215,5],[215,6,215,13],[216,4,216,5],[216,6,216,13],[217,4,217,5],[217,6,217,13],[211,4,211,5],[177,4,177,13],[178,4,178,13],[180,4,180,5],[187,4,187,5],[183,6,183,13],[184,6,184,13],[181,4,181,5],[174,4,174,5],[168,4,168,5],[168,6,168,13],[169,4,171,5],[169,6,169,13],[170,6,170,13],[182,6,182,13],[180,6,180,13],[175,4,175,5],[171,6,171,13],[172,4,172,5],[172,6,172,13],[173,4,173,5],[173,6,173,13],[174,6,174,13],[175,6,175,13],[167,4,167,5],[164,4,164,13],[155,4,157,5],[155,6,155,13],[156,6,156,13],[157,6,157,13],[167,6,167,13],[160,6,160,13],[161,4,161,5],[166,4,166,5],[163,4,163,13],[166,6,166,13],[158,6,158,13],[159,4,159,5],[158,4,158,5],[160,4,160,5],[159,6,159,13],[161,6,161,13],[149,4,149,13],[150,4,150,13],[154,6,154,13],[152,4,152,5],[152,6,152,13],[154,4,154,5],[153,4,153,5],[153,6,153,13],[146,4,146,5],[147,6,147,13],[145,4,145,5],[145,6,145,13],[146,6,146,13],[147,4,147,5],[140,4,140,5],[140,6,140,13],[144,4,144,5],[144,6,144,13],[142,6,142,13],[143,6,143,13],[141,4,143,5],[141,6,141,13],[132,4,132,5],[132,6,132,13],[127,6,127,13],[128,6,128,13],[130,6,130,13],[130,4,130,5],[139,4,139,5],[139,6,139,13],[138,4,138,5],[138,6,138,13],[133,4,133,5],[133,6,133,13],[135,4,135,13],[136,4,136,13],[121,4,121,13],[122,4,122,13],[126,4,126,5],[129,6,129,13],[124,6,124,13],[126,6,126,13],[124,4,124,5],[125,6,125,13],[131,4,131,5],[125,4,125,5],[131,6,131,13],[127,4,129,5],[115,6,115,13],[112,4,112,5],[111,6,111,13],[111,4,111,5],[108,4,108,13],[105,3,105,13],[112,6,112,13],[118,4,118,5],[119,4,119,5],[116,6,116,13],[113,6,113,13],[114,6,114,13],[118,6,118,13],[113,4,115,5],[117,6,117,13],[119,6,119,13],[117,4,117,5],[1,1,3,3],[1,4,1,5],[1,6,1,7],[3,4,3,5],[3,6,3,7],[49,6,49,13],[48,6,48,13],[47,6,47,13],[3,12,3,13],[3,10,3,11],[12,4,12,13],[48,4,48,5],[49,4,49,5],[47,4,47,5],[9,3,9,13],[5,2,5,10],[40,4,40,5],[42,6,42,13],[20,7,20,13],[13,4,13,13],[17,4,17,6],[11,4,11,13],[14,4,14,13],[30,4,30,5],[1,12,1,13],[2,4,2,5],[2,6,2,7],[2,8,2,9],[2,10,2,11],[1,10,1,11],[2,12,2,13],[1,8,1,9],[3,8,3,9],[15,4,15,6],[15,7,15,13],[19,4,19,6],[31,4,31,5],[31,6,31,13],[16,4,16,6],[18,7,18,13],[20,4,20,6],[17,7,17,13],[30,6,30,13],[16,7,16,13],[19,7,19,13],[25,7,25,13],[21,4,21,6],[21,7,21,13],[22,4,22,6],[22,7,22,13],[23,4,23,6],[23,7,23,13],[24,4,24,6],[24,7,24,13],[25,4,25,6],[46,6,46,13],[44,6,44,13],[41,6,41,13],[46,4,46,5],[43,4,45,5],[43,6,43,13],[18,4,18,6],[32,6,32,13],[33,4,35,5],[33,6,33,13],[35,6,35,13],[32,4,32,5],[40,6,40,13],[34,6,34,13],[28,4,28,13],[27,4,27,13],[36,6,36,13],[36,4,36,5],[37,4,37,5],[38,4,38,5],[39,4,39,5],[38,6,38,13],[37,6,37,13],[39,6,39,13],[45,6,45,13],[42,4,42,5],[41,4,41,5],[284,5,284,11],[91,4,91,5],[66,4,66,5],[98,6,98,13],[95,6,95,13],[95,4,95,5],[92,4,94,5],[66,6,66,13],[116,4,116,5],[99,4,99,5],[97,6,97,13],[96,4,96,5],[97,4,97,5],[98,4,98,5],[99,6,99,13],[110,6,110,13],[110,4,110,5],[96,6,96,13],[103,6,103,13],[107,4,107,13],[100,4,103,5],[102,6,102,13],[100,6,100,13],[101,6,101,13],[94,6,94,13],[91,6,91,13],[83,3,83,13],[85,4,85,13],[93,6,93,13],[86,4,86,13],[89,4,89,5],[90,4,90,5],[92,6,92,13],[90,6,90,13],[89,6,89,13],[60,4,62,5],[62,6,62,13],[64,6,64,13],[76,4,76,13],[77,4,77,13],[70,4,70,10],[72,4,72,13],[74,4,74,13],[75,4,75,13],[68,4,68,13],[71,4,71,13],[211,6,211,13],[212,4,214,5],[212,6,212,13],[213,6,213,13],[214,6,214,13],[206,4,206,13],[207,4,207,13],[209,4,209,5],[209,6,209,13],[210,4,210,5],[210,6,210,13],[199,6,199,13],[195,4,195,5],[197,4,197,5],[195,6,195,13],[196,4,196,5],[59,4,59,5],[59,6,59,13],[58,4,58,5],[51,4,51,13],[57,4,57,5],[53,4,53,13],[58,6,58,13],[57,6,57,13],[54,4,54,13],[55,4,55,13],[52,4,52,13],[60,6,60,13],[61,6,61,13],[65,6,65,13],[65,4,65,5],[87,4,87,13],[64,4,64,5],[63,6,63,13],[63,4,63,5]]}
["ausblenden",null,null,null,null,null,null,null,null,null,null,null,null,null,null,"ausblenden","ausblenden"]
[null,{"$f":"Translations!$B$722","v":"K. Kontrola upravljanja"},null,null,{"$f":"Translations!$B$59","v":"Navigacijsko područje:"},null,{"$f":"Translations!$B$60","v":"Sadržaj"},null,{"$f":"Translations!$B$61","v":"Prethodni list"},null,{"$f":"Translations!$B$62","v":"Sljedeći list"}]
[null,null,null,null,{"$f":"Translations!$B$63","v":"Vrh lista"},null,{"$f":"Translations!$B$37","v":"Upravljanje"},null,{"$f":"Translations!$B$38","v":"Aktivnosti protoka podataka"},null,{"$f":"Translations!$B$39","v":"Kontrolne aktivnosti"}]
[null,null,null,null,{"$f":"Translations!$B$64","v":"Dno lista"},null,{"$f":"Translations!$B$723","v":"Definicije i kratice"},null,{"$f":"Translations!$B$41","v":"Dodatne informacije"},null,{"$f":"Translations!$B$1152","v":"Daljni postupci"}]
[]
[null,null,{"$f":"Translations!$B$36","v":"K. Upravljanje i kontrola"},null,null,null,null,null,null,null,null,{"$f":"EUconst_Relevant","v":"relevantno"}]
[]
[null,null,{"$f":"Translations!$B$724","v":"Ovaj list je relevantan za sva  postrojenja"},null,null,null,null,null,null,null,{"$f":"IF(L6=EUconst_NotRelevant,HYPERLINK(\"#JUMP_L_Top\",EUconst_MsgNextSheet),HYPERLINK(\"\",EUconst_MsgEnterThisSection))","v":"Molimo unesite podatke u ovo polje"}]
[]
[null,null,20,{"$f":"Translations!$B$37","v":"Upravljanje"}]
[]
[null,null,null,"(a)",{"$f":"Translations!$B$1216","v":"Utvrdite odgovornosti za praćenje i izvješćivanje o emisijama iz postrojenja u skladu s člankom 62. Uredbe o praćenju i izvješćivanju."}]
["\n",null,null,null,{"$f":"Translations!$B$726","v":"Utvrdite relevantne nazive poslova/radnih mjesta i pružite kratak opis njihovih zadaća relevantnih za praćenje i izvješćivanje. Samo oni sa potpunom odgovornosti i drugi s ključnim ulogama trebaju biti navedeni u nastavku (tj. ne uključujte delegirane odgovornosti)."}]
[null,null,null,null,{"$f":"Translations!$B$727","v":"Ovo se može prikazati na organizacijskom dijagramu priloženom uz ovaj obrazac"}]
[null,null,null,null,{"$f":"Translations!$B$728","v":"Ako su protoci podataka (i zapisi s audita) potpuni, sve odgovornosti moraju biti pronađene u opisima procedura i nije potrebno dodavati druge osobe."}]
[null,null,null,null,{"$f":"Translations!$B$729","v":"Naziv radnog mjesta"},null,null,{"$f":"Translations!$B$730","v":"Odgovornosti"}]
[]
[]
[]
[]
[]
[]
[]
[]
[]
[]
[]
["\n\n",null,null,"(b)",{"$f":"Translations!$B$1217","v":"Navedite pojedinosti o postupku za upravljanje dodjelom odgovornosti za praćenje i izvješćivanje unutar postrojenja te za upravljanje kompetencijama odgovornog osoblja u skladu s člankom 59. stavkom 3. točkom (c) Uredbe o praćenju i izvješćivanju."}]
[null,null,null,null,{"$f":"Translations!$B$732","v":"Ova procedura treba utvrditi kako su raspodijeljene odgovornosti za praćenje i izvješćivanje te kako su organizirane edukacije i auditi. Također opisati kako su zadaci raspodijeljeni tako da sve relevantne podatke potvrđuje osoba koja nije sudjelovala na prikupljanju i arhiviranju  podataka."}]
[]
["HIDE_Example",null,null,null,{"$f":"Translations!$B$405","v":"Naziv postupka"},null,{"$f":"Translations!$B$733","v":"ETS upravljanje osobljem"}]
["HIDE_Example",null,null,null,{"$f":"Translations!$B$407","v":"Oznaka postupka"}]
["HIDE_Example",null,null,null,{"$f":"Translations!$B$409","v":"Oznaka dijagrama (ukoliko je primjenjivo)"}]
["HIDE_Example",null,null,null,{"$f":"Translations!$B$411","v":"Kratki opis postupka"},null,{"$f":"Translations!$B$734","v":"• Odgovorna osoba ažurira popis osoblja koje je uključeno u ETS upravljanje podacima.\n\n"}]
["HIDE_Example",null,null,null,null,null,{"$f":"Translations!$B$735","v":"• Odgovorna osoba organizira barem jedan sastanak godišnje sa svakom uključenom osobom, najmanje četiri sastanka s ključnim osobljem kao što je definirano u prilogu procedure; Cilj: Identifikacija potreba za edukacijom."}]
["HIDE_Example",null,null,null,null,null,{"$f":"Translations!$B$736","v":"• Odgovorna osoba upravlja internom i vanjskom edukacijom prema utvrđenim potrebama."}]
["HIDE_Example",null,null,null,{"$f":"Translations!$B$414","v":"Ustrojstvena jedinica tvrtke odgovorna za postupke i za obradu podataka."},null,{"$f":"Translations!$B$737","v":"Zaštita okoliša, zamjenik voditelja ureda"}]
["HIDE_Example",null,null,null,{"$f":"Translations!$B$416","v":"Lokacija na kojoj se pohranjuju zapisi"},null,{"$f":"Translations!$B$738","v":"Papirnata kopija: Ured Zaštite okoliša, Registrator oznake \"ETS 01-P\". Elektronički: “P:\\ETS_MRV\\upravljanje-kvalitetom\\ETS_01-P.xls"}]
["HIDE_Example",null,null,null,{"$f":"Translations!$B$418","v":"Naziv informatičkog sustava koji se koristi (ako je primjenjivo)."},null,{"$f":"Translations!$B$739","v":"N.P. (uobičajeni operativni sustav)"}]
["HIDE_Example",null,null,null,{"$f":"Translations!$B$420","v":"Popis HRN EN i ostalih primjenjenih normi (ako je primjenjivo)"},null,{"$f":"Translations!$B$410","v":"N.P. nije primjenjivo"}]
[null,null,null,null,{"$f":"Translations!$B$405","v":"Naziv postupka"}]
[null,null,null,null,{"$f":"Translations!$B$407","v":"Oznaka postupka"}]
[null,null,null,null,{"$f":"Translations!$B$409","v":"Oznaka dijagrama (ukoliko je primjenjivo)"}]
[null,null,null,null,{"$f":"Translations!$B$411","v":"Kratki opis postupka"}]
[]
[]
[null,null,null,null,{"$f":"Translations!$B$414","v":"Ustrojstvena jedinica tvrtke odgovorna za postupke i za obradu podataka."}]
[null,null,null,null,{"$f":"Translations!$B$416","v":"Lokacija na kojoj se pohranjuju zapisi"}]
[null,null,null,null,{"$f":"Translations!$B$418","v":"Naziv informatičkog sustava koji se koristi (ako je primjenjivo)."}]
[null,null,null,null,{"$f":"Translations!$B$420","v":"Popis HRN EN i ostalih primjenjenih normi (ako je primjenjivo)"}]
[]
[null,null,null,"(c) ",{"$f":"Translations!$B$740","v":"Navedite pojedinosti o proceduri koja se koristi za redovitu procjenu prikladnosti plana praćenja, obuhvaćajući osobito sve potencijalne mjere za poboljšanje metodologije praćenja."}]
[null,null,null,null,{"$f":"Translations!$B$741","v":"Procedura treba obuhvatiti slijedeće:"}]
[null,null,null,null,{"$f":"Translations!$B$742","v":"i - provjeru popisa izvora emisija i tokova izvora, osiguranje cjelovitosti emisija i tokova izvora i da su sve relevantne promjene u  funkcioniranju postrojenja uključene u plan praćenja;"}]
[null,null,null,null,{"$f":"Translations!$B$743","v":"ii - ocjenu usklađenosti s pragovima nesigurnosti za podatke o djelatnosti i ostale parametre (gdje je primjenjivo) za primijenjene razine točnosti za svaki tok izvora i izvora emisije; i"}]
[null,null,null,null,{"$f":"Translations!$B$744","v":"iii - procjenu mogućih mjera za poboljšanje primjenjene metodologije praćenja."}]
[]
[null,null,null,null,{"$f":"Translations!$B$405","v":"Naziv postupka"}]
[null,null,null,null,{"$f":"Translations!$B$407","v":"Oznaka postupka"}]
[null,null,null,null,{"$f":"Translations!$B$409","v":"Oznaka dijagrama (ukoliko je primjenjivo)"}]
[null,null,null,null,{"$f":"Translations!$B$411","v":"Kratki opis postupka"}]
[]
[]
[null,null,null,null,{"$f":"Translations!$B$414","v":"Ustrojstvena jedinica tvrtke odgovorna za postupke i za obradu podataka."}]
[null,null,null,null,{"$f":"Translations!$B$416","v":"Lokacija na kojoj se pohranjuju zapisi"}]
[null,null,null,null,{"$f":"Translations!$B$418","v":"Naziv informatičkog sustava koji se koristi (ako je primjenjivo)."}]
[null,null,null,null,{"$f":"Translations!$B$420","v":"Popis HRN EN i ostalih primjenjenih normi (ako je primjenjivo)"}]
[]
[null,null,null,"(d) ",{"$f":"Translations!$B$1218","v":"Izvješća o poboljšanjima na temelju članka 69. stavka 1. Uredbe o praćenju i izvješćivanju"}]
[]
[null,null,null,"i.",{"$f":"Translations!$B$1219","v":"Da li neka od zahtijevanih razina nije postignuta ili je primijenjena nadomjesna metodologija?"}]
[null,null,null,null,{"$f":"Translations!$B$1220","v":"Odaberite „TRUE” ako za bilo koji parametar glavnog ili manjeg toka izvora ili izvora emisija nisu postignute zahtijevane razine ili ako je primijenjena nadomjesna metodologija (članak 22.). U tom slučaju operater mora redovito podnositi izvješća o poboljšanjima na temelju članka 69. stavka 1. Uredbe"}]
[null,null,null,null,{"$f":"Translations!$B$1221","v":"Imajte na umu da se ovim odjeljkom operateri ne izuzimaju od obveze podnošenja izvješća o poboljšanjima na temelju članka 69. stavka 4. Uredbe"}]
[]
[null,null,null,"ii.",{"$f":"Translations!$B$1222","v":"Rok za sljedeće izvješće o poboljšanjima na temelju članka 69. stavka 1. Uredbe, ako je primjenjivo"}]
[null,null,null,null,{"$f":"Translations!$B$1223","v":"Ovaj je odjeljak relevantan samo ako je operater odabrao „TRUE” u prethodnoj točki i."}]
[null,null,null,null,{"$f":"Translations!$B$1381","v":"Rok za izvješća o poboljšanju je svake dvije godine za kategoriju C, svake tri godine za kategoriju B i pet godina za postrojenja kategorije A."}]
[null,null,null,null,{"$f":"Translations!$B$1225","v":"Međutim, nadležno tijelo može produljiti to razdoblje na tri, četiri, odnosno pet godina ako mu operater može dokazati da razlozi neopravdano visokih troškova ili tehničke neizvedivosti ostaju na snazi dulje vrijeme."}]
[]
[null,null,null,null,2021,2022,2023,2024,2025,2026,2027,2028,2029,2030]
[]
[null,null,null,null,{"$f":"IF(OR(E81=\"\",E81=EUconst_NA),\"\",DATE(E80,MATCH(E81,EUconst_IRMonth,0)+5,1)-1)","v":""},"","","","","","","","",""]
[]
[null,null,21,{"$f":"Translations!$B$38","v":"Aktivnosti protoka podataka"}]
[]
[null,null,null,"(a)",{"$f":"Translations!$B$1226","v":"Navedite pojedinosti o postupcima za upravljanje aktivnostima protoka podataka u skladu s člankom 58. Uredbe o praćenju i izvješćivanju."}]
[null,null,null,null,{"$f":"Translations!$B$746","v":"Kada se koristi više procedura, navedite pojedinosti o \"Proceduri za upravljanje dokumentima\" koja pokriva glavne korake aktivnosti protoka podataka. Također priložite dijagram koji pokazuje kako se povezuju procedure upravljanja podacima  (navedite referencu na ovaj dijagram te ga priložite uz plan praćenja). Kratki opis dodatnih procedura možete navesti na posebnom listu.\n\n\n\n\n"}]
[null,null,null,null,{"$f":"Translations!$B$747","v":"Pod \"Opis relevantnih procesnih koraka\", utvrdite sve korake u protoku podataka od primarnih podataka do godišnjih emisija koje opisuju slijed i interakciju između aktivnosti protoka podataka te uključuju formule i podatke koji se koriste kako bi se utvrdile emisije iz primarnih podataka. Uključite podatke o svim relevantnim elektronskim obradama podataka i sustavima za pohranu i ostalih čimbenika (uključujući ručne unose) i potvrdite kako se snimaju aktivnosti izlaznih protoka podataka."}]
[]
[null,null,null,null,{"$f":"Translations!$B$405","v":"Naziv postupka"}]
[null,null,null,null,{"$f":"Translations!$B$407","v":"Oznaka postupka"}]
[null,null,null,null,{"$f":"Translations!$B$409","v":"Oznaka dijagrama (ukoliko je primjenjivo)"}]
[null,null,null,null,{"$f":"Translations!$B$411","v":"Kratki opis postupka"}]
[]
[]
[null,null,null,null,{"$f":"Translations!$B$414","v":"Ustrojstvena jedinica tvrtke odgovorna za postupke i za obradu podataka."}]
[null,null,null,null,{"$f":"Translations!$B$416","v":"Lokacija na kojoj se pohranjuju zapisi"}]
[null,null,null,null,{"$f":"Translations!$B$418","v":"Naziv informatičkog sustava koji se koristi (ako je primjenjivo)."}]
[null,null,null,null,{"$f":"Translations!$B$420","v":"Popis HRN EN i ostalih primjenjenih normi (ako je primjenjivo)"}]
[null,null,null,null,{"$f":"Translations!$B$748","v":"Popis primarnih izvora podataka"}]
[null,null,null,null,{"$f":"Translations!$B$749","v":"Opis relevantnih procesnih koraka za svaku specfičnu aktivnost protoka podataka"}]
[]
[]
[]
[]
[null,null,22,{"$f":"Translations!$B$39","v":"Kontrolne aktivnosti"}]
[]
[null,null,null,"(a)",{"$f":"Translations!$B$1227","v":"Navedite pojedinosti o postupcima za procjenu inherentnih rizika i rizika pri nadzoru u skladu s člankom 59. Uredbe o praćenju i izvješćivanju."}]
[null,null,null,null,{"$f":"Translations!$B$751","v":"Kratki opis bi trebao  utvrditi kako se provode procjene inherentih rizika i rizika pri nadzoru prilikom uspostavljanja učinkovitog nadzornog sustava."}]
[]
[null,null,null,null,{"$f":"Translations!$B$405","v":"Naziv postupka"}]
[null,null,null,null,{"$f":"Translations!$B$407","v":"Oznaka postupka"}]
[null,null,null,null,{"$f":"Translations!$B$409","v":"Oznaka dijagrama (ukoliko je primjenjivo)"}]
[null,null,null,null,{"$f":"Translations!$B$411","v":"Kratki opis postupka"}]
[]
[]
[null,null,null,null,{"$f":"Translations!$B$414","v":"Ustrojstvena jedinica tvrtke odgovorna za postupke i za obradu podataka."}]
[null,null,null,null,{"$f":"Translations!$B$416","v":"Lokacija na kojoj se pohranjuju zapisi"}]
[null,null,null,null,{"$f":"Translations!$B$418","v":"Naziv informatičkog sustava koji se koristi (ako je primjenjivo)."}]
[null,null,null,null,{"$f":"Translations!$B$420","v":"Popis HRN EN i ostalih primjenjenih normi (ako je primjenjivo)"}]
[]
[null,null,null,"(b)",{"$f":"Translations!$B$1228","v":"Navedite pojedinosti o postupcima za osiguravanje kvalitete mjerne opreme u skladu s člancima 59. i 60. Uredbe o praćenju i izvješćivanju."}]
[null,null,null,null,{"$f":"Translations!$B$753","v":"Kratak opis bi trebao utvrditi kako se mjerna oprema kalibrira i provjerava u pravilnim razmacima, ako je primijenjivo, i kako se rješava nesukladnost sa zahtijevanom izvedbom."}]
[]
[null,null,null,null,{"$f":"Translations!$B$405","v":"Naziv postupka"}]
[null,null,null,null,{"$f":"Translations!$B$407","v":"Oznaka postupka"}]
[null,null,null,null,{"$f":"Translations!$B$409","v":"Oznaka dijagrama (ukoliko je primjenjivo)"}]
[null,null,null,null,{"$f":"Translations!$B$411","v":"Kratki opis postupka"}]
[]
[]
[null,null,null,null,{"$f":"Translations!$B$414","v":"Ustrojstvena jedinica tvrtke odgovorna za postupke i za obradu podataka."}]
[null,null,null,null,{"$f":"Translations!$B$416","v":"Lokacija na kojoj se pohranjuju zapisi"}]
[null,null,null,null,{"$f":"Translations!$B$418","v":"Naziv informatičkog sustava koji se koristi (ako je primjenjivo)."}]
[null,null,null,null,{"$f":"Translations!$B$420","v":"Popis HRN EN i ostalih primjenjenih normi (ako je primjenjivo)"}]
[]
[null,null,null,"(c)",{"$f":"Translations!$B$1229","v":"Navedite pojedinosti o postupcima za osiguravanje kvalitete informacijske tehnologije koja se upotrebljava za aktivnosti protoka podataka u skladu s člancima 59 i 61. Uredbe o praćenju i izvješćivanju."}]
[null,null,null,null,{"$f":"Translations!$B$755","v":"Kratak opis bi trebao identificirati kako se testira i kontrolira informacijska tehnologija, uključujući kontrolu pristupa, pohranjivanje (back-up), oporavak i sigurnost."}]
[]
[null,null,null,null,{"$f":"Translations!$B$405","v":"Naziv postupka"}]
[null,null,null,null,{"$f":"Translations!$B$407","v":"Oznaka postupka"}]
[null,null,null,null,{"$f":"Translations!$B$409","v":"Oznaka dijagrama (ukoliko je primjenjivo)"}]
[null,null,null,null,{"$f":"Translations!$B$411","v":"Kratki opis postupka"}]
[]
[]
[null,null,null,null,{"$f":"Translations!$B$414","v":"Ustrojstvena jedinica tvrtke odgovorna za postupke i za obradu podataka."}]
[null,null,null,null,{"$f":"Translations!$B$416","v":"Lokacija na kojoj se pohranjuju zapisi"}]
[null,null,null,null,{"$f":"Translations!$B$418","v":"Naziv informatičkog sustava koji se koristi (ako je primjenjivo)."}]
[null,null,null,null,{"$f":"Translations!$B$420","v":"Popis HRN EN i ostalih primjenjenih normi (ako je primjenjivo)"}]
[]
[null,null,null,"(d)",{"$f":"Translations!$B$1230","v":"Navedite pojedinosti o postupcima za osiguravanje redovitih internih pregleda i potvrđivanja podataka u skladu s člancima 59. i 63. Uredbe o praćenju i izvješćivanju."}]
[null,null,null,null,{"$f":"Translations!$B$757","v":"Kratak opis treba utvrditi da proces pregleda i ocjene uključuje provjeru da li su podaci potpuni, usporedbu s podacima prethodnih godina, usporedbu potrošnje goriva u izvještaju  s evidencijom o kupnji, usporedbu faktora dobivenih za gorivo od dobavljača s međunarodnim referentnim faktorima, ako je moguće, te kriterije za odbijanje podataka."}]
[]
[null,null,null,null,{"$f":"Translations!$B$405","v":"Naziv postupka"}]
[null,null,null,null,{"$f":"Translations!$B$407","v":"Oznaka postupka"}]
[null,null,null,null,{"$f":"Translations!$B$409","v":"Oznaka dijagrama (ukoliko je primjenjivo)"}]
[null,null,null,null,{"$f":"Translations!$B$411","v":"Kratki opis postupka"}]
[]
[]
[null,null,null,null,{"$f":"Translations!$B$414","v":"Ustrojstvena jedinica tvrtke odgovorna za postupke i za obradu podataka."}]
[null,null,null,null,{"$f":"Translations!$B$416","v":"Lokacija na kojoj se pohranjuju zapisi"}]
[null,null,null,null,{"$f":"Translations!$B$418","v":"Naziv informatičkog sustava koji se koristi (ako je primjenjivo)."}]
[null,null,null,null,{"$f":"Translations!$B$420","v":"Popis HRN EN i ostalih primjenjenih normi (ako je primjenjivo)"}]
[]
[null,null,null,"(e)",{"$f":"Translations!$B$1231","v":"Navedite pojedinosti o postupcima za obavljanje ispravaka i korektivnih radnji u skladu s člancima 59. i 64. Uredbe o praćenju i izvješćivanju."}]
[null,null,null,null,{"$f":"Translations!$B$759","v":"Kratak opis bi trebao utvrditi koje odgovarajuće mjere se poduzimaju ako aktivnosti protoka podataka i kontrole aktivnosti ne funkcioniraju učinkovito. Postupak bi trebao naznačiti kako se procjenjuje valjanost rezultata, provođenje postupka utvrđivanja uzroka pogreške i kako se pogreška rješava."}]
[]
[null,null,null,null,{"$f":"Translations!$B$405","v":"Naziv postupka"}]
[null,null,null,null,{"$f":"Translations!$B$407","v":"Oznaka postupka"}]
[null,null,null,null,{"$f":"Translations!$B$409","v":"Oznaka dijagrama (ukoliko je primjenjivo)"}]
[null,null,null,null,{"$f":"Translations!$B$411","v":"Kratki opis postupka"}]
[]
[]
[null,null,null,null,{"$f":"Translations!$B$414","v":"Ustrojstvena jedinica tvrtke odgovorna za postupke i za obradu podataka."}]
[null,null,null,null,{"$f":"Translations!$B$416","v":"Lokacija na kojoj se pohranjuju zapisi"}]
[null,null,null,null,{"$f":"Translations!$B$418","v":"Naziv informatičkog sustava koji se koristi (ako je primjenjivo)."}]
[null,null,null,null,{"$f":"Translations!$B$420","v":"Popis HRN EN i ostalih primjenjenih normi (ako je primjenjivo)"}]
[]
[null,null,null,"(f)",{"$f":"Translations!$B$1232","v":"Navedite pojedinosti o postupcima za nadzor nad procesima koje obavljaju vanjski izvođači u skladu s člancima 59. i 65. Uredbe o praćenju i izvješćivanju."}]
[null,null,null,null,{"$f":"Translations!$B$761","v":"Kratak opis bi trebao utvrditi kako se provjeravaju aktivnosti protoka podataka i kontrolnih aktivnosti vanjskih procesa i koje provjere se poduzimaju da bi se osigurala kvaliteta dobivenih podataka."}]
[]
[null,null,null,null,{"$f":"Translations!$B$405","v":"Naziv postupka"}]
[null,null,null,null,{"$f":"Translations!$B$407","v":"Oznaka postupka"}]
[null,null,null,null,{"$f":"Translations!$B$409","v":"Oznaka dijagrama (ukoliko je primjenjivo)"}]
[null,null,null,null,{"$f":"Translations!$B$411","v":"Kratki opis postupka"}]
[]
[]
[null,null,null,null,{"$f":"Translations!$B$414","v":"Ustrojstvena jedinica tvrtke odgovorna za postupke i za obradu podataka."}]
[null,null,null,null,{"$f":"Translations!$B$416","v":"Lokacija na kojoj se pohranjuju zapisi"}]
[null,null,null,null,{"$f":"Translations!$B$418","v":"Naziv informatičkog sustava koji se koristi (ako je primjenjivo)."}]
[null,null,null,null,{"$f":"Translations!$B$420","v":"Popis HRN EN i ostalih primjenjenih normi (ako je primjenjivo)"}]
[]
[null,null,null,"(g)",{"$f":"Translations!$B$1233","v":"Navedite pojedinosti o postupcima za rješavanje problema u pogledu podataka koji nedostaju u skladu s člankom 66. Uredbe o praćenju i izvješćivanju."}]
[null,null,null,null,{"$f":"Translations!$B$1234","v":"U kratkom opisu treba utvrditi kako će se nedostatak podataka ukloniti primjenom odgovarajuće metode procjene za određivanje konzervativnih zamjenskih podataka za odgovarajuće razdoblje i parametar koji nedostaje."}]
[null,null,null,null,{"$f":"Translations!$B$1235","v":"Taj je postupak obavezan samo ako nedostaju relevantni podaci, ali preporučuje se da se u svakom slučaju uspostavi radi osiguravanja sukladnosti čak i u slučaju nedostatka podataka."}]
[]
[null,null,null,null,{"$f":"Translations!$B$405","v":"Naziv postupka"}]
[null,null,null,null,{"$f":"Translations!$B$407","v":"Oznaka postupka"}]
[null,null,null,null,{"$f":"Translations!$B$409","v":"Oznaka dijagrama (ukoliko je primjenjivo)"}]
[null,null,null,null,{"$f":"Translations!$B$411","v":"Kratki opis postupka"}]
[]
[]
[null,null,null,null,{"$f":"Translations!$B$414","v":"Ustrojstvena jedinica tvrtke odgovorna za postupke i za obradu podataka."}]
[null,null,null,null,{"$f":"Translations!$B$416","v":"Lokacija na kojoj se pohranjuju zapisi"}]
[null,null,null,null,{"$f":"Translations!$B$418","v":"Naziv informatičkog sustava koji se koristi (ako je primjenjivo)."}]
[null,null,null,null,{"$f":"Translations!$B$420","v":"Popis HRN EN i ostalih primjenjenih normi (ako je primjenjivo)"}]
[]
[null,null,null,"(h)",{"$f":"Translations!$B$1272","v":"Navedite pojedinosti o postupcima za upravljanje vođenjem evidencije i dokumentacije u skladu s člancima 59. i 67. Uredbe o praćenju i izvješćivanju."}]
[null,null,null,null,{"$f":"Translations!$B$763","v":"Kratak opis bi trebao utvrditi proces čuvanja dokumenata, posebno u odnosu na podatke i informacije propisane u Prilogu IX Uredbe te kako se podaci pohranjuju, na način da su podaci dostupni na zahtjev nadležnog tijela ili verifikatora."}]
[]
[null,null,null,null,{"$f":"Translations!$B$405","v":"Naziv postupka"}]
[null,null,null,null,{"$f":"Translations!$B$407","v":"Oznaka postupka"}]
[null,null,null,null,{"$f":"Translations!$B$409","v":"Oznaka dijagrama (ukoliko je primjenjivo)"}]
[null,null,null,null,{"$f":"Translations!$B$411","v":"Kratki opis postupka"}]
[]
[]
[null,null,null,null,{"$f":"Translations!$B$414","v":"Ustrojstvena jedinica tvrtke odgovorna za postupke i za obradu podataka."}]
[null,null,null,null,{"$f":"Translations!$B$416","v":"Lokacija na kojoj se pohranjuju zapisi"}]
[null,null,null,null,{"$f":"Translations!$B$418","v":"Naziv informatičkog sustava koji se koristi (ako je primjenjivo)."}]
[null,null,null,null,{"$f":"Translations!$B$420","v":"Popis HRN EN i ostalih primjenjenih normi (ako je primjenjivo)"}]
[]
[null,null,null,"(i)",{"$f":"Translations!$B$764","v":"Navedite referencu na dokumentirane rezultate procjene rizika koji pokazuju da su kontrolne aktivnosti i postupci primjereni utvrđenim rizicima u skladu s člankom 12. stavkom 1b. Uredbe. (Napomena: Zahtjev za dostavu procjene rizika nadležnom tijelu ne primjenjuje se na postrojenja s niskim emisijama, u skladu s člankom 47. stavkom  3. Uredbe.\n\n\n\n\n"}]
[null,null,null,null,{"$f":"Translations!$B$1236","v":"U okviru u nastavku navedite datoteku/dokument s procjenom rizika."}]
[]
[]
["\n",null,null,"(j)",{"$f":"Translations!$B$766","v":"Ima li vaša organizacija dokumentiran sustav upravljanja okolišem?"}]
[]
[]
["\n",null,null,"(k)",{"$f":"Translations!$B$767","v":"Ako je sustav upravljanja okolišem certificiran od akreditirane organizacije, molimo specificirajte na koje se standarde to odnosi npr. ISO14001, EMAS, itd."}]
[]
[]
[null,null,23,{"$f":"Translations!$B$40","v":"Lista korištenih definicija i skraćenica"}]
[]
[null,null,null,"(a)",{"$f":"Translations!$B$768","v":"Navedite listu kratica, akronima ili definicija koje ste koristili za kompletiranje plana praćenja."}]
[]
[null,null,null,null,{"$f":"Translations!$B$769","v":"Kratice"},null,{"$f":"Translations!$B$770","v":"Definicije   "}]
[]
[]
[]
[]
[]
[]
[]
[]
[]
[]
[]
[null,null,24,{"$f":"Translations!$B$41","v":"Dodatne informacije"}]
[]
[null,null,null,"(a)",{"$f":"Translations!$B$771","v":"Ako pružate bilo kakve druge informacije koje želite da uzmemo u obzir vezano za vaš ​​plan, navedite to ovdje. Molimo dostavite te informacije u elektroničkom obliku, gdje god je to moguće. Informacije možete pružiti u Microsoft Word, Excel ili Adobe Acrobat formatu."}]
[null,null,null,null,{"$f":"Translations!$B$772","v":"Savjetujemo vam da izbjegavate pružanje nevažnih informacija iz razloga što to može usporiti odobrenje. Dodatna dokumentacija koju treba navesti mora biti jasno referencirana i naziv datoteke/referentni broj mora biti naveden u nastavku. Ako je potrebno, provjerite sa svojim nadležnim tijelom"}]
[null,null,null,null,{"$f":"Translations!$B$773","v":"Navedite naziv datoteke(a)(ako je u elektronskom formatu) ili referencu dokumenta (ako je u papirnatoj kopiji) dolje niže:"}]
[]
[null,null,null,null,{"$f":"Translations!$B$774","v":"Ime datoteke/referenca"},null,{"$f":"Translations!$B$775","v":"Opis dokumenta"}]
[]
[]
[]
[]
[]
[]
[]
[]
[]
[]
[]
[null,null,25,{"$f":"Translations!$B$1152","v":"Daljni postupci"}]
[]
["ausblenden"]
["ausblenden",null,null,null,{"$f":"Translations!$B$1150","v":"Daljnji postupak dodan od strane postrojenja"}]
["ausblenden"]
["ausblenden",null,null,null,{"$f":"Translations!$B$405","v":"Naziv postupka"}]
["ausblenden",null,null,null,{"$f":"Translations!$B$407","v":"Oznaka postupka"}]
["ausblenden",null,null,null,{"$f":"Translations!$B$409","v":"Oznaka dijagrama (ukoliko je primjenjivo)"}]
["ausblenden",null,null,null,{"$f":"Translations!$B$411","v":"Kratki opis postupka"}]
["ausblenden"]
["ausblenden"]
["ausblenden",null,null,null,{"$f":"Translations!$B$414","v":"Ustrojstvena jedinica tvrtke odgovorna za postupke i za obradu podataka."}]
["ausblenden",null,null,null,{"$f":"Translations!$B$416","v":"Lokacija na kojoj se pohranjuju zapisi"}]
["ausblenden",null,null,null,{"$f":"Translations!$B$418","v":"Naziv informatičkog sustava koji se koristi (ako je primjenjivo)."}]
["ausblenden",null,null,null,{"$f":"Translations!$B$420","v":"Popis HRN EN i ostalih primjenjenih normi (ako je primjenjivo)"}]
["ADD_Procedure"]
[null,null,null,null,null,null,{"$f":"Translations!$B$429","v":"Pritisnite \"+\" kako bi dodali više postupaka"}]
[]
[]
[]
[null,null,null,null,null,{"$f":"EUconst_MsgNextSheet","v":"<<< Pritisnite ovdje kako bi prešli na slijedeći list >>> "}]

{"sheet":"L_Specifične dodatne inform.","index":14,"n_rows":9,"n_cols":8,"rows_kept":9,"cut":false,"hidden":false,"merged":[[28,1,28,12],[34,1,34,12],[30,1,30,12],[31,1,31,12],[32,1,32,12],[33,1,33,12],[29,1,29,12],[27,1,27,12],[12,1,12,12],[13,1,13,12],[26,1,26,12],[14,1,14,12],[15,1,15,12],[16,1,16,12],[17,1,17,12],[22,1,22,12],[23,1,23,12],[25,1,25,12],[18,1,18,12],[19,1,19,12],[20,1,20,12],[21,1,21,12],[24,1,24,12],[10,1,10,12],[11,1,11,12],[4,1,4,9],[6,2,6,12],[8,1,8,12],[9,1,9,12],[2,9,2,10],[0,0,2,2],[0,3,0,4],[0,5,0,6],[0,7,0,8],[0,9,0,10],[1,3,1,4],[1,5,1,6],[1,7,1,8],[1,9,1,10],[2,3,2,4],[2,5,2,6],[2,7,2,8]]}
[{"$f":"Translations!$B$781","v":"L. Specifični sadržaj za Republiku Hrvatsku"},null,null,{"$f":"Translations!$B$59","v":"Navigacijsko područje:"},null,{"$f":"Translations!$B$60","v":"Sadržaj"},null,{"$f":"Translations!$B$61","v":"Prethodni list"}]
[null,null,null,{"$f":"Translations!$B$63","v":"Vrh lista"}]
[]
[]
[null,{"$f":"Translations!$B$43","v":"L. Specifične dodatne informacije države članice"}]
[]
[null,26,{"$f":"Translations!$B$44","v":"Komentari"}]
[]
[null,{"$f":"Translations!$B$782","v":"Prostor za dodatne komentare:"}]

{"sheet":"M_Izračun","index":15,"n_rows":135,"n_cols":156,"rows_kept":135,"cut":false,"hidden":false,"merged":[[108,40,108,47],[108,48,108,53],[8,47,8,54],[8,55,8,62],[8,63,8,70],[8,39,8,46],[2,13,2,19],[2,25,2,31],[88,8,88,12],[108,9,108,11],[108,12,108,14],[108,15,108,17],[108,18,108,20],[108,21,108,23],[108,24,108,31],[8,14,8,18],[8,23,8,30],[8,31,8,38],[108,32,108,39]]}
[null,null,null,null,null,null,null,null,null,null,null,null,null,null,null,null,null,null,null,null,null,null,null,null,null,null,null,null,null,null,null,null,null,null,null,null,null,null,null,null,null,null,null,null,null,null,null,null,null,null,null,null,null,null,null,null,null,null,null,null,null,null,null,null,null,null,null,null,null,null,null,null,null,null,null,null,null,null,null,null,null,null,null,null,null,null,null,"ausblenden","ausblenden","ausblenden","ausblenden","ausblenden","ausblenden","ausblenden","ausblenden","ausblenden","ausblenden","ausblenden","ausblenden","ausblenden","ausblenden","ausblenden","ausblenden","ausblenden","ausblenden","ausblenden","ausblenden","ausblenden","ausblenden","ausblenden","ausblenden","ausblenden","ausblenden","ausblenden","ausblenden","ausblenden","ausblenden","ausblenden","ausblenden","ausblenden","ausblenden","ausblenden","ausblenden","ausblenden","ausblenden","ausblenden","ausblenden","ausblenden","ausblenden","ausblenden","ausblenden","ausblenden","ausblenden","ausblenden","ausblenden","ausblenden","ausblenden","ausblenden","ausblenden","ausblenden","ausblenden","ausblenden","ausblenden","ausblenden","ausblenden","ausblenden","ausblenden","ausblenden","ausblenden","ausblenden","ausblenden","ausblenden","ausblenden","ausblenden","ausblenden","ausblenden"]
[null,{"$f":"Translations!$B$1237","v":"Opće informacije"}]
[null,null,null,null,null,null,null,null,null,null,null,null,null,{"$f":"'C_Opis postrojenja'!$E$42","v":"Lista djelatnosti u postrojenju sukladno Prilogu I. Uredbe o načinu trgovanja emisijskim jedinicama stakleničkih plinova (NN 89/20)."},null,null,null,null,null,null,null,null,null,null,null,{"$f":"'C_Opis postrojenja'!$E$90","v":"Metodologija praćenja predložena za primjenu:"}]
[null,{"$f":"'B_Iden. operatora i postrojenja'!$E$24","v":"Jedinstveni ID postrojenja (kao i u Obrascu o podacima o djelatnostima-NIMs)"},{"$f":"Translations!$B$156","v":"Naziv operatera"},{"$f":"Translations!$B$47","v":"Naziv postrojenja:"},{"$f":"Translations!$B$152","v":"Nadležno tijelo"},{"$f":"'B_Iden. operatora i postrojenja'!G46","v":"Zvanje (npr. mag, ing., prof.):"},{"$f":"'B_Iden. operatora i postrojenja'!G47","v":"Ime:"},{"$f":"'B_Iden. operatora i postrojenja'!G48","v":"Prezime:"},{"$f":"'B_Iden. operatora i postrojenja'!G49","v":"Naziv radnog mjesta:"},{"$f":"'B_Iden. operatora i postrojenja'!G50","v":"Naziv organizacije (ako je drugačiji od naziva operatera):"},{"$f":"'B_Iden. operatora i postrojenja'!G52","v":"Broj telefona i mobitela:"},{"$f":"'B_Iden. operatora i postrojenja'!G53","v":"E-mail adresa:"},{"$f":"'C_Opis postrojenja'!$E$38","v":"Naziv i referenca dokumenta Dijagram tokova izvora"},1,2,3,4,5,6,7,{"$f":"'C_Opis postrojenja'!$E$70","v":"Procjenjene godišnje emisije"},{"$f":"'C_Opis postrojenja'!$E$71","v":"Kategorija postrojenja u skladu s člankom 19."},{"$f":"'C_Opis postrojenja'!$E$73","v":"Postrojenje s niskim emisijama"},{"$f":"'C_Opis postrojenja'!$E$82","v":"Procijenjene emisije pod točkom d) ili e) na temelju konzervativnih procjena?"},{"$f":"'C_Opis postrojenja'!$E$82","v":"Procijenjene emisije pod točkom d) ili e) na temelju konzervativnih procjena?"},{"$f":"'C_Opis postrojenja'!E96","v":"Metodologija proračuna CO2:"},{"$f":"'C_Opis postrojenja'!E97","v":"Metodologija mjerenja CO2:"},{"$f":"'C_Opis postrojenja'!E98","v":"Nadomjesna metodologija (članak 22.):"},{"$f":"'C_Opis postrojenja'!E99","v":"Praćenje N2O emisija:"},{"$f":"'C_Opis postrojenja'!E100","v":"Praćenje PFC emisija:"},{"$f":"'C_Opis postrojenja'!E101","v":"Praćenje prenesenog/inherentnog CO2 i CCS:"},{"$f":"'C_Opis postrojenja'!E102","v":"Praćenje trajno vezanog ugljika "}]
[null,{"$f":"'B_Iden. operatora i postrojenja'!$I$24","v":0},{"$f":"'B_Iden. operatora i postrojenja'!$I$16","v":0},{"$f":"'B_Iden. operatora i postrojenja'!$I$22","v":0},{"$f":"'B_Iden. operatora i postrojenja'!$I$10","v":0},{"$f":"'B_Iden. operatora i postrojenja'!I46","v":0},{"$f":"'B_Iden. operatora i postrojenja'!I47","v":0},{"$f":"'B_Iden. operatora i postrojenja'!I48","v":0},{"$f":"'B_Iden. operatora i postrojenja'!I49","v":0},{"$f":"'B_Iden. operatora i postrojenja'!I50","v":0},{"$f":"'B_Iden. operatora i postrojenja'!I52","v":0},{"$f":"'B_Iden. operatora i postrojenja'!I53","v":0},{"$f":"'C_Opis postrojenja'!$K$38","v":0},{"$f":"IF(INDEX('C_Opis postrojenja'!$F$56:$F$62,N4)=\"\",\"\",INDEX('C_Opis postrojenja'!$F$56:$F$62,N4))","v":""},{"$f":"IF(INDEX('C_Opis postrojenja'!$F$56:$F$62,O4)=\"\",\"\",INDEX('C_Opis postrojenja'!$F$56:$F$62,O4))","v":""},{"$f":"IF(INDEX('C_Opis postrojenja'!$F$56:$F$62,P4)=\"\",\"\",INDEX('C_Opis postrojenja'!$F$56:$F$62,P4))","v":""},{"$f":"IF(INDEX('C_Opis postrojenja'!$F$56:$F$62,Q4)=\"\",\"\",INDEX('C_Opis postrojenja'!$F$56:$F$62,Q4))","v":""},{"$f":"IF(INDEX('C_Opis postrojenja'!$F$56:$F$62,R4)=\"\",\"\",INDEX('C_Opis postrojenja'!$F$56:$F$62,R4))","v":""},{"$f":"IF(INDEX('C_Opis postrojenja'!$F$56:$F$62,S4)=\"\",\"\",INDEX('C_Opis postrojenja'!$F$56:$F$62,S4))","v":""},{"$f":"IF(INDEX('C_Opis postrojenja'!$F$56:$F$62,T4)=\"\",\"\",INDEX('C_Opis postrojenja'!$F$56:$F$62,T4))","v":""},{"$f":"'C_Opis postrojenja'!$I$70","v":0},{"$f":"'C_Opis postrojenja'!$I$71","v":""},{"$f":"IF('C_Opis postrojenja'!$I$73=\"\",\"\",'C_Opis postrojenja'!$I$73)","v":""},{"$f":"IF('C_Opis postrojenja'!L82=\"\",\"\",'C_Opis postrojenja'!L82)","v":""},{"$f":"IF('C_Opis postrojenja'!E84=\"\",\"\",'C_Opis postrojenja'!E84)","v":""},{"$f":"IF('C_Opis postrojenja'!I96=\"\",\"\",'C_Opis postrojenja'!I96)","v":""},{"$f":"IF('C_Opis postrojenja'!I97=\"\",\"\",'C_Opis postrojenja'!I97)","v":""},{"$f":"IF('C_Opis postrojenja'!I98=\"\",\"\",'C_Opis postrojenja'!I98)","v":""},{"$f":"IF('C_Opis postrojenja'!I99=\"\",\"\",'C_Opis postrojenja'!I99)","v":""},{"$f":"IF('C_Opis postrojenja'!I100=\"\",\"\",'C_Opis postrojenja'!I100)","v":""},{"$f":"CNTR_InstHasTransferredCO2","v":0},{"$f":"CNTR_InstHasCCU","v":0}]
[]
["ausblenden",null,null,null,null,null,null,null,8,11,8,12,12,12,8,9,10,11,12,5,8,8,8,8,8,9,10,11,12,13,14,8,8,9,10,11,12,13,14,8,8,9,10,11,12,13,14,8,8,9,10,11,12,13,14,8,8,9,10,11,12,13,14,8,8,9,10,11,12,13,14,5]
[null,{"$f":"Translations!$B$1238","v":"Tokovi izvora (bez PFC-a)"}]
[null,null,null,null,null,null,null,null,null,null,null,null,null,null,{"$f":"Translations!$B$472","v":"Korišteni mjerni instrumenti:"},null,null,null,null,null,null,null,null,{"$f":"Translations!$B$520","v":"Donja ogrjevna vrijednost (DOV)"},null,null,null,null,null,null,null,{"$f":"Translations!$B$521","v":"Emisijski faktor (preliminarni)"},null,null,null,null,null,null,null,{"$f":"Translations!$B$522","v":"Oksidacijski faktor"},null,null,null,null,null,null,null,{"$f":"Translations!$B$523","v":"Konverzijski faktor"},null,null,null,null,null,null,null,{"$f":"Translations!$B$524","v":"Sadržaj ugljika"},null,null,null,null,null,null,null,{"$f":"Translations!$B$525","v":"Udio biomase (ukoliko je primjenjiv)"}]
[null,{"$f":"Translations!$B$287","v":"Oznaka tokova izvora F1, F2,…"},{"$f":"Translations!$B$288","v":"Naziv toka izvora"},{"$f":"Translations!$B$289","v":"Vrsta toka izvora"},{"$f":"Translations!$B$310","v":"Puni naziv tokova izvora (naziv + vrsta)"},{"$f":"Translations!$B$276","v":"Procijenjene emisije (t CO2e/godina)"},{"$f":"Translations!$B$277","v":"Moguća kategorija"},{"$f":"Translations!$B$311","v":"Odabrana kategorija"},{"$f":"Translations!$B$456","v":"Metoda određivanja:"},{"$f":"Translations!$B$459","v":"Oznaka postupka za utvrđivanje zaliha na kraju godine:"},{"$f":"Translations!$B$462","v":"Instrumenti pod nadzorom:"},{"$f":"Translations!$B$465","v":"Potvrdite da su ispunjeni zahtjevi iz članka 29. stavka 1. Uredbe"},{"$f":"Translations!$B$468","v":"Koristite li fakture za utvrđivanje količine goriva ili sirovina?"},{"$f":"Translations!$B$469","v":"Potvrdite da su trgovinski partner i operater neovisni."},1,2,3,4,5,{"$f":"Translations!$B$475","v":"Komentar/opis pristupa ako se koristi više instrumenata:"},{"$f":"Translations!$B$477","v":"Zahtijevana razina točnosti za podatak o djelatnosti:"},{"$f":"Translations!$B$478","v":"Korištena razina točnosti za podatak o djelatnosti:"},{"$f":"Translations!$B$479","v":"Postignuta nesigurnost:"},{"$f":"Translations!$B$517","v":"Zahtijevana razina točnosti:"},{"$f":"Translations!$B$518","v":"Korištena razina točnosti:"},{"$f":"Translations!$B$535","v":"Zadana vrijednost"},{"$f":"Translations!$B$536","v":"Jedinica"},{"$f":"Translations!$B$537","v":"Oznaka izvora"},{"$f":"Translations!$B$538","v":"Oznaka analize"},{"$f":"Translations!$B$539","v":"Oznaka uzorkovanja"},{"$f":"Translations!$B$540","v":"Učestalost analiza"},{"$f":"Translations!$B$517","v":"Zahtijevana razina točnosti:"},{"$f":"Translations!$B$518","v":"Korištena razina točnosti:"},{"$f":"Translations!$B$535","v":"Zadana vrijednost"},{"$f":"Translations!$B$536","v":"Jedinica"},{"$f":"Translations!$B$537","v":"Oznaka izvora"},{"$f":"Translations!$B$538","v":"Oznaka analize"},{"$f":"Translations!$B$539","v":"Oznaka uzorkovanja"},{"$f":"Translations!$B$540","v":"Učestalost analiza"},{"$f":"Translations!$B$517","v":"Zahtijevana razina točnosti:"},{"$f":"Translations!$B$518","v":"Korištena razina točnosti:"},{"$f":"Translations!$B$535","v":"Zadana vrijednost"},{"$f":"Translations!$B$536","v":"Jedinica"},{"$f":"Translations!$B$537","v":"Oznaka izvora"},{"$f":"Translations!$B$538","v":"Oznaka analize"},{"$f":"Translations!$B$539","v":"Oznaka uzorkovanja"},{"$f":"Translations!$B$540","v":"Učestalost analiza"},{"$f":"Translations!$B$517","v":"Zahtijevana razina točnosti:"},{"$f":"Translations!$B$518","v":"Korištena razina točnosti:"},{"$f":"Translations!$B$535","v":"Zadana vrijednost"},{"$f":"Translations!$B$536","v":"Jedinica"},{"$f":"Translations!$B$537","v":"Oznaka izvora"},{"$f":"Translations!$B$538","v":"Oznaka analize"},{"$f":"Translations!$B$539","v":"Oznaka uzorkovanja"},{"$f":"Translations!$B$540","v":"Učestalost analiza"},{"$f":"Translations!$B$517","v":"Zahtijevana razina točnosti:"},{"$f":"Translations!$B$518","v":"Korištena razina točnosti:"},{"$f":"Translations!$B$535","v":"Zadana vrijednost"},{"$f":"Translations!$B$536","v":"Jedinica"},{"$f":"Translations!$B$537","v":"Oznaka izvora"},{"$f":"Translations!$B$538","v":"Oznaka analize"},{"$f":"Translations!$B$539","v":"Oznaka uzorkovanja"},{"$f":"Translations!$B$540","v":"Učestalost analiza"},{"$f":"Translations!$B$517","v":"Zahtijevana razina točnosti:"},{"$f":"Translations!$B$518","v":"Korištena razina točnosti:"},{"$f":"Translations!$B$535","v":"Zadana vrijednost"},{"$f":"Translations!$B$536","v":"Jedinica"},{"$f":"Translations!$B$537","v":"Oznaka izvora"},{"$f":"Translations!$B$538","v":"Oznaka analize"},{"$f":"Translations!$B$539","v":"Oznaka uzorkovanja"},{"$f":"Translations!$B$540","v":"Učestalost analiza"},{"$f":"Translations!$B$1198","v":"Komentari i obrazloženja ako nisu primijenjene zahtijevane razine:"}]
[null,{"$f":"IF(COUNTIF($CK$10:CK11,TRUE)>0,\"\",INDEX('C_Opis postrojenja'!$E$226:$E$242,ROWS($A$11:A11)))","v":""},{"$f":"IF($E11=\"\",\"\",INDEX('C_Opis postrojenja'!F:F,MATCH($B11,'C_Opis postrojenja'!$E:$E,0)))","v":""},{"$f":"IF($E11=\"\",\"\",INDEX('C_Opis postrojenja'!I:I,MATCH($B11,'C_Opis postrojenja'!$E:$E,0)))","v":""},{"$f":"IF($B11=\"\",\"\",INDEX('C_Opis postrojenja'!F:F,MATCH($CJ11,'C_Opis postrojenja'!$Q:$Q,0)))","v":""},{"$f":"IF($E11=\"\",\"\",INDEX('C_Opis postrojenja'!L:L,MATCH($CJ11,'C_Opis postrojenja'!$Q:$Q,0)))","v":""},{"$f":"IF($E11=\"\",\"\",INDEX('C_Opis postrojenja'!M:M,MATCH($CJ11,'C_Opis postrojenja'!$Q:$Q,0)))","v":""},{"$f":"IF($E11=\"\",\"\",INDEX('C_Opis postrojenja'!N:N,MATCH($CJ11,'C_Opis postrojenja'!$Q:$Q,0)))","v":""},{"$f":"IF($E11=\"\",\"\",IF(INDEX('E_Tokovi izvora'!$A:$N,CN11,I$7)=\"\",\"\",INDEX('E_Tokovi izvora'!$A:$N,CN11,I$7)))","v":""},{"$f":"IF($E11=\"\",\"\",IF(INDEX('E_Tokovi izvora'!$A:$N,CO11,J$7)=\"\",\"\",INDEX('E_Tokovi izvora'!$A:$N,CO11,J$7)))","v":""},{"$f":"IF($E11=\"\",\"\",IF(INDEX('E_Tokovi izvora'!$A:$N,CP11,K$7)=\"\",\"\",INDEX('E_Tokovi izvora'!$A:$N,CP11,K$7)))","v":""},{"$f":"IF($E11=\"\",\"\",IF(INDEX('E_Tokovi izvora'!$A:$N,CQ11,L$7)=\"\",\"\",INDEX('E_Tokovi izvora'!$A:$N,CQ11,L$7)))","v":""},{"$f":"IF($E11=\"\",\"\",IF(INDEX('E_Tokovi izvora'!$A:$N,CR11,M$7)=\"\",\"\",INDEX('E_Tokovi izvora'!$A:$N,CR11,M$7)))","v":""},{"$f":"IF($E11=\"\",\"\",IF(INDEX('E_Tokovi izvora'!$A:$N,CS11,N$7)=\"\",\"\",INDEX('E_Tokovi izvora'!$A:$N,CS11,N$7)))","v":""},{"$f":"IF($E11=\"\",\"\",IF(INDEX('E_Tokovi izvora'!$A:$N,CT11,O$7)=\"\",\"\",INDEX('E_Tokovi izvora'!$A:$N,CT11,O$7)))","v":""},{"$f":"IF($E11=\"\",\"\",IF(INDEX('E_Tokovi izvora'!$A:$N,CU11,P$7)=\"\",\"\",INDEX('E_Tokovi izvora'!$A:$N,CU11,P$7)))","v":""},{"$f":"IF($E11=\"\",\"\",IF(INDEX('E_Tokovi izvora'!$A:$N,CV11,Q$7)=\"\",\"\",INDEX('E_Tokovi izvora'!$A:$N,CV11,Q$7)))","v":""},{"$f":"IF($E11=\"\",\"\",IF(INDEX('E_Tokovi izvora'!$A:$N,CW11,R$7)=\"\",\"\",INDEX('E_Tokovi izvora'!$A:$N,CW11,R$7)))","v":""},{"$f":"IF($E11=\"\",\"\",IF(INDEX('E_Tokovi izvora'!$A:$N,CX11,S$7)=\"\",\"\",INDEX('E_Tokovi izvora'!$A:$N,CX11,S$7)))","v":""},{"$f":"IF($E11=\"\",\"\",IF(INDEX('E_Tokovi izvora'!$A:$N,CY11,T$7)=\"\",\"\",INDEX('E_Tokovi izvora'!$A:$N,CY11,T$7)))","v":""},{"$f":"IF($E11=\"\",\"\",IF(INDEX('E_Tokovi izvora'!$A:$N,CZ11,U$7)=\"\",\"\",INDEX('E_Tokovi izvora'!$A:$N,CZ11,U$7)))","v":""},{"$f":"IF($E11=\"\",\"\",IF(INDEX('E_Tokovi izvora'!$A:$N,DA11,V$7)=\"\",\"\",INDEX('E_Tokovi izvora'!$A:$N,DA11,V$7)))","v":""},{"$f":"IF($E11=\"\",\"\",IF(INDEX('E_Tokovi izvora'!$A:$N,DB11,W$7)=\"\",\"\",INDEX('E_Tokovi izvora'!$A:$N,DB11,W$7)))","v":""},{"$f":"IF($E11=\"\",\"\",IF(INDEX('E_Tokovi izvora'!$A:$N,DC11,X$7)=\"\",\"\",INDEX('E_Tokovi izvora'!$A:$N,DC11,X$7)))","v":""},{"$f":"IF($E11=\"\",\"\",IF(INDEX('E_Tokovi izvora'!$A:$N,DD11,Y$7)=\"\",\"\",INDEX('E_Tokovi izvora'!$A:$N,DD11,Y$7)))","v":""},{"$f":"IF($E11=\"\",\"\",IF(INDEX('E_Tokovi izvora'!$A:$N,DE11,Z$7)=\"\",\"\",INDEX('E_Tokovi izvora'!$A:$N,DE11,Z$7)))","v":""},{"$f":"IF($E11=\"\",\"\",IF(INDEX('E_Tokovi izvora'!$A:$N,DF11,AA$7)=\"\",\"\",INDEX('E_Tokovi izvora'!$A:$N,DF11,AA$7)))","v":""},{"$f":"IF($E11=\"\",\"\",IF(INDEX('E_Tokovi izvora'!$A:$N,DG11,AB$7)=\"\",\"\",INDEX('E_Tokovi izvora'!$A:$N,DG11,AB$7)))","v":""},{"$f":"IF($E11=\"\",\"\",IF(INDEX('E_Tokovi izvora'!$A:$N,DH11,AC$7)=\"\",\"\",INDEX('E_Tokovi izvora'!$A:$N,DH11,AC$7)))","v":""},{"$f":"IF($E11=\"\",\"\",IF(INDEX('E_Tokovi izvora'!$A:$N,DI11,AD$7)=\"\",\"\",INDEX('E_Tokovi izvora'!$A:$N,DI11,AD$7)))","v":""},{"$f":"IF($E11=\"\",\"\",IF(INDEX('E_Tokovi izvora'!$A:$N,DJ11,AE$7)=\"\",\"\",INDEX('E_Tokovi izvora'!$A:$N,DJ11,AE$7)))","v":""},{"$f":"IF($E11=\"\",\"\",IF(INDEX('E_Tokovi izvora'!$A:$N,DK11,AF$7)=\"\",\"\",INDEX('E_Tokovi izvora'!$A:$N,DK11,AF$7)))","v":""},{"$f":"IF($E11=\"\",\"\",IF(INDEX('E_Tokovi izvora'!$A:$N,DL11,AG$7)=\"\",\"\",INDEX('E_Tokovi izvora'!$A:$N,DL11,AG$7)))","v":""},{"$f":"IF($E11=\"\",\"\",IF(INDEX('E_Tokovi izvora'!$A:$N,DM11,AH$7)=\"\",\"\",INDEX('E_Tokovi izvora'!$A:$N,DM11,AH$7)))","v":""},{"$f":"IF($E11=\"\",\"\",IF(INDEX('E_Tokovi izvora'!$A:$N,DN11,AI$7)=\"\",\"\",INDEX('E_Tokovi izvora'!$A:$N,DN11,AI$7)))","v":""},{"$f":"IF($E11=\"\",\"\",IF(INDEX('E_Tokovi izvora'!$A:$N,DO11,AJ$7)=\"\",\"\",INDEX('E_Tokovi izvora'!$A:$N,DO11,AJ$7)))","v":""},{"$f":"IF($E11=\"\",\"\",IF(INDEX('E_Tokovi izvora'!$A:$N,DP11,AK$7)=\"\",\"\",INDEX('E_Tokovi izvora'!$A:$N,DP11,AK$7)))","v":""},{"$f":"IF($E11=\"\",\"\",IF(INDEX('E_Tokovi izvora'!$A:$N,DQ11,AL$7)=\"\",\"\",INDEX('E_Tokovi izvora'!$A:$N,DQ11,AL$7)))","v":""},{"$f":"IF($E11=\"\",\"\",IF(INDEX('E_Tokovi izvora'!$A:$N,DR11,AM$7)=\"\",\"\",INDEX('E_Tokovi izvora'!$A:$N,DR11,AM$7)))","v":""},{"$f":"IF($E11=\"\",\"\",IF(INDEX('E_Tokovi izvora'!$A:$N,DS11,AN$7)=\"\",\"\",INDEX('E_Tokovi izvora'!$A:$N,DS11,AN$7)))","v":""},{"$f":"IF($E11=\"\",\"\",IF(INDEX('E_Tokovi izvora'!$A:$N,DT11,AO$7)=\"\",\"\",INDEX('E_Tokovi izvora'!$A:$N,DT11,AO$7)))","v":""},{"$f":"IF($E11=\"\",\"\",IF(INDEX('E_Tokovi izvora'!$A:$N,DU11,AP$7)=\"\",\"\",INDEX('E_Tokovi izvora'!$A:$N,DU11,AP$7)))","v":""},{"$f":"IF($E11=\"\",\"\",IF(INDEX('E_Tokovi izvora'!$A:$N,DV11,AQ$7)=\"\",\"\",INDEX('E_Tokovi izvora'!$A:$N,DV11,AQ$7)))","v":""},{"$f":"IF($E11=\"\",\"\",IF(INDEX('E_Tokovi izvora'!$A:$N,DW11,AR$7)=\"\",\"\",INDEX('E_Tokovi izvora'!$A:$N,DW11,AR$7)))","v":""},{"$f":"IF($E11=\"\",\"\",IF(INDEX('E_Tokovi izvora'!$A:$N,DX11,AS$7)=\"\",\"\",INDEX('E_Tokovi izvora'!$A:$N,DX11,AS$7)))","v":""},{"$f":"IF($E11=\"\",\"\",IF(INDEX('E_Tokovi izvora'!$A:$N,DY11,AT$7)=\"\",\"\",INDEX('E_Tokovi izvora'!$A:$N,DY11,AT$7)))","v":""},{"$f":"IF($E11=\"\",\"\",IF(INDEX('E_Tokovi izvora'!$A:$N,DZ11,AU$7)=\"\",\"\",INDEX('E_Tokovi izvora'!$A:$N,DZ11,AU$7)))","v":""},{"$f":"IF($E11=\"\",\"\",IF(INDEX('E_Tokovi izvora'!$A:$N,EA11,AV$7)=\"\",\"\",INDEX('E_Tokovi izvora'!$A:$N,EA11,AV$7)))","v":""},{"$f":"IF($E11=\"\",\"\",IF(INDEX('E_Tokovi izvora'!$A:$N,EB11,AW$7)=\"\",\"\",INDEX('E_Tokovi izvora'!$A:$N,EB11,AW$7)))","v":""},{"$f":"IF($E11=\"\",\"\",IF(INDEX('E_Tokovi izvora'!$A:$N,EC11,AX$7)=\"\",\"\",INDEX('E_Tokovi izvora'!$A:$N,EC11,AX$7)))","v":""},{"$f":"IF($E11=\"\",\"\",IF(INDEX('E_Tokovi izvora'!$A:$N,ED11,AY$7)=\"\",\"\",INDEX('E_Tokovi izvora'!$A:$N,ED11,AY$7)))","v":""},{"$f":"IF($E11=\"\",\"\",IF(INDEX('E_Tokovi izvora'!$A:$N,EE11,AZ$7)=\"\",\"\",INDEX('E_Tokovi izvora'!$A:$N,EE11,AZ$7)))","v":""},{"$f":"IF($E11=\"\",\"\",IF(INDEX('E_Tokovi izvora'!$A:$N,EF11,BA$7)=\"\",\"\",INDEX('E_Tokovi izvora'!$A:$N,EF11,BA$7)))","v":""},{"$f":"IF($E11=\"\",\"\",IF(INDEX('E_Tokovi izvora'!$A:$N,EG11,BB$7)=\"\",\"\",INDEX('E_Tokovi izvora'!$A:$N,EG11,BB$7)))","v":""},{"$f":"IF($E11=\"\",\"\",IF(INDEX('E_Tokovi izvora'!$A:$N,EH11,BC$7)=\"\",\"\",INDEX('E_Tokovi izvora'!$A:$N,EH11,BC$7)))","v":""},{"$f":"IF($E11=\"\",\"\",IF(INDEX('E_Tokovi izvora'!$A:$N,EI11,BD$7)=\"\",\"\",INDEX('E_Tokovi izvora'!$A:$N,EI11,BD$7)))","v":""},{"$f":"IF($E11=\"\",\"\",IF(INDEX('E_Tokovi izvora'!$A:$N,EJ11,BE$7)=\"\",\"\",INDEX('E_Tokovi izvora'!$A:$N,EJ11,BE$7)))","v":""},{"$f":"IF($E11=\"\",\"\",IF(INDEX('E_Tokovi izvora'!$A:$N,EK11,BF$7)=\"\",\"\",INDEX('E_Tokovi izvora'!$A:$N,EK11,BF$7)))","v":""},{"$f":"IF($E11=\"\",\"\",IF(INDEX('E_Tokovi izvora'!$A:$N,EL11,BG$7)=\"\",\"\",INDEX('E_Tokovi izvora'!$A:$N,EL11,BG$7)))","v":""},{"$f":"IF($E11=\"\",\"\",IF(INDEX('E_Tokovi izvora'!$A:$N,EM11,BH$7)=\"\",\"\",INDEX('E_Tokovi izvora'!$A:$N,EM11,BH$7)))","v":""},{"$f":"IF($E11=\"\",\"\",IF(INDEX('E_Tokovi izvora'!$A:$N,EN11,BI$7)=\"\",\"\",INDEX('E_Tokovi izvora'!$A:$N,EN11,BI$7)))","v":""},{"$f":"IF($E11=\"\",\"\",IF(INDEX('E_Tokovi izvora'!$A:$N,EO11,BJ$7)=\"\",\"\",INDEX('E_Tokovi izvora'!$A:$N,EO11,BJ$7)))","v":""},{"$f":"IF($E11=\"\",\"\",IF(INDEX('E_Tokovi izvora'!$A:$N,EP11,BK$7)=\"\",\"\",INDEX('E_Tokovi izvora'!$A:$N,EP11,BK$7)))","v":""},{"$f":"IF($E11=\"\",\"\",IF(INDEX('E_Tokovi izvora'!$A:$N,EQ11,BL$7)=\"\",\"\",INDEX('E_Tokovi izvora'!$A:$N,EQ11,BL$7)))","v":""},{"$f":"IF($E11=\"\",\"\",IF(INDEX('E_Tokovi izvora'!$A:$N,ER11,BM$7)=\"\",\"\",INDEX('E_Tokovi izvora'!$A:$N,ER11,BM$7)))","v":""},{"$f":"IF($E11=\"\",\"\",IF(INDEX('E_Tokovi izvora'!$A:$N,ES11,BN$7)=\"\",\"\",INDEX('E_Tokovi izvora'!$A:$N,ES11,BN$7)))","v":""},{"$f":"IF($E11=\"\",\"\",IF(INDEX('E_Tokovi izvora'!$A:$N,ET11,BO$7)=\"\",\"\",INDEX('E_Tokovi izvora'!$A:$N,ET11,BO$7)))","v":""},{"$f":"IF($E11=\"\",\"\",IF(INDEX('E_Tokovi izvora'!$A:$N,EU11,BP$7)=\"\",\"\",INDEX('E_Tokovi izvora'!$A:$N,EU11,BP$7)))","v":""},{"$f":"IF($E11=\"\",\"\",IF(INDEX('E_Tokovi izvora'!$A:$N,EV11,BQ$7)=\"\",\"\",INDEX('E_Tokovi izvora'!$A:$N,EV11,BQ$7)))","v":""},{"$f":"IF($E11=\"\",\"\",IF(INDEX('E_Tokovi izvora'!$A:$N,EW11,BR$7)=\"\",\"\",INDEX('E_Tokovi izvora'!$A:$N,EW11,BR$7)))","v":""},{"$f":"IF($E11=\"\",\"\",IF(INDEX('E_Tokovi izvora'!$A:$N,EX11,BS$7)=\"\",\"\",INDEX('E_Tokovi izvora'!$A:$N,EX11,BS$7)))","v":""},{"$f":"IF($E11=\"\",\"\",IF(INDEX('E_Tokovi izvora'!$A:$N,EY11,BT$7)=\"\",\"\",INDEX('E_Tokovi izvora'!$A:$N,EY11,BT$7)))","v":""},null,null,null,null,null,null,null,null,null,null,null,null,null,null,null,{"$f":"EUconst_CNTR_SourceCategory&B11","v":"SourceCategory_"},{"$f":"INDEX('C_Opis postrojenja'!$A$226:$A$332,ROWS($CI$11:CI11))=\"ausblenden\"","v":false},{"$f":"EUconst_CNTR_SourceStreamName&B11","v":"SourceStreamName_"},null,52,56,61,66,71,75,80,80,80,80,80,87,91,92,93,{"$f":"ROW('E_Tokovi izvora'!E138)","v":138},160,160,160,160,160,160,160,139,161,161,161,161,161,161,161,140,162,162,162,162,162,162,162,141,163,163,163,163,163,163,163,142,164,164,164,164,164,164,164,143,165,165,165,165,165,165,165,182]
[null,{"$f":"IF(COUNTIF($CK$10:CK12,TRUE)>0,\"\",INDEX('C_Opis postrojenja'!$E$226:$E$242,ROWS($A$11:A12)))","v":""},{"$f":"IF($E12=\"\",\"\",INDEX('C_Opis postrojenja'!F:F,MATCH($B12,'C_Opis postrojenja'!$E:$E,0)))","v":""},{"$f":"IF($E12=\"\",\"\",INDEX('C_Opis postrojenja'!I:I,MATCH($B12,'C_Opis postrojenja'!$E:$E,0)))","v":""},{"$f":"IF($B12=\"\",\"\",INDEX('C_Opis postrojenja'!F:F,MATCH($CJ12,'C_Opis postrojenja'!$Q:$Q,0)))","v":""},{"$f":"IF($E12=\"\",\"\",INDEX('C_Opis postrojenja'!L:L,MATCH($CJ12,'C_Opis postrojenja'!$Q:$Q,0)))","v":""},{"$f":"IF($E12=\"\",\"\",INDEX('C_Opis postrojenja'!M:M,MATCH($CJ12,'C_Opis postrojenja'!$Q:$Q,0)))","v":""},{"$f":"IF($E12=\"\",\"\",INDEX('C_Opis postrojenja'!N:N,MATCH($CJ12,'C_Opis postrojenja'!$Q:$Q,0)))","v":""},{"$f":"IF($E12=\"\",\"\",IF(INDEX('E_Tokovi izvora'!$A:$N,CN12,I$7)=\"\",\"\",INDEX('E_Tokovi izvora'!$A:$N,CN12,I$7)))","v":""},{"$f":"IF($E12=\"\",\"\",IF(INDEX('E_Tokovi izvora'!$A:$N,CO12,J$7)=\"\",\"\",INDEX('E_Tokovi izvora'!$A:$N,CO12,J$7)))","v":""},{"$f":"IF($E12=\"\",\"\",IF(INDEX('E_Tokovi izvora'!$A:$N,CP12,K$7)=\"\",\"\",INDEX('E_Tokovi izvora'!$A:$N,CP12,K$7)))","v":""},{"$f":"IF($E12=\"\",\"\",IF(INDEX('E_Tokovi izvora'!$A:$N,CQ12,L$7)=\"\",\"\",INDEX('E_Tokovi izvora'!$A:$N,CQ12,L$7)))","v":""},{"$f":"IF($E12=\"\",\"\",IF(INDEX('E_Tokovi izvora'!$A:$N,CR12,M$7)=\"\",\"\",INDEX('E_Tokovi izvora'!$A:$N,CR12,M$7)))","v":""},{"$f":"IF($E12=\"\",\"\",IF(INDEX('E_Tokovi izvora'!$A:$N,CS12,N$7)=\"\",\"\",INDEX('E_Tokovi izvora'!$A:$N,CS12,N$7)))","v":""},{"$f":"IF($E12=\"\",\"\",IF(INDEX('E_Tokovi izvora'!$A:$N,CT12,O$7)=\"\",\"\",INDEX('E_Tokovi izvora'!$A:$N,CT12,O$7)))","v":""},{"$f":"IF($E12=\"\",\"\",IF(INDEX('E_Tokovi izvora'!$A:$N,CU12,P$7)=\"\",\"\",INDEX('E_Tokovi izvora'!$A:$N,CU12,P$7)))","v":""},{"$f":"IF($E12=\"\",\"\",IF(INDEX('E_Tokovi izvora'!$A:$N,CV12,Q$7)=\"\",\"\",INDEX('E_Tokovi izvora'!$A:$N,CV12,Q$7)))","v":""},{"$f":"IF($E12=\"\",\"\",IF(INDEX('E_Tokovi izvora'!$A:$N,CW12,R$7)=\"\",\"\",INDEX('E_Tokovi izvora'!$A:$N,CW12,R$7)))","v":""},{"$f":"IF($E12=\"\",\"\",IF(INDEX('E_Tokovi izvora'!$A:$N,CX12,S$7)=\"\",\"\",INDEX('E_Tokovi izvora'!$A:$N,CX12,S$7)))","v":""},{"$f":"IF($E12=\"\",\"\",IF(INDEX('E_Tokovi izvora'!$A:$N,CY12,T$7)=\"\",\"\",INDEX('E_Tokovi izvora'!$A:$N,CY12,T$7)))","v":""},{"$f":"IF($E12=\"\",\"\",IF(INDEX('E_Tokovi izvora'!$A:$N,CZ12,U$7)=\"\",\"\",INDEX('E_Tokovi izvora'!$A:$N,CZ12,U$7)))","v":""},{"$f":"IF($E12=\"\",\"\",IF(INDEX('E_Tokovi izvora'!$A:$N,DA12,V$7)=\"\",\"\",INDEX('E_Tokovi izvora'!$A:$N,DA12,V$7)))","v":""},{"$f":"IF($E12=\"\",\"\",IF(INDEX('E_Tokovi izvora'!$A:$N,DB12,W$7)=\"\",\"\",INDEX('E_Tokovi izvora'!$A:$N,DB12,W$7)))","v":""},{"$f":"IF($E12=\"\",\"\",IF(INDEX('E_Tokovi izvora'!$A:$N,DC12,X$7)=\"\",\"\",INDEX('E_Tokovi izvora'!$A:$N,DC12,X$7)))","v":""},{"$f":"IF($E12=\"\",\"\",IF(INDEX('E_Tokovi izvora'!$A:$N,DD12,Y$7)=\"\",\"\",INDEX('E_Tokovi izvora'!$A:$N,DD12,Y$7)))","v":""},{"$f":"IF($E12=\"\",\"\",IF(INDEX('E_Tokovi izvora'!$A:$N,DE12,Z$7)=\"\",\"\",INDEX('E_Tokovi izvora'!$A:$N,DE12,Z$7)))","v":""},{"$f":"IF($E12=\"\",\"\",IF(INDEX('E_Tokovi izvora'!$A:$N,DF12,AA$7)=\"\",\"\",INDEX('E_Tokovi izvora'!$A:$N,DF12,AA$7)))","v":""},{"$f":"IF($E12=\"\",\"\",IF(INDEX('E_Tokovi izvora'!$A:$N,DG12,AB$7)=\"\",\"\",INDEX('E_Tokovi izvora'!$A:$N,DG12,AB$7)))","v":""},{"$f":"IF($E12=\"\",\"\",IF(INDEX('E_Tokovi izvora'!$A:$N,DH12,AC$7)=\"\",\"\",INDEX('E_Tokovi izvora'!$A:$N,DH12,AC$7)))","v":""},{"$f":"IF($E12=\"\",\"\",IF(INDEX('E_Tokovi izvora'!$A:$N,DI12,AD$7)=\"\",\"\",INDEX('E_Tokovi izvora'!$A:$N,DI12,AD$7)))","v":""},{"$f":"IF($E12=\"\",\"\",IF(INDEX('E_Tokovi izvora'!$A:$N,DJ12,AE$7)=\"\",\"\",INDEX('E_Tokovi izvora'!$A:$N,DJ12,AE$7)))","v":""},{"$f":"IF($E12=\"\",\"\",IF(INDEX('E_Tokovi izvora'!$A:$N,DK12,AF$7)=\"\",\"\",INDEX('E_Tokovi izvora'!$A:$N,DK12,AF$7)))","v":""},{"$f":"IF($E12=\"\",\"\",IF(INDEX('E_Tokovi izvora'!$A:$N,DL12,AG$7)=\"\",\"\",INDEX('E_Tokovi izvora'!$A:$N,DL12,AG$7)))","v":""},{"$f":"IF($E12=\"\",\"\",IF(INDEX('E_Tokovi izvora'!$A:$N,DM12,AH$7)=\"\",\"\",INDEX('E_Tokovi izvora'!$A:$N,DM12,AH$7)))","v":""},{"$f":"IF($E12=\"\",\"\",IF(INDEX('E_Tokovi izvora'!$A:$N,DN12,AI$7)=\"\",\"\",INDEX('E_Tokovi izvora'!$A:$N,DN12,AI$7)))","v":""},{"$f":"IF($E12=\"\",\"\",IF(INDEX('E_Tokovi izvora'!$A:$N,DO12,AJ$7)=\"\",\"\",INDEX('E_Tokovi izvora'!$A:$N,DO12,AJ$7)))","v":""},{"$f":"IF($E12=\"\",\"\",IF(INDEX('E_Tokovi izvora'!$A:$N,DP12,AK$7)=\"\",\"\",INDEX('E_Tokovi izvora'!$A:$N,DP12,AK$7)))","v":""},{"$f":"IF($E12=\"\",\"\",IF(INDEX('E_Tokovi izvora'!$A:$N,DQ12,AL$7)=\"\",\"\",INDEX('E_Tokovi izvora'!$A:$N,DQ12,AL$7)))","v":""},{"$f":"IF($E12=\"\",\"\",IF(INDEX('E_Tokovi izvora'!$A:$N,DR12,AM$7)=\"\",\"\",INDEX('E_Tokovi izvora'!$A:$N,DR12,AM$7)))","v":""},{"$f":"IF($E12=\"\",\"\",IF(INDEX('E_Tokovi izvora'!$A:$N,DS12,AN$7)=\"\",\"\",INDEX('E_Tokovi izvora'!$A:$N,DS12,AN$7)))","v":""},{"$f":"IF($E12=\"\",\"\",IF(INDEX('E_Tokovi izvora'!$A:$N,DT12,AO$7)=\"\",\"\",INDEX('E_Tokovi izvora'!$A:$N,DT12,AO$7)))","v":""},{"$f":"IF($E12=\"\",\"\",IF(INDEX('E_Tokovi izvora'!$A:$N,DU12,AP$7)=\"\",\"\",INDEX('E_Tokovi izvora'!$A:$N,DU12,AP$7)))","v":""},{"$f":"IF($E12=\"\",\"\",IF(INDEX('E_Tokovi izvora'!$A:$N,DV12,AQ$7)=\"\",\"\",INDEX('E_Tokovi izvora'!$A:$N,DV12,AQ$7)))","v":""},{"$f":"IF($E12=\"\",\"\",IF(INDEX('E_Tokovi izvora'!$A:$N,DW12,AR$7)=\"\",\"\",INDEX('E_Tokovi izvora'!$A:$N,DW12,AR$7)))","v":""},{"$f":"IF($E12=\"\",\"\",IF(INDEX('E_Tokovi izvora'!$A:$N,DX12,AS$7)=\"\",\"\",INDEX('E_Tokovi izvora'!$A:$N,DX12,AS$7)))","v":""},{"$f":"IF($E12=\"\",\"\",IF(INDEX('E_Tokovi izvora'!$A:$N,DY12,AT$7)=\"\",\"\",INDEX('E_Tokovi izvora'!$A:$N,DY12,AT$7)))","v":""},{"$f":"IF($E12=\"\",\"\",IF(INDEX('E_Tokovi izvora'!$A:$N,DZ12,AU$7)=\"\",\"\",INDEX('E_Tokovi izvora'!$A:$N,DZ12,AU$7)))","v":""},{"$f":"IF($E12=\"\",\"\",IF(INDEX('E_Tokovi izvora'!$A:$N,EA12,AV$7)=\"\",\"\",INDEX('E_Tokovi izvora'!$A:$N,EA12,AV$7)))","v":""},{"$f":"IF($E12=\"\",\"\",IF(INDEX('E_Tokovi izvora'!$A:$N,EB12,AW$7)=\"\",\"\",INDEX('E_Tokovi izvora'!$A:$N,EB12,AW$7)))","v":""},{"$f":"IF($E12=\"\",\"\",IF(INDEX('E_Tokovi izvora'!$A:$N,EC12,AX$7)=\"\",\"\",INDEX('E_Tokovi izvora'!$A:$N,EC12,AX$7)))","v":""},{"$f":"IF($E12=\"\",\"\",IF(INDEX('E_Tokovi izvora'!$A:$N,ED12,AY$7)=\"\",\"\",INDEX('E_Tokovi izvora'!$A:$N,ED12,AY$7)))","v":""},{"$f":"IF($E12=\"\",\"\",IF(INDEX('E_Tokovi izvora'!$A:$N,EE12,AZ$7)=\"\",\"\",INDEX('E_Tokovi izvora'!$A:$N,EE12,AZ$7)))","v":""},{"$f":"IF($E12=\"\",\"\",IF(INDEX('E_Tokovi izvora'!$A:$N,EF12,BA$7)=\"\",\"\",INDEX('E_Tokovi izvora'!$A:$N,EF12,BA$7)))","v":""},{"$f":"IF($E12=\"\",\"\",IF(INDEX('E_Tokovi izvora'!$A:$N,EG12,BB$7)=\"\",\"\",INDEX('E_Tokovi izvora'!$A:$N,EG12,BB$7)))","v":""},{"$f":"IF($E12=\"\",\"\",IF(INDEX('E_Tokovi izvora'!$A:$N,EH12,BC$7)=\"\",\"\",INDEX('E_Tokovi izvora'!$A:$N,EH12,BC$7)))","v":""},{"$f":"IF($E12=\"\",\"\",IF(INDEX('E_Tokovi izvora'!$A:$N,EI12,BD$7)=\"\",\"\",INDEX('E_Tokovi izvora'!$A:$N,EI12,BD$7)))","v":""},{"$f":"IF($E12=\"\",\"\",IF(INDEX('E_Tokovi izvora'!$A:$N,EJ12,BE$7)=\"\",\"\",INDEX('E_Tokovi izvora'!$A:$N,EJ12,BE$7)))","v":""},{"$f":"IF($E12=\"\",\"\",IF(INDEX('E_Tokovi izvora'!$A:$N,EK12,BF$7)=\"\",\"\",INDEX('E_Tokovi izvora'!$A:$N,EK12,BF$7)))","v":""},{"$f":"IF($E12=\"\",\"\",IF(INDEX('E_Tokovi izvora'!$A:$N,EL12,BG$7)=\"\",\"\",INDEX('E_Tokovi izvora'!$A:$N,EL12,BG$7)))","v":""},{"$f":"IF($E12=\"\",\"\",IF(INDEX('E_Tokovi izvora'!$A:$N,EM12,BH$7)=\"\",\"\",INDEX('E_Tokovi izvora'!$A:$N,EM12,BH$7)))","v":""},{"$f":"IF($E12=\"\",\"\",IF(INDEX('E_Tokovi izvora'!$A:$N,EN12,BI$7)=\"\",\"\",INDEX('E_Tokovi izvora'!$A:$N,EN12,BI$7)))","v":""},{"$f":"IF($E12=\"\",\"\",IF(INDEX('E_Tokovi izvora'!$A:$N,EO12,BJ$7)=\"\",\"\",INDEX('E_Tokovi izvora'!$A:$N,EO12,BJ$7)))","v":""},{"$f":"IF($E12=\"\",\"\",IF(INDEX('E_Tokovi izvora'!$A:$N,EP12,BK$7)=\"\",\"\",INDEX('E_Tokovi izvora'!$A:$N,EP12,BK$7)))","v":""},{"$f":"IF($E12=\"\",\"\",IF(INDEX('E_Tokovi izvora'!$A:$N,EQ12,BL$7)=\"\",\"\",INDEX('E_Tokovi izvora'!$A:$N,EQ12,BL$7)))","v":""},{"$f":"IF($E12=\"\",\"\",IF(INDEX('E_Tokovi izvora'!$A:$N,ER12,BM$7)=\"\",\"\",INDEX('E_Tokovi izvora'!$A:$N,ER12,BM$7)))","v":""},{"$f":"IF($E12=\"\",\"\",IF(INDEX('E_Tokovi izvora'!$A:$N,ES12,BN$7)=\"\",\"\",INDEX('E_Tokovi izvora'!$A:$N,ES12,BN$7)))","v":""},{"$f":"IF($E12=\"\",\"\",IF(INDEX('E_Tokovi izvora'!$A:$N,ET12,BO$7)=\"\",\"\",INDEX('E_Tokovi izvora'!$A:$N,ET12,BO$7)))","v":""},{"$f":"IF($E12=\"\",\"\",IF(INDEX('E_Tokovi izvora'!$A:$N,EU12,BP$7)=\"\",\"\",INDEX('E_Tokovi izvora'!$A:$N,EU12,BP$7)))","v":""},{"$f":"IF($E12=\"\",\"\",IF(INDEX('E_Tokovi izvora'!$A:$N,EV12,BQ$7)=\"\",\"\",INDEX('E_Tokovi izvora'!$A:$N,EV12,BQ$7)))","v":""},{"$f":"IF($E12=\"\",\"\",IF(INDEX('E_Tokovi izvora'!$A:$N,EW12,BR$7)=\"\",\"\",INDEX('E_Tokovi izvora'!$A:$N,EW12,BR$7)))","v":""},{"$f":"IF($E12=\"\",\"\",IF(INDEX('E_Tokovi izvora'!$A:$N,EX12,BS$7)=\"\",\"\",INDEX('E_Tokovi izvora'!$A:$N,EX12,BS$7)))","v":""},{"$f":"IF($E12=\"\",\"\",IF(INDEX('E_Tokovi izvora'!$A:$N,EY12,BT$7)=\"\",\"\",INDEX('E_Tokovi izvora'!$A:$N,EY12,BT$7)))","v":""},null,null,null,null,null,null,null,null,null,null,null,null,null,null,null,"SourceCategory_",{"$f":"INDEX('C_Opis postrojenja'!$A$226:$A$332,ROWS($CI$11:CI12))=\"ausblenden\"","v":false},"SourceStreamName_",null,199,201,203,205,207,209,211,211,211,211,211,214,218,219,220,227,237,237,237,237,237,237,237,228,238,238,238,238,238,238,238,229,239,239,239,239,239,239,239,230,240,240,240,240,240,240,240,231,241,241,241,241,241,241,241,232,242,242,242,242,242,242,242,248]
[null,{"$f":"IF(COUNTIF($CK$10:CK13,TRUE)>0,\"\",INDEX('C_Opis postrojenja'!$E$226:$E$242,ROWS($A$11:A13)))","v":""},{"$f":"IF($E13=\"\",\"\",INDEX('C_Opis postrojenja'!F:F,MATCH($B13,'C_Opis postrojenja'!$E:$E,0)))","v":""},{"$f":"IF($E13=\"\",\"\",INDEX('C_Opis postrojenja'!I:I,MATCH($B13,'C_Opis postrojenja'!$E:$E,0)))","v":""},{"$f":"IF($B13=\"\",\"\",INDEX('C_Opis postrojenja'!F:F,MATCH($CJ13,'C_Opis postrojenja'!$Q:$Q,0)))","v":""},{"$f":"IF($E13=\"\",\"\",INDEX('C_Opis postrojenja'!L:L,MATCH($CJ13,'C_Opis postrojenja'!$Q:$Q,0)))","v":""},{"$f":"IF($E13=\"\",\"\",INDEX('C_Opis postrojenja'!M:M,MATCH($CJ13,'C_Opis postrojenja'!$Q:$Q,0)))","v":""},{"$f":"IF($E13=\"\",\"\",INDEX('C_Opis postrojenja'!N:N,MATCH($CJ13,'C_Opis postrojenja'!$Q:$Q,0)))","v":""},{"$f":"IF($E13=\"\",\"\",IF(INDEX('E_Tokovi izvora'!$A:$N,CN13,I$7)=\"\",\"\",INDEX('E_Tokovi izvora'!$A:$N,CN13,I$7)))","v":""},{"$f":"IF($E13=\"\",\"\",IF(INDEX('E_Tokovi izvora'!$A:$N,CO13,J$7)=\"\",\"\",INDEX('E_Tokovi izvora'!$A:$N,CO13,J$7)))","v":""},{"$f":"IF($E13=\"\",\"\",IF(INDEX('E_Tokovi izvora'!$A:$N,CP13,K$7)=\"\",\"\",INDEX('E_Tokovi izvora'!$A:$N,CP13,K$7)))","v":""},{"$f":"IF($E13=\"\",\"\",IF(INDEX('E_Tokovi izvora'!$A:$N,CQ13,L$7)=\"\",\"\",INDEX('E_Tokovi izvora'!$A:$N,CQ13,L$7)))","v":""},{"$f":"IF($E13=\"\",\"\",IF(INDEX('E_Tokovi izvora'!$A:$N,CR13,M$7)=\"\",\"\",INDEX('E_Tokovi izvora'!$A:$N,CR13,M$7)))","v":""},{"$f":"IF($E13=\"\",\"\",IF(INDEX('E_Tokovi izvora'!$A:$N,CS13,N$7)=\"\",\"\",INDEX('E_Tokovi izvora'!$A:$N,CS13,N$7)))","v":""},{"$f":"IF($E13=\"\",\"\",IF(INDEX('E_Tokovi izvora'!$A:$N,CT13,O$7)=\"\",\"\",INDEX('E_Tokovi izvora'!$A:$N,CT13,O$7)))","v":""},{"$f":"IF($E13=\"\",\"\",IF(INDEX('E_Tokovi izvora'!$A:$N,CU13,P$7)=\"\",\"\",INDEX('E_Tokovi izvora'!$A:$N,CU13,P$7)))","v":""},{"$f":"IF($E13=\"\",\"\",IF(INDEX('E_Tokovi izvora'!$A:$N,CV13,Q$7)=\"\",\"\",INDEX('E_Tokovi izvora'!$A:$N,CV13,Q$7)))","v":""},{"$f":"IF($E13=\"\",\"\",IF(INDEX('E_Tokovi izvora'!$A:$N,CW13,R$7)=\"\",\"\",INDEX('E_Tokovi izvora'!$A:$N,CW13,R$7)))","v":""},{"$f":"IF($E13=\"\",\"\",IF(INDEX('E_Tokovi izvora'!$A:$N,CX13,S$7)=\"\",\"\",INDEX('E_Tokovi izvora'!$A:$N,CX13,S$7)))","v":""},{"$f":"IF($E13=\"\",\"\",IF(INDEX('E_Tokovi izvora'!$A:$N,CY13,T$7)=\"\",\"\",INDEX('E_Tokovi izvora'!$A:$N,CY13,T$7)))","v":""},{"$f":"IF($E13=\"\",\"\",IF(INDEX('E_Tokovi izvora'!$A:$N,CZ13,U$7)=\"\",\"\",INDEX('E_Tokovi izvora'!$A:$N,CZ13,U$7)))","v":""},{"$f":"IF($E13=\"\",\"\",IF(INDEX('E_Tokovi izvora'!$A:$N,DA13,V$7)=\"\",\"\",INDEX('E_Tokovi izvora'!$A:$N,DA13,V$7)))","v":""},{"$f":"IF($E13=\"\",\"\",IF(INDEX('E_Tokovi izvora'!$A:$N,DB13,W$7)=\"\",\"\",INDEX('E_Tokovi izvora'!$A:$N,DB13,W$7)))","v":""},{"$f":"IF($E13=\"\",\"\",IF(INDEX('E_Tokovi izvora'!$A:$N,DC13,X$7)=\"\",\"\",INDEX('E_Tokovi izvora'!$A:$N,DC13,X$7)))","v":""},{"$f":"IF($E13=\"\",\"\",IF(INDEX('E_Tokovi izvora'!$A:$N,DD13,Y$7)=\"\",\"\",INDEX('E_Tokovi izvora'!$A:$N,DD13,Y$7)))","v":""},{"$f":"IF($E13=\"\",\"\",IF(INDEX('E_Tokovi izvora'!$A:$N,DE13,Z$7)=\"\",\"\",INDEX('E_Tokovi izvora'!$A:$N,DE13,Z$7)))","v":""},{"$f":"IF($E13=\"\",\"\",IF(INDEX('E_Tokovi izvora'!$A:$N,DF13,AA$7)=\"\",\"\",INDEX('E_Tokovi izvora'!$A:$N,DF13,AA$7)))","v":""},{"$f":"IF($E13=\"\",\"\",IF(INDEX('E_Tokovi izvora'!$A:$N,DG13,AB$7)=\"\",\"\",INDEX('E_Tokovi izvora'!$A:$N,DG13,AB$7)))","v":""},{"$f":"IF($E13=\"\",\"\",IF(INDEX('E_Tokovi izvora'!$A:$N,DH13,AC$7)=\"\",\"\",INDEX('E_Tokovi izvora'!$A:$N,DH13,AC$7)))","v":""},{"$f":"IF($E13=\"\",\"\",IF(INDEX('E_Tokovi izvora'!$A:$N,DI13,AD$7)=\"\",\"\",INDEX('E_Tokovi izvora'!$A:$N,DI13,AD$7)))","v":""},{"$f":"IF($E13=\"\",\"\",IF(INDEX('E_Tokovi izvora'!$A:$N,DJ13,AE$7)=\"\",\"\",INDEX('E_Tokovi izvora'!$A:$N,DJ13,AE$7)))","v":""},{"$f":"IF($E13=\"\",\"\",IF(INDEX('E_Tokovi izvora'!$A:$N,DK13,AF$7)=\"\",\"\",INDEX('E_Tokovi izvora'!$A:$N,DK13,AF$7)))","v":""},{"$f":"IF($E13=\"\",\"\",IF(INDEX('E_Tokovi izvora'!$A:$N,DL13,AG$7)=\"\",\"\",INDEX('E_Tokovi izvora'!$A:$N,DL13,AG$7)))","v":""},{"$f":"IF($E13=\"\",\"\",IF(INDEX('E_Tokovi izvora'!$A:$N,DM13,AH$7)=\"\",\"\",INDEX('E_Tokovi izvora'!$A:$N,DM13,AH$7)))","v":""},{"$f":"IF($E13=\"\",\"\",IF(INDEX('E_Tokovi izvora'!$A:$N,DN13,AI$7)=\"\",\"\",INDEX('E_Tokovi izvora'!$A:$N,DN13,AI$7)))","v":""},{"$f":"IF($E13=\"\",\"\",IF(INDEX('E_Tokovi izvora'!$A:$N,DO13,AJ$7)=\"\",\"\",INDEX('E_Tokovi izvora'!$A:$N,DO13,AJ$7)))","v":""},{"$f":"IF($E13=\"\",\"\",IF(INDEX('E_Tokovi izvora'!$A:$N,DP13,AK$7)=\"\",\"\",INDEX('E_Tokovi izvora'!$A:$N,DP13,AK$7)))","v":""},{"$f":"IF($E13=\"\",\"\",IF(INDEX('E_Tokovi izvora'!$A:$N,DQ13,AL$7)=\"\",\"\",INDEX('E_Tokovi izvora'!$A:$N,DQ13,AL$7)))","v":""},{"$f":"IF($E13=\"\",\"\",IF(INDEX('E_Tokovi izvora'!$A:$N,DR13,AM$7)=\"\",\"\",INDEX('E_Tokovi izvora'!$A:$N,DR13,AM$7)))","v":""},{"$f":"IF($E13=\"\",\"\",IF(INDEX('E_Tokovi izvora'!$A:$N,DS13,AN$7)=\"\",\"\",INDEX('E_Tokovi izvora'!$A:$N,DS13,AN$7)))","v":""},{"$f":"IF($E13=\"\",\"\",IF(INDEX('E_Tokovi izvora'!$A:$N,DT13,AO$7)=\"\",\"\",INDEX('E_Tokovi izvora'!$A:$N,DT13,AO$7)))","v":""},{"$f":"IF($E13=\"\",\"\",IF(INDEX('E_Tokovi izvora'!$A:$N,DU13,AP$7)=\"\",\"\",INDEX('E_Tokovi izvora'!$A:$N,DU13,AP$7)))","v":""},{"$f":"IF($E13=\"\",\"\",IF(INDEX('E_Tokovi izvora'!$A:$N,DV13,AQ$7)=\"\",\"\",INDEX('E_Tokovi izvora'!$A:$N,DV13,AQ$7)))","v":""},{"$f":"IF($E13=\"\",\"\",IF(INDEX('E_Tokovi izvora'!$A:$N,DW13,AR$7)=\"\",\"\",INDEX('E_Tokovi izvora'!$A:$N,DW13,AR$7)))","v":""},{"$f":"IF($E13=\"\",\"\",IF(INDEX('E_Tokovi izvora'!$A:$N,DX13,AS$7)=\"\",\"\",INDEX('E_Tokovi izvora'!$A:$N,DX13,AS$7)))","v":""},{"$f":"IF($E13=\"\",\"\",IF(INDEX('E_Tokovi izvora'!$A:$N,DY13,AT$7)=\"\",\"\",INDEX('E_Tokovi izvora'!$A:$N,DY13,AT$7)))","v":""},{"$f":"IF($E13=\"\",\"\",IF(INDEX('E_Tokovi izvora'!$A:$N,DZ13,AU$7)=\"\",\"\",INDEX('E_Tokovi izvora'!$A:$N,DZ13,AU$7)))","v":""},{"$f":"IF($E13=\"\",\"\",IF(INDEX('E_Tokovi izvora'!$A:$N,EA13,AV$7)=\"\",\"\",INDEX('E_Tokovi izvora'!$A:$N,EA13,AV$7)))","v":""},{"$f":"IF($E13=\"\",\"\",IF(INDEX('E_Tokovi izvora'!$A:$N,EB13,AW$7)=\"\",\"\",INDEX('E_Tokovi izvora'!$A:$N,EB13,AW$7)))","v":""},{"$f":"IF($E13=\"\",\"\",IF(INDEX('E_Tokovi izvora'!$A:$N,EC13,AX$7)=\"\",\"\",INDEX('E_Tokovi izvora'!$A:$N,EC13,AX$7)))","v":""},{"$f":"IF($E13=\"\",\"\",IF(INDEX('E_Tokovi izvora'!$A:$N,ED13,AY$7)=\"\",\"\",INDEX('E_Tokovi izvora'!$A:$N,ED13,AY$7)))","v":""},{"$f":"IF($E13=\"\",\"\",IF(INDEX('E_Tokovi izvora'!$A:$N,EE13,AZ$7)=\"\",\"\",INDEX('E_Tokovi izvora'!$A:$N,EE13,AZ$7)))","v":""},{"$f":"IF($E13=\"\",\"\",IF(INDEX('E_Tokovi izvora'!$A:$N,EF13,BA$7)=\"\",\"\",INDEX('E_Tokovi izvora'!$A:$N,EF13,BA$7)))","v":""},{"$f":"IF($E13=\"\",\"\",IF(INDEX('E_Tokovi izvora'!$A:$N,EG13,BB$7)=\"\",\"\",INDEX('E_Tokovi izvora'!$A:$N,EG13,BB$7)))","v":""},{"$f":"IF($E13=\"\",\"\",IF(INDEX('E_Tokovi izvora'!$A:$N,EH13,BC$7)=\"\",\"\",INDEX('E_Tokovi izvora'!$A:$N,EH13,BC$7)))","v":""},{"$f":"IF($E13=\"\",\"\",IF(INDEX('E_Tokovi izvora'!$A:$N,EI13,BD$7)=\"\",\"\",INDEX('E_Tokovi izvora'!$A:$N,EI13,BD$7)))","v":""},{"$f":"IF($E13=\"\",\"\",IF(INDEX('E_Tokovi izvora'!$A:$N,EJ13,BE$7)=\"\",\"\",INDEX('E_Tokovi izvora'!$A:$N,EJ13,BE$7)))","v":""},{"$f":"IF($E13=\"\",\"\",IF(INDEX('E_Tokovi izvora'!$A:$N,EK13,BF$7)=\"\",\"\",INDEX('E_Tokovi izvora'!$A:$N,EK13,BF$7)))","v":""},{"$f":"IF($E13=\"\",\"\",IF(INDEX('E_Tokovi izvora'!$A:$N,EL13,BG$7)=\"\",\"\",INDEX('E_Tokovi izvora'!$A:$N,EL13,BG$7)))","v":""},{"$f":"IF($E13=\"\",\"\",IF(INDEX('E_Tokovi izvora'!$A:$N,EM13,BH$7)=\"\",\"\",INDEX('E_Tokovi izvora'!$A:$N,EM13,BH$7)))","v":""},{"$f":"IF($E13=\"\",\"\",IF(INDEX('E_Tokovi izvora'!$A:$N,EN13,BI$7)=\"\",\"\",INDEX('E_Tokovi izvora'!$A:$N,EN13,BI$7)))","v":""},{"$f":"IF($E13=\"\",\"\",IF(INDEX('E_Tokovi izvora'!$A:$N,EO13,BJ$7)=\"\",\"\",INDEX('E_Tokovi izvora'!$A:$N,EO13,BJ$7)))","v":""},{"$f":"IF($E13=\"\",\"\",IF(INDEX('E_Tokovi izvora'!$A:$N,EP13,BK$7)=\"\",\"\",INDEX('E_Tokovi izvora'!$A:$N,EP13,BK$7)))","v":""},{"$f":"IF($E13=\"\",\"\",IF(INDEX('E_Tokovi izvora'!$A:$N,EQ13,BL$7)=\"\",\"\",INDEX('E_Tokovi izvora'!$A:$N,EQ13,BL$7)))","v":""},{"$f":"IF($E13=\"\",\"\",IF(INDEX('E_Tokovi izvora'!$A:$N,ER13,BM$7)=\"\",\"\",INDEX('E_Tokovi izvora'!$A:$N,ER13,BM$7)))","v":""},{"$f":"IF($E13=\"\",\"\",IF(INDEX('E_Tokovi izvora'!$A:$N,ES13,BN$7)=\"\",\"\",INDEX('E_Tokovi izvora'!$A:$N,ES13,BN$7)))","v":""},{"$f":"IF($E13=\"\",\"\",IF(INDEX('E_Tokovi izvora'!$A:$N,ET13,BO$7)=\"\",\"\",INDEX('E_Tokovi izvora'!$A:$N,ET13,BO$7)))","v":""},{"$f":"IF($E13=\"\",\"\",IF(INDEX('E_Tokovi izvora'!$A:$N,EU13,BP$7)=\"\",\"\",INDEX('E_Tokovi izvora'!$A:$N,EU13,BP$7)))","v":""},{"$f":"IF($E13=\"\",\"\",IF(INDEX('E_Tokovi izvora'!$A:$N,EV13,BQ$7)=\"\",\"\",INDEX('E_Tokovi izvora'!$A:$N,EV13,BQ$7)))","v":""},{"$f":"IF($E13=\"\",\"\",IF(INDEX('E_Tokovi izvora'!$A:$N,EW13,BR$7)=\"\",\"\",INDEX('E_Tokovi izvora'!$A:$N,EW13,BR$7)))","v":""},{"$f":"IF($E13=\"\",\"\",IF(INDEX('E_Tokovi izvora'!$A:$N,EX13,BS$7)=\"\",\"\",INDEX('E_Tokovi izvora'!$A:$N,EX13,BS$7)))","v":""},{"$f":"IF($E13=\"\",\"\",IF(INDEX('E_Tokovi izvora'!$A:$N,EY13,BT$7)=\"\",\"\",INDEX('E_Tokovi izvora'!$A:$N,EY13,BT$7)))","v":""},null,null,null,null,null,null,null,null,null,null,null,null,null,null,null,"SourceCategory_",{"$f":"INDEX('C_Opis postrojenja'!$A$226:$A$332,ROWS($CI$11:CI13))=\"ausblenden\"","v":false},"SourceStreamName_",null,{"$f":"CN12+66","v":265},{"$f":"CO12+66","v":267},{"$f":"CP12+66","v":269},{"$f":"CQ12+66","v":271},{"$f":"CR12+66","v":273},{"$f":"CS12+66","v":275},{"$f":"CT12+66","v":277},{"$f":"CU12+66","v":277},{"$f":"CV12+66","v":277},{"$f":"CW12+66","v":277},{"$f":"CX12+66","v":277},{"$f":"CY12+66","v":280},{"$f":"CZ12+66","v":284},{"$f":"DA12+66","v":285},{"$f":"DB12+66","v":286},{"$f":"DC12+66","v":293},{"$f":"DD12+66","v":303},{"$f":"DE12+66","v":303},{"$f":"DF12+66","v":303},{"$f":"DG12+66","v":303},{"$f":"DH12+66","v":303},{"$f":"DI12+66","v":303},{"$f":"DJ12+66","v":303},{"$f":"DK12+66","v":294},{"$f":"DL12+66","v":304},{"$f":"DM12+66","v":304},{"$f":"DN12+66","v":304},{"$f":"DO12+66","v":304},{"$f":"DP12+66","v":304},{"$f":"DQ12+66","v":304},{"$f":"DR12+66","v":304},{"$f":"DS12+66","v":295},{"$f":"DT12+66","v":305},{"$f":"DU12+66","v":305},{"$f":"DV12+66","v":305},{"$f":"DW12+66","v":305},{"$f":"DX12+66","v":305},{"$f":"DY12+66","v":305},{"$f":"DZ12+66","v":305},{"$f":"EA12+66","v":296},{"$f":"EB12+66","v":306},{"$f":"EC12+66","v":306},{"$f":"ED12+66","v":306},{"$f":"EE12+66","v":306},{"$f":"EF12+66","v":306},{"$f":"EG12+66","v":306},{"$f":"EH12+66","v":306},{"$f":"EI12+66","v":297},{"$f":"EJ12+66","v":307},{"$f":"EK12+66","v":307},{"$f":"EL12+66","v":307},{"$f":"EM12+66","v":307},{"$f":"EN12+66","v":307},{"$f":"EO12+66","v":307},{"$f":"EP12+66","v":307},{"$f":"EQ12+66","v":298},{"$f":"ER12+66","v":308},{"$f":"ES12+66","v":308},{"$f":"ET12+66","v":308},{"$f":"EU12+66","v":308},{"$f":"EV12+66","v":308},{"$f":"EW12+66","v":308},{"$f":"EX12+66","v":308},{"$f":"EY12+66","v":314}]
[null,{"$f":"IF(COUNTIF($CK$10:CK14,TRUE)>0,\"\",INDEX('C_Opis postrojenja'!$E$226:$E$242,ROWS($A$11:A14)))","v":""},{"$f":"IF($E14=\"\",\"\",INDEX('C_Opis postrojenja'!F:F,MATCH($B14,'C_Opis postrojenja'!$E:$E,0)))","v":""},{"$f":"IF($E14=\"\",\"\",INDEX('C_Opis postrojenja'!I:I,MATCH($B14,'C_Opis postrojenja'!$E:$E,0)))","v":""},{"$f":"IF($B14=\"\",\"\",INDEX('C_Opis postrojenja'!F:F,MATCH($CJ14,'C_Opis postrojenja'!$Q:$Q,0)))","v":""},{"$f":"IF($E14=\"\",\"\",INDEX('C_Opis postrojenja'!L:L,MATCH($CJ14,'C_Opis postrojenja'!$Q:$Q,0)))","v":""},{"$f":"IF($E14=\"\",\"\",INDEX('C_Opis postrojenja'!M:M,MATCH($CJ14,'C_Opis postrojenja'!$Q:$Q,0)))","v":""},{"$f":"IF($E14=\"\",\"\",INDEX('C_Opis postrojenja'!N:N,MATCH($CJ14,'C_Opis postrojenja'!$Q:$Q,0)))","v":""},{"$f":"IF($E14=\"\",\"\",IF(INDEX('E_Tokovi izvora'!$A:$N,CN14,I$7)=\"\",\"\",INDEX('E_Tokovi izvora'!$A:$N,CN14,I$7)))","v":""},{"$f":"IF($E14=\"\",\"\",IF(INDEX('E_Tokovi izvora'!$A:$N,CO14,J$7)=\"\",\"\",INDEX('E_Tokovi izvora'!$A:$N,CO14,J$7)))","v":""},{"$f":"IF($E14=\"\",\"\",IF(INDEX('E_Tokovi izvora'!$A:$N,CP14,K$7)=\"\",\"\",INDEX('E_Tokovi izvora'!$A:$N,CP14,K$7)))","v":""},{"$f":"IF($E14=\"\",\"\",IF(INDEX('E_Tokovi izvora'!$A:$N,CQ14,L$7)=\"\",\"\",INDEX('E_Tokovi izvora'!$A:$N,CQ14,L$7)))","v":""},{"$f":"IF($E14=\"\",\"\",IF(INDEX('E_Tokovi izvora'!$A:$N,CR14,M$7)=\"\",\"\",INDEX('E_Tokovi izvora'!$A:$N,CR14,M$7)))","v":""},{"$f":"IF($E14=\"\",\"\",IF(INDEX('E_Tokovi izvora'!$A:$N,CS14,N$7)=\"\",\"\",INDEX('E_Tokovi izvora'!$A:$N,CS14,N$7)))","v":""},{"$f":"IF($E14=\"\",\"\",IF(INDEX('E_Tokovi izvora'!$A:$N,CT14,O$7)=\"\",\"\",INDEX('E_Tokovi izvora'!$A:$N,CT14,O$7)))","v":""},{"$f":"IF($E14=\"\",\"\",IF(INDEX('E_Tokovi izvora'!$A:$N,CU14,P$7)=\"\",\"\",INDEX('E_Tokovi izvora'!$A:$N,CU14,P$7)))","v":""},{"$f":"IF($E14=\"\",\"\",IF(INDEX('E_Tokovi izvora'!$A:$N,CV14,Q$7)=\"\",\"\",INDEX('E_Tokovi izvora'!$A:$N,CV14,Q$7)))","v":""},{"$f":"IF($E14=\"\",\"\",IF(INDEX('E_Tokovi izvora'!$A:$N,CW14,R$7)=\"\",\"\",INDEX('E_Tokovi izvora'!$A:$N,CW14,R$7)))","v":""},{"$f":"IF($E14=\"\",\"\",IF(INDEX('E_Tokovi izvora'!$A:$N,CX14,S$7)=\"\",\"\",INDEX('E_Tokovi izvora'!$A:$N,CX14,S$7)))","v":""},{"$f":"IF($E14=\"\",\"\",IF(INDEX('E_Tokovi izvora'!$A:$N,CY14,T$7)=\"\",\"\",INDEX('E_Tokovi izvora'!$A:$N,CY14,T$7)))","v":""},{"$f":"IF($E14=\"\",\"\",IF(INDEX('E_Tokovi izvora'!$A:$N,CZ14,U$7)=\"\",\"\",INDEX('E_Tokovi izvora'!$A:$N,CZ14,U$7)))","v":""},{"$f":"IF($E14=\"\",\"\",IF(INDEX('E_Tokovi izvora'!$A:$N,DA14,V$7)=\"\",\"\",INDEX('E_Tokovi izvora'!$A:$N,DA14,V$7)))","v":""},{"$f":"IF($E14=\"\",\"\",IF(INDEX('E_Tokovi izvora'!$A:$N,DB14,W$7)=\"\",\"\",INDEX('E_Tokovi izvora'!$A:$N,DB14,W$7)))","v":""},{"$f":"IF($E14=\"\",\"\",IF(INDEX('E_Tokovi izvora'!$A:$N,DC14,X$7)=\"\",\"\",INDEX('E_Tokovi izvora'!$A:$N,DC14,X$7)))","v":""},{"$f":"IF($E14=\"\",\"\",IF(INDEX('E_Tokovi izvora'!$A:$N,DD14,Y$7)=\"\",\"\",INDEX('E_Tokovi izvora'!$A:$N,DD14,Y$7)))","v":""},{"$f":"IF($E14=\"\",\"\",IF(INDEX('E_Tokovi izvora'!$A:$N,DE14,Z$7)=\"\",\"\",INDEX('E_Tokovi izvora'!$A:$N,DE14,Z$7)))","v":""},{"$f":"IF($E14=\"\",\"\",IF(INDEX('E_Tokovi izvora'!$A:$N,DF14,AA$7)=\"\",\"\",INDEX('E_Tokovi izvora'!$A:$N,DF14,AA$7)))","v":""},{"$f":"IF($E14=\"\",\"\",IF(INDEX('E_Tokovi izvora'!$A:$N,DG14,AB$7)=\"\",\"\",INDEX('E_Tokovi izvora'!$A:$N,DG14,AB$7)))","v":""},{"$f":"IF($E14=\"\",\"\",IF(INDEX('E_Tokovi izvora'!$A:$N,DH14,AC$7)=\"\",\"\",INDEX('E_Tokovi izvora'!$A:$N,DH14,AC$7)))","v":""},{"$f":"IF($E14=\"\",\"\",IF(INDEX('E_Tokovi izvora'!$A:$N,DI14,AD$7)=\"\",\"\",INDEX('E_Tokovi izvora'!$A:$N,DI14,AD$7)))","v":""},{"$f":"IF($E14=\"\",\"\",IF(INDEX('E_Tokovi izvora'!$A:$N,DJ14,AE$7)=\"\",\"\",INDEX('E_Tokovi izvora'!$A:$N,DJ14,AE$7)))","v":""},{"$f":"IF($E14=\"\",\"\",IF(INDEX('E_Tokovi izvora'!$A:$N,DK14,AF$7)=\"\",\"\",INDEX('E_Tokovi izvora'!$A:$N,DK14,AF$7)))","v":""},{"$f":"IF($E14=\"\",\"\",IF(INDEX('E_Tokovi izvora'!$A:$N,DL14,AG$7)=\"\",\"\",INDEX('E_Tokovi izvora'!$A:$N,DL14,AG$7)))","v":""},{"$f":"IF($E14=\"\",\"\",IF(INDEX('E_Tokovi izvora'!$A:$N,DM14,AH$7)=\"\",\"\",INDEX('E_Tokovi izvora'!$A:$N,DM14,AH$7)))","v":""},{"$f":"IF($E14=\"\",\"\",IF(INDEX('E_Tokovi izvora'!$A:$N,DN14,AI$7)=\"\",\"\",INDEX('E_Tokovi izvora'!$A:$N,DN14,AI$7)))","v":""},{"$f":"IF($E14=\"\",\"\",IF(INDEX('E_Tokovi izvora'!$A:$N,DO14,AJ$7)=\"\",\"\",INDEX('E_Tokovi izvora'!$A:$N,DO14,AJ$7)))","v":""},{"$f":"IF($E14=\"\",\"\",IF(INDEX('E_Tokovi izvora'!$A:$N,DP14,AK$7)=\"\",\"\",INDEX('E_Tokovi izvora'!$A:$N,DP14,AK$7)))","v":""},{"$f":"IF($E14=\"\",\"\",IF(INDEX('E_Tokovi izvora'!$A:$N,DQ14,AL$7)=\"\",\"\",INDEX('E_Tokovi izvora'!$A:$N,DQ14,AL$7)))","v":""},{"$f":"IF($E14=\"\",\"\",IF(INDEX('E_Tokovi izvora'!$A:$N,DR14,AM$7)=\"\",\"\",INDEX('E_Tokovi izvora'!$A:$N,DR14,AM$7)))","v":""},{"$f":"IF($E14=\"\",\"\",IF(INDEX('E_Tokovi izvora'!$A:$N,DS14,AN$7)=\"\",\"\",INDEX('E_Tokovi izvora'!$A:$N,DS14,AN$7)))","v":""},{"$f":"IF($E14=\"\",\"\",IF(INDEX('E_Tokovi izvora'!$A:$N,DT14,AO$7)=\"\",\"\",INDEX('E_Tokovi izvora'!$A:$N,DT14,AO$7)))","v":""},{"$f":"IF($E14=\"\",\"\",IF(INDEX('E_Tokovi izvora'!$A:$N,DU14,AP$7)=\"\",\"\",INDEX('E_Tokovi izvora'!$A:$N,DU14,AP$7)))","v":""},{"$f":"IF($E14=\"\",\"\",IF(INDEX('E_Tokovi izvora'!$A:$N,DV14,AQ$7)=\"\",\"\",INDEX('E_Tokovi izvora'!$A:$N,DV14,AQ$7)))","v":""},{"$f":"IF($E14=\"\",\"\",IF(INDEX('E_Tokovi izvora'!$A:$N,DW14,AR$7)=\"\",\"\",INDEX('E_Tokovi izvora'!$A:$N,DW14,AR$7)))","v":""},{"$f":"IF($E14=\"\",\"\",IF(INDEX('E_Tokovi izvora'!$A:$N,DX14,AS$7)=\"\",\"\",INDEX('E_Tokovi izvora'!$A:$N,DX14,AS$7)))","v":""},{"$f":"IF($E14=\"\",\"\",IF(INDEX('E_Tokovi izvora'!$A:$N,DY14,AT$7)=\"\",\"\",INDEX('E_Tokovi izvora'!$A:$N,DY14,AT$7)))","v":""},{"$f":"IF($E14=\"\",\"\",IF(INDEX('E_Tokovi izvora'!$A:$N,DZ14,AU$7)=\"\",\"\",INDEX('E_Tokovi izvora'!$A:$N,DZ14,AU$7)))","v":""},{"$f":"IF($E14=\"\",\"\",IF(INDEX('E_Tokovi izvora'!$A:$N,EA14,AV$7)=\"\",\"\",INDEX('E_Tokovi izvora'!$A:$N,EA14,AV$7)))","v":""},{"$f":"IF($E14=\"\",\"\",IF(INDEX('E_Tokovi izvora'!$A:$N,EB14,AW$7)=\"\",\"\",INDEX('E_Tokovi izvora'!$A:$N,EB14,AW$7)))","v":""},{"$f":"IF($E14=\"\",\"\",IF(INDEX('E_Tokovi izvora'!$A:$N,EC14,AX$7)=\"\",\"\",INDEX('E_Tokovi izvora'!$A:$N,EC14,AX$7)))","v":""},{"$f":"IF($E14=\"\",\"\",IF(INDEX('E_Tokovi izvora'!$A:$N,ED14,AY$7)=\"\",\"\",INDEX('E_Tokovi izvora'!$A:$N,ED14,AY$7)))","v":""},{"$f":"IF($E14=\"\",\"\",IF(INDEX('E_Tokovi izvora'!$A:$N,EE14,AZ$7)=\"\",\"\",INDEX('E_Tokovi izvora'!$A:$N,EE14,AZ$7)))","v":""},{"$f":"IF($E14=\"\",\"\",IF(INDEX('E_Tokovi izvora'!$A:$N,EF14,BA$7)=\"\",\"\",INDEX('E_Tokovi izvora'!$A:$N,EF14,BA$7)))","v":""},{"$f":"IF($E14=\"\",\"\",IF(INDEX('E_Tokovi izvora'!$A:$N,EG14,BB$7)=\"\",\"\",INDEX('E_Tokovi izvora'!$A:$N,EG14,BB$7)))","v":""},{"$f":"IF($E14=\"\",\"\",IF(INDEX('E_Tokovi izvora'!$A:$N,EH14,BC$7)=\"\",\"\",INDEX('E_Tokovi izvora'!$A:$N,EH14,BC$7)))","v":""},{"$f":"IF($E14=\"\",\"\",IF(INDEX('E_Tokovi izvora'!$A:$N,EI14,BD$7)=\"\",\"\",INDEX('E_Tokovi izvora'!$A:$N,EI14,BD$7)))","v":""},{"$f":"IF($E14=\"\",\"\",IF(INDEX('E_Tokovi izvora'!$A:$N,EJ14,BE$7)=\"\",\"\",INDEX('E_Tokovi izvora'!$A:$N,EJ14,BE$7)))","v":""},{"$f":"IF($E14=\"\",\"\",IF(INDEX('E_Tokovi izvora'!$A:$N,EK14,BF$7)=\"\",\"\",INDEX('E_Tokovi izvora'!$A:$N,EK14,BF$7)))","v":""},{"$f":"IF($E14=\"\",\"\",IF(INDEX('E_Tokovi izvora'!$A:$N,EL14,BG$7)=\"\",\"\",INDEX('E_Tokovi izvora'!$A:$N,EL14,BG$7)))","v":""},{"$f":"IF($E14=\"\",\"\",IF(INDEX('E_Tokovi izvora'!$A:$N,EM14,BH$7)=\"\",\"\",INDEX('E_Tokovi izvora'!$A:$N,EM14,BH$7)))","v":""},{"$f":"IF($E14=\"\",\"\",IF(INDEX('E_Tokovi izvora'!$A:$N,EN14,BI$7)=\"\",\"\",INDEX('E_Tokovi izvora'!$A:$N,EN14,BI$7)))","v":""},{"$f":"IF($E14=\"\",\"\",IF(INDEX('E_Tokovi izvora'!$A:$N,EO14,BJ$7)=\"\",\"\",INDEX('E_Tokovi izvora'!$A:$N,EO14,BJ$7)))","v":""},{"$f":"IF($E14=\"\",\"\",IF(INDEX('E_Tokovi izvora'!$A:$N,EP14,BK$7)=\"\",\"\",INDEX('E_Tokovi izvora'!$A:$N,EP14,BK$7)))","v":""},{"$f":"IF($E14=\"\",\"\",IF(INDEX('E_Tokovi izvora'!$A:$N,EQ14,BL$7)=\"\",\"\",INDEX('E_Tokovi izvora'!$A:$N,EQ14,BL$7)))","v":""},{"$f":"IF($E14=\"\",\"\",IF(INDEX('E_Tokovi izvora'!$A:$N,ER14,BM$7)=\"\",\"\",INDEX('E_Tokovi izvora'!$A:$N,ER14,BM$7)))","v":""},{"$f":"IF($E14=\"\",\"\",IF(INDEX('E_Tokovi izvora'!$A:$N,ES14,BN$7)=\"\",\"\",INDEX('E_Tokovi izvora'!$A:$N,ES14,BN$7)))","v":""},{"$f":"IF($E14=\"\",\"\",IF(INDEX('E_Tokovi izvora'!$A:$N,ET14,BO$7)=\"\",\"\",INDEX('E_Tokovi izvora'!$A:$N,ET14,BO$7)))","v":""},{"$f":"IF($E14=\"\",\"\",IF(INDEX('E_Tokovi izvora'!$A:$N,EU14,BP$7)=\"\",\"\",INDEX('E_Tokovi izvora'!$A:$N,EU14,BP$7)))","v":""},{"$f":"IF($E14=\"\",\"\",IF(INDEX('E_Tokovi izvora'!$A:$N,EV14,BQ$7)=\"\",\"\",INDEX('E_Tokovi izvora'!$A:$N,EV14,BQ$7)))","v":""},{"$f":"IF($E14=\"\",\"\",IF(INDEX('E_Tokovi izvora'!$A:$N,EW14,BR$7)=\"\",\"\",INDEX('E_Tokovi izvora'!$A:$N,EW14,BR$7)))","v":""},{"$f":"IF($E14=\"\",\"\",IF(INDEX('E_Tokovi izvora'!$A:$N,EX14,BS$7)=\"\",\"\",INDEX('E_Tokovi izvora'!$A:$N,EX14,BS$7)))","v":""},{"$f":"IF($E14=\"\",\"\",IF(INDEX('E_Tokovi izvora'!$A:$N,EY14,BT$7)=\"\",\"\",INDEX('E_Tokovi izvora'!$A:$N,EY14,BT$7)))","v":""},null,null,null,null,null,null,null,null,null,null,null,null,null,null,null,"SourceCategory_",{"$f":"INDEX('C_Opis postrojenja'!$A$226:$A$332,ROWS($CI$11:CI14))=\"ausblenden\"","v":false},"SourceStreamName_",null,{"$f":"CN13+66","v":331},333,335,337,339,341,343,343,343,343,343,346,350,351,352,359,369,369,369,369,369,369,369,360,370,370,370,370,370,370,370,361,371,371,371,371,371,371,371,362,372,372,372,372,372,372,372,363,373,373,373,373,373,373,373,364,374,374,374,374,374,374,374,380]
[null,{"$f":"IF(COUNTIF($CK$10:CK15,TRUE)>0,\"\",INDEX('C_Opis postrojenja'!$E$226:$E$242,ROWS($A$11:A15)))","v":""},{"$f":"IF($E15=\"\",\"\",INDEX('C_Opis postrojenja'!F:F,MATCH($B15,'C_Opis postrojenja'!$E:$E,0)))","v":""},{"$f":"IF($E15=\"\",\"\",INDEX('C_Opis postrojenja'!I:I,MATCH($B15,'C_Opis postrojenja'!$E:$E,0)))","v":""},{"$f":"IF($B15=\"\",\"\",INDEX('C_Opis postrojenja'!F:F,MATCH($CJ15,'C_Opis postrojenja'!$Q:$Q,0)))","v":""},{"$f":"IF($E15=\"\",\"\",INDEX('C_Opis postrojenja'!L:L,MATCH($CJ15,'C_Opis postrojenja'!$Q:$Q,0)))","v":""},{"$f":"IF($E15=\"\",\"\",INDEX('C_Opis postrojenja'!M:M,MATCH($CJ15,'C_Opis postrojenja'!$Q:$Q,0)))","v":""},{"$f":"IF($E15=\"\",\"\",INDEX('C_Opis postrojenja'!N:N,MATCH($CJ15,'C_Opis postrojenja'!$Q:$Q,0)))","v":""},{"$f":"IF($E15=\"\",\"\",IF(INDEX('E_Tokovi izvora'!$A:$N,CN15,I$7)=\"\",\"\",INDEX('E_Tokovi izvora'!$A:$N,CN15,I$7)))","v":""},{"$f":"IF($E15=\"\",\"\",IF(INDEX('E_Tokovi izvora'!$A:$N,CO15,J$7)=\"\",\"\",INDEX('E_Tokovi izvora'!$A:$N,CO15,J$7)))","v":""},{"$f":"IF($E15=\"\",\"\",IF(INDEX('E_Tokovi izvora'!$A:$N,CP15,K$7)=\"\",\"\",INDEX('E_Tokovi izvora'!$A:$N,CP15,K$7)))","v":""},{"$f":"IF($E15=\"\",\"\",IF(INDEX('E_Tokovi izvora'!$A:$N,CQ15,L$7)=\"\",\"\",INDEX('E_Tokovi izvora'!$A:$N,CQ15,L$7)))","v":""},{"$f":"IF($E15=\"\",\"\",IF(INDEX('E_Tokovi izvora'!$A:$N,CR15,M$7)=\"\",\"\",INDEX('E_Tokovi izvora'!$A:$N,CR15,M$7)))","v":""},{"$f":"IF($E15=\"\",\"\",IF(INDEX('E_Tokovi izvora'!$A:$N,CS15,N$7)=\"\",\"\",INDEX('E_Tokovi izvora'!$A:$N,CS15,N$7)))","v":""},{"$f":"IF($E15=\"\",\"\",IF(INDEX('E_Tokovi izvora'!$A:$N,CT15,O$7)=\"\",\"\",INDEX('E_Tokovi izvora'!$A:$N,CT15,O$7)))","v":""},{"$f":"IF($E15=\"\",\"\",IF(INDEX('E_Tokovi izvora'!$A:$N,CU15,P$7)=\"\",\"\",INDEX('E_Tokovi izvora'!$A:$N,CU15,P$7)))","v":""},{"$f":"IF($E15=\"\",\"\",IF(INDEX('E_Tokovi izvora'!$A:$N,CV15,Q$7)=\"\",\"\",INDEX('E_Tokovi izvora'!$A:$N,CV15,Q$7)))","v":""},{"$f":"IF($E15=\"\",\"\",IF(INDEX('E_Tokovi izvora'!$A:$N,CW15,R$7)=\"\",\"\",INDEX('E_Tokovi izvora'!$A:$N,CW15,R$7)))","v":""},{"$f":"IF($E15=\"\",\"\",IF(INDEX('E_Tokovi izvora'!$A:$N,CX15,S$7)=\"\",\"\",INDEX('E_Tokovi izvora'!$A:$N,CX15,S$7)))","v":""},{"$f":"IF($E15=\"\",\"\",IF(INDEX('E_Tokovi izvora'!$A:$N,CY15,T$7)=\"\",\"\",INDEX('E_Tokovi izvora'!$A:$N,CY15,T$7)))","v":""},{"$f":"IF($E15=\"\",\"\",IF(INDEX('E_Tokovi izvora'!$A:$N,CZ15,U$7)=\"\",\"\",INDEX('E_Tokovi izvora'!$A:$N,CZ15,U$7)))","v":""},{"$f":"IF($E15=\"\",\"\",IF(INDEX('E_Tokovi izvora'!$A:$N,DA15,V$7)=\"\",\"\",INDEX('E_Tokovi izvora'!$A:$N,DA15,V$7)))","v":""},{"$f":"IF($E15=\"\",\"\",IF(INDEX('E_Tokovi izvora'!$A:$N,DB15,W$7)=\"\",\"\",INDEX('E_Tokovi izvora'!$A:$N,DB15,W$7)))","v":""},{"$f":"IF($E15=\"\",\"\",IF(INDEX('E_Tokovi izvora'!$A:$N,DC15,X$7)=\"\",\"\",INDEX('E_Tokovi izvora'!$A:$N,DC15,X$7)))","v":""},{"$f":"IF($E15=\"\",\"\",IF(INDEX('E_Tokovi izvora'!$A:$N,DD15,Y$7)=\"\",\"\",INDEX('E_Tokovi izvora'!$A:$N,DD15,Y$7)))","v":""},{"$f":"IF($E15=\"\",\"\",IF(INDEX('E_Tokovi izvora'!$A:$N,DE15,Z$7)=\"\",\"\",INDEX('E_Tokovi izvora'!$A:$N,DE15,Z$7)))","v":""},{"$f":"IF($E15=\"\",\"\",IF(INDEX('E_Tokovi izvora'!$A:$N,DF15,AA$7)=\"\",\"\",INDEX('E_Tokovi izvora'!$A:$N,DF15,AA$7)))","v":""},{"$f":"IF($E15=\"\",\"\",IF(INDEX('E_Tokovi izvora'!$A:$N,DG15,AB$7)=\"\",\"\",INDEX('E_Tokovi izvora'!$A:$N,DG15,AB$7)))","v":""},{"$f":"IF($E15=\"\",\"\",IF(INDEX('E_Tokovi izvora'!$A:$N,DH15,AC$7)=\"\",\"\",INDEX('E_Tokovi izvora'!$A:$N,DH15,AC$7)))","v":""},{"$f":"IF($E15=\"\",\"\",IF(INDEX('E_Tokovi izvora'!$A:$N,DI15,AD$7)=\"\",\"\",INDEX('E_Tokovi izvora'!$A:$N,DI15,AD$7)))","v":""},{"$f":"IF($E15=\"\",\"\",IF(INDEX('E_Tokovi izvora'!$A:$N,DJ15,AE$7)=\"\",\"\",INDEX('E_Tokovi izvora'!$A:$N,DJ15,AE$7)))","v":""},{"$f":"IF($E15=\"\",\"\",IF(INDEX('E_Tokovi izvora'!$A:$N,DK15,AF$7)=\"\",\"\",INDEX('E_Tokovi izvora'!$A:$N,DK15,AF$7)))","v":""},{"$f":"IF($E15=\"\",\"\",IF(INDEX('E_Tokovi izvora'!$A:$N,DL15,AG$7)=\"\",\"\",INDEX('E_Tokovi izvora'!$A:$N,DL15,AG$7)))","v":""},{"$f":"IF($E15=\"\",\"\",IF(INDEX('E_Tokovi izvora'!$A:$N,DM15,AH$7)=\"\",\"\",INDEX('E_Tokovi izvora'!$A:$N,DM15,AH$7)))","v":""},{"$f":"IF($E15=\"\",\"\",IF(INDEX('E_Tokovi izvora'!$A:$N,DN15,AI$7)=\"\",\"\",INDEX('E_Tokovi izvora'!$A:$N,DN15,AI$7)))","v":""},{"$f":"IF($E15=\"\",\"\",IF(INDEX('E_Tokovi izvora'!$A:$N,DO15,AJ$7)=\"\",\"\",INDEX('E_Tokovi izvora'!$A:$N,DO15,AJ$7)))","v":""},{"$f":"IF($E15=\"\",\"\",IF(INDEX('E_Tokovi izvora'!$A:$N,DP15,AK$7)=\"\",\"\",INDEX('E_Tokovi izvora'!$A:$N,DP15,AK$7)))","v":""},{"$f":"IF($E15=\"\",\"\",IF(INDEX('E_Tokovi izvora'!$A:$N,DQ15,AL$7)=\"\",\"\",INDEX('E_Tokovi izvora'!$A:$N,DQ15,AL$7)))","v":""},{"$f":"IF($E15=\"\",\"\",IF(INDEX('E_Tokovi izvora'!$A:$N,DR15,AM$7)=\"\",\"\",INDEX('E_Tokovi izvora'!$A:$N,DR15,AM$7)))","v":""},{"$f":"IF($E15=\"\",\"\",IF(INDEX('E_Tokovi izvora'!$A:$N,DS15,AN$7)=\"\",\"\",INDEX('E_Tokovi izvora'!$A:$N,DS15,AN$7)))","v":""},{"$f":"IF($E15=\"\",\"\",IF(INDEX('E_Tokovi izvora'!$A:$N,DT15,AO$7)=\"\",\"\",INDEX('E_Tokovi izvora'!$A:$N,DT15,AO$7)))","v":""},{"$f":"IF($E15=\"\",\"\",IF(INDEX('E_Tokovi izvora'!$A:$N,DU15,AP$7)=\"\",\"\",INDEX('E_Tokovi izvora'!$A:$N,DU15,AP$7)))","v":""},{"$f":"IF($E15=\"\",\"\",IF(INDEX('E_Tokovi izvora'!$A:$N,DV15,AQ$7)=\"\",\"\",INDEX('E_Tokovi izvora'!$A:$N,DV15,AQ$7)))","v":""},{"$f":"IF($E15=\"\",\"\",IF(INDEX('E_Tokovi izvora'!$A:$N,DW15,AR$7)=\"\",\"\",INDEX('E_Tokovi izvora'!$A:$N,DW15,AR$7)))","v":""},{"$f":"IF($E15=\"\",\"\",IF(INDEX('E_Tokovi izvora'!$A:$N,DX15,AS$7)=\"\",\"\",INDEX('E_Tokovi izvora'!$A:$N,DX15,AS$7)))","v":""},{"$f":"IF($E15=\"\",\"\",IF(INDEX('E_Tokovi izvora'!$A:$N,DY15,AT$7)=\"\",\"\",INDEX('E_Tokovi izvora'!$A:$N,DY15,AT$7)))","v":""},{"$f":"IF($E15=\"\",\"\",IF(INDEX('E_Tokovi izvora'!$A:$N,DZ15,AU$7)=\"\",\"\",INDEX('E_Tokovi izvora'!$A:$N,DZ15,AU$7)))","v":""},{"$f":"IF($E15=\"\",\"\",IF(INDEX('E_Tokovi izvora'!$A:$N,EA15,AV$7)=\"\",\"\",INDEX('E_Tokovi izvora'!$A:$N,EA15,AV$7)))","v":""},{"$f":"IF($E15=\"\",\"\",IF(INDEX('E_Tokovi izvora'!$A:$N,EB15,AW$7)=\"\",\"\",INDEX('E_Tokovi izvora'!$A:$N,EB15,AW$7)))","v":""},{"$f":"IF($E15=\"\",\"\",IF(INDEX('E_Tokovi izvora'!$A:$N,EC15,AX$7)=\"\",\"\",INDEX('E_Tokovi izvora'!$A:$N,EC15,AX$7)))","v":""},{"$f":"IF($E15=\"\",\"\",IF(INDEX('E_Tokovi izvora'!$A:$N,ED15,AY$7)=\"\",\"\",INDEX('E_Tokovi izvora'!$A:$N,ED15,AY$7)))","v":""},{"$f":"IF($E15=\"\",\"\",IF(INDEX('E_Tokovi izvora'!$A:$N,EE15,AZ$7)=\"\",\"\",INDEX('E_Tokovi izvora'!$A:$N,EE15,AZ$7)))","v":""},{"$f":"IF($E15=\"\",\"\",IF(INDEX('E_Tokovi izvora'!$A:$N,EF15,BA$7)=\"\",\"\",INDEX('E_Tokovi izvora'!$A:$N,EF15,BA$7)))","v":""},{"$f":"IF($E15=\"\",\"\",IF(INDEX('E_Tokovi izvora'!$A:$N,EG15,BB$7)=\"\",\"\",INDEX('E_Tokovi izvora'!$A:$N,EG15,BB$7)))","v":""},{"$f":"IF($E15=\"\",\"\",IF(INDEX('E_Tokovi izvora'!$A:$N,EH15,BC$7)=\"\",\"\",INDEX('E_Tokovi izvora'!$A:$N,EH15,BC$7)))","v":""},{"$f":"IF($E15=\"\",\"\",IF(INDEX('E_Tokovi izvora'!$A:$N,EI15,BD$7)=\"\",\"\",INDEX('E_Tokovi izvora'!$A:$N,EI15,BD$7)))","v":""},{"$f":"IF($E15=\"\",\"\",IF(INDEX('E_Tokovi izvora'!$A:$N,EJ15,BE$7)=\"\",\"\",INDEX('E_Tokovi izvora'!$A:$N,EJ15,BE$7)))","v":""},{"$f":"IF($E15=\"\",\"\",IF(INDEX('E_Tokovi izvora'!$A:$N,EK15,BF$7)=\"\",\"\",INDEX('E_Tokovi izvora'!$A:$N,EK15,BF$7)))","v":""},{"$f":"IF($E15=\"\",\"\",IF(INDEX('E_Tokovi izvora'!$A:$N,EL15,BG$7)=\"\",\"\",INDEX('E_Tokovi izvora'!$A:$N,EL15,BG$7)))","v":""},{"$f":"IF($E15=\"\",\"\",IF(INDEX('E_Tokovi izvora'!$A:$N,EM15,BH$7)=\"\",\"\",INDEX('E_Tokovi izvora'!$A:$N,EM15,BH$7)))","v":""},{"$f":"IF($E15=\"\",\"\",IF(INDEX('E_Tokovi izvora'!$A:$N,EN15,BI$7)=\"\",\"\",INDEX('E_Tokovi izvora'!$A:$N,EN15,BI$7)))","v":""},{"$f":"IF($E15=\"\",\"\",IF(INDEX('E_Tokovi izvora'!$A:$N,EO15,BJ$7)=\"\",\"\",INDEX('E_Tokovi izvora'!$A:$N,EO15,BJ$7)))","v":""},{"$f":"IF($E15=\"\",\"\",IF(INDEX('E_Tokovi izvora'!$A:$N,EP15,BK$7)=\"\",\"\",INDEX('E_Tokovi izvora'!$A:$N,EP15,BK$7)))","v":""},{"$f":"IF($E15=\"\",\"\",IF(INDEX('E_Tokovi izvora'!$A:$N,EQ15,BL$7)=\"\",\"\",INDEX('E_Tokovi izvora'!$A:$N,EQ15,BL$7)))","v":""},{"$f":"IF($E15=\"\",\"\",IF(INDEX('E_Tokovi izvora'!$A:$N,ER15,BM$7)=\"\",\"\",INDEX('E_Tokovi izvora'!$A:$N,ER15,BM$7)))","v":""},{"$f":"IF($E15=\"\",\"\",IF(INDEX('E_Tokovi izvora'!$A:$N,ES15,BN$7)=\"\",\"\",INDEX('E_Tokovi izvora'!$A:$N,ES15,BN$7)))","v":""},{"$f":"IF($E15=\"\",\"\",IF(INDEX('E_Tokovi izvora'!$A:$N,ET15,BO$7)=\"\",\"\",INDEX('E_Tokovi izvora'!$A:$N,ET15,BO$7)))","v":""},{"$f":"IF($E15=\"\",\"\",IF(INDEX('E_Tokovi izvora'!$A:$N,EU15,BP$7)=\"\",\"\",INDEX('E_Tokovi izvora'!$A:$N,EU15,BP$7)))","v":""},{"$f":"IF($E15=\"\",\"\",IF(INDEX('E_Tokovi izvora'!$A:$N,EV15,BQ$7)=\"\",\"\",INDEX('E_Tokovi izvora'!$A:$N,EV15,BQ$7)))","v":""},{"$f":"IF($E15=\"\",\"\",IF(INDEX('E_Tokovi izvora'!$A:$N,EW15,BR$7)=\"\",\"\",INDEX('E_Tokovi izvora'!$A:$N,EW15,BR$7)))","v":""},{"$f":"IF($E15=\"\",\"\",IF(INDEX('E_Tokovi izvora'!$A:$N,EX15,BS$7)=\"\",\"\",INDEX('E_Tokovi izvora'!$A:$N,EX15,BS$7)))","v":""},{"$f":"IF($E15=\"\",\"\",IF(INDEX('E_Tokovi izvora'!$A:$N,EY15,BT$7)=\"\",\"\",INDEX('E_Tokovi izvora'!$A:$N,EY15,BT$7)))","v":""},null,null,null,null,null,null,null,null,null,null,null,null,null,null,null,"SourceCategory_",{"$f":"INDEX('C_Opis postrojenja'!$A$226:$A$332,ROWS($CI$11:CI15))=\"ausblenden\"","v":false},"SourceStreamName_",null,397,399,401,403,405,407,409,409,409,409,409,412,416,417,418,425,435,435,435,435,435,435,435,426,436,436,436,436,436,436,436,427,437,437,437,437,437,437,437,428,438,438,438,438,438,438,438,429,439,439,439,439,439,439,439,430,440,440,440,440,440,440,440,446]
[null,{"$f":"IF(COUNTIF($CK$10:CK16,TRUE)>0,\"\",INDEX('C_Opis postrojenja'!$E$226:$E$242,ROWS($A$11:A16)))","v":""},{"$f":"IF($E16=\"\",\"\",INDEX('C_Opis postrojenja'!F:F,MATCH($B16,'C_Opis postrojenja'!$E:$E,0)))","v":""},{"$f":"IF($E16=\"\",\"\",INDEX('C_Opis postrojenja'!I:I,MATCH($B16,'C_Opis postrojenja'!$E:$E,0)))","v":""},{"$f":"IF($B16=\"\",\"\",INDEX('C_Opis postrojenja'!F:F,MATCH($CJ16,'C_Opis postrojenja'!$Q:$Q,0)))","v":""},{"$f":"IF($E16=\"\",\"\",INDEX('C_Opis postrojenja'!L:L,MATCH($CJ16,'C_Opis postrojenja'!$Q:$Q,0)))","v":""},{"$f":"IF($E16=\"\",\"\",INDEX('C_Opis postrojenja'!M:M,MATCH($CJ16,'C_Opis postrojenja'!$Q:$Q,0)))","v":""},{"$f":"IF($E16=\"\",\"\",INDEX('C_Opis postrojenja'!N:N,MATCH($CJ16,'C_Opis postrojenja'!$Q:$Q,0)))","v":""},{"$f":"IF($E16=\"\",\"\",IF(INDEX('E_Tokovi izvora'!$A:$N,CN16,I$7)=\"\",\"\",INDEX('E_Tokovi izvora'!$A:$N,CN16,I$7)))","v":""},{"$f":"IF($E16=\"\",\"\",IF(INDEX('E_Tokovi izvora'!$A:$N,CO16,J$7)=\"\",\"\",INDEX('E_Tokovi izvora'!$A:$N,CO16,J$7)))","v":""},{"$f":"IF($E16=\"\",\"\",IF(INDEX('E_Tokovi izvora'!$A:$N,CP16,K$7)=\"\",\"\",INDEX('E_Tokovi izvora'!$A:$N,CP16,K$7)))","v":""},{"$f":"IF($E16=\"\",\"\",IF(INDEX('E_Tokovi izvora'!$A:$N,CQ16,L$7)=\"\",\"\",INDEX('E_Tokovi izvora'!$A:$N,CQ16,L$7)))","v":""},{"$f":"IF($E16=\"\",\"\",IF(INDEX('E_Tokovi izvora'!$A:$N,CR16,M$7)=\"\",\"\",INDEX('E_Tokovi izvora'!$A:$N,CR16,M$7)))","v":""},{"$f":"IF($E16=\"\",\"\",IF(INDEX('E_Tokovi izvora'!$A:$N,CS16,N$7)=\"\",\"\",INDEX('E_Tokovi izvora'!$A:$N,CS16,N$7)))","v":""},{"$f":"IF($E16=\"\",\"\",IF(INDEX('E_Tokovi izvora'!$A:$N,CT16,O$7)=\"\",\"\",INDEX('E_Tokovi izvora'!$A:$N,CT16,O$7)))","v":""},{"$f":"IF($E16=\"\",\"\",IF(INDEX('E_Tokovi izvora'!$A:$N,CU16,P$7)=\"\",\"\",INDEX('E_Tokovi izvora'!$A:$N,CU16,P$7)))","v":""},{"$f":"IF($E16=\"\",\"\",IF(INDEX('E_Tokovi izvora'!$A:$N,CV16,Q$7)=\"\",\"\",INDEX('E_Tokovi izvora'!$A:$N,CV16,Q$7)))","v":""},{"$f":"IF($E16=\"\",\"\",IF(INDEX('E_Tokovi izvora'!$A:$N,CW16,R$7)=\"\",\"\",INDEX('E_Tokovi izvora'!$A:$N,CW16,R$7)))","v":""},{"$f":"IF($E16=\"\",\"\",IF(INDEX('E_Tokovi izvora'!$A:$N,CX16,S$7)=\"\",\"\",INDEX('E_Tokovi izvora'!$A:$N,CX16,S$7)))","v":""},{"$f":"IF($E16=\"\",\"\",IF(INDEX('E_Tokovi izvora'!$A:$N,CY16,T$7)=\"\",\"\",INDEX('E_Tokovi izvora'!$A:$N,CY16,T$7)))","v":""},{"$f":"IF($E16=\"\",\"\",IF(INDEX('E_Tokovi izvora'!$A:$N,CZ16,U$7)=\"\",\"\",INDEX('E_Tokovi izvora'!$A:$N,CZ16,U$7)))","v":""},{"$f":"IF($E16=\"\",\"\",IF(INDEX('E_Tokovi izvora'!$A:$N,DA16,V$7)=\"\",\"\",INDEX('E_Tokovi izvora'!$A:$N,DA16,V$7)))","v":""},{"$f":"IF($E16=\"\",\"\",IF(INDEX('E_Tokovi izvora'!$A:$N,DB16,W$7)=\"\",\"\",INDEX('E_Tokovi izvora'!$A:$N,DB16,W$7)))","v":""},{"$f":"IF($E16=\"\",\"\",IF(INDEX('E_Tokovi izvora'!$A:$N,DC16,X$7)=\"\",\"\",INDEX('E_Tokovi izvora'!$A:$N,DC16,X$7)))","v":""},{"$f":"IF($E16=\"\",\"\",IF(INDEX('E_Tokovi izvora'!$A:$N,DD16,Y$7)=\"\",\"\",INDEX('E_Tokovi izvora'!$A:$N,DD16,Y$7)))","v":""},{"$f":"IF($E16=\"\",\"\",IF(INDEX('E_Tokovi izvora'!$A:$N,DE16,Z$7)=\"\",\"\",INDEX('E_Tokovi izvora'!$A:$N,DE16,Z$7)))","v":""},{"$f":"IF($E16=\"\",\"\",IF(INDEX('E_Tokovi izvora'!$A:$N,DF16,AA$7)=\"\",\"\",INDEX('E_Tokovi izvora'!$A:$N,DF16,AA$7)))","v":""},{"$f":"IF($E16=\"\",\"\",IF(INDEX('E_Tokovi izvora'!$A:$N,DG16,AB$7)=\"\",\"\",INDEX('E_Tokovi izvora'!$A:$N,DG16,AB$7)))","v":""},{"$f":"IF($E16=\"\",\"\",IF(INDEX('E_Tokovi izvora'!$A:$N,DH16,AC$7)=\"\",\"\",INDEX('E_Tokovi izvora'!$A:$N,DH16,AC$7)))","v":""},{"$f":"IF($E16=\"\",\"\",IF(INDEX('E_Tokovi izvora'!$A:$N,DI16,AD$7)=\"\",\"\",INDEX('E_Tokovi izvora'!$A:$N,DI16,AD$7)))","v":""},{"$f":"IF($E16=\"\",\"\",IF(INDEX('E_Tokovi izvora'!$A:$N,DJ16,AE$7)=\"\",\"\",INDEX('E_Tokovi izvora'!$A:$N,DJ16,AE$7)))","v":""},{"$f":"IF($E16=\"\",\"\",IF(INDEX('E_Tokovi izvora'!$A:$N,DK16,AF$7)=\"\",\"\",INDEX('E_Tokovi izvora'!$A:$N,DK16,AF$7)))","v":""},{"$f":"IF($E16=\"\",\"\",IF(INDEX('E_Tokovi izvora'!$A:$N,DL16,AG$7)=\"\",\"\",INDEX('E_Tokovi izvora'!$A:$N,DL16,AG$7)))","v":""},{"$f":"IF($E16=\"\",\"\",IF(INDEX('E_Tokovi izvora'!$A:$N,DM16,AH$7)=\"\",\"\",INDEX('E_Tokovi izvora'!$A:$N,DM16,AH$7)))","v":""},{"$f":"IF($E16=\"\",\"\",IF(INDEX('E_Tokovi izvora'!$A:$N,DN16,AI$7)=\"\",\"\",INDEX('E_Tokovi izvora'!$A:$N,DN16,AI$7)))","v":""},{"$f":"IF($E16=\"\",\"\",IF(INDEX('E_Tokovi izvora'!$A:$N,DO16,AJ$7)=\"\",\"\",INDEX('E_Tokovi izvora'!$A:$N,DO16,AJ$7)))","v":""},{"$f":"IF($E16=\"\",\"\",IF(INDEX('E_Tokovi izvora'!$A:$N,DP16,AK$7)=\"\",\"\",INDEX('E_Tokovi izvora'!$A:$N,DP16,AK$7)))","v":""},{"$f":"IF($E16=\"\",\"\",IF(INDEX('E_Tokovi izvora'!$A:$N,DQ16,AL$7)=\"\",\"\",INDEX('E_Tokovi izvora'!$A:$N,DQ16,AL$7)))","v":""},{"$f":"IF($E16=\"\",\"\",IF(INDEX('E_Tokovi izvora'!$A:$N,DR16,AM$7)=\"\",\"\",INDEX('E_Tokovi izvora'!$A:$N,DR16,AM$7)))","v":""},{"$f":"IF($E16=\"\",\"\",IF(INDEX('E_Tokovi izvora'!$A:$N,DS16,AN$7)=\"\",\"\",INDEX('E_Tokovi izvora'!$A:$N,DS16,AN$7)))","v":""},{"$f":"IF($E16=\"\",\"\",IF(INDEX('E_Tokovi izvora'!$A:$N,DT16,AO$7)=\"\",\"\",INDEX('E_Tokovi izvora'!$A:$N,DT16,AO$7)))","v":""},{"$f":"IF($E16=\"\",\"\",IF(INDEX('E_Tokovi izvora'!$A:$N,DU16,AP$7)=\"\",\"\",INDEX('E_Tokovi izvora'!$A:$N,DU16,AP$7)))","v":""},{"$f":"IF($E16=\"\",\"\",IF(INDEX('E_Tokovi izvora'!$A:$N,DV16,AQ$7)=\"\",\"\",INDEX('E_Tokovi izvora'!$A:$N,DV16,AQ$7)))","v":""},{"$f":"IF($E16=\"\",\"\",IF(INDEX('E_Tokovi izvora'!$A:$N,DW16,AR$7)=\"\",\"\",INDEX('E_Tokovi izvora'!$A:$N,DW16,AR$7)))","v":""},{"$f":"IF($E16=\"\",\"\",IF(INDEX('E_Tokovi izvora'!$A:$N,DX16,AS$7)=\"\",\"\",INDEX('E_Tokovi izvora'!$A:$N,DX16,AS$7)))","v":""},{"$f":"IF($E16=\"\",\"\",IF(INDEX('E_Tokovi izvora'!$A:$N,DY16,AT$7)=\"\",\"\",INDEX('E_Tokovi izvora'!$A:$N,DY16,AT$7)))","v":""},{"$f":"IF($E16=\"\",\"\",IF(INDEX('E_Tokovi izvora'!$A:$N,DZ16,AU$7)=\"\",\"\",INDEX('E_Tokovi izvora'!$A:$N,DZ16,AU$7)))","v":""},{"$f":"IF($E16=\"\",\"\",IF(INDEX('E_Tokovi izvora'!$A:$N,EA16,AV$7)=\"\",\"\",INDEX('E_Tokovi izvora'!$A:$N,EA16,AV$7)))","v":""},{"$f":"IF($E16=\"\",\"\",IF(INDEX('E_Tokovi izvora'!$A:$N,EB16,AW$7)=\"\",\"\",INDEX('E_Tokovi izvora'!$A:$N,EB16,AW$7)))","v":""},{"$f":"IF($E16=\"\",\"\",IF(INDEX('E_Tokovi izvora'!$A:$N,EC16,AX$7)=\"\",\"\",INDEX('E_Tokovi izvora'!$A:$N,EC16,AX$7)))","v":""},{"$f":"IF($E16=\"\",\"\",IF(INDEX('E_Tokovi izvora'!$A:$N,ED16,AY$7)=\"\",\"\",INDEX('E_Tokovi izvora'!$A:$N,ED16,AY$7)))","v":""},{"$f":"IF($E16=\"\",\"\",IF(INDEX('E_Tokovi izvora'!$A:$N,EE16,AZ$7)=\"\",\"\",INDEX('E_Tokovi izvora'!$A:$N,EE16,AZ$7)))","v":""},{"$f":"IF($E16=\"\",\"\",IF(INDEX('E_Tokovi izvora'!$A:$N,EF16,BA$7)=\"\",\"\",INDEX('E_Tokovi izvora'!$A:$N,EF16,BA$7)))","v":""},{"$f":"IF($E16=\"\",\"\",IF(INDEX('E_Tokovi izvora'!$A:$N,EG16,BB$7)=\"\",\"\",INDEX('E_Tokovi izvora'!$A:$N,EG16,BB$7)))","v":""},{"$f":"IF($E16=\"\",\"\",IF(INDEX('E_Tokovi izvora'!$A:$N,EH16,BC$7)=\"\",\"\",INDEX('E_Tokovi izvora'!$A:$N,EH16,BC$7)))","v":""},{"$f":"IF($E16=\"\",\"\",IF(INDEX('E_Tokovi izvora'!$A:$N,EI16,BD$7)=\"\",\"\",INDEX('E_Tokovi izvora'!$A:$N,EI16,BD$7)))","v":""},{"$f":"IF($E16=\"\",\"\",IF(INDEX('E_Tokovi izvora'!$A:$N,EJ16,BE$7)=\"\",\"\",INDEX('E_Tokovi izvora'!$A:$N,EJ16,BE$7)))","v":""},{"$f":"IF($E16=\"\",\"\",IF(INDEX('E_Tokovi izvora'!$A:$N,EK16,BF$7)=\"\",\"\",INDEX('E_Tokovi izvora'!$A:$N,EK16,BF$7)))","v":""},{"$f":"IF($E16=\"\",\"\",IF(INDEX('E_Tokovi izvora'!$A:$N,EL16,BG$7)=\"\",\"\",INDEX('E_Tokovi izvora'!$A:$N,EL16,BG$7)))","v":""},{"$f":"IF($E16=\"\",\"\",IF(INDEX('E_Tokovi izvora'!$A:$N,EM16,BH$7)=\"\",\"\",INDEX('E_Tokovi izvora'!$A:$N,EM16,BH$7)))","v":""},{"$f":"IF($E16=\"\",\"\",IF(INDEX('E_Tokovi izvora'!$A:$N,EN16,BI$7)=\"\",\"\",INDEX('E_Tokovi izvora'!$A:$N,EN16,BI$7)))","v":""},{"$f":"IF($E16=\"\",\"\",IF(INDEX('E_Tokovi izvora'!$A:$N,EO16,BJ$7)=\"\",\"\",INDEX('E_Tokovi izvora'!$A:$N,EO16,BJ$7)))","v":""},{"$f":"IF($E16=\"\",\"\",IF(INDEX('E_Tokovi izvora'!$A:$N,EP16,BK$7)=\"\",\"\",INDEX('E_Tokovi izvora'!$A:$N,EP16,BK$7)))","v":""},{"$f":"IF($E16=\"\",\"\",IF(INDEX('E_Tokovi izvora'!$A:$N,EQ16,BL$7)=\"\",\"\",INDEX('E_Tokovi izvora'!$A:$N,EQ16,BL$7)))","v":""},{"$f":"IF($E16=\"\",\"\",IF(INDEX('E_Tokovi izvora'!$A:$N,ER16,BM$7)=\"\",\"\",INDEX('E_Tokovi izvora'!$A:$N,ER16,BM$7)))","v":""},{"$f":"IF($E16=\"\",\"\",IF(INDEX('E_Tokovi izvora'!$A:$N,ES16,BN$7)=\"\",\"\",INDEX('E_Tokovi izvora'!$A:$N,ES16,BN$7)))","v":""},{"$f":"IF($E16=\"\",\"\",IF(INDEX('E_Tokovi izvora'!$A:$N,ET16,BO$7)=\"\",\"\",INDEX('E_Tokovi izvora'!$A:$N,ET16,BO$7)))","v":""},{"$f":"IF($E16=\"\",\"\",IF(INDEX('E_Tokovi izvora'!$A:$N,EU16,BP$7)=\"\",\"\",INDEX('E_Tokovi izvora'!$A:$N,EU16,BP$7)))","v":""},{"$f":"IF($E16=\"\",\"\",IF(INDEX('E_Tokovi izvora'!$A:$N,EV16,BQ$7)=\"\",\"\",INDEX('E_Tokovi izvora'!$A:$N,EV16,BQ$7)))","v":""},{"$f":"IF($E16=\"\",\"\",IF(INDEX('E_Tokovi izvora'!$A:$N,EW16,BR$7)=\"\",\"\",INDEX('E_Tokovi izvora'!$A:$N,EW16,BR$7)))","v":""},{"$f":"IF($E16=\"\",\"\",IF(INDEX('E_Tokovi izvora'!$A:$N,EX16,BS$7)=\"\",\"\",INDEX('E_Tokovi izvora'!$A:$N,EX16,BS$7)))","v":""},{"$f":"IF($E16=\"\",\"\",IF(INDEX('E_Tokovi izvora'!$A:$N,EY16,BT$7)=\"\",\"\",INDEX('E_Tokovi izvora'!$A:$N,EY16,BT$7)))","v":""},null,null,null,null,null,null,null,null,null,null,null,null,null,null,null,"SourceCategory_",{"$f":"INDEX('C_Opis postrojenja'!$A$226:$A$332,ROWS($CI$11:CI16))=\"ausblenden\"","v":false},"SourceStreamName_",null,463,465,467,469,471,473,475,475,475,475,475,478,482,483,484,491,501,501,501,501,501,501,501,492,502,502,502,502,502,502,502,493,503,503,503,503,503,503,503,494,504,504,504,504,504,504,504,495,505,505,505,505,505,505,505,496,506,506,506,506,506,506,506,512]
[null,{"$f":"IF(COUNTIF($CK$10:CK17,TRUE)>0,\"\",INDEX('C_Opis postrojenja'!$E$226:$E$242,ROWS($A$11:A17)))","v":""},{"$f":"IF($E17=\"\",\"\",INDEX('C_Opis postrojenja'!F:F,MATCH($B17,'C_Opis postrojenja'!$E:$E,0)))","v":""},{"$f":"IF($E17=\"\",\"\",INDEX('C_Opis postrojenja'!I:I,MATCH($B17,'C_Opis postrojenja'!$E:$E,0)))","v":""},{"$f":"IF($B17=\"\",\"\",INDEX('C_Opis postrojenja'!F:F,MATCH($CJ17,'C_Opis postrojenja'!$Q:$Q,0)))","v":""},{"$f":"IF($E17=\"\",\"\",INDEX('C_Opis postrojenja'!L:L,MATCH($CJ17,'C_Opis postrojenja'!$Q:$Q,0)))","v":""},{"$f":"IF($E17=\"\",\"\",INDEX('C_Opis postrojenja'!M:M,MATCH($CJ17,'C_Opis postrojenja'!$Q:$Q,0)))","v":""},{"$f":"IF($E17=\"\",\"\",INDEX('C_Opis postrojenja'!N:N,MATCH($CJ17,'C_Opis postrojenja'!$Q:$Q,0)))","v":""},{"$f":"IF($E17=\"\",\"\",IF(INDEX('E_Tokovi izvora'!$A:$N,CN17,I$7)=\"\",\"\",INDEX('E_Tokovi izvora'!$A:$N,CN17,I$7)))","v":""},{"$f":"IF($E17=\"\",\"\",IF(INDEX('E_Tokovi izvora'!$A:$N,CO17,J$7)=\"\",\"\",INDEX('E_Tokovi izvora'!$A:$N,CO17,J$7)))","v":""},{"$f":"IF($E17=\"\",\"\",IF(INDEX('E_Tokovi izvora'!$A:$N,CP17,K$7)=\"\",\"\",INDEX('E_Tokovi izvora'!$A:$N,CP17,K$7)))","v":""},{"$f":"IF($E17=\"\",\"\",IF(INDEX('E_Tokovi izvora'!$A:$N,CQ17,L$7)=\"\",\"\",INDEX('E_Tokovi izvora'!$A:$N,CQ17,L$7)))","v":""},{"$f":"IF($E17=\"\",\"\",IF(INDEX('E_Tokovi izvora'!$A:$N,CR17,M$7)=\"\",\"\",INDEX('E_Tokovi izvora'!$A:$N,CR17,M$7)))","v":""},{"$f":"IF($E17=\"\",\"\",IF(INDEX('E_Tokovi izvora'!$A:$N,CS17,N$7)=\"\",\"\",INDEX('E_Tokovi izvora'!$A:$N,CS17,N$7)))","v":""},{"$f":"IF($E17=\"\",\"\",IF(INDEX('E_Tokovi izvora'!$A:$N,CT17,O$7)=\"\",\"\",INDEX('E_Tokovi izvora'!$A:$N,CT17,O$7)))","v":""},{"$f":"IF($E17=\"\",\"\",IF(INDEX('E_Tokovi izvora'!$A:$N,CU17,P$7)=\"\",\"\",INDEX('E_Tokovi izvora'!$A:$N,CU17,P$7)))","v":""},{"$f":"IF($E17=\"\",\"\",IF(INDEX('E_Tokovi izvora'!$A:$N,CV17,Q$7)=\"\",\"\",INDEX('E_Tokovi izvora'!$A:$N,CV17,Q$7)))","v":""},{"$f":"IF($E17=\"\",\"\",IF(INDEX('E_Tokovi izvora'!$A:$N,CW17,R$7)=\"\",\"\",INDEX('E_Tokovi izvora'!$A:$N,CW17,R$7)))","v":""},{"$f":"IF($E17=\"\",\"\",IF(INDEX('E_Tokovi izvora'!$A:$N,CX17,S$7)=\"\",\"\",INDEX('E_Tokovi izvora'!$A:$N,CX17,S$7)))","v":""},{"$f":"IF($E17=\"\",\"\",IF(INDEX('E_Tokovi izvora'!$A:$N,CY17,T$7)=\"\",\"\",INDEX('E_Tokovi izvora'!$A:$N,CY17,T$7)))","v":""},{"$f":"IF($E17=\"\",\"\",IF(INDEX('E_Tokovi izvora'!$A:$N,CZ17,U$7)=\"\",\"\",INDEX('E_Tokovi izvora'!$A:$N,CZ17,U$7)))","v":""},{"$f":"IF($E17=\"\",\"\",IF(INDEX('E_Tokovi izvora'!$A:$N,DA17,V$7)=\"\",\"\",INDEX('E_Tokovi izvora'!$A:$N,DA17,V$7)))","v":""},{"$f":"IF($E17=\"\",\"\",IF(INDEX('E_Tokovi izvora'!$A:$N,DB17,W$7)=\"\",\"\",INDEX('E_Tokovi izvora'!$A:$N,DB17,W$7)))","v":""},{"$f":"IF($E17=\"\",\"\",IF(INDEX('E_Tokovi izvora'!$A:$N,DC17,X$7)=\"\",\"\",INDEX('E_Tokovi izvora'!$A:$N,DC17,X$7)))","v":""},{"$f":"IF($E17=\"\",\"\",IF(INDEX('E_Tokovi izvora'!$A:$N,DD17,Y$7)=\"\",\"\",INDEX('E_Tokovi izvora'!$A:$N,DD17,Y$7)))","v":""},{"$f":"IF($E17=\"\",\"\",IF(INDEX('E_Tokovi izvora'!$A:$N,DE17,Z$7)=\"\",\"\",INDEX('E_Tokovi izvora'!$A:$N,DE17,Z$7)))","v":""},{"$f":"IF($E17=\"\",\"\",IF(INDEX('E_Tokovi izvora'!$A:$N,DF17,AA$7)=\"\",\"\",INDEX('E_Tokovi izvora'!$A:$N,DF17,AA$7)))","v":""},{"$f":"IF($E17=\"\",\"\",IF(INDEX('E_Tokovi izvora'!$A:$N,DG17,AB$7)=\"\",\"\",INDEX('E_Tokovi izvora'!$A:$N,DG17,AB$7)))","v":""},{"$f":"IF($E17=\"\",\"\",IF(INDEX('E_Tokovi izvora'!$A:$N,DH17,AC$7)=\"\",\"\",INDEX('E_Tokovi izvora'!$A:$N,DH17,AC$7)))","v":""},{"$f":"IF($E17=\"\",\"\",IF(INDEX('E_Tokovi izvora'!$A:$N,DI17,AD$7)=\"\",\"\",INDEX('E_Tokovi izvora'!$A:$N,DI17,AD$7)))","v":""},{"$f":"IF($E17=\"\",\"\",IF(INDEX('E_Tokovi izvora'!$A:$N,DJ17,AE$7)=\"\",\"\",INDEX('E_Tokovi izvora'!$A:$N,DJ17,AE$7)))","v":""},{"$f":"IF($E17=\"\",\"\",IF(INDEX('E_Tokovi izvora'!$A:$N,DK17,AF$7)=\"\",\"\",INDEX('E_Tokovi izvora'!$A:$N,DK17,AF$7)))","v":""},{"$f":"IF($E17=\"\",\"\",IF(INDEX('E_Tokovi izvora'!$A:$N,DL17,AG$7)=\"\",\"\",INDEX('E_Tokovi izvora'!$A:$N,DL17,AG$7)))","v":""},{"$f":"IF($E17=\"\",\"\",IF(INDEX('E_Tokovi izvora'!$A:$N,DM17,AH$7)=\"\",\"\",INDEX('E_Tokovi izvora'!$A:$N,DM17,AH$7)))","v":""},{"$f":"IF($E17=\"\",\"\",IF(INDEX('E_Tokovi izvora'!$A:$N,DN17,AI$7)=\"\",\"\",INDEX('E_Tokovi izvora'!$A:$N,DN17,AI$7)))","v":""},{"$f":"IF($E17=\"\",\"\",IF(INDEX('E_Tokovi izvora'!$A:$N,DO17,AJ$7)=\"\",\"\",INDEX('E_Tokovi izvora'!$A:$N,DO17,AJ$7)))","v":""},{"$f":"IF($E17=\"\",\"\",IF(INDEX('E_Tokovi izvora'!$A:$N,DP17,AK$7)=\"\",\"\",INDEX('E_Tokovi izvora'!$A:$N,DP17,AK$7)))","v":""},{"$f":"IF($E17=\"\",\"\",IF(INDEX('E_Tokovi izvora'!$A:$N,DQ17,AL$7)=\"\",\"\",INDEX('E_Tokovi izvora'!$A:$N,DQ17,AL$7)))","v":""},{"$f":"IF($E17=\"\",\"\",IF(INDEX('E_Tokovi izvora'!$A:$N,DR17,AM$7)=\"\",\"\",INDEX('E_Tokovi izvora'!$A:$N,DR17,AM$7)))","v":""},{"$f":"IF($E17=\"\",\"\",IF(INDEX('E_Tokovi izvora'!$A:$N,DS17,AN$7)=\"\",\"\",INDEX('E_Tokovi izvora'!$A:$N,DS17,AN$7)))","v":""},{"$f":"IF($E17=\"\",\"\",IF(INDEX('E_Tokovi izvora'!$A:$N,DT17,AO$7)=\"\",\"\",INDEX('E_Tokovi izvora'!$A:$N,DT17,AO$7)))","v":""},{"$f":"IF($E17=\"\",\"\",IF(INDEX('E_Tokovi izvora'!$A:$N,DU17,AP$7)=\"\",\"\",INDEX('E_Tokovi izvora'!$A:$N,DU17,AP$7)))","v":""},{"$f":"IF($E17=\"\",\"\",IF(INDEX('E_Tokovi izvora'!$A:$N,DV17,AQ$7)=\"\",\"\",INDEX('E_Tokovi izvora'!$A:$N,DV17,AQ$7)))","v":""},{"$f":"IF($E17=\"\",\"\",IF(INDEX('E_Tokovi izvora'!$A:$N,DW17,AR$7)=\"\",\"\",INDEX('E_Tokovi izvora'!$A:$N,DW17,AR$7)))","v":""},{"$f":"IF($E17=\"\",\"\",IF(INDEX('E_Tokovi izvora'!$A:$N,DX17,AS$7)=\"\",\"\",INDEX('E_Tokovi izvora'!$A:$N,DX17,AS$7)))","v":""},{"$f":"IF($E17=\"\",\"\",IF(INDEX('E_Tokovi izvora'!$A:$N,DY17,AT$7)=\"\",\"\",INDEX('E_Tokovi izvora'!$A:$N,DY17,AT$7)))","v":""},{"$f":"IF($E17=\"\",\"\",IF(INDEX('E_Tokovi izvora'!$A:$N,DZ17,AU$7)=\"\",\"\",INDEX('E_Tokovi izvora'!$A:$N,DZ17,AU$7)))","v":""},{"$f":"IF($E17=\"\",\"\",IF(INDEX('E_Tokovi izvora'!$A:$N,EA17,AV$7)=\"\",\"\",INDEX('E_Tokovi izvora'!$A:$N,EA17,AV$7)))","v":""},{"$f":"IF($E17=\"\",\"\",IF(INDEX('E_Tokovi izvora'!$A:$N,EB17,AW$7)=\"\",\"\",INDEX('E_Tokovi izvora'!$A:$N,EB17,AW$7)))","v":""},{"$f":"IF($E17=\"\",\"\",IF(INDEX('E_Tokovi izvora'!$A:$N,EC17,AX$7)=\"\",\"\",INDEX('E_Tokovi izvora'!$A:$N,EC17,AX$7)))","v":""},{"$f":"IF($E17=\"\",\"\",IF(INDEX('E_Tokovi izvora'!$A:$N,ED17,AY$7)=\"\",\"\",INDEX('E_Tokovi izvora'!$A:$N,ED17,AY$7)))","v":""},{"$f":"IF($E17=\"\",\"\",IF(INDEX('E_Tokovi izvora'!$A:$N,EE17,AZ$7)=\"\",\"\",INDEX('E_Tokovi izvora'!$A:$N,EE17,AZ$7)))","v":""},{"$f":"IF($E17=\"\",\"\",IF(INDEX('E_Tokovi izvora'!$A:$N,EF17,BA$7)=\"\",\"\",INDEX('E_Tokovi izvora'!$A:$N,EF17,BA$7)))","v":""},{"$f":"IF($E17=\"\",\"\",IF(INDEX('E_Tokovi izvora'!$A:$N,EG17,BB$7)=\"\",\"\",INDEX('E_Tokovi izvora'!$A:$N,EG17,BB$7)))","v":""},{"$f":"IF($E17=\"\",\"\",IF(INDEX('E_Tokovi izvora'!$A:$N,EH17,BC$7)=\"\",\"\",INDEX('E_Tokovi izvora'!$A:$N,EH17,BC$7)))","v":""},{"$f":"IF($E17=\"\",\"\",IF(INDEX('E_Tokovi izvora'!$A:$N,EI17,BD$7)=\"\",\"\",INDEX('E_Tokovi izvora'!$A:$N,EI17,BD$7)))","v":""},{"$f":"IF($E17=\"\",\"\",IF(INDEX('E_Tokovi izvora'!$A:$N,EJ17,BE$7)=\"\",\"\",INDEX('E_Tokovi izvora'!$A:$N,EJ17,BE$7)))","v":""},{"$f":"IF($E17=\"\",\"\",IF(INDEX('E_Tokovi izvora'!$A:$N,EK17,BF$7)=\"\",\"\",INDEX('E_Tokovi izvora'!$A:$N,EK17,BF$7)))","v":""},{"$f":"IF($E17=\"\",\"\",IF(INDEX('E_Tokovi izvora'!$A:$N,EL17,BG$7)=\"\",\"\",INDEX('E_Tokovi izvora'!$A:$N,EL17,BG$7)))","v":""},{"$f":"IF($E17=\"\",\"\",IF(INDEX('E_Tokovi izvora'!$A:$N,EM17,BH$7)=\"\",\"\",INDEX('E_Tokovi izvora'!$A:$N,EM17,BH$7)))","v":""},{"$f":"IF($E17=\"\",\"\",IF(INDEX('E_Tokovi izvora'!$A:$N,EN17,BI$7)=\"\",\"\",INDEX('E_Tokovi izvora'!$A:$N,EN17,BI$7)))","v":""},{"$f":"IF($E17=\"\",\"\",IF(INDEX('E_Tokovi izvora'!$A:$N,EO17,BJ$7)=\"\",\"\",INDEX('E_Tokovi izvora'!$A:$N,EO17,BJ$7)))","v":""},{"$f":"IF($E17=\"\",\"\",IF(INDEX('E_Tokovi izvora'!$A:$N,EP17,BK$7)=\"\",\"\",INDEX('E_Tokovi izvora'!$A:$N,EP17,BK$7)))","v":""},{"$f":"IF($E17=\"\",\"\",IF(INDEX('E_Tokovi izvora'!$A:$N,EQ17,BL$7)=\"\",\"\",INDEX('E_Tokovi izvora'!$A:$N,EQ17,BL$7)))","v":""},{"$f":"IF($E17=\"\",\"\",IF(INDEX('E_Tokovi izvora'!$A:$N,ER17,BM$7)=\"\",\"\",INDEX('E_Tokovi izvora'!$A:$N,ER17,BM$7)))","v":""},{"$f":"IF($E17=\"\",\"\",IF(INDEX('E_Tokovi izvora'!$A:$N,ES17,BN$7)=\"\",\"\",INDEX('E_Tokovi izvora'!$A:$N,ES17,BN$7)))","v":""},{"$f":"IF($E17=\"\",\"\",IF(INDEX('E_Tokovi izvora'!$A:$N,ET17,BO$7)=\"\",\"\",INDEX('E_Tokovi izvora'!$A:$N,ET17,BO$7)))","v":""},{"$f":"IF($E17=\"\",\"\",IF(INDEX('E_Tokovi izvora'!$A:$N,EU17,BP$7)=\"\",\"\",INDEX('E_Tokovi izvora'!$A:$N,EU17,BP$7)))","v":""},{"$f":"IF($E17=\"\",\"\",IF(INDEX('E_Tokovi izvora'!$A:$N,EV17,BQ$7)=\"\",\"\",INDEX('E_Tokovi izvora'!$A:$N,EV17,BQ$7)))","v":""},{"$f":"IF($E17=\"\",\"\",IF(INDEX('E_Tokovi izvora'!$A:$N,EW17,BR$7)=\"\",\"\",INDEX('E_Tokovi izvora'!$A:$N,EW17,BR$7)))","v":""},{"$f":"IF($E17=\"\",\"\",IF(INDEX('E_Tokovi izvora'!$A:$N,EX17,BS$7)=\"\",\"\",INDEX('E_Tokovi izvora'!$A:$N,EX17,BS$7)))","v":""},{"$f":"IF($E17=\"\",\"\",IF(INDEX('E_Tokovi izvora'!$A:$N,EY17,BT$7)=\"\",\"\",INDEX('E_Tokovi izvora'!$A:$N,EY17,BT$7)))","v":""},null,null,null,null,null,null,null,null,null,null,null,null,null,null,null,"SourceCategory_",{"$f":"INDEX('C_Opis postrojenja'!$A$226:$A$332,ROWS($CI$11:CI17))=\"ausblenden\"","v":false},"SourceStreamName_",null,529,531,533,535,537,539,541,541,541,541,541,544,548,549,550,557,567,567,567,567,567,567,567,558,568,568,568,568,568,568,568,559,569,569,569,569,569,569,569,560,570,570,570,570,570,570,570,561,571,571,571,571,571,571,571,562,572,572,572,572,572,572,572,578]
[null,{"$f":"IF(COUNTIF($CK$10:CK18,TRUE)>0,\"\",INDEX('C_Opis postrojenja'!$E$226:$E$242,ROWS($A$11:A18)))","v":""},{"$f":"IF($E18=\"\",\"\",INDEX('C_Opis postrojenja'!F:F,MATCH($B18,'C_Opis postrojenja'!$E:$E,0)))","v":""},{"$f":"IF($E18=\"\",\"\",INDEX('C_Opis postrojenja'!I:I,MATCH($B18,'C_Opis postrojenja'!$E:$E,0)))","v":""},{"$f":"IF($B18=\"\",\"\",INDEX('C_Opis postrojenja'!F:F,MATCH($CJ18,'C_Opis postrojenja'!$Q:$Q,0)))","v":""},{"$f":"IF($E18=\"\",\"\",INDEX('C_Opis postrojenja'!L:L,MATCH($CJ18,'C_Opis postrojenja'!$Q:$Q,0)))","v":""},{"$f":"IF($E18=\"\",\"\",INDEX('C_Opis postrojenja'!M:M,MATCH($CJ18,'C_Opis postrojenja'!$Q:$Q,0)))","v":""},{"$f":"IF($E18=\"\",\"\",INDEX('C_Opis postrojenja'!N:N,MATCH($CJ18,'C_Opis postrojenja'!$Q:$Q,0)))","v":""},{"$f":"IF($E18=\"\",\"\",IF(INDEX('E_Tokovi izvora'!$A:$N,CN18,I$7)=\"\",\"\",INDEX('E_Tokovi izvora'!$A:$N,CN18,I$7)))","v":""},{"$f":"IF($E18=\"\",\"\",IF(INDEX('E_Tokovi izvora'!$A:$N,CO18,J$7)=\"\",\"\",INDEX('E_Tokovi izvora'!$A:$N,CO18,J$7)))","v":""},{"$f":"IF($E18=\"\",\"\",IF(INDEX('E_Tokovi izvora'!$A:$N,CP18,K$7)=\"\",\"\",INDEX('E_Tokovi izvora'!$A:$N,CP18,K$7)))","v":""},{"$f":"IF($E18=\"\",\"\",IF(INDEX('E_Tokovi izvora'!$A:$N,CQ18,L$7)=\"\",\"\",INDEX('E_Tokovi izvora'!$A:$N,CQ18,L$7)))","v":""},{"$f":"IF($E18=\"\",\"\",IF(INDEX('E_Tokovi izvora'!$A:$N,CR18,M$7)=\"\",\"\",INDEX('E_Tokovi izvora'!$A:$N,CR18,M$7)))","v":""},{"$f":"IF($E18=\"\",\"\",IF(INDEX('E_Tokovi izvora'!$A:$N,CS18,N$7)=\"\",\"\",INDEX('E_Tokovi izvora'!$A:$N,CS18,N$7)))","v":""},{"$f":"IF($E18=\"\",\"\",IF(INDEX('E_Tokovi izvora'!$A:$N,CT18,O$7)=\"\",\"\",INDEX('E_Tokovi izvora'!$A:$N,CT18,O$7)))","v":""},{"$f":"IF($E18=\"\",\"\",IF(INDEX('E_Tokovi izvora'!$A:$N,CU18,P$7)=\"\",\"\",INDEX('E_Tokovi izvora'!$A:$N,CU18,P$7)))","v":""},{"$f":"IF($E18=\"\",\"\",IF(INDEX('E_Tokovi izvora'!$A:$N,CV18,Q$7)=\"\",\"\",INDEX('E_Tokovi izvora'!$A:$N,CV18,Q$7)))","v":""},{"$f":"IF($E18=\"\",\"\",IF(INDEX('E_Tokovi izvora'!$A:$N,CW18,R$7)=\"\",\"\",INDEX('E_Tokovi izvora'!$A:$N,CW18,R$7)))","v":""},{"$f":"IF($E18=\"\",\"\",IF(INDEX('E_Tokovi izvora'!$A:$N,CX18,S$7)=\"\",\"\",INDEX('E_Tokovi izvora'!$A:$N,CX18,S$7)))","v":""},{"$f":"IF($E18=\"\",\"\",IF(INDEX('E_Tokovi izvora'!$A:$N,CY18,T$7)=\"\",\"\",INDEX('E_Tokovi izvora'!$A:$N,CY18,T$7)))","v":""},{"$f":"IF($E18=\"\",\"\",IF(INDEX('E_Tokovi izvora'!$A:$N,CZ18,U$7)=\"\",\"\",INDEX('E_Tokovi izvora'!$A:$N,CZ18,U$7)))","v":""},{"$f":"IF($E18=\"\",\"\",IF(INDEX('E_Tokovi izvora'!$A:$N,DA18,V$7)=\"\",\"\",INDEX('E_Tokovi izvora'!$A:$N,DA18,V$7)))","v":""},{"$f":"IF($E18=\"\",\"\",IF(INDEX('E_Tokovi izvora'!$A:$N,DB18,W$7)=\"\",\"\",INDEX('E_Tokovi izvora'!$A:$N,DB18,W$7)))","v":""},{"$f":"IF($E18=\"\",\"\",IF(INDEX('E_Tokovi izvora'!$A:$N,DC18,X$7)=\"\",\"\",INDEX('E_Tokovi izvora'!$A:$N,DC18,X$7)))","v":""},{"$f":"IF($E18=\"\",\"\",IF(INDEX('E_Tokovi izvora'!$A:$N,DD18,Y$7)=\"\",\"\",INDEX('E_Tokovi izvora'!$A:$N,DD18,Y$7)))","v":""},{"$f":"IF($E18=\"\",\"\",IF(INDEX('E_Tokovi izvora'!$A:$N,DE18,Z$7)=\"\",\"\",INDEX('E_Tokovi izvora'!$A:$N,DE18,Z$7)))","v":""},{"$f":"IF($E18=\"\",\"\",IF(INDEX('E_Tokovi izvora'!$A:$N,DF18,AA$7)=\"\",\"\",INDEX('E_Tokovi izvora'!$A:$N,DF18,AA$7)))","v":""},{"$f":"IF($E18=\"\",\"\",IF(INDEX('E_Tokovi izvora'!$A:$N,DG18,AB$7)=\"\",\"\",INDEX('E_Tokovi izvora'!$A:$N,DG18,AB$7)))","v":""},{"$f":"IF($E18=\"\",\"\",IF(INDEX('E_Tokovi izvora'!$A:$N,DH18,AC$7)=\"\",\"\",INDEX('E_Tokovi izvora'!$A:$N,DH18,AC$7)))","v":""},{"$f":"IF($E18=\"\",\"\",IF(INDEX('E_Tokovi izvora'!$A:$N,DI18,AD$7)=\"\",\"\",INDEX('E_Tokovi izvora'!$A:$N,DI18,AD$7)))","v":""},{"$f":"IF($E18=\"\",\"\",IF(INDEX('E_Tokovi izvora'!$A:$N,DJ18,AE$7)=\"\",\"\",INDEX('E_Tokovi izvora'!$A:$N,DJ18,AE$7)))","v":""},{"$f":"IF($E18=\"\",\"\",IF(INDEX('E_Tokovi izvora'!$A:$N,DK18,AF$7)=\"\",\"\",INDEX('E_Tokovi izvora'!$A:$N,DK18,AF$7)))","v":""},{"$f":"IF($E18=\"\",\"\",IF(INDEX('E_Tokovi izvora'!$A:$N,DL18,AG$7)=\"\",\"\",INDEX('E_Tokovi izvora'!$A:$N,DL18,AG$7)))","v":""},{"$f":"IF($E18=\"\",\"\",IF(INDEX('E_Tokovi izvora'!$A:$N,DM18,AH$7)=\"\",\"\",INDEX('E_Tokovi izvora'!$A:$N,DM18,AH$7)))","v":""},{"$f":"IF($E18=\"\",\"\",IF(INDEX('E_Tokovi izvora'!$A:$N,DN18,AI$7)=\"\",\"\",INDEX('E_Tokovi izvora'!$A:$N,DN18,AI$7)))","v":""},{"$f":"IF($E18=\"\",\"\",IF(INDEX('E_Tokovi izvora'!$A:$N,DO18,AJ$7)=\"\",\"\",INDEX('E_Tokovi izvora'!$A:$N,DO18,AJ$7)))","v":""},{"$f":"IF($E18=\"\",\"\",IF(INDEX('E_Tokovi izvora'!$A:$N,DP18,AK$7)=\"\",\"\",INDEX('E_Tokovi izvora'!$A:$N,DP18,AK$7)))","v":""},{"$f":"IF($E18=\"\",\"\",IF(INDEX('E_Tokovi izvora'!$A:$N,DQ18,AL$7)=\"\",\"\",INDEX('E_Tokovi izvora'!$A:$N,DQ18,AL$7)))","v":""},{"$f":"IF($E18=\"\",\"\",IF(INDEX('E_Tokovi izvora'!$A:$N,DR18,AM$7)=\"\",\"\",INDEX('E_Tokovi izvora'!$A:$N,DR18,AM$7)))","v":""},{"$f":"IF($E18=\"\",\"\",IF(INDEX('E_Tokovi izvora'!$A:$N,DS18,AN$7)=\"\",\"\",INDEX('E_Tokovi izvora'!$A:$N,DS18,AN$7)))","v":""},{"$f":"IF($E18=\"\",\"\",IF(INDEX('E_Tokovi izvora'!$A:$N,DT18,AO$7)=\"\",\"\",INDEX('E_Tokovi izvora'!$A:$N,DT18,AO$7)))","v":""},{"$f":"IF($E18=\"\",\"\",IF(INDEX('E_Tokovi izvora'!$A:$N,DU18,AP$7)=\"\",\"\",INDEX('E_Tokovi izvora'!$A:$N,DU18,AP$7)))","v":""},{"$f":"IF($E18=\"\",\"\",IF(INDEX('E_Tokovi izvora'!$A:$N,DV18,AQ$7)=\"\",\"\",INDEX('E_Tokovi izvora'!$A:$N,DV18,AQ$7)))","v":""},{"$f":"IF($E18=\"\",\"\",IF(INDEX('E_Tokovi izvora'!$A:$N,DW18,AR$7)=\"\",\"\",INDEX('E_Tokovi izvora'!$A:$N,DW18,AR$7)))","v":""},{"$f":"IF($E18=\"\",\"\",IF(INDEX('E_Tokovi izvora'!$A:$N,DX18,AS$7)=\"\",\"\",INDEX('E_Tokovi izvora'!$A:$N,DX18,AS$7)))","v":""},{"$f":"IF($E18=\"\",\"\",IF(INDEX('E_Tokovi izvora'!$A:$N,DY18,AT$7)=\"\",\"\",INDEX('E_Tokovi izvora'!$A:$N,DY18,AT$7)))","v":""},{"$f":"IF($E18=\"\",\"\",IF(INDEX('E_Tokovi izvora'!$A:$N,DZ18,AU$7)=\"\",\"\",INDEX('E_Tokovi izvora'!$A:$N,DZ18,AU$7)))","v":""},{"$f":"IF($E18=\"\",\"\",IF(INDEX('E_Tokovi izvora'!$A:$N,EA18,AV$7)=\"\",\"\",INDEX('E_Tokovi izvora'!$A:$N,EA18,AV$7)))","v":""},{"$f":"IF($E18=\"\",\"\",IF(INDEX('E_Tokovi izvora'!$A:$N,EB18,AW$7)=\"\",\"\",INDEX('E_Tokovi izvora'!$A:$N,EB18,AW$7)))","v":""},{"$f":"IF($E18=\"\",\"\",IF(INDEX('E_Tokovi izvora'!$A:$N,EC18,AX$7)=\"\",\"\",INDEX('E_Tokovi izvora'!$A:$N,EC18,AX$7)))","v":""},{"$f":"IF($E18=\"\",\"\",IF(INDEX('E_Tokovi izvora'!$A:$N,ED18,AY$7)=\"\",\"\",INDEX('E_Tokovi izvora'!$A:$N,ED18,AY$7)))","v":""},{"$f":"IF($E18=\"\",\"\",IF(INDEX('E_Tokovi izvora'!$A:$N,EE18,AZ$7)=\"\",\"\",INDEX('E_Tokovi izvora'!$A:$N,EE18,AZ$7)))","v":""},{"$f":"IF($E18=\"\",\"\",IF(INDEX('E_Tokovi izvora'!$A:$N,EF18,BA$7)=\"\",\"\",INDEX('E_Tokovi izvora'!$A:$N,EF18,BA$7)))","v":""},{"$f":"IF($E18=\"\",\"\",IF(INDEX('E_Tokovi izvora'!$A:$N,EG18,BB$7)=\"\",\"\",INDEX('E_Tokovi izvora'!$A:$N,EG18,BB$7)))","v":""},{"$f":"IF($E18=\"\",\"\",IF(INDEX('E_Tokovi izvora'!$A:$N,EH18,BC$7)=\"\",\"\",INDEX('E_Tokovi izvora'!$A:$N,EH18,BC$7)))","v":""},{"$f":"IF($E18=\"\",\"\",IF(INDEX('E_Tokovi izvora'!$A:$N,EI18,BD$7)=\"\",\"\",INDEX('E_Tokovi izvora'!$A:$N,EI18,BD$7)))","v":""},{"$f":"IF($E18=\"\",\"\",IF(INDEX('E_Tokovi izvora'!$A:$N,EJ18,BE$7)=\"\",\"\",INDEX('E_Tokovi izvora'!$A:$N,EJ18,BE$7)))","v":""},{"$f":"IF($E18=\"\",\"\",IF(INDEX('E_Tokovi izvora'!$A:$N,EK18,BF$7)=\"\",\"\",INDEX('E_Tokovi izvora'!$A:$N,EK18,BF$7)))","v":""},{"$f":"IF($E18=\"\",\"\",IF(INDEX('E_Tokovi izvora'!$A:$N,EL18,BG$7)=\"\",\"\",INDEX('E_Tokovi izvora'!$A:$N,EL18,BG$7)))","v":""},{"$f":"IF($E18=\"\",\"\",IF(INDEX('E_Tokovi izvora'!$A:$N,EM18,BH$7)=\"\",\"\",INDEX('E_Tokovi izvora'!$A:$N,EM18,BH$7)))","v":""},{"$f":"IF($E18=\"\",\"\",IF(INDEX('E_Tokovi izvora'!$A:$N,EN18,BI$7)=\"\",\"\",INDEX('E_Tokovi izvora'!$A:$N,EN18,BI$7)))","v":""},{"$f":"IF($E18=\"\",\"\",IF(INDEX('E_Tokovi izvora'!$A:$N,EO18,BJ$7)=\"\",\"\",INDEX('E_Tokovi izvora'!$A:$N,EO18,BJ$7)))","v":""},{"$f":"IF($E18=\"\",\"\",IF(INDEX('E_Tokovi izvora'!$A:$N,EP18,BK$7)=\"\",\"\",INDEX('E_Tokovi izvora'!$A:$N,EP18,BK$7)))","v":""},{"$f":"IF($E18=\"\",\"\",IF(INDEX('E_Tokovi izvora'!$A:$N,EQ18,BL$7)=\"\",\"\",INDEX('E_Tokovi izvora'!$A:$N,EQ18,BL$7)))","v":""},{"$f":"IF($E18=\"\",\"\",IF(INDEX('E_Tokovi izvora'!$A:$N,ER18,BM$7)=\"\",\"\",INDEX('E_Tokovi izvora'!$A:$N,ER18,BM$7)))","v":""},{"$f":"IF($E18=\"\",\"\",IF(INDEX('E_Tokovi izvora'!$A:$N,ES18,BN$7)=\"\",\"\",INDEX('E_Tokovi izvora'!$A:$N,ES18,BN$7)))","v":""},{"$f":"IF($E18=\"\",\"\",IF(INDEX('E_Tokovi izvora'!$A:$N,ET18,BO$7)=\"\",\"\",INDEX('E_Tokovi izvora'!$A:$N,ET18,BO$7)))","v":""},{"$f":"IF($E18=\"\",\"\",IF(INDEX('E_Tokovi izvora'!$A:$N,EU18,BP$7)=\"\",\"\",INDEX('E_Tokovi izvora'!$A:$N,EU18,BP$7)))","v":""},{"$f":"IF($E18=\"\",\"\",IF(INDEX('E_Tokovi izvora'!$A:$N,EV18,BQ$7)=\"\",\"\",INDEX('E_Tokovi izvora'!$A:$N,EV18,BQ$7)))","v":""},{"$f":"IF($E18=\"\",\"\",IF(INDEX('E_Tokovi izvora'!$A:$N,EW18,BR$7)=\"\",\"\",INDEX('E_Tokovi izvora'!$A:$N,EW18,BR$7)))","v":""},{"$f":"IF($E18=\"\",\"\",IF(INDEX('E_Tokovi izvora'!$A:$N,EX18,BS$7)=\"\",\"\",INDEX('E_Tokovi izvora'!$A:$N,EX18,BS$7)))","v":""},{"$f":"IF($E18=\"\",\"\",IF(INDEX('E_Tokovi izvora'!$A:$N,EY18,BT$7)=\"\",\"\",INDEX('E_Tokovi izvora'!$A:$N,EY18,BT$7)))","v":""},null,null,null,null,null,null,null,null,null,null,null,null,null,null,null,"SourceCategory_",{"$f":"INDEX('C_Opis postrojenja'!$A$226:$A$332,ROWS($CI$11:CI18))=\"ausblenden\"","v":false},"SourceStreamName_",null,595,597,599,601,603,605,607,607,607,607,607,610,614,615,616,623,633,633,633,633,633,633,633,624,634,634,634,634,634,634,634,625,635,635,635,635,635,635,635,626,636,636,636,636,636,636,636,627,637,637,637,637,637,637,637,628,638,638,638,638,638,638,638,644]
[null,{"$f":"IF(COUNTIF($CK$10:CK19,TRUE)>0,\"\",INDEX('C_Opis postrojenja'!$E$226:$E$242,ROWS($A$11:A19)))","v":""},{"$f":"IF($E19=\"\",\"\",INDEX('C_Opis postrojenja'!F:F,MATCH($B19,'C_Opis postrojenja'!$E:$E,0)))","v":""},{"$f":"IF($E19=\"\",\"\",INDEX('C_Opis postrojenja'!I:I,MATCH($B19,'C_Opis postrojenja'!$E:$E,0)))","v":""},{"$f":"IF($B19=\"\",\"\",INDEX('C_Opis postrojenja'!F:F,MATCH($CJ19,'C_Opis postrojenja'!$Q:$Q,0)))","v":""},{"$f":"IF($E19=\"\",\"\",INDEX('C_Opis postrojenja'!L:L,MATCH($CJ19,'C_Opis postrojenja'!$Q:$Q,0)))","v":""},{"$f":"IF($E19=\"\",\"\",INDEX('C_Opis postrojenja'!M:M,MATCH($CJ19,'C_Opis postrojenja'!$Q:$Q,0)))","v":""},{"$f":"IF($E19=\"\",\"\",INDEX('C_Opis postrojenja'!N:N,MATCH($CJ19,'C_Opis postrojenja'!$Q:$Q,0)))","v":""},{"$f":"IF($E19=\"\",\"\",IF(INDEX('E_Tokovi izvora'!$A:$N,CN19,I$7)=\"\",\"\",INDEX('E_Tokovi izvora'!$A:$N,CN19,I$7)))","v":""},{"$f":"IF($E19=\"\",\"\",IF(INDEX('E_Tokovi izvora'!$A:$N,CO19,J$7)=\"\",\"\",INDEX('E_Tokovi izvora'!$A:$N,CO19,J$7)))","v":""},{"$f":"IF($E19=\"\",\"\",IF(INDEX('E_Tokovi izvora'!$A:$N,CP19,K$7)=\"\",\"\",INDEX('E_Tokovi izvora'!$A:$N,CP19,K$7)))","v":""},{"$f":"IF($E19=\"\",\"\",IF(INDEX('E_Tokovi izvora'!$A:$N,CQ19,L$7)=\"\",\"\",INDEX('E_Tokovi izvora'!$A:$N,CQ19,L$7)))","v":""},{"$f":"IF($E19=\"\",\"\",IF(INDEX('E_Tokovi izvora'!$A:$N,CR19,M$7)=\"\",\"\",INDEX('E_Tokovi izvora'!$A:$N,CR19,M$7)))","v":""},{"$f":"IF($E19=\"\",\"\",IF(INDEX('E_Tokovi izvora'!$A:$N,CS19,N$7)=\"\",\"\",INDEX('E_Tokovi izvora'!$A:$N,CS19,N$7)))","v":""},{"$f":"IF($E19=\"\",\"\",IF(INDEX('E_Tokovi izvora'!$A:$N,CT19,O$7)=\"\",\"\",INDEX('E_Tokovi izvora'!$A:$N,CT19,O$7)))","v":""},{"$f":"IF($E19=\"\",\"\",IF(INDEX('E_Tokovi izvora'!$A:$N,CU19,P$7)=\"\",\"\",INDEX('E_Tokovi izvora'!$A:$N,CU19,P$7)))","v":""},{"$f":"IF($E19=\"\",\"\",IF(INDEX('E_Tokovi izvora'!$A:$N,CV19,Q$7)=\"\",\"\",INDEX('E_Tokovi izvora'!$A:$N,CV19,Q$7)))","v":""},{"$f":"IF($E19=\"\",\"\",IF(INDEX('E_Tokovi izvora'!$A:$N,CW19,R$7)=\"\",\"\",INDEX('E_Tokovi izvora'!$A:$N,CW19,R$7)))","v":""},{"$f":"IF($E19=\"\",\"\",IF(INDEX('E_Tokovi izvora'!$A:$N,CX19,S$7)=\"\",\"\",INDEX('E_Tokovi izvora'!$A:$N,CX19,S$7)))","v":""},{"$f":"IF($E19=\"\",\"\",IF(INDEX('E_Tokovi izvora'!$A:$N,CY19,T$7)=\"\",\"\",INDEX('E_Tokovi izvora'!$A:$N,CY19,T$7)))","v":""},{"$f":"IF($E19=\"\",\"\",IF(INDEX('E_Tokovi izvora'!$A:$N,CZ19,U$7)=\"\",\"\",INDEX('E_Tokovi izvora'!$A:$N,CZ19,U$7)))","v":""},{"$f":"IF($E19=\"\",\"\",IF(INDEX('E_Tokovi izvora'!$A:$N,DA19,V$7)=\"\",\"\",INDEX('E_Tokovi izvora'!$A:$N,DA19,V$7)))","v":""},{"$f":"IF($E19=\"\",\"\",IF(INDEX('E_Tokovi izvora'!$A:$N,DB19,W$7)=\"\",\"\",INDEX('E_Tokovi izvora'!$A:$N,DB19,W$7)))","v":""},{"$f":"IF($E19=\"\",\"\",IF(INDEX('E_Tokovi izvora'!$A:$N,DC19,X$7)=\"\",\"\",INDEX('E_Tokovi izvora'!$A:$N,DC19,X$7)))","v":""},{"$f":"IF($E19=\"\",\"\",IF(INDEX('E_Tokovi izvora'!$A:$N,DD19,Y$7)=\"\",\"\",INDEX('E_Tokovi izvora'!$A:$N,DD19,Y$7)))","v":""},{"$f":"IF($E19=\"\",\"\",IF(INDEX('E_Tokovi izvora'!$A:$N,DE19,Z$7)=\"\",\"\",INDEX('E_Tokovi izvora'!$A:$N,DE19,Z$7)))","v":""},{"$f":"IF($E19=\"\",\"\",IF(INDEX('E_Tokovi izvora'!$A:$N,DF19,AA$7)=\"\",\"\",INDEX('E_Tokovi izvora'!$A:$N,DF19,AA$7)))","v":""},{"$f":"IF($E19=\"\",\"\",IF(INDEX('E_Tokovi izvora'!$A:$N,DG19,AB$7)=\"\",\"\",INDEX('E_Tokovi izvora'!$A:$N,DG19,AB$7)))","v":""},{"$f":"IF($E19=\"\",\"\",IF(INDEX('E_Tokovi izvora'!$A:$N,DH19,AC$7)=\"\",\"\",INDEX('E_Tokovi izvora'!$A:$N,DH19,AC$7)))","v":""},{"$f":"IF($E19=\"\",\"\",IF(INDEX('E_Tokovi izvora'!$A:$N,DI19,AD$7)=\"\",\"\",INDEX('E_Tokovi izvora'!$A:$N,DI19,AD$7)))","v":""},{"$f":"IF($E19=\"\",\"\",IF(INDEX('E_Tokovi izvora'!$A:$N,DJ19,AE$7)=\"\",\"\",INDEX('E_Tokovi izvora'!$A:$N,DJ19,AE$7)))","v":""},{"$f":"IF($E19=\"\",\"\",IF(INDEX('E_Tokovi izvora'!$A:$N,DK19,AF$7)=\"\",\"\",INDEX('E_Tokovi izvora'!$A:$N,DK19,AF$7)))","v":""},{"$f":"IF($E19=\"\",\"\",IF(INDEX('E_Tokovi izvora'!$A:$N,DL19,AG$7)=\"\",\"\",INDEX('E_Tokovi izvora'!$A:$N,DL19,AG$7)))","v":""},{"$f":"IF($E19=\"\",\"\",IF(INDEX('E_Tokovi izvora'!$A:$N,DM19,AH$7)=\"\",\"\",INDEX('E_Tokovi izvora'!$A:$N,DM19,AH$7)))","v":""},{"$f":"IF($E19=\"\",\"\",IF(INDEX('E_Tokovi izvora'!$A:$N,DN19,AI$7)=\"\",\"\",INDEX('E_Tokovi izvora'!$A:$N,DN19,AI$7)))","v":""},{"$f":"IF($E19=\"\",\"\",IF(INDEX('E_Tokovi izvora'!$A:$N,DO19,AJ$7)=\"\",\"\",INDEX('E_Tokovi izvora'!$A:$N,DO19,AJ$7)))","v":""},{"$f":"IF($E19=\"\",\"\",IF(INDEX('E_Tokovi izvora'!$A:$N,DP19,AK$7)=\"\",\"\",INDEX('E_Tokovi izvora'!$A:$N,DP19,AK$7)))","v":""},{"$f":"IF($E19=\"\",\"\",IF(INDEX('E_Tokovi izvora'!$A:$N,DQ19,AL$7)=\"\",\"\",INDEX('E_Tokovi izvora'!$A:$N,DQ19,AL$7)))","v":""},{"$f":"IF($E19=\"\",\"\",IF(INDEX('E_Tokovi izvora'!$A:$N,DR19,AM$7)=\"\",\"\",INDEX('E_Tokovi izvora'!$A:$N,DR19,AM$7)))","v":""},{"$f":"IF($E19=\"\",\"\",IF(INDEX('E_Tokovi izvora'!$A:$N,DS19,AN$7)=\"\",\"\",INDEX('E_Tokovi izvora'!$A:$N,DS19,AN$7)))","v":""},{"$f":"IF($E19=\"\",\"\",IF(INDEX('E_Tokovi izvora'!$A:$N,DT19,AO$7)=\"\",\"\",INDEX('E_Tokovi izvora'!$A:$N,DT19,AO$7)))","v":""},{"$f":"IF($E19=\"\",\"\",IF(INDEX('E_Tokovi izvora'!$A:$N,DU19,AP$7)=\"\",\"\",INDEX('E_Tokovi izvora'!$A:$N,DU19,AP$7)))","v":""},{"$f":"IF($E19=\"\",\"\",IF(INDEX('E_Tokovi izvora'!$A:$N,DV19,AQ$7)=\"\",\"\",INDEX('E_Tokovi izvora'!$A:$N,DV19,AQ$7)))","v":""},{"$f":"IF($E19=\"\",\"\",IF(INDEX('E_Tokovi izvora'!$A:$N,DW19,AR$7)=\"\",\"\",INDEX('E_Tokovi izvora'!$A:$N,DW19,AR$7)))","v":""},{"$f":"IF($E19=\"\",\"\",IF(INDEX('E_Tokovi izvora'!$A:$N,DX19,AS$7)=\"\",\"\",INDEX('E_Tokovi izvora'!$A:$N,DX19,AS$7)))","v":""},{"$f":"IF($E19=\"\",\"\",IF(INDEX('E_Tokovi izvora'!$A:$N,DY19,AT$7)=\"\",\"\",INDEX('E_Tokovi izvora'!$A:$N,DY19,AT$7)))","v":""},{"$f":"IF($E19=\"\",\"\",IF(INDEX('E_Tokovi izvora'!$A:$N,DZ19,AU$7)=\"\",\"\",INDEX('E_Tokovi izvora'!$A:$N,DZ19,AU$7)))","v":""},{"$f":"IF($E19=\"\",\"\",IF(INDEX('E_Tokovi izvora'!$A:$N,EA19,AV$7)=\"\",\"\",INDEX('E_Tokovi izvora'!$A:$N,EA19,AV$7)))","v":""},{"$f":"IF($E19=\"\",\"\",IF(INDEX('E_Tokovi izvora'!$A:$N,EB19,AW$7)=\"\",\"\",INDEX('E_Tokovi izvora'!$A:$N,EB19,AW$7)))","v":""},{"$f":"IF($E19=\"\",\"\",IF(INDEX('E_Tokovi izvora'!$A:$N,EC19,AX$7)=\"\",\"\",INDEX('E_Tokovi izvora'!$A:$N,EC19,AX$7)))","v":""},{"$f":"IF($E19=\"\",\"\",IF(INDEX('E_Tokovi izvora'!$A:$N,ED19,AY$7)=\"\",\"\",INDEX('E_Tokovi izvora'!$A:$N,ED19,AY$7)))","v":""},{"$f":"IF($E19=\"\",\"\",IF(INDEX('E_Tokovi izvora'!$A:$N,EE19,AZ$7)=\"\",\"\",INDEX('E_Tokovi izvora'!$A:$N,EE19,AZ$7)))","v":""},{"$f":"IF($E19=\"\",\"\",IF(INDEX('E_Tokovi izvora'!$A:$N,EF19,BA$7)=\"\",\"\",INDEX('E_Tokovi izvora'!$A:$N,EF19,BA$7)))","v":""},{"$f":"IF($E19=\"\",\"\",IF(INDEX('E_Tokovi izvora'!$A:$N,EG19,BB$7)=\"\",\"\",INDEX('E_Tokovi izvora'!$A:$N,EG19,BB$7)))","v":""},{"$f":"IF($E19=\"\",\"\",IF(INDEX('E_Tokovi izvora'!$A:$N,EH19,BC$7)=\"\",\"\",INDEX('E_Tokovi izvora'!$A:$N,EH19,BC$7)))","v":""},{"$f":"IF($E19=\"\",\"\",IF(INDEX('E_Tokovi izvora'!$A:$N,EI19,BD$7)=\"\",\"\",INDEX('E_Tokovi izvora'!$A:$N,EI19,BD$7)))","v":""},{"$f":"IF($E19=\"\",\"\",IF(INDEX('E_Tokovi izvora'!$A:$N,EJ19,BE$7)=\"\",\"\",INDEX('E_Tokovi izvora'!$A:$N,EJ19,BE$7)))","v":""},{"$f":"IF($E19=\"\",\"\",IF(INDEX('E_Tokovi izvora'!$A:$N,EK19,BF$7)=\"\",\"\",INDEX('E_Tokovi izvora'!$A:$N,EK19,BF$7)))","v":""},{"$f":"IF($E19=\"\",\"\",IF(INDEX('E_Tokovi izvora'!$A:$N,EL19,BG$7)=\"\",\"\",INDEX('E_Tokovi izvora'!$A:$N,EL19,BG$7)))","v":""},{"$f":"IF($E19=\"\",\"\",IF(INDEX('E_Tokovi izvora'!$A:$N,EM19,BH$7)=\"\",\"\",INDEX('E_Tokovi izvora'!$A:$N,EM19,BH$7)))","v":""},{"$f":"IF($E19=\"\",\"\",IF(INDEX('E_Tokovi izvora'!$A:$N,EN19,BI$7)=\"\",\"\",INDEX('E_Tokovi izvora'!$A:$N,EN19,BI$7)))","v":""},{"$f":"IF($E19=\"\",\"\",IF(INDEX('E_Tokovi izvora'!$A:$N,EO19,BJ$7)=\"\",\"\",INDEX('E_Tokovi izvora'!$A:$N,EO19,BJ$7)))","v":""},{"$f":"IF($E19=\"\",\"\",IF(INDEX('E_Tokovi izvora'!$A:$N,EP19,BK$7)=\"\",\"\",INDEX('E_Tokovi izvora'!$A:$N,EP19,BK$7)))","v":""},{"$f":"IF($E19=\"\",\"\",IF(INDEX('E_Tokovi izvora'!$A:$N,EQ19,BL$7)=\"\",\"\",INDEX('E_Tokovi izvora'!$A:$N,EQ19,BL$7)))","v":""},{"$f":"IF($E19=\"\",\"\",IF(INDEX('E_Tokovi izvora'!$A:$N,ER19,BM$7)=\"\",\"\",INDEX('E_Tokovi izvora'!$A:$N,ER19,BM$7)))","v":""},{"$f":"IF($E19=\"\",\"\",IF(INDEX('E_Tokovi izvora'!$A:$N,ES19,BN$7)=\"\",\"\",INDEX('E_Tokovi izvora'!$A:$N,ES19,BN$7)))","v":""},{"$f":"IF($E19=\"\",\"\",IF(INDEX('E_Tokovi izvora'!$A:$N,ET19,BO$7)=\"\",\"\",INDEX('E_Tokovi izvora'!$A:$N,ET19,BO$7)))","v":""},{"$f":"IF($E19=\"\",\"\",IF(INDEX('E_Tokovi izvora'!$A:$N,EU19,BP$7)=\"\",\"\",INDEX('E_Tokovi izvora'!$A:$N,EU19,BP$7)))","v":""},{"$f":"IF($E19=\"\",\"\",IF(INDEX('E_Tokovi izvora'!$A:$N,EV19,BQ$7)=\"\",\"\",INDEX('E_Tokovi izvora'!$A:$N,EV19,BQ$7)))","v":""},{"$f":"IF($E19=\"\",\"\",IF(INDEX('E_Tokovi izvora'!$A:$N,EW19,BR$7)=\"\",\"\",INDEX('E_Tokovi izvora'!$A:$N,EW19,BR$7)))","v":""},{"$f":"IF($E19=\"\",\"\",IF(INDEX('E_Tokovi izvora'!$A:$N,EX19,BS$7)=\"\",\"\",INDEX('E_Tokovi izvora'!$A:$N,EX19,BS$7)))","v":""},{"$f":"IF($E19=\"\",\"\",IF(INDEX('E_Tokovi izvora'!$A:$N,EY19,BT$7)=\"\",\"\",INDEX('E_Tokovi izvora'!$A:$N,EY19,BT$7)))","v":""},null,null,null,null,null,null,null,null,null,null,null,null,null,null,null,"SourceCategory_",{"$f":"INDEX('C_Opis postrojenja'!$A$226:$A$332,ROWS($CI$11:CI19))=\"ausblenden\"","v":false},"SourceStreamName_",null,661,663,665,667,669,671,673,673,673,673,673,676,680,681,682,689,699,699,699,699,699,699,699,690,700,700,700,700,700,700,700,691,701,701,701,701,701,701,701,692,702,702,702,702,702,702,702,693,703,703,703,703,703,703,703,694,704,704,704,704,704,704,704,710]
[null,{"$f":"IF(COUNTIF($CK$10:CK20,TRUE)>0,\"\",INDEX('C_Opis postrojenja'!$E$226:$E$242,ROWS($A$11:A20)))","v":""},{"$f":"IF($E20=\"\",\"\",INDEX('C_Opis postrojenja'!F:F,MATCH($B20,'C_Opis postrojenja'!$E:$E,0)))","v":""},{"$f":"IF($E20=\"\",\"\",INDEX('C_Opis postrojenja'!I:I,MATCH($B20,'C_Opis postrojenja'!$E:$E,0)))","v":""},{"$f":"IF($B20=\"\",\"\",INDEX('C_Opis postrojenja'!F:F,MATCH($CJ20,'C_Opis postrojenja'!$Q:$Q,0)))","v":""},{"$f":"IF($E20=\"\",\"\",INDEX('C_Opis postrojenja'!L:L,MATCH($CJ20,'C_Opis postrojenja'!$Q:$Q,0)))","v":""},{"$f":"IF($E20=\"\",\"\",INDEX('C_Opis postrojenja'!M:M,MATCH($CJ20,'C_Opis postrojenja'!$Q:$Q,0)))","v":""},{"$f":"IF($E20=\"\",\"\",INDEX('C_Opis postrojenja'!N:N,MATCH($CJ20,'C_Opis postrojenja'!$Q:$Q,0)))","v":""},{"$f":"IF($E20=\"\",\"\",IF(INDEX('E_Tokovi izvora'!$A:$N,CN20,I$7)=\"\",\"\",INDEX('E_Tokovi izvora'!$A:$N,CN20,I$7)))","v":""},{"$f":"IF($E20=\"\",\"\",IF(INDEX('E_Tokovi izvora'!$A:$N,CO20,J$7)=\"\",\"\",INDEX('E_Tokovi izvora'!$A:$N,CO20,J$7)))","v":""},{"$f":"IF($E20=\"\",\"\",IF(INDEX('E_Tokovi izvora'!$A:$N,CP20,K$7)=\"\",\"\",INDEX('E_Tokovi izvora'!$A:$N,CP20,K$7)))","v":""},{"$f":"IF($E20=\"\",\"\",IF(INDEX('E_Tokovi izvora'!$A:$N,CQ20,L$7)=\"\",\"\",INDEX('E_Tokovi izvora'!$A:$N,CQ20,L$7)))","v":""},{"$f":"IF($E20=\"\",\"\",IF(INDEX('E_Tokovi izvora'!$A:$N,CR20,M$7)=\"\",\"\",INDEX('E_Tokovi izvora'!$A:$N,CR20,M$7)))","v":""},{"$f":"IF($E20=\"\",\"\",IF(INDEX('E_Tokovi izvora'!$A:$N,CS20,N$7)=\"\",\"\",INDEX('E_Tokovi izvora'!$A:$N,CS20,N$7)))","v":""},{"$f":"IF($E20=\"\",\"\",IF(INDEX('E_Tokovi izvora'!$A:$N,CT20,O$7)=\"\",\"\",INDEX('E_Tokovi izvora'!$A:$N,CT20,O$7)))","v":""},{"$f":"IF($E20=\"\",\"\",IF(INDEX('E_Tokovi izvora'!$A:$N,CU20,P$7)=\"\",\"\",INDEX('E_Tokovi izvora'!$A:$N,CU20,P$7)))","v":""},{"$f":"IF($E20=\"\",\"\",IF(INDEX('E_Tokovi izvora'!$A:$N,CV20,Q$7)=\"\",\"\",INDEX('E_Tokovi izvora'!$A:$N,CV20,Q$7)))","v":""},{"$f":"IF($E20=\"\",\"\",IF(INDEX('E_Tokovi izvora'!$A:$N,CW20,R$7)=\"\",\"\",INDEX('E_Tokovi izvora'!$A:$N,CW20,R$7)))","v":""},{"$f":"IF($E20=\"\",\"\",IF(INDEX('E_Tokovi izvora'!$A:$N,CX20,S$7)=\"\",\"\",INDEX('E_Tokovi izvora'!$A:$N,CX20,S$7)))","v":""},{"$f":"IF($E20=\"\",\"\",IF(INDEX('E_Tokovi izvora'!$A:$N,CY20,T$7)=\"\",\"\",INDEX('E_Tokovi izvora'!$A:$N,CY20,T$7)))","v":""},{"$f":"IF($E20=\"\",\"\",IF(INDEX('E_Tokovi izvora'!$A:$N,CZ20,U$7)=\"\",\"\",INDEX('E_Tokovi izvora'!$A:$N,CZ20,U$7)))","v":""},{"$f":"IF($E20=\"\",\"\",IF(INDEX('E_Tokovi izvora'!$A:$N,DA20,V$7)=\"\",\"\",INDEX('E_Tokovi izvora'!$A:$N,DA20,V$7)))","v":""},{"$f":"IF($E20=\"\",\"\",IF(INDEX('E_Tokovi izvora'!$A:$N,DB20,W$7)=\"\",\"\",INDEX('E_Tokovi izvora'!$A:$N,DB20,W$7)))","v":""},{"$f":"IF($E20=\"\",\"\",IF(INDEX('E_Tokovi izvora'!$A:$N,DC20,X$7)=\"\",\"\",INDEX('E_Tokovi izvora'!$A:$N,DC20,X$7)))","v":""},{"$f":"IF($E20=\"\",\"\",IF(INDEX('E_Tokovi izvora'!$A:$N,DD20,Y$7)=\"\",\"\",INDEX('E_Tokovi izvora'!$A:$N,DD20,Y$7)))","v":""},{"$f":"IF($E20=\"\",\"\",IF(INDEX('E_Tokovi izvora'!$A:$N,DE20,Z$7)=\"\",\"\",INDEX('E_Tokovi izvora'!$A:$N,DE20,Z$7)))","v":""},{"$f":"IF($E20=\"\",\"\",IF(INDEX('E_Tokovi izvora'!$A:$N,DF20,AA$7)=\"\",\"\",INDEX('E_Tokovi izvora'!$A:$N,DF20,AA$7)))","v":""},{"$f":"IF($E20=\"\",\"\",IF(INDEX('E_Tokovi izvora'!$A:$N,DG20,AB$7)=\"\",\"\",INDEX('E_Tokovi izvora'!$A:$N,DG20,AB$7)))","v":""},{"$f":"IF($E20=\"\",\"\",IF(INDEX('E_Tokovi izvora'!$A:$N,DH20,AC$7)=\"\",\"\",INDEX('E_Tokovi izvora'!$A:$N,DH20,AC$7)))","v":""},{"$f":"IF($E20=\"\",\"\",IF(INDEX('E_Tokovi izvora'!$A:$N,DI20,AD$7)=\"\",\"\",INDEX('E_Tokovi izvora'!$A:$N,DI20,AD$7)))","v":""},{"$f":"IF($E20=\"\",\"\",IF(INDEX('E_Tokovi izvora'!$A:$N,DJ20,AE$7)=\"\",\"\",INDEX('E_Tokovi izvora'!$A:$N,DJ20,AE$7)))","v":""},{"$f":"IF($E20=\"\",\"\",IF(INDEX('E_Tokovi izvora'!$A:$N,DK20,AF$7)=\"\",\"\",INDEX('E_Tokovi izvora'!$A:$N,DK20,AF$7)))","v":""},{"$f":"IF($E20=\"\",\"\",IF(INDEX('E_Tokovi izvora'!$A:$N,DL20,AG$7)=\"\",\"\",INDEX('E_Tokovi izvora'!$A:$N,DL20,AG$7)))","v":""},{"$f":"IF($E20=\"\",\"\",IF(INDEX('E_Tokovi izvora'!$A:$N,DM20,AH$7)=\"\",\"\",INDEX('E_Tokovi izvora'!$A:$N,DM20,AH$7)))","v":""},{"$f":"IF($E20=\"\",\"\",IF(INDEX('E_Tokovi izvora'!$A:$N,DN20,AI$7)=\"\",\"\",INDEX('E_Tokovi izvora'!$A:$N,DN20,AI$7)))","v":""},{"$f":"IF($E20=\"\",\"\",IF(INDEX('E_Tokovi izvora'!$A:$N,DO20,AJ$7)=\"\",\"\",INDEX('E_Tokovi izvora'!$A:$N,DO20,AJ$7)))","v":""},{"$f":"IF($E20=\"\",\"\",IF(INDEX('E_Tokovi izvora'!$A:$N,DP20,AK$7)=\"\",\"\",INDEX('E_Tokovi izvora'!$A:$N,DP20,AK$7)))","v":""},{"$f":"IF($E20=\"\",\"\",IF(INDEX('E_Tokovi izvora'!$A:$N,DQ20,AL$7)=\"\",\"\",INDEX('E_Tokovi izvora'!$A:$N,DQ20,AL$7)))","v":""},{"$f":"IF($E20=\"\",\"\",IF(INDEX('E_Tokovi izvora'!$A:$N,DR20,AM$7)=\"\",\"\",INDEX('E_Tokovi izvora'!$A:$N,DR20,AM$7)))","v":""},{"$f":"IF($E20=\"\",\"\",IF(INDEX('E_Tokovi izvora'!$A:$N,DS20,AN$7)=\"\",\"\",INDEX('E_Tokovi izvora'!$A:$N,DS20,AN$7)))","v":""},{"$f":"IF($E20=\"\",\"\",IF(INDEX('E_Tokovi izvora'!$A:$N,DT20,AO$7)=\"\",\"\",INDEX('E_Tokovi izvora'!$A:$N,DT20,AO$7)))","v":""},{"$f":"IF($E20=\"\",\"\",IF(INDEX('E_Tokovi izvora'!$A:$N,DU20,AP$7)=\"\",\"\",INDEX('E_Tokovi izvora'!$A:$N,DU20,AP$7)))","v":""},{"$f":"IF($E20=\"\",\"\",IF(INDEX('E_Tokovi izvora'!$A:$N,DV20,AQ$7)=\"\",\"\",INDEX('E_Tokovi izvora'!$A:$N,DV20,AQ$7)))","v":""},{"$f":"IF($E20=\"\",\"\",IF(INDEX('E_Tokovi izvora'!$A:$N,DW20,AR$7)=\"\",\"\",INDEX('E_Tokovi izvora'!$A:$N,DW20,AR$7)))","v":""},{"$f":"IF($E20=\"\",\"\",IF(INDEX('E_Tokovi izvora'!$A:$N,DX20,AS$7)=\"\",\"\",INDEX('E_Tokovi izvora'!$A:$N,DX20,AS$7)))","v":""},{"$f":"IF($E20=\"\",\"\",IF(INDEX('E_Tokovi izvora'!$A:$N,DY20,AT$7)=\"\",\"\",INDEX('E_Tokovi izvora'!$A:$N,DY20,AT$7)))","v":""},{"$f":"IF($E20=\"\",\"\",IF(INDEX('E_Tokovi izvora'!$A:$N,DZ20,AU$7)=\"\",\"\",INDEX('E_Tokovi izvora'!$A:$N,DZ20,AU$7)))","v":""},{"$f":"IF($E20=\"\",\"\",IF(INDEX('E_Tokovi izvora'!$A:$N,EA20,AV$7)=\"\",\"\",INDEX('E_Tokovi izvora'!$A:$N,EA20,AV$7)))","v":""},{"$f":"IF($E20=\"\",\"\",IF(INDEX('E_Tokovi izvora'!$A:$N,EB20,AW$7)=\"\",\"\",INDEX('E_Tokovi izvora'!$A:$N,EB20,AW$7)))","v":""},{"$f":"IF($E20=\"\",\"\",IF(INDEX('E_Tokovi izvora'!$A:$N,EC20,AX$7)=\"\",\"\",INDEX('E_Tokovi izvora'!$A:$N,EC20,AX$7)))","v":""},{"$f":"IF($E20=\"\",\"\",IF(INDEX('E_Tokovi izvora'!$A:$N,ED20,AY$7)=\"\",\"\",INDEX('E_Tokovi izvora'!$A:$N,ED20,AY$7)))","v":""},{"$f":"IF($E20=\"\",\"\",IF(INDEX('E_Tokovi izvora'!$A:$N,EE20,AZ$7)=\"\",\"\",INDEX('E_Tokovi izvora'!$A:$N,EE20,AZ$7)))","v":""},{"$f":"IF($E20=\"\",\"\",IF(INDEX('E_Tokovi izvora'!$A:$N,EF20,BA$7)=\"\",\"\",INDEX('E_Tokovi izvora'!$A:$N,EF20,BA$7)))","v":""},{"$f":"IF($E20=\"\",\"\",IF(INDEX('E_Tokovi izvora'!$A:$N,EG20,BB$7)=\"\",\"\",INDEX('E_Tokovi izvora'!$A:$N,EG20,BB$7)))","v":""},{"$f":"IF($E20=\"\",\"\",IF(INDEX('E_Tokovi izvora'!$A:$N,EH20,BC$7)=\"\",\"\",INDEX('E_Tokovi izvora'!$A:$N,EH20,BC$7)))","v":""},{"$f":"IF($E20=\"\",\"\",IF(INDEX('E_Tokovi izvora'!$A:$N,EI20,BD$7)=\"\",\"\",INDEX('E_Tokovi izvora'!$A:$N,EI20,BD$7)))","v":""},{"$f":"IF($E20=\"\",\"\",IF(INDEX('E_Tokovi izvora'!$A:$N,EJ20,BE$7)=\"\",\"\",INDEX('E_Tokovi izvora'!$A:$N,EJ20,BE$7)))","v":""},{"$f":"IF($E20=\"\",\"\",IF(INDEX('E_Tokovi izvora'!$A:$N,EK20,BF$7)=\"\",\"\",INDEX('E_Tokovi izvora'!$A:$N,EK20,BF$7)))","v":""},{"$f":"IF($E20=\"\",\"\",IF(INDEX('E_Tokovi izvora'!$A:$N,EL20,BG$7)=\"\",\"\",INDEX('E_Tokovi izvora'!$A:$N,EL20,BG$7)))","v":""},{"$f":"IF($E20=\"\",\"\",IF(INDEX('E_Tokovi izvora'!$A:$N,EM20,BH$7)=\"\",\"\",INDEX('E_Tokovi izvora'!$A:$N,EM20,BH$7)))","v":""},{"$f":"IF($E20=\"\",\"\",IF(INDEX('E_Tokovi izvora'!$A:$N,EN20,BI$7)=\"\",\"\",INDEX('E_Tokovi izvora'!$A:$N,EN20,BI$7)))","v":""},{"$f":"IF($E20=\"\",\"\",IF(INDEX('E_Tokovi izvora'!$A:$N,EO20,BJ$7)=\"\",\"\",INDEX('E_Tokovi izvora'!$A:$N,EO20,BJ$7)))","v":""},{"$f":"IF($E20=\"\",\"\",IF(INDEX('E_Tokovi izvora'!$A:$N,EP20,BK$7)=\"\",\"\",INDEX('E_Tokovi izvora'!$A:$N,EP20,BK$7)))","v":""},{"$f":"IF($E20=\"\",\"\",IF(INDEX('E_Tokovi izvora'!$A:$N,EQ20,BL$7)=\"\",\"\",INDEX('E_Tokovi izvora'!$A:$N,EQ20,BL$7)))","v":""},{"$f":"IF($E20=\"\",\"\",IF(INDEX('E_Tokovi izvora'!$A:$N,ER20,BM$7)=\"\",\"\",INDEX('E_Tokovi izvora'!$A:$N,ER20,BM$7)))","v":""},{"$f":"IF($E20=\"\",\"\",IF(INDEX('E_Tokovi izvora'!$A:$N,ES20,BN$7)=\"\",\"\",INDEX('E_Tokovi izvora'!$A:$N,ES20,BN$7)))","v":""},{"$f":"IF($E20=\"\",\"\",IF(INDEX('E_Tokovi izvora'!$A:$N,ET20,BO$7)=\"\",\"\",INDEX('E_Tokovi izvora'!$A:$N,ET20,BO$7)))","v":""},{"$f":"IF($E20=\"\",\"\",IF(INDEX('E_Tokovi izvora'!$A:$N,EU20,BP$7)=\"\",\"\",INDEX('E_Tokovi izvora'!$A:$N,EU20,BP$7)))","v":""},{"$f":"IF($E20=\"\",\"\",IF(INDEX('E_Tokovi izvora'!$A:$N,EV20,BQ$7)=\"\",\"\",INDEX('E_Tokovi izvora'!$A:$N,EV20,BQ$7)))","v":""},{"$f":"IF($E20=\"\",\"\",IF(INDEX('E_Tokovi izvora'!$A:$N,EW20,BR$7)=\"\",\"\",INDEX('E_Tokovi izvora'!$A:$N,EW20,BR$7)))","v":""},{"$f":"IF($E20=\"\",\"\",IF(INDEX('E_Tokovi izvora'!$A:$N,EX20,BS$7)=\"\",\"\",INDEX('E_Tokovi izvora'!$A:$N,EX20,BS$7)))","v":""},{"$f":"IF($E20=\"\",\"\",IF(INDEX('E_Tokovi izvora'!$A:$N,EY20,BT$7)=\"\",\"\",INDEX('E_Tokovi izvora'!$A:$N,EY20,BT$7)))","v":""},null,null,null,null,null,null,null,null,null,null,null,null,null,null,null,"SourceCategory_",{"$f":"INDEX('C_Opis postrojenja'!$A$226:$A$332,ROWS($CI$11:CI20))=\"ausblenden\"","v":false},"SourceStreamName_",null,727,729,731,733,735,737,739,739,739,739,739,742,746,747,748,755,765,765,765,765,765,765,765,756,766,766,766,766,766,766,766,757,767,767,767,767,767,767,767,758,768,768,768,768,768,768,768,759,769,769,769,769,769,769,769,760,770,770,770,770,770,770,770,776]
[null,{"$f":"IF(COUNTIF($CK$10:CK21,TRUE)>0,\"\",INDEX('C_Opis postrojenja'!$E$226:$E$242,ROWS($A$11:A21)))","v":""},{"$f":"IF($E21=\"\",\"\",INDEX('C_Opis postrojenja'!F:F,MATCH($B21,'C_Opis postrojenja'!$E:$E,0)))","v":""},{"$f":"IF($E21=\"\",\"\",INDEX('C_Opis postrojenja'!I:I,MATCH($B21,'C_Opis postrojenja'!$E:$E,0)))","v":""},{"$f":"IF($B21=\"\",\"\",INDEX('C_Opis postrojenja'!F:F,MATCH($CJ21,'C_Opis postrojenja'!$Q:$Q,0)))","v":""},{"$f":"IF($E21=\"\",\"\",INDEX('C_Opis postrojenja'!L:L,MATCH($CJ21,'C_Opis postrojenja'!$Q:$Q,0)))","v":""},{"$f":"IF($E21=\"\",\"\",INDEX('C_Opis postrojenja'!M:M,MATCH($CJ21,'C_Opis postrojenja'!$Q:$Q,0)))","v":""},{"$f":"IF($E21=\"\",\"\",INDEX('C_Opis postrojenja'!N:N,MATCH($CJ21,'C_Opis postrojenja'!$Q:$Q,0)))","v":""},{"$f":"IF($E21=\"\",\"\",IF(INDEX('E_Tokovi izvora'!$A:$N,CN21,I$7)=\"\",\"\",INDEX('E_Tokovi izvora'!$A:$N,CN21,I$7)))","v":""},{"$f":"IF($E21=\"\",\"\",IF(INDEX('E_Tokovi izvora'!$A:$N,CO21,J$7)=\"\",\"\",INDEX('E_Tokovi izvora'!$A:$N,CO21,J$7)))","v":""},{"$f":"IF($E21=\"\",\"\",IF(INDEX('E_Tokovi izvora'!$A:$N,CP21,K$7)=\"\",\"\",INDEX('E_Tokovi izvora'!$A:$N,CP21,K$7)))","v":""},{"$f":"IF($E21=\"\",\"\",IF(INDEX('E_Tokovi izvora'!$A:$N,CQ21,L$7)=\"\",\"\",INDEX('E_Tokovi izvora'!$A:$N,CQ21,L$7)))","v":""},{"$f":"IF($E21=\"\",\"\",IF(INDEX('E_Tokovi izvora'!$A:$N,CR21,M$7)=\"\",\"\",INDEX('E_Tokovi izvora'!$A:$N,CR21,M$7)))","v":""},{"$f":"IF($E21=\"\",\"\",IF(INDEX('E_Tokovi izvora'!$A:$N,CS21,N$7)=\"\",\"\",INDEX('E_Tokovi izvora'!$A:$N,CS21,N$7)))","v":""},{"$f":"IF($E21=\"\",\"\",IF(INDEX('E_Tokovi izvora'!$A:$N,CT21,O$7)=\"\",\"\",INDEX('E_Tokovi izvora'!$A:$N,CT21,O$7)))","v":""},{"$f":"IF($E21=\"\",\"\",IF(INDEX('E_Tokovi izvora'!$A:$N,CU21,P$7)=\"\",\"\",INDEX('E_Tokovi izvora'!$A:$N,CU21,P$7)))","v":""},{"$f":"IF($E21=\"\",\"\",IF(INDEX('E_Tokovi izvora'!$A:$N,CV21,Q$7)=\"\",\"\",INDEX('E_Tokovi izvora'!$A:$N,CV21,Q$7)))","v":""},{"$f":"IF($E21=\"\",\"\",IF(INDEX('E_Tokovi izvora'!$A:$N,CW21,R$7)=\"\",\"\",INDEX('E_Tokovi izvora'!$A:$N,CW21,R$7)))","v":""},{"$f":"IF($E21=\"\",\"\",IF(INDEX('E_Tokovi izvora'!$A:$N,CX21,S$7)=\"\",\"\",INDEX('E_Tokovi izvora'!$A:$N,CX21,S$7)))","v":""},{"$f":"IF($E21=\"\",\"\",IF(INDEX('E_Tokovi izvora'!$A:$N,CY21,T$7)=\"\",\"\",INDEX('E_Tokovi izvora'!$A:$N,CY21,T$7)))","v":""},{"$f":"IF($E21=\"\",\"\",IF(INDEX('E_Tokovi izvora'!$A:$N,CZ21,U$7)=\"\",\"\",INDEX('E_Tokovi izvora'!$A:$N,CZ21,U$7)))","v":""},{"$f":"IF($E21=\"\",\"\",IF(INDEX('E_Tokovi izvora'!$A:$N,DA21,V$7)=\"\",\"\",INDEX('E_Tokovi izvora'!$A:$N,DA21,V$7)))","v":""},{"$f":"IF($E21=\"\",\"\",IF(INDEX('E_Tokovi izvora'!$A:$N,DB21,W$7)=\"\",\"\",INDEX('E_Tokovi izvora'!$A:$N,DB21,W$7)))","v":""},{"$f":"IF($E21=\"\",\"\",IF(INDEX('E_Tokovi izvora'!$A:$N,DC21,X$7)=\"\",\"\",INDEX('E_Tokovi izvora'!$A:$N,DC21,X$7)))","v":""},{"$f":"IF($E21=\"\",\"\",IF(INDEX('E_Tokovi izvora'!$A:$N,DD21,Y$7)=\"\",\"\",INDEX('E_Tokovi izvora'!$A:$N,DD21,Y$7)))","v":""},{"$f":"IF($E21=\"\",\"\",IF(INDEX('E_Tokovi izvora'!$A:$N,DE21,Z$7)=\"\",\"\",INDEX('E_Tokovi izvora'!$A:$N,DE21,Z$7)))","v":""},{"$f":"IF($E21=\"\",\"\",IF(INDEX('E_Tokovi izvora'!$A:$N,DF21,AA$7)=\"\",\"\",INDEX('E_Tokovi izvora'!$A:$N,DF21,AA$7)))","v":""},{"$f":"IF($E21=\"\",\"\",IF(INDEX('E_Tokovi izvora'!$A:$N,DG21,AB$7)=\"\",\"\",INDEX('E_Tokovi izvora'!$A:$N,DG21,AB$7)))","v":""},{"$f":"IF($E21=\"\",\"\",IF(INDEX('E_Tokovi izvora'!$A:$N,DH21,AC$7)=\"\",\"\",INDEX('E_Tokovi izvora'!$A:$N,DH21,AC$7)))","v":""},{"$f":"IF($E21=\"\",\"\",IF(INDEX('E_Tokovi izvora'!$A:$N,DI21,AD$7)=\"\",\"\",INDEX('E_Tokovi izvora'!$A:$N,DI21,AD$7)))","v":""},{"$f":"IF($E21=\"\",\"\",IF(INDEX('E_Tokovi izvora'!$A:$N,DJ21,AE$7)=\"\",\"\",INDEX('E_Tokovi izvora'!$A:$N,DJ21,AE$7)))","v":""},{"$f":"IF($E21=\"\",\"\",IF(INDEX('E_Tokovi izvora'!$A:$N,DK21,AF$7)=\"\",\"\",INDEX('E_Tokovi izvora'!$A:$N,DK21,AF$7)))","v":""},{"$f":"IF($E21=\"\",\"\",IF(INDEX('E_Tokovi izvora'!$A:$N,DL21,AG$7)=\"\",\"\",INDEX('E_Tokovi izvora'!$A:$N,DL21,AG$7)))","v":""},{"$f":"IF($E21=\"\",\"\",IF(INDEX('E_Tokovi izvora'!$A:$N,DM21,AH$7)=\"\",\"\",INDEX('E_Tokovi izvora'!$A:$N,DM21,AH$7)))","v":""},{"$f":"IF($E21=\"\",\"\",IF(INDEX('E_Tokovi izvora'!$A:$N,DN21,AI$7)=\"\",\"\",INDEX('E_Tokovi izvora'!$A:$N,DN21,AI$7)))","v":""},{"$f":"IF($E21=\"\",\"\",IF(INDEX('E_Tokovi izvora'!$A:$N,DO21,AJ$7)=\"\",\"\",INDEX('E_Tokovi izvora'!$A:$N,DO21,AJ$7)))","v":""},{"$f":"IF($E21=\"\",\"\",IF(INDEX('E_Tokovi izvora'!$A:$N,DP21,AK$7)=\"\",\"\",INDEX('E_Tokovi izvora'!$A:$N,DP21,AK$7)))","v":""},{"$f":"IF($E21=\"\",\"\",IF(INDEX('E_Tokovi izvora'!$A:$N,DQ21,AL$7)=\"\",\"\",INDEX('E_Tokovi izvora'!$A:$N,DQ21,AL$7)))","v":""},{"$f":"IF($E21=\"\",\"\",IF(INDEX('E_Tokovi izvora'!$A:$N,DR21,AM$7)=\"\",\"\",INDEX('E_Tokovi izvora'!$A:$N,DR21,AM$7)))","v":""},{"$f":"IF($E21=\"\",\"\",IF(INDEX('E_Tokovi izvora'!$A:$N,DS21,AN$7)=\"\",\"\",INDEX('E_Tokovi izvora'!$A:$N,DS21,AN$7)))","v":""},{"$f":"IF($E21=\"\",\"\",IF(INDEX('E_Tokovi izvora'!$A:$N,DT21,AO$7)=\"\",\"\",INDEX('E_Tokovi izvora'!$A:$N,DT21,AO$7)))","v":""},{"$f":"IF($E21=\"\",\"\",IF(INDEX('E_Tokovi izvora'!$A:$N,DU21,AP$7)=\"\",\"\",INDEX('E_Tokovi izvora'!$A:$N,DU21,AP$7)))","v":""},{"$f":"IF($E21=\"\",\"\",IF(INDEX('E_Tokovi izvora'!$A:$N,DV21,AQ$7)=\"\",\"\",INDEX('E_Tokovi izvora'!$A:$N,DV21,AQ$7)))","v":""},{"$f":"IF($E21=\"\",\"\",IF(INDEX('E_Tokovi izvora'!$A:$N,DW21,AR$7)=\"\",\"\",INDEX('E_Tokovi izvora'!$A:$N,DW21,AR$7)))","v":""},{"$f":"IF($E21=\"\",\"\",IF(INDEX('E_Tokovi izvora'!$A:$N,DX21,AS$7)=\"\",\"\",INDEX('E_Tokovi izvora'!$A:$N,DX21,AS$7)))","v":""},{"$f":"IF($E21=\"\",\"\",IF(INDEX('E_Tokovi izvora'!$A:$N,DY21,AT$7)=\"\",\"\",INDEX('E_Tokovi izvora'!$A:$N,DY21,AT$7)))","v":""},{"$f":"IF($E21=\"\",\"\",IF(INDEX('E_Tokovi izvora'!$A:$N,DZ21,AU$7)=\"\",\"\",INDEX('E_Tokovi izvora'!$A:$N,DZ21,AU$7)))","v":""},{"$f":"IF($E21=\"\",\"\",IF(INDEX('E_Tokovi izvora'!$A:$N,EA21,AV$7)=\"\",\"\",INDEX('E_Tokovi izvora'!$A:$N,EA21,AV$7)))","v":""},{"$f":"IF($E21=\"\",\"\",IF(INDEX('E_Tokovi izvora'!$A:$N,EB21,AW$7)=\"\",\"\",INDEX('E_Tokovi izvora'!$A:$N,EB21,AW$7)))","v":""},{"$f":"IF($E21=\"\",\"\",IF(INDEX('E_Tokovi izvora'!$A:$N,EC21,AX$7)=\"\",\"\",INDEX('E_Tokovi izvora'!$A:$N,EC21,AX$7)))","v":""},{"$f":"IF($E21=\"\",\"\",IF(INDEX('E_Tokovi izvora'!$A:$N,ED21,AY$7)=\"\",\"\",INDEX('E_Tokovi izvora'!$A:$N,ED21,AY$7)))","v":""},{"$f":"IF($E21=\"\",\"\",IF(INDEX('E_Tokovi izvora'!$A:$N,EE21,AZ$7)=\"\",\"\",INDEX('E_Tokovi izvora'!$A:$N,EE21,AZ$7)))","v":""},{"$f":"IF($E21=\"\",\"\",IF(INDEX('E_Tokovi izvora'!$A:$N,EF21,BA$7)=\"\",\"\",INDEX('E_Tokovi izvora'!$A:$N,EF21,BA$7)))","v":""},{"$f":"IF($E21=\"\",\"\",IF(INDEX('E_Tokovi izvora'!$A:$N,EG21,BB$7)=\"\",\"\",INDEX('E_Tokovi izvora'!$A:$N,EG21,BB$7)))","v":""},{"$f":"IF($E21=\"\",\"\",IF(INDEX('E_Tokovi izvora'!$A:$N,EH21,BC$7)=\"\",\"\",INDEX('E_Tokovi izvora'!$A:$N,EH21,BC$7)))","v":""},{"$f":"IF($E21=\"\",\"\",IF(INDEX('E_Tokovi izvora'!$A:$N,EI21,BD$7)=\"\",\"\",INDEX('E_Tokovi izvora'!$A:$N,EI21,BD$7)))","v":""},{"$f":"IF($E21=\"\",\"\",IF(INDEX('E_Tokovi izvora'!$A:$N,EJ21,BE$7)=\"\",\"\",INDEX('E_Tokovi izvora'!$A:$N,EJ21,BE$7)))","v":""},{"$f":"IF($E21=\"\",\"\",IF(INDEX('E_Tokovi izvora'!$A:$N,EK21,BF$7)=\"\",\"\",INDEX('E_Tokovi izvora'!$A:$N,EK21,BF$7)))","v":""},{"$f":"IF($E21=\"\",\"\",IF(INDEX('E_Tokovi izvora'!$A:$N,EL21,BG$7)=\"\",\"\",INDEX('E_Tokovi izvora'!$A:$N,EL21,BG$7)))","v":""},{"$f":"IF($E21=\"\",\"\",IF(INDEX('E_Tokovi izvora'!$A:$N,EM21,BH$7)=\"\",\"\",INDEX('E_Tokovi izvora'!$A:$N,EM21,BH$7)))","v":""},{"$f":"IF($E21=\"\",\"\",IF(INDEX('E_Tokovi izvora'!$A:$N,EN21,BI$7)=\"\",\"\",INDEX('E_Tokovi izvora'!$A:$N,EN21,BI$7)))","v":""},{"$f":"IF($E21=\"\",\"\",IF(INDEX('E_Tokovi izvora'!$A:$N,EO21,BJ$7)=\"\",\"\",INDEX('E_Tokovi izvora'!$A:$N,EO21,BJ$7)))","v":""},{"$f":"IF($E21=\"\",\"\",IF(INDEX('E_Tokovi izvora'!$A:$N,EP21,BK$7)=\"\",\"\",INDEX('E_Tokovi izvora'!$A:$N,EP21,BK$7)))","v":""},{"$f":"IF($E21=\"\",\"\",IF(INDEX('E_Tokovi izvora'!$A:$N,EQ21,BL$7)=\"\",\"\",INDEX('E_Tokovi izvora'!$A:$N,EQ21,BL$7)))","v":""},{"$f":"IF($E21=\"\",\"\",IF(INDEX('E_Tokovi izvora'!$A:$N,ER21,BM$7)=\"\",\"\",INDEX('E_Tokovi izvora'!$A:$N,ER21,BM$7)))","v":""},{"$f":"IF($E21=\"\",\"\",IF(INDEX('E_Tokovi izvora'!$A:$N,ES21,BN$7)=\"\",\"\",INDEX('E_Tokovi izvora'!$A:$N,ES21,BN$7)))","v":""},{"$f":"IF($E21=\"\",\"\",IF(INDEX('E_Tokovi izvora'!$A:$N,ET21,BO$7)=\"\",\"\",INDEX('E_Tokovi izvora'!$A:$N,ET21,BO$7)))","v":""},{"$f":"IF($E21=\"\",\"\",IF(INDEX('E_Tokovi izvora'!$A:$N,EU21,BP$7)=\"\",\"\",INDEX('E_Tokovi izvora'!$A:$N,EU21,BP$7)))","v":""},{"$f":"IF($E21=\"\",\"\",IF(INDEX('E_Tokovi izvora'!$A:$N,EV21,BQ$7)=\"\",\"\",INDEX('E_Tokovi izvora'!$A:$N,EV21,BQ$7)))","v":""},{"$f":"IF($E21=\"\",\"\",IF(INDEX('E_Tokovi izvora'!$A:$N,EW21,BR$7)=\"\",\"\",INDEX('E_Tokovi izvora'!$A:$N,EW21,BR$7)))","v":""},{"$f":"IF($E21=\"\",\"\",IF(INDEX('E_Tokovi izvora'!$A:$N,EX21,BS$7)=\"\",\"\",INDEX('E_Tokovi izvora'!$A:$N,EX21,BS$7)))","v":""},{"$f":"IF($E21=\"\",\"\",IF(INDEX('E_Tokovi izvora'!$A:$N,EY21,BT$7)=\"\",\"\",INDEX('E_Tokovi izvora'!$A:$N,EY21,BT$7)))","v":""},null,null,null,null,null,null,null,null,null,null,null,null,null,null,null,"SourceCategory_",{"$f":"INDEX('C_Opis postrojenja'!$A$226:$A$332,ROWS($CI$11:CI21))=\"ausblenden\"","v":true},"SourceStreamName_",null,793,795,797,799,801,803,805,805,805,805,805,808,812,813,814,821,831,831,831,831,831,831,831,822,832,832,832,832,832,832,832,823,833,833,833,833,833,833,833,824,834,834,834,834,834,834,834,825,835,835,835,835,835,835,835,826,836,836,836,836,836,836,836,842]
[null,{"$f":"IF(COUNTIF($CK$10:CK22,TRUE)>0,\"\",INDEX('C_Opis postrojenja'!$E$226:$E$242,ROWS($A$11:A22)))","v":""},{"$f":"IF($E22=\"\",\"\",INDEX('C_Opis postrojenja'!F:F,MATCH($B22,'C_Opis postrojenja'!$E:$E,0)))","v":""},{"$f":"IF($E22=\"\",\"\",INDEX('C_Opis postrojenja'!I:I,MATCH($B22,'C_Opis postrojenja'!$E:$E,0)))","v":""},{"$f":"IF($B22=\"\",\"\",INDEX('C_Opis postrojenja'!F:F,MATCH($CJ22,'C_Opis postrojenja'!$Q:$Q,0)))","v":""},{"$f":"IF($E22=\"\",\"\",INDEX('C_Opis postrojenja'!L:L,MATCH($CJ22,'C_Opis postrojenja'!$Q:$Q,0)))","v":""},{"$f":"IF($E22=\"\",\"\",INDEX('C_Opis postrojenja'!M:M,MATCH($CJ22,'C_Opis postrojenja'!$Q:$Q,0)))","v":""},{"$f":"IF($E22=\"\",\"\",INDEX('C_Opis postrojenja'!N:N,MATCH($CJ22,'C_Opis postrojenja'!$Q:$Q,0)))","v":""},{"$f":"IF($E22=\"\",\"\",IF(INDEX('E_Tokovi izvora'!$A:$N,CN22,I$7)=\"\",\"\",INDEX('E_Tokovi izvora'!$A:$N,CN22,I$7)))","v":""},{"$f":"IF($E22=\"\",\"\",IF(INDEX('E_Tokovi izvora'!$A:$N,CO22,J$7)=\"\",\"\",INDEX('E_Tokovi izvora'!$A:$N,CO22,J$7)))","v":""},{"$f":"IF($E22=\"\",\"\",IF(INDEX('E_Tokovi izvora'!$A:$N,CP22,K$7)=\"\",\"\",INDEX('E_Tokovi izvora'!$A:$N,CP22,K$7)))","v":""},{"$f":"IF($E22=\"\",\"\",IF(INDEX('E_Tokovi izvora'!$A:$N,CQ22,L$7)=\"\",\"\",INDEX('E_Tokovi izvora'!$A:$N,CQ22,L$7)))","v":""},{"$f":"IF($E22=\"\",\"\",IF(INDEX('E_Tokovi izvora'!$A:$N,CR22,M$7)=\"\",\"\",INDEX('E_Tokovi izvora'!$A:$N,CR22,M$7)))","v":""},{"$f":"IF($E22=\"\",\"\",IF(INDEX('E_Tokovi izvora'!$A:$N,CS22,N$7)=\"\",\"\",INDEX('E_Tokovi izvora'!$A:$N,CS22,N$7)))","v":""},{"$f":"IF($E22=\"\",\"\",IF(INDEX('E_Tokovi izvora'!$A:$N,CT22,O$7)=\"\",\"\",INDEX('E_Tokovi izvora'!$A:$N,CT22,O$7)))","v":""},{"$f":"IF($E22=\"\",\"\",IF(INDEX('E_Tokovi izvora'!$A:$N,CU22,P$7)=\"\",\"\",INDEX('E_Tokovi izvora'!$A:$N,CU22,P$7)))","v":""},{"$f":"IF($E22=\"\",\"\",IF(INDEX('E_Tokovi izvora'!$A:$N,CV22,Q$7)=\"\",\"\",INDEX('E_Tokovi izvora'!$A:$N,CV22,Q$7)))","v":""},{"$f":"IF($E22=\"\",\"\",IF(INDEX('E_Tokovi izvora'!$A:$N,CW22,R$7)=\"\",\"\",INDEX('E_Tokovi izvora'!$A:$N,CW22,R$7)))","v":""},{"$f":"IF($E22=\"\",\"\",IF(INDEX('E_Tokovi izvora'!$A:$N,CX22,S$7)=\"\",\"\",INDEX('E_Tokovi izvora'!$A:$N,CX22,S$7)))","v":""},{"$f":"IF($E22=\"\",\"\",IF(INDEX('E_Tokovi izvora'!$A:$N,CY22,T$7)=\"\",\"\",INDEX('E_Tokovi izvora'!$A:$N,CY22,T$7)))","v":""},{"$f":"IF($E22=\"\",\"\",IF(INDEX('E_Tokovi izvora'!$A:$N,CZ22,U$7)=\"\",\"\",INDEX('E_Tokovi izvora'!$A:$N,CZ22,U$7)))","v":""},{"$f":"IF($E22=\"\",\"\",IF(INDEX('E_Tokovi izvora'!$A:$N,DA22,V$7)=\"\",\"\",INDEX('E_Tokovi izvora'!$A:$N,DA22,V$7)))","v":""},{"$f":"IF($E22=\"\",\"\",IF(INDEX('E_Tokovi izvora'!$A:$N,DB22,W$7)=\"\",\"\",INDEX('E_Tokovi izvora'!$A:$N,DB22,W$7)))","v":""},{"$f":"IF($E22=\"\",\"\",IF(INDEX('E_Tokovi izvora'!$A:$N,DC22,X$7)=\"\",\"\",INDEX('E_Tokovi izvora'!$A:$N,DC22,X$7)))","v":""},{"$f":"IF($E22=\"\",\"\",IF(INDEX('E_Tokovi izvora'!$A:$N,DD22,Y$7)=\"\",\"\",INDEX('E_Tokovi izvora'!$A:$N,DD22,Y$7)))","v":""},{"$f":"IF($E22=\"\",\"\",IF(INDEX('E_Tokovi izvora'!$A:$N,DE22,Z$7)=\"\",\"\",INDEX('E_Tokovi izvora'!$A:$N,DE22,Z$7)))","v":""},{"$f":"IF($E22=\"\",\"\",IF(INDEX('E_Tokovi izvora'!$A:$N,DF22,AA$7)=\"\",\"\",INDEX('E_Tokovi izvora'!$A:$N,DF22,AA$7)))","v":""},{"$f":"IF($E22=\"\",\"\",IF(INDEX('E_Tokovi izvora'!$A:$N,DG22,AB$7)=\"\",\"\",INDEX('E_Tokovi izvora'!$A:$N,DG22,AB$7)))","v":""},{"$f":"IF($E22=\"\",\"\",IF(INDEX('E_Tokovi izvora'!$A:$N,DH22,AC$7)=\"\",\"\",INDEX('E_Tokovi izvora'!$A:$N,DH22,AC$7)))","v":""},{"$f":"IF($E22=\"\",\"\",IF(INDEX('E_Tokovi izvora'!$A:$N,DI22,AD$7)=\"\",\"\",INDEX('E_Tokovi izvora'!$A:$N,DI22,AD$7)))","v":""},{"$f":"IF($E22=\"\",\"\",IF(INDEX('E_Tokovi izvora'!$A:$N,DJ22,AE$7)=\"\",\"\",INDEX('E_Tokovi izvora'!$A:$N,DJ22,AE$7)))","v":""},{"$f":"IF($E22=\"\",\"\",IF(INDEX('E_Tokovi izvora'!$A:$N,DK22,AF$7)=\"\",\"\",INDEX('E_Tokovi izvora'!$A:$N,DK22,AF$7)))","v":""},{"$f":"IF($E22=\"\",\"\",IF(INDEX('E_Tokovi izvora'!$A:$N,DL22,AG$7)=\"\",\"\",INDEX('E_Tokovi izvora'!$A:$N,DL22,AG$7)))","v":""},{"$f":"IF($E22=\"\",\"\",IF(INDEX('E_Tokovi izvora'!$A:$N,DM22,AH$7)=\"\",\"\",INDEX('E_Tokovi izvora'!$A:$N,DM22,AH$7)))","v":""},{"$f":"IF($E22=\"\",\"\",IF(INDEX('E_Tokovi izvora'!$A:$N,DN22,AI$7)=\"\",\"\",INDEX('E_Tokovi izvora'!$A:$N,DN22,AI$7)))","v":""},{"$f":"IF($E22=\"\",\"\",IF(INDEX('E_Tokovi izvora'!$A:$N,DO22,AJ$7)=\"\",\"\",INDEX('E_Tokovi izvora'!$A:$N,DO22,AJ$7)))","v":""},{"$f":"IF($E22=\"\",\"\",IF(INDEX('E_Tokovi izvora'!$A:$N,DP22,AK$7)=\"\",\"\",INDEX('E_Tokovi izvora'!$A:$N,DP22,AK$7)))","v":""},{"$f":"IF($E22=\"\",\"\",IF(INDEX('E_Tokovi izvora'!$A:$N,DQ22,AL$7)=\"\",\"\",INDEX('E_Tokovi izvora'!$A:$N,DQ22,AL$7)))","v":""},{"$f":"IF($E22=\"\",\"\",IF(INDEX('E_Tokovi izvora'!$A:$N,DR22,AM$7)=\"\",\"\",INDEX('E_Tokovi izvora'!$A:$N,DR22,AM$7)))","v":""},{"$f":"IF($E22=\"\",\"\",IF(INDEX('E_Tokovi izvora'!$A:$N,DS22,AN$7)=\"\",\"\",INDEX('E_Tokovi izvora'!$A:$N,DS22,AN$7)))","v":""},{"$f":"IF($E22=\"\",\"\",IF(INDEX('E_Tokovi izvora'!$A:$N,DT22,AO$7)=\"\",\"\",INDEX('E_Tokovi izvora'!$A:$N,DT22,AO$7)))","v":""},{"$f":"IF($E22=\"\",\"\",IF(INDEX('E_Tokovi izvora'!$A:$N,DU22,AP$7)=\"\",\"\",INDEX('E_Tokovi izvora'!$A:$N,DU22,AP$7)))","v":""},{"$f":"IF($E22=\"\",\"\",IF(INDEX('E_Tokovi izvora'!$A:$N,DV22,AQ$7)=\"\",\"\",INDEX('E_Tokovi izvora'!$A:$N,DV22,AQ$7)))","v":""},{"$f":"IF($E22=\"\",\"\",IF(INDEX('E_Tokovi izvora'!$A:$N,DW22,AR$7)=\"\",\"\",INDEX('E_Tokovi izvora'!$A:$N,DW22,AR$7)))","v":""},{"$f":"IF($E22=\"\",\"\",IF(INDEX('E_Tokovi izvora'!$A:$N,DX22,AS$7)=\"\",\"\",INDEX('E_Tokovi izvora'!$A:$N,DX22,AS$7)))","v":""},{"$f":"IF($E22=\"\",\"\",IF(INDEX('E_Tokovi izvora'!$A:$N,DY22,AT$7)=\"\",\"\",INDEX('E_Tokovi izvora'!$A:$N,DY22,AT$7)))","v":""},{"$f":"IF($E22=\"\",\"\",IF(INDEX('E_Tokovi izvora'!$A:$N,DZ22,AU$7)=\"\",\"\",INDEX('E_Tokovi izvora'!$A:$N,DZ22,AU$7)))","v":""},{"$f":"IF($E22=\"\",\"\",IF(INDEX('E_Tokovi izvora'!$A:$N,EA22,AV$7)=\"\",\"\",INDEX('E_Tokovi izvora'!$A:$N,EA22,AV$7)))","v":""},{"$f":"IF($E22=\"\",\"\",IF(INDEX('E_Tokovi izvora'!$A:$N,EB22,AW$7)=\"\",\"\",INDEX('E_Tokovi izvora'!$A:$N,EB22,AW$7)))","v":""},{"$f":"IF($E22=\"\",\"\",IF(INDEX('E_Tokovi izvora'!$A:$N,EC22,AX$7)=\"\",\"\",INDEX('E_Tokovi izvora'!$A:$N,EC22,AX$7)))","v":""},{"$f":"IF($E22=\"\",\"\",IF(INDEX('E_Tokovi izvora'!$A:$N,ED22,AY$7)=\"\",\"\",INDEX('E_Tokovi izvora'!$A:$N,ED22,AY$7)))","v":""},{"$f":"IF($E22=\"\",\"\",IF(INDEX('E_Tokovi izvora'!$A:$N,EE22,AZ$7)=\"\",\"\",INDEX('E_Tokovi izvora'!$A:$N,EE22,AZ$7)))","v":""},{"$f":"IF($E22=\"\",\"\",IF(INDEX('E_Tokovi izvora'!$A:$N,EF22,BA$7)=\"\",\"\",INDEX('E_Tokovi izvora'!$A:$N,EF22,BA$7)))","v":""},{"$f":"IF($E22=\"\",\"\",IF(INDEX('E_Tokovi izvora'!$A:$N,EG22,BB$7)=\"\",\"\",INDEX('E_Tokovi izvora'!$A:$N,EG22,BB$7)))","v":""},{"$f":"IF($E22=\"\",\"\",IF(INDEX('E_Tokovi izvora'!$A:$N,EH22,BC$7)=\"\",\"\",INDEX('E_Tokovi izvora'!$A:$N,EH22,BC$7)))","v":""},{"$f":"IF($E22=\"\",\"\",IF(INDEX('E_Tokovi izvora'!$A:$N,EI22,BD$7)=\"\",\"\",INDEX('E_Tokovi izvora'!$A:$N,EI22,BD$7)))","v":""},{"$f":"IF($E22=\"\",\"\",IF(INDEX('E_Tokovi izvora'!$A:$N,EJ22,BE$7)=\"\",\"\",INDEX('E_Tokovi izvora'!$A:$N,EJ22,BE$7)))","v":""},{"$f":"IF($E22=\"\",\"\",IF(INDEX('E_Tokovi izvora'!$A:$N,EK22,BF$7)=\"\",\"\",INDEX('E_Tokovi izvora'!$A:$N,EK22,BF$7)))","v":""},{"$f":"IF($E22=\"\",\"\",IF(INDEX('E_Tokovi izvora'!$A:$N,EL22,BG$7)=\"\",\"\",INDEX('E_Tokovi izvora'!$A:$N,EL22,BG$7)))","v":""},{"$f":"IF($E22=\"\",\"\",IF(INDEX('E_Tokovi izvora'!$A:$N,EM22,BH$7)=\"\",\"\",INDEX('E_Tokovi izvora'!$A:$N,EM22,BH$7)))","v":""},{"$f":"IF($E22=\"\",\"\",IF(INDEX('E_Tokovi izvora'!$A:$N,EN22,BI$7)=\"\",\"\",INDEX('E_Tokovi izvora'!$A:$N,EN22,BI$7)))","v":""},{"$f":"IF($E22=\"\",\"\",IF(INDEX('E_Tokovi izvora'!$A:$N,EO22,BJ$7)=\"\",\"\",INDEX('E_Tokovi izvora'!$A:$N,EO22,BJ$7)))","v":""},{"$f":"IF($E22=\"\",\"\",IF(INDEX('E_Tokovi izvora'!$A:$N,EP22,BK$7)=\"\",\"\",INDEX('E_Tokovi izvora'!$A:$N,EP22,BK$7)))","v":""},{"$f":"IF($E22=\"\",\"\",IF(INDEX('E_Tokovi izvora'!$A:$N,EQ22,BL$7)=\"\",\"\",INDEX('E_Tokovi izvora'!$A:$N,EQ22,BL$7)))","v":""},{"$f":"IF($E22=\"\",\"\",IF(INDEX('E_Tokovi izvora'!$A:$N,ER22,BM$7)=\"\",\"\",INDEX('E_Tokovi izvora'!$A:$N,ER22,BM$7)))","v":""},{"$f":"IF($E22=\"\",\"\",IF(INDEX('E_Tokovi izvora'!$A:$N,ES22,BN$7)=\"\",\"\",INDEX('E_Tokovi izvora'!$A:$N,ES22,BN$7)))","v":""},{"$f":"IF($E22=\"\",\"\",IF(INDEX('E_Tokovi izvora'!$A:$N,ET22,BO$7)=\"\",\"\",INDEX('E_Tokovi izvora'!$A:$N,ET22,BO$7)))","v":""},{"$f":"IF($E22=\"\",\"\",IF(INDEX('E_Tokovi izvora'!$A:$N,EU22,BP$7)=\"\",\"\",INDEX('E_Tokovi izvora'!$A:$N,EU22,BP$7)))","v":""},{"$f":"IF($E22=\"\",\"\",IF(INDEX('E_Tokovi izvora'!$A:$N,EV22,BQ$7)=\"\",\"\",INDEX('E_Tokovi izvora'!$A:$N,EV22,BQ$7)))","v":""},{"$f":"IF($E22=\"\",\"\",IF(INDEX('E_Tokovi izvora'!$A:$N,EW22,BR$7)=\"\",\"\",INDEX('E_Tokovi izvora'!$A:$N,EW22,BR$7)))","v":""},{"$f":"IF($E22=\"\",\"\",IF(INDEX('E_Tokovi izvora'!$A:$N,EX22,BS$7)=\"\",\"\",INDEX('E_Tokovi izvora'!$A:$N,EX22,BS$7)))","v":""},{"$f":"IF($E22=\"\",\"\",IF(INDEX('E_Tokovi izvora'!$A:$N,EY22,BT$7)=\"\",\"\",INDEX('E_Tokovi izvora'!$A:$N,EY22,BT$7)))","v":""},null,null,null,null,null,null,null,null,null,null,null,null,null,null,null,"SourceCategory_",{"$f":"INDEX('C_Opis postrojenja'!$A$226:$A$332,ROWS($CI$11:CI22))=\"ausblenden\"","v":false},"SourceStreamName_",null,859,861,863,865,867,869,871,871,871,871,871,874,878,879,880,887,897,897,897,897,897,897,897,888,898,898,898,898,898,898,898,889,899,899,899,899,899,899,899,890,900,900,900,900,900,900,900,891,901,901,901,901,901,901,901,892,902,902,902,902,902,902,902,908]
[null,{"$f":"IF(COUNTIF($CK$10:CK23,TRUE)>0,\"\",INDEX('C_Opis postrojenja'!$E$226:$E$242,ROWS($A$11:A23)))","v":""},{"$f":"IF($E23=\"\",\"\",INDEX('C_Opis postrojenja'!F:F,MATCH($B23,'C_Opis postrojenja'!$E:$E,0)))","v":""},{"$f":"IF($E23=\"\",\"\",INDEX('C_Opis postrojenja'!I:I,MATCH($B23,'C_Opis postrojenja'!$E:$E,0)))","v":""},{"$f":"IF($B23=\"\",\"\",INDEX('C_Opis postrojenja'!F:F,MATCH($CJ23,'C_Opis postrojenja'!$Q:$Q,0)))","v":""},{"$f":"IF($E23=\"\",\"\",INDEX('C_Opis postrojenja'!L:L,MATCH($CJ23,'C_Opis postrojenja'!$Q:$Q,0)))","v":""},{"$f":"IF($E23=\"\",\"\",INDEX('C_Opis postrojenja'!M:M,MATCH($CJ23,'C_Opis postrojenja'!$Q:$Q,0)))","v":""},{"$f":"IF($E23=\"\",\"\",INDEX('C_Opis postrojenja'!N:N,MATCH($CJ23,'C_Opis postrojenja'!$Q:$Q,0)))","v":""},{"$f":"IF($E23=\"\",\"\",IF(INDEX('E_Tokovi izvora'!$A:$N,CN23,I$7)=\"\",\"\",INDEX('E_Tokovi izvora'!$A:$N,CN23,I$7)))","v":""},{"$f":"IF($E23=\"\",\"\",IF(INDEX('E_Tokovi izvora'!$A:$N,CO23,J$7)=\"\",\"\",INDEX('E_Tokovi izvora'!$A:$N,CO23,J$7)))","v":""},{"$f":"IF($E23=\"\",\"\",IF(INDEX('E_Tokovi izvora'!$A:$N,CP23,K$7)=\"\",\"\",INDEX('E_Tokovi izvora'!$A:$N,CP23,K$7)))","v":""},{"$f":"IF($E23=\"\",\"\",IF(INDEX('E_Tokovi izvora'!$A:$N,CQ23,L$7)=\"\",\"\",INDEX('E_Tokovi izvora'!$A:$N,CQ23,L$7)))","v":""},{"$f":"IF($E23=\"\",\"\",IF(INDEX('E_Tokovi izvora'!$A:$N,CR23,M$7)=\"\",\"\",INDEX('E_Tokovi izvora'!$A:$N,CR23,M$7)))","v":""},{"$f":"IF($E23=\"\",\"\",IF(INDEX('E_Tokovi izvora'!$A:$N,CS23,N$7)=\"\",\"\",INDEX('E_Tokovi izvora'!$A:$N,CS23,N$7)))","v":""},{"$f":"IF($E23=\"\",\"\",IF(INDEX('E_Tokovi izvora'!$A:$N,CT23,O$7)=\"\",\"\",INDEX('E_Tokovi izvora'!$A:$N,CT23,O$7)))","v":""},{"$f":"IF($E23=\"\",\"\",IF(INDEX('E_Tokovi izvora'!$A:$N,CU23,P$7)=\"\",\"\",INDEX('E_Tokovi izvora'!$A:$N,CU23,P$7)))","v":""},{"$f":"IF($E23=\"\",\"\",IF(INDEX('E_Tokovi izvora'!$A:$N,CV23,Q$7)=\"\",\"\",INDEX('E_Tokovi izvora'!$A:$N,CV23,Q$7)))","v":""},{"$f":"IF($E23=\"\",\"\",IF(INDEX('E_Tokovi izvora'!$A:$N,CW23,R$7)=\"\",\"\",INDEX('E_Tokovi izvora'!$A:$N,CW23,R$7)))","v":""},{"$f":"IF($E23=\"\",\"\",IF(INDEX('E_Tokovi izvora'!$A:$N,CX23,S$7)=\"\",\"\",INDEX('E_Tokovi izvora'!$A:$N,CX23,S$7)))","v":""},{"$f":"IF($E23=\"\",\"\",IF(INDEX('E_Tokovi izvora'!$A:$N,CY23,T$7)=\"\",\"\",INDEX('E_Tokovi izvora'!$A:$N,CY23,T$7)))","v":""},{"$f":"IF($E23=\"\",\"\",IF(INDEX('E_Tokovi izvora'!$A:$N,CZ23,U$7)=\"\",\"\",INDEX('E_Tokovi izvora'!$A:$N,CZ23,U$7)))","v":""},{"$f":"IF($E23=\"\",\"\",IF(INDEX('E_Tokovi izvora'!$A:$N,DA23,V$7)=\"\",\"\",INDEX('E_Tokovi izvora'!$A:$N,DA23,V$7)))","v":""},{"$f":"IF($E23=\"\",\"\",IF(INDEX('E_Tokovi izvora'!$A:$N,DB23,W$7)=\"\",\"\",INDEX('E_Tokovi izvora'!$A:$N,DB23,W$7)))","v":""},{"$f":"IF($E23=\"\",\"\",IF(INDEX('E_Tokovi izvora'!$A:$N,DC23,X$7)=\"\",\"\",INDEX('E_Tokovi izvora'!$A:$N,DC23,X$7)))","v":""},{"$f":"IF($E23=\"\",\"\",IF(INDEX('E_Tokovi izvora'!$A:$N,DD23,Y$7)=\"\",\"\",INDEX('E_Tokovi izvora'!$A:$N,DD23,Y$7)))","v":""},{"$f":"IF($E23=\"\",\"\",IF(INDEX('E_Tokovi izvora'!$A:$N,DE23,Z$7)=\"\",\"\",INDEX('E_Tokovi izvora'!$A:$N,DE23,Z$7)))","v":""},{"$f":"IF($E23=\"\",\"\",IF(INDEX('E_Tokovi izvora'!$A:$N,DF23,AA$7)=\"\",\"\",INDEX('E_Tokovi izvora'!$A:$N,DF23,AA$7)))","v":""},{"$f":"IF($E23=\"\",\"\",IF(INDEX('E_Tokovi izvora'!$A:$N,DG23,AB$7)=\"\",\"\",INDEX('E_Tokovi izvora'!$A:$N,DG23,AB$7)))","v":""},{"$f":"IF($E23=\"\",\"\",IF(INDEX('E_Tokovi izvora'!$A:$N,DH23,AC$7)=\"\",\"\",INDEX('E_Tokovi izvora'!$A:$N,DH23,AC$7)))","v":""},{"$f":"IF($E23=\"\",\"\",IF(INDEX('E_Tokovi izvora'!$A:$N,DI23,AD$7)=\"\",\"\",INDEX('E_Tokovi izvora'!$A:$N,DI23,AD$7)))","v":""},{"$f":"IF($E23=\"\",\"\",IF(INDEX('E_Tokovi izvora'!$A:$N,DJ23,AE$7)=\"\",\"\",INDEX('E_Tokovi izvora'!$A:$N,DJ23,AE$7)))","v":""},{"$f":"IF($E23=\"\",\"\",IF(INDEX('E_Tokovi izvora'!$A:$N,DK23,AF$7)=\"\",\"\",INDEX('E_Tokovi izvora'!$A:$N,DK23,AF$7)))","v":""},{"$f":"IF($E23=\"\",\"\",IF(INDEX('E_Tokovi izvora'!$A:$N,DL23,AG$7)=\"\",\"\",INDEX('E_Tokovi izvora'!$A:$N,DL23,AG$7)))","v":""},{"$f":"IF($E23=\"\",\"\",IF(INDEX('E_Tokovi izvora'!$A:$N,DM23,AH$7)=\"\",\"\",INDEX('E_Tokovi izvora'!$A:$N,DM23,AH$7)))","v":""},{"$f":"IF($E23=\"\",\"\",IF(INDEX('E_Tokovi izvora'!$A:$N,DN23,AI$7)=\"\",\"\",INDEX('E_Tokovi izvora'!$A:$N,DN23,AI$7)))","v":""},{"$f":"IF($E23=\"\",\"\",IF(INDEX('E_Tokovi izvora'!$A:$N,DO23,AJ$7)=\"\",\"\",INDEX('E_Tokovi izvora'!$A:$N,DO23,AJ$7)))","v":""},{"$f":"IF($E23=\"\",\"\",IF(INDEX('E_Tokovi izvora'!$A:$N,DP23,AK$7)=\"\",\"\",INDEX('E_Tokovi izvora'!$A:$N,DP23,AK$7)))","v":""},{"$f":"IF($E23=\"\",\"\",IF(INDEX('E_Tokovi izvora'!$A:$N,DQ23,AL$7)=\"\",\"\",INDEX('E_Tokovi izvora'!$A:$N,DQ23,AL$7)))","v":""},{"$f":"IF($E23=\"\",\"\",IF(INDEX('E_Tokovi izvora'!$A:$N,DR23,AM$7)=\"\",\"\",INDEX('E_Tokovi izvora'!$A:$N,DR23,AM$7)))","v":""},{"$f":"IF($E23=\"\",\"\",IF(INDEX('E_Tokovi izvora'!$A:$N,DS23,AN$7)=\"\",\"\",INDEX('E_Tokovi izvora'!$A:$N,DS23,AN$7)))","v":""},{"$f":"IF($E23=\"\",\"\",IF(INDEX('E_Tokovi izvora'!$A:$N,DT23,AO$7)=\"\",\"\",INDEX('E_Tokovi izvora'!$A:$N,DT23,AO$7)))","v":""},{"$f":"IF($E23=\"\",\"\",IF(INDEX('E_Tokovi izvora'!$A:$N,DU23,AP$7)=\"\",\"\",INDEX('E_Tokovi izvora'!$A:$N,DU23,AP$7)))","v":""},{"$f":"IF($E23=\"\",\"\",IF(INDEX('E_Tokovi izvora'!$A:$N,DV23,AQ$7)=\"\",\"\",INDEX('E_Tokovi izvora'!$A:$N,DV23,AQ$7)))","v":""},{"$f":"IF($E23=\"\",\"\",IF(INDEX('E_Tokovi izvora'!$A:$N,DW23,AR$7)=\"\",\"\",INDEX('E_Tokovi izvora'!$A:$N,DW23,AR$7)))","v":""},{"$f":"IF($E23=\"\",\"\",IF(INDEX('E_Tokovi izvora'!$A:$N,DX23,AS$7)=\"\",\"\",INDEX('E_Tokovi izvora'!$A:$N,DX23,AS$7)))","v":""},{"$f":"IF($E23=\"\",\"\",IF(INDEX('E_Tokovi izvora'!$A:$N,DY23,AT$7)=\"\",\"\",INDEX('E_Tokovi izvora'!$A:$N,DY23,AT$7)))","v":""},{"$f":"IF($E23=\"\",\"\",IF(INDEX('E_Tokovi izvora'!$A:$N,DZ23,AU$7)=\"\",\"\",INDEX('E_Tokovi izvora'!$A:$N,DZ23,AU$7)))","v":""},{"$f":"IF($E23=\"\",\"\",IF(INDEX('E_Tokovi izvora'!$A:$N,EA23,AV$7)=\"\",\"\",INDEX('E_Tokovi izvora'!$A:$N,EA23,AV$7)))","v":""},{"$f":"IF($E23=\"\",\"\",IF(INDEX('E_Tokovi izvora'!$A:$N,EB23,AW$7)=\"\",\"\",INDEX('E_Tokovi izvora'!$A:$N,EB23,AW$7)))","v":""},{"$f":"IF($E23=\"\",\"\",IF(INDEX('E_Tokovi izvora'!$A:$N,EC23,AX$7)=\"\",\"\",INDEX('E_Tokovi izvora'!$A:$N,EC23,AX$7)))","v":""},{"$f":"IF($E23=\"\",\"\",IF(INDEX('E_Tokovi izvora'!$A:$N,ED23,AY$7)=\"\",\"\",INDEX('E_Tokovi izvora'!$A:$N,ED23,AY$7)))","v":""},{"$f":"IF($E23=\"\",\"\",IF(INDEX('E_Tokovi izvora'!$A:$N,EE23,AZ$7)=\"\",\"\",INDEX('E_Tokovi izvora'!$A:$N,EE23,AZ$7)))","v":""},{"$f":"IF($E23=\"\",\"\",IF(INDEX('E_Tokovi izvora'!$A:$N,EF23,BA$7)=\"\",\"\",INDEX('E_Tokovi izvora'!$A:$N,EF23,BA$7)))","v":""},{"$f":"IF($E23=\"\",\"\",IF(INDEX('E_Tokovi izvora'!$A:$N,EG23,BB$7)=\"\",\"\",INDEX('E_Tokovi izvora'!$A:$N,EG23,BB$7)))","v":""},{"$f":"IF($E23=\"\",\"\",IF(INDEX('E_Tokovi izvora'!$A:$N,EH23,BC$7)=\"\",\"\",INDEX('E_Tokovi izvora'!$A:$N,EH23,BC$7)))","v":""},{"$f":"IF($E23=\"\",\"\",IF(INDEX('E_Tokovi izvora'!$A:$N,EI23,BD$7)=\"\",\"\",INDEX('E_Tokovi izvora'!$A:$N,EI23,BD$7)))","v":""},{"$f":"IF($E23=\"\",\"\",IF(INDEX('E_Tokovi izvora'!$A:$N,EJ23,BE$7)=\"\",\"\",INDEX('E_Tokovi izvora'!$A:$N,EJ23,BE$7)))","v":""},{"$f":"IF($E23=\"\",\"\",IF(INDEX('E_Tokovi izvora'!$A:$N,EK23,BF$7)=\"\",\"\",INDEX('E_Tokovi izvora'!$A:$N,EK23,BF$7)))","v":""},{"$f":"IF($E23=\"\",\"\",IF(INDEX('E_Tokovi izvora'!$A:$N,EL23,BG$7)=\"\",\"\",INDEX('E_Tokovi izvora'!$A:$N,EL23,BG$7)))","v":""},{"$f":"IF($E23=\"\",\"\",IF(INDEX('E_Tokovi izvora'!$A:$N,EM23,BH$7)=\"\",\"\",INDEX('E_Tokovi izvora'!$A:$N,EM23,BH$7)))","v":""},{"$f":"IF($E23=\"\",\"\",IF(INDEX('E_Tokovi izvora'!$A:$N,EN23,BI$7)=\"\",\"\",INDEX('E_Tokovi izvora'!$A:$N,EN23,BI$7)))","v":""},{"$f":"IF($E23=\"\",\"\",IF(INDEX('E_Tokovi izvora'!$A:$N,EO23,BJ$7)=\"\",\"\",INDEX('E_Tokovi izvora'!$A:$N,EO23,BJ$7)))","v":""},{"$f":"IF($E23=\"\",\"\",IF(INDEX('E_Tokovi izvora'!$A:$N,EP23,BK$7)=\"\",\"\",INDEX('E_Tokovi izvora'!$A:$N,EP23,BK$7)))","v":""},{"$f":"IF($E23=\"\",\"\",IF(INDEX('E_Tokovi izvora'!$A:$N,EQ23,BL$7)=\"\",\"\",INDEX('E_Tokovi izvora'!$A:$N,EQ23,BL$7)))","v":""},{"$f":"IF($E23=\"\",\"\",IF(INDEX('E_Tokovi izvora'!$A:$N,ER23,BM$7)=\"\",\"\",INDEX('E_Tokovi izvora'!$A:$N,ER23,BM$7)))","v":""},{"$f":"IF($E23=\"\",\"\",IF(INDEX('E_Tokovi izvora'!$A:$N,ES23,BN$7)=\"\",\"\",INDEX('E_Tokovi izvora'!$A:$N,ES23,BN$7)))","v":""},{"$f":"IF($E23=\"\",\"\",IF(INDEX('E_Tokovi izvora'!$A:$N,ET23,BO$7)=\"\",\"\",INDEX('E_Tokovi izvora'!$A:$N,ET23,BO$7)))","v":""},{"$f":"IF($E23=\"\",\"\",IF(INDEX('E_Tokovi izvora'!$A:$N,EU23,BP$7)=\"\",\"\",INDEX('E_Tokovi izvora'!$A:$N,EU23,BP$7)))","v":""},{"$f":"IF($E23=\"\",\"\",IF(INDEX('E_Tokovi izvora'!$A:$N,EV23,BQ$7)=\"\",\"\",INDEX('E_Tokovi izvora'!$A:$N,EV23,BQ$7)))","v":""},{"$f":"IF($E23=\"\",\"\",IF(INDEX('E_Tokovi izvora'!$A:$N,EW23,BR$7)=\"\",\"\",INDEX('E_Tokovi izvora'!$A:$N,EW23,BR$7)))","v":""},{"$f":"IF($E23=\"\",\"\",IF(INDEX('E_Tokovi izvora'!$A:$N,EX23,BS$7)=\"\",\"\",INDEX('E_Tokovi izvora'!$A:$N,EX23,BS$7)))","v":""},{"$f":"IF($E23=\"\",\"\",IF(INDEX('E_Tokovi izvora'!$A:$N,EY23,BT$7)=\"\",\"\",INDEX('E_Tokovi izvora'!$A:$N,EY23,BT$7)))","v":""},null,null,null,null,null,null,null,null,null,null,null,null,null,null,null,"SourceCategory_",{"$f":"INDEX('C_Opis postrojenja'!$A$226:$A$332,ROWS($CI$11:CI23))=\"ausblenden\"","v":false},"SourceStreamName_",null,925,927,929,931,933,935,937,937,937,937,937,940,944,945,946,953,963,963,963,963,963,963,963,954,964,964,964,964,964,964,964,955,965,965,965,965,965,965,965,956,966,966,966,966,966,966,966,957,967,967,967,967,967,967,967,958,968,968,968,968,968,968,968,974]
[null,{"$f":"IF(COUNTIF($CK$10:CK24,TRUE)>0,\"\",INDEX('C_Opis postrojenja'!$E$226:$E$242,ROWS($A$11:A24)))","v":""},{"$f":"IF($E24=\"\",\"\",INDEX('C_Opis postrojenja'!F:F,MATCH($B24,'C_Opis postrojenja'!$E:$E,0)))","v":""},{"$f":"IF($E24=\"\",\"\",INDEX('C_Opis postrojenja'!I:I,MATCH($B24,'C_Opis postrojenja'!$E:$E,0)))","v":""},{"$f":"IF($B24=\"\",\"\",INDEX('C_Opis postrojenja'!F:F,MATCH($CJ24,'C_Opis postrojenja'!$Q:$Q,0)))","v":""},{"$f":"IF($E24=\"\",\"\",INDEX('C_Opis postrojenja'!L:L,MATCH($CJ24,'C_Opis postrojenja'!$Q:$Q,0)))","v":""},{"$f":"IF($E24=\"\",\"\",INDEX('C_Opis postrojenja'!M:M,MATCH($CJ24,'C_Opis postrojenja'!$Q:$Q,0)))","v":""},{"$f":"IF($E24=\"\",\"\",INDEX('C_Opis postrojenja'!N:N,MATCH($CJ24,'C_Opis postrojenja'!$Q:$Q,0)))","v":""},{"$f":"IF($E24=\"\",\"\",IF(INDEX('E_Tokovi izvora'!$A:$N,CN24,I$7)=\"\",\"\",INDEX('E_Tokovi izvora'!$A:$N,CN24,I$7)))","v":""},{"$f":"IF($E24=\"\",\"\",IF(INDEX('E_Tokovi izvora'!$A:$N,CO24,J$7)=\"\",\"\",INDEX('E_Tokovi izvora'!$A:$N,CO24,J$7)))","v":""},{"$f":"IF($E24=\"\",\"\",IF(INDEX('E_Tokovi izvora'!$A:$N,CP24,K$7)=\"\",\"\",INDEX('E_Tokovi izvora'!$A:$N,CP24,K$7)))","v":""},{"$f":"IF($E24=\"\",\"\",IF(INDEX('E_Tokovi izvora'!$A:$N,CQ24,L$7)=\"\",\"\",INDEX('E_Tokovi izvora'!$A:$N,CQ24,L$7)))","v":""},{"$f":"IF($E24=\"\",\"\",IF(INDEX('E_Tokovi izvora'!$A:$N,CR24,M$7)=\"\",\"\",INDEX('E_Tokovi izvora'!$A:$N,CR24,M$7)))","v":""},{"$f":"IF($E24=\"\",\"\",IF(INDEX('E_Tokovi izvora'!$A:$N,CS24,N$7)=\"\",\"\",INDEX('E_Tokovi izvora'!$A:$N,CS24,N$7)))","v":""},{"$f":"IF($E24=\"\",\"\",IF(INDEX('E_Tokovi izvora'!$A:$N,CT24,O$7)=\"\",\"\",INDEX('E_Tokovi izvora'!$A:$N,CT24,O$7)))","v":""},{"$f":"IF($E24=\"\",\"\",IF(INDEX('E_Tokovi izvora'!$A:$N,CU24,P$7)=\"\",\"\",INDEX('E_Tokovi izvora'!$A:$N,CU24,P$7)))","v":""},{"$f":"IF($E24=\"\",\"\",IF(INDEX('E_Tokovi izvora'!$A:$N,CV24,Q$7)=\"\",\"\",INDEX('E_Tokovi izvora'!$A:$N,CV24,Q$7)))","v":""},{"$f":"IF($E24=\"\",\"\",IF(INDEX('E_Tokovi izvora'!$A:$N,CW24,R$7)=\"\",\"\",INDEX('E_Tokovi izvora'!$A:$N,CW24,R$7)))","v":""},{"$f":"IF($E24=\"\",\"\",IF(INDEX('E_Tokovi izvora'!$A:$N,CX24,S$7)=\"\",\"\",INDEX('E_Tokovi izvora'!$A:$N,CX24,S$7)))","v":""},{"$f":"IF($E24=\"\",\"\",IF(INDEX('E_Tokovi izvora'!$A:$N,CY24,T$7)=\"\",\"\",INDEX('E_Tokovi izvora'!$A:$N,CY24,T$7)))","v":""},{"$f":"IF($E24=\"\",\"\",IF(INDEX('E_Tokovi izvora'!$A:$N,CZ24,U$7)=\"\",\"\",INDEX('E_Tokovi izvora'!$A:$N,CZ24,U$7)))","v":""},{"$f":"IF($E24=\"\",\"\",IF(INDEX('E_Tokovi izvora'!$A:$N,DA24,V$7)=\"\",\"\",INDEX('E_Tokovi izvora'!$A:$N,DA24,V$7)))","v":""},{"$f":"IF($E24=\"\",\"\",IF(INDEX('E_Tokovi izvora'!$A:$N,DB24,W$7)=\"\",\"\",INDEX('E_Tokovi izvora'!$A:$N,DB24,W$7)))","v":""},{"$f":"IF($E24=\"\",\"\",IF(INDEX('E_Tokovi izvora'!$A:$N,DC24,X$7)=\"\",\"\",INDEX('E_Tokovi izvora'!$A:$N,DC24,X$7)))","v":""},{"$f":"IF($E24=\"\",\"\",IF(INDEX('E_Tokovi izvora'!$A:$N,DD24,Y$7)=\"\",\"\",INDEX('E_Tokovi izvora'!$A:$N,DD24,Y$7)))","v":""},{"$f":"IF($E24=\"\",\"\",IF(INDEX('E_Tokovi izvora'!$A:$N,DE24,Z$7)=\"\",\"\",INDEX('E_Tokovi izvora'!$A:$N,DE24,Z$7)))","v":""},{"$f":"IF($E24=\"\",\"\",IF(INDEX('E_Tokovi izvora'!$A:$N,DF24,AA$7)=\"\",\"\",INDEX('E_Tokovi izvora'!$A:$N,DF24,AA$7)))","v":""},{"$f":"IF($E24=\"\",\"\",IF(INDEX('E_Tokovi izvora'!$A:$N,DG24,AB$7)=\"\",\"\",INDEX('E_Tokovi izvora'!$A:$N,DG24,AB$7)))","v":""},{"$f":"IF($E24=\"\",\"\",IF(INDEX('E_Tokovi izvora'!$A:$N,DH24,AC$7)=\"\",\"\",INDEX('E_Tokovi izvora'!$A:$N,DH24,AC$7)))","v":""},{"$f":"IF($E24=\"\",\"\",IF(INDEX('E_Tokovi izvora'!$A:$N,DI24,AD$7)=\"\",\"\",INDEX('E_Tokovi izvora'!$A:$N,DI24,AD$7)))","v":""},{"$f":"IF($E24=\"\",\"\",IF(INDEX('E_Tokovi izvora'!$A:$N,DJ24,AE$7)=\"\",\"\",INDEX('E_Tokovi izvora'!$A:$N,DJ24,AE$7)))","v":""},{"$f":"IF($E24=\"\",\"\",IF(INDEX('E_Tokovi izvora'!$A:$N,DK24,AF$7)=\"\",\"\",INDEX('E_Tokovi izvora'!$A:$N,DK24,AF$7)))","v":""},{"$f":"IF($E24=\"\",\"\",IF(INDEX('E_Tokovi izvora'!$A:$N,DL24,AG$7)=\"\",\"\",INDEX('E_Tokovi izvora'!$A:$N,DL24,AG$7)))","v":""},{"$f":"IF($E24=\"\",\"\",IF(INDEX('E_Tokovi izvora'!$A:$N,DM24,AH$7)=\"\",\"\",INDEX('E_Tokovi izvora'!$A:$N,DM24,AH$7)))","v":""},{"$f":"IF($E24=\"\",\"\",IF(INDEX('E_Tokovi izvora'!$A:$N,DN24,AI$7)=\"\",\"\",INDEX('E_Tokovi izvora'!$A:$N,DN24,AI$7)))","v":""},{"$f":"IF($E24=\"\",\"\",IF(INDEX('E_Tokovi izvora'!$A:$N,DO24,AJ$7)=\"\",\"\",INDEX('E_Tokovi izvora'!$A:$N,DO24,AJ$7)))","v":""},{"$f":"IF($E24=\"\",\"\",IF(INDEX('E_Tokovi izvora'!$A:$N,DP24,AK$7)=\"\",\"\",INDEX('E_Tokovi izvora'!$A:$N,DP24,AK$7)))","v":""},{"$f":"IF($E24=\"\",\"\",IF(INDEX('E_Tokovi izvora'!$A:$N,DQ24,AL$7)=\"\",\"\",INDEX('E_Tokovi izvora'!$A:$N,DQ24,AL$7)))","v":""},{"$f":"IF($E24=\"\",\"\",IF(INDEX('E_Tokovi izvora'!$A:$N,DR24,AM$7)=\"\",\"\",INDEX('E_Tokovi izvora'!$A:$N,DR24,AM$7)))","v":""},{"$f":"IF($E24=\"\",\"\",IF(INDEX('E_Tokovi izvora'!$A:$N,DS24,AN$7)=\"\",\"\",INDEX('E_Tokovi izvora'!$A:$N,DS24,AN$7)))","v":""},{"$f":"IF($E24=\"\",\"\",IF(INDEX('E_Tokovi izvora'!$A:$N,DT24,AO$7)=\"\",\"\",INDEX('E_Tokovi izvora'!$A:$N,DT24,AO$7)))","v":""},{"$f":"IF($E24=\"\",\"\",IF(INDEX('E_Tokovi izvora'!$A:$N,DU24,AP$7)=\"\",\"\",INDEX('E_Tokovi izvora'!$A:$N,DU24,AP$7)))","v":""},{"$f":"IF($E24=\"\",\"\",IF(INDEX('E_Tokovi izvora'!$A:$N,DV24,AQ$7)=\"\",\"\",INDEX('E_Tokovi izvora'!$A:$N,DV24,AQ$7)))","v":""},{"$f":"IF($E24=\"\",\"\",IF(INDEX('E_Tokovi izvora'!$A:$N,DW24,AR$7)=\"\",\"\",INDEX('E_Tokovi izvora'!$A:$N,DW24,AR$7)))","v":""},{"$f":"IF($E24=\"\",\"\",IF(INDEX('E_Tokovi izvora'!$A:$N,DX24,AS$7)=\"\",\"\",INDEX('E_Tokovi izvora'!$A:$N,DX24,AS$7)))","v":""},{"$f":"IF($E24=\"\",\"\",IF(INDEX('E_Tokovi izvora'!$A:$N,DY24,AT$7)=\"\",\"\",INDEX('E_Tokovi izvora'!$A:$N,DY24,AT$7)))","v":""},{"$f":"IF($E24=\"\",\"\",IF(INDEX('E_Tokovi izvora'!$A:$N,DZ24,AU$7)=\"\",\"\",INDEX('E_Tokovi izvora'!$A:$N,DZ24,AU$7)))","v":""},{"$f":"IF($E24=\"\",\"\",IF(INDEX('E_Tokovi izvora'!$A:$N,EA24,AV$7)=\"\",\"\",INDEX('E_Tokovi izvora'!$A:$N,EA24,AV$7)))","v":""},{"$f":"IF($E24=\"\",\"\",IF(INDEX('E_Tokovi izvora'!$A:$N,EB24,AW$7)=\"\",\"\",INDEX('E_Tokovi izvora'!$A:$N,EB24,AW$7)))","v":""},{"$f":"IF($E24=\"\",\"\",IF(INDEX('E_Tokovi izvora'!$A:$N,EC24,AX$7)=\"\",\"\",INDEX('E_Tokovi izvora'!$A:$N,EC24,AX$7)))","v":""},{"$f":"IF($E24=\"\",\"\",IF(INDEX('E_Tokovi izvora'!$A:$N,ED24,AY$7)=\"\",\"\",INDEX('E_Tokovi izvora'!$A:$N,ED24,AY$7)))","v":""},{"$f":"IF($E24=\"\",\"\",IF(INDEX('E_Tokovi izvora'!$A:$N,EE24,AZ$7)=\"\",\"\",INDEX('E_Tokovi izvora'!$A:$N,EE24,AZ$7)))","v":""},{"$f":"IF($E24=\"\",\"\",IF(INDEX('E_Tokovi izvora'!$A:$N,EF24,BA$7)=\"\",\"\",INDEX('E_Tokovi izvora'!$A:$N,EF24,BA$7)))","v":""},{"$f":"IF($E24=\"\",\"\",IF(INDEX('E_Tokovi izvora'!$A:$N,EG24,BB$7)=\"\",\"\",INDEX('E_Tokovi izvora'!$A:$N,EG24,BB$7)))","v":""},{"$f":"IF($E24=\"\",\"\",IF(INDEX('E_Tokovi izvora'!$A:$N,EH24,BC$7)=\"\",\"\",INDEX('E_Tokovi izvora'!$A:$N,EH24,BC$7)))","v":""},{"$f":"IF($E24=\"\",\"\",IF(INDEX('E_Tokovi izvora'!$A:$N,EI24,BD$7)=\"\",\"\",INDEX('E_Tokovi izvora'!$A:$N,EI24,BD$7)))","v":""},{"$f":"IF($E24=\"\",\"\",IF(INDEX('E_Tokovi izvora'!$A:$N,EJ24,BE$7)=\"\",\"\",INDEX('E_Tokovi izvora'!$A:$N,EJ24,BE$7)))","v":""},{"$f":"IF($E24=\"\",\"\",IF(INDEX('E_Tokovi izvora'!$A:$N,EK24,BF$7)=\"\",\"\",INDEX('E_Tokovi izvora'!$A:$N,EK24,BF$7)))","v":""},{"$f":"IF($E24=\"\",\"\",IF(INDEX('E_Tokovi izvora'!$A:$N,EL24,BG$7)=\"\",\"\",INDEX('E_Tokovi izvora'!$A:$N,EL24,BG$7)))","v":""},{"$f":"IF($E24=\"\",\"\",IF(INDEX('E_Tokovi izvora'!$A:$N,EM24,BH$7)=\"\",\"\",INDEX('E_Tokovi izvora'!$A:$N,EM24,BH$7)))","v":""},{"$f":"IF($E24=\"\",\"\",IF(INDEX('E_Tokovi izvora'!$A:$N,EN24,BI$7)=\"\",\"\",INDEX('E_Tokovi izvora'!$A:$N,EN24,BI$7)))","v":""},{"$f":"IF($E24=\"\",\"\",IF(INDEX('E_Tokovi izvora'!$A:$N,EO24,BJ$7)=\"\",\"\",INDEX('E_Tokovi izvora'!$A:$N,EO24,BJ$7)))","v":""},{"$f":"IF($E24=\"\",\"\",IF(INDEX('E_Tokovi izvora'!$A:$N,EP24,BK$7)=\"\",\"\",INDEX('E_Tokovi izvora'!$A:$N,EP24,BK$7)))","v":""},{"$f":"IF($E24=\"\",\"\",IF(INDEX('E_Tokovi izvora'!$A:$N,EQ24,BL$7)=\"\",\"\",INDEX('E_Tokovi izvora'!$A:$N,EQ24,BL$7)))","v":""},{"$f":"IF($E24=\"\",\"\",IF(INDEX('E_Tokovi izvora'!$A:$N,ER24,BM$7)=\"\",\"\",INDEX('E_Tokovi izvora'!$A:$N,ER24,BM$7)))","v":""},{"$f":"IF($E24=\"\",\"\",IF(INDEX('E_Tokovi izvora'!$A:$N,ES24,BN$7)=\"\",\"\",INDEX('E_Tokovi izvora'!$A:$N,ES24,BN$7)))","v":""},{"$f":"IF($E24=\"\",\"\",IF(INDEX('E_Tokovi izvora'!$A:$N,ET24,BO$7)=\"\",\"\",INDEX('E_Tokovi izvora'!$A:$N,ET24,BO$7)))","v":""},{"$f":"IF($E24=\"\",\"\",IF(INDEX('E_Tokovi izvora'!$A:$N,EU24,BP$7)=\"\",\"\",INDEX('E_Tokovi izvora'!$A:$N,EU24,BP$7)))","v":""},{"$f":"IF($E24=\"\",\"\",IF(INDEX('E_Tokovi izvora'!$A:$N,EV24,BQ$7)=\"\",\"\",INDEX('E_Tokovi izvora'!$A:$N,EV24,BQ$7)))","v":""},{"$f":"IF($E24=\"\",\"\",IF(INDEX('E_Tokovi izvora'!$A:$N,EW24,BR$7)=\"\",\"\",INDEX('E_Tokovi izvora'!$A:$N,EW24,BR$7)))","v":""},{"$f":"IF($E24=\"\",\"\",IF(INDEX('E_Tokovi izvora'!$A:$N,EX24,BS$7)=\"\",\"\",INDEX('E_Tokovi izvora'!$A:$N,EX24,BS$7)))","v":""},{"$f":"IF($E24=\"\",\"\",IF(INDEX('E_Tokovi izvora'!$A:$N,EY24,BT$7)=\"\",\"\",INDEX('E_Tokovi izvora'!$A:$N,EY24,BT$7)))","v":""},null,null,null,null,null,null,null,null,null,null,null,null,null,null,null,"SourceCategory_",{"$f":"INDEX('C_Opis postrojenja'!$A$226:$A$332,ROWS($CI$11:CI24))=\"ausblenden\"","v":false},"SourceStreamName_",null,991,993,995,997,999,1001,1003,1003,1003,1003,1003,1006,1010,1011,1012,1019,1029,1029,1029,1029,1029,1029,1029,1020,1030,1030,1030,1030,1030,1030,1030,1021,1031,1031,1031,1031,1031,1031,1031,1022,1032,1032,1032,1032,1032,1032,1032,1023,1033,1033,1033,1033,1033,1033,1033,1024,1034,1034,1034,1034,1034,1034,1034,1040]
[null,{"$f":"IF(COUNTIF($CK$10:CK25,TRUE)>0,\"\",INDEX('C_Opis postrojenja'!$E$226:$E$242,ROWS($A$11:A25)))","v":""},{"$f":"IF($E25=\"\",\"\",INDEX('C_Opis postrojenja'!F:F,MATCH($B25,'C_Opis postrojenja'!$E:$E,0)))","v":""},{"$f":"IF($E25=\"\",\"\",INDEX('C_Opis postrojenja'!I:I,MATCH($B25,'C_Opis postrojenja'!$E:$E,0)))","v":""},{"$f":"IF($B25=\"\",\"\",INDEX('C_Opis postrojenja'!F:F,MATCH($CJ25,'C_Opis postrojenja'!$Q:$Q,0)))","v":""},{"$f":"IF($E25=\"\",\"\",INDEX('C_Opis postrojenja'!L:L,MATCH($CJ25,'C_Opis postrojenja'!$Q:$Q,0)))","v":""},{"$f":"IF($E25=\"\",\"\",INDEX('C_Opis postrojenja'!M:M,MATCH($CJ25,'C_Opis postrojenja'!$Q:$Q,0)))","v":""},{"$f":"IF($E25=\"\",\"\",INDEX('C_Opis postrojenja'!N:N,MATCH($CJ25,'C_Opis postrojenja'!$Q:$Q,0)))","v":""},{"$f":"IF($E25=\"\",\"\",IF(INDEX('E_Tokovi izvora'!$A:$N,CN25,I$7)=\"\",\"\",INDEX('E_Tokovi izvora'!$A:$N,CN25,I$7)))","v":""},{"$f":"IF($E25=\"\",\"\",IF(INDEX('E_Tokovi izvora'!$A:$N,CO25,J$7)=\"\",\"\",INDEX('E_Tokovi izvora'!$A:$N,CO25,J$7)))","v":""},{"$f":"IF($E25=\"\",\"\",IF(INDEX('E_Tokovi izvora'!$A:$N,CP25,K$7)=\"\",\"\",INDEX('E_Tokovi izvora'!$A:$N,CP25,K$7)))","v":""},{"$f":"IF($E25=\"\",\"\",IF(INDEX('E_Tokovi izvora'!$A:$N,CQ25,L$7)=\"\",\"\",INDEX('E_Tokovi izvora'!$A:$N,CQ25,L$7)))","v":""},{"$f":"IF($E25=\"\",\"\",IF(INDEX('E_Tokovi izvora'!$A:$N,CR25,M$7)=\"\",\"\",INDEX('E_Tokovi izvora'!$A:$N,CR25,M$7)))","v":""},{"$f":"IF($E25=\"\",\"\",IF(INDEX('E_Tokovi izvora'!$A:$N,CS25,N$7)=\"\",\"\",INDEX('E_Tokovi izvora'!$A:$N,CS25,N$7)))","v":""},{"$f":"IF($E25=\"\",\"\",IF(INDEX('E_Tokovi izvora'!$A:$N,CT25,O$7)=\"\",\"\",INDEX('E_Tokovi izvora'!$A:$N,CT25,O$7)))","v":""},{"$f":"IF($E25=\"\",\"\",IF(INDEX('E_Tokovi izvora'!$A:$N,CU25,P$7)=\"\",\"\",INDEX('E_Tokovi izvora'!$A:$N,CU25,P$7)))","v":""},{"$f":"IF($E25=\"\",\"\",IF(INDEX('E_Tokovi izvora'!$A:$N,CV25,Q$7)=\"\",\"\",INDEX('E_Tokovi izvora'!$A:$N,CV25,Q$7)))","v":""},{"$f":"IF($E25=\"\",\"\",IF(INDEX('E_Tokovi izvora'!$A:$N,CW25,R$7)=\"\",\"\",INDEX('E_Tokovi izvora'!$A:$N,CW25,R$7)))","v":""},{"$f":"IF($E25=\"\",\"\",IF(INDEX('E_Tokovi izvora'!$A:$N,CX25,S$7)=\"\",\"\",INDEX('E_Tokovi izvora'!$A:$N,CX25,S$7)))","v":""},{"$f":"IF($E25=\"\",\"\",IF(INDEX('E_Tokovi izvora'!$A:$N,CY25,T$7)=\"\",\"\",INDEX('E_Tokovi izvora'!$A:$N,CY25,T$7)))","v":""},{"$f":"IF($E25=\"\",\"\",IF(INDEX('E_Tokovi izvora'!$A:$N,CZ25,U$7)=\"\",\"\",INDEX('E_Tokovi izvora'!$A:$N,CZ25,U$7)))","v":""},{"$f":"IF($E25=\"\",\"\",IF(INDEX('E_Tokovi izvora'!$A:$N,DA25,V$7)=\"\",\"\",INDEX('E_Tokovi izvora'!$A:$N,DA25,V$7)))","v":""},{"$f":"IF($E25=\"\",\"\",IF(INDEX('E_Tokovi izvora'!$A:$N,DB25,W$7)=\"\",\"\",INDEX('E_Tokovi izvora'!$A:$N,DB25,W$7)))","v":""},{"$f":"IF($E25=\"\",\"\",IF(INDEX('E_Tokovi izvora'!$A:$N,DC25,X$7)=\"\",\"\",INDEX('E_Tokovi izvora'!$A:$N,DC25,X$7)))","v":""},{"$f":"IF($E25=\"\",\"\",IF(INDEX('E_Tokovi izvora'!$A:$N,DD25,Y$7)=\"\",\"\",INDEX('E_Tokovi izvora'!$A:$N,DD25,Y$7)))","v":""},{"$f":"IF($E25=\"\",\"\",IF(INDEX('E_Tokovi izvora'!$A:$N,DE25,Z$7)=\"\",\"\",INDEX('E_Tokovi izvora'!$A:$N,DE25,Z$7)))","v":""},{"$f":"IF($E25=\"\",\"\",IF(INDEX('E_Tokovi izvora'!$A:$N,DF25,AA$7)=\"\",\"\",INDEX('E_Tokovi izvora'!$A:$N,DF25,AA$7)))","v":""},{"$f":"IF($E25=\"\",\"\",IF(INDEX('E_Tokovi izvora'!$A:$N,DG25,AB$7)=\"\",\"\",INDEX('E_Tokovi izvora'!$A:$N,DG25,AB$7)))","v":""},{"$f":"IF($E25=\"\",\"\",IF(INDEX('E_Tokovi izvora'!$A:$N,DH25,AC$7)=\"\",\"\",INDEX('E_Tokovi izvora'!$A:$N,DH25,AC$7)))","v":""},{"$f":"IF($E25=\"\",\"\",IF(INDEX('E_Tokovi izvora'!$A:$N,DI25,AD$7)=\"\",\"\",INDEX('E_Tokovi izvora'!$A:$N,DI25,AD$7)))","v":""},{"$f":"IF($E25=\"\",\"\",IF(INDEX('E_Tokovi izvora'!$A:$N,DJ25,AE$7)=\"\",\"\",INDEX('E_Tokovi izvora'!$A:$N,DJ25,AE$7)))","v":""},{"$f":"IF($E25=\"\",\"\",IF(INDEX('E_Tokovi izvora'!$A:$N,DK25,AF$7)=\"\",\"\",INDEX('E_Tokovi izvora'!$A:$N,DK25,AF$7)))","v":""},{"$f":"IF($E25=\"\",\"\",IF(INDEX('E_Tokovi izvora'!$A:$N,DL25,AG$7)=\"\",\"\",INDEX('E_Tokovi izvora'!$A:$N,DL25,AG$7)))","v":""},{"$f":"IF($E25=\"\",\"\",IF(INDEX('E_Tokovi izvora'!$A:$N,DM25,AH$7)=\"\",\"\",INDEX('E_Tokovi izvora'!$A:$N,DM25,AH$7)))","v":""},{"$f":"IF($E25=\"\",\"\",IF(INDEX('E_Tokovi izvora'!$A:$N,DN25,AI$7)=\"\",\"\",INDEX('E_Tokovi izvora'!$A:$N,DN25,AI$7)))","v":""},{"$f":"IF($E25=\"\",\"\",IF(INDEX('E_Tokovi izvora'!$A:$N,DO25,AJ$7)=\"\",\"\",INDEX('E_Tokovi izvora'!$A:$N,DO25,AJ$7)))","v":""},{"$f":"IF($E25=\"\",\"\",IF(INDEX('E_Tokovi izvora'!$A:$N,DP25,AK$7)=\"\",\"\",INDEX('E_Tokovi izvora'!$A:$N,DP25,AK$7)))","v":""},{"$f":"IF($E25=\"\",\"\",IF(INDEX('E_Tokovi izvora'!$A:$N,DQ25,AL$7)=\"\",\"\",INDEX('E_Tokovi izvora'!$A:$N,DQ25,AL$7)))","v":""},{"$f":"IF($E25=\"\",\"\",IF(INDEX('E_Tokovi izvora'!$A:$N,DR25,AM$7)=\"\",\"\",INDEX('E_Tokovi izvora'!$A:$N,DR25,AM$7)))","v":""},{"$f":"IF($E25=\"\",\"\",IF(INDEX('E_Tokovi izvora'!$A:$N,DS25,AN$7)=\"\",\"\",INDEX('E_Tokovi izvora'!$A:$N,DS25,AN$7)))","v":""},{"$f":"IF($E25=\"\",\"\",IF(INDEX('E_Tokovi izvora'!$A:$N,DT25,AO$7)=\"\",\"\",INDEX('E_Tokovi izvora'!$A:$N,DT25,AO$7)))","v":""},{"$f":"IF($E25=\"\",\"\",IF(INDEX('E_Tokovi izvora'!$A:$N,DU25,AP$7)=\"\",\"\",INDEX('E_Tokovi izvora'!$A:$N,DU25,AP$7)))","v":""},{"$f":"IF($E25=\"\",\"\",IF(INDEX('E_Tokovi izvora'!$A:$N,DV25,AQ$7)=\"\",\"\",INDEX('E_Tokovi izvora'!$A:$N,DV25,AQ$7)))","v":""},{"$f":"IF($E25=\"\",\"\",IF(INDEX('E_Tokovi izvora'!$A:$N,DW25,AR$7)=\"\",\"\",INDEX('E_Tokovi izvora'!$A:$N,DW25,AR$7)))","v":""},{"$f":"IF($E25=\"\",\"\",IF(INDEX('E_Tokovi izvora'!$A:$N,DX25,AS$7)=\"\",\"\",INDEX('E_Tokovi izvora'!$A:$N,DX25,AS$7)))","v":""},{"$f":"IF($E25=\"\",\"\",IF(INDEX('E_Tokovi izvora'!$A:$N,DY25,AT$7)=\"\",\"\",INDEX('E_Tokovi izvora'!$A:$N,DY25,AT$7)))","v":""},{"$f":"IF($E25=\"\",\"\",IF(INDEX('E_Tokovi izvora'!$A:$N,DZ25,AU$7)=\"\",\"\",INDEX('E_Tokovi izvora'!$A:$N,DZ25,AU$7)))","v":""},{"$f":"IF($E25=\"\",\"\",IF(INDEX('E_Tokovi izvora'!$A:$N,EA25,AV$7)=\"\",\"\",INDEX('E_Tokovi izvora'!$A:$N,EA25,AV$7)))","v":""},{"$f":"IF($E25=\"\",\"\",IF(INDEX('E_Tokovi izvora'!$A:$N,EB25,AW$7)=\"\",\"\",INDEX('E_Tokovi izvora'!$A:$N,EB25,AW$7)))","v":""},{"$f":"IF($E25=\"\",\"\",IF(INDEX('E_Tokovi izvora'!$A:$N,EC25,AX$7)=\"\",\"\",INDEX('E_Tokovi izvora'!$A:$N,EC25,AX$7)))","v":""},{"$f":"IF($E25=\"\",\"\",IF(INDEX('E_Tokovi izvora'!$A:$N,ED25,AY$7)=\"\",\"\",INDEX('E_Tokovi izvora'!$A:$N,ED25,AY$7)))","v":""},{"$f":"IF($E25=\"\",\"\",IF(INDEX('E_Tokovi izvora'!$A:$N,EE25,AZ$7)=\"\",\"\",INDEX('E_Tokovi izvora'!$A:$N,EE25,AZ$7)))","v":""},{"$f":"IF($E25=\"\",\"\",IF(INDEX('E_Tokovi izvora'!$A:$N,EF25,BA$7)=\"\",\"\",INDEX('E_Tokovi izvora'!$A:$N,EF25,BA$7)))","v":""},{"$f":"IF($E25=\"\",\"\",IF(INDEX('E_Tokovi izvora'!$A:$N,EG25,BB$7)=\"\",\"\",INDEX('E_Tokovi izvora'!$A:$N,EG25,BB$7)))","v":""},{"$f":"IF($E25=\"\",\"\",IF(INDEX('E_Tokovi izvora'!$A:$N,EH25,BC$7)=\"\",\"\",INDEX('E_Tokovi izvora'!$A:$N,EH25,BC$7)))","v":""},{"$f":"IF($E25=\"\",\"\",IF(INDEX('E_Tokovi izvora'!$A:$N,EI25,BD$7)=\"\",\"\",INDEX('E_Tokovi izvora'!$A:$N,EI25,BD$7)))","v":""},{"$f":"IF($E25=\"\",\"\",IF(INDEX('E_Tokovi izvora'!$A:$N,EJ25,BE$7)=\"\",\"\",INDEX('E_Tokovi izvora'!$A:$N,EJ25,BE$7)))","v":""},{"$f":"IF($E25=\"\",\"\",IF(INDEX('E_Tokovi izvora'!$A:$N,EK25,BF$7)=\"\",\"\",INDEX('E_Tokovi izvora'!$A:$N,EK25,BF$7)))","v":""},{"$f":"IF($E25=\"\",\"\",IF(INDEX('E_Tokovi izvora'!$A:$N,EL25,BG$7)=\"\",\"\",INDEX('E_Tokovi izvora'!$A:$N,EL25,BG$7)))","v":""},{"$f":"IF($E25=\"\",\"\",IF(INDEX('E_Tokovi izvora'!$A:$N,EM25,BH$7)=\"\",\"\",INDEX('E_Tokovi izvora'!$A:$N,EM25,BH$7)))","v":""},{"$f":"IF($E25=\"\",\"\",IF(INDEX('E_Tokovi izvora'!$A:$N,EN25,BI$7)=\"\",\"\",INDEX('E_Tokovi izvora'!$A:$N,EN25,BI$7)))","v":""},{"$f":"IF($E25=\"\",\"\",IF(INDEX('E_Tokovi izvora'!$A:$N,EO25,BJ$7)=\"\",\"\",INDEX('E_Tokovi izvora'!$A:$N,EO25,BJ$7)))","v":""},{"$f":"IF($E25=\"\",\"\",IF(INDEX('E_Tokovi izvora'!$A:$N,EP25,BK$7)=\"\",\"\",INDEX('E_Tokovi izvora'!$A:$N,EP25,BK$7)))","v":""},{"$f":"IF($E25=\"\",\"\",IF(INDEX('E_Tokovi izvora'!$A:$N,EQ25,BL$7)=\"\",\"\",INDEX('E_Tokovi izvora'!$A:$N,EQ25,BL$7)))","v":""},{"$f":"IF($E25=\"\",\"\",IF(INDEX('E_Tokovi izvora'!$A:$N,ER25,BM$7)=\"\",\"\",INDEX('E_Tokovi izvora'!$A:$N,ER25,BM$7)))","v":""},{"$f":"IF($E25=\"\",\"\",IF(INDEX('E_Tokovi izvora'!$A:$N,ES25,BN$7)=\"\",\"\",INDEX('E_Tokovi izvora'!$A:$N,ES25,BN$7)))","v":""},{"$f":"IF($E25=\"\",\"\",IF(INDEX('E_Tokovi izvora'!$A:$N,ET25,BO$7)=\"\",\"\",INDEX('E_Tokovi izvora'!$A:$N,ET25,BO$7)))","v":""},{"$f":"IF($E25=\"\",\"\",IF(INDEX('E_Tokovi izvora'!$A:$N,EU25,BP$7)=\"\",\"\",INDEX('E_Tokovi izvora'!$A:$N,EU25,BP$7)))","v":""},{"$f":"IF($E25=\"\",\"\",IF(INDEX('E_Tokovi izvora'!$A:$N,EV25,BQ$7)=\"\",\"\",INDEX('E_Tokovi izvora'!$A:$N,EV25,BQ$7)))","v":""},{"$f":"IF($E25=\"\",\"\",IF(INDEX('E_Tokovi izvora'!$A:$N,EW25,BR$7)=\"\",\"\",INDEX('E_Tokovi izvora'!$A:$N,EW25,BR$7)))","v":""},{"$f":"IF($E25=\"\",\"\",IF(INDEX('E_Tokovi izvora'!$A:$N,EX25,BS$7)=\"\",\"\",INDEX('E_Tokovi izvora'!$A:$N,EX25,BS$7)))","v":""},{"$f":"IF($E25=\"\",\"\",IF(INDEX('E_Tokovi izvora'!$A:$N,EY25,BT$7)=\"\",\"\",INDEX('E_Tokovi izvora'!$A:$N,EY25,BT$7)))","v":""},null,null,null,null,null,null,null,null,null,null,null,null,null,null,null,"SourceCategory_",{"$f":"INDEX('C_Opis postrojenja'!$A$226:$A$332,ROWS($CI$11:CI25))=\"ausblenden\"","v":false},"SourceStreamName_",null,1057,1059,1061,1063,1065,1067,1069,1069,1069,1069,1069,1072,1076,1077,1078,1085,1095,1095,1095,1095,1095,1095,1095,1086,1096,1096,1096,1096,1096,1096,1096,1087,1097,1097,1097,1097,1097,1097,1097,1088,1098,1098,1098,1098,1098,1098,1098,1089,1099,1099,1099,1099,1099,1099,1099,1090,1100,1100,1100,1100,1100,1100,1100,1106]
[null,{"$f":"IF(COUNTIF($CK$10:CK26,TRUE)>0,\"\",INDEX('C_Opis postrojenja'!$E$226:$E$242,ROWS($A$11:A26)))","v":""},{"$f":"IF($E26=\"\",\"\",INDEX('C_Opis postrojenja'!F:F,MATCH($B26,'C_Opis postrojenja'!$E:$E,0)))","v":""},{"$f":"IF($E26=\"\",\"\",INDEX('C_Opis postrojenja'!I:I,MATCH($B26,'C_Opis postrojenja'!$E:$E,0)))","v":""},{"$f":"IF($B26=\"\",\"\",INDEX('C_Opis postrojenja'!F:F,MATCH($CJ26,'C_Opis postrojenja'!$Q:$Q,0)))","v":""},{"$f":"IF($E26=\"\",\"\",INDEX('C_Opis postrojenja'!L:L,MATCH($CJ26,'C_Opis postrojenja'!$Q:$Q,0)))","v":""},{"$f":"IF($E26=\"\",\"\",INDEX('C_Opis postrojenja'!M:M,MATCH($CJ26,'C_Opis postrojenja'!$Q:$Q,0)))","v":""},{"$f":"IF($E26=\"\",\"\",INDEX('C_Opis postrojenja'!N:N,MATCH($CJ26,'C_Opis postrojenja'!$Q:$Q,0)))","v":""},{"$f":"IF($E26=\"\",\"\",IF(INDEX('E_Tokovi izvora'!$A:$N,CN26,I$7)=\"\",\"\",INDEX('E_Tokovi izvora'!$A:$N,CN26,I$7)))","v":""},{"$f":"IF($E26=\"\",\"\",IF(INDEX('E_Tokovi izvora'!$A:$N,CO26,J$7)=\"\",\"\",INDEX('E_Tokovi izvora'!$A:$N,CO26,J$7)))","v":""},{"$f":"IF($E26=\"\",\"\",IF(INDEX('E_Tokovi izvora'!$A:$N,CP26,K$7)=\"\",\"\",INDEX('E_Tokovi izvora'!$A:$N,CP26,K$7)))","v":""},{"$f":"IF($E26=\"\",\"\",IF(INDEX('E_Tokovi izvora'!$A:$N,CQ26,L$7)=\"\",\"\",INDEX('E_Tokovi izvora'!$A:$N,CQ26,L$7)))","v":""},{"$f":"IF($E26=\"\",\"\",IF(INDEX('E_Tokovi izvora'!$A:$N,CR26,M$7)=\"\",\"\",INDEX('E_Tokovi izvora'!$A:$N,CR26,M$7)))","v":""},{"$f":"IF($E26=\"\",\"\",IF(INDEX('E_Tokovi izvora'!$A:$N,CS26,N$7)=\"\",\"\",INDEX('E_Tokovi izvora'!$A:$N,CS26,N$7)))","v":""},{"$f":"IF($E26=\"\",\"\",IF(INDEX('E_Tokovi izvora'!$A:$N,CT26,O$7)=\"\",\"\",INDEX('E_Tokovi izvora'!$A:$N,CT26,O$7)))","v":""},{"$f":"IF($E26=\"\",\"\",IF(INDEX('E_Tokovi izvora'!$A:$N,CU26,P$7)=\"\",\"\",INDEX('E_Tokovi izvora'!$A:$N,CU26,P$7)))","v":""},{"$f":"IF($E26=\"\",\"\",IF(INDEX('E_Tokovi izvora'!$A:$N,CV26,Q$7)=\"\",\"\",INDEX('E_Tokovi izvora'!$A:$N,CV26,Q$7)))","v":""},{"$f":"IF($E26=\"\",\"\",IF(INDEX('E_Tokovi izvora'!$A:$N,CW26,R$7)=\"\",\"\",INDEX('E_Tokovi izvora'!$A:$N,CW26,R$7)))","v":""},{"$f":"IF($E26=\"\",\"\",IF(INDEX('E_Tokovi izvora'!$A:$N,CX26,S$7)=\"\",\"\",INDEX('E_Tokovi izvora'!$A:$N,CX26,S$7)))","v":""},{"$f":"IF($E26=\"\",\"\",IF(INDEX('E_Tokovi izvora'!$A:$N,CY26,T$7)=\"\",\"\",INDEX('E_Tokovi izvora'!$A:$N,CY26,T$7)))","v":""},{"$f":"IF($E26=\"\",\"\",IF(INDEX('E_Tokovi izvora'!$A:$N,CZ26,U$7)=\"\",\"\",INDEX('E_Tokovi izvora'!$A:$N,CZ26,U$7)))","v":""},{"$f":"IF($E26=\"\",\"\",IF(INDEX('E_Tokovi izvora'!$A:$N,DA26,V$7)=\"\",\"\",INDEX('E_Tokovi izvora'!$A:$N,DA26,V$7)))","v":""},{"$f":"IF($E26=\"\",\"\",IF(INDEX('E_Tokovi izvora'!$A:$N,DB26,W$7)=\"\",\"\",INDEX('E_Tokovi izvora'!$A:$N,DB26,W$7)))","v":""},{"$f":"IF($E26=\"\",\"\",IF(INDEX('E_Tokovi izvora'!$A:$N,DC26,X$7)=\"\",\"\",INDEX('E_Tokovi izvora'!$A:$N,DC26,X$7)))","v":""},{"$f":"IF($E26=\"\",\"\",IF(INDEX('E_Tokovi izvora'!$A:$N,DD26,Y$7)=\"\",\"\",INDEX('E_Tokovi izvora'!$A:$N,DD26,Y$7)))","v":""},{"$f":"IF($E26=\"\",\"\",IF(INDEX('E_Tokovi izvora'!$A:$N,DE26,Z$7)=\"\",\"\",INDEX('E_Tokovi izvora'!$A:$N,DE26,Z$7)))","v":""},{"$f":"IF($E26=\"\",\"\",IF(INDEX('E_Tokovi izvora'!$A:$N,DF26,AA$7)=\"\",\"\",INDEX('E_Tokovi izvora'!$A:$N,DF26,AA$7)))","v":""},{"$f":"IF($E26=\"\",\"\",IF(INDEX('E_Tokovi izvora'!$A:$N,DG26,AB$7)=\"\",\"\",INDEX('E_Tokovi izvora'!$A:$N,DG26,AB$7)))","v":""},{"$f":"IF($E26=\"\",\"\",IF(INDEX('E_Tokovi izvora'!$A:$N,DH26,AC$7)=\"\",\"\",INDEX('E_Tokovi izvora'!$A:$N,DH26,AC$7)))","v":""},{"$f":"IF($E26=\"\",\"\",IF(INDEX('E_Tokovi izvora'!$A:$N,DI26,AD$7)=\"\",\"\",INDEX('E_Tokovi izvora'!$A:$N,DI26,AD$7)))","v":""},{"$f":"IF($E26=\"\",\"\",IF(INDEX('E_Tokovi izvora'!$A:$N,DJ26,AE$7)=\"\",\"\",INDEX('E_Tokovi izvora'!$A:$N,DJ26,AE$7)))","v":""},{"$f":"IF($E26=\"\",\"\",IF(INDEX('E_Tokovi izvora'!$A:$N,DK26,AF$7)=\"\",\"\",INDEX('E_Tokovi izvora'!$A:$N,DK26,AF$7)))","v":""},{"$f":"IF($E26=\"\",\"\",IF(INDEX('E_Tokovi izvora'!$A:$N,DL26,AG$7)=\"\",\"\",INDEX('E_Tokovi izvora'!$A:$N,DL26,AG$7)))","v":""},{"$f":"IF($E26=\"\",\"\",IF(INDEX('E_Tokovi izvora'!$A:$N,DM26,AH$7)=\"\",\"\",INDEX('E_Tokovi izvora'!$A:$N,DM26,AH$7)))","v":""},{"$f":"IF($E26=\"\",\"\",IF(INDEX('E_Tokovi izvora'!$A:$N,DN26,AI$7)=\"\",\"\",INDEX('E_Tokovi izvora'!$A:$N,DN26,AI$7)))","v":""},{"$f":"IF($E26=\"\",\"\",IF(INDEX('E_Tokovi izvora'!$A:$N,DO26,AJ$7)=\"\",\"\",INDEX('E_Tokovi izvora'!$A:$N,DO26,AJ$7)))","v":""},{"$f":"IF($E26=\"\",\"\",IF(INDEX('E_Tokovi izvora'!$A:$N,DP26,AK$7)=\"\",\"\",INDEX('E_Tokovi izvora'!$A:$N,DP26,AK$7)))","v":""},{"$f":"IF($E26=\"\",\"\",IF(INDEX('E_Tokovi izvora'!$A:$N,DQ26,AL$7)=\"\",\"\",INDEX('E_Tokovi izvora'!$A:$N,DQ26,AL$7)))","v":""},{"$f":"IF($E26=\"\",\"\",IF(INDEX('E_Tokovi izvora'!$A:$N,DR26,AM$7)=\"\",\"\",INDEX('E_Tokovi izvora'!$A:$N,DR26,AM$7)))","v":""},{"$f":"IF($E26=\"\",\"\",IF(INDEX('E_Tokovi izvora'!$A:$N,DS26,AN$7)=\"\",\"\",INDEX('E_Tokovi izvora'!$A:$N,DS26,AN$7)))","v":""},{"$f":"IF($E26=\"\",\"\",IF(INDEX('E_Tokovi izvora'!$A:$N,DT26,AO$7)=\"\",\"\",INDEX('E_Tokovi izvora'!$A:$N,DT26,AO$7)))","v":""},{"$f":"IF($E26=\"\",\"\",IF(INDEX('E_Tokovi izvora'!$A:$N,DU26,AP$7)=\"\",\"\",INDEX('E_Tokovi izvora'!$A:$N,DU26,AP$7)))","v":""},{"$f":"IF($E26=\"\",\"\",IF(INDEX('E_Tokovi izvora'!$A:$N,DV26,AQ$7)=\"\",\"\",INDEX('E_Tokovi izvora'!$A:$N,DV26,AQ$7)))","v":""},{"$f":"IF($E26=\"\",\"\",IF(INDEX('E_Tokovi izvora'!$A:$N,DW26,AR$7)=\"\",\"\",INDEX('E_Tokovi izvora'!$A:$N,DW26,AR$7)))","v":""},{"$f":"IF($E26=\"\",\"\",IF(INDEX('E_Tokovi izvora'!$A:$N,DX26,AS$7)=\"\",\"\",INDEX('E_Tokovi izvora'!$A:$N,DX26,AS$7)))","v":""},{"$f":"IF($E26=\"\",\"\",IF(INDEX('E_Tokovi izvora'!$A:$N,DY26,AT$7)=\"\",\"\",INDEX('E_Tokovi izvora'!$A:$N,DY26,AT$7)))","v":""},{"$f":"IF($E26=\"\",\"\",IF(INDEX('E_Tokovi izvora'!$A:$N,DZ26,AU$7)=\"\",\"\",INDEX('E_Tokovi izvora'!$A:$N,DZ26,AU$7)))","v":""},{"$f":"IF($E26=\"\",\"\",IF(INDEX('E_Tokovi izvora'!$A:$N,EA26,AV$7)=\"\",\"\",INDEX('E_Tokovi izvora'!$A:$N,EA26,AV$7)))","v":""},{"$f":"IF($E26=\"\",\"\",IF(INDEX('E_Tokovi izvora'!$A:$N,EB26,AW$7)=\"\",\"\",INDEX('E_Tokovi izvora'!$A:$N,EB26,AW$7)))","v":""},{"$f":"IF($E26=\"\",\"\",IF(INDEX('E_Tokovi izvora'!$A:$N,EC26,AX$7)=\"\",\"\",INDEX('E_Tokovi izvora'!$A:$N,EC26,AX$7)))","v":""},{"$f":"IF($E26=\"\",\"\",IF(INDEX('E_Tokovi izvora'!$A:$N,ED26,AY$7)=\"\",\"\",INDEX('E_Tokovi izvora'!$A:$N,ED26,AY$7)))","v":""},{"$f":"IF($E26=\"\",\"\",IF(INDEX('E_Tokovi izvora'!$A:$N,EE26,AZ$7)=\"\",\"\",INDEX('E_Tokovi izvora'!$A:$N,EE26,AZ$7)))","v":""},{"$f":"IF($E26=\"\",\"\",IF(INDEX('E_Tokovi izvora'!$A:$N,EF26,BA$7)=\"\",\"\",INDEX('E_Tokovi izvora'!$A:$N,EF26,BA$7)))","v":""},{"$f":"IF($E26=\"\",\"\",IF(INDEX('E_Tokovi izvora'!$A:$N,EG26,BB$7)=\"\",\"\",INDEX('E_Tokovi izvora'!$A:$N,EG26,BB$7)))","v":""},{"$f":"IF($E26=\"\",\"\",IF(INDEX('E_Tokovi izvora'!$A:$N,EH26,BC$7)=\"\",\"\",INDEX('E_Tokovi izvora'!$A:$N,EH26,BC$7)))","v":""},{"$f":"IF($E26=\"\",\"\",IF(INDEX('E_Tokovi izvora'!$A:$N,EI26,BD$7)=\"\",\"\",INDEX('E_Tokovi izvora'!$A:$N,EI26,BD$7)))","v":""},{"$f":"IF($E26=\"\",\"\",IF(INDEX('E_Tokovi izvora'!$A:$N,EJ26,BE$7)=\"\",\"\",INDEX('E_Tokovi izvora'!$A:$N,EJ26,BE$7)))","v":""},{"$f":"IF($E26=\"\",\"\",IF(INDEX('E_Tokovi izvora'!$A:$N,EK26,BF$7)=\"\",\"\",INDEX('E_Tokovi izvora'!$A:$N,EK26,BF$7)))","v":""},{"$f":"IF($E26=\"\",\"\",IF(INDEX('E_Tokovi izvora'!$A:$N,EL26,BG$7)=\"\",\"\",INDEX('E_Tokovi izvora'!$A:$N,EL26,BG$7)))","v":""},{"$f":"IF($E26=\"\",\"\",IF(INDEX('E_Tokovi izvora'!$A:$N,EM26,BH$7)=\"\",\"\",INDEX('E_Tokovi izvora'!$A:$N,EM26,BH$7)))","v":""},{"$f":"IF($E26=\"\",\"\",IF(INDEX('E_Tokovi izvora'!$A:$N,EN26,BI$7)=\"\",\"\",INDEX('E_Tokovi izvora'!$A:$N,EN26,BI$7)))","v":""},{"$f":"IF($E26=\"\",\"\",IF(INDEX('E_Tokovi izvora'!$A:$N,EO26,BJ$7)=\"\",\"\",INDEX('E_Tokovi izvora'!$A:$N,EO26,BJ$7)))","v":""},{"$f":"IF($E26=\"\",\"\",IF(INDEX('E_Tokovi izvora'!$A:$N,EP26,BK$7)=\"\",\"\",INDEX('E_Tokovi izvora'!$A:$N,EP26,BK$7)))","v":""},{"$f":"IF($E26=\"\",\"\",IF(INDEX('E_Tokovi izvora'!$A:$N,EQ26,BL$7)=\"\",\"\",INDEX('E_Tokovi izvora'!$A:$N,EQ26,BL$7)))","v":""},{"$f":"IF($E26=\"\",\"\",IF(INDEX('E_Tokovi izvora'!$A:$N,ER26,BM$7)=\"\",\"\",INDEX('E_Tokovi izvora'!$A:$N,ER26,BM$7)))","v":""},{"$f":"IF($E26=\"\",\"\",IF(INDEX('E_Tokovi izvora'!$A:$N,ES26,BN$7)=\"\",\"\",INDEX('E_Tokovi izvora'!$A:$N,ES26,BN$7)))","v":""},{"$f":"IF($E26=\"\",\"\",IF(INDEX('E_Tokovi izvora'!$A:$N,ET26,BO$7)=\"\",\"\",INDEX('E_Tokovi izvora'!$A:$N,ET26,BO$7)))","v":""},{"$f":"IF($E26=\"\",\"\",IF(INDEX('E_Tokovi izvora'!$A:$N,EU26,BP$7)=\"\",\"\",INDEX('E_Tokovi izvora'!$A:$N,EU26,BP$7)))","v":""},{"$f":"IF($E26=\"\",\"\",IF(INDEX('E_Tokovi izvora'!$A:$N,EV26,BQ$7)=\"\",\"\",INDEX('E_Tokovi izvora'!$A:$N,EV26,BQ$7)))","v":""},{"$f":"IF($E26=\"\",\"\",IF(INDEX('E_Tokovi izvora'!$A:$N,EW26,BR$7)=\"\",\"\",INDEX('E_Tokovi izvora'!$A:$N,EW26,BR$7)))","v":""},{"$f":"IF($E26=\"\",\"\",IF(INDEX('E_Tokovi izvora'!$A:$N,EX26,BS$7)=\"\",\"\",INDEX('E_Tokovi izvora'!$A:$N,EX26,BS$7)))","v":""},{"$f":"IF($E26=\"\",\"\",IF(INDEX('E_Tokovi izvora'!$A:$N,EY26,BT$7)=\"\",\"\",INDEX('E_Tokovi izvora'!$A:$N,EY26,BT$7)))","v":""},null,null,null,null,null,null,null,null,null,null,null,null,null,null,null,"SourceCategory_",{"$f":"INDEX('C_Opis postrojenja'!$A$226:$A$332,ROWS($CI$11:CI26))=\"ausblenden\"","v":false},"SourceStreamName_",null,1123,1125,1127,1129,1131,1133,1135,1135,1135,1135,1135,1138,1142,1143,1144,1151,1161,1161,1161,1161,1161,1161,1161,1152,1162,1162,1162,1162,1162,1162,1162,1153,1163,1163,1163,1163,1163,1163,1163,1154,1164,1164,1164,1164,1164,1164,1164,1155,1165,1165,1165,1165,1165,1165,1165,1156,1166,1166,1166,1166,1166,1166,1166,1172]
[null,{"$f":"IF(COUNTIF($CK$10:CK27,TRUE)>0,\"\",INDEX('C_Opis postrojenja'!$E$226:$E$242,ROWS($A$11:A27)))","v":""},{"$f":"IF($E27=\"\",\"\",INDEX('C_Opis postrojenja'!F:F,MATCH($B27,'C_Opis postrojenja'!$E:$E,0)))","v":""},{"$f":"IF($E27=\"\",\"\",INDEX('C_Opis postrojenja'!I:I,MATCH($B27,'C_Opis postrojenja'!$E:$E,0)))","v":""},{"$f":"IF($B27=\"\",\"\",INDEX('C_Opis postrojenja'!F:F,MATCH($CJ27,'C_Opis postrojenja'!$Q:$Q,0)))","v":""},{"$f":"IF($E27=\"\",\"\",INDEX('C_Opis postrojenja'!L:L,MATCH($CJ27,'C_Opis postrojenja'!$Q:$Q,0)))","v":""},{"$f":"IF($E27=\"\",\"\",INDEX('C_Opis postrojenja'!M:M,MATCH($CJ27,'C_Opis postrojenja'!$Q:$Q,0)))","v":""},{"$f":"IF($E27=\"\",\"\",INDEX('C_Opis postrojenja'!N:N,MATCH($CJ27,'C_Opis postrojenja'!$Q:$Q,0)))","v":""},{"$f":"IF($E27=\"\",\"\",IF(INDEX('E_Tokovi izvora'!$A:$N,CN27,I$7)=\"\",\"\",INDEX('E_Tokovi izvora'!$A:$N,CN27,I$7)))","v":""},{"$f":"IF($E27=\"\",\"\",IF(INDEX('E_Tokovi izvora'!$A:$N,CO27,J$7)=\"\",\"\",INDEX('E_Tokovi izvora'!$A:$N,CO27,J$7)))","v":""},{"$f":"IF($E27=\"\",\"\",IF(INDEX('E_Tokovi izvora'!$A:$N,CP27,K$7)=\"\",\"\",INDEX('E_Tokovi izvora'!$A:$N,CP27,K$7)))","v":""},{"$f":"IF($E27=\"\",\"\",IF(INDEX('E_Tokovi izvora'!$A:$N,CQ27,L$7)=\"\",\"\",INDEX('E_Tokovi izvora'!$A:$N,CQ27,L$7)))","v":""},{"$f":"IF($E27=\"\",\"\",IF(INDEX('E_Tokovi izvora'!$A:$N,CR27,M$7)=\"\",\"\",INDEX('E_Tokovi izvora'!$A:$N,CR27,M$7)))","v":""},{"$f":"IF($E27=\"\",\"\",IF(INDEX('E_Tokovi izvora'!$A:$N,CS27,N$7)=\"\",\"\",INDEX('E_Tokovi izvora'!$A:$N,CS27,N$7)))","v":""},{"$f":"IF($E27=\"\",\"\",IF(INDEX('E_Tokovi izvora'!$A:$N,CT27,O$7)=\"\",\"\",INDEX('E_Tokovi izvora'!$A:$N,CT27,O$7)))","v":""},{"$f":"IF($E27=\"\",\"\",IF(INDEX('E_Tokovi izvora'!$A:$N,CU27,P$7)=\"\",\"\",INDEX('E_Tokovi izvora'!$A:$N,CU27,P$7)))","v":""},{"$f":"IF($E27=\"\",\"\",IF(INDEX('E_Tokovi izvora'!$A:$N,CV27,Q$7)=\"\",\"\",INDEX('E_Tokovi izvora'!$A:$N,CV27,Q$7)))","v":""},{"$f":"IF($E27=\"\",\"\",IF(INDEX('E_Tokovi izvora'!$A:$N,CW27,R$7)=\"\",\"\",INDEX('E_Tokovi izvora'!$A:$N,CW27,R$7)))","v":""},{"$f":"IF($E27=\"\",\"\",IF(INDEX('E_Tokovi izvora'!$A:$N,CX27,S$7)=\"\",\"\",INDEX('E_Tokovi izvora'!$A:$N,CX27,S$7)))","v":""},{"$f":"IF($E27=\"\",\"\",IF(INDEX('E_Tokovi izvora'!$A:$N,CY27,T$7)=\"\",\"\",INDEX('E_Tokovi izvora'!$A:$N,CY27,T$7)))","v":""},{"$f":"IF($E27=\"\",\"\",IF(INDEX('E_Tokovi izvora'!$A:$N,CZ27,U$7)=\"\",\"\",INDEX('E_Tokovi izvora'!$A:$N,CZ27,U$7)))","v":""},{"$f":"IF($E27=\"\",\"\",IF(INDEX('E_Tokovi izvora'!$A:$N,DA27,V$7)=\"\",\"\",INDEX('E_Tokovi izvora'!$A:$N,DA27,V$7)))","v":""},{"$f":"IF($E27=\"\",\"\",IF(INDEX('E_Tokovi izvora'!$A:$N,DB27,W$7)=\"\",\"\",INDEX('E_Tokovi izvora'!$A:$N,DB27,W$7)))","v":""},{"$f":"IF($E27=\"\",\"\",IF(INDEX('E_Tokovi izvora'!$A:$N,DC27,X$7)=\"\",\"\",INDEX('E_Tokovi izvora'!$A:$N,DC27,X$7)))","v":""},{"$f":"IF($E27=\"\",\"\",IF(INDEX('E_Tokovi izvora'!$A:$N,DD27,Y$7)=\"\",\"\",INDEX('E_Tokovi izvora'!$A:$N,DD27,Y$7)))","v":""},{"$f":"IF($E27=\"\",\"\",IF(INDEX('E_Tokovi izvora'!$A:$N,DE27,Z$7)=\"\",\"\",INDEX('E_Tokovi izvora'!$A:$N,DE27,Z$7)))","v":""},{"$f":"IF($E27=\"\",\"\",IF(INDEX('E_Tokovi izvora'!$A:$N,DF27,AA$7)=\"\",\"\",INDEX('E_Tokovi izvora'!$A:$N,DF27,AA$7)))","v":""},{"$f":"IF($E27=\"\",\"\",IF(INDEX('E_Tokovi izvora'!$A:$N,DG27,AB$7)=\"\",\"\",INDEX('E_Tokovi izvora'!$A:$N,DG27,AB$7)))","v":""},{"$f":"IF($E27=\"\",\"\",IF(INDEX('E_Tokovi izvora'!$A:$N,DH27,AC$7)=\"\",\"\",INDEX('E_Tokovi izvora'!$A:$N,DH27,AC$7)))","v":""},{"$f":"IF($E27=\"\",\"\",IF(INDEX('E_Tokovi izvora'!$A:$N,DI27,AD$7)=\"\",\"\",INDEX('E_Tokovi izvora'!$A:$N,DI27,AD$7)))","v":""},{"$f":"IF($E27=\"\",\"\",IF(INDEX('E_Tokovi izvora'!$A:$N,DJ27,AE$7)=\"\",\"\",INDEX('E_Tokovi izvora'!$A:$N,DJ27,AE$7)))","v":""},{"$f":"IF($E27=\"\",\"\",IF(INDEX('E_Tokovi izvora'!$A:$N,DK27,AF$7)=\"\",\"\",INDEX('E_Tokovi izvora'!$A:$N,DK27,AF$7)))","v":""},{"$f":"IF($E27=\"\",\"\",IF(INDEX('E_Tokovi izvora'!$A:$N,DL27,AG$7)=\"\",\"\",INDEX('E_Tokovi izvora'!$A:$N,DL27,AG$7)))","v":""},{"$f":"IF($E27=\"\",\"\",IF(INDEX('E_Tokovi izvora'!$A:$N,DM27,AH$7)=\"\",\"\",INDEX('E_Tokovi izvora'!$A:$N,DM27,AH$7)))","v":""},{"$f":"IF($E27=\"\",\"\",IF(INDEX('E_Tokovi izvora'!$A:$N,DN27,AI$7)=\"\",\"\",INDEX('E_Tokovi izvora'!$A:$N,DN27,AI$7)))","v":""},{"$f":"IF($E27=\"\",\"\",IF(INDEX('E_Tokovi izvora'!$A:$N,DO27,AJ$7)=\"\",\"\",INDEX('E_Tokovi izvora'!$A:$N,DO27,AJ$7)))","v":""},{"$f":"IF($E27=\"\",\"\",IF(INDEX('E_Tokovi izvora'!$A:$N,DP27,AK$7)=\"\",\"\",INDEX('E_Tokovi izvora'!$A:$N,DP27,AK$7)))","v":""},{"$f":"IF($E27=\"\",\"\",IF(INDEX('E_Tokovi izvora'!$A:$N,DQ27,AL$7)=\"\",\"\",INDEX('E_Tokovi izvora'!$A:$N,DQ27,AL$7)))","v":""},{"$f":"IF($E27=\"\",\"\",IF(INDEX('E_Tokovi izvora'!$A:$N,DR27,AM$7)=\"\",\"\",INDEX('E_Tokovi izvora'!$A:$N,DR27,AM$7)))","v":""},{"$f":"IF($E27=\"\",\"\",IF(INDEX('E_Tokovi izvora'!$A:$N,DS27,AN$7)=\"\",\"\",INDEX('E_Tokovi izvora'!$A:$N,DS27,AN$7)))","v":""},{"$f":"IF($E27=\"\",\"\",IF(INDEX('E_Tokovi izvora'!$A:$N,DT27,AO$7)=\"\",\"\",INDEX('E_Tokovi izvora'!$A:$N,DT27,AO$7)))","v":""},{"$f":"IF($E27=\"\",\"\",IF(INDEX('E_Tokovi izvora'!$A:$N,DU27,AP$7)=\"\",\"\",INDEX('E_Tokovi izvora'!$A:$N,DU27,AP$7)))","v":""},{"$f":"IF($E27=\"\",\"\",IF(INDEX('E_Tokovi izvora'!$A:$N,DV27,AQ$7)=\"\",\"\",INDEX('E_Tokovi izvora'!$A:$N,DV27,AQ$7)))","v":""},{"$f":"IF($E27=\"\",\"\",IF(INDEX('E_Tokovi izvora'!$A:$N,DW27,AR$7)=\"\",\"\",INDEX('E_Tokovi izvora'!$A:$N,DW27,AR$7)))","v":""},{"$f":"IF($E27=\"\",\"\",IF(INDEX('E_Tokovi izvora'!$A:$N,DX27,AS$7)=\"\",\"\",INDEX('E_Tokovi izvora'!$A:$N,DX27,AS$7)))","v":""},{"$f":"IF($E27=\"\",\"\",IF(INDEX('E_Tokovi izvora'!$A:$N,DY27,AT$7)=\"\",\"\",INDEX('E_Tokovi izvora'!$A:$N,DY27,AT$7)))","v":""},{"$f":"IF($E27=\"\",\"\",IF(INDEX('E_Tokovi izvora'!$A:$N,DZ27,AU$7)=\"\",\"\",INDEX('E_Tokovi izvora'!$A:$N,DZ27,AU$7)))","v":""},{"$f":"IF($E27=\"\",\"\",IF(INDEX('E_Tokovi izvora'!$A:$N,EA27,AV$7)=\"\",\"\",INDEX('E_Tokovi izvora'!$A:$N,EA27,AV$7)))","v":""},{"$f":"IF($E27=\"\",\"\",IF(INDEX('E_Tokovi izvora'!$A:$N,EB27,AW$7)=\"\",\"\",INDEX('E_Tokovi izvora'!$A:$N,EB27,AW$7)))","v":""},{"$f":"IF($E27=\"\",\"\",IF(INDEX('E_Tokovi izvora'!$A:$N,EC27,AX$7)=\"\",\"\",INDEX('E_Tokovi izvora'!$A:$N,EC27,AX$7)))","v":""},{"$f":"IF($E27=\"\",\"\",IF(INDEX('E_Tokovi izvora'!$A:$N,ED27,AY$7)=\"\",\"\",INDEX('E_Tokovi izvora'!$A:$N,ED27,AY$7)))","v":""},{"$f":"IF($E27=\"\",\"\",IF(INDEX('E_Tokovi izvora'!$A:$N,EE27,AZ$7)=\"\",\"\",INDEX('E_Tokovi izvora'!$A:$N,EE27,AZ$7)))","v":""},{"$f":"IF($E27=\"\",\"\",IF(INDEX('E_Tokovi izvora'!$A:$N,EF27,BA$7)=\"\",\"\",INDEX('E_Tokovi izvora'!$A:$N,EF27,BA$7)))","v":""},{"$f":"IF($E27=\"\",\"\",IF(INDEX('E_Tokovi izvora'!$A:$N,EG27,BB$7)=\"\",\"\",INDEX('E_Tokovi izvora'!$A:$N,EG27,BB$7)))","v":""},{"$f":"IF($E27=\"\",\"\",IF(INDEX('E_Tokovi izvora'!$A:$N,EH27,BC$7)=\"\",\"\",INDEX('E_Tokovi izvora'!$A:$N,EH27,BC$7)))","v":""},{"$f":"IF($E27=\"\",\"\",IF(INDEX('E_Tokovi izvora'!$A:$N,EI27,BD$7)=\"\",\"\",INDEX('E_Tokovi izvora'!$A:$N,EI27,BD$7)))","v":""},{"$f":"IF($E27=\"\",\"\",IF(INDEX('E_Tokovi izvora'!$A:$N,EJ27,BE$7)=\"\",\"\",INDEX('E_Tokovi izvora'!$A:$N,EJ27,BE$7)))","v":""},{"$f":"IF($E27=\"\",\"\",IF(INDEX('E_Tokovi izvora'!$A:$N,EK27,BF$7)=\"\",\"\",INDEX('E_Tokovi izvora'!$A:$N,EK27,BF$7)))","v":""},{"$f":"IF($E27=\"\",\"\",IF(INDEX('E_Tokovi izvora'!$A:$N,EL27,BG$7)=\"\",\"\",INDEX('E_Tokovi izvora'!$A:$N,EL27,BG$7)))","v":""},{"$f":"IF($E27=\"\",\"\",IF(INDEX('E_Tokovi izvora'!$A:$N,EM27,BH$7)=\"\",\"\",INDEX('E_Tokovi izvora'!$A:$N,EM27,BH$7)))","v":""},{"$f":"IF($E27=\"\",\"\",IF(INDEX('E_Tokovi izvora'!$A:$N,EN27,BI$7)=\"\",\"\",INDEX('E_Tokovi izvora'!$A:$N,EN27,BI$7)))","v":""},{"$f":"IF($E27=\"\",\"\",IF(INDEX('E_Tokovi izvora'!$A:$N,EO27,BJ$7)=\"\",\"\",INDEX('E_Tokovi izvora'!$A:$N,EO27,BJ$7)))","v":""},{"$f":"IF($E27=\"\",\"\",IF(INDEX('E_Tokovi izvora'!$A:$N,EP27,BK$7)=\"\",\"\",INDEX('E_Tokovi izvora'!$A:$N,EP27,BK$7)))","v":""},{"$f":"IF($E27=\"\",\"\",IF(INDEX('E_Tokovi izvora'!$A:$N,EQ27,BL$7)=\"\",\"\",INDEX('E_Tokovi izvora'!$A:$N,EQ27,BL$7)))","v":""},{"$f":"IF($E27=\"\",\"\",IF(INDEX('E_Tokovi izvora'!$A:$N,ER27,BM$7)=\"\",\"\",INDEX('E_Tokovi izvora'!$A:$N,ER27,BM$7)))","v":""},{"$f":"IF($E27=\"\",\"\",IF(INDEX('E_Tokovi izvora'!$A:$N,ES27,BN$7)=\"\",\"\",INDEX('E_Tokovi izvora'!$A:$N,ES27,BN$7)))","v":""},{"$f":"IF($E27=\"\",\"\",IF(INDEX('E_Tokovi izvora'!$A:$N,ET27,BO$7)=\"\",\"\",INDEX('E_Tokovi izvora'!$A:$N,ET27,BO$7)))","v":""},{"$f":"IF($E27=\"\",\"\",IF(INDEX('E_Tokovi izvora'!$A:$N,EU27,BP$7)=\"\",\"\",INDEX('E_Tokovi izvora'!$A:$N,EU27,BP$7)))","v":""},{"$f":"IF($E27=\"\",\"\",IF(INDEX('E_Tokovi izvora'!$A:$N,EV27,BQ$7)=\"\",\"\",INDEX('E_Tokovi izvora'!$A:$N,EV27,BQ$7)))","v":""},{"$f":"IF($E27=\"\",\"\",IF(INDEX('E_Tokovi izvora'!$A:$N,EW27,BR$7)=\"\",\"\",INDEX('E_Tokovi izvora'!$A:$N,EW27,BR$7)))","v":""},{"$f":"IF($E27=\"\",\"\",IF(INDEX('E_Tokovi izvora'!$A:$N,EX27,BS$7)=\"\",\"\",INDEX('E_Tokovi izvora'!$A:$N,EX27,BS$7)))","v":""},{"$f":"IF($E27=\"\",\"\",IF(INDEX('E_Tokovi izvora'!$A:$N,EY27,BT$7)=\"\",\"\",INDEX('E_Tokovi izvora'!$A:$N,EY27,BT$7)))","v":""},null,null,null,null,null,null,null,null,null,null,null,null,null,null,null,"SourceCategory_",{"$f":"INDEX('C_Opis postrojenja'!$A$226:$A$332,ROWS($CI$11:CI27))=\"ausblenden\"","v":false},"SourceStreamName_",null,1189,1191,1193,1195,1197,1199,1201,1201,1201,1201,1201,1204,1208,1209,1210,1217,1227,1227,1227,1227,1227,1227,1227,1218,1228,1228,1228,1228,1228,1228,1228,1219,1229,1229,1229,1229,1229,1229,1229,1220,1230,1230,1230,1230,1230,1230,1230,1221,1231,1231,1231,1231,1231,1231,1231,1222,1232,1232,1232,1232,1232,1232,1232,1238]
[null,{"$f":"IF(COUNTIF($CK$10:CK28,TRUE)>0,\"\",INDEX('C_Opis postrojenja'!$E$226:$E$242,ROWS($A$11:A28)))","v":""},{"$f":"IF($E28=\"\",\"\",INDEX('C_Opis postrojenja'!F:F,MATCH($B28,'C_Opis postrojenja'!$E:$E,0)))","v":""},{"$f":"IF($E28=\"\",\"\",INDEX('C_Opis postrojenja'!I:I,MATCH($B28,'C_Opis postrojenja'!$E:$E,0)))","v":""},{"$f":"IF($B28=\"\",\"\",INDEX('C_Opis postrojenja'!F:F,MATCH($CJ28,'C_Opis postrojenja'!$Q:$Q,0)))","v":""},{"$f":"IF($E28=\"\",\"\",INDEX('C_Opis postrojenja'!L:L,MATCH($CJ28,'C_Opis postrojenja'!$Q:$Q,0)))","v":""},{"$f":"IF($E28=\"\",\"\",INDEX('C_Opis postrojenja'!M:M,MATCH($CJ28,'C_Opis postrojenja'!$Q:$Q,0)))","v":""},{"$f":"IF($E28=\"\",\"\",INDEX('C_Opis postrojenja'!N:N,MATCH($CJ28,'C_Opis postrojenja'!$Q:$Q,0)))","v":""},{"$f":"IF($E28=\"\",\"\",IF(INDEX('E_Tokovi izvora'!$A:$N,CN28,I$7)=\"\",\"\",INDEX('E_Tokovi izvora'!$A:$N,CN28,I$7)))","v":""},{"$f":"IF($E28=\"\",\"\",IF(INDEX('E_Tokovi izvora'!$A:$N,CO28,J$7)=\"\",\"\",INDEX('E_Tokovi izvora'!$A:$N,CO28,J$7)))","v":""},{"$f":"IF($E28=\"\",\"\",IF(INDEX('E_Tokovi izvora'!$A:$N,CP28,K$7)=\"\",\"\",INDEX('E_Tokovi izvora'!$A:$N,CP28,K$7)))","v":""},{"$f":"IF($E28=\"\",\"\",IF(INDEX('E_Tokovi izvora'!$A:$N,CQ28,L$7)=\"\",\"\",INDEX('E_Tokovi izvora'!$A:$N,CQ28,L$7)))","v":""},{"$f":"IF($E28=\"\",\"\",IF(INDEX('E_Tokovi izvora'!$A:$N,CR28,M$7)=\"\",\"\",INDEX('E_Tokovi izvora'!$A:$N,CR28,M$7)))","v":""},{"$f":"IF($E28=\"\",\"\",IF(INDEX('E_Tokovi izvora'!$A:$N,CS28,N$7)=\"\",\"\",INDEX('E_Tokovi izvora'!$A:$N,CS28,N$7)))","v":""},{"$f":"IF($E28=\"\",\"\",IF(INDEX('E_Tokovi izvora'!$A:$N,CT28,O$7)=\"\",\"\",INDEX('E_Tokovi izvora'!$A:$N,CT28,O$7)))","v":""},{"$f":"IF($E28=\"\",\"\",IF(INDEX('E_Tokovi izvora'!$A:$N,CU28,P$7)=\"\",\"\",INDEX('E_Tokovi izvora'!$A:$N,CU28,P$7)))","v":""},{"$f":"IF($E28=\"\",\"\",IF(INDEX('E_Tokovi izvora'!$A:$N,CV28,Q$7)=\"\",\"\",INDEX('E_Tokovi izvora'!$A:$N,CV28,Q$7)))","v":""},{"$f":"IF($E28=\"\",\"\",IF(INDEX('E_Tokovi izvora'!$A:$N,CW28,R$7)=\"\",\"\",INDEX('E_Tokovi izvora'!$A:$N,CW28,R$7)))","v":""},{"$f":"IF($E28=\"\",\"\",IF(INDEX('E_Tokovi izvora'!$A:$N,CX28,S$7)=\"\",\"\",INDEX('E_Tokovi izvora'!$A:$N,CX28,S$7)))","v":""},{"$f":"IF($E28=\"\",\"\",IF(INDEX('E_Tokovi izvora'!$A:$N,CY28,T$7)=\"\",\"\",INDEX('E_Tokovi izvora'!$A:$N,CY28,T$7)))","v":""},{"$f":"IF($E28=\"\",\"\",IF(INDEX('E_Tokovi izvora'!$A:$N,CZ28,U$7)=\"\",\"\",INDEX('E_Tokovi izvora'!$A:$N,CZ28,U$7)))","v":""},{"$f":"IF($E28=\"\",\"\",IF(INDEX('E_Tokovi izvora'!$A:$N,DA28,V$7)=\"\",\"\",INDEX('E_Tokovi izvora'!$A:$N,DA28,V$7)))","v":""},{"$f":"IF($E28=\"\",\"\",IF(INDEX('E_Tokovi izvora'!$A:$N,DB28,W$7)=\"\",\"\",INDEX('E_Tokovi izvora'!$A:$N,DB28,W$7)))","v":""},{"$f":"IF($E28=\"\",\"\",IF(INDEX('E_Tokovi izvora'!$A:$N,DC28,X$7)=\"\",\"\",INDEX('E_Tokovi izvora'!$A:$N,DC28,X$7)))","v":""},{"$f":"IF($E28=\"\",\"\",IF(INDEX('E_Tokovi izvora'!$A:$N,DD28,Y$7)=\"\",\"\",INDEX('E_Tokovi izvora'!$A:$N,DD28,Y$7)))","v":""},{"$f":"IF($E28=\"\",\"\",IF(INDEX('E_Tokovi izvora'!$A:$N,DE28,Z$7)=\"\",\"\",INDEX('E_Tokovi izvora'!$A:$N,DE28,Z$7)))","v":""},{"$f":"IF($E28=\"\",\"\",IF(INDEX('E_Tokovi izvora'!$A:$N,DF28,AA$7)=\"\",\"\",INDEX('E_Tokovi izvora'!$A:$N,DF28,AA$7)))","v":""},{"$f":"IF($E28=\"\",\"\",IF(INDEX('E_Tokovi izvora'!$A:$N,DG28,AB$7)=\"\",\"\",INDEX('E_Tokovi izvora'!$A:$N,DG28,AB$7)))","v":""},{"$f":"IF($E28=\"\",\"\",IF(INDEX('E_Tokovi izvora'!$A:$N,DH28,AC$7)=\"\",\"\",INDEX('E_Tokovi izvora'!$A:$N,DH28,AC$7)))","v":""},{"$f":"IF($E28=\"\",\"\",IF(INDEX('E_Tokovi izvora'!$A:$N,DI28,AD$7)=\"\",\"\",INDEX('E_Tokovi izvora'!$A:$N,DI28,AD$7)))","v":""},{"$f":"IF($E28=\"\",\"\",IF(INDEX('E_Tokovi izvora'!$A:$N,DJ28,AE$7)=\"\",\"\",INDEX('E_Tokovi izvora'!$A:$N,DJ28,AE$7)))","v":""},{"$f":"IF($E28=\"\",\"\",IF(INDEX('E_Tokovi izvora'!$A:$N,DK28,AF$7)=\"\",\"\",INDEX('E_Tokovi izvora'!$A:$N,DK28,AF$7)))","v":""},{"$f":"IF($E28=\"\",\"\",IF(INDEX('E_Tokovi izvora'!$A:$N,DL28,AG$7)=\"\",\"\",INDEX('E_Tokovi izvora'!$A:$N,DL28,AG$7)))","v":""},{"$f":"IF($E28=\"\",\"\",IF(INDEX('E_Tokovi izvora'!$A:$N,DM28,AH$7)=\"\",\"\",INDEX('E_Tokovi izvora'!$A:$N,DM28,AH$7)))","v":""},{"$f":"IF($E28=\"\",\"\",IF(INDEX('E_Tokovi izvora'!$A:$N,DN28,AI$7)=\"\",\"\",INDEX('E_Tokovi izvora'!$A:$N,DN28,AI$7)))","v":""},{"$f":"IF($E28=\"\",\"\",IF(INDEX('E_Tokovi izvora'!$A:$N,DO28,AJ$7)=\"\",\"\",INDEX('E_Tokovi izvora'!$A:$N,DO28,AJ$7)))","v":""},{"$f":"IF($E28=\"\",\"\",IF(INDEX('E_Tokovi izvora'!$A:$N,DP28,AK$7)=\"\",\"\",INDEX('E_Tokovi izvora'!$A:$N,DP28,AK$7)))","v":""},{"$f":"IF($E28=\"\",\"\",IF(INDEX('E_Tokovi izvora'!$A:$N,DQ28,AL$7)=\"\",\"\",INDEX('E_Tokovi izvora'!$A:$N,DQ28,AL$7)))","v":""},{"$f":"IF($E28=\"\",\"\",IF(INDEX('E_Tokovi izvora'!$A:$N,DR28,AM$7)=\"\",\"\",INDEX('E_Tokovi izvora'!$A:$N,DR28,AM$7)))","v":""},{"$f":"IF($E28=\"\",\"\",IF(INDEX('E_Tokovi izvora'!$A:$N,DS28,AN$7)=\"\",\"\",INDEX('E_Tokovi izvora'!$A:$N,DS28,AN$7)))","v":""},{"$f":"IF($E28=\"\",\"\",IF(INDEX('E_Tokovi izvora'!$A:$N,DT28,AO$7)=\"\",\"\",INDEX('E_Tokovi izvora'!$A:$N,DT28,AO$7)))","v":""},{"$f":"IF($E28=\"\",\"\",IF(INDEX('E_Tokovi izvora'!$A:$N,DU28,AP$7)=\"\",\"\",INDEX('E_Tokovi izvora'!$A:$N,DU28,AP$7)))","v":""},{"$f":"IF($E28=\"\",\"\",IF(INDEX('E_Tokovi izvora'!$A:$N,DV28,AQ$7)=\"\",\"\",INDEX('E_Tokovi izvora'!$A:$N,DV28,AQ$7)))","v":""},{"$f":"IF($E28=\"\",\"\",IF(INDEX('E_Tokovi izvora'!$A:$N,DW28,AR$7)=\"\",\"\",INDEX('E_Tokovi izvora'!$A:$N,DW28,AR$7)))","v":""},{"$f":"IF($E28=\"\",\"\",IF(INDEX('E_Tokovi izvora'!$A:$N,DX28,AS$7)=\"\",\"\",INDEX('E_Tokovi izvora'!$A:$N,DX28,AS$7)))","v":""},{"$f":"IF($E28=\"\",\"\",IF(INDEX('E_Tokovi izvora'!$A:$N,DY28,AT$7)=\"\",\"\",INDEX('E_Tokovi izvora'!$A:$N,DY28,AT$7)))","v":""},{"$f":"IF($E28=\"\",\"\",IF(INDEX('E_Tokovi izvora'!$A:$N,DZ28,AU$7)=\"\",\"\",INDEX('E_Tokovi izvora'!$A:$N,DZ28,AU$7)))","v":""},{"$f":"IF($E28=\"\",\"\",IF(INDEX('E_Tokovi izvora'!$A:$N,EA28,AV$7)=\"\",\"\",INDEX('E_Tokovi izvora'!$A:$N,EA28,AV$7)))","v":""},{"$f":"IF($E28=\"\",\"\",IF(INDEX('E_Tokovi izvora'!$A:$N,EB28,AW$7)=\"\",\"\",INDEX('E_Tokovi izvora'!$A:$N,EB28,AW$7)))","v":""},{"$f":"IF($E28=\"\",\"\",IF(INDEX('E_Tokovi izvora'!$A:$N,EC28,AX$7)=\"\",\"\",INDEX('E_Tokovi izvora'!$A:$N,EC28,AX$7)))","v":""},{"$f":"IF($E28=\"\",\"\",IF(INDEX('E_Tokovi izvora'!$A:$N,ED28,AY$7)=\"\",\"\",INDEX('E_Tokovi izvora'!$A:$N,ED28,AY$7)))","v":""},{"$f":"IF($E28=\"\",\"\",IF(INDEX('E_Tokovi izvora'!$A:$N,EE28,AZ$7)=\"\",\"\",INDEX('E_Tokovi izvora'!$A:$N,EE28,AZ$7)))","v":""},{"$f":"IF($E28=\"\",\"\",IF(INDEX('E_Tokovi izvora'!$A:$N,EF28,BA$7)=\"\",\"\",INDEX('E_Tokovi izvora'!$A:$N,EF28,BA$7)))","v":""},{"$f":"IF($E28=\"\",\"\",IF(INDEX('E_Tokovi izvora'!$A:$N,EG28,BB$7)=\"\",\"\",INDEX('E_Tokovi izvora'!$A:$N,EG28,BB$7)))","v":""},{"$f":"IF($E28=\"\",\"\",IF(INDEX('E_Tokovi izvora'!$A:$N,EH28,BC$7)=\"\",\"\",INDEX('E_Tokovi izvora'!$A:$N,EH28,BC$7)))","v":""},{"$f":"IF($E28=\"\",\"\",IF(INDEX('E_Tokovi izvora'!$A:$N,EI28,BD$7)=\"\",\"\",INDEX('E_Tokovi izvora'!$A:$N,EI28,BD$7)))","v":""},{"$f":"IF($E28=\"\",\"\",IF(INDEX('E_Tokovi izvora'!$A:$N,EJ28,BE$7)=\"\",\"\",INDEX('E_Tokovi izvora'!$A:$N,EJ28,BE$7)))","v":""},{"$f":"IF($E28=\"\",\"\",IF(INDEX('E_Tokovi izvora'!$A:$N,EK28,BF$7)=\"\",\"\",INDEX('E_Tokovi izvora'!$A:$N,EK28,BF$7)))","v":""},{"$f":"IF($E28=\"\",\"\",IF(INDEX('E_Tokovi izvora'!$A:$N,EL28,BG$7)=\"\",\"\",INDEX('E_Tokovi izvora'!$A:$N,EL28,BG$7)))","v":""},{"$f":"IF($E28=\"\",\"\",IF(INDEX('E_Tokovi izvora'!$A:$N,EM28,BH$7)=\"\",\"\",INDEX('E_Tokovi izvora'!$A:$N,EM28,BH$7)))","v":""},{"$f":"IF($E28=\"\",\"\",IF(INDEX('E_Tokovi izvora'!$A:$N,EN28,BI$7)=\"\",\"\",INDEX('E_Tokovi izvora'!$A:$N,EN28,BI$7)))","v":""},{"$f":"IF($E28=\"\",\"\",IF(INDEX('E_Tokovi izvora'!$A:$N,EO28,BJ$7)=\"\",\"\",INDEX('E_Tokovi izvora'!$A:$N,EO28,BJ$7)))","v":""},{"$f":"IF($E28=\"\",\"\",IF(INDEX('E_Tokovi izvora'!$A:$N,EP28,BK$7)=\"\",\"\",INDEX('E_Tokovi izvora'!$A:$N,EP28,BK$7)))","v":""},{"$f":"IF($E28=\"\",\"\",IF(INDEX('E_Tokovi izvora'!$A:$N,EQ28,BL$7)=\"\",\"\",INDEX('E_Tokovi izvora'!$A:$N,EQ28,BL$7)))","v":""},{"$f":"IF($E28=\"\",\"\",IF(INDEX('E_Tokovi izvora'!$A:$N,ER28,BM$7)=\"\",\"\",INDEX('E_Tokovi izvora'!$A:$N,ER28,BM$7)))","v":""},{"$f":"IF($E28=\"\",\"\",IF(INDEX('E_Tokovi izvora'!$A:$N,ES28,BN$7)=\"\",\"\",INDEX('E_Tokovi izvora'!$A:$N,ES28,BN$7)))","v":""},{"$f":"IF($E28=\"\",\"\",IF(INDEX('E_Tokovi izvora'!$A:$N,ET28,BO$7)=\"\",\"\",INDEX('E_Tokovi izvora'!$A:$N,ET28,BO$7)))","v":""},{"$f":"IF($E28=\"\",\"\",IF(INDEX('E_Tokovi izvora'!$A:$N,EU28,BP$7)=\"\",\"\",INDEX('E_Tokovi izvora'!$A:$N,EU28,BP$7)))","v":""},{"$f":"IF($E28=\"\",\"\",IF(INDEX('E_Tokovi izvora'!$A:$N,EV28,BQ$7)=\"\",\"\",INDEX('E_Tokovi izvora'!$A:$N,EV28,BQ$7)))","v":""},{"$f":"IF($E28=\"\",\"\",IF(INDEX('E_Tokovi izvora'!$A:$N,EW28,BR$7)=\"\",\"\",INDEX('E_Tokovi izvora'!$A:$N,EW28,BR$7)))","v":""},{"$f":"IF($E28=\"\",\"\",IF(INDEX('E_Tokovi izvora'!$A:$N,EX28,BS$7)=\"\",\"\",INDEX('E_Tokovi izvora'!$A:$N,EX28,BS$7)))","v":""},{"$f":"IF($E28=\"\",\"\",IF(INDEX('E_Tokovi izvora'!$A:$N,EY28,BT$7)=\"\",\"\",INDEX('E_Tokovi izvora'!$A:$N,EY28,BT$7)))","v":""},null,null,null,null,null,null,null,null,null,null,null,null,null,null,null,"SourceCategory_",{"$f":"INDEX('C_Opis postrojenja'!$A$226:$A$332,ROWS($CI$11:CI28))=\"ausblenden\"","v":false},"SourceStreamName_",null,1255,1257,1259,1261,1263,1265,1267,1267,1267,1267,1267,1270,1274,1275,1276,1283,1293,1293,1293,1293,1293,1293,1293,1284,1294,1294,1294,1294,1294,1294,1294,1285,1295,1295,1295,1295,1295,1295,1295,1286,1296,1296,1296,1296,1296,1296,1296,1287,1297,1297,1297,1297,1297,1297,1297,1288,1298,1298,1298,1298,1298,1298,1298,1304]
[null,{"$f":"IF(COUNTIF($CK$10:CK29,TRUE)>0,\"\",INDEX('C_Opis postrojenja'!$E$226:$E$242,ROWS($A$11:A29)))","v":""},{"$f":"IF($E29=\"\",\"\",INDEX('C_Opis postrojenja'!F:F,MATCH($B29,'C_Opis postrojenja'!$E:$E,0)))","v":""},{"$f":"IF($E29=\"\",\"\",INDEX('C_Opis postrojenja'!I:I,MATCH($B29,'C_Opis postrojenja'!$E:$E,0)))","v":""},{"$f":"IF($B29=\"\",\"\",INDEX('C_Opis postrojenja'!F:F,MATCH($CJ29,'C_Opis postrojenja'!$Q:$Q,0)))","v":""},{"$f":"IF($E29=\"\",\"\",INDEX('C_Opis postrojenja'!L:L,MATCH($CJ29,'C_Opis postrojenja'!$Q:$Q,0)))","v":""},{"$f":"IF($E29=\"\",\"\",INDEX('C_Opis postrojenja'!M:M,MATCH($CJ29,'C_Opis postrojenja'!$Q:$Q,0)))","v":""},{"$f":"IF($E29=\"\",\"\",INDEX('C_Opis postrojenja'!N:N,MATCH($CJ29,'C_Opis postrojenja'!$Q:$Q,0)))","v":""},{"$f":"IF($E29=\"\",\"\",IF(INDEX('E_Tokovi izvora'!$A:$N,CN29,I$7)=\"\",\"\",INDEX('E_Tokovi izvora'!$A:$N,CN29,I$7)))","v":""},{"$f":"IF($E29=\"\",\"\",IF(INDEX('E_Tokovi izvora'!$A:$N,CO29,J$7)=\"\",\"\",INDEX('E_Tokovi izvora'!$A:$N,CO29,J$7)))","v":""},{"$f":"IF($E29=\"\",\"\",IF(INDEX('E_Tokovi izvora'!$A:$N,CP29,K$7)=\"\",\"\",INDEX('E_Tokovi izvora'!$A:$N,CP29,K$7)))","v":""},{"$f":"IF($E29=\"\",\"\",IF(INDEX('E_Tokovi izvora'!$A:$N,CQ29,L$7)=\"\",\"\",INDEX('E_Tokovi izvora'!$A:$N,CQ29,L$7)))","v":""},{"$f":"IF($E29=\"\",\"\",IF(INDEX('E_Tokovi izvora'!$A:$N,CR29,M$7)=\"\",\"\",INDEX('E_Tokovi izvora'!$A:$N,CR29,M$7)))","v":""},{"$f":"IF($E29=\"\",\"\",IF(INDEX('E_Tokovi izvora'!$A:$N,CS29,N$7)=\"\",\"\",INDEX('E_Tokovi izvora'!$A:$N,CS29,N$7)))","v":""},{"$f":"IF($E29=\"\",\"\",IF(INDEX('E_Tokovi izvora'!$A:$N,CT29,O$7)=\"\",\"\",INDEX('E_Tokovi izvora'!$A:$N,CT29,O$7)))","v":""},{"$f":"IF($E29=\"\",\"\",IF(INDEX('E_Tokovi izvora'!$A:$N,CU29,P$7)=\"\",\"\",INDEX('E_Tokovi izvora'!$A:$N,CU29,P$7)))","v":""},{"$f":"IF($E29=\"\",\"\",IF(INDEX('E_Tokovi izvora'!$A:$N,CV29,Q$7)=\"\",\"\",INDEX('E_Tokovi izvora'!$A:$N,CV29,Q$7)))","v":""},{"$f":"IF($E29=\"\",\"\",IF(INDEX('E_Tokovi izvora'!$A:$N,CW29,R$7)=\"\",\"\",INDEX('E_Tokovi izvora'!$A:$N,CW29,R$7)))","v":""},{"$f":"IF($E29=\"\",\"\",IF(INDEX('E_Tokovi izvora'!$A:$N,CX29,S$7)=\"\",\"\",INDEX('E_Tokovi izvora'!$A:$N,CX29,S$7)))","v":""},{"$f":"IF($E29=\"\",\"\",IF(INDEX('E_Tokovi izvora'!$A:$N,CY29,T$7)=\"\",\"\",INDEX('E_Tokovi izvora'!$A:$N,CY29,T$7)))","v":""},{"$f":"IF($E29=\"\",\"\",IF(INDEX('E_Tokovi izvora'!$A:$N,CZ29,U$7)=\"\",\"\",INDEX('E_Tokovi izvora'!$A:$N,CZ29,U$7)))","v":""},{"$f":"IF($E29=\"\",\"\",IF(INDEX('E_Tokovi izvora'!$A:$N,DA29,V$7)=\"\",\"\",INDEX('E_Tokovi izvora'!$A:$N,DA29,V$7)))","v":""},{"$f":"IF($E29=\"\",\"\",IF(INDEX('E_Tokovi izvora'!$A:$N,DB29,W$7)=\"\",\"\",INDEX('E_Tokovi izvora'!$A:$N,DB29,W$7)))","v":""},{"$f":"IF($E29=\"\",\"\",IF(INDEX('E_Tokovi izvora'!$A:$N,DC29,X$7)=\"\",\"\",INDEX('E_Tokovi izvora'!$A:$N,DC29,X$7)))","v":""},{"$f":"IF($E29=\"\",\"\",IF(INDEX('E_Tokovi izvora'!$A:$N,DD29,Y$7)=\"\",\"\",INDEX('E_Tokovi izvora'!$A:$N,DD29,Y$7)))","v":""},{"$f":"IF($E29=\"\",\"\",IF(INDEX('E_Tokovi izvora'!$A:$N,DE29,Z$7)=\"\",\"\",INDEX('E_Tokovi izvora'!$A:$N,DE29,Z$7)))","v":""},{"$f":"IF($E29=\"\",\"\",IF(INDEX('E_Tokovi izvora'!$A:$N,DF29,AA$7)=\"\",\"\",INDEX('E_Tokovi izvora'!$A:$N,DF29,AA$7)))","v":""},{"$f":"IF($E29=\"\",\"\",IF(INDEX('E_Tokovi izvora'!$A:$N,DG29,AB$7)=\"\",\"\",INDEX('E_Tokovi izvora'!$A:$N,DG29,AB$7)))","v":""},{"$f":"IF($E29=\"\",\"\",IF(INDEX('E_Tokovi izvora'!$A:$N,DH29,AC$7)=\"\",\"\",INDEX('E_Tokovi izvora'!$A:$N,DH29,AC$7)))","v":""},{"$f":"IF($E29=\"\",\"\",IF(INDEX('E_Tokovi izvora'!$A:$N,DI29,AD$7)=\"\",\"\",INDEX('E_Tokovi izvora'!$A:$N,DI29,AD$7)))","v":""},{"$f":"IF($E29=\"\",\"\",IF(INDEX('E_Tokovi izvora'!$A:$N,DJ29,AE$7)=\"\",\"\",INDEX('E_Tokovi izvora'!$A:$N,DJ29,AE$7)))","v":""},{"$f":"IF($E29=\"\",\"\",IF(INDEX('E_Tokovi izvora'!$A:$N,DK29,AF$7)=\"\",\"\",INDEX('E_Tokovi izvora'!$A:$N,DK29,AF$7)))","v":""},{"$f":"IF($E29=\"\",\"\",IF(INDEX('E_Tokovi izvora'!$A:$N,DL29,AG$7)=\"\",\"\",INDEX('E_Tokovi izvora'!$A:$N,DL29,AG$7)))","v":""},{"$f":"IF($E29=\"\",\"\",IF(INDEX('E_Tokovi izvora'!$A:$N,DM29,AH$7)=\"\",\"\",INDEX('E_Tokovi izvora'!$A:$N,DM29,AH$7)))","v":""},{"$f":"IF($E29=\"\",\"\",IF(INDEX('E_Tokovi izvora'!$A:$N,DN29,AI$7)=\"\",\"\",INDEX('E_Tokovi izvora'!$A:$N,DN29,AI$7)))","v":""},{"$f":"IF($E29=\"\",\"\",IF(INDEX('E_Tokovi izvora'!$A:$N,DO29,AJ$7)=\"\",\"\",INDEX('E_Tokovi izvora'!$A:$N,DO29,AJ$7)))","v":""},{"$f":"IF($E29=\"\",\"\",IF(INDEX('E_Tokovi izvora'!$A:$N,DP29,AK$7)=\"\",\"\",INDEX('E_Tokovi izvora'!$A:$N,DP29,AK$7)))","v":""},{"$f":"IF($E29=\"\",\"\",IF(INDEX('E_Tokovi izvora'!$A:$N,DQ29,AL$7)=\"\",\"\",INDEX('E_Tokovi izvora'!$A:$N,DQ29,AL$7)))","v":""},{"$f":"IF($E29=\"\",\"\",IF(INDEX('E_Tokovi izvora'!$A:$N,DR29,AM$7)=\"\",\"\",INDEX('E_Tokovi izvora'!$A:$N,DR29,AM$7)))","v":""},{"$f":"IF($E29=\"\",\"\",IF(INDEX('E_Tokovi izvora'!$A:$N,DS29,AN$7)=\"\",\"\",INDEX('E_Tokovi izvora'!$A:$N,DS29,AN$7)))","v":""},{"$f":"IF($E29=\"\",\"\",IF(INDEX('E_Tokovi izvora'!$A:$N,DT29,AO$7)=\"\",\"\",INDEX('E_Tokovi izvora'!$A:$N,DT29,AO$7)))","v":""},{"$f":"IF($E29=\"\",\"\",IF(INDEX('E_Tokovi izvora'!$A:$N,DU29,AP$7)=\"\",\"\",INDEX('E_Tokovi izvora'!$A:$N,DU29,AP$7)))","v":""},{"$f":"IF($E29=\"\",\"\",IF(INDEX('E_Tokovi izvora'!$A:$N,DV29,AQ$7)=\"\",\"\",INDEX('E_Tokovi izvora'!$A:$N,DV29,AQ$7)))","v":""},{"$f":"IF($E29=\"\",\"\",IF(INDEX('E_Tokovi izvora'!$A:$N,DW29,AR$7)=\"\",\"\",INDEX('E_Tokovi izvora'!$A:$N,DW29,AR$7)))","v":""},{"$f":"IF($E29=\"\",\"\",IF(INDEX('E_Tokovi izvora'!$A:$N,DX29,AS$7)=\"\",\"\",INDEX('E_Tokovi izvora'!$A:$N,DX29,AS$7)))","v":""},{"$f":"IF($E29=\"\",\"\",IF(INDEX('E_Tokovi izvora'!$A:$N,DY29,AT$7)=\"\",\"\",INDEX('E_Tokovi izvora'!$A:$N,DY29,AT$7)))","v":""},{"$f":"IF($E29=\"\",\"\",IF(INDEX('E_Tokovi izvora'!$A:$N,DZ29,AU$7)=\"\",\"\",INDEX('E_Tokovi izvora'!$A:$N,DZ29,AU$7)))","v":""},{"$f":"IF($E29=\"\",\"\",IF(INDEX('E_Tokovi izvora'!$A:$N,EA29,AV$7)=\"\",\"\",INDEX('E_Tokovi izvora'!$A:$N,EA29,AV$7)))","v":""},{"$f":"IF($E29=\"\",\"\",IF(INDEX('E_Tokovi izvora'!$A:$N,EB29,AW$7)=\"\",\"\",INDEX('E_Tokovi izvora'!$A:$N,EB29,AW$7)))","v":""},{"$f":"IF($E29=\"\",\"\",IF(INDEX('E_Tokovi izvora'!$A:$N,EC29,AX$7)=\"\",\"\",INDEX('E_Tokovi izvora'!$A:$N,EC29,AX$7)))","v":""},{"$f":"IF($E29=\"\",\"\",IF(INDEX('E_Tokovi izvora'!$A:$N,ED29,AY$7)=\"\",\"\",INDEX('E_Tokovi izvora'!$A:$N,ED29,AY$7)))","v":""},{"$f":"IF($E29=\"\",\"\",IF(INDEX('E_Tokovi izvora'!$A:$N,EE29,AZ$7)=\"\",\"\",INDEX('E_Tokovi izvora'!$A:$N,EE29,AZ$7)))","v":""},{"$f":"IF($E29=\"\",\"\",IF(INDEX('E_Tokovi izvora'!$A:$N,EF29,BA$7)=\"\",\"\",INDEX('E_Tokovi izvora'!$A:$N,EF29,BA$7)))","v":""},{"$f":"IF($E29=\"\",\"\",IF(INDEX('E_Tokovi izvora'!$A:$N,EG29,BB$7)=\"\",\"\",INDEX('E_Tokovi izvora'!$A:$N,EG29,BB$7)))","v":""},{"$f":"IF($E29=\"\",\"\",IF(INDEX('E_Tokovi izvora'!$A:$N,EH29,BC$7)=\"\",\"\",INDEX('E_Tokovi izvora'!$A:$N,EH29,BC$7)))","v":""},{"$f":"IF($E29=\"\",\"\",IF(INDEX('E_Tokovi izvora'!$A:$N,EI29,BD$7)=\"\",\"\",INDEX('E_Tokovi izvora'!$A:$N,EI29,BD$7)))","v":""},{"$f":"IF($E29=\"\",\"\",IF(INDEX('E_Tokovi izvora'!$A:$N,EJ29,BE$7)=\"\",\"\",INDEX('E_Tokovi izvora'!$A:$N,EJ29,BE$7)))","v":""},{"$f":"IF($E29=\"\",\"\",IF(INDEX('E_Tokovi izvora'!$A:$N,EK29,BF$7)=\"\",\"\",INDEX('E_Tokovi izvora'!$A:$N,EK29,BF$7)))","v":""},{"$f":"IF($E29=\"\",\"\",IF(INDEX('E_Tokovi izvora'!$A:$N,EL29,BG$7)=\"\",\"\",INDEX('E_Tokovi izvora'!$A:$N,EL29,BG$7)))","v":""},{"$f":"IF($E29=\"\",\"\",IF(INDEX('E_Tokovi izvora'!$A:$N,EM29,BH$7)=\"\",\"\",INDEX('E_Tokovi izvora'!$A:$N,EM29,BH$7)))","v":""},{"$f":"IF($E29=\"\",\"\",IF(INDEX('E_Tokovi izvora'!$A:$N,EN29,BI$7)=\"\",\"\",INDEX('E_Tokovi izvora'!$A:$N,EN29,BI$7)))","v":""},{"$f":"IF($E29=\"\",\"\",IF(INDEX('E_Tokovi izvora'!$A:$N,EO29,BJ$7)=\"\",\"\",INDEX('E_Tokovi izvora'!$A:$N,EO29,BJ$7)))","v":""},{"$f":"IF($E29=\"\",\"\",IF(INDEX('E_Tokovi izvora'!$A:$N,EP29,BK$7)=\"\",\"\",INDEX('E_Tokovi izvora'!$A:$N,EP29,BK$7)))","v":""},{"$f":"IF($E29=\"\",\"\",IF(INDEX('E_Tokovi izvora'!$A:$N,EQ29,BL$7)=\"\",\"\",INDEX('E_Tokovi izvora'!$A:$N,EQ29,BL$7)))","v":""},{"$f":"IF($E29=\"\",\"\",IF(INDEX('E_Tokovi izvora'!$A:$N,ER29,BM$7)=\"\",\"\",INDEX('E_Tokovi izvora'!$A:$N,ER29,BM$7)))","v":""},{"$f":"IF($E29=\"\",\"\",IF(INDEX('E_Tokovi izvora'!$A:$N,ES29,BN$7)=\"\",\"\",INDEX('E_Tokovi izvora'!$A:$N,ES29,BN$7)))","v":""},{"$f":"IF($E29=\"\",\"\",IF(INDEX('E_Tokovi izvora'!$A:$N,ET29,BO$7)=\"\",\"\",INDEX('E_Tokovi izvora'!$A:$N,ET29,BO$7)))","v":""},{"$f":"IF($E29=\"\",\"\",IF(INDEX('E_Tokovi izvora'!$A:$N,EU29,BP$7)=\"\",\"\",INDEX('E_Tokovi izvora'!$A:$N,EU29,BP$7)))","v":""},{"$f":"IF($E29=\"\",\"\",IF(INDEX('E_Tokovi izvora'!$A:$N,EV29,BQ$7)=\"\",\"\",INDEX('E_Tokovi izvora'!$A:$N,EV29,BQ$7)))","v":""},{"$f":"IF($E29=\"\",\"\",IF(INDEX('E_Tokovi izvora'!$A:$N,EW29,BR$7)=\"\",\"\",INDEX('E_Tokovi izvora'!$A:$N,EW29,BR$7)))","v":""},{"$f":"IF($E29=\"\",\"\",IF(INDEX('E_Tokovi izvora'!$A:$N,EX29,BS$7)=\"\",\"\",INDEX('E_Tokovi izvora'!$A:$N,EX29,BS$7)))","v":""},{"$f":"IF($E29=\"\",\"\",IF(INDEX('E_Tokovi izvora'!$A:$N,EY29,BT$7)=\"\",\"\",INDEX('E_Tokovi izvora'!$A:$N,EY29,BT$7)))","v":""},null,null,null,null,null,null,null,null,null,null,null,null,null,null,null,"SourceCategory_",{"$f":"INDEX('C_Opis postrojenja'!$A$226:$A$332,ROWS($CI$11:CI29))=\"ausblenden\"","v":false},"SourceStreamName_",null,1321,1323,1325,1327,1329,1331,1333,1333,1333,1333,1333,1336,1340,1341,1342,1349,1359,1359,1359,1359,1359,1359,1359,1350,1360,1360,1360,1360,1360,1360,1360,1351,1361,1361,1361,1361,1361,1361,1361,1352,1362,1362,1362,1362,1362,1362,1362,1353,1363,1363,1363,1363,1363,1363,1363,1354,1364,1364,1364,1364,1364,1364,1364,1370]
[null,{"$f":"IF(COUNTIF($CK$10:CK30,TRUE)>0,\"\",INDEX('C_Opis postrojenja'!$E$226:$E$242,ROWS($A$11:A30)))","v":""},{"$f":"IF($E30=\"\",\"\",INDEX('C_Opis postrojenja'!F:F,MATCH($B30,'C_Opis postrojenja'!$E:$E,0)))","v":""},{"$f":"IF($E30=\"\",\"\",INDEX('C_Opis postrojenja'!I:I,MATCH($B30,'C_Opis postrojenja'!$E:$E,0)))","v":""},{"$f":"IF($B30=\"\",\"\",INDEX('C_Opis postrojenja'!F:F,MATCH($CJ30,'C_Opis postrojenja'!$Q:$Q,0)))","v":""},{"$f":"IF($E30=\"\",\"\",INDEX('C_Opis postrojenja'!L:L,MATCH($CJ30,'C_Opis postrojenja'!$Q:$Q,0)))","v":""},{"$f":"IF($E30=\"\",\"\",INDEX('C_Opis postrojenja'!M:M,MATCH($CJ30,'C_Opis postrojenja'!$Q:$Q,0)))","v":""},{"$f":"IF($E30=\"\",\"\",INDEX('C_Opis postrojenja'!N:N,MATCH($CJ30,'C_Opis postrojenja'!$Q:$Q,0)))","v":""},{"$f":"IF($E30=\"\",\"\",IF(INDEX('E_Tokovi izvora'!$A:$N,CN30,I$7)=\"\",\"\",INDEX('E_Tokovi izvora'!$A:$N,CN30,I$7)))","v":""},{"$f":"IF($E30=\"\",\"\",IF(INDEX('E_Tokovi izvora'!$A:$N,CO30,J$7)=\"\",\"\",INDEX('E_Tokovi izvora'!$A:$N,CO30,J$7)))","v":""},{"$f":"IF($E30=\"\",\"\",IF(INDEX('E_Tokovi izvora'!$A:$N,CP30,K$7)=\"\",\"\",INDEX('E_Tokovi izvora'!$A:$N,CP30,K$7)))","v":""},{"$f":"IF($E30=\"\",\"\",IF(INDEX('E_Tokovi izvora'!$A:$N,CQ30,L$7)=\"\",\"\",INDEX('E_Tokovi izvora'!$A:$N,CQ30,L$7)))","v":""},{"$f":"IF($E30=\"\",\"\",IF(INDEX('E_Tokovi izvora'!$A:$N,CR30,M$7)=\"\",\"\",INDEX('E_Tokovi izvora'!$A:$N,CR30,M$7)))","v":""},{"$f":"IF($E30=\"\",\"\",IF(INDEX('E_Tokovi izvora'!$A:$N,CS30,N$7)=\"\",\"\",INDEX('E_Tokovi izvora'!$A:$N,CS30,N$7)))","v":""},{"$f":"IF($E30=\"\",\"\",IF(INDEX('E_Tokovi izvora'!$A:$N,CT30,O$7)=\"\",\"\",INDEX('E_Tokovi izvora'!$A:$N,CT30,O$7)))","v":""},{"$f":"IF($E30=\"\",\"\",IF(INDEX('E_Tokovi izvora'!$A:$N,CU30,P$7)=\"\",\"\",INDEX('E_Tokovi izvora'!$A:$N,CU30,P$7)))","v":""},{"$f":"IF($E30=\"\",\"\",IF(INDEX('E_Tokovi izvora'!$A:$N,CV30,Q$7)=\"\",\"\",INDEX('E_Tokovi izvora'!$A:$N,CV30,Q$7)))","v":""},{"$f":"IF($E30=\"\",\"\",IF(INDEX('E_Tokovi izvora'!$A:$N,CW30,R$7)=\"\",\"\",INDEX('E_Tokovi izvora'!$A:$N,CW30,R$7)))","v":""},{"$f":"IF($E30=\"\",\"\",IF(INDEX('E_Tokovi izvora'!$A:$N,CX30,S$7)=\"\",\"\",INDEX('E_Tokovi izvora'!$A:$N,CX30,S$7)))","v":""},{"$f":"IF($E30=\"\",\"\",IF(INDEX('E_Tokovi izvora'!$A:$N,CY30,T$7)=\"\",\"\",INDEX('E_Tokovi izvora'!$A:$N,CY30,T$7)))","v":""},{"$f":"IF($E30=\"\",\"\",IF(INDEX('E_Tokovi izvora'!$A:$N,CZ30,U$7)=\"\",\"\",INDEX('E_Tokovi izvora'!$A:$N,CZ30,U$7)))","v":""},{"$f":"IF($E30=\"\",\"\",IF(INDEX('E_Tokovi izvora'!$A:$N,DA30,V$7)=\"\",\"\",INDEX('E_Tokovi izvora'!$A:$N,DA30,V$7)))","v":""},{"$f":"IF($E30=\"\",\"\",IF(INDEX('E_Tokovi izvora'!$A:$N,DB30,W$7)=\"\",\"\",INDEX('E_Tokovi izvora'!$A:$N,DB30,W$7)))","v":""},{"$f":"IF($E30=\"\",\"\",IF(INDEX('E_Tokovi izvora'!$A:$N,DC30,X$7)=\"\",\"\",INDEX('E_Tokovi izvora'!$A:$N,DC30,X$7)))","v":""},{"$f":"IF($E30=\"\",\"\",IF(INDEX('E_Tokovi izvora'!$A:$N,DD30,Y$7)=\"\",\"\",INDEX('E_Tokovi izvora'!$A:$N,DD30,Y$7)))","v":""},{"$f":"IF($E30=\"\",\"\",IF(INDEX('E_Tokovi izvora'!$A:$N,DE30,Z$7)=\"\",\"\",INDEX('E_Tokovi izvora'!$A:$N,DE30,Z$7)))","v":""},{"$f":"IF($E30=\"\",\"\",IF(INDEX('E_Tokovi izvora'!$A:$N,DF30,AA$7)=\"\",\"\",INDEX('E_Tokovi izvora'!$A:$N,DF30,AA$7)))","v":""},{"$f":"IF($E30=\"\",\"\",IF(INDEX('E_Tokovi izvora'!$A:$N,DG30,AB$7)=\"\",\"\",INDEX('E_Tokovi izvora'!$A:$N,DG30,AB$7)))","v":""},{"$f":"IF($E30=\"\",\"\",IF(INDEX('E_Tokovi izvora'!$A:$N,DH30,AC$7)=\"\",\"\",INDEX('E_Tokovi izvora'!$A:$N,DH30,AC$7)))","v":""},{"$f":"IF($E30=\"\",\"\",IF(INDEX('E_Tokovi izvora'!$A:$N,DI30,AD$7)=\"\",\"\",INDEX('E_Tokovi izvora'!$A:$N,DI30,AD$7)))","v":""},{"$f":"IF($E30=\"\",\"\",IF(INDEX('E_Tokovi izvora'!$A:$N,DJ30,AE$7)=\"\",\"\",INDEX('E_Tokovi izvora'!$A:$N,DJ30,AE$7)))","v":""},{"$f":"IF($E30=\"\",\"\",IF(INDEX('E_Tokovi izvora'!$A:$N,DK30,AF$7)=\"\",\"\",INDEX('E_Tokovi izvora'!$A:$N,DK30,AF$7)))","v":""},{"$f":"IF($E30=\"\",\"\",IF(INDEX('E_Tokovi izvora'!$A:$N,DL30,AG$7)=\"\",\"\",INDEX('E_Tokovi izvora'!$A:$N,DL30,AG$7)))","v":""},{"$f":"IF($E30=\"\",\"\",IF(INDEX('E_Tokovi izvora'!$A:$N,DM30,AH$7)=\"\",\"\",INDEX('E_Tokovi izvora'!$A:$N,DM30,AH$7)))","v":""},{"$f":"IF($E30=\"\",\"\",IF(INDEX('E_Tokovi izvora'!$A:$N,DN30,AI$7)=\"\",\"\",INDEX('E_Tokovi izvora'!$A:$N,DN30,AI$7)))","v":""},{"$f":"IF($E30=\"\",\"\",IF(INDEX('E_Tokovi izvora'!$A:$N,DO30,AJ$7)=\"\",\"\",INDEX('E_Tokovi izvora'!$A:$N,DO30,AJ$7)))","v":""},{"$f":"IF($E30=\"\",\"\",IF(INDEX('E_Tokovi izvora'!$A:$N,DP30,AK$7)=\"\",\"\",INDEX('E_Tokovi izvora'!$A:$N,DP30,AK$7)))","v":""},{"$f":"IF($E30=\"\",\"\",IF(INDEX('E_Tokovi izvora'!$A:$N,DQ30,AL$7)=\"\",\"\",INDEX('E_Tokovi izvora'!$A:$N,DQ30,AL$7)))","v":""},{"$f":"IF($E30=\"\",\"\",IF(INDEX('E_Tokovi izvora'!$A:$N,DR30,AM$7)=\"\",\"\",INDEX('E_Tokovi izvora'!$A:$N,DR30,AM$7)))","v":""},{"$f":"IF($E30=\"\",\"\",IF(INDEX('E_Tokovi izvora'!$A:$N,DS30,AN$7)=\"\",\"\",INDEX('E_Tokovi izvora'!$A:$N,DS30,AN$7)))","v":""},{"$f":"IF($E30=\"\",\"\",IF(INDEX('E_Tokovi izvora'!$A:$N,DT30,AO$7)=\"\",\"\",INDEX('E_Tokovi izvora'!$A:$N,DT30,AO$7)))","v":""},{"$f":"IF($E30=\"\",\"\",IF(INDEX('E_Tokovi izvora'!$A:$N,DU30,AP$7)=\"\",\"\",INDEX('E_Tokovi izvora'!$A:$N,DU30,AP$7)))","v":""},{"$f":"IF($E30=\"\",\"\",IF(INDEX('E_Tokovi izvora'!$A:$N,DV30,AQ$7)=\"\",\"\",INDEX('E_Tokovi izvora'!$A:$N,DV30,AQ$7)))","v":""},{"$f":"IF($E30=\"\",\"\",IF(INDEX('E_Tokovi izvora'!$A:$N,DW30,AR$7)=\"\",\"\",INDEX('E_Tokovi izvora'!$A:$N,DW30,AR$7)))","v":""},{"$f":"IF($E30=\"\",\"\",IF(INDEX('E_Tokovi izvora'!$A:$N,DX30,AS$7)=\"\",\"\",INDEX('E_Tokovi izvora'!$A:$N,DX30,AS$7)))","v":""},{"$f":"IF($E30=\"\",\"\",IF(INDEX('E_Tokovi izvora'!$A:$N,DY30,AT$7)=\"\",\"\",INDEX('E_Tokovi izvora'!$A:$N,DY30,AT$7)))","v":""},{"$f":"IF($E30=\"\",\"\",IF(INDEX('E_Tokovi izvora'!$A:$N,DZ30,AU$7)=\"\",\"\",INDEX('E_Tokovi izvora'!$A:$N,DZ30,AU$7)))","v":""},{"$f":"IF($E30=\"\",\"\",IF(INDEX('E_Tokovi izvora'!$A:$N,EA30,AV$7)=\"\",\"\",INDEX('E_Tokovi izvora'!$A:$N,EA30,AV$7)))","v":""},{"$f":"IF($E30=\"\",\"\",IF(INDEX('E_Tokovi izvora'!$A:$N,EB30,AW$7)=\"\",\"\",INDEX('E_Tokovi izvora'!$A:$N,EB30,AW$7)))","v":""},{"$f":"IF($E30=\"\",\"\",IF(INDEX('E_Tokovi izvora'!$A:$N,EC30,AX$7)=\"\",\"\",INDEX('E_Tokovi izvora'!$A:$N,EC30,AX$7)))","v":""},{"$f":"IF($E30=\"\",\"\",IF(INDEX('E_Tokovi izvora'!$A:$N,ED30,AY$7)=\"\",\"\",INDEX('E_Tokovi izvora'!$A:$N,ED30,AY$7)))","v":""},{"$f":"IF($E30=\"\",\"\",IF(INDEX('E_Tokovi izvora'!$A:$N,EE30,AZ$7)=\"\",\"\",INDEX('E_Tokovi izvora'!$A:$N,EE30,AZ$7)))","v":""},{"$f":"IF($E30=\"\",\"\",IF(INDEX('E_Tokovi izvora'!$A:$N,EF30,BA$7)=\"\",\"\",INDEX('E_Tokovi izvora'!$A:$N,EF30,BA$7)))","v":""},{"$f":"IF($E30=\"\",\"\",IF(INDEX('E_Tokovi izvora'!$A:$N,EG30,BB$7)=\"\",\"\",INDEX('E_Tokovi izvora'!$A:$N,EG30,BB$7)))","v":""},{"$f":"IF($E30=\"\",\"\",IF(INDEX('E_Tokovi izvora'!$A:$N,EH30,BC$7)=\"\",\"\",INDEX('E_Tokovi izvora'!$A:$N,EH30,BC$7)))","v":""},{"$f":"IF($E30=\"\",\"\",IF(INDEX('E_Tokovi izvora'!$A:$N,EI30,BD$7)=\"\",\"\",INDEX('E_Tokovi izvora'!$A:$N,EI30,BD$7)))","v":""},{"$f":"IF($E30=\"\",\"\",IF(INDEX('E_Tokovi izvora'!$A:$N,EJ30,BE$7)=\"\",\"\",INDEX('E_Tokovi izvora'!$A:$N,EJ30,BE$7)))","v":""},{"$f":"IF($E30=\"\",\"\",IF(INDEX('E_Tokovi izvora'!$A:$N,EK30,BF$7)=\"\",\"\",INDEX('E_Tokovi izvora'!$A:$N,EK30,BF$7)))","v":""},{"$f":"IF($E30=\"\",\"\",IF(INDEX('E_Tokovi izvora'!$A:$N,EL30,BG$7)=\"\",\"\",INDEX('E_Tokovi izvora'!$A:$N,EL30,BG$7)))","v":""},{"$f":"IF($E30=\"\",\"\",IF(INDEX('E_Tokovi izvora'!$A:$N,EM30,BH$7)=\"\",\"\",INDEX('E_Tokovi izvora'!$A:$N,EM30,BH$7)))","v":""},{"$f":"IF($E30=\"\",\"\",IF(INDEX('E_Tokovi izvora'!$A:$N,EN30,BI$7)=\"\",\"\",INDEX('E_Tokovi izvora'!$A:$N,EN30,BI$7)))","v":""},{"$f":"IF($E30=\"\",\"\",IF(INDEX('E_Tokovi izvora'!$A:$N,EO30,BJ$7)=\"\",\"\",INDEX('E_Tokovi izvora'!$A:$N,EO30,BJ$7)))","v":""},{"$f":"IF($E30=\"\",\"\",IF(INDEX('E_Tokovi izvora'!$A:$N,EP30,BK$7)=\"\",\"\",INDEX('E_Tokovi izvora'!$A:$N,EP30,BK$7)))","v":""},{"$f":"IF($E30=\"\",\"\",IF(INDEX('E_Tokovi izvora'!$A:$N,EQ30,BL$7)=\"\",\"\",INDEX('E_Tokovi izvora'!$A:$N,EQ30,BL$7)))","v":""},{"$f":"IF($E30=\"\",\"\",IF(INDEX('E_Tokovi izvora'!$A:$N,ER30,BM$7)=\"\",\"\",INDEX('E_Tokovi izvora'!$A:$N,ER30,BM$7)))","v":""},{"$f":"IF($E30=\"\",\"\",IF(INDEX('E_Tokovi izvora'!$A:$N,ES30,BN$7)=\"\",\"\",INDEX('E_Tokovi izvora'!$A:$N,ES30,BN$7)))","v":""},{"$f":"IF($E30=\"\",\"\",IF(INDEX('E_Tokovi izvora'!$A:$N,ET30,BO$7)=\"\",\"\",INDEX('E_Tokovi izvora'!$A:$N,ET30,BO$7)))","v":""},{"$f":"IF($E30=\"\",\"\",IF(INDEX('E_Tokovi izvora'!$A:$N,EU30,BP$7)=\"\",\"\",INDEX('E_Tokovi izvora'!$A:$N,EU30,BP$7)))","v":""},{"$f":"IF($E30=\"\",\"\",IF(INDEX('E_Tokovi izvora'!$A:$N,EV30,BQ$7)=\"\",\"\",INDEX('E_Tokovi izvora'!$A:$N,EV30,BQ$7)))","v":""},{"$f":"IF($E30=\"\",\"\",IF(INDEX('E_Tokovi izvora'!$A:$N,EW30,BR$7)=\"\",\"\",INDEX('E_Tokovi izvora'!$A:$N,EW30,BR$7)))","v":""},{"$f":"IF($E30=\"\",\"\",IF(INDEX('E_Tokovi izvora'!$A:$N,EX30,BS$7)=\"\",\"\",INDEX('E_Tokovi izvora'!$A:$N,EX30,BS$7)))","v":""},{"$f":"IF($E30=\"\",\"\",IF(INDEX('E_Tokovi izvora'!$A:$N,EY30,BT$7)=\"\",\"\",INDEX('E_Tokovi izvora'!$A:$N,EY30,BT$7)))","v":""},null,null,null,null,null,null,null,null,null,null,null,null,null,null,null,"SourceCategory_",{"$f":"INDEX('C_Opis postrojenja'!$A$226:$A$332,ROWS($CI$11:CI30))=\"ausblenden\"","v":false},"SourceStreamName_",null,1387,1389,1391,1393,1395,1397,1399,1399,1399,1399,1399,1402,1406,1407,1408,1415,1425,1425,1425,1425,1425,1425,1425,1416,1426,1426,1426,1426,1426,1426,1426,1417,1427,1427,1427,1427,1427,1427,1427,1418,1428,1428,1428,1428,1428,1428,1428,1419,1429,1429,1429,1429,1429,1429,1429,1420,1430,1430,1430,1430,1430,1430,1430,1436]
[null,{"$f":"IF(COUNTIF($CK$10:CK31,TRUE)>0,\"\",INDEX('C_Opis postrojenja'!$E$226:$E$242,ROWS($A$11:A31)))","v":""},{"$f":"IF($E31=\"\",\"\",INDEX('C_Opis postrojenja'!F:F,MATCH($B31,'C_Opis postrojenja'!$E:$E,0)))","v":""},{"$f":"IF($E31=\"\",\"\",INDEX('C_Opis postrojenja'!I:I,MATCH($B31,'C_Opis postrojenja'!$E:$E,0)))","v":""},{"$f":"IF($B31=\"\",\"\",INDEX('C_Opis postrojenja'!F:F,MATCH($CJ31,'C_Opis postrojenja'!$Q:$Q,0)))","v":""},{"$f":"IF($E31=\"\",\"\",INDEX('C_Opis postrojenja'!L:L,MATCH($CJ31,'C_Opis postrojenja'!$Q:$Q,0)))","v":""},{"$f":"IF($E31=\"\",\"\",INDEX('C_Opis postrojenja'!M:M,MATCH($CJ31,'C_Opis postrojenja'!$Q:$Q,0)))","v":""},{"$f":"IF($E31=\"\",\"\",INDEX('C_Opis postrojenja'!N:N,MATCH($CJ31,'C_Opis postrojenja'!$Q:$Q,0)))","v":""},{"$f":"IF($E31=\"\",\"\",IF(INDEX('E_Tokovi izvora'!$A:$N,CN31,I$7)=\"\",\"\",INDEX('E_Tokovi izvora'!$A:$N,CN31,I$7)))","v":""},{"$f":"IF($E31=\"\",\"\",IF(INDEX('E_Tokovi izvora'!$A:$N,CO31,J$7)=\"\",\"\",INDEX('E_Tokovi izvora'!$A:$N,CO31,J$7)))","v":""},{"$f":"IF($E31=\"\",\"\",IF(INDEX('E_Tokovi izvora'!$A:$N,CP31,K$7)=\"\",\"\",INDEX('E_Tokovi izvora'!$A:$N,CP31,K$7)))","v":""},{"$f":"IF($E31=\"\",\"\",IF(INDEX('E_Tokovi izvora'!$A:$N,CQ31,L$7)=\"\",\"\",INDEX('E_Tokovi izvora'!$A:$N,CQ31,L$7)))","v":""},{"$f":"IF($E31=\"\",\"\",IF(INDEX('E_Tokovi izvora'!$A:$N,CR31,M$7)=\"\",\"\",INDEX('E_Tokovi izvora'!$A:$N,CR31,M$7)))","v":""},{"$f":"IF($E31=\"\",\"\",IF(INDEX('E_Tokovi izvora'!$A:$N,CS31,N$7)=\"\",\"\",INDEX('E_Tokovi izvora'!$A:$N,CS31,N$7)))","v":""},{"$f":"IF($E31=\"\",\"\",IF(INDEX('E_Tokovi izvora'!$A:$N,CT31,O$7)=\"\",\"\",INDEX('E_Tokovi izvora'!$A:$N,CT31,O$7)))","v":""},{"$f":"IF($E31=\"\",\"\",IF(INDEX('E_Tokovi izvora'!$A:$N,CU31,P$7)=\"\",\"\",INDEX('E_Tokovi izvora'!$A:$N,CU31,P$7)))","v":""},{"$f":"IF($E31=\"\",\"\",IF(INDEX('E_Tokovi izvora'!$A:$N,CV31,Q$7)=\"\",\"\",INDEX('E_Tokovi izvora'!$A:$N,CV31,Q$7)))","v":""},{"$f":"IF($E31=\"\",\"\",IF(INDEX('E_Tokovi izvora'!$A:$N,CW31,R$7)=\"\",\"\",INDEX('E_Tokovi izvora'!$A:$N,CW31,R$7)))","v":""},{"$f":"IF($E31=\"\",\"\",IF(INDEX('E_Tokovi izvora'!$A:$N,CX31,S$7)=\"\",\"\",INDEX('E_Tokovi izvora'!$A:$N,CX31,S$7)))","v":""},{"$f":"IF($E31=\"\",\"\",IF(INDEX('E_Tokovi izvora'!$A:$N,CY31,T$7)=\"\",\"\",INDEX('E_Tokovi izvora'!$A:$N,CY31,T$7)))","v":""},{"$f":"IF($E31=\"\",\"\",IF(INDEX('E_Tokovi izvora'!$A:$N,CZ31,U$7)=\"\",\"\",INDEX('E_Tokovi izvora'!$A:$N,CZ31,U$7)))","v":""},{"$f":"IF($E31=\"\",\"\",IF(INDEX('E_Tokovi izvora'!$A:$N,DA31,V$7)=\"\",\"\",INDEX('E_Tokovi izvora'!$A:$N,DA31,V$7)))","v":""},{"$f":"IF($E31=\"\",\"\",IF(INDEX('E_Tokovi izvora'!$A:$N,DB31,W$7)=\"\",\"\",INDEX('E_Tokovi izvora'!$A:$N,DB31,W$7)))","v":""},{"$f":"IF($E31=\"\",\"\",IF(INDEX('E_Tokovi izvora'!$A:$N,DC31,X$7)=\"\",\"\",INDEX('E_Tokovi izvora'!$A:$N,DC31,X$7)))","v":""},{"$f":"IF($E31=\"\",\"\",IF(INDEX('E_Tokovi izvora'!$A:$N,DD31,Y$7)=\"\",\"\",INDEX('E_Tokovi izvora'!$A:$N,DD31,Y$7)))","v":""},{"$f":"IF($E31=\"\",\"\",IF(INDEX('E_Tokovi izvora'!$A:$N,DE31,Z$7)=\"\",\"\",INDEX('E_Tokovi izvora'!$A:$N,DE31,Z$7)))","v":""},{"$f":"IF($E31=\"\",\"\",IF(INDEX('E_Tokovi izvora'!$A:$N,DF31,AA$7)=\"\",\"\",INDEX('E_Tokovi izvora'!$A:$N,DF31,AA$7)))","v":""},{"$f":"IF($E31=\"\",\"\",IF(INDEX('E_Tokovi izvora'!$A:$N,DG31,AB$7)=\"\",\"\",INDEX('E_Tokovi izvora'!$A:$N,DG31,AB$7)))","v":""},{"$f":"IF($E31=\"\",\"\",IF(INDEX('E_Tokovi izvora'!$A:$N,DH31,AC$7)=\"\",\"\",INDEX('E_Tokovi izvora'!$A:$N,DH31,AC$7)))","v":""},{"$f":"IF($E31=\"\",\"\",IF(INDEX('E_Tokovi izvora'!$A:$N,DI31,AD$7)=\"\",\"\",INDEX('E_Tokovi izvora'!$A:$N,DI31,AD$7)))","v":""},{"$f":"IF($E31=\"\",\"\",IF(INDEX('E_Tokovi izvora'!$A:$N,DJ31,AE$7)=\"\",\"\",INDEX('E_Tokovi izvora'!$A:$N,DJ31,AE$7)))","v":""},{"$f":"IF($E31=\"\",\"\",IF(INDEX('E_Tokovi izvora'!$A:$N,DK31,AF$7)=\"\",\"\",INDEX('E_Tokovi izvora'!$A:$N,DK31,AF$7)))","v":""},{"$f":"IF($E31=\"\",\"\",IF(INDEX('E_Tokovi izvora'!$A:$N,DL31,AG$7)=\"\",\"\",INDEX('E_Tokovi izvora'!$A:$N,DL31,AG$7)))","v":""},{"$f":"IF($E31=\"\",\"\",IF(INDEX('E_Tokovi izvora'!$A:$N,DM31,AH$7)=\"\",\"\",INDEX('E_Tokovi izvora'!$A:$N,DM31,AH$7)))","v":""},{"$f":"IF($E31=\"\",\"\",IF(INDEX('E_Tokovi izvora'!$A:$N,DN31,AI$7)=\"\",\"\",INDEX('E_Tokovi izvora'!$A:$N,DN31,AI$7)))","v":""},{"$f":"IF($E31=\"\",\"\",IF(INDEX('E_Tokovi izvora'!$A:$N,DO31,AJ$7)=\"\",\"\",INDEX('E_Tokovi izvora'!$A:$N,DO31,AJ$7)))","v":""},{"$f":"IF($E31=\"\",\"\",IF(INDEX('E_Tokovi izvora'!$A:$N,DP31,AK$7)=\"\",\"\",INDEX('E_Tokovi izvora'!$A:$N,DP31,AK$7)))","v":""},{"$f":"IF($E31=\"\",\"\",IF(INDEX('E_Tokovi izvora'!$A:$N,DQ31,AL$7)=\"\",\"\",INDEX('E_Tokovi izvora'!$A:$N,DQ31,AL$7)))","v":""},{"$f":"IF($E31=\"\",\"\",IF(INDEX('E_Tokovi izvora'!$A:$N,DR31,AM$7)=\"\",\"\",INDEX('E_Tokovi izvora'!$A:$N,DR31,AM$7)))","v":""},{"$f":"IF($E31=\"\",\"\",IF(INDEX('E_Tokovi izvora'!$A:$N,DS31,AN$7)=\"\",\"\",INDEX('E_Tokovi izvora'!$A:$N,DS31,AN$7)))","v":""},{"$f":"IF($E31=\"\",\"\",IF(INDEX('E_Tokovi izvora'!$A:$N,DT31,AO$7)=\"\",\"\",INDEX('E_Tokovi izvora'!$A:$N,DT31,AO$7)))","v":""},{"$f":"IF($E31=\"\",\"\",IF(INDEX('E_Tokovi izvora'!$A:$N,DU31,AP$7)=\"\",\"\",INDEX('E_Tokovi izvora'!$A:$N,DU31,AP$7)))","v":""},{"$f":"IF($E31=\"\",\"\",IF(INDEX('E_Tokovi izvora'!$A:$N,DV31,AQ$7)=\"\",\"\",INDEX('E_Tokovi izvora'!$A:$N,DV31,AQ$7)))","v":""},{"$f":"IF($E31=\"\",\"\",IF(INDEX('E_Tokovi izvora'!$A:$N,DW31,AR$7)=\"\",\"\",INDEX('E_Tokovi izvora'!$A:$N,DW31,AR$7)))","v":""},{"$f":"IF($E31=\"\",\"\",IF(INDEX('E_Tokovi izvora'!$A:$N,DX31,AS$7)=\"\",\"\",INDEX('E_Tokovi izvora'!$A:$N,DX31,AS$7)))","v":""},{"$f":"IF($E31=\"\",\"\",IF(INDEX('E_Tokovi izvora'!$A:$N,DY31,AT$7)=\"\",\"\",INDEX('E_Tokovi izvora'!$A:$N,DY31,AT$7)))","v":""},{"$f":"IF($E31=\"\",\"\",IF(INDEX('E_Tokovi izvora'!$A:$N,DZ31,AU$7)=\"\",\"\",INDEX('E_Tokovi izvora'!$A:$N,DZ31,AU$7)))","v":""},{"$f":"IF($E31=\"\",\"\",IF(INDEX('E_Tokovi izvora'!$A:$N,EA31,AV$7)=\"\",\"\",INDEX('E_Tokovi izvora'!$A:$N,EA31,AV$7)))","v":""},{"$f":"IF($E31=\"\",\"\",IF(INDEX('E_Tokovi izvora'!$A:$N,EB31,AW$7)=\"\",\"\",INDEX('E_Tokovi izvora'!$A:$N,EB31,AW$7)))","v":""},{"$f":"IF($E31=\"\",\"\",IF(INDEX('E_Tokovi izvora'!$A:$N,EC31,AX$7)=\"\",\"\",INDEX('E_Tokovi izvora'!$A:$N,EC31,AX$7)))","v":""},{"$f":"IF($E31=\"\",\"\",IF(INDEX('E_Tokovi izvora'!$A:$N,ED31,AY$7)=\"\",\"\",INDEX('E_Tokovi izvora'!$A:$N,ED31,AY$7)))","v":""},{"$f":"IF($E31=\"\",\"\",IF(INDEX('E_Tokovi izvora'!$A:$N,EE31,AZ$7)=\"\",\"\",INDEX('E_Tokovi izvora'!$A:$N,EE31,AZ$7)))","v":""},{"$f":"IF($E31=\"\",\"\",IF(INDEX('E_Tokovi izvora'!$A:$N,EF31,BA$7)=\"\",\"\",INDEX('E_Tokovi izvora'!$A:$N,EF31,BA$7)))","v":""},{"$f":"IF($E31=\"\",\"\",IF(INDEX('E_Tokovi izvora'!$A:$N,EG31,BB$7)=\"\",\"\",INDEX('E_Tokovi izvora'!$A:$N,EG31,BB$7)))","v":""},{"$f":"IF($E31=\"\",\"\",IF(INDEX('E_Tokovi izvora'!$A:$N,EH31,BC$7)=\"\",\"\",INDEX('E_Tokovi izvora'!$A:$N,EH31,BC$7)))","v":""},{"$f":"IF($E31=\"\",\"\",IF(INDEX('E_Tokovi izvora'!$A:$N,EI31,BD$7)=\"\",\"\",INDEX('E_Tokovi izvora'!$A:$N,EI31,BD$7)))","v":""},{"$f":"IF($E31=\"\",\"\",IF(INDEX('E_Tokovi izvora'!$A:$N,EJ31,BE$7)=\"\",\"\",INDEX('E_Tokovi izvora'!$A:$N,EJ31,BE$7)))","v":""},{"$f":"IF($E31=\"\",\"\",IF(INDEX('E_Tokovi izvora'!$A:$N,EK31,BF$7)=\"\",\"\",INDEX('E_Tokovi izvora'!$A:$N,EK31,BF$7)))","v":""},{"$f":"IF($E31=\"\",\"\",IF(INDEX('E_Tokovi izvora'!$A:$N,EL31,BG$7)=\"\",\"\",INDEX('E_Tokovi izvora'!$A:$N,EL31,BG$7)))","v":""},{"$f":"IF($E31=\"\",\"\",IF(INDEX('E_Tokovi izvora'!$A:$N,EM31,BH$7)=\"\",\"\",INDEX('E_Tokovi izvora'!$A:$N,EM31,BH$7)))","v":""},{"$f":"IF($E31=\"\",\"\",IF(INDEX('E_Tokovi izvora'!$A:$N,EN31,BI$7)=\"\",\"\",INDEX('E_Tokovi izvora'!$A:$N,EN31,BI$7)))","v":""},{"$f":"IF($E31=\"\",\"\",IF(INDEX('E_Tokovi izvora'!$A:$N,EO31,BJ$7)=\"\",\"\",INDEX('E_Tokovi izvora'!$A:$N,EO31,BJ$7)))","v":""},{"$f":"IF($E31=\"\",\"\",IF(INDEX('E_Tokovi izvora'!$A:$N,EP31,BK$7)=\"\",\"\",INDEX('E_Tokovi izvora'!$A:$N,EP31,BK$7)))","v":""},{"$f":"IF($E31=\"\",\"\",IF(INDEX('E_Tokovi izvora'!$A:$N,EQ31,BL$7)=\"\",\"\",INDEX('E_Tokovi izvora'!$A:$N,EQ31,BL$7)))","v":""},{"$f":"IF($E31=\"\",\"\",IF(INDEX('E_Tokovi izvora'!$A:$N,ER31,BM$7)=\"\",\"\",INDEX('E_Tokovi izvora'!$A:$N,ER31,BM$7)))","v":""},{"$f":"IF($E31=\"\",\"\",IF(INDEX('E_Tokovi izvora'!$A:$N,ES31,BN$7)=\"\",\"\",INDEX('E_Tokovi izvora'!$A:$N,ES31,BN$7)))","v":""},{"$f":"IF($E31=\"\",\"\",IF(INDEX('E_Tokovi izvora'!$A:$N,ET31,BO$7)=\"\",\"\",INDEX('E_Tokovi izvora'!$A:$N,ET31,BO$7)))","v":""},{"$f":"IF($E31=\"\",\"\",IF(INDEX('E_Tokovi izvora'!$A:$N,EU31,BP$7)=\"\",\"\",INDEX('E_Tokovi izvora'!$A:$N,EU31,BP$7)))","v":""},{"$f":"IF($E31=\"\",\"\",IF(INDEX('E_Tokovi izvora'!$A:$N,EV31,BQ$7)=\"\",\"\",INDEX('E_Tokovi izvora'!$A:$N,EV31,BQ$7)))","v":""},{"$f":"IF($E31=\"\",\"\",IF(INDEX('E_Tokovi izvora'!$A:$N,EW31,BR$7)=\"\",\"\",INDEX('E_Tokovi izvora'!$A:$N,EW31,BR$7)))","v":""},{"$f":"IF($E31=\"\",\"\",IF(INDEX('E_Tokovi izvora'!$A:$N,EX31,BS$7)=\"\",\"\",INDEX('E_Tokovi izvora'!$A:$N,EX31,BS$7)))","v":""},{"$f":"IF($E31=\"\",\"\",IF(INDEX('E_Tokovi izvora'!$A:$N,EY31,BT$7)=\"\",\"\",INDEX('E_Tokovi izvora'!$A:$N,EY31,BT$7)))","v":""},null,null,null,null,null,null,null,null,null,null,null,null,null,null,null,"SourceCategory_",{"$f":"INDEX('C_Opis postrojenja'!$A$226:$A$332,ROWS($CI$11:CI31))=\"ausblenden\"","v":false},"SourceStreamName_",null,1453,1455,1457,1459,1461,1463,1465,1465,1465,1465,1465,1468,1472,1473,1474,1481,1491,1491,1491,1491,1491,1491,1491,1482,1492,1492,1492,1492,1492,1492,1492,1483,1493,1493,1493,1493,1493,1493,1493,1484,1494,1494,1494,1494,1494,1494,1494,1485,1495,1495,1495,1495,1495,1495,1495,1486,1496,1496,1496,1496,1496,1496,1496,1502]
[null,{"$f":"IF(COUNTIF($CK$10:CK32,TRUE)>0,\"\",INDEX('C_Opis postrojenja'!$E$226:$E$242,ROWS($A$11:A32)))","v":""},{"$f":"IF($E32=\"\",\"\",INDEX('C_Opis postrojenja'!F:F,MATCH($B32,'C_Opis postrojenja'!$E:$E,0)))","v":""},{"$f":"IF($E32=\"\",\"\",INDEX('C_Opis postrojenja'!I:I,MATCH($B32,'C_Opis postrojenja'!$E:$E,0)))","v":""},{"$f":"IF($B32=\"\",\"\",INDEX('C_Opis postrojenja'!F:F,MATCH($CJ32,'C_Opis postrojenja'!$Q:$Q,0)))","v":""},{"$f":"IF($E32=\"\",\"\",INDEX('C_Opis postrojenja'!L:L,MATCH($CJ32,'C_Opis postrojenja'!$Q:$Q,0)))","v":""},{"$f":"IF($E32=\"\",\"\",INDEX('C_Opis postrojenja'!M:M,MATCH($CJ32,'C_Opis postrojenja'!$Q:$Q,0)))","v":""},{"$f":"IF($E32=\"\",\"\",INDEX('C_Opis postrojenja'!N:N,MATCH($CJ32,'C_Opis postrojenja'!$Q:$Q,0)))","v":""},{"$f":"IF($E32=\"\",\"\",IF(INDEX('E_Tokovi izvora'!$A:$N,CN32,I$7)=\"\",\"\",INDEX('E_Tokovi izvora'!$A:$N,CN32,I$7)))","v":""},{"$f":"IF($E32=\"\",\"\",IF(INDEX('E_Tokovi izvora'!$A:$N,CO32,J$7)=\"\",\"\",INDEX('E_Tokovi izvora'!$A:$N,CO32,J$7)))","v":""},{"$f":"IF($E32=\"\",\"\",IF(INDEX('E_Tokovi izvora'!$A:$N,CP32,K$7)=\"\",\"\",INDEX('E_Tokovi izvora'!$A:$N,CP32,K$7)))","v":""},{"$f":"IF($E32=\"\",\"\",IF(INDEX('E_Tokovi izvora'!$A:$N,CQ32,L$7)=\"\",\"\",INDEX('E_Tokovi izvora'!$A:$N,CQ32,L$7)))","v":""},{"$f":"IF($E32=\"\",\"\",IF(INDEX('E_Tokovi izvora'!$A:$N,CR32,M$7)=\"\",\"\",INDEX('E_Tokovi izvora'!$A:$N,CR32,M$7)))","v":""},{"$f":"IF($E32=\"\",\"\",IF(INDEX('E_Tokovi izvora'!$A:$N,CS32,N$7)=\"\",\"\",INDEX('E_Tokovi izvora'!$A:$N,CS32,N$7)))","v":""},{"$f":"IF($E32=\"\",\"\",IF(INDEX('E_Tokovi izvora'!$A:$N,CT32,O$7)=\"\",\"\",INDEX('E_Tokovi izvora'!$A:$N,CT32,O$7)))","v":""},{"$f":"IF($E32=\"\",\"\",IF(INDEX('E_Tokovi izvora'!$A:$N,CU32,P$7)=\"\",\"\",INDEX('E_Tokovi izvora'!$A:$N,CU32,P$7)))","v":""},{"$f":"IF($E32=\"\",\"\",IF(INDEX('E_Tokovi izvora'!$A:$N,CV32,Q$7)=\"\",\"\",INDEX('E_Tokovi izvora'!$A:$N,CV32,Q$7)))","v":""},{"$f":"IF($E32=\"\",\"\",IF(INDEX('E_Tokovi izvora'!$A:$N,CW32,R$7)=\"\",\"\",INDEX('E_Tokovi izvora'!$A:$N,CW32,R$7)))","v":""},{"$f":"IF($E32=\"\",\"\",IF(INDEX('E_Tokovi izvora'!$A:$N,CX32,S$7)=\"\",\"\",INDEX('E_Tokovi izvora'!$A:$N,CX32,S$7)))","v":""},{"$f":"IF($E32=\"\",\"\",IF(INDEX('E_Tokovi izvora'!$A:$N,CY32,T$7)=\"\",\"\",INDEX('E_Tokovi izvora'!$A:$N,CY32,T$7)))","v":""},{"$f":"IF($E32=\"\",\"\",IF(INDEX('E_Tokovi izvora'!$A:$N,CZ32,U$7)=\"\",\"\",INDEX('E_Tokovi izvora'!$A:$N,CZ32,U$7)))","v":""},{"$f":"IF($E32=\"\",\"\",IF(INDEX('E_Tokovi izvora'!$A:$N,DA32,V$7)=\"\",\"\",INDEX('E_Tokovi izvora'!$A:$N,DA32,V$7)))","v":""},{"$f":"IF($E32=\"\",\"\",IF(INDEX('E_Tokovi izvora'!$A:$N,DB32,W$7)=\"\",\"\",INDEX('E_Tokovi izvora'!$A:$N,DB32,W$7)))","v":""},{"$f":"IF($E32=\"\",\"\",IF(INDEX('E_Tokovi izvora'!$A:$N,DC32,X$7)=\"\",\"\",INDEX('E_Tokovi izvora'!$A:$N,DC32,X$7)))","v":""},{"$f":"IF($E32=\"\",\"\",IF(INDEX('E_Tokovi izvora'!$A:$N,DD32,Y$7)=\"\",\"\",INDEX('E_Tokovi izvora'!$A:$N,DD32,Y$7)))","v":""},{"$f":"IF($E32=\"\",\"\",IF(INDEX('E_Tokovi izvora'!$A:$N,DE32,Z$7)=\"\",\"\",INDEX('E_Tokovi izvora'!$A:$N,DE32,Z$7)))","v":""},{"$f":"IF($E32=\"\",\"\",IF(INDEX('E_Tokovi izvora'!$A:$N,DF32,AA$7)=\"\",\"\",INDEX('E_Tokovi izvora'!$A:$N,DF32,AA$7)))","v":""},{"$f":"IF($E32=\"\",\"\",IF(INDEX('E_Tokovi izvora'!$A:$N,DG32,AB$7)=\"\",\"\",INDEX('E_Tokovi izvora'!$A:$N,DG32,AB$7)))","v":""},{"$f":"IF($E32=\"\",\"\",IF(INDEX('E_Tokovi izvora'!$A:$N,DH32,AC$7)=\"\",\"\",INDEX('E_Tokovi izvora'!$A:$N,DH32,AC$7)))","v":""},{"$f":"IF($E32=\"\",\"\",IF(INDEX('E_Tokovi izvora'!$A:$N,DI32,AD$7)=\"\",\"\",INDEX('E_Tokovi izvora'!$A:$N,DI32,AD$7)))","v":""},{"$f":"IF($E32=\"\",\"\",IF(INDEX('E_Tokovi izvora'!$A:$N,DJ32,AE$7)=\"\",\"\",INDEX('E_Tokovi izvora'!$A:$N,DJ32,AE$7)))","v":""},{"$f":"IF($E32=\"\",\"\",IF(INDEX('E_Tokovi izvora'!$A:$N,DK32,AF$7)=\"\",\"\",INDEX('E_Tokovi izvora'!$A:$N,DK32,AF$7)))","v":""},{"$f":"IF($E32=\"\",\"\",IF(INDEX('E_Tokovi izvora'!$A:$N,DL32,AG$7)=\"\",\"\",INDEX('E_Tokovi izvora'!$A:$N,DL32,AG$7)))","v":""},{"$f":"IF($E32=\"\",\"\",IF(INDEX('E_Tokovi izvora'!$A:$N,DM32,AH$7)=\"\",\"\",INDEX('E_Tokovi izvora'!$A:$N,DM32,AH$7)))","v":""},{"$f":"IF($E32=\"\",\"\",IF(INDEX('E_Tokovi izvora'!$A:$N,DN32,AI$7)=\"\",\"\",INDEX('E_Tokovi izvora'!$A:$N,DN32,AI$7)))","v":""},{"$f":"IF($E32=\"\",\"\",IF(INDEX('E_Tokovi izvora'!$A:$N,DO32,AJ$7)=\"\",\"\",INDEX('E_Tokovi izvora'!$A:$N,DO32,AJ$7)))","v":""},{"$f":"IF($E32=\"\",\"\",IF(INDEX('E_Tokovi izvora'!$A:$N,DP32,AK$7)=\"\",\"\",INDEX('E_Tokovi izvora'!$A:$N,DP32,AK$7)))","v":""},{"$f":"IF($E32=\"\",\"\",IF(INDEX('E_Tokovi izvora'!$A:$N,DQ32,AL$7)=\"\",\"\",INDEX('E_Tokovi izvora'!$A:$N,DQ32,AL$7)))","v":""},{"$f":"IF($E32=\"\",\"\",IF(INDEX('E_Tokovi izvora'!$A:$N,DR32,AM$7)=\"\",\"\",INDEX('E_Tokovi izvora'!$A:$N,DR32,AM$7)))","v":""},{"$f":"IF($E32=\"\",\"\",IF(INDEX('E_Tokovi izvora'!$A:$N,DS32,AN$7)=\"\",\"\",INDEX('E_Tokovi izvora'!$A:$N,DS32,AN$7)))","v":""},{"$f":"IF($E32=\"\",\"\",IF(INDEX('E_Tokovi izvora'!$A:$N,DT32,AO$7)=\"\",\"\",INDEX('E_Tokovi izvora'!$A:$N,DT32,AO$7)))","v":""},{"$f":"IF($E32=\"\",\"\",IF(INDEX('E_Tokovi izvora'!$A:$N,DU32,AP$7)=\"\",\"\",INDEX('E_Tokovi izvora'!$A:$N,DU32,AP$7)))","v":""},{"$f":"IF($E32=\"\",\"\",IF(INDEX('E_Tokovi izvora'!$A:$N,DV32,AQ$7)=\"\",\"\",INDEX('E_Tokovi izvora'!$A:$N,DV32,AQ$7)))","v":""},{"$f":"IF($E32=\"\",\"\",IF(INDEX('E_Tokovi izvora'!$A:$N,DW32,AR$7)=\"\",\"\",INDEX('E_Tokovi izvora'!$A:$N,DW32,AR$7)))","v":""},{"$f":"IF($E32=\"\",\"\",IF(INDEX('E_Tokovi izvora'!$A:$N,DX32,AS$7)=\"\",\"\",INDEX('E_Tokovi izvora'!$A:$N,DX32,AS$7)))","v":""},{"$f":"IF($E32=\"\",\"\",IF(INDEX('E_Tokovi izvora'!$A:$N,DY32,AT$7)=\"\",\"\",INDEX('E_Tokovi izvora'!$A:$N,DY32,AT$7)))","v":""},{"$f":"IF($E32=\"\",\"\",IF(INDEX('E_Tokovi izvora'!$A:$N,DZ32,AU$7)=\"\",\"\",INDEX('E_Tokovi izvora'!$A:$N,DZ32,AU$7)))","v":""},{"$f":"IF($E32=\"\",\"\",IF(INDEX('E_Tokovi izvora'!$A:$N,EA32,AV$7)=\"\",\"\",INDEX('E_Tokovi izvora'!$A:$N,EA32,AV$7)))","v":""},{"$f":"IF($E32=\"\",\"\",IF(INDEX('E_Tokovi izvora'!$A:$N,EB32,AW$7)=\"\",\"\",INDEX('E_Tokovi izvora'!$A:$N,EB32,AW$7)))","v":""},{"$f":"IF($E32=\"\",\"\",IF(INDEX('E_Tokovi izvora'!$A:$N,EC32,AX$7)=\"\",\"\",INDEX('E_Tokovi izvora'!$A:$N,EC32,AX$7)))","v":""},{"$f":"IF($E32=\"\",\"\",IF(INDEX('E_Tokovi izvora'!$A:$N,ED32,AY$7)=\"\",\"\",INDEX('E_Tokovi izvora'!$A:$N,ED32,AY$7)))","v":""},{"$f":"IF($E32=\"\",\"\",IF(INDEX('E_Tokovi izvora'!$A:$N,EE32,AZ$7)=\"\",\"\",INDEX('E_Tokovi izvora'!$A:$N,EE32,AZ$7)))","v":""},{"$f":"IF($E32=\"\",\"\",IF(INDEX('E_Tokovi izvora'!$A:$N,EF32,BA$7)=\"\",\"\",INDEX('E_Tokovi izvora'!$A:$N,EF32,BA$7)))","v":""},{"$f":"IF($E32=\"\",\"\",IF(INDEX('E_Tokovi izvora'!$A:$N,EG32,BB$7)=\"\",\"\",INDEX('E_Tokovi izvora'!$A:$N,EG32,BB$7)))","v":""},{"$f":"IF($E32=\"\",\"\",IF(INDEX('E_Tokovi izvora'!$A:$N,EH32,BC$7)=\"\",\"\",INDEX('E_Tokovi izvora'!$A:$N,EH32,BC$7)))","v":""},{"$f":"IF($E32=\"\",\"\",IF(INDEX('E_Tokovi izvora'!$A:$N,EI32,BD$7)=\"\",\"\",INDEX('E_Tokovi izvora'!$A:$N,EI32,BD$7)))","v":""},{"$f":"IF($E32=\"\",\"\",IF(INDEX('E_Tokovi izvora'!$A:$N,EJ32,BE$7)=\"\",\"\",INDEX('E_Tokovi izvora'!$A:$N,EJ32,BE$7)))","v":""},{"$f":"IF($E32=\"\",\"\",IF(INDEX('E_Tokovi izvora'!$A:$N,EK32,BF$7)=\"\",\"\",INDEX('E_Tokovi izvora'!$A:$N,EK32,BF$7)))","v":""},{"$f":"IF($E32=\"\",\"\",IF(INDEX('E_Tokovi izvora'!$A:$N,EL32,BG$7)=\"\",\"\",INDEX('E_Tokovi izvora'!$A:$N,EL32,BG$7)))","v":""},{"$f":"IF($E32=\"\",\"\",IF(INDEX('E_Tokovi izvora'!$A:$N,EM32,BH$7)=\"\",\"\",INDEX('E_Tokovi izvora'!$A:$N,EM32,BH$7)))","v":""},{"$f":"IF($E32=\"\",\"\",IF(INDEX('E_Tokovi izvora'!$A:$N,EN32,BI$7)=\"\",\"\",INDEX('E_Tokovi izvora'!$A:$N,EN32,BI$7)))","v":""},{"$f":"IF($E32=\"\",\"\",IF(INDEX('E_Tokovi izvora'!$A:$N,EO32,BJ$7)=\"\",\"\",INDEX('E_Tokovi izvora'!$A:$N,EO32,BJ$7)))","v":""},{"$f":"IF($E32=\"\",\"\",IF(INDEX('E_Tokovi izvora'!$A:$N,EP32,BK$7)=\"\",\"\",INDEX('E_Tokovi izvora'!$A:$N,EP32,BK$7)))","v":""},{"$f":"IF($E32=\"\",\"\",IF(INDEX('E_Tokovi izvora'!$A:$N,EQ32,BL$7)=\"\",\"\",INDEX('E_Tokovi izvora'!$A:$N,EQ32,BL$7)))","v":""},{"$f":"IF($E32=\"\",\"\",IF(INDEX('E_Tokovi izvora'!$A:$N,ER32,BM$7)=\"\",\"\",INDEX('E_Tokovi izvora'!$A:$N,ER32,BM$7)))","v":""},{"$f":"IF($E32=\"\",\"\",IF(INDEX('E_Tokovi izvora'!$A:$N,ES32,BN$7)=\"\",\"\",INDEX('E_Tokovi izvora'!$A:$N,ES32,BN$7)))","v":""},{"$f":"IF($E32=\"\",\"\",IF(INDEX('E_Tokovi izvora'!$A:$N,ET32,BO$7)=\"\",\"\",INDEX('E_Tokovi izvora'!$A:$N,ET32,BO$7)))","v":""},{"$f":"IF($E32=\"\",\"\",IF(INDEX('E_Tokovi izvora'!$A:$N,EU32,BP$7)=\"\",\"\",INDEX('E_Tokovi izvora'!$A:$N,EU32,BP$7)))","v":""},{"$f":"IF($E32=\"\",\"\",IF(INDEX('E_Tokovi izvora'!$A:$N,EV32,BQ$7)=\"\",\"\",INDEX('E_Tokovi izvora'!$A:$N,EV32,BQ$7)))","v":""},{"$f":"IF($E32=\"\",\"\",IF(INDEX('E_Tokovi izvora'!$A:$N,EW32,BR$7)=\"\",\"\",INDEX('E_Tokovi izvora'!$A:$N,EW32,BR$7)))","v":""},{"$f":"IF($E32=\"\",\"\",IF(INDEX('E_Tokovi izvora'!$A:$N,EX32,BS$7)=\"\",\"\",INDEX('E_Tokovi izvora'!$A:$N,EX32,BS$7)))","v":""},{"$f":"IF($E32=\"\",\"\",IF(INDEX('E_Tokovi izvora'!$A:$N,EY32,BT$7)=\"\",\"\",INDEX('E_Tokovi izvora'!$A:$N,EY32,BT$7)))","v":""},null,null,null,null,null,null,null,null,null,null,null,null,null,null,null,"SourceCategory_",{"$f":"INDEX('C_Opis postrojenja'!$A$226:$A$332,ROWS($CI$11:CI32))=\"ausblenden\"","v":false},"SourceStreamName_",null,1519,1521,1523,1525,1527,1529,1531,1531,1531,1531,1531,1534,1538,1539,1540,1547,1557,1557,1557,1557,1557,1557,1557,1548,1558,1558,1558,1558,1558,1558,1558,1549,1559,1559,1559,1559,1559,1559,1559,1550,1560,1560,1560,1560,1560,1560,1560,1551,1561,1561,1561,1561,1561,1561,1561,1552,1562,1562,1562,1562,1562,1562,1562,1568]
[null,{"$f":"IF(COUNTIF($CK$10:CK33,TRUE)>0,\"\",INDEX('C_Opis postrojenja'!$E$226:$E$242,ROWS($A$11:A33)))","v":""},{"$f":"IF($E33=\"\",\"\",INDEX('C_Opis postrojenja'!F:F,MATCH($B33,'C_Opis postrojenja'!$E:$E,0)))","v":""},{"$f":"IF($E33=\"\",\"\",INDEX('C_Opis postrojenja'!I:I,MATCH($B33,'C_Opis postrojenja'!$E:$E,0)))","v":""},{"$f":"IF($B33=\"\",\"\",INDEX('C_Opis postrojenja'!F:F,MATCH($CJ33,'C_Opis postrojenja'!$Q:$Q,0)))","v":""},{"$f":"IF($E33=\"\",\"\",INDEX('C_Opis postrojenja'!L:L,MATCH($CJ33,'C_Opis postrojenja'!$Q:$Q,0)))","v":""},{"$f":"IF($E33=\"\",\"\",INDEX('C_Opis postrojenja'!M:M,MATCH($CJ33,'C_Opis postrojenja'!$Q:$Q,0)))","v":""},{"$f":"IF($E33=\"\",\"\",INDEX('C_Opis postrojenja'!N:N,MATCH($CJ33,'C_Opis postrojenja'!$Q:$Q,0)))","v":""},{"$f":"IF($E33=\"\",\"\",IF(INDEX('E_Tokovi izvora'!$A:$N,CN33,I$7)=\"\",\"\",INDEX('E_Tokovi izvora'!$A:$N,CN33,I$7)))","v":""},{"$f":"IF($E33=\"\",\"\",IF(INDEX('E_Tokovi izvora'!$A:$N,CO33,J$7)=\"\",\"\",INDEX('E_Tokovi izvora'!$A:$N,CO33,J$7)))","v":""},{"$f":"IF($E33=\"\",\"\",IF(INDEX('E_Tokovi izvora'!$A:$N,CP33,K$7)=\"\",\"\",INDEX('E_Tokovi izvora'!$A:$N,CP33,K$7)))","v":""},{"$f":"IF($E33=\"\",\"\",IF(INDEX('E_Tokovi izvora'!$A:$N,CQ33,L$7)=\"\",\"\",INDEX('E_Tokovi izvora'!$A:$N,CQ33,L$7)))","v":""},{"$f":"IF($E33=\"\",\"\",IF(INDEX('E_Tokovi izvora'!$A:$N,CR33,M$7)=\"\",\"\",INDEX('E_Tokovi izvora'!$A:$N,CR33,M$7)))","v":""},{"$f":"IF($E33=\"\",\"\",IF(INDEX('E_Tokovi izvora'!$A:$N,CS33,N$7)=\"\",\"\",INDEX('E_Tokovi izvora'!$A:$N,CS33,N$7)))","v":""},{"$f":"IF($E33=\"\",\"\",IF(INDEX('E_Tokovi izvora'!$A:$N,CT33,O$7)=\"\",\"\",INDEX('E_Tokovi izvora'!$A:$N,CT33,O$7)))","v":""},{"$f":"IF($E33=\"\",\"\",IF(INDEX('E_Tokovi izvora'!$A:$N,CU33,P$7)=\"\",\"\",INDEX('E_Tokovi izvora'!$A:$N,CU33,P$7)))","v":""},{"$f":"IF($E33=\"\",\"\",IF(INDEX('E_Tokovi izvora'!$A:$N,CV33,Q$7)=\"\",\"\",INDEX('E_Tokovi izvora'!$A:$N,CV33,Q$7)))","v":""},{"$f":"IF($E33=\"\",\"\",IF(INDEX('E_Tokovi izvora'!$A:$N,CW33,R$7)=\"\",\"\",INDEX('E_Tokovi izvora'!$A:$N,CW33,R$7)))","v":""},{"$f":"IF($E33=\"\",\"\",IF(INDEX('E_Tokovi izvora'!$A:$N,CX33,S$7)=\"\",\"\",INDEX('E_Tokovi izvora'!$A:$N,CX33,S$7)))","v":""},{"$f":"IF($E33=\"\",\"\",IF(INDEX('E_Tokovi izvora'!$A:$N,CY33,T$7)=\"\",\"\",INDEX('E_Tokovi izvora'!$A:$N,CY33,T$7)))","v":""},{"$f":"IF($E33=\"\",\"\",IF(INDEX('E_Tokovi izvora'!$A:$N,CZ33,U$7)=\"\",\"\",INDEX('E_Tokovi izvora'!$A:$N,CZ33,U$7)))","v":""},{"$f":"IF($E33=\"\",\"\",IF(INDEX('E_Tokovi izvora'!$A:$N,DA33,V$7)=\"\",\"\",INDEX('E_Tokovi izvora'!$A:$N,DA33,V$7)))","v":""},{"$f":"IF($E33=\"\",\"\",IF(INDEX('E_Tokovi izvora'!$A:$N,DB33,W$7)=\"\",\"\",INDEX('E_Tokovi izvora'!$A:$N,DB33,W$7)))","v":""},{"$f":"IF($E33=\"\",\"\",IF(INDEX('E_Tokovi izvora'!$A:$N,DC33,X$7)=\"\",\"\",INDEX('E_Tokovi izvora'!$A:$N,DC33,X$7)))","v":""},{"$f":"IF($E33=\"\",\"\",IF(INDEX('E_Tokovi izvora'!$A:$N,DD33,Y$7)=\"\",\"\",INDEX('E_Tokovi izvora'!$A:$N,DD33,Y$7)))","v":""},{"$f":"IF($E33=\"\",\"\",IF(INDEX('E_Tokovi izvora'!$A:$N,DE33,Z$7)=\"\",\"\",INDEX('E_Tokovi izvora'!$A:$N,DE33,Z$7)))","v":""},{"$f":"IF($E33=\"\",\"\",IF(INDEX('E_Tokovi izvora'!$A:$N,DF33,AA$7)=\"\",\"\",INDEX('E_Tokovi izvora'!$A:$N,DF33,AA$7)))","v":""},{"$f":"IF($E33=\"\",\"\",IF(INDEX('E_Tokovi izvora'!$A:$N,DG33,AB$7)=\"\",\"\",INDEX('E_Tokovi izvora'!$A:$N,DG33,AB$7)))","v":""},{"$f":"IF($E33=\"\",\"\",IF(INDEX('E_Tokovi izvora'!$A:$N,DH33,AC$7)=\"\",\"\",INDEX('E_Tokovi izvora'!$A:$N,DH33,AC$7)))","v":""},{"$f":"IF($E33=\"\",\"\",IF(INDEX('E_Tokovi izvora'!$A:$N,DI33,AD$7)=\"\",\"\",INDEX('E_Tokovi izvora'!$A:$N,DI33,AD$7)))","v":""},{"$f":"IF($E33=\"\",\"\",IF(INDEX('E_Tokovi izvora'!$A:$N,DJ33,AE$7)=\"\",\"\",INDEX('E_Tokovi izvora'!$A:$N,DJ33,AE$7)))","v":""},{"$f":"IF($E33=\"\",\"\",IF(INDEX('E_Tokovi izvora'!$A:$N,DK33,AF$7)=\"\",\"\",INDEX('E_Tokovi izvora'!$A:$N,DK33,AF$7)))","v":""},{"$f":"IF($E33=\"\",\"\",IF(INDEX('E_Tokovi izvora'!$A:$N,DL33,AG$7)=\"\",\"\",INDEX('E_Tokovi izvora'!$A:$N,DL33,AG$7)))","v":""},{"$f":"IF($E33=\"\",\"\",IF(INDEX('E_Tokovi izvora'!$A:$N,DM33,AH$7)=\"\",\"\",INDEX('E_Tokovi izvora'!$A:$N,DM33,AH$7)))","v":""},{"$f":"IF($E33=\"\",\"\",IF(INDEX('E_Tokovi izvora'!$A:$N,DN33,AI$7)=\"\",\"\",INDEX('E_Tokovi izvora'!$A:$N,DN33,AI$7)))","v":""},{"$f":"IF($E33=\"\",\"\",IF(INDEX('E_Tokovi izvora'!$A:$N,DO33,AJ$7)=\"\",\"\",INDEX('E_Tokovi izvora'!$A:$N,DO33,AJ$7)))","v":""},{"$f":"IF($E33=\"\",\"\",IF(INDEX('E_Tokovi izvora'!$A:$N,DP33,AK$7)=\"\",\"\",INDEX('E_Tokovi izvora'!$A:$N,DP33,AK$7)))","v":""},{"$f":"IF($E33=\"\",\"\",IF(INDEX('E_Tokovi izvora'!$A:$N,DQ33,AL$7)=\"\",\"\",INDEX('E_Tokovi izvora'!$A:$N,DQ33,AL$7)))","v":""},{"$f":"IF($E33=\"\",\"\",IF(INDEX('E_Tokovi izvora'!$A:$N,DR33,AM$7)=\"\",\"\",INDEX('E_Tokovi izvora'!$A:$N,DR33,AM$7)))","v":""},{"$f":"IF($E33=\"\",\"\",IF(INDEX('E_Tokovi izvora'!$A:$N,DS33,AN$7)=\"\",\"\",INDEX('E_Tokovi izvora'!$A:$N,DS33,AN$7)))","v":""},{"$f":"IF($E33=\"\",\"\",IF(INDEX('E_Tokovi izvora'!$A:$N,DT33,AO$7)=\"\",\"\",INDEX('E_Tokovi izvora'!$A:$N,DT33,AO$7)))","v":""},{"$f":"IF($E33=\"\",\"\",IF(INDEX('E_Tokovi izvora'!$A:$N,DU33,AP$7)=\"\",\"\",INDEX('E_Tokovi izvora'!$A:$N,DU33,AP$7)))","v":""},{"$f":"IF($E33=\"\",\"\",IF(INDEX('E_Tokovi izvora'!$A:$N,DV33,AQ$7)=\"\",\"\",INDEX('E_Tokovi izvora'!$A:$N,DV33,AQ$7)))","v":""},{"$f":"IF($E33=\"\",\"\",IF(INDEX('E_Tokovi izvora'!$A:$N,DW33,AR$7)=\"\",\"\",INDEX('E_Tokovi izvora'!$A:$N,DW33,AR$7)))","v":""},{"$f":"IF($E33=\"\",\"\",IF(INDEX('E_Tokovi izvora'!$A:$N,DX33,AS$7)=\"\",\"\",INDEX('E_Tokovi izvora'!$A:$N,DX33,AS$7)))","v":""},{"$f":"IF($E33=\"\",\"\",IF(INDEX('E_Tokovi izvora'!$A:$N,DY33,AT$7)=\"\",\"\",INDEX('E_Tokovi izvora'!$A:$N,DY33,AT$7)))","v":""},{"$f":"IF($E33=\"\",\"\",IF(INDEX('E_Tokovi izvora'!$A:$N,DZ33,AU$7)=\"\",\"\",INDEX('E_Tokovi izvora'!$A:$N,DZ33,AU$7)))","v":""},{"$f":"IF($E33=\"\",\"\",IF(INDEX('E_Tokovi izvora'!$A:$N,EA33,AV$7)=\"\",\"\",INDEX('E_Tokovi izvora'!$A:$N,EA33,AV$7)))","v":""},{"$f":"IF($E33=\"\",\"\",IF(INDEX('E_Tokovi izvora'!$A:$N,EB33,AW$7)=\"\",\"\",INDEX('E_Tokovi izvora'!$A:$N,EB33,AW$7)))","v":""},{"$f":"IF($E33=\"\",\"\",IF(INDEX('E_Tokovi izvora'!$A:$N,EC33,AX$7)=\"\",\"\",INDEX('E_Tokovi izvora'!$A:$N,EC33,AX$7)))","v":""},{"$f":"IF($E33=\"\",\"\",IF(INDEX('E_Tokovi izvora'!$A:$N,ED33,AY$7)=\"\",\"\",INDEX('E_Tokovi izvora'!$A:$N,ED33,AY$7)))","v":""},{"$f":"IF($E33=\"\",\"\",IF(INDEX('E_Tokovi izvora'!$A:$N,EE33,AZ$7)=\"\",\"\",INDEX('E_Tokovi izvora'!$A:$N,EE33,AZ$7)))","v":""},{"$f":"IF($E33=\"\",\"\",IF(INDEX('E_Tokovi izvora'!$A:$N,EF33,BA$7)=\"\",\"\",INDEX('E_Tokovi izvora'!$A:$N,EF33,BA$7)))","v":""},{"$f":"IF($E33=\"\",\"\",IF(INDEX('E_Tokovi izvora'!$A:$N,EG33,BB$7)=\"\",\"\",INDEX('E_Tokovi izvora'!$A:$N,EG33,BB$7)))","v":""},{"$f":"IF($E33=\"\",\"\",IF(INDEX('E_Tokovi izvora'!$A:$N,EH33,BC$7)=\"\",\"\",INDEX('E_Tokovi izvora'!$A:$N,EH33,BC$7)))","v":""},{"$f":"IF($E33=\"\",\"\",IF(INDEX('E_Tokovi izvora'!$A:$N,EI33,BD$7)=\"\",\"\",INDEX('E_Tokovi izvora'!$A:$N,EI33,BD$7)))","v":""},{"$f":"IF($E33=\"\",\"\",IF(INDEX('E_Tokovi izvora'!$A:$N,EJ33,BE$7)=\"\",\"\",INDEX('E_Tokovi izvora'!$A:$N,EJ33,BE$7)))","v":""},{"$f":"IF($E33=\"\",\"\",IF(INDEX('E_Tokovi izvora'!$A:$N,EK33,BF$7)=\"\",\"\",INDEX('E_Tokovi izvora'!$A:$N,EK33,BF$7)))","v":""},{"$f":"IF($E33=\"\",\"\",IF(INDEX('E_Tokovi izvora'!$A:$N,EL33,BG$7)=\"\",\"\",INDEX('E_Tokovi izvora'!$A:$N,EL33,BG$7)))","v":""},{"$f":"IF($E33=\"\",\"\",IF(INDEX('E_Tokovi izvora'!$A:$N,EM33,BH$7)=\"\",\"\",INDEX('E_Tokovi izvora'!$A:$N,EM33,BH$7)))","v":""},{"$f":"IF($E33=\"\",\"\",IF(INDEX('E_Tokovi izvora'!$A:$N,EN33,BI$7)=\"\",\"\",INDEX('E_Tokovi izvora'!$A:$N,EN33,BI$7)))","v":""},{"$f":"IF($E33=\"\",\"\",IF(INDEX('E_Tokovi izvora'!$A:$N,EO33,BJ$7)=\"\",\"\",INDEX('E_Tokovi izvora'!$A:$N,EO33,BJ$7)))","v":""},{"$f":"IF($E33=\"\",\"\",IF(INDEX('E_Tokovi izvora'!$A:$N,EP33,BK$7)=\"\",\"\",INDEX('E_Tokovi izvora'!$A:$N,EP33,BK$7)))","v":""},{"$f":"IF($E33=\"\",\"\",IF(INDEX('E_Tokovi izvora'!$A:$N,EQ33,BL$7)=\"\",\"\",INDEX('E_Tokovi izvora'!$A:$N,EQ33,BL$7)))","v":""},{"$f":"IF($E33=\"\",\"\",IF(INDEX('E_Tokovi izvora'!$A:$N,ER33,BM$7)=\"\",\"\",INDEX('E_Tokovi izvora'!$A:$N,ER33,BM$7)))","v":""},{"$f":"IF($E33=\"\",\"\",IF(INDEX('E_Tokovi izvora'!$A:$N,ES33,BN$7)=\"\",\"\",INDEX('E_Tokovi izvora'!$A:$N,ES33,BN$7)))","v":""},{"$f":"IF($E33=\"\",\"\",IF(INDEX('E_Tokovi izvora'!$A:$N,ET33,BO$7)=\"\",\"\",INDEX('E_Tokovi izvora'!$A:$N,ET33,BO$7)))","v":""},{"$f":"IF($E33=\"\",\"\",IF(INDEX('E_Tokovi izvora'!$A:$N,EU33,BP$7)=\"\",\"\",INDEX('E_Tokovi izvora'!$A:$N,EU33,BP$7)))","v":""},{"$f":"IF($E33=\"\",\"\",IF(INDEX('E_Tokovi izvora'!$A:$N,EV33,BQ$7)=\"\",\"\",INDEX('E_Tokovi izvora'!$A:$N,EV33,BQ$7)))","v":""},{"$f":"IF($E33=\"\",\"\",IF(INDEX('E_Tokovi izvora'!$A:$N,EW33,BR$7)=\"\",\"\",INDEX('E_Tokovi izvora'!$A:$N,EW33,BR$7)))","v":""},{"$f":"IF($E33=\"\",\"\",IF(INDEX('E_Tokovi izvora'!$A:$N,EX33,BS$7)=\"\",\"\",INDEX('E_Tokovi izvora'!$A:$N,EX33,BS$7)))","v":""},{"$f":"IF($E33=\"\",\"\",IF(INDEX('E_Tokovi izvora'!$A:$N,EY33,BT$7)=\"\",\"\",INDEX('E_Tokovi izvora'!$A:$N,EY33,BT$7)))","v":""},null,null,null,null,null,null,null,null,null,null,null,null,null,null,null,"SourceCategory_",{"$f":"INDEX('C_Opis postrojenja'!$A$226:$A$332,ROWS($CI$11:CI33))=\"ausblenden\"","v":false},"SourceStreamName_",null,1585,1587,1589,1591,1593,1595,1597,1597,1597,1597,1597,1600,1604,1605,1606,1613,1623,1623,1623,1623,1623,1623,1623,1614,1624,1624,1624,1624,1624,1624,1624,1615,1625,1625,1625,1625,1625,1625,1625,1616,1626,1626,1626,1626,1626,1626,1626,1617,1627,1627,1627,1627,1627,1627,1627,1618,1628,1628,1628,1628,1628,1628,1628,1634]
[null,{"$f":"IF(COUNTIF($CK$10:CK34,TRUE)>0,\"\",INDEX('C_Opis postrojenja'!$E$226:$E$242,ROWS($A$11:A34)))","v":""},{"$f":"IF($E34=\"\",\"\",INDEX('C_Opis postrojenja'!F:F,MATCH($B34,'C_Opis postrojenja'!$E:$E,0)))","v":""},{"$f":"IF($E34=\"\",\"\",INDEX('C_Opis postrojenja'!I:I,MATCH($B34,'C_Opis postrojenja'!$E:$E,0)))","v":""},{"$f":"IF($B34=\"\",\"\",INDEX('C_Opis postrojenja'!F:F,MATCH($CJ34,'C_Opis postrojenja'!$Q:$Q,0)))","v":""},{"$f":"IF($E34=\"\",\"\",INDEX('C_Opis postrojenja'!L:L,MATCH($CJ34,'C_Opis postrojenja'!$Q:$Q,0)))","v":""},{"$f":"IF($E34=\"\",\"\",INDEX('C_Opis postrojenja'!M:M,MATCH($CJ34,'C_Opis postrojenja'!$Q:$Q,0)))","v":""},{"$f":"IF($E34=\"\",\"\",INDEX('C_Opis postrojenja'!N:N,MATCH($CJ34,'C_Opis postrojenja'!$Q:$Q,0)))","v":""},{"$f":"IF($E34=\"\",\"\",IF(INDEX('E_Tokovi izvora'!$A:$N,CN34,I$7)=\"\",\"\",INDEX('E_Tokovi izvora'!$A:$N,CN34,I$7)))","v":""},{"$f":"IF($E34=\"\",\"\",IF(INDEX('E_Tokovi izvora'!$A:$N,CO34,J$7)=\"\",\"\",INDEX('E_Tokovi izvora'!$A:$N,CO34,J$7)))","v":""},{"$f":"IF($E34=\"\",\"\",IF(INDEX('E_Tokovi izvora'!$A:$N,CP34,K$7)=\"\",\"\",INDEX('E_Tokovi izvora'!$A:$N,CP34,K$7)))","v":""},{"$f":"IF($E34=\"\",\"\",IF(INDEX('E_Tokovi izvora'!$A:$N,CQ34,L$7)=\"\",\"\",INDEX('E_Tokovi izvora'!$A:$N,CQ34,L$7)))","v":""},{"$f":"IF($E34=\"\",\"\",IF(INDEX('E_Tokovi izvora'!$A:$N,CR34,M$7)=\"\",\"\",INDEX('E_Tokovi izvora'!$A:$N,CR34,M$7)))","v":""},{"$f":"IF($E34=\"\",\"\",IF(INDEX('E_Tokovi izvora'!$A:$N,CS34,N$7)=\"\",\"\",INDEX('E_Tokovi izvora'!$A:$N,CS34,N$7)))","v":""},{"$f":"IF($E34=\"\",\"\",IF(INDEX('E_Tokovi izvora'!$A:$N,CT34,O$7)=\"\",\"\",INDEX('E_Tokovi izvora'!$A:$N,CT34,O$7)))","v":""},{"$f":"IF($E34=\"\",\"\",IF(INDEX('E_Tokovi izvora'!$A:$N,CU34,P$7)=\"\",\"\",INDEX('E_Tokovi izvora'!$A:$N,CU34,P$7)))","v":""},{"$f":"IF($E34=\"\",\"\",IF(INDEX('E_Tokovi izvora'!$A:$N,CV34,Q$7)=\"\",\"\",INDEX('E_Tokovi izvora'!$A:$N,CV34,Q$7)))","v":""},{"$f":"IF($E34=\"\",\"\",IF(INDEX('E_Tokovi izvora'!$A:$N,CW34,R$7)=\"\",\"\",INDEX('E_Tokovi izvora'!$A:$N,CW34,R$7)))","v":""},{"$f":"IF($E34=\"\",\"\",IF(INDEX('E_Tokovi izvora'!$A:$N,CX34,S$7)=\"\",\"\",INDEX('E_Tokovi izvora'!$A:$N,CX34,S$7)))","v":""},{"$f":"IF($E34=\"\",\"\",IF(INDEX('E_Tokovi izvora'!$A:$N,CY34,T$7)=\"\",\"\",INDEX('E_Tokovi izvora'!$A:$N,CY34,T$7)))","v":""},{"$f":"IF($E34=\"\",\"\",IF(INDEX('E_Tokovi izvora'!$A:$N,CZ34,U$7)=\"\",\"\",INDEX('E_Tokovi izvora'!$A:$N,CZ34,U$7)))","v":""},{"$f":"IF($E34=\"\",\"\",IF(INDEX('E_Tokovi izvora'!$A:$N,DA34,V$7)=\"\",\"\",INDEX('E_Tokovi izvora'!$A:$N,DA34,V$7)))","v":""},{"$f":"IF($E34=\"\",\"\",IF(INDEX('E_Tokovi izvora'!$A:$N,DB34,W$7)=\"\",\"\",INDEX('E_Tokovi izvora'!$A:$N,DB34,W$7)))","v":""},{"$f":"IF($E34=\"\",\"\",IF(INDEX('E_Tokovi izvora'!$A:$N,DC34,X$7)=\"\",\"\",INDEX('E_Tokovi izvora'!$A:$N,DC34,X$7)))","v":""},{"$f":"IF($E34=\"\",\"\",IF(INDEX('E_Tokovi izvora'!$A:$N,DD34,Y$7)=\"\",\"\",INDEX('E_Tokovi izvora'!$A:$N,DD34,Y$7)))","v":""},{"$f":"IF($E34=\"\",\"\",IF(INDEX('E_Tokovi izvora'!$A:$N,DE34,Z$7)=\"\",\"\",INDEX('E_Tokovi izvora'!$A:$N,DE34,Z$7)))","v":""},{"$f":"IF($E34=\"\",\"\",IF(INDEX('E_Tokovi izvora'!$A:$N,DF34,AA$7)=\"\",\"\",INDEX('E_Tokovi izvora'!$A:$N,DF34,AA$7)))","v":""},{"$f":"IF($E34=\"\",\"\",IF(INDEX('E_Tokovi izvora'!$A:$N,DG34,AB$7)=\"\",\"\",INDEX('E_Tokovi izvora'!$A:$N,DG34,AB$7)))","v":""},{"$f":"IF($E34=\"\",\"\",IF(INDEX('E_Tokovi izvora'!$A:$N,DH34,AC$7)=\"\",\"\",INDEX('E_Tokovi izvora'!$A:$N,DH34,AC$7)))","v":""},{"$f":"IF($E34=\"\",\"\",IF(INDEX('E_Tokovi izvora'!$A:$N,DI34,AD$7)=\"\",\"\",INDEX('E_Tokovi izvora'!$A:$N,DI34,AD$7)))","v":""},{"$f":"IF($E34=\"\",\"\",IF(INDEX('E_Tokovi izvora'!$A:$N,DJ34,AE$7)=\"\",\"\",INDEX('E_Tokovi izvora'!$A:$N,DJ34,AE$7)))","v":""},{"$f":"IF($E34=\"\",\"\",IF(INDEX('E_Tokovi izvora'!$A:$N,DK34,AF$7)=\"\",\"\",INDEX('E_Tokovi izvora'!$A:$N,DK34,AF$7)))","v":""},{"$f":"IF($E34=\"\",\"\",IF(INDEX('E_Tokovi izvora'!$A:$N,DL34,AG$7)=\"\",\"\",INDEX('E_Tokovi izvora'!$A:$N,DL34,AG$7)))","v":""},{"$f":"IF($E34=\"\",\"\",IF(INDEX('E_Tokovi izvora'!$A:$N,DM34,AH$7)=\"\",\"\",INDEX('E_Tokovi izvora'!$A:$N,DM34,AH$7)))","v":""},{"$f":"IF($E34=\"\",\"\",IF(INDEX('E_Tokovi izvora'!$A:$N,DN34,AI$7)=\"\",\"\",INDEX('E_Tokovi izvora'!$A:$N,DN34,AI$7)))","v":""},{"$f":"IF($E34=\"\",\"\",IF(INDEX('E_Tokovi izvora'!$A:$N,DO34,AJ$7)=\"\",\"\",INDEX('E_Tokovi izvora'!$A:$N,DO34,AJ$7)))","v":""},{"$f":"IF($E34=\"\",\"\",IF(INDEX('E_Tokovi izvora'!$A:$N,DP34,AK$7)=\"\",\"\",INDEX('E_Tokovi izvora'!$A:$N,DP34,AK$7)))","v":""},{"$f":"IF($E34=\"\",\"\",IF(INDEX('E_Tokovi izvora'!$A:$N,DQ34,AL$7)=\"\",\"\",INDEX('E_Tokovi izvora'!$A:$N,DQ34,AL$7)))","v":""},{"$f":"IF($E34=\"\",\"\",IF(INDEX('E_Tokovi izvora'!$A:$N,DR34,AM$7)=\"\",\"\",INDEX('E_Tokovi izvora'!$A:$N,DR34,AM$7)))","v":""},{"$f":"IF($E34=\"\",\"\",IF(INDEX('E_Tokovi izvora'!$A:$N,DS34,AN$7)=\"\",\"\",INDEX('E_Tokovi izvora'!$A:$N,DS34,AN$7)))","v":""},{"$f":"IF($E34=\"\",\"\",IF(INDEX('E_Tokovi izvora'!$A:$N,DT34,AO$7)=\"\",\"\",INDEX('E_Tokovi izvora'!$A:$N,DT34,AO$7)))","v":""},{"$f":"IF($E34=\"\",\"\",IF(INDEX('E_Tokovi izvora'!$A:$N,DU34,AP$7)=\"\",\"\",INDEX('E_Tokovi izvora'!$A:$N,DU34,AP$7)))","v":""},{"$f":"IF($E34=\"\",\"\",IF(INDEX('E_Tokovi izvora'!$A:$N,DV34,AQ$7)=\"\",\"\",INDEX('E_Tokovi izvora'!$A:$N,DV34,AQ$7)))","v":""},{"$f":"IF($E34=\"\",\"\",IF(INDEX('E_Tokovi izvora'!$A:$N,DW34,AR$7)=\"\",\"\",INDEX('E_Tokovi izvora'!$A:$N,DW34,AR$7)))","v":""},{"$f":"IF($E34=\"\",\"\",IF(INDEX('E_Tokovi izvora'!$A:$N,DX34,AS$7)=\"\",\"\",INDEX('E_Tokovi izvora'!$A:$N,DX34,AS$7)))","v":""},{"$f":"IF($E34=\"\",\"\",IF(INDEX('E_Tokovi izvora'!$A:$N,DY34,AT$7)=\"\",\"\",INDEX('E_Tokovi izvora'!$A:$N,DY34,AT$7)))","v":""},{"$f":"IF($E34=\"\",\"\",IF(INDEX('E_Tokovi izvora'!$A:$N,DZ34,AU$7)=\"\",\"\",INDEX('E_Tokovi izvora'!$A:$N,DZ34,AU$7)))","v":""},{"$f":"IF($E34=\"\",\"\",IF(INDEX('E_Tokovi izvora'!$A:$N,EA34,AV$7)=\"\",\"\",INDEX('E_Tokovi izvora'!$A:$N,EA34,AV$7)))","v":""},{"$f":"IF($E34=\"\",\"\",IF(INDEX('E_Tokovi izvora'!$A:$N,EB34,AW$7)=\"\",\"\",INDEX('E_Tokovi izvora'!$A:$N,EB34,AW$7)))","v":""},{"$f":"IF($E34=\"\",\"\",IF(INDEX('E_Tokovi izvora'!$A:$N,EC34,AX$7)=\"\",\"\",INDEX('E_Tokovi izvora'!$A:$N,EC34,AX$7)))","v":""},{"$f":"IF($E34=\"\",\"\",IF(INDEX('E_Tokovi izvora'!$A:$N,ED34,AY$7)=\"\",\"\",INDEX('E_Tokovi izvora'!$A:$N,ED34,AY$7)))","v":""},{"$f":"IF($E34=\"\",\"\",IF(INDEX('E_Tokovi izvora'!$A:$N,EE34,AZ$7)=\"\",\"\",INDEX('E_Tokovi izvora'!$A:$N,EE34,AZ$7)))","v":""},{"$f":"IF($E34=\"\",\"\",IF(INDEX('E_Tokovi izvora'!$A:$N,EF34,BA$7)=\"\",\"\",INDEX('E_Tokovi izvora'!$A:$N,EF34,BA$7)))","v":""},{"$f":"IF($E34=\"\",\"\",IF(INDEX('E_Tokovi izvora'!$A:$N,EG34,BB$7)=\"\",\"\",INDEX('E_Tokovi izvora'!$A:$N,EG34,BB$7)))","v":""},{"$f":"IF($E34=\"\",\"\",IF(INDEX('E_Tokovi izvora'!$A:$N,EH34,BC$7)=\"\",\"\",INDEX('E_Tokovi izvora'!$A:$N,EH34,BC$7)))","v":""},{"$f":"IF($E34=\"\",\"\",IF(INDEX('E_Tokovi izvora'!$A:$N,EI34,BD$7)=\"\",\"\",INDEX('E_Tokovi izvora'!$A:$N,EI34,BD$7)))","v":""},{"$f":"IF($E34=\"\",\"\",IF(INDEX('E_Tokovi izvora'!$A:$N,EJ34,BE$7)=\"\",\"\",INDEX('E_Tokovi izvora'!$A:$N,EJ34,BE$7)))","v":""},{"$f":"IF($E34=\"\",\"\",IF(INDEX('E_Tokovi izvora'!$A:$N,EK34,BF$7)=\"\",\"\",INDEX('E_Tokovi izvora'!$A:$N,EK34,BF$7)))","v":""},{"$f":"IF($E34=\"\",\"\",IF(INDEX('E_Tokovi izvora'!$A:$N,EL34,BG$7)=\"\",\"\",INDEX('E_Tokovi izvora'!$A:$N,EL34,BG$7)))","v":""},{"$f":"IF($E34=\"\",\"\",IF(INDEX('E_Tokovi izvora'!$A:$N,EM34,BH$7)=\"\",\"\",INDEX('E_Tokovi izvora'!$A:$N,EM34,BH$7)))","v":""},{"$f":"IF($E34=\"\",\"\",IF(INDEX('E_Tokovi izvora'!$A:$N,EN34,BI$7)=\"\",\"\",INDEX('E_Tokovi izvora'!$A:$N,EN34,BI$7)))","v":""},{"$f":"IF($E34=\"\",\"\",IF(INDEX('E_Tokovi izvora'!$A:$N,EO34,BJ$7)=\"\",\"\",INDEX('E_Tokovi izvora'!$A:$N,EO34,BJ$7)))","v":""},{"$f":"IF($E34=\"\",\"\",IF(INDEX('E_Tokovi izvora'!$A:$N,EP34,BK$7)=\"\",\"\",INDEX('E_Tokovi izvora'!$A:$N,EP34,BK$7)))","v":""},{"$f":"IF($E34=\"\",\"\",IF(INDEX('E_Tokovi izvora'!$A:$N,EQ34,BL$7)=\"\",\"\",INDEX('E_Tokovi izvora'!$A:$N,EQ34,BL$7)))","v":""},{"$f":"IF($E34=\"\",\"\",IF(INDEX('E_Tokovi izvora'!$A:$N,ER34,BM$7)=\"\",\"\",INDEX('E_Tokovi izvora'!$A:$N,ER34,BM$7)))","v":""},{"$f":"IF($E34=\"\",\"\",IF(INDEX('E_Tokovi izvora'!$A:$N,ES34,BN$7)=\"\",\"\",INDEX('E_Tokovi izvora'!$A:$N,ES34,BN$7)))","v":""},{"$f":"IF($E34=\"\",\"\",IF(INDEX('E_Tokovi izvora'!$A:$N,ET34,BO$7)=\"\",\"\",INDEX('E_Tokovi izvora'!$A:$N,ET34,BO$7)))","v":""},{"$f":"IF($E34=\"\",\"\",IF(INDEX('E_Tokovi izvora'!$A:$N,EU34,BP$7)=\"\",\"\",INDEX('E_Tokovi izvora'!$A:$N,EU34,BP$7)))","v":""},{"$f":"IF($E34=\"\",\"\",IF(INDEX('E_Tokovi izvora'!$A:$N,EV34,BQ$7)=\"\",\"\",INDEX('E_Tokovi izvora'!$A:$N,EV34,BQ$7)))","v":""},{"$f":"IF($E34=\"\",\"\",IF(INDEX('E_Tokovi izvora'!$A:$N,EW34,BR$7)=\"\",\"\",INDEX('E_Tokovi izvora'!$A:$N,EW34,BR$7)))","v":""},{"$f":"IF($E34=\"\",\"\",IF(INDEX('E_Tokovi izvora'!$A:$N,EX34,BS$7)=\"\",\"\",INDEX('E_Tokovi izvora'!$A:$N,EX34,BS$7)))","v":""},{"$f":"IF($E34=\"\",\"\",IF(INDEX('E_Tokovi izvora'!$A:$N,EY34,BT$7)=\"\",\"\",INDEX('E_Tokovi izvora'!$A:$N,EY34,BT$7)))","v":""},null,null,null,null,null,null,null,null,null,null,null,null,null,null,null,"SourceCategory_",{"$f":"INDEX('C_Opis postrojenja'!$A$226:$A$332,ROWS($CI$11:CI34))=\"ausblenden\"","v":false},"SourceStreamName_",null,1651,1653,1655,1657,1659,1661,1663,1663,1663,1663,1663,1666,1670,1671,1672,1679,1689,1689,1689,1689,1689,1689,1689,1680,1690,1690,1690,1690,1690,1690,1690,1681,1691,1691,1691,1691,1691,1691,1691,1682,1692,1692,1692,1692,1692,1692,1692,1683,1693,1693,1693,1693,1693,1693,1693,1684,1694,1694,1694,1694,1694,1694,1694,1700]
[null,{"$f":"IF(COUNTIF($CK$10:CK35,TRUE)>0,\"\",INDEX('C_Opis postrojenja'!$E$226:$E$242,ROWS($A$11:A35)))","v":""},{"$f":"IF($E35=\"\",\"\",INDEX('C_Opis postrojenja'!F:F,MATCH($B35,'C_Opis postrojenja'!$E:$E,0)))","v":""},{"$f":"IF($E35=\"\",\"\",INDEX('C_Opis postrojenja'!I:I,MATCH($B35,'C_Opis postrojenja'!$E:$E,0)))","v":""},{"$f":"IF($B35=\"\",\"\",INDEX('C_Opis postrojenja'!F:F,MATCH($CJ35,'C_Opis postrojenja'!$Q:$Q,0)))","v":""},{"$f":"IF($E35=\"\",\"\",INDEX('C_Opis postrojenja'!L:L,MATCH($CJ35,'C_Opis postrojenja'!$Q:$Q,0)))","v":""},{"$f":"IF($E35=\"\",\"\",INDEX('C_Opis postrojenja'!M:M,MATCH($CJ35,'C_Opis postrojenja'!$Q:$Q,0)))","v":""},{"$f":"IF($E35=\"\",\"\",INDEX('C_Opis postrojenja'!N:N,MATCH($CJ35,'C_Opis postrojenja'!$Q:$Q,0)))","v":""},{"$f":"IF($E35=\"\",\"\",IF(INDEX('E_Tokovi izvora'!$A:$N,CN35,I$7)=\"\",\"\",INDEX('E_Tokovi izvora'!$A:$N,CN35,I$7)))","v":""},{"$f":"IF($E35=\"\",\"\",IF(INDEX('E_Tokovi izvora'!$A:$N,CO35,J$7)=\"\",\"\",INDEX('E_Tokovi izvora'!$A:$N,CO35,J$7)))","v":""},{"$f":"IF($E35=\"\",\"\",IF(INDEX('E_Tokovi izvora'!$A:$N,CP35,K$7)=\"\",\"\",INDEX('E_Tokovi izvora'!$A:$N,CP35,K$7)))","v":""},{"$f":"IF($E35=\"\",\"\",IF(INDEX('E_Tokovi izvora'!$A:$N,CQ35,L$7)=\"\",\"\",INDEX('E_Tokovi izvora'!$A:$N,CQ35,L$7)))","v":""},{"$f":"IF($E35=\"\",\"\",IF(INDEX('E_Tokovi izvora'!$A:$N,CR35,M$7)=\"\",\"\",INDEX('E_Tokovi izvora'!$A:$N,CR35,M$7)))","v":""},{"$f":"IF($E35=\"\",\"\",IF(INDEX('E_Tokovi izvora'!$A:$N,CS35,N$7)=\"\",\"\",INDEX('E_Tokovi izvora'!$A:$N,CS35,N$7)))","v":""},{"$f":"IF($E35=\"\",\"\",IF(INDEX('E_Tokovi izvora'!$A:$N,CT35,O$7)=\"\",\"\",INDEX('E_Tokovi izvora'!$A:$N,CT35,O$7)))","v":""},{"$f":"IF($E35=\"\",\"\",IF(INDEX('E_Tokovi izvora'!$A:$N,CU35,P$7)=\"\",\"\",INDEX('E_Tokovi izvora'!$A:$N,CU35,P$7)))","v":""},{"$f":"IF($E35=\"\",\"\",IF(INDEX('E_Tokovi izvora'!$A:$N,CV35,Q$7)=\"\",\"\",INDEX('E_Tokovi izvora'!$A:$N,CV35,Q$7)))","v":""},{"$f":"IF($E35=\"\",\"\",IF(INDEX('E_Tokovi izvora'!$A:$N,CW35,R$7)=\"\",\"\",INDEX('E_Tokovi izvora'!$A:$N,CW35,R$7)))","v":""},{"$f":"IF($E35=\"\",\"\",IF(INDEX('E_Tokovi izvora'!$A:$N,CX35,S$7)=\"\",\"\",INDEX('E_Tokovi izvora'!$A:$N,CX35,S$7)))","v":""},{"$f":"IF($E35=\"\",\"\",IF(INDEX('E_Tokovi izvora'!$A:$N,CY35,T$7)=\"\",\"\",INDEX('E_Tokovi izvora'!$A:$N,CY35,T$7)))","v":""},{"$f":"IF($E35=\"\",\"\",IF(INDEX('E_Tokovi izvora'!$A:$N,CZ35,U$7)=\"\",\"\",INDEX('E_Tokovi izvora'!$A:$N,CZ35,U$7)))","v":""},{"$f":"IF($E35=\"\",\"\",IF(INDEX('E_Tokovi izvora'!$A:$N,DA35,V$7)=\"\",\"\",INDEX('E_Tokovi izvora'!$A:$N,DA35,V$7)))","v":""},{"$f":"IF($E35=\"\",\"\",IF(INDEX('E_Tokovi izvora'!$A:$N,DB35,W$7)=\"\",\"\",INDEX('E_Tokovi izvora'!$A:$N,DB35,W$7)))","v":""},{"$f":"IF($E35=\"\",\"\",IF(INDEX('E_Tokovi izvora'!$A:$N,DC35,X$7)=\"\",\"\",INDEX('E_Tokovi izvora'!$A:$N,DC35,X$7)))","v":""},{"$f":"IF($E35=\"\",\"\",IF(INDEX('E_Tokovi izvora'!$A:$N,DD35,Y$7)=\"\",\"\",INDEX('E_Tokovi izvora'!$A:$N,DD35,Y$7)))","v":""},{"$f":"IF($E35=\"\",\"\",IF(INDEX('E_Tokovi izvora'!$A:$N,DE35,Z$7)=\"\",\"\",INDEX('E_Tokovi izvora'!$A:$N,DE35,Z$7)))","v":""},{"$f":"IF($E35=\"\",\"\",IF(INDEX('E_Tokovi izvora'!$A:$N,DF35,AA$7)=\"\",\"\",INDEX('E_Tokovi izvora'!$A:$N,DF35,AA$7)))","v":""},{"$f":"IF($E35=\"\",\"\",IF(INDEX('E_Tokovi izvora'!$A:$N,DG35,AB$7)=\"\",\"\",INDEX('E_Tokovi izvora'!$A:$N,DG35,AB$7)))","v":""},{"$f":"IF($E35=\"\",\"\",IF(INDEX('E_Tokovi izvora'!$A:$N,DH35,AC$7)=\"\",\"\",INDEX('E_Tokovi izvora'!$A:$N,DH35,AC$7)))","v":""},{"$f":"IF($E35=\"\",\"\",IF(INDEX('E_Tokovi izvora'!$A:$N,DI35,AD$7)=\"\",\"\",INDEX('E_Tokovi izvora'!$A:$N,DI35,AD$7)))","v":""},{"$f":"IF($E35=\"\",\"\",IF(INDEX('E_Tokovi izvora'!$A:$N,DJ35,AE$7)=\"\",\"\",INDEX('E_Tokovi izvora'!$A:$N,DJ35,AE$7)))","v":""},{"$f":"IF($E35=\"\",\"\",IF(INDEX('E_Tokovi izvora'!$A:$N,DK35,AF$7)=\"\",\"\",INDEX('E_Tokovi izvora'!$A:$N,DK35,AF$7)))","v":""},{"$f":"IF($E35=\"\",\"\",IF(INDEX('E_Tokovi izvora'!$A:$N,DL35,AG$7)=\"\",\"\",INDEX('E_Tokovi izvora'!$A:$N,DL35,AG$7)))","v":""},{"$f":"IF($E35=\"\",\"\",IF(INDEX('E_Tokovi izvora'!$A:$N,DM35,AH$7)=\"\",\"\",INDEX('E_Tokovi izvora'!$A:$N,DM35,AH$7)))","v":""},{"$f":"IF($E35=\"\",\"\",IF(INDEX('E_Tokovi izvora'!$A:$N,DN35,AI$7)=\"\",\"\",INDEX('E_Tokovi izvora'!$A:$N,DN35,AI$7)))","v":""},{"$f":"IF($E35=\"\",\"\",IF(INDEX('E_Tokovi izvora'!$A:$N,DO35,AJ$7)=\"\",\"\",INDEX('E_Tokovi izvora'!$A:$N,DO35,AJ$7)))","v":""},{"$f":"IF($E35=\"\",\"\",IF(INDEX('E_Tokovi izvora'!$A:$N,DP35,AK$7)=\"\",\"\",INDEX('E_Tokovi izvora'!$A:$N,DP35,AK$7)))","v":""},{"$f":"IF($E35=\"\",\"\",IF(INDEX('E_Tokovi izvora'!$A:$N,DQ35,AL$7)=\"\",\"\",INDEX('E_Tokovi izvora'!$A:$N,DQ35,AL$7)))","v":""},{"$f":"IF($E35=\"\",\"\",IF(INDEX('E_Tokovi izvora'!$A:$N,DR35,AM$7)=\"\",\"\",INDEX('E_Tokovi izvora'!$A:$N,DR35,AM$7)))","v":""},{"$f":"IF($E35=\"\",\"\",IF(INDEX('E_Tokovi izvora'!$A:$N,DS35,AN$7)=\"\",\"\",INDEX('E_Tokovi izvora'!$A:$N,DS35,AN$7)))","v":""},{"$f":"IF($E35=\"\",\"\",IF(INDEX('E_Tokovi izvora'!$A:$N,DT35,AO$7)=\"\",\"\",INDEX('E_Tokovi izvora'!$A:$N,DT35,AO$7)))","v":""},{"$f":"IF($E35=\"\",\"\",IF(INDEX('E_Tokovi izvora'!$A:$N,DU35,AP$7)=\"\",\"\",INDEX('E_Tokovi izvora'!$A:$N,DU35,AP$7)))","v":""},{"$f":"IF($E35=\"\",\"\",IF(INDEX('E_Tokovi izvora'!$A:$N,DV35,AQ$7)=\"\",\"\",INDEX('E_Tokovi izvora'!$A:$N,DV35,AQ$7)))","v":""},{"$f":"IF($E35=\"\",\"\",IF(INDEX('E_Tokovi izvora'!$A:$N,DW35,AR$7)=\"\",\"\",INDEX('E_Tokovi izvora'!$A:$N,DW35,AR$7)))","v":""},{"$f":"IF($E35=\"\",\"\",IF(INDEX('E_Tokovi izvora'!$A:$N,DX35,AS$7)=\"\",\"\",INDEX('E_Tokovi izvora'!$A:$N,DX35,AS$7)))","v":""},{"$f":"IF($E35=\"\",\"\",IF(INDEX('E_Tokovi izvora'!$A:$N,DY35,AT$7)=\"\",\"\",INDEX('E_Tokovi izvora'!$A:$N,DY35,AT$7)))","v":""},{"$f":"IF($E35=\"\",\"\",IF(INDEX('E_Tokovi izvora'!$A:$N,DZ35,AU$7)=\"\",\"\",INDEX('E_Tokovi izvora'!$A:$N,DZ35,AU$7)))","v":""},{"$f":"IF($E35=\"\",\"\",IF(INDEX('E_Tokovi izvora'!$A:$N,EA35,AV$7)=\"\",\"\",INDEX('E_Tokovi izvora'!$A:$N,EA35,AV$7)))","v":""},{"$f":"IF($E35=\"\",\"\",IF(INDEX('E_Tokovi izvora'!$A:$N,EB35,AW$7)=\"\",\"\",INDEX('E_Tokovi izvora'!$A:$N,EB35,AW$7)))","v":""},{"$f":"IF($E35=\"\",\"\",IF(INDEX('E_Tokovi izvora'!$A:$N,EC35,AX$7)=\"\",\"\",INDEX('E_Tokovi izvora'!$A:$N,EC35,AX$7)))","v":""},{"$f":"IF($E35=\"\",\"\",IF(INDEX('E_Tokovi izvora'!$A:$N,ED35,AY$7)=\"\",\"\",INDEX('E_Tokovi izvora'!$A:$N,ED35,AY$7)))","v":""},{"$f":"IF($E35=\"\",\"\",IF(INDEX('E_Tokovi izvora'!$A:$N,EE35,AZ$7)=\"\",\"\",INDEX('E_Tokovi izvora'!$A:$N,EE35,AZ$7)))","v":""},{"$f":"IF($E35=\"\",\"\",IF(INDEX('E_Tokovi izvora'!$A:$N,EF35,BA$7)=\"\",\"\",INDEX('E_Tokovi izvora'!$A:$N,EF35,BA$7)))","v":""},{"$f":"IF($E35=\"\",\"\",IF(INDEX('E_Tokovi izvora'!$A:$N,EG35,BB$7)=\"\",\"\",INDEX('E_Tokovi izvora'!$A:$N,EG35,BB$7)))","v":""},{"$f":"IF($E35=\"\",\"\",IF(INDEX('E_Tokovi izvora'!$A:$N,EH35,BC$7)=\"\",\"\",INDEX('E_Tokovi izvora'!$A:$N,EH35,BC$7)))","v":""},{"$f":"IF($E35=\"\",\"\",IF(INDEX('E_Tokovi izvora'!$A:$N,EI35,BD$7)=\"\",\"\",INDEX('E_Tokovi izvora'!$A:$N,EI35,BD$7)))","v":""},{"$f":"IF($E35=\"\",\"\",IF(INDEX('E_Tokovi izvora'!$A:$N,EJ35,BE$7)=\"\",\"\",INDEX('E_Tokovi izvora'!$A:$N,EJ35,BE$7)))","v":""},{"$f":"IF($E35=\"\",\"\",IF(INDEX('E_Tokovi izvora'!$A:$N,EK35,BF$7)=\"\",\"\",INDEX('E_Tokovi izvora'!$A:$N,EK35,BF$7)))","v":""},{"$f":"IF($E35=\"\",\"\",IF(INDEX('E_Tokovi izvora'!$A:$N,EL35,BG$7)=\"\",\"\",INDEX('E_Tokovi izvora'!$A:$N,EL35,BG$7)))","v":""},{"$f":"IF($E35=\"\",\"\",IF(INDEX('E_Tokovi izvora'!$A:$N,EM35,BH$7)=\"\",\"\",INDEX('E_Tokovi izvora'!$A:$N,EM35,BH$7)))","v":""},{"$f":"IF($E35=\"\",\"\",IF(INDEX('E_Tokovi izvora'!$A:$N,EN35,BI$7)=\"\",\"\",INDEX('E_Tokovi izvora'!$A:$N,EN35,BI$7)))","v":""},{"$f":"IF($E35=\"\",\"\",IF(INDEX('E_Tokovi izvora'!$A:$N,EO35,BJ$7)=\"\",\"\",INDEX('E_Tokovi izvora'!$A:$N,EO35,BJ$7)))","v":""},{"$f":"IF($E35=\"\",\"\",IF(INDEX('E_Tokovi izvora'!$A:$N,EP35,BK$7)=\"\",\"\",INDEX('E_Tokovi izvora'!$A:$N,EP35,BK$7)))","v":""},{"$f":"IF($E35=\"\",\"\",IF(INDEX('E_Tokovi izvora'!$A:$N,EQ35,BL$7)=\"\",\"\",INDEX('E_Tokovi izvora'!$A:$N,EQ35,BL$7)))","v":""},{"$f":"IF($E35=\"\",\"\",IF(INDEX('E_Tokovi izvora'!$A:$N,ER35,BM$7)=\"\",\"\",INDEX('E_Tokovi izvora'!$A:$N,ER35,BM$7)))","v":""},{"$f":"IF($E35=\"\",\"\",IF(INDEX('E_Tokovi izvora'!$A:$N,ES35,BN$7)=\"\",\"\",INDEX('E_Tokovi izvora'!$A:$N,ES35,BN$7)))","v":""},{"$f":"IF($E35=\"\",\"\",IF(INDEX('E_Tokovi izvora'!$A:$N,ET35,BO$7)=\"\",\"\",INDEX('E_Tokovi izvora'!$A:$N,ET35,BO$7)))","v":""},{"$f":"IF($E35=\"\",\"\",IF(INDEX('E_Tokovi izvora'!$A:$N,EU35,BP$7)=\"\",\"\",INDEX('E_Tokovi izvora'!$A:$N,EU35,BP$7)))","v":""},{"$f":"IF($E35=\"\",\"\",IF(INDEX('E_Tokovi izvora'!$A:$N,EV35,BQ$7)=\"\",\"\",INDEX('E_Tokovi izvora'!$A:$N,EV35,BQ$7)))","v":""},{"$f":"IF($E35=\"\",\"\",IF(INDEX('E_Tokovi izvora'!$A:$N,EW35,BR$7)=\"\",\"\",INDEX('E_Tokovi izvora'!$A:$N,EW35,BR$7)))","v":""},{"$f":"IF($E35=\"\",\"\",IF(INDEX('E_Tokovi izvora'!$A:$N,EX35,BS$7)=\"\",\"\",INDEX('E_Tokovi izvora'!$A:$N,EX35,BS$7)))","v":""},{"$f":"IF($E35=\"\",\"\",IF(INDEX('E_Tokovi izvora'!$A:$N,EY35,BT$7)=\"\",\"\",INDEX('E_Tokovi izvora'!$A:$N,EY35,BT$7)))","v":""},null,null,null,null,null,null,null,null,null,null,null,null,null,null,null,"SourceCategory_",{"$f":"INDEX('C_Opis postrojenja'!$A$226:$A$332,ROWS($CI$11:CI35))=\"ausblenden\"","v":false},"SourceStreamName_",null,1717,1719,1721,1723,1725,1727,1729,1729,1729,1729,1729,1732,1736,1737,1738,1745,1755,1755,1755,1755,1755,1755,1755,1746,1756,1756,1756,1756,1756,1756,1756,1747,1757,1757,1757,1757,1757,1757,1757,1748,1758,1758,1758,1758,1758,1758,1758,1749,1759,1759,1759,1759,1759,1759,1759,1750,1760,1760,1760,1760,1760,1760,1760,1766]
[null,{"$f":"IF(COUNTIF($CK$10:CK36,TRUE)>0,\"\",INDEX('C_Opis postrojenja'!$E$226:$E$242,ROWS($A$11:A36)))","v":""},{"$f":"IF($E36=\"\",\"\",INDEX('C_Opis postrojenja'!F:F,MATCH($B36,'C_Opis postrojenja'!$E:$E,0)))","v":""},{"$f":"IF($E36=\"\",\"\",INDEX('C_Opis postrojenja'!I:I,MATCH($B36,'C_Opis postrojenja'!$E:$E,0)))","v":""},{"$f":"IF($B36=\"\",\"\",INDEX('C_Opis postrojenja'!F:F,MATCH($CJ36,'C_Opis postrojenja'!$Q:$Q,0)))","v":""},{"$f":"IF($E36=\"\",\"\",INDEX('C_Opis postrojenja'!L:L,MATCH($CJ36,'C_Opis postrojenja'!$Q:$Q,0)))","v":""},{"$f":"IF($E36=\"\",\"\",INDEX('C_Opis postrojenja'!M:M,MATCH($CJ36,'C_Opis postrojenja'!$Q:$Q,0)))","v":""},{"$f":"IF($E36=\"\",\"\",INDEX('C_Opis postrojenja'!N:N,MATCH($CJ36,'C_Opis postrojenja'!$Q:$Q,0)))","v":""},{"$f":"IF($E36=\"\",\"\",IF(INDEX('E_Tokovi izvora'!$A:$N,CN36,I$7)=\"\",\"\",INDEX('E_Tokovi izvora'!$A:$N,CN36,I$7)))","v":""},{"$f":"IF($E36=\"\",\"\",IF(INDEX('E_Tokovi izvora'!$A:$N,CO36,J$7)=\"\",\"\",INDEX('E_Tokovi izvora'!$A:$N,CO36,J$7)))","v":""},{"$f":"IF($E36=\"\",\"\",IF(INDEX('E_Tokovi izvora'!$A:$N,CP36,K$7)=\"\",\"\",INDEX('E_Tokovi izvora'!$A:$N,CP36,K$7)))","v":""},{"$f":"IF($E36=\"\",\"\",IF(INDEX('E_Tokovi izvora'!$A:$N,CQ36,L$7)=\"\",\"\",INDEX('E_Tokovi izvora'!$A:$N,CQ36,L$7)))","v":""},{"$f":"IF($E36=\"\",\"\",IF(INDEX('E_Tokovi izvora'!$A:$N,CR36,M$7)=\"\",\"\",INDEX('E_Tokovi izvora'!$A:$N,CR36,M$7)))","v":""},{"$f":"IF($E36=\"\",\"\",IF(INDEX('E_Tokovi izvora'!$A:$N,CS36,N$7)=\"\",\"\",INDEX('E_Tokovi izvora'!$A:$N,CS36,N$7)))","v":""},{"$f":"IF($E36=\"\",\"\",IF(INDEX('E_Tokovi izvora'!$A:$N,CT36,O$7)=\"\",\"\",INDEX('E_Tokovi izvora'!$A:$N,CT36,O$7)))","v":""},{"$f":"IF($E36=\"\",\"\",IF(INDEX('E_Tokovi izvora'!$A:$N,CU36,P$7)=\"\",\"\",INDEX('E_Tokovi izvora'!$A:$N,CU36,P$7)))","v":""},{"$f":"IF($E36=\"\",\"\",IF(INDEX('E_Tokovi izvora'!$A:$N,CV36,Q$7)=\"\",\"\",INDEX('E_Tokovi izvora'!$A:$N,CV36,Q$7)))","v":""},{"$f":"IF($E36=\"\",\"\",IF(INDEX('E_Tokovi izvora'!$A:$N,CW36,R$7)=\"\",\"\",INDEX('E_Tokovi izvora'!$A:$N,CW36,R$7)))","v":""},{"$f":"IF($E36=\"\",\"\",IF(INDEX('E_Tokovi izvora'!$A:$N,CX36,S$7)=\"\",\"\",INDEX('E_Tokovi izvora'!$A:$N,CX36,S$7)))","v":""},{"$f":"IF($E36=\"\",\"\",IF(INDEX('E_Tokovi izvora'!$A:$N,CY36,T$7)=\"\",\"\",INDEX('E_Tokovi izvora'!$A:$N,CY36,T$7)))","v":""},{"$f":"IF($E36=\"\",\"\",IF(INDEX('E_Tokovi izvora'!$A:$N,CZ36,U$7)=\"\",\"\",INDEX('E_Tokovi izvora'!$A:$N,CZ36,U$7)))","v":""},{"$f":"IF($E36=\"\",\"\",IF(INDEX('E_Tokovi izvora'!$A:$N,DA36,V$7)=\"\",\"\",INDEX('E_Tokovi izvora'!$A:$N,DA36,V$7)))","v":""},{"$f":"IF($E36=\"\",\"\",IF(INDEX('E_Tokovi izvora'!$A:$N,DB36,W$7)=\"\",\"\",INDEX('E_Tokovi izvora'!$A:$N,DB36,W$7)))","v":""},{"$f":"IF($E36=\"\",\"\",IF(INDEX('E_Tokovi izvora'!$A:$N,DC36,X$7)=\"\",\"\",INDEX('E_Tokovi izvora'!$A:$N,DC36,X$7)))","v":""},{"$f":"IF($E36=\"\",\"\",IF(INDEX('E_Tokovi izvora'!$A:$N,DD36,Y$7)=\"\",\"\",INDEX('E_Tokovi izvora'!$A:$N,DD36,Y$7)))","v":""},{"$f":"IF($E36=\"\",\"\",IF(INDEX('E_Tokovi izvora'!$A:$N,DE36,Z$7)=\"\",\"\",INDEX('E_Tokovi izvora'!$A:$N,DE36,Z$7)))","v":""},{"$f":"IF($E36=\"\",\"\",IF(INDEX('E_Tokovi izvora'!$A:$N,DF36,AA$7)=\"\",\"\",INDEX('E_Tokovi izvora'!$A:$N,DF36,AA$7)))","v":""},{"$f":"IF($E36=\"\",\"\",IF(INDEX('E_Tokovi izvora'!$A:$N,DG36,AB$7)=\"\",\"\",INDEX('E_Tokovi izvora'!$A:$N,DG36,AB$7)))","v":""},{"$f":"IF($E36=\"\",\"\",IF(INDEX('E_Tokovi izvora'!$A:$N,DH36,AC$7)=\"\",\"\",INDEX('E_Tokovi izvora'!$A:$N,DH36,AC$7)))","v":""},{"$f":"IF($E36=\"\",\"\",IF(INDEX('E_Tokovi izvora'!$A:$N,DI36,AD$7)=\"\",\"\",INDEX('E_Tokovi izvora'!$A:$N,DI36,AD$7)))","v":""},{"$f":"IF($E36=\"\",\"\",IF(INDEX('E_Tokovi izvora'!$A:$N,DJ36,AE$7)=\"\",\"\",INDEX('E_Tokovi izvora'!$A:$N,DJ36,AE$7)))","v":""},{"$f":"IF($E36=\"\",\"\",IF(INDEX('E_Tokovi izvora'!$A:$N,DK36,AF$7)=\"\",\"\",INDEX('E_Tokovi izvora'!$A:$N,DK36,AF$7)))","v":""},{"$f":"IF($E36=\"\",\"\",IF(INDEX('E_Tokovi izvora'!$A:$N,DL36,AG$7)=\"\",\"\",INDEX('E_Tokovi izvora'!$A:$N,DL36,AG$7)))","v":""},{"$f":"IF($E36=\"\",\"\",IF(INDEX('E_Tokovi izvora'!$A:$N,DM36,AH$7)=\"\",\"\",INDEX('E_Tokovi izvora'!$A:$N,DM36,AH$7)))","v":""},{"$f":"IF($E36=\"\",\"\",IF(INDEX('E_Tokovi izvora'!$A:$N,DN36,AI$7)=\"\",\"\",INDEX('E_Tokovi izvora'!$A:$N,DN36,AI$7)))","v":""},{"$f":"IF($E36=\"\",\"\",IF(INDEX('E_Tokovi izvora'!$A:$N,DO36,AJ$7)=\"\",\"\",INDEX('E_Tokovi izvora'!$A:$N,DO36,AJ$7)))","v":""},{"$f":"IF($E36=\"\",\"\",IF(INDEX('E_Tokovi izvora'!$A:$N,DP36,AK$7)=\"\",\"\",INDEX('E_Tokovi izvora'!$A:$N,DP36,AK$7)))","v":""},{"$f":"IF($E36=\"\",\"\",IF(INDEX('E_Tokovi izvora'!$A:$N,DQ36,AL$7)=\"\",\"\",INDEX('E_Tokovi izvora'!$A:$N,DQ36,AL$7)))","v":""},{"$f":"IF($E36=\"\",\"\",IF(INDEX('E_Tokovi izvora'!$A:$N,DR36,AM$7)=\"\",\"\",INDEX('E_Tokovi izvora'!$A:$N,DR36,AM$7)))","v":""},{"$f":"IF($E36=\"\",\"\",IF(INDEX('E_Tokovi izvora'!$A:$N,DS36,AN$7)=\"\",\"\",INDEX('E_Tokovi izvora'!$A:$N,DS36,AN$7)))","v":""},{"$f":"IF($E36=\"\",\"\",IF(INDEX('E_Tokovi izvora'!$A:$N,DT36,AO$7)=\"\",\"\",INDEX('E_Tokovi izvora'!$A:$N,DT36,AO$7)))","v":""},{"$f":"IF($E36=\"\",\"\",IF(INDEX('E_Tokovi izvora'!$A:$N,DU36,AP$7)=\"\",\"\",INDEX('E_Tokovi izvora'!$A:$N,DU36,AP$7)))","v":""},{"$f":"IF($E36=\"\",\"\",IF(INDEX('E_Tokovi izvora'!$A:$N,DV36,AQ$7)=\"\",\"\",INDEX('E_Tokovi izvora'!$A:$N,DV36,AQ$7)))","v":""},{"$f":"IF($E36=\"\",\"\",IF(INDEX('E_Tokovi izvora'!$A:$N,DW36,AR$7)=\"\",\"\",INDEX('E_Tokovi izvora'!$A:$N,DW36,AR$7)))","v":""},{"$f":"IF($E36=\"\",\"\",IF(INDEX('E_Tokovi izvora'!$A:$N,DX36,AS$7)=\"\",\"\",INDEX('E_Tokovi izvora'!$A:$N,DX36,AS$7)))","v":""},{"$f":"IF($E36=\"\",\"\",IF(INDEX('E_Tokovi izvora'!$A:$N,DY36,AT$7)=\"\",\"\",INDEX('E_Tokovi izvora'!$A:$N,DY36,AT$7)))","v":""},{"$f":"IF($E36=\"\",\"\",IF(INDEX('E_Tokovi izvora'!$A:$N,DZ36,AU$7)=\"\",\"\",INDEX('E_Tokovi izvora'!$A:$N,DZ36,AU$7)))","v":""},{"$f":"IF($E36=\"\",\"\",IF(INDEX('E_Tokovi izvora'!$A:$N,EA36,AV$7)=\"\",\"\",INDEX('E_Tokovi izvora'!$A:$N,EA36,AV$7)))","v":""},{"$f":"IF($E36=\"\",\"\",IF(INDEX('E_Tokovi izvora'!$A:$N,EB36,AW$7)=\"\",\"\",INDEX('E_Tokovi izvora'!$A:$N,EB36,AW$7)))","v":""},{"$f":"IF($E36=\"\",\"\",IF(INDEX('E_Tokovi izvora'!$A:$N,EC36,AX$7)=\"\",\"\",INDEX('E_Tokovi izvora'!$A:$N,EC36,AX$7)))","v":""},{"$f":"IF($E36=\"\",\"\",IF(INDEX('E_Tokovi izvora'!$A:$N,ED36,AY$7)=\"\",\"\",INDEX('E_Tokovi izvora'!$A:$N,ED36,AY$7)))","v":""},{"$f":"IF($E36=\"\",\"\",IF(INDEX('E_Tokovi izvora'!$A:$N,EE36,AZ$7)=\"\",\"\",INDEX('E_Tokovi izvora'!$A:$N,EE36,AZ$7)))","v":""},{"$f":"IF($E36=\"\",\"\",IF(INDEX('E_Tokovi izvora'!$A:$N,EF36,BA$7)=\"\",\"\",INDEX('E_Tokovi izvora'!$A:$N,EF36,BA$7)))","v":""},{"$f":"IF($E36=\"\",\"\",IF(INDEX('E_Tokovi izvora'!$A:$N,EG36,BB$7)=\"\",\"\",INDEX('E_Tokovi izvora'!$A:$N,EG36,BB$7)))","v":""},{"$f":"IF($E36=\"\",\"\",IF(INDEX('E_Tokovi izvora'!$A:$N,EH36,BC$7)=\"\",\"\",INDEX('E_Tokovi izvora'!$A:$N,EH36,BC$7)))","v":""},{"$f":"IF($E36=\"\",\"\",IF(INDEX('E_Tokovi izvora'!$A:$N,EI36,BD$7)=\"\",\"\",INDEX('E_Tokovi izvora'!$A:$N,EI36,BD$7)))","v":""},{"$f":"IF($E36=\"\",\"\",IF(INDEX('E_Tokovi izvora'!$A:$N,EJ36,BE$7)=\"\",\"\",INDEX('E_Tokovi izvora'!$A:$N,EJ36,BE$7)))","v":""},{"$f":"IF($E36=\"\",\"\",IF(INDEX('E_Tokovi izvora'!$A:$N,EK36,BF$7)=\"\",\"\",INDEX('E_Tokovi izvora'!$A:$N,EK36,BF$7)))","v":""},{"$f":"IF($E36=\"\",\"\",IF(INDEX('E_Tokovi izvora'!$A:$N,EL36,BG$7)=\"\",\"\",INDEX('E_Tokovi izvora'!$A:$N,EL36,BG$7)))","v":""},{"$f":"IF($E36=\"\",\"\",IF(INDEX('E_Tokovi izvora'!$A:$N,EM36,BH$7)=\"\",\"\",INDEX('E_Tokovi izvora'!$A:$N,EM36,BH$7)))","v":""},{"$f":"IF($E36=\"\",\"\",IF(INDEX('E_Tokovi izvora'!$A:$N,EN36,BI$7)=\"\",\"\",INDEX('E_Tokovi izvora'!$A:$N,EN36,BI$7)))","v":""},{"$f":"IF($E36=\"\",\"\",IF(INDEX('E_Tokovi izvora'!$A:$N,EO36,BJ$7)=\"\",\"\",INDEX('E_Tokovi izvora'!$A:$N,EO36,BJ$7)))","v":""},{"$f":"IF($E36=\"\",\"\",IF(INDEX('E_Tokovi izvora'!$A:$N,EP36,BK$7)=\"\",\"\",INDEX('E_Tokovi izvora'!$A:$N,EP36,BK$7)))","v":""},{"$f":"IF($E36=\"\",\"\",IF(INDEX('E_Tokovi izvora'!$A:$N,EQ36,BL$7)=\"\",\"\",INDEX('E_Tokovi izvora'!$A:$N,EQ36,BL$7)))","v":""},{"$f":"IF($E36=\"\",\"\",IF(INDEX('E_Tokovi izvora'!$A:$N,ER36,BM$7)=\"\",\"\",INDEX('E_Tokovi izvora'!$A:$N,ER36,BM$7)))","v":""},{"$f":"IF($E36=\"\",\"\",IF(INDEX('E_Tokovi izvora'!$A:$N,ES36,BN$7)=\"\",\"\",INDEX('E_Tokovi izvora'!$A:$N,ES36,BN$7)))","v":""},{"$f":"IF($E36=\"\",\"\",IF(INDEX('E_Tokovi izvora'!$A:$N,ET36,BO$7)=\"\",\"\",INDEX('E_Tokovi izvora'!$A:$N,ET36,BO$7)))","v":""},{"$f":"IF($E36=\"\",\"\",IF(INDEX('E_Tokovi izvora'!$A:$N,EU36,BP$7)=\"\",\"\",INDEX('E_Tokovi izvora'!$A:$N,EU36,BP$7)))","v":""},{"$f":"IF($E36=\"\",\"\",IF(INDEX('E_Tokovi izvora'!$A:$N,EV36,BQ$7)=\"\",\"\",INDEX('E_Tokovi izvora'!$A:$N,EV36,BQ$7)))","v":""},{"$f":"IF($E36=\"\",\"\",IF(INDEX('E_Tokovi izvora'!$A:$N,EW36,BR$7)=\"\",\"\",INDEX('E_Tokovi izvora'!$A:$N,EW36,BR$7)))","v":""},{"$f":"IF($E36=\"\",\"\",IF(INDEX('E_Tokovi izvora'!$A:$N,EX36,BS$7)=\"\",\"\",INDEX('E_Tokovi izvora'!$A:$N,EX36,BS$7)))","v":""},{"$f":"IF($E36=\"\",\"\",IF(INDEX('E_Tokovi izvora'!$A:$N,EY36,BT$7)=\"\",\"\",INDEX('E_Tokovi izvora'!$A:$N,EY36,BT$7)))","v":""},null,null,null,null,null,null,null,null,null,null,null,null,null,null,null,"SourceCategory_",{"$f":"INDEX('C_Opis postrojenja'!$A$226:$A$332,ROWS($CI$11:CI36))=\"ausblenden\"","v":false},"SourceStreamName_",null,1783,1785,1787,1789,1791,1793,1795,1795,1795,1795,1795,1798,1802,1803,1804,1811,1821,1821,1821,1821,1821,1821,1821,1812,1822,1822,1822,1822,1822,1822,1822,1813,1823,1823,1823,1823,1823,1823,1823,1814,1824,1824,1824,1824,1824,1824,1824,1815,1825,1825,1825,1825,1825,1825,1825,1816,1826,1826,1826,1826,1826,1826,1826,1832]
[null,{"$f":"IF(COUNTIF($CK$10:CK37,TRUE)>0,\"\",INDEX('C_Opis postrojenja'!$E$226:$E$242,ROWS($A$11:A37)))","v":""},{"$f":"IF($E37=\"\",\"\",INDEX('C_Opis postrojenja'!F:F,MATCH($B37,'C_Opis postrojenja'!$E:$E,0)))","v":""},{"$f":"IF($E37=\"\",\"\",INDEX('C_Opis postrojenja'!I:I,MATCH($B37,'C_Opis postrojenja'!$E:$E,0)))","v":""},{"$f":"IF($B37=\"\",\"\",INDEX('C_Opis postrojenja'!F:F,MATCH($CJ37,'C_Opis postrojenja'!$Q:$Q,0)))","v":""},{"$f":"IF($E37=\"\",\"\",INDEX('C_Opis postrojenja'!L:L,MATCH($CJ37,'C_Opis postrojenja'!$Q:$Q,0)))","v":""},{"$f":"IF($E37=\"\",\"\",INDEX('C_Opis postrojenja'!M:M,MATCH($CJ37,'C_Opis postrojenja'!$Q:$Q,0)))","v":""},{"$f":"IF($E37=\"\",\"\",INDEX('C_Opis postrojenja'!N:N,MATCH($CJ37,'C_Opis postrojenja'!$Q:$Q,0)))","v":""},{"$f":"IF($E37=\"\",\"\",IF(INDEX('E_Tokovi izvora'!$A:$N,CN37,I$7)=\"\",\"\",INDEX('E_Tokovi izvora'!$A:$N,CN37,I$7)))","v":""},{"$f":"IF($E37=\"\",\"\",IF(INDEX('E_Tokovi izvora'!$A:$N,CO37,J$7)=\"\",\"\",INDEX('E_Tokovi izvora'!$A:$N,CO37,J$7)))","v":""},{"$f":"IF($E37=\"\",\"\",IF(INDEX('E_Tokovi izvora'!$A:$N,CP37,K$7)=\"\",\"\",INDEX('E_Tokovi izvora'!$A:$N,CP37,K$7)))","v":""},{"$f":"IF($E37=\"\",\"\",IF(INDEX('E_Tokovi izvora'!$A:$N,CQ37,L$7)=\"\",\"\",INDEX('E_Tokovi izvora'!$A:$N,CQ37,L$7)))","v":""},{"$f":"IF($E37=\"\",\"\",IF(INDEX('E_Tokovi izvora'!$A:$N,CR37,M$7)=\"\",\"\",INDEX('E_Tokovi izvora'!$A:$N,CR37,M$7)))","v":""},{"$f":"IF($E37=\"\",\"\",IF(INDEX('E_Tokovi izvora'!$A:$N,CS37,N$7)=\"\",\"\",INDEX('E_Tokovi izvora'!$A:$N,CS37,N$7)))","v":""},{"$f":"IF($E37=\"\",\"\",IF(INDEX('E_Tokovi izvora'!$A:$N,CT37,O$7)=\"\",\"\",INDEX('E_Tokovi izvora'!$A:$N,CT37,O$7)))","v":""},{"$f":"IF($E37=\"\",\"\",IF(INDEX('E_Tokovi izvora'!$A:$N,CU37,P$7)=\"\",\"\",INDEX('E_Tokovi izvora'!$A:$N,CU37,P$7)))","v":""},{"$f":"IF($E37=\"\",\"\",IF(INDEX('E_Tokovi izvora'!$A:$N,CV37,Q$7)=\"\",\"\",INDEX('E_Tokovi izvora'!$A:$N,CV37,Q$7)))","v":""},{"$f":"IF($E37=\"\",\"\",IF(INDEX('E_Tokovi izvora'!$A:$N,CW37,R$7)=\"\",\"\",INDEX('E_Tokovi izvora'!$A:$N,CW37,R$7)))","v":""},{"$f":"IF($E37=\"\",\"\",IF(INDEX('E_Tokovi izvora'!$A:$N,CX37,S$7)=\"\",\"\",INDEX('E_Tokovi izvora'!$A:$N,CX37,S$7)))","v":""},{"$f":"IF($E37=\"\",\"\",IF(INDEX('E_Tokovi izvora'!$A:$N,CY37,T$7)=\"\",\"\",INDEX('E_Tokovi izvora'!$A:$N,CY37,T$7)))","v":""},{"$f":"IF($E37=\"\",\"\",IF(INDEX('E_Tokovi izvora'!$A:$N,CZ37,U$7)=\"\",\"\",INDEX('E_Tokovi izvora'!$A:$N,CZ37,U$7)))","v":""},{"$f":"IF($E37=\"\",\"\",IF(INDEX('E_Tokovi izvora'!$A:$N,DA37,V$7)=\"\",\"\",INDEX('E_Tokovi izvora'!$A:$N,DA37,V$7)))","v":""},{"$f":"IF($E37=\"\",\"\",IF(INDEX('E_Tokovi izvora'!$A:$N,DB37,W$7)=\"\",\"\",INDEX('E_Tokovi izvora'!$A:$N,DB37,W$7)))","v":""},{"$f":"IF($E37=\"\",\"\",IF(INDEX('E_Tokovi izvora'!$A:$N,DC37,X$7)=\"\",\"\",INDEX('E_Tokovi izvora'!$A:$N,DC37,X$7)))","v":""},{"$f":"IF($E37=\"\",\"\",IF(INDEX('E_Tokovi izvora'!$A:$N,DD37,Y$7)=\"\",\"\",INDEX('E_Tokovi izvora'!$A:$N,DD37,Y$7)))","v":""},{"$f":"IF($E37=\"\",\"\",IF(INDEX('E_Tokovi izvora'!$A:$N,DE37,Z$7)=\"\",\"\",INDEX('E_Tokovi izvora'!$A:$N,DE37,Z$7)))","v":""},{"$f":"IF($E37=\"\",\"\",IF(INDEX('E_Tokovi izvora'!$A:$N,DF37,AA$7)=\"\",\"\",INDEX('E_Tokovi izvora'!$A:$N,DF37,AA$7)))","v":""},{"$f":"IF($E37=\"\",\"\",IF(INDEX('E_Tokovi izvora'!$A:$N,DG37,AB$7)=\"\",\"\",INDEX('E_Tokovi izvora'!$A:$N,DG37,AB$7)))","v":""},{"$f":"IF($E37=\"\",\"\",IF(INDEX('E_Tokovi izvora'!$A:$N,DH37,AC$7)=\"\",\"\",INDEX('E_Tokovi izvora'!$A:$N,DH37,AC$7)))","v":""},{"$f":"IF($E37=\"\",\"\",IF(INDEX('E_Tokovi izvora'!$A:$N,DI37,AD$7)=\"\",\"\",INDEX('E_Tokovi izvora'!$A:$N,DI37,AD$7)))","v":""},{"$f":"IF($E37=\"\",\"\",IF(INDEX('E_Tokovi izvora'!$A:$N,DJ37,AE$7)=\"\",\"\",INDEX('E_Tokovi izvora'!$A:$N,DJ37,AE$7)))","v":""},{"$f":"IF($E37=\"\",\"\",IF(INDEX('E_Tokovi izvora'!$A:$N,DK37,AF$7)=\"\",\"\",INDEX('E_Tokovi izvora'!$A:$N,DK37,AF$7)))","v":""},{"$f":"IF($E37=\"\",\"\",IF(INDEX('E_Tokovi izvora'!$A:$N,DL37,AG$7)=\"\",\"\",INDEX('E_Tokovi izvora'!$A:$N,DL37,AG$7)))","v":""},{"$f":"IF($E37=\"\",\"\",IF(INDEX('E_Tokovi izvora'!$A:$N,DM37,AH$7)=\"\",\"\",INDEX('E_Tokovi izvora'!$A:$N,DM37,AH$7)))","v":""},{"$f":"IF($E37=\"\",\"\",IF(INDEX('E_Tokovi izvora'!$A:$N,DN37,AI$7)=\"\",\"\",INDEX('E_Tokovi izvora'!$A:$N,DN37,AI$7)))","v":""},{"$f":"IF($E37=\"\",\"\",IF(INDEX('E_Tokovi izvora'!$A:$N,DO37,AJ$7)=\"\",\"\",INDEX('E_Tokovi izvora'!$A:$N,DO37,AJ$7)))","v":""},{"$f":"IF($E37=\"\",\"\",IF(INDEX('E_Tokovi izvora'!$A:$N,DP37,AK$7)=\"\",\"\",INDEX('E_Tokovi izvora'!$A:$N,DP37,AK$7)))","v":""},{"$f":"IF($E37=\"\",\"\",IF(INDEX('E_Tokovi izvora'!$A:$N,DQ37,AL$7)=\"\",\"\",INDEX('E_Tokovi izvora'!$A:$N,DQ37,AL$7)))","v":""},{"$f":"IF($E37=\"\",\"\",IF(INDEX('E_Tokovi izvora'!$A:$N,DR37,AM$7)=\"\",\"\",INDEX('E_Tokovi izvora'!$A:$N,DR37,AM$7)))","v":""},{"$f":"IF($E37=\"\",\"\",IF(INDEX('E_Tokovi izvora'!$A:$N,DS37,AN$7)=\"\",\"\",INDEX('E_Tokovi izvora'!$A:$N,DS37,AN$7)))","v":""},{"$f":"IF($E37=\"\",\"\",IF(INDEX('E_Tokovi izvora'!$A:$N,DT37,AO$7)=\"\",\"\",INDEX('E_Tokovi izvora'!$A:$N,DT37,AO$7)))","v":""},{"$f":"IF($E37=\"\",\"\",IF(INDEX('E_Tokovi izvora'!$A:$N,DU37,AP$7)=\"\",\"\",INDEX('E_Tokovi izvora'!$A:$N,DU37,AP$7)))","v":""},{"$f":"IF($E37=\"\",\"\",IF(INDEX('E_Tokovi izvora'!$A:$N,DV37,AQ$7)=\"\",\"\",INDEX('E_Tokovi izvora'!$A:$N,DV37,AQ$7)))","v":""},{"$f":"IF($E37=\"\",\"\",IF(INDEX('E_Tokovi izvora'!$A:$N,DW37,AR$7)=\"\",\"\",INDEX('E_Tokovi izvora'!$A:$N,DW37,AR$7)))","v":""},{"$f":"IF($E37=\"\",\"\",IF(INDEX('E_Tokovi izvora'!$A:$N,DX37,AS$7)=\"\",\"\",INDEX('E_Tokovi izvora'!$A:$N,DX37,AS$7)))","v":""},{"$f":"IF($E37=\"\",\"\",IF(INDEX('E_Tokovi izvora'!$A:$N,DY37,AT$7)=\"\",\"\",INDEX('E_Tokovi izvora'!$A:$N,DY37,AT$7)))","v":""},{"$f":"IF($E37=\"\",\"\",IF(INDEX('E_Tokovi izvora'!$A:$N,DZ37,AU$7)=\"\",\"\",INDEX('E_Tokovi izvora'!$A:$N,DZ37,AU$7)))","v":""},{"$f":"IF($E37=\"\",\"\",IF(INDEX('E_Tokovi izvora'!$A:$N,EA37,AV$7)=\"\",\"\",INDEX('E_Tokovi izvora'!$A:$N,EA37,AV$7)))","v":""},{"$f":"IF($E37=\"\",\"\",IF(INDEX('E_Tokovi izvora'!$A:$N,EB37,AW$7)=\"\",\"\",INDEX('E_Tokovi izvora'!$A:$N,EB37,AW$7)))","v":""},{"$f":"IF($E37=\"\",\"\",IF(INDEX('E_Tokovi izvora'!$A:$N,EC37,AX$7)=\"\",\"\",INDEX('E_Tokovi izvora'!$A:$N,EC37,AX$7)))","v":""},{"$f":"IF($E37=\"\",\"\",IF(INDEX('E_Tokovi izvora'!$A:$N,ED37,AY$7)=\"\",\"\",INDEX('E_Tokovi izvora'!$A:$N,ED37,AY$7)))","v":""},{"$f":"IF($E37=\"\",\"\",IF(INDEX('E_Tokovi izvora'!$A:$N,EE37,AZ$7)=\"\",\"\",INDEX('E_Tokovi izvora'!$A:$N,EE37,AZ$7)))","v":""},{"$f":"IF($E37=\"\",\"\",IF(INDEX('E_Tokovi izvora'!$A:$N,EF37,BA$7)=\"\",\"\",INDEX('E_Tokovi izvora'!$A:$N,EF37,BA$7)))","v":""},{"$f":"IF($E37=\"\",\"\",IF(INDEX('E_Tokovi izvora'!$A:$N,EG37,BB$7)=\"\",\"\",INDEX('E_Tokovi izvora'!$A:$N,EG37,BB$7)))","v":""},{"$f":"IF($E37=\"\",\"\",IF(INDEX('E_Tokovi izvora'!$A:$N,EH37,BC$7)=\"\",\"\",INDEX('E_Tokovi izvora'!$A:$N,EH37,BC$7)))","v":""},{"$f":"IF($E37=\"\",\"\",IF(INDEX('E_Tokovi izvora'!$A:$N,EI37,BD$7)=\"\",\"\",INDEX('E_Tokovi izvora'!$A:$N,EI37,BD$7)))","v":""},{"$f":"IF($E37=\"\",\"\",IF(INDEX('E_Tokovi izvora'!$A:$N,EJ37,BE$7)=\"\",\"\",INDEX('E_Tokovi izvora'!$A:$N,EJ37,BE$7)))","v":""},{"$f":"IF($E37=\"\",\"\",IF(INDEX('E_Tokovi izvora'!$A:$N,EK37,BF$7)=\"\",\"\",INDEX('E_Tokovi izvora'!$A:$N,EK37,BF$7)))","v":""},{"$f":"IF($E37=\"\",\"\",IF(INDEX('E_Tokovi izvora'!$A:$N,EL37,BG$7)=\"\",\"\",INDEX('E_Tokovi izvora'!$A:$N,EL37,BG$7)))","v":""},{"$f":"IF($E37=\"\",\"\",IF(INDEX('E_Tokovi izvora'!$A:$N,EM37,BH$7)=\"\",\"\",INDEX('E_Tokovi izvora'!$A:$N,EM37,BH$7)))","v":""},{"$f":"IF($E37=\"\",\"\",IF(INDEX('E_Tokovi izvora'!$A:$N,EN37,BI$7)=\"\",\"\",INDEX('E_Tokovi izvora'!$A:$N,EN37,BI$7)))","v":""},{"$f":"IF($E37=\"\",\"\",IF(INDEX('E_Tokovi izvora'!$A:$N,EO37,BJ$7)=\"\",\"\",INDEX('E_Tokovi izvora'!$A:$N,EO37,BJ$7)))","v":""},{"$f":"IF($E37=\"\",\"\",IF(INDEX('E_Tokovi izvora'!$A:$N,EP37,BK$7)=\"\",\"\",INDEX('E_Tokovi izvora'!$A:$N,EP37,BK$7)))","v":""},{"$f":"IF($E37=\"\",\"\",IF(INDEX('E_Tokovi izvora'!$A:$N,EQ37,BL$7)=\"\",\"\",INDEX('E_Tokovi izvora'!$A:$N,EQ37,BL$7)))","v":""},{"$f":"IF($E37=\"\",\"\",IF(INDEX('E_Tokovi izvora'!$A:$N,ER37,BM$7)=\"\",\"\",INDEX('E_Tokovi izvora'!$A:$N,ER37,BM$7)))","v":""},{"$f":"IF($E37=\"\",\"\",IF(INDEX('E_Tokovi izvora'!$A:$N,ES37,BN$7)=\"\",\"\",INDEX('E_Tokovi izvora'!$A:$N,ES37,BN$7)))","v":""},{"$f":"IF($E37=\"\",\"\",IF(INDEX('E_Tokovi izvora'!$A:$N,ET37,BO$7)=\"\",\"\",INDEX('E_Tokovi izvora'!$A:$N,ET37,BO$7)))","v":""},{"$f":"IF($E37=\"\",\"\",IF(INDEX('E_Tokovi izvora'!$A:$N,EU37,BP$7)=\"\",\"\",INDEX('E_Tokovi izvora'!$A:$N,EU37,BP$7)))","v":""},{"$f":"IF($E37=\"\",\"\",IF(INDEX('E_Tokovi izvora'!$A:$N,EV37,BQ$7)=\"\",\"\",INDEX('E_Tokovi izvora'!$A:$N,EV37,BQ$7)))","v":""},{"$f":"IF($E37=\"\",\"\",IF(INDEX('E_Tokovi izvora'!$A:$N,EW37,BR$7)=\"\",\"\",INDEX('E_Tokovi izvora'!$A:$N,EW37,BR$7)))","v":""},{"$f":"IF($E37=\"\",\"\",IF(INDEX('E_Tokovi izvora'!$A:$N,EX37,BS$7)=\"\",\"\",INDEX('E_Tokovi izvora'!$A:$N,EX37,BS$7)))","v":""},{"$f":"IF($E37=\"\",\"\",IF(INDEX('E_Tokovi izvora'!$A:$N,EY37,BT$7)=\"\",\"\",INDEX('E_Tokovi izvora'!$A:$N,EY37,BT$7)))","v":""},null,null,null,null,null,null,null,null,null,null,null,null,null,null,null,"SourceCategory_",{"$f":"INDEX('C_Opis postrojenja'!$A$226:$A$332,ROWS($CI$11:CI37))=\"ausblenden\"","v":false},"SourceStreamName_",null,1849,1851,1853,1855,1857,1859,1861,1861,1861,1861,1861,1864,1868,1869,1870,1877,1887,1887,1887,1887,1887,1887,1887,1878,1888,1888,1888,1888,1888,1888,1888,1879,1889,1889,1889,1889,1889,1889,1889,1880,1890,1890,1890,1890,1890,1890,1890,1881,1891,1891,1891,1891,1891,1891,1891,1882,1892,1892,1892,1892,1892,1892,1892,1898]
[null,{"$f":"IF(COUNTIF($CK$10:CK38,TRUE)>0,\"\",INDEX('C_Opis postrojenja'!$E$226:$E$242,ROWS($A$11:A38)))","v":""},{"$f":"IF($E38=\"\",\"\",INDEX('C_Opis postrojenja'!F:F,MATCH($B38,'C_Opis postrojenja'!$E:$E,0)))","v":""},{"$f":"IF($E38=\"\",\"\",INDEX('C_Opis postrojenja'!I:I,MATCH($B38,'C_Opis postrojenja'!$E:$E,0)))","v":""},{"$f":"IF($B38=\"\",\"\",INDEX('C_Opis postrojenja'!F:F,MATCH($CJ38,'C_Opis postrojenja'!$Q:$Q,0)))","v":""},{"$f":"IF($E38=\"\",\"\",INDEX('C_Opis postrojenja'!L:L,MATCH($CJ38,'C_Opis postrojenja'!$Q:$Q,0)))","v":""},{"$f":"IF($E38=\"\",\"\",INDEX('C_Opis postrojenja'!M:M,MATCH($CJ38,'C_Opis postrojenja'!$Q:$Q,0)))","v":""},{"$f":"IF($E38=\"\",\"\",INDEX('C_Opis postrojenja'!N:N,MATCH($CJ38,'C_Opis postrojenja'!$Q:$Q,0)))","v":""},{"$f":"IF($E38=\"\",\"\",IF(INDEX('E_Tokovi izvora'!$A:$N,CN38,I$7)=\"\",\"\",INDEX('E_Tokovi izvora'!$A:$N,CN38,I$7)))","v":""},{"$f":"IF($E38=\"\",\"\",IF(INDEX('E_Tokovi izvora'!$A:$N,CO38,J$7)=\"\",\"\",INDEX('E_Tokovi izvora'!$A:$N,CO38,J$7)))","v":""},{"$f":"IF($E38=\"\",\"\",IF(INDEX('E_Tokovi izvora'!$A:$N,CP38,K$7)=\"\",\"\",INDEX('E_Tokovi izvora'!$A:$N,CP38,K$7)))","v":""},{"$f":"IF($E38=\"\",\"\",IF(INDEX('E_Tokovi izvora'!$A:$N,CQ38,L$7)=\"\",\"\",INDEX('E_Tokovi izvora'!$A:$N,CQ38,L$7)))","v":""},{"$f":"IF($E38=\"\",\"\",IF(INDEX('E_Tokovi izvora'!$A:$N,CR38,M$7)=\"\",\"\",INDEX('E_Tokovi izvora'!$A:$N,CR38,M$7)))","v":""},{"$f":"IF($E38=\"\",\"\",IF(INDEX('E_Tokovi izvora'!$A:$N,CS38,N$7)=\"\",\"\",INDEX('E_Tokovi izvora'!$A:$N,CS38,N$7)))","v":""},{"$f":"IF($E38=\"\",\"\",IF(INDEX('E_Tokovi izvora'!$A:$N,CT38,O$7)=\"\",\"\",INDEX('E_Tokovi izvora'!$A:$N,CT38,O$7)))","v":""},{"$f":"IF($E38=\"\",\"\",IF(INDEX('E_Tokovi izvora'!$A:$N,CU38,P$7)=\"\",\"\",INDEX('E_Tokovi izvora'!$A:$N,CU38,P$7)))","v":""},{"$f":"IF($E38=\"\",\"\",IF(INDEX('E_Tokovi izvora'!$A:$N,CV38,Q$7)=\"\",\"\",INDEX('E_Tokovi izvora'!$A:$N,CV38,Q$7)))","v":""},{"$f":"IF($E38=\"\",\"\",IF(INDEX('E_Tokovi izvora'!$A:$N,CW38,R$7)=\"\",\"\",INDEX('E_Tokovi izvora'!$A:$N,CW38,R$7)))","v":""},{"$f":"IF($E38=\"\",\"\",IF(INDEX('E_Tokovi izvora'!$A:$N,CX38,S$7)=\"\",\"\",INDEX('E_Tokovi izvora'!$A:$N,CX38,S$7)))","v":""},{"$f":"IF($E38=\"\",\"\",IF(INDEX('E_Tokovi izvora'!$A:$N,CY38,T$7)=\"\",\"\",INDEX('E_Tokovi izvora'!$A:$N,CY38,T$7)))","v":""},{"$f":"IF($E38=\"\",\"\",IF(INDEX('E_Tokovi izvora'!$A:$N,CZ38,U$7)=\"\",\"\",INDEX('E_Tokovi izvora'!$A:$N,CZ38,U$7)))","v":""},{"$f":"IF($E38=\"\",\"\",IF(INDEX('E_Tokovi izvora'!$A:$N,DA38,V$7)=\"\",\"\",INDEX('E_Tokovi izvora'!$A:$N,DA38,V$7)))","v":""},{"$f":"IF($E38=\"\",\"\",IF(INDEX('E_Tokovi izvora'!$A:$N,DB38,W$7)=\"\",\"\",INDEX('E_Tokovi izvora'!$A:$N,DB38,W$7)))","v":""},{"$f":"IF($E38=\"\",\"\",IF(INDEX('E_Tokovi izvora'!$A:$N,DC38,X$7)=\"\",\"\",INDEX('E_Tokovi izvora'!$A:$N,DC38,X$7)))","v":""},{"$f":"IF($E38=\"\",\"\",IF(INDEX('E_Tokovi izvora'!$A:$N,DD38,Y$7)=\"\",\"\",INDEX('E_Tokovi izvora'!$A:$N,DD38,Y$7)))","v":""},{"$f":"IF($E38=\"\",\"\",IF(INDEX('E_Tokovi izvora'!$A:$N,DE38,Z$7)=\"\",\"\",INDEX('E_Tokovi izvora'!$A:$N,DE38,Z$7)))","v":""},{"$f":"IF($E38=\"\",\"\",IF(INDEX('E_Tokovi izvora'!$A:$N,DF38,AA$7)=\"\",\"\",INDEX('E_Tokovi izvora'!$A:$N,DF38,AA$7)))","v":""},{"$f":"IF($E38=\"\",\"\",IF(INDEX('E_Tokovi izvora'!$A:$N,DG38,AB$7)=\"\",\"\",INDEX('E_Tokovi izvora'!$A:$N,DG38,AB$7)))","v":""},{"$f":"IF($E38=\"\",\"\",IF(INDEX('E_Tokovi izvora'!$A:$N,DH38,AC$7)=\"\",\"\",INDEX('E_Tokovi izvora'!$A:$N,DH38,AC$7)))","v":""},{"$f":"IF($E38=\"\",\"\",IF(INDEX('E_Tokovi izvora'!$A:$N,DI38,AD$7)=\"\",\"\",INDEX('E_Tokovi izvora'!$A:$N,DI38,AD$7)))","v":""},{"$f":"IF($E38=\"\",\"\",IF(INDEX('E_Tokovi izvora'!$A:$N,DJ38,AE$7)=\"\",\"\",INDEX('E_Tokovi izvora'!$A:$N,DJ38,AE$7)))","v":""},{"$f":"IF($E38=\"\",\"\",IF(INDEX('E_Tokovi izvora'!$A:$N,DK38,AF$7)=\"\",\"\",INDEX('E_Tokovi izvora'!$A:$N,DK38,AF$7)))","v":""},{"$f":"IF($E38=\"\",\"\",IF(INDEX('E_Tokovi izvora'!$A:$N,DL38,AG$7)=\"\",\"\",INDEX('E_Tokovi izvora'!$A:$N,DL38,AG$7)))","v":""},{"$f":"IF($E38=\"\",\"\",IF(INDEX('E_Tokovi izvora'!$A:$N,DM38,AH$7)=\"\",\"\",INDEX('E_Tokovi izvora'!$A:$N,DM38,AH$7)))","v":""},{"$f":"IF($E38=\"\",\"\",IF(INDEX('E_Tokovi izvora'!$A:$N,DN38,AI$7)=\"\",\"\",INDEX('E_Tokovi izvora'!$A:$N,DN38,AI$7)))","v":""},{"$f":"IF($E38=\"\",\"\",IF(INDEX('E_Tokovi izvora'!$A:$N,DO38,AJ$7)=\"\",\"\",INDEX('E_Tokovi izvora'!$A:$N,DO38,AJ$7)))","v":""},{"$f":"IF($E38=\"\",\"\",IF(INDEX('E_Tokovi izvora'!$A:$N,DP38,AK$7)=\"\",\"\",INDEX('E_Tokovi izvora'!$A:$N,DP38,AK$7)))","v":""},{"$f":"IF($E38=\"\",\"\",IF(INDEX('E_Tokovi izvora'!$A:$N,DQ38,AL$7)=\"\",\"\",INDEX('E_Tokovi izvora'!$A:$N,DQ38,AL$7)))","v":""},{"$f":"IF($E38=\"\",\"\",IF(INDEX('E_Tokovi izvora'!$A:$N,DR38,AM$7)=\"\",\"\",INDEX('E_Tokovi izvora'!$A:$N,DR38,AM$7)))","v":""},{"$f":"IF($E38=\"\",\"\",IF(INDEX('E_Tokovi izvora'!$A:$N,DS38,AN$7)=\"\",\"\",INDEX('E_Tokovi izvora'!$A:$N,DS38,AN$7)))","v":""},{"$f":"IF($E38=\"\",\"\",IF(INDEX('E_Tokovi izvora'!$A:$N,DT38,AO$7)=\"\",\"\",INDEX('E_Tokovi izvora'!$A:$N,DT38,AO$7)))","v":""},{"$f":"IF($E38=\"\",\"\",IF(INDEX('E_Tokovi izvora'!$A:$N,DU38,AP$7)=\"\",\"\",INDEX('E_Tokovi izvora'!$A:$N,DU38,AP$7)))","v":""},{"$f":"IF($E38=\"\",\"\",IF(INDEX('E_Tokovi izvora'!$A:$N,DV38,AQ$7)=\"\",\"\",INDEX('E_Tokovi izvora'!$A:$N,DV38,AQ$7)))","v":""},{"$f":"IF($E38=\"\",\"\",IF(INDEX('E_Tokovi izvora'!$A:$N,DW38,AR$7)=\"\",\"\",INDEX('E_Tokovi izvora'!$A:$N,DW38,AR$7)))","v":""},{"$f":"IF($E38=\"\",\"\",IF(INDEX('E_Tokovi izvora'!$A:$N,DX38,AS$7)=\"\",\"\",INDEX('E_Tokovi izvora'!$A:$N,DX38,AS$7)))","v":""},{"$f":"IF($E38=\"\",\"\",IF(INDEX('E_Tokovi izvora'!$A:$N,DY38,AT$7)=\"\",\"\",INDEX('E_Tokovi izvora'!$A:$N,DY38,AT$7)))","v":""},{"$f":"IF($E38=\"\",\"\",IF(INDEX('E_Tokovi izvora'!$A:$N,DZ38,AU$7)=\"\",\"\",INDEX('E_Tokovi izvora'!$A:$N,DZ38,AU$7)))","v":""},{"$f":"IF($E38=\"\",\"\",IF(INDEX('E_Tokovi izvora'!$A:$N,EA38,AV$7)=\"\",\"\",INDEX('E_Tokovi izvora'!$A:$N,EA38,AV$7)))","v":""},{"$f":"IF($E38=\"\",\"\",IF(INDEX('E_Tokovi izvora'!$A:$N,EB38,AW$7)=\"\",\"\",INDEX('E_Tokovi izvora'!$A:$N,EB38,AW$7)))","v":""},{"$f":"IF($E38=\"\",\"\",IF(INDEX('E_Tokovi izvora'!$A:$N,EC38,AX$7)=\"\",\"\",INDEX('E_Tokovi izvora'!$A:$N,EC38,AX$7)))","v":""},{"$f":"IF($E38=\"\",\"\",IF(INDEX('E_Tokovi izvora'!$A:$N,ED38,AY$7)=\"\",\"\",INDEX('E_Tokovi izvora'!$A:$N,ED38,AY$7)))","v":""},{"$f":"IF($E38=\"\",\"\",IF(INDEX('E_Tokovi izvora'!$A:$N,EE38,AZ$7)=\"\",\"\",INDEX('E_Tokovi izvora'!$A:$N,EE38,AZ$7)))","v":""},{"$f":"IF($E38=\"\",\"\",IF(INDEX('E_Tokovi izvora'!$A:$N,EF38,BA$7)=\"\",\"\",INDEX('E_Tokovi izvora'!$A:$N,EF38,BA$7)))","v":""},{"$f":"IF($E38=\"\",\"\",IF(INDEX('E_Tokovi izvora'!$A:$N,EG38,BB$7)=\"\",\"\",INDEX('E_Tokovi izvora'!$A:$N,EG38,BB$7)))","v":""},{"$f":"IF($E38=\"\",\"\",IF(INDEX('E_Tokovi izvora'!$A:$N,EH38,BC$7)=\"\",\"\",INDEX('E_Tokovi izvora'!$A:$N,EH38,BC$7)))","v":""},{"$f":"IF($E38=\"\",\"\",IF(INDEX('E_Tokovi izvora'!$A:$N,EI38,BD$7)=\"\",\"\",INDEX('E_Tokovi izvora'!$A:$N,EI38,BD$7)))","v":""},{"$f":"IF($E38=\"\",\"\",IF(INDEX('E_Tokovi izvora'!$A:$N,EJ38,BE$7)=\"\",\"\",INDEX('E_Tokovi izvora'!$A:$N,EJ38,BE$7)))","v":""},{"$f":"IF($E38=\"\",\"\",IF(INDEX('E_Tokovi izvora'!$A:$N,EK38,BF$7)=\"\",\"\",INDEX('E_Tokovi izvora'!$A:$N,EK38,BF$7)))","v":""},{"$f":"IF($E38=\"\",\"\",IF(INDEX('E_Tokovi izvora'!$A:$N,EL38,BG$7)=\"\",\"\",INDEX('E_Tokovi izvora'!$A:$N,EL38,BG$7)))","v":""},{"$f":"IF($E38=\"\",\"\",IF(INDEX('E_Tokovi izvora'!$A:$N,EM38,BH$7)=\"\",\"\",INDEX('E_Tokovi izvora'!$A:$N,EM38,BH$7)))","v":""},{"$f":"IF($E38=\"\",\"\",IF(INDEX('E_Tokovi izvora'!$A:$N,EN38,BI$7)=\"\",\"\",INDEX('E_Tokovi izvora'!$A:$N,EN38,BI$7)))","v":""},{"$f":"IF($E38=\"\",\"\",IF(INDEX('E_Tokovi izvora'!$A:$N,EO38,BJ$7)=\"\",\"\",INDEX('E_Tokovi izvora'!$A:$N,EO38,BJ$7)))","v":""},{"$f":"IF($E38=\"\",\"\",IF(INDEX('E_Tokovi izvora'!$A:$N,EP38,BK$7)=\"\",\"\",INDEX('E_Tokovi izvora'!$A:$N,EP38,BK$7)))","v":""},{"$f":"IF($E38=\"\",\"\",IF(INDEX('E_Tokovi izvora'!$A:$N,EQ38,BL$7)=\"\",\"\",INDEX('E_Tokovi izvora'!$A:$N,EQ38,BL$7)))","v":""},{"$f":"IF($E38=\"\",\"\",IF(INDEX('E_Tokovi izvora'!$A:$N,ER38,BM$7)=\"\",\"\",INDEX('E_Tokovi izvora'!$A:$N,ER38,BM$7)))","v":""},{"$f":"IF($E38=\"\",\"\",IF(INDEX('E_Tokovi izvora'!$A:$N,ES38,BN$7)=\"\",\"\",INDEX('E_Tokovi izvora'!$A:$N,ES38,BN$7)))","v":""},{"$f":"IF($E38=\"\",\"\",IF(INDEX('E_Tokovi izvora'!$A:$N,ET38,BO$7)=\"\",\"\",INDEX('E_Tokovi izvora'!$A:$N,ET38,BO$7)))","v":""},{"$f":"IF($E38=\"\",\"\",IF(INDEX('E_Tokovi izvora'!$A:$N,EU38,BP$7)=\"\",\"\",INDEX('E_Tokovi izvora'!$A:$N,EU38,BP$7)))","v":""},{"$f":"IF($E38=\"\",\"\",IF(INDEX('E_Tokovi izvora'!$A:$N,EV38,BQ$7)=\"\",\"\",INDEX('E_Tokovi izvora'!$A:$N,EV38,BQ$7)))","v":""},{"$f":"IF($E38=\"\",\"\",IF(INDEX('E_Tokovi izvora'!$A:$N,EW38,BR$7)=\"\",\"\",INDEX('E_Tokovi izvora'!$A:$N,EW38,BR$7)))","v":""},{"$f":"IF($E38=\"\",\"\",IF(INDEX('E_Tokovi izvora'!$A:$N,EX38,BS$7)=\"\",\"\",INDEX('E_Tokovi izvora'!$A:$N,EX38,BS$7)))","v":""},{"$f":"IF($E38=\"\",\"\",IF(INDEX('E_Tokovi izvora'!$A:$N,EY38,BT$7)=\"\",\"\",INDEX('E_Tokovi izvora'!$A:$N,EY38,BT$7)))","v":""},null,null,null,null,null,null,null,null,null,null,null,null,null,null,null,"SourceCategory_",{"$f":"INDEX('C_Opis postrojenja'!$A$226:$A$332,ROWS($CI$11:CI38))=\"ausblenden\"","v":false},"SourceStreamName_",null,1915,1917,1919,1921,1923,1925,1927,1927,1927,1927,1927,1930,1934,1935,1936,1943,1953,1953,1953,1953,1953,1953,1953,1944,1954,1954,1954,1954,1954,1954,1954,1945,1955,1955,1955,1955,1955,1955,1955,1946,1956,1956,1956,1956,1956,1956,1956,1947,1957,1957,1957,1957,1957,1957,1957,1948,1958,1958,1958,1958,1958,1958,1958,1964]
[null,{"$f":"IF(COUNTIF($CK$10:CK39,TRUE)>0,\"\",INDEX('C_Opis postrojenja'!$E$226:$E$242,ROWS($A$11:A39)))","v":""},{"$f":"IF($E39=\"\",\"\",INDEX('C_Opis postrojenja'!F:F,MATCH($B39,'C_Opis postrojenja'!$E:$E,0)))","v":""},{"$f":"IF($E39=\"\",\"\",INDEX('C_Opis postrojenja'!I:I,MATCH($B39,'C_Opis postrojenja'!$E:$E,0)))","v":""},{"$f":"IF($B39=\"\",\"\",INDEX('C_Opis postrojenja'!F:F,MATCH($CJ39,'C_Opis postrojenja'!$Q:$Q,0)))","v":""},{"$f":"IF($E39=\"\",\"\",INDEX('C_Opis postrojenja'!L:L,MATCH($CJ39,'C_Opis postrojenja'!$Q:$Q,0)))","v":""},{"$f":"IF($E39=\"\",\"\",INDEX('C_Opis postrojenja'!M:M,MATCH($CJ39,'C_Opis postrojenja'!$Q:$Q,0)))","v":""},{"$f":"IF($E39=\"\",\"\",INDEX('C_Opis postrojenja'!N:N,MATCH($CJ39,'C_Opis postrojenja'!$Q:$Q,0)))","v":""},{"$f":"IF($E39=\"\",\"\",IF(INDEX('E_Tokovi izvora'!$A:$N,CN39,I$7)=\"\",\"\",INDEX('E_Tokovi izvora'!$A:$N,CN39,I$7)))","v":""},{"$f":"IF($E39=\"\",\"\",IF(INDEX('E_Tokovi izvora'!$A:$N,CO39,J$7)=\"\",\"\",INDEX('E_Tokovi izvora'!$A:$N,CO39,J$7)))","v":""},{"$f":"IF($E39=\"\",\"\",IF(INDEX('E_Tokovi izvora'!$A:$N,CP39,K$7)=\"\",\"\",INDEX('E_Tokovi izvora'!$A:$N,CP39,K$7)))","v":""},{"$f":"IF($E39=\"\",\"\",IF(INDEX('E_Tokovi izvora'!$A:$N,CQ39,L$7)=\"\",\"\",INDEX('E_Tokovi izvora'!$A:$N,CQ39,L$7)))","v":""},{"$f":"IF($E39=\"\",\"\",IF(INDEX('E_Tokovi izvora'!$A:$N,CR39,M$7)=\"\",\"\",INDEX('E_Tokovi izvora'!$A:$N,CR39,M$7)))","v":""},{"$f":"IF($E39=\"\",\"\",IF(INDEX('E_Tokovi izvora'!$A:$N,CS39,N$7)=\"\",\"\",INDEX('E_Tokovi izvora'!$A:$N,CS39,N$7)))","v":""},{"$f":"IF($E39=\"\",\"\",IF(INDEX('E_Tokovi izvora'!$A:$N,CT39,O$7)=\"\",\"\",INDEX('E_Tokovi izvora'!$A:$N,CT39,O$7)))","v":""},{"$f":"IF($E39=\"\",\"\",IF(INDEX('E_Tokovi izvora'!$A:$N,CU39,P$7)=\"\",\"\",INDEX('E_Tokovi izvora'!$A:$N,CU39,P$7)))","v":""},{"$f":"IF($E39=\"\",\"\",IF(INDEX('E_Tokovi izvora'!$A:$N,CV39,Q$7)=\"\",\"\",INDEX('E_Tokovi izvora'!$A:$N,CV39,Q$7)))","v":""},{"$f":"IF($E39=\"\",\"\",IF(INDEX('E_Tokovi izvora'!$A:$N,CW39,R$7)=\"\",\"\",INDEX('E_Tokovi izvora'!$A:$N,CW39,R$7)))","v":""},{"$f":"IF($E39=\"\",\"\",IF(INDEX('E_Tokovi izvora'!$A:$N,CX39,S$7)=\"\",\"\",INDEX('E_Tokovi izvora'!$A:$N,CX39,S$7)))","v":""},{"$f":"IF($E39=\"\",\"\",IF(INDEX('E_Tokovi izvora'!$A:$N,CY39,T$7)=\"\",\"\",INDEX('E_Tokovi izvora'!$A:$N,CY39,T$7)))","v":""},{"$f":"IF($E39=\"\",\"\",IF(INDEX('E_Tokovi izvora'!$A:$N,CZ39,U$7)=\"\",\"\",INDEX('E_Tokovi izvora'!$A:$N,CZ39,U$7)))","v":""},{"$f":"IF($E39=\"\",\"\",IF(INDEX('E_Tokovi izvora'!$A:$N,DA39,V$7)=\"\",\"\",INDEX('E_Tokovi izvora'!$A:$N,DA39,V$7)))","v":""},{"$f":"IF($E39=\"\",\"\",IF(INDEX('E_Tokovi izvora'!$A:$N,DB39,W$7)=\"\",\"\",INDEX('E_Tokovi izvora'!$A:$N,DB39,W$7)))","v":""},{"$f":"IF($E39=\"\",\"\",IF(INDEX('E_Tokovi izvora'!$A:$N,DC39,X$7)=\"\",\"\",INDEX('E_Tokovi izvora'!$A:$N,DC39,X$7)))","v":""},{"$f":"IF($E39=\"\",\"\",IF(INDEX('E_Tokovi izvora'!$A:$N,DD39,Y$7)=\"\",\"\",INDEX('E_Tokovi izvora'!$A:$N,DD39,Y$7)))","v":""},{"$f":"IF($E39=\"\",\"\",IF(INDEX('E_Tokovi izvora'!$A:$N,DE39,Z$7)=\"\",\"\",INDEX('E_Tokovi izvora'!$A:$N,DE39,Z$7)))","v":""},{"$f":"IF($E39=\"\",\"\",IF(INDEX('E_Tokovi izvora'!$A:$N,DF39,AA$7)=\"\",\"\",INDEX('E_Tokovi izvora'!$A:$N,DF39,AA$7)))","v":""},{"$f":"IF($E39=\"\",\"\",IF(INDEX('E_Tokovi izvora'!$A:$N,DG39,AB$7)=\"\",\"\",INDEX('E_Tokovi izvora'!$A:$N,DG39,AB$7)))","v":""},{"$f":"IF($E39=\"\",\"\",IF(INDEX('E_Tokovi izvora'!$A:$N,DH39,AC$7)=\"\",\"\",INDEX('E_Tokovi izvora'!$A:$N,DH39,AC$7)))","v":""},{"$f":"IF($E39=\"\",\"\",IF(INDEX('E_Tokovi izvora'!$A:$N,DI39,AD$7)=\"\",\"\",INDEX('E_Tokovi izvora'!$A:$N,DI39,AD$7)))","v":""},{"$f":"IF($E39=\"\",\"\",IF(INDEX('E_Tokovi izvora'!$A:$N,DJ39,AE$7)=\"\",\"\",INDEX('E_Tokovi izvora'!$A:$N,DJ39,AE$7)))","v":""},{"$f":"IF($E39=\"\",\"\",IF(INDEX('E_Tokovi izvora'!$A:$N,DK39,AF$7)=\"\",\"\",INDEX('E_Tokovi izvora'!$A:$N,DK39,AF$7)))","v":""},{"$f":"IF($E39=\"\",\"\",IF(INDEX('E_Tokovi izvora'!$A:$N,DL39,AG$7)=\"\",\"\",INDEX('E_Tokovi izvora'!$A:$N,DL39,AG$7)))","v":""},{"$f":"IF($E39=\"\",\"\",IF(INDEX('E_Tokovi izvora'!$A:$N,DM39,AH$7)=\"\",\"\",INDEX('E_Tokovi izvora'!$A:$N,DM39,AH$7)))","v":""},{"$f":"IF($E39=\"\",\"\",IF(INDEX('E_Tokovi izvora'!$A:$N,DN39,AI$7)=\"\",\"\",INDEX('E_Tokovi izvora'!$A:$N,DN39,AI$7)))","v":""},{"$f":"IF($E39=\"\",\"\",IF(INDEX('E_Tokovi izvora'!$A:$N,DO39,AJ$7)=\"\",\"\",INDEX('E_Tokovi izvora'!$A:$N,DO39,AJ$7)))","v":""},{"$f":"IF($E39=\"\",\"\",IF(INDEX('E_Tokovi izvora'!$A:$N,DP39,AK$7)=\"\",\"\",INDEX('E_Tokovi izvora'!$A:$N,DP39,AK$7)))","v":""},{"$f":"IF($E39=\"\",\"\",IF(INDEX('E_Tokovi izvora'!$A:$N,DQ39,AL$7)=\"\",\"\",INDEX('E_Tokovi izvora'!$A:$N,DQ39,AL$7)))","v":""},{"$f":"IF($E39=\"\",\"\",IF(INDEX('E_Tokovi izvora'!$A:$N,DR39,AM$7)=\"\",\"\",INDEX('E_Tokovi izvora'!$A:$N,DR39,AM$7)))","v":""},{"$f":"IF($E39=\"\",\"\",IF(INDEX('E_Tokovi izvora'!$A:$N,DS39,AN$7)=\"\",\"\",INDEX('E_Tokovi izvora'!$A:$N,DS39,AN$7)))","v":""},{"$f":"IF($E39=\"\",\"\",IF(INDEX('E_Tokovi izvora'!$A:$N,DT39,AO$7)=\"\",\"\",INDEX('E_Tokovi izvora'!$A:$N,DT39,AO$7)))","v":""},{"$f":"IF($E39=\"\",\"\",IF(INDEX('E_Tokovi izvora'!$A:$N,DU39,AP$7)=\"\",\"\",INDEX('E_Tokovi izvora'!$A:$N,DU39,AP$7)))","v":""},{"$f":"IF($E39=\"\",\"\",IF(INDEX('E_Tokovi izvora'!$A:$N,DV39,AQ$7)=\"\",\"\",INDEX('E_Tokovi izvora'!$A:$N,DV39,AQ$7)))","v":""},{"$f":"IF($E39=\"\",\"\",IF(INDEX('E_Tokovi izvora'!$A:$N,DW39,AR$7)=\"\",\"\",INDEX('E_Tokovi izvora'!$A:$N,DW39,AR$7)))","v":""},{"$f":"IF($E39=\"\",\"\",IF(INDEX('E_Tokovi izvora'!$A:$N,DX39,AS$7)=\"\",\"\",INDEX('E_Tokovi izvora'!$A:$N,DX39,AS$7)))","v":""},{"$f":"IF($E39=\"\",\"\",IF(INDEX('E_Tokovi izvora'!$A:$N,DY39,AT$7)=\"\",\"\",INDEX('E_Tokovi izvora'!$A:$N,DY39,AT$7)))","v":""},{"$f":"IF($E39=\"\",\"\",IF(INDEX('E_Tokovi izvora'!$A:$N,DZ39,AU$7)=\"\",\"\",INDEX('E_Tokovi izvora'!$A:$N,DZ39,AU$7)))","v":""},{"$f":"IF($E39=\"\",\"\",IF(INDEX('E_Tokovi izvora'!$A:$N,EA39,AV$7)=\"\",\"\",INDEX('E_Tokovi izvora'!$A:$N,EA39,AV$7)))","v":""},{"$f":"IF($E39=\"\",\"\",IF(INDEX('E_Tokovi izvora'!$A:$N,EB39,AW$7)=\"\",\"\",INDEX('E_Tokovi izvora'!$A:$N,EB39,AW$7)))","v":""},{"$f":"IF($E39=\"\",\"\",IF(INDEX('E_Tokovi izvora'!$A:$N,EC39,AX$7)=\"\",\"\",INDEX('E_Tokovi izvora'!$A:$N,EC39,AX$7)))","v":""},{"$f":"IF($E39=\"\",\"\",IF(INDEX('E_Tokovi izvora'!$A:$N,ED39,AY$7)=\"\",\"\",INDEX('E_Tokovi izvora'!$A:$N,ED39,AY$7)))","v":""},{"$f":"IF($E39=\"\",\"\",IF(INDEX('E_Tokovi izvora'!$A:$N,EE39,AZ$7)=\"\",\"\",INDEX('E_Tokovi izvora'!$A:$N,EE39,AZ$7)))","v":""},{"$f":"IF($E39=\"\",\"\",IF(INDEX('E_Tokovi izvora'!$A:$N,EF39,BA$7)=\"\",\"\",INDEX('E_Tokovi izvora'!$A:$N,EF39,BA$7)))","v":""},{"$f":"IF($E39=\"\",\"\",IF(INDEX('E_Tokovi izvora'!$A:$N,EG39,BB$7)=\"\",\"\",INDEX('E_Tokovi izvora'!$A:$N,EG39,BB$7)))","v":""},{"$f":"IF($E39=\"\",\"\",IF(INDEX('E_Tokovi izvora'!$A:$N,EH39,BC$7)=\"\",\"\",INDEX('E_Tokovi izvora'!$A:$N,EH39,BC$7)))","v":""},{"$f":"IF($E39=\"\",\"\",IF(INDEX('E_Tokovi izvora'!$A:$N,EI39,BD$7)=\"\",\"\",INDEX('E_Tokovi izvora'!$A:$N,EI39,BD$7)))","v":""},{"$f":"IF($E39=\"\",\"\",IF(INDEX('E_Tokovi izvora'!$A:$N,EJ39,BE$7)=\"\",\"\",INDEX('E_Tokovi izvora'!$A:$N,EJ39,BE$7)))","v":""},{"$f":"IF($E39=\"\",\"\",IF(INDEX('E_Tokovi izvora'!$A:$N,EK39,BF$7)=\"\",\"\",INDEX('E_Tokovi izvora'!$A:$N,EK39,BF$7)))","v":""},{"$f":"IF($E39=\"\",\"\",IF(INDEX('E_Tokovi izvora'!$A:$N,EL39,BG$7)=\"\",\"\",INDEX('E_Tokovi izvora'!$A:$N,EL39,BG$7)))","v":""},{"$f":"IF($E39=\"\",\"\",IF(INDEX('E_Tokovi izvora'!$A:$N,EM39,BH$7)=\"\",\"\",INDEX('E_Tokovi izvora'!$A:$N,EM39,BH$7)))","v":""},{"$f":"IF($E39=\"\",\"\",IF(INDEX('E_Tokovi izvora'!$A:$N,EN39,BI$7)=\"\",\"\",INDEX('E_Tokovi izvora'!$A:$N,EN39,BI$7)))","v":""},{"$f":"IF($E39=\"\",\"\",IF(INDEX('E_Tokovi izvora'!$A:$N,EO39,BJ$7)=\"\",\"\",INDEX('E_Tokovi izvora'!$A:$N,EO39,BJ$7)))","v":""},{"$f":"IF($E39=\"\",\"\",IF(INDEX('E_Tokovi izvora'!$A:$N,EP39,BK$7)=\"\",\"\",INDEX('E_Tokovi izvora'!$A:$N,EP39,BK$7)))","v":""},{"$f":"IF($E39=\"\",\"\",IF(INDEX('E_Tokovi izvora'!$A:$N,EQ39,BL$7)=\"\",\"\",INDEX('E_Tokovi izvora'!$A:$N,EQ39,BL$7)))","v":""},{"$f":"IF($E39=\"\",\"\",IF(INDEX('E_Tokovi izvora'!$A:$N,ER39,BM$7)=\"\",\"\",INDEX('E_Tokovi izvora'!$A:$N,ER39,BM$7)))","v":""},{"$f":"IF($E39=\"\",\"\",IF(INDEX('E_Tokovi izvora'!$A:$N,ES39,BN$7)=\"\",\"\",INDEX('E_Tokovi izvora'!$A:$N,ES39,BN$7)))","v":""},{"$f":"IF($E39=\"\",\"\",IF(INDEX('E_Tokovi izvora'!$A:$N,ET39,BO$7)=\"\",\"\",INDEX('E_Tokovi izvora'!$A:$N,ET39,BO$7)))","v":""},{"$f":"IF($E39=\"\",\"\",IF(INDEX('E_Tokovi izvora'!$A:$N,EU39,BP$7)=\"\",\"\",INDEX('E_Tokovi izvora'!$A:$N,EU39,BP$7)))","v":""},{"$f":"IF($E39=\"\",\"\",IF(INDEX('E_Tokovi izvora'!$A:$N,EV39,BQ$7)=\"\",\"\",INDEX('E_Tokovi izvora'!$A:$N,EV39,BQ$7)))","v":""},{"$f":"IF($E39=\"\",\"\",IF(INDEX('E_Tokovi izvora'!$A:$N,EW39,BR$7)=\"\",\"\",INDEX('E_Tokovi izvora'!$A:$N,EW39,BR$7)))","v":""},{"$f":"IF($E39=\"\",\"\",IF(INDEX('E_Tokovi izvora'!$A:$N,EX39,BS$7)=\"\",\"\",INDEX('E_Tokovi izvora'!$A:$N,EX39,BS$7)))","v":""},{"$f":"IF($E39=\"\",\"\",IF(INDEX('E_Tokovi izvora'!$A:$N,EY39,BT$7)=\"\",\"\",INDEX('E_Tokovi izvora'!$A:$N,EY39,BT$7)))","v":""},null,null,null,null,null,null,null,null,null,null,null,null,null,null,null,"SourceCategory_",{"$f":"INDEX('C_Opis postrojenja'!$A$226:$A$332,ROWS($CI$11:CI39))=\"ausblenden\"","v":false},"SourceStreamName_",null,1981,1983,1985,1987,1989,1991,1993,1993,1993,1993,1993,1996,2000,2001,2002,2009,2019,2019,2019,2019,2019,2019,2019,2010,2020,2020,2020,2020,2020,2020,2020,2011,2021,2021,2021,2021,2021,2021,2021,2012,2022,2022,2022,2022,2022,2022,2022,2013,2023,2023,2023,2023,2023,2023,2023,2014,2024,2024,2024,2024,2024,2024,2024,2030]
[null,{"$f":"IF(COUNTIF($CK$10:CK40,TRUE)>0,\"\",INDEX('C_Opis postrojenja'!$E$226:$E$242,ROWS($A$11:A40)))","v":""},{"$f":"IF($E40=\"\",\"\",INDEX('C_Opis postrojenja'!F:F,MATCH($B40,'C_Opis postrojenja'!$E:$E,0)))","v":""},{"$f":"IF($E40=\"\",\"\",INDEX('C_Opis postrojenja'!I:I,MATCH($B40,'C_Opis postrojenja'!$E:$E,0)))","v":""},{"$f":"IF($B40=\"\",\"\",INDEX('C_Opis postrojenja'!F:F,MATCH($CJ40,'C_Opis postrojenja'!$Q:$Q,0)))","v":""},{"$f":"IF($E40=\"\",\"\",INDEX('C_Opis postrojenja'!L:L,MATCH($CJ40,'C_Opis postrojenja'!$Q:$Q,0)))","v":""},{"$f":"IF($E40=\"\",\"\",INDEX('C_Opis postrojenja'!M:M,MATCH($CJ40,'C_Opis postrojenja'!$Q:$Q,0)))","v":""},{"$f":"IF($E40=\"\",\"\",INDEX('C_Opis postrojenja'!N:N,MATCH($CJ40,'C_Opis postrojenja'!$Q:$Q,0)))","v":""},{"$f":"IF($E40=\"\",\"\",IF(INDEX('E_Tokovi izvora'!$A:$N,CN40,I$7)=\"\",\"\",INDEX('E_Tokovi izvora'!$A:$N,CN40,I$7)))","v":""},{"$f":"IF($E40=\"\",\"\",IF(INDEX('E_Tokovi izvora'!$A:$N,CO40,J$7)=\"\",\"\",INDEX('E_Tokovi izvora'!$A:$N,CO40,J$7)))","v":""},{"$f":"IF($E40=\"\",\"\",IF(INDEX('E_Tokovi izvora'!$A:$N,CP40,K$7)=\"\",\"\",INDEX('E_Tokovi izvora'!$A:$N,CP40,K$7)))","v":""},{"$f":"IF($E40=\"\",\"\",IF(INDEX('E_Tokovi izvora'!$A:$N,CQ40,L$7)=\"\",\"\",INDEX('E_Tokovi izvora'!$A:$N,CQ40,L$7)))","v":""},{"$f":"IF($E40=\"\",\"\",IF(INDEX('E_Tokovi izvora'!$A:$N,CR40,M$7)=\"\",\"\",INDEX('E_Tokovi izvora'!$A:$N,CR40,M$7)))","v":""},{"$f":"IF($E40=\"\",\"\",IF(INDEX('E_Tokovi izvora'!$A:$N,CS40,N$7)=\"\",\"\",INDEX('E_Tokovi izvora'!$A:$N,CS40,N$7)))","v":""},{"$f":"IF($E40=\"\",\"\",IF(INDEX('E_Tokovi izvora'!$A:$N,CT40,O$7)=\"\",\"\",INDEX('E_Tokovi izvora'!$A:$N,CT40,O$7)))","v":""},{"$f":"IF($E40=\"\",\"\",IF(INDEX('E_Tokovi izvora'!$A:$N,CU40,P$7)=\"\",\"\",INDEX('E_Tokovi izvora'!$A:$N,CU40,P$7)))","v":""},{"$f":"IF($E40=\"\",\"\",IF(INDEX('E_Tokovi izvora'!$A:$N,CV40,Q$7)=\"\",\"\",INDEX('E_Tokovi izvora'!$A:$N,CV40,Q$7)))","v":""},{"$f":"IF($E40=\"\",\"\",IF(INDEX('E_Tokovi izvora'!$A:$N,CW40,R$7)=\"\",\"\",INDEX('E_Tokovi izvora'!$A:$N,CW40,R$7)))","v":""},{"$f":"IF($E40=\"\",\"\",IF(INDEX('E_Tokovi izvora'!$A:$N,CX40,S$7)=\"\",\"\",INDEX('E_Tokovi izvora'!$A:$N,CX40,S$7)))","v":""},{"$f":"IF($E40=\"\",\"\",IF(INDEX('E_Tokovi izvora'!$A:$N,CY40,T$7)=\"\",\"\",INDEX('E_Tokovi izvora'!$A:$N,CY40,T$7)))","v":""},{"$f":"IF($E40=\"\",\"\",IF(INDEX('E_Tokovi izvora'!$A:$N,CZ40,U$7)=\"\",\"\",INDEX('E_Tokovi izvora'!$A:$N,CZ40,U$7)))","v":""},{"$f":"IF($E40=\"\",\"\",IF(INDEX('E_Tokovi izvora'!$A:$N,DA40,V$7)=\"\",\"\",INDEX('E_Tokovi izvora'!$A:$N,DA40,V$7)))","v":""},{"$f":"IF($E40=\"\",\"\",IF(INDEX('E_Tokovi izvora'!$A:$N,DB40,W$7)=\"\",\"\",INDEX('E_Tokovi izvora'!$A:$N,DB40,W$7)))","v":""},{"$f":"IF($E40=\"\",\"\",IF(INDEX('E_Tokovi izvora'!$A:$N,DC40,X$7)=\"\",\"\",INDEX('E_Tokovi izvora'!$A:$N,DC40,X$7)))","v":""},{"$f":"IF($E40=\"\",\"\",IF(INDEX('E_Tokovi izvora'!$A:$N,DD40,Y$7)=\"\",\"\",INDEX('E_Tokovi izvora'!$A:$N,DD40,Y$7)))","v":""},{"$f":"IF($E40=\"\",\"\",IF(INDEX('E_Tokovi izvora'!$A:$N,DE40,Z$7)=\"\",\"\",INDEX('E_Tokovi izvora'!$A:$N,DE40,Z$7)))","v":""},{"$f":"IF($E40=\"\",\"\",IF(INDEX('E_Tokovi izvora'!$A:$N,DF40,AA$7)=\"\",\"\",INDEX('E_Tokovi izvora'!$A:$N,DF40,AA$7)))","v":""},{"$f":"IF($E40=\"\",\"\",IF(INDEX('E_Tokovi izvora'!$A:$N,DG40,AB$7)=\"\",\"\",INDEX('E_Tokovi izvora'!$A:$N,DG40,AB$7)))","v":""},{"$f":"IF($E40=\"\",\"\",IF(INDEX('E_Tokovi izvora'!$A:$N,DH40,AC$7)=\"\",\"\",INDEX('E_Tokovi izvora'!$A:$N,DH40,AC$7)))","v":""},{"$f":"IF($E40=\"\",\"\",IF(INDEX('E_Tokovi izvora'!$A:$N,DI40,AD$7)=\"\",\"\",INDEX('E_Tokovi izvora'!$A:$N,DI40,AD$7)))","v":""},{"$f":"IF($E40=\"\",\"\",IF(INDEX('E_Tokovi izvora'!$A:$N,DJ40,AE$7)=\"\",\"\",INDEX('E_Tokovi izvora'!$A:$N,DJ40,AE$7)))","v":""},{"$f":"IF($E40=\"\",\"\",IF(INDEX('E_Tokovi izvora'!$A:$N,DK40,AF$7)=\"\",\"\",INDEX('E_Tokovi izvora'!$A:$N,DK40,AF$7)))","v":""},{"$f":"IF($E40=\"\",\"\",IF(INDEX('E_Tokovi izvora'!$A:$N,DL40,AG$7)=\"\",\"\",INDEX('E_Tokovi izvora'!$A:$N,DL40,AG$7)))","v":""},{"$f":"IF($E40=\"\",\"\",IF(INDEX('E_Tokovi izvora'!$A:$N,DM40,AH$7)=\"\",\"\",INDEX('E_Tokovi izvora'!$A:$N,DM40,AH$7)))","v":""},{"$f":"IF($E40=\"\",\"\",IF(INDEX('E_Tokovi izvora'!$A:$N,DN40,AI$7)=\"\",\"\",INDEX('E_Tokovi izvora'!$A:$N,DN40,AI$7)))","v":""},{"$f":"IF($E40=\"\",\"\",IF(INDEX('E_Tokovi izvora'!$A:$N,DO40,AJ$7)=\"\",\"\",INDEX('E_Tokovi izvora'!$A:$N,DO40,AJ$7)))","v":""},{"$f":"IF($E40=\"\",\"\",IF(INDEX('E_Tokovi izvora'!$A:$N,DP40,AK$7)=\"\",\"\",INDEX('E_Tokovi izvora'!$A:$N,DP40,AK$7)))","v":""},{"$f":"IF($E40=\"\",\"\",IF(INDEX('E_Tokovi izvora'!$A:$N,DQ40,AL$7)=\"\",\"\",INDEX('E_Tokovi izvora'!$A:$N,DQ40,AL$7)))","v":""},{"$f":"IF($E40=\"\",\"\",IF(INDEX('E_Tokovi izvora'!$A:$N,DR40,AM$7)=\"\",\"\",INDEX('E_Tokovi izvora'!$A:$N,DR40,AM$7)))","v":""},{"$f":"IF($E40=\"\",\"\",IF(INDEX('E_Tokovi izvora'!$A:$N,DS40,AN$7)=\"\",\"\",INDEX('E_Tokovi izvora'!$A:$N,DS40,AN$7)))","v":""},{"$f":"IF($E40=\"\",\"\",IF(INDEX('E_Tokovi izvora'!$A:$N,DT40,AO$7)=\"\",\"\",INDEX('E_Tokovi izvora'!$A:$N,DT40,AO$7)))","v":""},{"$f":"IF($E40=\"\",\"\",IF(INDEX('E_Tokovi izvora'!$A:$N,DU40,AP$7)=\"\",\"\",INDEX('E_Tokovi izvora'!$A:$N,DU40,AP$7)))","v":""},{"$f":"IF($E40=\"\",\"\",IF(INDEX('E_Tokovi izvora'!$A:$N,DV40,AQ$7)=\"\",\"\",INDEX('E_Tokovi izvora'!$A:$N,DV40,AQ$7)))","v":""},{"$f":"IF($E40=\"\",\"\",IF(INDEX('E_Tokovi izvora'!$A:$N,DW40,AR$7)=\"\",\"\",INDEX('E_Tokovi izvora'!$A:$N,DW40,AR$7)))","v":""},{"$f":"IF($E40=\"\",\"\",IF(INDEX('E_Tokovi izvora'!$A:$N,DX40,AS$7)=\"\",\"\",INDEX('E_Tokovi izvora'!$A:$N,DX40,AS$7)))","v":""},{"$f":"IF($E40=\"\",\"\",IF(INDEX('E_Tokovi izvora'!$A:$N,DY40,AT$7)=\"\",\"\",INDEX('E_Tokovi izvora'!$A:$N,DY40,AT$7)))","v":""},{"$f":"IF($E40=\"\",\"\",IF(INDEX('E_Tokovi izvora'!$A:$N,DZ40,AU$7)=\"\",\"\",INDEX('E_Tokovi izvora'!$A:$N,DZ40,AU$7)))","v":""},{"$f":"IF($E40=\"\",\"\",IF(INDEX('E_Tokovi izvora'!$A:$N,EA40,AV$7)=\"\",\"\",INDEX('E_Tokovi izvora'!$A:$N,EA40,AV$7)))","v":""},{"$f":"IF($E40=\"\",\"\",IF(INDEX('E_Tokovi izvora'!$A:$N,EB40,AW$7)=\"\",\"\",INDEX('E_Tokovi izvora'!$A:$N,EB40,AW$7)))","v":""},{"$f":"IF($E40=\"\",\"\",IF(INDEX('E_Tokovi izvora'!$A:$N,EC40,AX$7)=\"\",\"\",INDEX('E_Tokovi izvora'!$A:$N,EC40,AX$7)))","v":""},{"$f":"IF($E40=\"\",\"\",IF(INDEX('E_Tokovi izvora'!$A:$N,ED40,AY$7)=\"\",\"\",INDEX('E_Tokovi izvora'!$A:$N,ED40,AY$7)))","v":""},{"$f":"IF($E40=\"\",\"\",IF(INDEX('E_Tokovi izvora'!$A:$N,EE40,AZ$7)=\"\",\"\",INDEX('E_Tokovi izvora'!$A:$N,EE40,AZ$7)))","v":""},{"$f":"IF($E40=\"\",\"\",IF(INDEX('E_Tokovi izvora'!$A:$N,EF40,BA$7)=\"\",\"\",INDEX('E_Tokovi izvora'!$A:$N,EF40,BA$7)))","v":""},{"$f":"IF($E40=\"\",\"\",IF(INDEX('E_Tokovi izvora'!$A:$N,EG40,BB$7)=\"\",\"\",INDEX('E_Tokovi izvora'!$A:$N,EG40,BB$7)))","v":""},{"$f":"IF($E40=\"\",\"\",IF(INDEX('E_Tokovi izvora'!$A:$N,EH40,BC$7)=\"\",\"\",INDEX('E_Tokovi izvora'!$A:$N,EH40,BC$7)))","v":""},{"$f":"IF($E40=\"\",\"\",IF(INDEX('E_Tokovi izvora'!$A:$N,EI40,BD$7)=\"\",\"\",INDEX('E_Tokovi izvora'!$A:$N,EI40,BD$7)))","v":""},{"$f":"IF($E40=\"\",\"\",IF(INDEX('E_Tokovi izvora'!$A:$N,EJ40,BE$7)=\"\",\"\",INDEX('E_Tokovi izvora'!$A:$N,EJ40,BE$7)))","v":""},{"$f":"IF($E40=\"\",\"\",IF(INDEX('E_Tokovi izvora'!$A:$N,EK40,BF$7)=\"\",\"\",INDEX('E_Tokovi izvora'!$A:$N,EK40,BF$7)))","v":""},{"$f":"IF($E40=\"\",\"\",IF(INDEX('E_Tokovi izvora'!$A:$N,EL40,BG$7)=\"\",\"\",INDEX('E_Tokovi izvora'!$A:$N,EL40,BG$7)))","v":""},{"$f":"IF($E40=\"\",\"\",IF(INDEX('E_Tokovi izvora'!$A:$N,EM40,BH$7)=\"\",\"\",INDEX('E_Tokovi izvora'!$A:$N,EM40,BH$7)))","v":""},{"$f":"IF($E40=\"\",\"\",IF(INDEX('E_Tokovi izvora'!$A:$N,EN40,BI$7)=\"\",\"\",INDEX('E_Tokovi izvora'!$A:$N,EN40,BI$7)))","v":""},{"$f":"IF($E40=\"\",\"\",IF(INDEX('E_Tokovi izvora'!$A:$N,EO40,BJ$7)=\"\",\"\",INDEX('E_Tokovi izvora'!$A:$N,EO40,BJ$7)))","v":""},{"$f":"IF($E40=\"\",\"\",IF(INDEX('E_Tokovi izvora'!$A:$N,EP40,BK$7)=\"\",\"\",INDEX('E_Tokovi izvora'!$A:$N,EP40,BK$7)))","v":""},{"$f":"IF($E40=\"\",\"\",IF(INDEX('E_Tokovi izvora'!$A:$N,EQ40,BL$7)=\"\",\"\",INDEX('E_Tokovi izvora'!$A:$N,EQ40,BL$7)))","v":""},{"$f":"IF($E40=\"\",\"\",IF(INDEX('E_Tokovi izvora'!$A:$N,ER40,BM$7)=\"\",\"\",INDEX('E_Tokovi izvora'!$A:$N,ER40,BM$7)))","v":""},{"$f":"IF($E40=\"\",\"\",IF(INDEX('E_Tokovi izvora'!$A:$N,ES40,BN$7)=\"\",\"\",INDEX('E_Tokovi izvora'!$A:$N,ES40,BN$7)))","v":""},{"$f":"IF($E40=\"\",\"\",IF(INDEX('E_Tokovi izvora'!$A:$N,ET40,BO$7)=\"\",\"\",INDEX('E_Tokovi izvora'!$A:$N,ET40,BO$7)))","v":""},{"$f":"IF($E40=\"\",\"\",IF(INDEX('E_Tokovi izvora'!$A:$N,EU40,BP$7)=\"\",\"\",INDEX('E_Tokovi izvora'!$A:$N,EU40,BP$7)))","v":""},{"$f":"IF($E40=\"\",\"\",IF(INDEX('E_Tokovi izvora'!$A:$N,EV40,BQ$7)=\"\",\"\",INDEX('E_Tokovi izvora'!$A:$N,EV40,BQ$7)))","v":""},{"$f":"IF($E40=\"\",\"\",IF(INDEX('E_Tokovi izvora'!$A:$N,EW40,BR$7)=\"\",\"\",INDEX('E_Tokovi izvora'!$A:$N,EW40,BR$7)))","v":""},{"$f":"IF($E40=\"\",\"\",IF(INDEX('E_Tokovi izvora'!$A:$N,EX40,BS$7)=\"\",\"\",INDEX('E_Tokovi izvora'!$A:$N,EX40,BS$7)))","v":""},{"$f":"IF($E40=\"\",\"\",IF(INDEX('E_Tokovi izvora'!$A:$N,EY40,BT$7)=\"\",\"\",INDEX('E_Tokovi izvora'!$A:$N,EY40,BT$7)))","v":""},null,null,null,null,null,null,null,null,null,null,null,null,null,null,null,"SourceCategory_",{"$f":"INDEX('C_Opis postrojenja'!$A$226:$A$332,ROWS($CI$11:CI40))=\"ausblenden\"","v":false},"SourceStreamName_",null,2047,2049,2051,2053,2055,2057,2059,2059,2059,2059,2059,2062,2066,2067,2068,2075,2085,2085,2085,2085,2085,2085,2085,2076,2086,2086,2086,2086,2086,2086,2086,2077,2087,2087,2087,2087,2087,2087,2087,2078,2088,2088,2088,2088,2088,2088,2088,2079,2089,2089,2089,2089,2089,2089,2089,2080,2090,2090,2090,2090,2090,2090,2090,2096]
[null,{"$f":"IF(COUNTIF($CK$10:CK41,TRUE)>0,\"\",INDEX('C_Opis postrojenja'!$E$226:$E$242,ROWS($A$11:A41)))","v":""},{"$f":"IF($E41=\"\",\"\",INDEX('C_Opis postrojenja'!F:F,MATCH($B41,'C_Opis postrojenja'!$E:$E,0)))","v":""},{"$f":"IF($E41=\"\",\"\",INDEX('C_Opis postrojenja'!I:I,MATCH($B41,'C_Opis postrojenja'!$E:$E,0)))","v":""},{"$f":"IF($B41=\"\",\"\",INDEX('C_Opis postrojenja'!F:F,MATCH($CJ41,'C_Opis postrojenja'!$Q:$Q,0)))","v":""},{"$f":"IF($E41=\"\",\"\",INDEX('C_Opis postrojenja'!L:L,MATCH($CJ41,'C_Opis postrojenja'!$Q:$Q,0)))","v":""},{"$f":"IF($E41=\"\",\"\",INDEX('C_Opis postrojenja'!M:M,MATCH($CJ41,'C_Opis postrojenja'!$Q:$Q,0)))","v":""},{"$f":"IF($E41=\"\",\"\",INDEX('C_Opis postrojenja'!N:N,MATCH($CJ41,'C_Opis postrojenja'!$Q:$Q,0)))","v":""},{"$f":"IF($E41=\"\",\"\",IF(INDEX('E_Tokovi izvora'!$A:$N,CN41,I$7)=\"\",\"\",INDEX('E_Tokovi izvora'!$A:$N,CN41,I$7)))","v":""},{"$f":"IF($E41=\"\",\"\",IF(INDEX('E_Tokovi izvora'!$A:$N,CO41,J$7)=\"\",\"\",INDEX('E_Tokovi izvora'!$A:$N,CO41,J$7)))","v":""},{"$f":"IF($E41=\"\",\"\",IF(INDEX('E_Tokovi izvora'!$A:$N,CP41,K$7)=\"\",\"\",INDEX('E_Tokovi izvora'!$A:$N,CP41,K$7)))","v":""},{"$f":"IF($E41=\"\",\"\",IF(INDEX('E_Tokovi izvora'!$A:$N,CQ41,L$7)=\"\",\"\",INDEX('E_Tokovi izvora'!$A:$N,CQ41,L$7)))","v":""},{"$f":"IF($E41=\"\",\"\",IF(INDEX('E_Tokovi izvora'!$A:$N,CR41,M$7)=\"\",\"\",INDEX('E_Tokovi izvora'!$A:$N,CR41,M$7)))","v":""},{"$f":"IF($E41=\"\",\"\",IF(INDEX('E_Tokovi izvora'!$A:$N,CS41,N$7)=\"\",\"\",INDEX('E_Tokovi izvora'!$A:$N,CS41,N$7)))","v":""},{"$f":"IF($E41=\"\",\"\",IF(INDEX('E_Tokovi izvora'!$A:$N,CT41,O$7)=\"\",\"\",INDEX('E_Tokovi izvora'!$A:$N,CT41,O$7)))","v":""},{"$f":"IF($E41=\"\",\"\",IF(INDEX('E_Tokovi izvora'!$A:$N,CU41,P$7)=\"\",\"\",INDEX('E_Tokovi izvora'!$A:$N,CU41,P$7)))","v":""},{"$f":"IF($E41=\"\",\"\",IF(INDEX('E_Tokovi izvora'!$A:$N,CV41,Q$7)=\"\",\"\",INDEX('E_Tokovi izvora'!$A:$N,CV41,Q$7)))","v":""},{"$f":"IF($E41=\"\",\"\",IF(INDEX('E_Tokovi izvora'!$A:$N,CW41,R$7)=\"\",\"\",INDEX('E_Tokovi izvora'!$A:$N,CW41,R$7)))","v":""},{"$f":"IF($E41=\"\",\"\",IF(INDEX('E_Tokovi izvora'!$A:$N,CX41,S$7)=\"\",\"\",INDEX('E_Tokovi izvora'!$A:$N,CX41,S$7)))","v":""},{"$f":"IF($E41=\"\",\"\",IF(INDEX('E_Tokovi izvora'!$A:$N,CY41,T$7)=\"\",\"\",INDEX('E_Tokovi izvora'!$A:$N,CY41,T$7)))","v":""},{"$f":"IF($E41=\"\",\"\",IF(INDEX('E_Tokovi izvora'!$A:$N,CZ41,U$7)=\"\",\"\",INDEX('E_Tokovi izvora'!$A:$N,CZ41,U$7)))","v":""},{"$f":"IF($E41=\"\",\"\",IF(INDEX('E_Tokovi izvora'!$A:$N,DA41,V$7)=\"\",\"\",INDEX('E_Tokovi izvora'!$A:$N,DA41,V$7)))","v":""},{"$f":"IF($E41=\"\",\"\",IF(INDEX('E_Tokovi izvora'!$A:$N,DB41,W$7)=\"\",\"\",INDEX('E_Tokovi izvora'!$A:$N,DB41,W$7)))","v":""},{"$f":"IF($E41=\"\",\"\",IF(INDEX('E_Tokovi izvora'!$A:$N,DC41,X$7)=\"\",\"\",INDEX('E_Tokovi izvora'!$A:$N,DC41,X$7)))","v":""},{"$f":"IF($E41=\"\",\"\",IF(INDEX('E_Tokovi izvora'!$A:$N,DD41,Y$7)=\"\",\"\",INDEX('E_Tokovi izvora'!$A:$N,DD41,Y$7)))","v":""},{"$f":"IF($E41=\"\",\"\",IF(INDEX('E_Tokovi izvora'!$A:$N,DE41,Z$7)=\"\",\"\",INDEX('E_Tokovi izvora'!$A:$N,DE41,Z$7)))","v":""},{"$f":"IF($E41=\"\",\"\",IF(INDEX('E_Tokovi izvora'!$A:$N,DF41,AA$7)=\"\",\"\",INDEX('E_Tokovi izvora'!$A:$N,DF41,AA$7)))","v":""},{"$f":"IF($E41=\"\",\"\",IF(INDEX('E_Tokovi izvora'!$A:$N,DG41,AB$7)=\"\",\"\",INDEX('E_Tokovi izvora'!$A:$N,DG41,AB$7)))","v":""},{"$f":"IF($E41=\"\",\"\",IF(INDEX('E_Tokovi izvora'!$A:$N,DH41,AC$7)=\"\",\"\",INDEX('E_Tokovi izvora'!$A:$N,DH41,AC$7)))","v":""},{"$f":"IF($E41=\"\",\"\",IF(INDEX('E_Tokovi izvora'!$A:$N,DI41,AD$7)=\"\",\"\",INDEX('E_Tokovi izvora'!$A:$N,DI41,AD$7)))","v":""},{"$f":"IF($E41=\"\",\"\",IF(INDEX('E_Tokovi izvora'!$A:$N,DJ41,AE$7)=\"\",\"\",INDEX('E_Tokovi izvora'!$A:$N,DJ41,AE$7)))","v":""},{"$f":"IF($E41=\"\",\"\",IF(INDEX('E_Tokovi izvora'!$A:$N,DK41,AF$7)=\"\",\"\",INDEX('E_Tokovi izvora'!$A:$N,DK41,AF$7)))","v":""},{"$f":"IF($E41=\"\",\"\",IF(INDEX('E_Tokovi izvora'!$A:$N,DL41,AG$7)=\"\",\"\",INDEX('E_Tokovi izvora'!$A:$N,DL41,AG$7)))","v":""},{"$f":"IF($E41=\"\",\"\",IF(INDEX('E_Tokovi izvora'!$A:$N,DM41,AH$7)=\"\",\"\",INDEX('E_Tokovi izvora'!$A:$N,DM41,AH$7)))","v":""},{"$f":"IF($E41=\"\",\"\",IF(INDEX('E_Tokovi izvora'!$A:$N,DN41,AI$7)=\"\",\"\",INDEX('E_Tokovi izvora'!$A:$N,DN41,AI$7)))","v":""},{"$f":"IF($E41=\"\",\"\",IF(INDEX('E_Tokovi izvora'!$A:$N,DO41,AJ$7)=\"\",\"\",INDEX('E_Tokovi izvora'!$A:$N,DO41,AJ$7)))","v":""},{"$f":"IF($E41=\"\",\"\",IF(INDEX('E_Tokovi izvora'!$A:$N,DP41,AK$7)=\"\",\"\",INDEX('E_Tokovi izvora'!$A:$N,DP41,AK$7)))","v":""},{"$f":"IF($E41=\"\",\"\",IF(INDEX('E_Tokovi izvora'!$A:$N,DQ41,AL$7)=\"\",\"\",INDEX('E_Tokovi izvora'!$A:$N,DQ41,AL$7)))","v":""},{"$f":"IF($E41=\"\",\"\",IF(INDEX('E_Tokovi izvora'!$A:$N,DR41,AM$7)=\"\",\"\",INDEX('E_Tokovi izvora'!$A:$N,DR41,AM$7)))","v":""},{"$f":"IF($E41=\"\",\"\",IF(INDEX('E_Tokovi izvora'!$A:$N,DS41,AN$7)=\"\",\"\",INDEX('E_Tokovi izvora'!$A:$N,DS41,AN$7)))","v":""},{"$f":"IF($E41=\"\",\"\",IF(INDEX('E_Tokovi izvora'!$A:$N,DT41,AO$7)=\"\",\"\",INDEX('E_Tokovi izvora'!$A:$N,DT41,AO$7)))","v":""},{"$f":"IF($E41=\"\",\"\",IF(INDEX('E_Tokovi izvora'!$A:$N,DU41,AP$7)=\"\",\"\",INDEX('E_Tokovi izvora'!$A:$N,DU41,AP$7)))","v":""},{"$f":"IF($E41=\"\",\"\",IF(INDEX('E_Tokovi izvora'!$A:$N,DV41,AQ$7)=\"\",\"\",INDEX('E_Tokovi izvora'!$A:$N,DV41,AQ$7)))","v":""},{"$f":"IF($E41=\"\",\"\",IF(INDEX('E_Tokovi izvora'!$A:$N,DW41,AR$7)=\"\",\"\",INDEX('E_Tokovi izvora'!$A:$N,DW41,AR$7)))","v":""},{"$f":"IF($E41=\"\",\"\",IF(INDEX('E_Tokovi izvora'!$A:$N,DX41,AS$7)=\"\",\"\",INDEX('E_Tokovi izvora'!$A:$N,DX41,AS$7)))","v":""},{"$f":"IF($E41=\"\",\"\",IF(INDEX('E_Tokovi izvora'!$A:$N,DY41,AT$7)=\"\",\"\",INDEX('E_Tokovi izvora'!$A:$N,DY41,AT$7)))","v":""},{"$f":"IF($E41=\"\",\"\",IF(INDEX('E_Tokovi izvora'!$A:$N,DZ41,AU$7)=\"\",\"\",INDEX('E_Tokovi izvora'!$A:$N,DZ41,AU$7)))","v":""},{"$f":"IF($E41=\"\",\"\",IF(INDEX('E_Tokovi izvora'!$A:$N,EA41,AV$7)=\"\",\"\",INDEX('E_Tokovi izvora'!$A:$N,EA41,AV$7)))","v":""},{"$f":"IF($E41=\"\",\"\",IF(INDEX('E_Tokovi izvora'!$A:$N,EB41,AW$7)=\"\",\"\",INDEX('E_Tokovi izvora'!$A:$N,EB41,AW$7)))","v":""},{"$f":"IF($E41=\"\",\"\",IF(INDEX('E_Tokovi izvora'!$A:$N,EC41,AX$7)=\"\",\"\",INDEX('E_Tokovi izvora'!$A:$N,EC41,AX$7)))","v":""},{"$f":"IF($E41=\"\",\"\",IF(INDEX('E_Tokovi izvora'!$A:$N,ED41,AY$7)=\"\",\"\",INDEX('E_Tokovi izvora'!$A:$N,ED41,AY$7)))","v":""},{"$f":"IF($E41=\"\",\"\",IF(INDEX('E_Tokovi izvora'!$A:$N,EE41,AZ$7)=\"\",\"\",INDEX('E_Tokovi izvora'!$A:$N,EE41,AZ$7)))","v":""},{"$f":"IF($E41=\"\",\"\",IF(INDEX('E_Tokovi izvora'!$A:$N,EF41,BA$7)=\"\",\"\",INDEX('E_Tokovi izvora'!$A:$N,EF41,BA$7)))","v":""},{"$f":"IF($E41=\"\",\"\",IF(INDEX('E_Tokovi izvora'!$A:$N,EG41,BB$7)=\"\",\"\",INDEX('E_Tokovi izvora'!$A:$N,EG41,BB$7)))","v":""},{"$f":"IF($E41=\"\",\"\",IF(INDEX('E_Tokovi izvora'!$A:$N,EH41,BC$7)=\"\",\"\",INDEX('E_Tokovi izvora'!$A:$N,EH41,BC$7)))","v":""},{"$f":"IF($E41=\"\",\"\",IF(INDEX('E_Tokovi izvora'!$A:$N,EI41,BD$7)=\"\",\"\",INDEX('E_Tokovi izvora'!$A:$N,EI41,BD$7)))","v":""},{"$f":"IF($E41=\"\",\"\",IF(INDEX('E_Tokovi izvora'!$A:$N,EJ41,BE$7)=\"\",\"\",INDEX('E_Tokovi izvora'!$A:$N,EJ41,BE$7)))","v":""},{"$f":"IF($E41=\"\",\"\",IF(INDEX('E_Tokovi izvora'!$A:$N,EK41,BF$7)=\"\",\"\",INDEX('E_Tokovi izvora'!$A:$N,EK41,BF$7)))","v":""},{"$f":"IF($E41=\"\",\"\",IF(INDEX('E_Tokovi izvora'!$A:$N,EL41,BG$7)=\"\",\"\",INDEX('E_Tokovi izvora'!$A:$N,EL41,BG$7)))","v":""},{"$f":"IF($E41=\"\",\"\",IF(INDEX('E_Tokovi izvora'!$A:$N,EM41,BH$7)=\"\",\"\",INDEX('E_Tokovi izvora'!$A:$N,EM41,BH$7)))","v":""},{"$f":"IF($E41=\"\",\"\",IF(INDEX('E_Tokovi izvora'!$A:$N,EN41,BI$7)=\"\",\"\",INDEX('E_Tokovi izvora'!$A:$N,EN41,BI$7)))","v":""},{"$f":"IF($E41=\"\",\"\",IF(INDEX('E_Tokovi izvora'!$A:$N,EO41,BJ$7)=\"\",\"\",INDEX('E_Tokovi izvora'!$A:$N,EO41,BJ$7)))","v":""},{"$f":"IF($E41=\"\",\"\",IF(INDEX('E_Tokovi izvora'!$A:$N,EP41,BK$7)=\"\",\"\",INDEX('E_Tokovi izvora'!$A:$N,EP41,BK$7)))","v":""},{"$f":"IF($E41=\"\",\"\",IF(INDEX('E_Tokovi izvora'!$A:$N,EQ41,BL$7)=\"\",\"\",INDEX('E_Tokovi izvora'!$A:$N,EQ41,BL$7)))","v":""},{"$f":"IF($E41=\"\",\"\",IF(INDEX('E_Tokovi izvora'!$A:$N,ER41,BM$7)=\"\",\"\",INDEX('E_Tokovi izvora'!$A:$N,ER41,BM$7)))","v":""},{"$f":"IF($E41=\"\",\"\",IF(INDEX('E_Tokovi izvora'!$A:$N,ES41,BN$7)=\"\",\"\",INDEX('E_Tokovi izvora'!$A:$N,ES41,BN$7)))","v":""},{"$f":"IF($E41=\"\",\"\",IF(INDEX('E_Tokovi izvora'!$A:$N,ET41,BO$7)=\"\",\"\",INDEX('E_Tokovi izvora'!$A:$N,ET41,BO$7)))","v":""},{"$f":"IF($E41=\"\",\"\",IF(INDEX('E_Tokovi izvora'!$A:$N,EU41,BP$7)=\"\",\"\",INDEX('E_Tokovi izvora'!$A:$N,EU41,BP$7)))","v":""},{"$f":"IF($E41=\"\",\"\",IF(INDEX('E_Tokovi izvora'!$A:$N,EV41,BQ$7)=\"\",\"\",INDEX('E_Tokovi izvora'!$A:$N,EV41,BQ$7)))","v":""},{"$f":"IF($E41=\"\",\"\",IF(INDEX('E_Tokovi izvora'!$A:$N,EW41,BR$7)=\"\",\"\",INDEX('E_Tokovi izvora'!$A:$N,EW41,BR$7)))","v":""},{"$f":"IF($E41=\"\",\"\",IF(INDEX('E_Tokovi izvora'!$A:$N,EX41,BS$7)=\"\",\"\",INDEX('E_Tokovi izvora'!$A:$N,EX41,BS$7)))","v":""},{"$f":"IF($E41=\"\",\"\",IF(INDEX('E_Tokovi izvora'!$A:$N,EY41,BT$7)=\"\",\"\",INDEX('E_Tokovi izvora'!$A:$N,EY41,BT$7)))","v":""},null,null,null,null,null,null,null,null,null,null,null,null,null,null,null,"SourceCategory_",{"$f":"INDEX('C_Opis postrojenja'!$A$226:$A$332,ROWS($CI$11:CI41))=\"ausblenden\"","v":false},"SourceStreamName_",null,2113,2115,2117,2119,2121,2123,2125,2125,2125,2125,2125,2128,2132,2133,2134,2141,2151,2151,2151,2151,2151,2151,2151,2142,2152,2152,2152,2152,2152,2152,2152,2143,2153,2153,2153,2153,2153,2153,2153,2144,2154,2154,2154,2154,2154,2154,2154,2145,2155,2155,2155,2155,2155,2155,2155,2146,2156,2156,2156,2156,2156,2156,2156,2162]
[null,{"$f":"IF(COUNTIF($CK$10:CK42,TRUE)>0,\"\",INDEX('C_Opis postrojenja'!$E$226:$E$242,ROWS($A$11:A42)))","v":""},{"$f":"IF($E42=\"\",\"\",INDEX('C_Opis postrojenja'!F:F,MATCH($B42,'C_Opis postrojenja'!$E:$E,0)))","v":""},{"$f":"IF($E42=\"\",\"\",INDEX('C_Opis postrojenja'!I:I,MATCH($B42,'C_Opis postrojenja'!$E:$E,0)))","v":""},{"$f":"IF($B42=\"\",\"\",INDEX('C_Opis postrojenja'!F:F,MATCH($CJ42,'C_Opis postrojenja'!$Q:$Q,0)))","v":""},{"$f":"IF($E42=\"\",\"\",INDEX('C_Opis postrojenja'!L:L,MATCH($CJ42,'C_Opis postrojenja'!$Q:$Q,0)))","v":""},{"$f":"IF($E42=\"\",\"\",INDEX('C_Opis postrojenja'!M:M,MATCH($CJ42,'C_Opis postrojenja'!$Q:$Q,0)))","v":""},{"$f":"IF($E42=\"\",\"\",INDEX('C_Opis postrojenja'!N:N,MATCH($CJ42,'C_Opis postrojenja'!$Q:$Q,0)))","v":""},{"$f":"IF($E42=\"\",\"\",IF(INDEX('E_Tokovi izvora'!$A:$N,CN42,I$7)=\"\",\"\",INDEX('E_Tokovi izvora'!$A:$N,CN42,I$7)))","v":""},{"$f":"IF($E42=\"\",\"\",IF(INDEX('E_Tokovi izvora'!$A:$N,CO42,J$7)=\"\",\"\",INDEX('E_Tokovi izvora'!$A:$N,CO42,J$7)))","v":""},{"$f":"IF($E42=\"\",\"\",IF(INDEX('E_Tokovi izvora'!$A:$N,CP42,K$7)=\"\",\"\",INDEX('E_Tokovi izvora'!$A:$N,CP42,K$7)))","v":""},{"$f":"IF($E42=\"\",\"\",IF(INDEX('E_Tokovi izvora'!$A:$N,CQ42,L$7)=\"\",\"\",INDEX('E_Tokovi izvora'!$A:$N,CQ42,L$7)))","v":""},{"$f":"IF($E42=\"\",\"\",IF(INDEX('E_Tokovi izvora'!$A:$N,CR42,M$7)=\"\",\"\",INDEX('E_Tokovi izvora'!$A:$N,CR42,M$7)))","v":""},{"$f":"IF($E42=\"\",\"\",IF(INDEX('E_Tokovi izvora'!$A:$N,CS42,N$7)=\"\",\"\",INDEX('E_Tokovi izvora'!$A:$N,CS42,N$7)))","v":""},{"$f":"IF($E42=\"\",\"\",IF(INDEX('E_Tokovi izvora'!$A:$N,CT42,O$7)=\"\",\"\",INDEX('E_Tokovi izvora'!$A:$N,CT42,O$7)))","v":""},{"$f":"IF($E42=\"\",\"\",IF(INDEX('E_Tokovi izvora'!$A:$N,CU42,P$7)=\"\",\"\",INDEX('E_Tokovi izvora'!$A:$N,CU42,P$7)))","v":""},{"$f":"IF($E42=\"\",\"\",IF(INDEX('E_Tokovi izvora'!$A:$N,CV42,Q$7)=\"\",\"\",INDEX('E_Tokovi izvora'!$A:$N,CV42,Q$7)))","v":""},{"$f":"IF($E42=\"\",\"\",IF(INDEX('E_Tokovi izvora'!$A:$N,CW42,R$7)=\"\",\"\",INDEX('E_Tokovi izvora'!$A:$N,CW42,R$7)))","v":""},{"$f":"IF($E42=\"\",\"\",IF(INDEX('E_Tokovi izvora'!$A:$N,CX42,S$7)=\"\",\"\",INDEX('E_Tokovi izvora'!$A:$N,CX42,S$7)))","v":""},{"$f":"IF($E42=\"\",\"\",IF(INDEX('E_Tokovi izvora'!$A:$N,CY42,T$7)=\"\",\"\",INDEX('E_Tokovi izvora'!$A:$N,CY42,T$7)))","v":""},{"$f":"IF($E42=\"\",\"\",IF(INDEX('E_Tokovi izvora'!$A:$N,CZ42,U$7)=\"\",\"\",INDEX('E_Tokovi izvora'!$A:$N,CZ42,U$7)))","v":""},{"$f":"IF($E42=\"\",\"\",IF(INDEX('E_Tokovi izvora'!$A:$N,DA42,V$7)=\"\",\"\",INDEX('E_Tokovi izvora'!$A:$N,DA42,V$7)))","v":""},{"$f":"IF($E42=\"\",\"\",IF(INDEX('E_Tokovi izvora'!$A:$N,DB42,W$7)=\"\",\"\",INDEX('E_Tokovi izvora'!$A:$N,DB42,W$7)))","v":""},{"$f":"IF($E42=\"\",\"\",IF(INDEX('E_Tokovi izvora'!$A:$N,DC42,X$7)=\"\",\"\",INDEX('E_Tokovi izvora'!$A:$N,DC42,X$7)))","v":""},{"$f":"IF($E42=\"\",\"\",IF(INDEX('E_Tokovi izvora'!$A:$N,DD42,Y$7)=\"\",\"\",INDEX('E_Tokovi izvora'!$A:$N,DD42,Y$7)))","v":""},{"$f":"IF($E42=\"\",\"\",IF(INDEX('E_Tokovi izvora'!$A:$N,DE42,Z$7)=\"\",\"\",INDEX('E_Tokovi izvora'!$A:$N,DE42,Z$7)))","v":""},{"$f":"IF($E42=\"\",\"\",IF(INDEX('E_Tokovi izvora'!$A:$N,DF42,AA$7)=\"\",\"\",INDEX('E_Tokovi izvora'!$A:$N,DF42,AA$7)))","v":""},{"$f":"IF($E42=\"\",\"\",IF(INDEX('E_Tokovi izvora'!$A:$N,DG42,AB$7)=\"\",\"\",INDEX('E_Tokovi izvora'!$A:$N,DG42,AB$7)))","v":""},{"$f":"IF($E42=\"\",\"\",IF(INDEX('E_Tokovi izvora'!$A:$N,DH42,AC$7)=\"\",\"\",INDEX('E_Tokovi izvora'!$A:$N,DH42,AC$7)))","v":""},{"$f":"IF($E42=\"\",\"\",IF(INDEX('E_Tokovi izvora'!$A:$N,DI42,AD$7)=\"\",\"\",INDEX('E_Tokovi izvora'!$A:$N,DI42,AD$7)))","v":""},{"$f":"IF($E42=\"\",\"\",IF(INDEX('E_Tokovi izvora'!$A:$N,DJ42,AE$7)=\"\",\"\",INDEX('E_Tokovi izvora'!$A:$N,DJ42,AE$7)))","v":""},{"$f":"IF($E42=\"\",\"\",IF(INDEX('E_Tokovi izvora'!$A:$N,DK42,AF$7)=\"\",\"\",INDEX('E_Tokovi izvora'!$A:$N,DK42,AF$7)))","v":""},{"$f":"IF($E42=\"\",\"\",IF(INDEX('E_Tokovi izvora'!$A:$N,DL42,AG$7)=\"\",\"\",INDEX('E_Tokovi izvora'!$A:$N,DL42,AG$7)))","v":""},{"$f":"IF($E42=\"\",\"\",IF(INDEX('E_Tokovi izvora'!$A:$N,DM42,AH$7)=\"\",\"\",INDEX('E_Tokovi izvora'!$A:$N,DM42,AH$7)))","v":""},{"$f":"IF($E42=\"\",\"\",IF(INDEX('E_Tokovi izvora'!$A:$N,DN42,AI$7)=\"\",\"\",INDEX('E_Tokovi izvora'!$A:$N,DN42,AI$7)))","v":""},{"$f":"IF($E42=\"\",\"\",IF(INDEX('E_Tokovi izvora'!$A:$N,DO42,AJ$7)=\"\",\"\",INDEX('E_Tokovi izvora'!$A:$N,DO42,AJ$7)))","v":""},{"$f":"IF($E42=\"\",\"\",IF(INDEX('E_Tokovi izvora'!$A:$N,DP42,AK$7)=\"\",\"\",INDEX('E_Tokovi izvora'!$A:$N,DP42,AK$7)))","v":""},{"$f":"IF($E42=\"\",\"\",IF(INDEX('E_Tokovi izvora'!$A:$N,DQ42,AL$7)=\"\",\"\",INDEX('E_Tokovi izvora'!$A:$N,DQ42,AL$7)))","v":""},{"$f":"IF($E42=\"\",\"\",IF(INDEX('E_Tokovi izvora'!$A:$N,DR42,AM$7)=\"\",\"\",INDEX('E_Tokovi izvora'!$A:$N,DR42,AM$7)))","v":""},{"$f":"IF($E42=\"\",\"\",IF(INDEX('E_Tokovi izvora'!$A:$N,DS42,AN$7)=\"\",\"\",INDEX('E_Tokovi izvora'!$A:$N,DS42,AN$7)))","v":""},{"$f":"IF($E42=\"\",\"\",IF(INDEX('E_Tokovi izvora'!$A:$N,DT42,AO$7)=\"\",\"\",INDEX('E_Tokovi izvora'!$A:$N,DT42,AO$7)))","v":""},{"$f":"IF($E42=\"\",\"\",IF(INDEX('E_Tokovi izvora'!$A:$N,DU42,AP$7)=\"\",\"\",INDEX('E_Tokovi izvora'!$A:$N,DU42,AP$7)))","v":""},{"$f":"IF($E42=\"\",\"\",IF(INDEX('E_Tokovi izvora'!$A:$N,DV42,AQ$7)=\"\",\"\",INDEX('E_Tokovi izvora'!$A:$N,DV42,AQ$7)))","v":""},{"$f":"IF($E42=\"\",\"\",IF(INDEX('E_Tokovi izvora'!$A:$N,DW42,AR$7)=\"\",\"\",INDEX('E_Tokovi izvora'!$A:$N,DW42,AR$7)))","v":""},{"$f":"IF($E42=\"\",\"\",IF(INDEX('E_Tokovi izvora'!$A:$N,DX42,AS$7)=\"\",\"\",INDEX('E_Tokovi izvora'!$A:$N,DX42,AS$7)))","v":""},{"$f":"IF($E42=\"\",\"\",IF(INDEX('E_Tokovi izvora'!$A:$N,DY42,AT$7)=\"\",\"\",INDEX('E_Tokovi izvora'!$A:$N,DY42,AT$7)))","v":""},{"$f":"IF($E42=\"\",\"\",IF(INDEX('E_Tokovi izvora'!$A:$N,DZ42,AU$7)=\"\",\"\",INDEX('E_Tokovi izvora'!$A:$N,DZ42,AU$7)))","v":""},{"$f":"IF($E42=\"\",\"\",IF(INDEX('E_Tokovi izvora'!$A:$N,EA42,AV$7)=\"\",\"\",INDEX('E_Tokovi izvora'!$A:$N,EA42,AV$7)))","v":""},{"$f":"IF($E42=\"\",\"\",IF(INDEX('E_Tokovi izvora'!$A:$N,EB42,AW$7)=\"\",\"\",INDEX('E_Tokovi izvora'!$A:$N,EB42,AW$7)))","v":""},{"$f":"IF($E42=\"\",\"\",IF(INDEX('E_Tokovi izvora'!$A:$N,EC42,AX$7)=\"\",\"\",INDEX('E_Tokovi izvora'!$A:$N,EC42,AX$7)))","v":""},{"$f":"IF($E42=\"\",\"\",IF(INDEX('E_Tokovi izvora'!$A:$N,ED42,AY$7)=\"\",\"\",INDEX('E_Tokovi izvora'!$A:$N,ED42,AY$7)))","v":""},{"$f":"IF($E42=\"\",\"\",IF(INDEX('E_Tokovi izvora'!$A:$N,EE42,AZ$7)=\"\",\"\",INDEX('E_Tokovi izvora'!$A:$N,EE42,AZ$7)))","v":""},{"$f":"IF($E42=\"\",\"\",IF(INDEX('E_Tokovi izvora'!$A:$N,EF42,BA$7)=\"\",\"\",INDEX('E_Tokovi izvora'!$A:$N,EF42,BA$7)))","v":""},{"$f":"IF($E42=\"\",\"\",IF(INDEX('E_Tokovi izvora'!$A:$N,EG42,BB$7)=\"\",\"\",INDEX('E_Tokovi izvora'!$A:$N,EG42,BB$7)))","v":""},{"$f":"IF($E42=\"\",\"\",IF(INDEX('E_Tokovi izvora'!$A:$N,EH42,BC$7)=\"\",\"\",INDEX('E_Tokovi izvora'!$A:$N,EH42,BC$7)))","v":""},{"$f":"IF($E42=\"\",\"\",IF(INDEX('E_Tokovi izvora'!$A:$N,EI42,BD$7)=\"\",\"\",INDEX('E_Tokovi izvora'!$A:$N,EI42,BD$7)))","v":""},{"$f":"IF($E42=\"\",\"\",IF(INDEX('E_Tokovi izvora'!$A:$N,EJ42,BE$7)=\"\",\"\",INDEX('E_Tokovi izvora'!$A:$N,EJ42,BE$7)))","v":""},{"$f":"IF($E42=\"\",\"\",IF(INDEX('E_Tokovi izvora'!$A:$N,EK42,BF$7)=\"\",\"\",INDEX('E_Tokovi izvora'!$A:$N,EK42,BF$7)))","v":""},{"$f":"IF($E42=\"\",\"\",IF(INDEX('E_Tokovi izvora'!$A:$N,EL42,BG$7)=\"\",\"\",INDEX('E_Tokovi izvora'!$A:$N,EL42,BG$7)))","v":""},{"$f":"IF($E42=\"\",\"\",IF(INDEX('E_Tokovi izvora'!$A:$N,EM42,BH$7)=\"\",\"\",INDEX('E_Tokovi izvora'!$A:$N,EM42,BH$7)))","v":""},{"$f":"IF($E42=\"\",\"\",IF(INDEX('E_Tokovi izvora'!$A:$N,EN42,BI$7)=\"\",\"\",INDEX('E_Tokovi izvora'!$A:$N,EN42,BI$7)))","v":""},{"$f":"IF($E42=\"\",\"\",IF(INDEX('E_Tokovi izvora'!$A:$N,EO42,BJ$7)=\"\",\"\",INDEX('E_Tokovi izvora'!$A:$N,EO42,BJ$7)))","v":""},{"$f":"IF($E42=\"\",\"\",IF(INDEX('E_Tokovi izvora'!$A:$N,EP42,BK$7)=\"\",\"\",INDEX('E_Tokovi izvora'!$A:$N,EP42,BK$7)))","v":""},{"$f":"IF($E42=\"\",\"\",IF(INDEX('E_Tokovi izvora'!$A:$N,EQ42,BL$7)=\"\",\"\",INDEX('E_Tokovi izvora'!$A:$N,EQ42,BL$7)))","v":""},{"$f":"IF($E42=\"\",\"\",IF(INDEX('E_Tokovi izvora'!$A:$N,ER42,BM$7)=\"\",\"\",INDEX('E_Tokovi izvora'!$A:$N,ER42,BM$7)))","v":""},{"$f":"IF($E42=\"\",\"\",IF(INDEX('E_Tokovi izvora'!$A:$N,ES42,BN$7)=\"\",\"\",INDEX('E_Tokovi izvora'!$A:$N,ES42,BN$7)))","v":""},{"$f":"IF($E42=\"\",\"\",IF(INDEX('E_Tokovi izvora'!$A:$N,ET42,BO$7)=\"\",\"\",INDEX('E_Tokovi izvora'!$A:$N,ET42,BO$7)))","v":""},{"$f":"IF($E42=\"\",\"\",IF(INDEX('E_Tokovi izvora'!$A:$N,EU42,BP$7)=\"\",\"\",INDEX('E_Tokovi izvora'!$A:$N,EU42,BP$7)))","v":""},{"$f":"IF($E42=\"\",\"\",IF(INDEX('E_Tokovi izvora'!$A:$N,EV42,BQ$7)=\"\",\"\",INDEX('E_Tokovi izvora'!$A:$N,EV42,BQ$7)))","v":""},{"$f":"IF($E42=\"\",\"\",IF(INDEX('E_Tokovi izvora'!$A:$N,EW42,BR$7)=\"\",\"\",INDEX('E_Tokovi izvora'!$A:$N,EW42,BR$7)))","v":""},{"$f":"IF($E42=\"\",\"\",IF(INDEX('E_Tokovi izvora'!$A:$N,EX42,BS$7)=\"\",\"\",INDEX('E_Tokovi izvora'!$A:$N,EX42,BS$7)))","v":""},{"$f":"IF($E42=\"\",\"\",IF(INDEX('E_Tokovi izvora'!$A:$N,EY42,BT$7)=\"\",\"\",INDEX('E_Tokovi izvora'!$A:$N,EY42,BT$7)))","v":""},null,null,null,null,null,null,null,null,null,null,null,null,null,null,null,"SourceCategory_",{"$f":"INDEX('C_Opis postrojenja'!$A$226:$A$332,ROWS($CI$11:CI42))=\"ausblenden\"","v":false},"SourceStreamName_",null,2179,2181,2183,2185,2187,2189,2191,2191,2191,2191,2191,2194,2198,2199,2200,2207,2217,2217,2217,2217,2217,2217,2217,2208,2218,2218,2218,2218,2218,2218,2218,2209,2219,2219,2219,2219,2219,2219,2219,2210,2220,2220,2220,2220,2220,2220,2220,2211,2221,2221,2221,2221,2221,2221,2221,2212,2222,2222,2222,2222,2222,2222,2222,2228]
[null,{"$f":"IF(COUNTIF($CK$10:CK43,TRUE)>0,\"\",INDEX('C_Opis postrojenja'!$E$226:$E$242,ROWS($A$11:A43)))","v":""},{"$f":"IF($E43=\"\",\"\",INDEX('C_Opis postrojenja'!F:F,MATCH($B43,'C_Opis postrojenja'!$E:$E,0)))","v":""},{"$f":"IF($E43=\"\",\"\",INDEX('C_Opis postrojenja'!I:I,MATCH($B43,'C_Opis postrojenja'!$E:$E,0)))","v":""},{"$f":"IF($B43=\"\",\"\",INDEX('C_Opis postrojenja'!F:F,MATCH($CJ43,'C_Opis postrojenja'!$Q:$Q,0)))","v":""},{"$f":"IF($E43=\"\",\"\",INDEX('C_Opis postrojenja'!L:L,MATCH($CJ43,'C_Opis postrojenja'!$Q:$Q,0)))","v":""},{"$f":"IF($E43=\"\",\"\",INDEX('C_Opis postrojenja'!M:M,MATCH($CJ43,'C_Opis postrojenja'!$Q:$Q,0)))","v":""},{"$f":"IF($E43=\"\",\"\",INDEX('C_Opis postrojenja'!N:N,MATCH($CJ43,'C_Opis postrojenja'!$Q:$Q,0)))","v":""},{"$f":"IF($E43=\"\",\"\",IF(INDEX('E_Tokovi izvora'!$A:$N,CN43,I$7)=\"\",\"\",INDEX('E_Tokovi izvora'!$A:$N,CN43,I$7)))","v":""},{"$f":"IF($E43=\"\",\"\",IF(INDEX('E_Tokovi izvora'!$A:$N,CO43,J$7)=\"\",\"\",INDEX('E_Tokovi izvora'!$A:$N,CO43,J$7)))","v":""},{"$f":"IF($E43=\"\",\"\",IF(INDEX('E_Tokovi izvora'!$A:$N,CP43,K$7)=\"\",\"\",INDEX('E_Tokovi izvora'!$A:$N,CP43,K$7)))","v":""},{"$f":"IF($E43=\"\",\"\",IF(INDEX('E_Tokovi izvora'!$A:$N,CQ43,L$7)=\"\",\"\",INDEX('E_Tokovi izvora'!$A:$N,CQ43,L$7)))","v":""},{"$f":"IF($E43=\"\",\"\",IF(INDEX('E_Tokovi izvora'!$A:$N,CR43,M$7)=\"\",\"\",INDEX('E_Tokovi izvora'!$A:$N,CR43,M$7)))","v":""},{"$f":"IF($E43=\"\",\"\",IF(INDEX('E_Tokovi izvora'!$A:$N,CS43,N$7)=\"\",\"\",INDEX('E_Tokovi izvora'!$A:$N,CS43,N$7)))","v":""},{"$f":"IF($E43=\"\",\"\",IF(INDEX('E_Tokovi izvora'!$A:$N,CT43,O$7)=\"\",\"\",INDEX('E_Tokovi izvora'!$A:$N,CT43,O$7)))","v":""},{"$f":"IF($E43=\"\",\"\",IF(INDEX('E_Tokovi izvora'!$A:$N,CU43,P$7)=\"\",\"\",INDEX('E_Tokovi izvora'!$A:$N,CU43,P$7)))","v":""},{"$f":"IF($E43=\"\",\"\",IF(INDEX('E_Tokovi izvora'!$A:$N,CV43,Q$7)=\"\",\"\",INDEX('E_Tokovi izvora'!$A:$N,CV43,Q$7)))","v":""},{"$f":"IF($E43=\"\",\"\",IF(INDEX('E_Tokovi izvora'!$A:$N,CW43,R$7)=\"\",\"\",INDEX('E_Tokovi izvora'!$A:$N,CW43,R$7)))","v":""},{"$f":"IF($E43=\"\",\"\",IF(INDEX('E_Tokovi izvora'!$A:$N,CX43,S$7)=\"\",\"\",INDEX('E_Tokovi izvora'!$A:$N,CX43,S$7)))","v":""},{"$f":"IF($E43=\"\",\"\",IF(INDEX('E_Tokovi izvora'!$A:$N,CY43,T$7)=\"\",\"\",INDEX('E_Tokovi izvora'!$A:$N,CY43,T$7)))","v":""},{"$f":"IF($E43=\"\",\"\",IF(INDEX('E_Tokovi izvora'!$A:$N,CZ43,U$7)=\"\",\"\",INDEX('E_Tokovi izvora'!$A:$N,CZ43,U$7)))","v":""},{"$f":"IF($E43=\"\",\"\",IF(INDEX('E_Tokovi izvora'!$A:$N,DA43,V$7)=\"\",\"\",INDEX('E_Tokovi izvora'!$A:$N,DA43,V$7)))","v":""},{"$f":"IF($E43=\"\",\"\",IF(INDEX('E_Tokovi izvora'!$A:$N,DB43,W$7)=\"\",\"\",INDEX('E_Tokovi izvora'!$A:$N,DB43,W$7)))","v":""},{"$f":"IF($E43=\"\",\"\",IF(INDEX('E_Tokovi izvora'!$A:$N,DC43,X$7)=\"\",\"\",INDEX('E_Tokovi izvora'!$A:$N,DC43,X$7)))","v":""},{"$f":"IF($E43=\"\",\"\",IF(INDEX('E_Tokovi izvora'!$A:$N,DD43,Y$7)=\"\",\"\",INDEX('E_Tokovi izvora'!$A:$N,DD43,Y$7)))","v":""},{"$f":"IF($E43=\"\",\"\",IF(INDEX('E_Tokovi izvora'!$A:$N,DE43,Z$7)=\"\",\"\",INDEX('E_Tokovi izvora'!$A:$N,DE43,Z$7)))","v":""},{"$f":"IF($E43=\"\",\"\",IF(INDEX('E_Tokovi izvora'!$A:$N,DF43,AA$7)=\"\",\"\",INDEX('E_Tokovi izvora'!$A:$N,DF43,AA$7)))","v":""},{"$f":"IF($E43=\"\",\"\",IF(INDEX('E_Tokovi izvora'!$A:$N,DG43,AB$7)=\"\",\"\",INDEX('E_Tokovi izvora'!$A:$N,DG43,AB$7)))","v":""},{"$f":"IF($E43=\"\",\"\",IF(INDEX('E_Tokovi izvora'!$A:$N,DH43,AC$7)=\"\",\"\",INDEX('E_Tokovi izvora'!$A:$N,DH43,AC$7)))","v":""},{"$f":"IF($E43=\"\",\"\",IF(INDEX('E_Tokovi izvora'!$A:$N,DI43,AD$7)=\"\",\"\",INDEX('E_Tokovi izvora'!$A:$N,DI43,AD$7)))","v":""},{"$f":"IF($E43=\"\",\"\",IF(INDEX('E_Tokovi izvora'!$A:$N,DJ43,AE$7)=\"\",\"\",INDEX('E_Tokovi izvora'!$A:$N,DJ43,AE$7)))","v":""},{"$f":"IF($E43=\"\",\"\",IF(INDEX('E_Tokovi izvora'!$A:$N,DK43,AF$7)=\"\",\"\",INDEX('E_Tokovi izvora'!$A:$N,DK43,AF$7)))","v":""},{"$f":"IF($E43=\"\",\"\",IF(INDEX('E_Tokovi izvora'!$A:$N,DL43,AG$7)=\"\",\"\",INDEX('E_Tokovi izvora'!$A:$N,DL43,AG$7)))","v":""},{"$f":"IF($E43=\"\",\"\",IF(INDEX('E_Tokovi izvora'!$A:$N,DM43,AH$7)=\"\",\"\",INDEX('E_Tokovi izvora'!$A:$N,DM43,AH$7)))","v":""},{"$f":"IF($E43=\"\",\"\",IF(INDEX('E_Tokovi izvora'!$A:$N,DN43,AI$7)=\"\",\"\",INDEX('E_Tokovi izvora'!$A:$N,DN43,AI$7)))","v":""},{"$f":"IF($E43=\"\",\"\",IF(INDEX('E_Tokovi izvora'!$A:$N,DO43,AJ$7)=\"\",\"\",INDEX('E_Tokovi izvora'!$A:$N,DO43,AJ$7)))","v":""},{"$f":"IF($E43=\"\",\"\",IF(INDEX('E_Tokovi izvora'!$A:$N,DP43,AK$7)=\"\",\"\",INDEX('E_Tokovi izvora'!$A:$N,DP43,AK$7)))","v":""},{"$f":"IF($E43=\"\",\"\",IF(INDEX('E_Tokovi izvora'!$A:$N,DQ43,AL$7)=\"\",\"\",INDEX('E_Tokovi izvora'!$A:$N,DQ43,AL$7)))","v":""},{"$f":"IF($E43=\"\",\"\",IF(INDEX('E_Tokovi izvora'!$A:$N,DR43,AM$7)=\"\",\"\",INDEX('E_Tokovi izvora'!$A:$N,DR43,AM$7)))","v":""},{"$f":"IF($E43=\"\",\"\",IF(INDEX('E_Tokovi izvora'!$A:$N,DS43,AN$7)=\"\",\"\",INDEX('E_Tokovi izvora'!$A:$N,DS43,AN$7)))","v":""},{"$f":"IF($E43=\"\",\"\",IF(INDEX('E_Tokovi izvora'!$A:$N,DT43,AO$7)=\"\",\"\",INDEX('E_Tokovi izvora'!$A:$N,DT43,AO$7)))","v":""},{"$f":"IF($E43=\"\",\"\",IF(INDEX('E_Tokovi izvora'!$A:$N,DU43,AP$7)=\"\",\"\",INDEX('E_Tokovi izvora'!$A:$N,DU43,AP$7)))","v":""},{"$f":"IF($E43=\"\",\"\",IF(INDEX('E_Tokovi izvora'!$A:$N,DV43,AQ$7)=\"\",\"\",INDEX('E_Tokovi izvora'!$A:$N,DV43,AQ$7)))","v":""},{"$f":"IF($E43=\"\",\"\",IF(INDEX('E_Tokovi izvora'!$A:$N,DW43,AR$7)=\"\",\"\",INDEX('E_Tokovi izvora'!$A:$N,DW43,AR$7)))","v":""},{"$f":"IF($E43=\"\",\"\",IF(INDEX('E_Tokovi izvora'!$A:$N,DX43,AS$7)=\"\",\"\",INDEX('E_Tokovi izvora'!$A:$N,DX43,AS$7)))","v":""},{"$f":"IF($E43=\"\",\"\",IF(INDEX('E_Tokovi izvora'!$A:$N,DY43,AT$7)=\"\",\"\",INDEX('E_Tokovi izvora'!$A:$N,DY43,AT$7)))","v":""},{"$f":"IF($E43=\"\",\"\",IF(INDEX('E_Tokovi izvora'!$A:$N,DZ43,AU$7)=\"\",\"\",INDEX('E_Tokovi izvora'!$A:$N,DZ43,AU$7)))","v":""},{"$f":"IF($E43=\"\",\"\",IF(INDEX('E_Tokovi izvora'!$A:$N,EA43,AV$7)=\"\",\"\",INDEX('E_Tokovi izvora'!$A:$N,EA43,AV$7)))","v":""},{"$f":"IF($E43=\"\",\"\",IF(INDEX('E_Tokovi izvora'!$A:$N,EB43,AW$7)=\"\",\"\",INDEX('E_Tokovi izvora'!$A:$N,EB43,AW$7)))","v":""},{"$f":"IF($E43=\"\",\"\",IF(INDEX('E_Tokovi izvora'!$A:$N,EC43,AX$7)=\"\",\"\",INDEX('E_Tokovi izvora'!$A:$N,EC43,AX$7)))","v":""},{"$f":"IF($E43=\"\",\"\",IF(INDEX('E_Tokovi izvora'!$A:$N,ED43,AY$7)=\"\",\"\",INDEX('E_Tokovi izvora'!$A:$N,ED43,AY$7)))","v":""},{"$f":"IF($E43=\"\",\"\",IF(INDEX('E_Tokovi izvora'!$A:$N,EE43,AZ$7)=\"\",\"\",INDEX('E_Tokovi izvora'!$A:$N,EE43,AZ$7)))","v":""},{"$f":"IF($E43=\"\",\"\",IF(INDEX('E_Tokovi izvora'!$A:$N,EF43,BA$7)=\"\",\"\",INDEX('E_Tokovi izvora'!$A:$N,EF43,BA$7)))","v":""},{"$f":"IF($E43=\"\",\"\",IF(INDEX('E_Tokovi izvora'!$A:$N,EG43,BB$7)=\"\",\"\",INDEX('E_Tokovi izvora'!$A:$N,EG43,BB$7)))","v":""},{"$f":"IF($E43=\"\",\"\",IF(INDEX('E_Tokovi izvora'!$A:$N,EH43,BC$7)=\"\",\"\",INDEX('E_Tokovi izvora'!$A:$N,EH43,BC$7)))","v":""},{"$f":"IF($E43=\"\",\"\",IF(INDEX('E_Tokovi izvora'!$A:$N,EI43,BD$7)=\"\",\"\",INDEX('E_Tokovi izvora'!$A:$N,EI43,BD$7)))","v":""},{"$f":"IF($E43=\"\",\"\",IF(INDEX('E_Tokovi izvora'!$A:$N,EJ43,BE$7)=\"\",\"\",INDEX('E_Tokovi izvora'!$A:$N,EJ43,BE$7)))","v":""},{"$f":"IF($E43=\"\",\"\",IF(INDEX('E_Tokovi izvora'!$A:$N,EK43,BF$7)=\"\",\"\",INDEX('E_Tokovi izvora'!$A:$N,EK43,BF$7)))","v":""},{"$f":"IF($E43=\"\",\"\",IF(INDEX('E_Tokovi izvora'!$A:$N,EL43,BG$7)=\"\",\"\",INDEX('E_Tokovi izvora'!$A:$N,EL43,BG$7)))","v":""},{"$f":"IF($E43=\"\",\"\",IF(INDEX('E_Tokovi izvora'!$A:$N,EM43,BH$7)=\"\",\"\",INDEX('E_Tokovi izvora'!$A:$N,EM43,BH$7)))","v":""},{"$f":"IF($E43=\"\",\"\",IF(INDEX('E_Tokovi izvora'!$A:$N,EN43,BI$7)=\"\",\"\",INDEX('E_Tokovi izvora'!$A:$N,EN43,BI$7)))","v":""},{"$f":"IF($E43=\"\",\"\",IF(INDEX('E_Tokovi izvora'!$A:$N,EO43,BJ$7)=\"\",\"\",INDEX('E_Tokovi izvora'!$A:$N,EO43,BJ$7)))","v":""},{"$f":"IF($E43=\"\",\"\",IF(INDEX('E_Tokovi izvora'!$A:$N,EP43,BK$7)=\"\",\"\",INDEX('E_Tokovi izvora'!$A:$N,EP43,BK$7)))","v":""},{"$f":"IF($E43=\"\",\"\",IF(INDEX('E_Tokovi izvora'!$A:$N,EQ43,BL$7)=\"\",\"\",INDEX('E_Tokovi izvora'!$A:$N,EQ43,BL$7)))","v":""},{"$f":"IF($E43=\"\",\"\",IF(INDEX('E_Tokovi izvora'!$A:$N,ER43,BM$7)=\"\",\"\",INDEX('E_Tokovi izvora'!$A:$N,ER43,BM$7)))","v":""},{"$f":"IF($E43=\"\",\"\",IF(INDEX('E_Tokovi izvora'!$A:$N,ES43,BN$7)=\"\",\"\",INDEX('E_Tokovi izvora'!$A:$N,ES43,BN$7)))","v":""},{"$f":"IF($E43=\"\",\"\",IF(INDEX('E_Tokovi izvora'!$A:$N,ET43,BO$7)=\"\",\"\",INDEX('E_Tokovi izvora'!$A:$N,ET43,BO$7)))","v":""},{"$f":"IF($E43=\"\",\"\",IF(INDEX('E_Tokovi izvora'!$A:$N,EU43,BP$7)=\"\",\"\",INDEX('E_Tokovi izvora'!$A:$N,EU43,BP$7)))","v":""},{"$f":"IF($E43=\"\",\"\",IF(INDEX('E_Tokovi izvora'!$A:$N,EV43,BQ$7)=\"\",\"\",INDEX('E_Tokovi izvora'!$A:$N,EV43,BQ$7)))","v":""},{"$f":"IF($E43=\"\",\"\",IF(INDEX('E_Tokovi izvora'!$A:$N,EW43,BR$7)=\"\",\"\",INDEX('E_Tokovi izvora'!$A:$N,EW43,BR$7)))","v":""},{"$f":"IF($E43=\"\",\"\",IF(INDEX('E_Tokovi izvora'!$A:$N,EX43,BS$7)=\"\",\"\",INDEX('E_Tokovi izvora'!$A:$N,EX43,BS$7)))","v":""},{"$f":"IF($E43=\"\",\"\",IF(INDEX('E_Tokovi izvora'!$A:$N,EY43,BT$7)=\"\",\"\",INDEX('E_Tokovi izvora'!$A:$N,EY43,BT$7)))","v":""},null,null,null,null,null,null,null,null,null,null,null,null,null,null,null,{"$f":"EUconst_CNTR_SourceCategory&B43","v":"SourceCategory_"},{"$f":"INDEX('C_Opis postrojenja'!$A$226:$A$332,ROWS($CI$11:CI43))=\"ausblenden\"","v":false},{"$f":"EUconst_CNTR_SourceStreamName&B43","v":"SourceStreamName_"},null,2245,2247,2249,2251,2253,2255,2257,2257,2257,2257,2257,2260,2264,2265,2266,2273,2283,2283,2283,2283,2283,2283,2283,2274,2284,2284,2284,2284,2284,2284,2284,2275,2285,2285,2285,2285,2285,2285,2285,2276,2286,2286,2286,2286,2286,2286,2286,2277,2287,2287,2287,2287,2287,2287,2287,2278,2288,2288,2288,2288,2288,2288,2288,2294]
[null,{"$f":"IF(COUNTIF($CK$10:CK44,TRUE)>0,\"\",INDEX('C_Opis postrojenja'!$E$226:$E$242,ROWS($A$11:A44)))","v":""},{"$f":"IF($E44=\"\",\"\",INDEX('C_Opis postrojenja'!F:F,MATCH($B44,'C_Opis postrojenja'!$E:$E,0)))","v":""},{"$f":"IF($E44=\"\",\"\",INDEX('C_Opis postrojenja'!I:I,MATCH($B44,'C_Opis postrojenja'!$E:$E,0)))","v":""},{"$f":"IF($B44=\"\",\"\",INDEX('C_Opis postrojenja'!F:F,MATCH($CJ44,'C_Opis postrojenja'!$Q:$Q,0)))","v":""},{"$f":"IF($E44=\"\",\"\",INDEX('C_Opis postrojenja'!L:L,MATCH($CJ44,'C_Opis postrojenja'!$Q:$Q,0)))","v":""},{"$f":"IF($E44=\"\",\"\",INDEX('C_Opis postrojenja'!M:M,MATCH($CJ44,'C_Opis postrojenja'!$Q:$Q,0)))","v":""},{"$f":"IF($E44=\"\",\"\",INDEX('C_Opis postrojenja'!N:N,MATCH($CJ44,'C_Opis postrojenja'!$Q:$Q,0)))","v":""},{"$f":"IF($E44=\"\",\"\",IF(INDEX('E_Tokovi izvora'!$A:$N,CN44,I$7)=\"\",\"\",INDEX('E_Tokovi izvora'!$A:$N,CN44,I$7)))","v":""},{"$f":"IF($E44=\"\",\"\",IF(INDEX('E_Tokovi izvora'!$A:$N,CO44,J$7)=\"\",\"\",INDEX('E_Tokovi izvora'!$A:$N,CO44,J$7)))","v":""},{"$f":"IF($E44=\"\",\"\",IF(INDEX('E_Tokovi izvora'!$A:$N,CP44,K$7)=\"\",\"\",INDEX('E_Tokovi izvora'!$A:$N,CP44,K$7)))","v":""},{"$f":"IF($E44=\"\",\"\",IF(INDEX('E_Tokovi izvora'!$A:$N,CQ44,L$7)=\"\",\"\",INDEX('E_Tokovi izvora'!$A:$N,CQ44,L$7)))","v":""},{"$f":"IF($E44=\"\",\"\",IF(INDEX('E_Tokovi izvora'!$A:$N,CR44,M$7)=\"\",\"\",INDEX('E_Tokovi izvora'!$A:$N,CR44,M$7)))","v":""},{"$f":"IF($E44=\"\",\"\",IF(INDEX('E_Tokovi izvora'!$A:$N,CS44,N$7)=\"\",\"\",INDEX('E_Tokovi izvora'!$A:$N,CS44,N$7)))","v":""},{"$f":"IF($E44=\"\",\"\",IF(INDEX('E_Tokovi izvora'!$A:$N,CT44,O$7)=\"\",\"\",INDEX('E_Tokovi izvora'!$A:$N,CT44,O$7)))","v":""},{"$f":"IF($E44=\"\",\"\",IF(INDEX('E_Tokovi izvora'!$A:$N,CU44,P$7)=\"\",\"\",INDEX('E_Tokovi izvora'!$A:$N,CU44,P$7)))","v":""},{"$f":"IF($E44=\"\",\"\",IF(INDEX('E_Tokovi izvora'!$A:$N,CV44,Q$7)=\"\",\"\",INDEX('E_Tokovi izvora'!$A:$N,CV44,Q$7)))","v":""},{"$f":"IF($E44=\"\",\"\",IF(INDEX('E_Tokovi izvora'!$A:$N,CW44,R$7)=\"\",\"\",INDEX('E_Tokovi izvora'!$A:$N,CW44,R$7)))","v":""},{"$f":"IF($E44=\"\",\"\",IF(INDEX('E_Tokovi izvora'!$A:$N,CX44,S$7)=\"\",\"\",INDEX('E_Tokovi izvora'!$A:$N,CX44,S$7)))","v":""},{"$f":"IF($E44=\"\",\"\",IF(INDEX('E_Tokovi izvora'!$A:$N,CY44,T$7)=\"\",\"\",INDEX('E_Tokovi izvora'!$A:$N,CY44,T$7)))","v":""},{"$f":"IF($E44=\"\",\"\",IF(INDEX('E_Tokovi izvora'!$A:$N,CZ44,U$7)=\"\",\"\",INDEX('E_Tokovi izvora'!$A:$N,CZ44,U$7)))","v":""},{"$f":"IF($E44=\"\",\"\",IF(INDEX('E_Tokovi izvora'!$A:$N,DA44,V$7)=\"\",\"\",INDEX('E_Tokovi izvora'!$A:$N,DA44,V$7)))","v":""},{"$f":"IF($E44=\"\",\"\",IF(INDEX('E_Tokovi izvora'!$A:$N,DB44,W$7)=\"\",\"\",INDEX('E_Tokovi izvora'!$A:$N,DB44,W$7)))","v":""},{"$f":"IF($E44=\"\",\"\",IF(INDEX('E_Tokovi izvora'!$A:$N,DC44,X$7)=\"\",\"\",INDEX('E_Tokovi izvora'!$A:$N,DC44,X$7)))","v":""},{"$f":"IF($E44=\"\",\"\",IF(INDEX('E_Tokovi izvora'!$A:$N,DD44,Y$7)=\"\",\"\",INDEX('E_Tokovi izvora'!$A:$N,DD44,Y$7)))","v":""},{"$f":"IF($E44=\"\",\"\",IF(INDEX('E_Tokovi izvora'!$A:$N,DE44,Z$7)=\"\",\"\",INDEX('E_Tokovi izvora'!$A:$N,DE44,Z$7)))","v":""},{"$f":"IF($E44=\"\",\"\",IF(INDEX('E_Tokovi izvora'!$A:$N,DF44,AA$7)=\"\",\"\",INDEX('E_Tokovi izvora'!$A:$N,DF44,AA$7)))","v":""},{"$f":"IF($E44=\"\",\"\",IF(INDEX('E_Tokovi izvora'!$A:$N,DG44,AB$7)=\"\",\"\",INDEX('E_Tokovi izvora'!$A:$N,DG44,AB$7)))","v":""},{"$f":"IF($E44=\"\",\"\",IF(INDEX('E_Tokovi izvora'!$A:$N,DH44,AC$7)=\"\",\"\",INDEX('E_Tokovi izvora'!$A:$N,DH44,AC$7)))","v":""},{"$f":"IF($E44=\"\",\"\",IF(INDEX('E_Tokovi izvora'!$A:$N,DI44,AD$7)=\"\",\"\",INDEX('E_Tokovi izvora'!$A:$N,DI44,AD$7)))","v":""},{"$f":"IF($E44=\"\",\"\",IF(INDEX('E_Tokovi izvora'!$A:$N,DJ44,AE$7)=\"\",\"\",INDEX('E_Tokovi izvora'!$A:$N,DJ44,AE$7)))","v":""},{"$f":"IF($E44=\"\",\"\",IF(INDEX('E_Tokovi izvora'!$A:$N,DK44,AF$7)=\"\",\"\",INDEX('E_Tokovi izvora'!$A:$N,DK44,AF$7)))","v":""},{"$f":"IF($E44=\"\",\"\",IF(INDEX('E_Tokovi izvora'!$A:$N,DL44,AG$7)=\"\",\"\",INDEX('E_Tokovi izvora'!$A:$N,DL44,AG$7)))","v":""},{"$f":"IF($E44=\"\",\"\",IF(INDEX('E_Tokovi izvora'!$A:$N,DM44,AH$7)=\"\",\"\",INDEX('E_Tokovi izvora'!$A:$N,DM44,AH$7)))","v":""},{"$f":"IF($E44=\"\",\"\",IF(INDEX('E_Tokovi izvora'!$A:$N,DN44,AI$7)=\"\",\"\",INDEX('E_Tokovi izvora'!$A:$N,DN44,AI$7)))","v":""},{"$f":"IF($E44=\"\",\"\",IF(INDEX('E_Tokovi izvora'!$A:$N,DO44,AJ$7)=\"\",\"\",INDEX('E_Tokovi izvora'!$A:$N,DO44,AJ$7)))","v":""},{"$f":"IF($E44=\"\",\"\",IF(INDEX('E_Tokovi izvora'!$A:$N,DP44,AK$7)=\"\",\"\",INDEX('E_Tokovi izvora'!$A:$N,DP44,AK$7)))","v":""},{"$f":"IF($E44=\"\",\"\",IF(INDEX('E_Tokovi izvora'!$A:$N,DQ44,AL$7)=\"\",\"\",INDEX('E_Tokovi izvora'!$A:$N,DQ44,AL$7)))","v":""},{"$f":"IF($E44=\"\",\"\",IF(INDEX('E_Tokovi izvora'!$A:$N,DR44,AM$7)=\"\",\"\",INDEX('E_Tokovi izvora'!$A:$N,DR44,AM$7)))","v":""},{"$f":"IF($E44=\"\",\"\",IF(INDEX('E_Tokovi izvora'!$A:$N,DS44,AN$7)=\"\",\"\",INDEX('E_Tokovi izvora'!$A:$N,DS44,AN$7)))","v":""},{"$f":"IF($E44=\"\",\"\",IF(INDEX('E_Tokovi izvora'!$A:$N,DT44,AO$7)=\"\",\"\",INDEX('E_Tokovi izvora'!$A:$N,DT44,AO$7)))","v":""},{"$f":"IF($E44=\"\",\"\",IF(INDEX('E_Tokovi izvora'!$A:$N,DU44,AP$7)=\"\",\"\",INDEX('E_Tokovi izvora'!$A:$N,DU44,AP$7)))","v":""},{"$f":"IF($E44=\"\",\"\",IF(INDEX('E_Tokovi izvora'!$A:$N,DV44,AQ$7)=\"\",\"\",INDEX('E_Tokovi izvora'!$A:$N,DV44,AQ$7)))","v":""},{"$f":"IF($E44=\"\",\"\",IF(INDEX('E_Tokovi izvora'!$A:$N,DW44,AR$7)=\"\",\"\",INDEX('E_Tokovi izvora'!$A:$N,DW44,AR$7)))","v":""},{"$f":"IF($E44=\"\",\"\",IF(INDEX('E_Tokovi izvora'!$A:$N,DX44,AS$7)=\"\",\"\",INDEX('E_Tokovi izvora'!$A:$N,DX44,AS$7)))","v":""},{"$f":"IF($E44=\"\",\"\",IF(INDEX('E_Tokovi izvora'!$A:$N,DY44,AT$7)=\"\",\"\",INDEX('E_Tokovi izvora'!$A:$N,DY44,AT$7)))","v":""},{"$f":"IF($E44=\"\",\"\",IF(INDEX('E_Tokovi izvora'!$A:$N,DZ44,AU$7)=\"\",\"\",INDEX('E_Tokovi izvora'!$A:$N,DZ44,AU$7)))","v":""},{"$f":"IF($E44=\"\",\"\",IF(INDEX('E_Tokovi izvora'!$A:$N,EA44,AV$7)=\"\",\"\",INDEX('E_Tokovi izvora'!$A:$N,EA44,AV$7)))","v":""},{"$f":"IF($E44=\"\",\"\",IF(INDEX('E_Tokovi izvora'!$A:$N,EB44,AW$7)=\"\",\"\",INDEX('E_Tokovi izvora'!$A:$N,EB44,AW$7)))","v":""},{"$f":"IF($E44=\"\",\"\",IF(INDEX('E_Tokovi izvora'!$A:$N,EC44,AX$7)=\"\",\"\",INDEX('E_Tokovi izvora'!$A:$N,EC44,AX$7)))","v":""},{"$f":"IF($E44=\"\",\"\",IF(INDEX('E_Tokovi izvora'!$A:$N,ED44,AY$7)=\"\",\"\",INDEX('E_Tokovi izvora'!$A:$N,ED44,AY$7)))","v":""},{"$f":"IF($E44=\"\",\"\",IF(INDEX('E_Tokovi izvora'!$A:$N,EE44,AZ$7)=\"\",\"\",INDEX('E_Tokovi izvora'!$A:$N,EE44,AZ$7)))","v":""},{"$f":"IF($E44=\"\",\"\",IF(INDEX('E_Tokovi izvora'!$A:$N,EF44,BA$7)=\"\",\"\",INDEX('E_Tokovi izvora'!$A:$N,EF44,BA$7)))","v":""},{"$f":"IF($E44=\"\",\"\",IF(INDEX('E_Tokovi izvora'!$A:$N,EG44,BB$7)=\"\",\"\",INDEX('E_Tokovi izvora'!$A:$N,EG44,BB$7)))","v":""},{"$f":"IF($E44=\"\",\"\",IF(INDEX('E_Tokovi izvora'!$A:$N,EH44,BC$7)=\"\",\"\",INDEX('E_Tokovi izvora'!$A:$N,EH44,BC$7)))","v":""},{"$f":"IF($E44=\"\",\"\",IF(INDEX('E_Tokovi izvora'!$A:$N,EI44,BD$7)=\"\",\"\",INDEX('E_Tokovi izvora'!$A:$N,EI44,BD$7)))","v":""},{"$f":"IF($E44=\"\",\"\",IF(INDEX('E_Tokovi izvora'!$A:$N,EJ44,BE$7)=\"\",\"\",INDEX('E_Tokovi izvora'!$A:$N,EJ44,BE$7)))","v":""},{"$f":"IF($E44=\"\",\"\",IF(INDEX('E_Tokovi izvora'!$A:$N,EK44,BF$7)=\"\",\"\",INDEX('E_Tokovi izvora'!$A:$N,EK44,BF$7)))","v":""},{"$f":"IF($E44=\"\",\"\",IF(INDEX('E_Tokovi izvora'!$A:$N,EL44,BG$7)=\"\",\"\",INDEX('E_Tokovi izvora'!$A:$N,EL44,BG$7)))","v":""},{"$f":"IF($E44=\"\",\"\",IF(INDEX('E_Tokovi izvora'!$A:$N,EM44,BH$7)=\"\",\"\",INDEX('E_Tokovi izvora'!$A:$N,EM44,BH$7)))","v":""},{"$f":"IF($E44=\"\",\"\",IF(INDEX('E_Tokovi izvora'!$A:$N,EN44,BI$7)=\"\",\"\",INDEX('E_Tokovi izvora'!$A:$N,EN44,BI$7)))","v":""},{"$f":"IF($E44=\"\",\"\",IF(INDEX('E_Tokovi izvora'!$A:$N,EO44,BJ$7)=\"\",\"\",INDEX('E_Tokovi izvora'!$A:$N,EO44,BJ$7)))","v":""},{"$f":"IF($E44=\"\",\"\",IF(INDEX('E_Tokovi izvora'!$A:$N,EP44,BK$7)=\"\",\"\",INDEX('E_Tokovi izvora'!$A:$N,EP44,BK$7)))","v":""},{"$f":"IF($E44=\"\",\"\",IF(INDEX('E_Tokovi izvora'!$A:$N,EQ44,BL$7)=\"\",\"\",INDEX('E_Tokovi izvora'!$A:$N,EQ44,BL$7)))","v":""},{"$f":"IF($E44=\"\",\"\",IF(INDEX('E_Tokovi izvora'!$A:$N,ER44,BM$7)=\"\",\"\",INDEX('E_Tokovi izvora'!$A:$N,ER44,BM$7)))","v":""},{"$f":"IF($E44=\"\",\"\",IF(INDEX('E_Tokovi izvora'!$A:$N,ES44,BN$7)=\"\",\"\",INDEX('E_Tokovi izvora'!$A:$N,ES44,BN$7)))","v":""},{"$f":"IF($E44=\"\",\"\",IF(INDEX('E_Tokovi izvora'!$A:$N,ET44,BO$7)=\"\",\"\",INDEX('E_Tokovi izvora'!$A:$N,ET44,BO$7)))","v":""},{"$f":"IF($E44=\"\",\"\",IF(INDEX('E_Tokovi izvora'!$A:$N,EU44,BP$7)=\"\",\"\",INDEX('E_Tokovi izvora'!$A:$N,EU44,BP$7)))","v":""},{"$f":"IF($E44=\"\",\"\",IF(INDEX('E_Tokovi izvora'!$A:$N,EV44,BQ$7)=\"\",\"\",INDEX('E_Tokovi izvora'!$A:$N,EV44,BQ$7)))","v":""},{"$f":"IF($E44=\"\",\"\",IF(INDEX('E_Tokovi izvora'!$A:$N,EW44,BR$7)=\"\",\"\",INDEX('E_Tokovi izvora'!$A:$N,EW44,BR$7)))","v":""},{"$f":"IF($E44=\"\",\"\",IF(INDEX('E_Tokovi izvora'!$A:$N,EX44,BS$7)=\"\",\"\",INDEX('E_Tokovi izvora'!$A:$N,EX44,BS$7)))","v":""},{"$f":"IF($E44=\"\",\"\",IF(INDEX('E_Tokovi izvora'!$A:$N,EY44,BT$7)=\"\",\"\",INDEX('E_Tokovi izvora'!$A:$N,EY44,BT$7)))","v":""},null,null,null,null,null,null,null,null,null,null,null,null,null,null,null,"SourceCategory_",{"$f":"INDEX('C_Opis postrojenja'!$A$226:$A$332,ROWS($CI$11:CI44))=\"ausblenden\"","v":false},"SourceStreamName_",null,2311,2313,2315,2317,2319,2321,2323,2323,2323,2323,2323,2326,2330,2331,2332,2339,2349,2349,2349,2349,2349,2349,2349,2340,2350,2350,2350,2350,2350,2350,2350,2341,2351,2351,2351,2351,2351,2351,2351,2342,2352,2352,2352,2352,2352,2352,2352,2343,2353,2353,2353,2353,2353,2353,2353,2344,2354,2354,2354,2354,2354,2354,2354,2360]
[null,{"$f":"IF(COUNTIF($CK$10:CK45,TRUE)>0,\"\",INDEX('C_Opis postrojenja'!$E$226:$E$242,ROWS($A$11:A45)))","v":""},{"$f":"IF($E45=\"\",\"\",INDEX('C_Opis postrojenja'!F:F,MATCH($B45,'C_Opis postrojenja'!$E:$E,0)))","v":""},{"$f":"IF($E45=\"\",\"\",INDEX('C_Opis postrojenja'!I:I,MATCH($B45,'C_Opis postrojenja'!$E:$E,0)))","v":""},{"$f":"IF($B45=\"\",\"\",INDEX('C_Opis postrojenja'!F:F,MATCH($CJ45,'C_Opis postrojenja'!$Q:$Q,0)))","v":""},{"$f":"IF($E45=\"\",\"\",INDEX('C_Opis postrojenja'!L:L,MATCH($CJ45,'C_Opis postrojenja'!$Q:$Q,0)))","v":""},{"$f":"IF($E45=\"\",\"\",INDEX('C_Opis postrojenja'!M:M,MATCH($CJ45,'C_Opis postrojenja'!$Q:$Q,0)))","v":""},{"$f":"IF($E45=\"\",\"\",INDEX('C_Opis postrojenja'!N:N,MATCH($CJ45,'C_Opis postrojenja'!$Q:$Q,0)))","v":""},{"$f":"IF($E45=\"\",\"\",IF(INDEX('E_Tokovi izvora'!$A:$N,CN45,I$7)=\"\",\"\",INDEX('E_Tokovi izvora'!$A:$N,CN45,I$7)))","v":""},{"$f":"IF($E45=\"\",\"\",IF(INDEX('E_Tokovi izvora'!$A:$N,CO45,J$7)=\"\",\"\",INDEX('E_Tokovi izvora'!$A:$N,CO45,J$7)))","v":""},{"$f":"IF($E45=\"\",\"\",IF(INDEX('E_Tokovi izvora'!$A:$N,CP45,K$7)=\"\",\"\",INDEX('E_Tokovi izvora'!$A:$N,CP45,K$7)))","v":""},{"$f":"IF($E45=\"\",\"\",IF(INDEX('E_Tokovi izvora'!$A:$N,CQ45,L$7)=\"\",\"\",INDEX('E_Tokovi izvora'!$A:$N,CQ45,L$7)))","v":""},{"$f":"IF($E45=\"\",\"\",IF(INDEX('E_Tokovi izvora'!$A:$N,CR45,M$7)=\"\",\"\",INDEX('E_Tokovi izvora'!$A:$N,CR45,M$7)))","v":""},{"$f":"IF($E45=\"\",\"\",IF(INDEX('E_Tokovi izvora'!$A:$N,CS45,N$7)=\"\",\"\",INDEX('E_Tokovi izvora'!$A:$N,CS45,N$7)))","v":""},{"$f":"IF($E45=\"\",\"\",IF(INDEX('E_Tokovi izvora'!$A:$N,CT45,O$7)=\"\",\"\",INDEX('E_Tokovi izvora'!$A:$N,CT45,O$7)))","v":""},{"$f":"IF($E45=\"\",\"\",IF(INDEX('E_Tokovi izvora'!$A:$N,CU45,P$7)=\"\",\"\",INDEX('E_Tokovi izvora'!$A:$N,CU45,P$7)))","v":""},{"$f":"IF($E45=\"\",\"\",IF(INDEX('E_Tokovi izvora'!$A:$N,CV45,Q$7)=\"\",\"\",INDEX('E_Tokovi izvora'!$A:$N,CV45,Q$7)))","v":""},{"$f":"IF($E45=\"\",\"\",IF(INDEX('E_Tokovi izvora'!$A:$N,CW45,R$7)=\"\",\"\",INDEX('E_Tokovi izvora'!$A:$N,CW45,R$7)))","v":""},{"$f":"IF($E45=\"\",\"\",IF(INDEX('E_Tokovi izvora'!$A:$N,CX45,S$7)=\"\",\"\",INDEX('E_Tokovi izvora'!$A:$N,CX45,S$7)))","v":""},{"$f":"IF($E45=\"\",\"\",IF(INDEX('E_Tokovi izvora'!$A:$N,CY45,T$7)=\"\",\"\",INDEX('E_Tokovi izvora'!$A:$N,CY45,T$7)))","v":""},{"$f":"IF($E45=\"\",\"\",IF(INDEX('E_Tokovi izvora'!$A:$N,CZ45,U$7)=\"\",\"\",INDEX('E_Tokovi izvora'!$A:$N,CZ45,U$7)))","v":""},{"$f":"IF($E45=\"\",\"\",IF(INDEX('E_Tokovi izvora'!$A:$N,DA45,V$7)=\"\",\"\",INDEX('E_Tokovi izvora'!$A:$N,DA45,V$7)))","v":""},{"$f":"IF($E45=\"\",\"\",IF(INDEX('E_Tokovi izvora'!$A:$N,DB45,W$7)=\"\",\"\",INDEX('E_Tokovi izvora'!$A:$N,DB45,W$7)))","v":""},{"$f":"IF($E45=\"\",\"\",IF(INDEX('E_Tokovi izvora'!$A:$N,DC45,X$7)=\"\",\"\",INDEX('E_Tokovi izvora'!$A:$N,DC45,X$7)))","v":""},{"$f":"IF($E45=\"\",\"\",IF(INDEX('E_Tokovi izvora'!$A:$N,DD45,Y$7)=\"\",\"\",INDEX('E_Tokovi izvora'!$A:$N,DD45,Y$7)))","v":""},{"$f":"IF($E45=\"\",\"\",IF(INDEX('E_Tokovi izvora'!$A:$N,DE45,Z$7)=\"\",\"\",INDEX('E_Tokovi izvora'!$A:$N,DE45,Z$7)))","v":""},{"$f":"IF($E45=\"\",\"\",IF(INDEX('E_Tokovi izvora'!$A:$N,DF45,AA$7)=\"\",\"\",INDEX('E_Tokovi izvora'!$A:$N,DF45,AA$7)))","v":""},{"$f":"IF($E45=\"\",\"\",IF(INDEX('E_Tokovi izvora'!$A:$N,DG45,AB$7)=\"\",\"\",INDEX('E_Tokovi izvora'!$A:$N,DG45,AB$7)))","v":""},{"$f":"IF($E45=\"\",\"\",IF(INDEX('E_Tokovi izvora'!$A:$N,DH45,AC$7)=\"\",\"\",INDEX('E_Tokovi izvora'!$A:$N,DH45,AC$7)))","v":""},{"$f":"IF($E45=\"\",\"\",IF(INDEX('E_Tokovi izvora'!$A:$N,DI45,AD$7)=\"\",\"\",INDEX('E_Tokovi izvora'!$A:$N,DI45,AD$7)))","v":""},{"$f":"IF($E45=\"\",\"\",IF(INDEX('E_Tokovi izvora'!$A:$N,DJ45,AE$7)=\"\",\"\",INDEX('E_Tokovi izvora'!$A:$N,DJ45,AE$7)))","v":""},{"$f":"IF($E45=\"\",\"\",IF(INDEX('E_Tokovi izvora'!$A:$N,DK45,AF$7)=\"\",\"\",INDEX('E_Tokovi izvora'!$A:$N,DK45,AF$7)))","v":""},{"$f":"IF($E45=\"\",\"\",IF(INDEX('E_Tokovi izvora'!$A:$N,DL45,AG$7)=\"\",\"\",INDEX('E_Tokovi izvora'!$A:$N,DL45,AG$7)))","v":""},{"$f":"IF($E45=\"\",\"\",IF(INDEX('E_Tokovi izvora'!$A:$N,DM45,AH$7)=\"\",\"\",INDEX('E_Tokovi izvora'!$A:$N,DM45,AH$7)))","v":""},{"$f":"IF($E45=\"\",\"\",IF(INDEX('E_Tokovi izvora'!$A:$N,DN45,AI$7)=\"\",\"\",INDEX('E_Tokovi izvora'!$A:$N,DN45,AI$7)))","v":""},{"$f":"IF($E45=\"\",\"\",IF(INDEX('E_Tokovi izvora'!$A:$N,DO45,AJ$7)=\"\",\"\",INDEX('E_Tokovi izvora'!$A:$N,DO45,AJ$7)))","v":""},{"$f":"IF($E45=\"\",\"\",IF(INDEX('E_Tokovi izvora'!$A:$N,DP45,AK$7)=\"\",\"\",INDEX('E_Tokovi izvora'!$A:$N,DP45,AK$7)))","v":""},{"$f":"IF($E45=\"\",\"\",IF(INDEX('E_Tokovi izvora'!$A:$N,DQ45,AL$7)=\"\",\"\",INDEX('E_Tokovi izvora'!$A:$N,DQ45,AL$7)))","v":""},{"$f":"IF($E45=\"\",\"\",IF(INDEX('E_Tokovi izvora'!$A:$N,DR45,AM$7)=\"\",\"\",INDEX('E_Tokovi izvora'!$A:$N,DR45,AM$7)))","v":""},{"$f":"IF($E45=\"\",\"\",IF(INDEX('E_Tokovi izvora'!$A:$N,DS45,AN$7)=\"\",\"\",INDEX('E_Tokovi izvora'!$A:$N,DS45,AN$7)))","v":""},{"$f":"IF($E45=\"\",\"\",IF(INDEX('E_Tokovi izvora'!$A:$N,DT45,AO$7)=\"\",\"\",INDEX('E_Tokovi izvora'!$A:$N,DT45,AO$7)))","v":""},{"$f":"IF($E45=\"\",\"\",IF(INDEX('E_Tokovi izvora'!$A:$N,DU45,AP$7)=\"\",\"\",INDEX('E_Tokovi izvora'!$A:$N,DU45,AP$7)))","v":""},{"$f":"IF($E45=\"\",\"\",IF(INDEX('E_Tokovi izvora'!$A:$N,DV45,AQ$7)=\"\",\"\",INDEX('E_Tokovi izvora'!$A:$N,DV45,AQ$7)))","v":""},{"$f":"IF($E45=\"\",\"\",IF(INDEX('E_Tokovi izvora'!$A:$N,DW45,AR$7)=\"\",\"\",INDEX('E_Tokovi izvora'!$A:$N,DW45,AR$7)))","v":""},{"$f":"IF($E45=\"\",\"\",IF(INDEX('E_Tokovi izvora'!$A:$N,DX45,AS$7)=\"\",\"\",INDEX('E_Tokovi izvora'!$A:$N,DX45,AS$7)))","v":""},{"$f":"IF($E45=\"\",\"\",IF(INDEX('E_Tokovi izvora'!$A:$N,DY45,AT$7)=\"\",\"\",INDEX('E_Tokovi izvora'!$A:$N,DY45,AT$7)))","v":""},{"$f":"IF($E45=\"\",\"\",IF(INDEX('E_Tokovi izvora'!$A:$N,DZ45,AU$7)=\"\",\"\",INDEX('E_Tokovi izvora'!$A:$N,DZ45,AU$7)))","v":""},{"$f":"IF($E45=\"\",\"\",IF(INDEX('E_Tokovi izvora'!$A:$N,EA45,AV$7)=\"\",\"\",INDEX('E_Tokovi izvora'!$A:$N,EA45,AV$7)))","v":""},{"$f":"IF($E45=\"\",\"\",IF(INDEX('E_Tokovi izvora'!$A:$N,EB45,AW$7)=\"\",\"\",INDEX('E_Tokovi izvora'!$A:$N,EB45,AW$7)))","v":""},{"$f":"IF($E45=\"\",\"\",IF(INDEX('E_Tokovi izvora'!$A:$N,EC45,AX$7)=\"\",\"\",INDEX('E_Tokovi izvora'!$A:$N,EC45,AX$7)))","v":""},{"$f":"IF($E45=\"\",\"\",IF(INDEX('E_Tokovi izvora'!$A:$N,ED45,AY$7)=\"\",\"\",INDEX('E_Tokovi izvora'!$A:$N,ED45,AY$7)))","v":""},{"$f":"IF($E45=\"\",\"\",IF(INDEX('E_Tokovi izvora'!$A:$N,EE45,AZ$7)=\"\",\"\",INDEX('E_Tokovi izvora'!$A:$N,EE45,AZ$7)))","v":""},{"$f":"IF($E45=\"\",\"\",IF(INDEX('E_Tokovi izvora'!$A:$N,EF45,BA$7)=\"\",\"\",INDEX('E_Tokovi izvora'!$A:$N,EF45,BA$7)))","v":""},{"$f":"IF($E45=\"\",\"\",IF(INDEX('E_Tokovi izvora'!$A:$N,EG45,BB$7)=\"\",\"\",INDEX('E_Tokovi izvora'!$A:$N,EG45,BB$7)))","v":""},{"$f":"IF($E45=\"\",\"\",IF(INDEX('E_Tokovi izvora'!$A:$N,EH45,BC$7)=\"\",\"\",INDEX('E_Tokovi izvora'!$A:$N,EH45,BC$7)))","v":""},{"$f":"IF($E45=\"\",\"\",IF(INDEX('E_Tokovi izvora'!$A:$N,EI45,BD$7)=\"\",\"\",INDEX('E_Tokovi izvora'!$A:$N,EI45,BD$7)))","v":""},{"$f":"IF($E45=\"\",\"\",IF(INDEX('E_Tokovi izvora'!$A:$N,EJ45,BE$7)=\"\",\"\",INDEX('E_Tokovi izvora'!$A:$N,EJ45,BE$7)))","v":""},{"$f":"IF($E45=\"\",\"\",IF(INDEX('E_Tokovi izvora'!$A:$N,EK45,BF$7)=\"\",\"\",INDEX('E_Tokovi izvora'!$A:$N,EK45,BF$7)))","v":""},{"$f":"IF($E45=\"\",\"\",IF(INDEX('E_Tokovi izvora'!$A:$N,EL45,BG$7)=\"\",\"\",INDEX('E_Tokovi izvora'!$A:$N,EL45,BG$7)))","v":""},{"$f":"IF($E45=\"\",\"\",IF(INDEX('E_Tokovi izvora'!$A:$N,EM45,BH$7)=\"\",\"\",INDEX('E_Tokovi izvora'!$A:$N,EM45,BH$7)))","v":""},{"$f":"IF($E45=\"\",\"\",IF(INDEX('E_Tokovi izvora'!$A:$N,EN45,BI$7)=\"\",\"\",INDEX('E_Tokovi izvora'!$A:$N,EN45,BI$7)))","v":""},{"$f":"IF($E45=\"\",\"\",IF(INDEX('E_Tokovi izvora'!$A:$N,EO45,BJ$7)=\"\",\"\",INDEX('E_Tokovi izvora'!$A:$N,EO45,BJ$7)))","v":""},{"$f":"IF($E45=\"\",\"\",IF(INDEX('E_Tokovi izvora'!$A:$N,EP45,BK$7)=\"\",\"\",INDEX('E_Tokovi izvora'!$A:$N,EP45,BK$7)))","v":""},{"$f":"IF($E45=\"\",\"\",IF(INDEX('E_Tokovi izvora'!$A:$N,EQ45,BL$7)=\"\",\"\",INDEX('E_Tokovi izvora'!$A:$N,EQ45,BL$7)))","v":""},{"$f":"IF($E45=\"\",\"\",IF(INDEX('E_Tokovi izvora'!$A:$N,ER45,BM$7)=\"\",\"\",INDEX('E_Tokovi izvora'!$A:$N,ER45,BM$7)))","v":""},{"$f":"IF($E45=\"\",\"\",IF(INDEX('E_Tokovi izvora'!$A:$N,ES45,BN$7)=\"\",\"\",INDEX('E_Tokovi izvora'!$A:$N,ES45,BN$7)))","v":""},{"$f":"IF($E45=\"\",\"\",IF(INDEX('E_Tokovi izvora'!$A:$N,ET45,BO$7)=\"\",\"\",INDEX('E_Tokovi izvora'!$A:$N,ET45,BO$7)))","v":""},{"$f":"IF($E45=\"\",\"\",IF(INDEX('E_Tokovi izvora'!$A:$N,EU45,BP$7)=\"\",\"\",INDEX('E_Tokovi izvora'!$A:$N,EU45,BP$7)))","v":""},{"$f":"IF($E45=\"\",\"\",IF(INDEX('E_Tokovi izvora'!$A:$N,EV45,BQ$7)=\"\",\"\",INDEX('E_Tokovi izvora'!$A:$N,EV45,BQ$7)))","v":""},{"$f":"IF($E45=\"\",\"\",IF(INDEX('E_Tokovi izvora'!$A:$N,EW45,BR$7)=\"\",\"\",INDEX('E_Tokovi izvora'!$A:$N,EW45,BR$7)))","v":""},{"$f":"IF($E45=\"\",\"\",IF(INDEX('E_Tokovi izvora'!$A:$N,EX45,BS$7)=\"\",\"\",INDEX('E_Tokovi izvora'!$A:$N,EX45,BS$7)))","v":""},{"$f":"IF($E45=\"\",\"\",IF(INDEX('E_Tokovi izvora'!$A:$N,EY45,BT$7)=\"\",\"\",INDEX('E_Tokovi izvora'!$A:$N,EY45,BT$7)))","v":""},null,null,null,null,null,null,null,null,null,null,null,null,null,null,null,"SourceCategory_",{"$f":"INDEX('C_Opis postrojenja'!$A$226:$A$332,ROWS($CI$11:CI45))=\"ausblenden\"","v":true},"SourceStreamName_",null,2377,2379,2381,2383,2385,2387,2389,2389,2389,2389,2389,2392,2396,2397,2398,2405,2415,2415,2415,2415,2415,2415,2415,2406,2416,2416,2416,2416,2416,2416,2416,2407,2417,2417,2417,2417,2417,2417,2417,2408,2418,2418,2418,2418,2418,2418,2418,2409,2419,2419,2419,2419,2419,2419,2419,2410,2420,2420,2420,2420,2420,2420,2420,2426]
[null,{"$f":"IF(COUNTIF($CK$10:CK46,TRUE)>0,\"\",INDEX('C_Opis postrojenja'!$E$226:$E$242,ROWS($A$11:A46)))","v":""},{"$f":"IF($E46=\"\",\"\",INDEX('C_Opis postrojenja'!F:F,MATCH($B46,'C_Opis postrojenja'!$E:$E,0)))","v":""},{"$f":"IF($E46=\"\",\"\",INDEX('C_Opis postrojenja'!I:I,MATCH($B46,'C_Opis postrojenja'!$E:$E,0)))","v":""},{"$f":"IF($B46=\"\",\"\",INDEX('C_Opis postrojenja'!F:F,MATCH($CJ46,'C_Opis postrojenja'!$Q:$Q,0)))","v":""},{"$f":"IF($E46=\"\",\"\",INDEX('C_Opis postrojenja'!L:L,MATCH($CJ46,'C_Opis postrojenja'!$Q:$Q,0)))","v":""},{"$f":"IF($E46=\"\",\"\",INDEX('C_Opis postrojenja'!M:M,MATCH($CJ46,'C_Opis postrojenja'!$Q:$Q,0)))","v":""},{"$f":"IF($E46=\"\",\"\",INDEX('C_Opis postrojenja'!N:N,MATCH($CJ46,'C_Opis postrojenja'!$Q:$Q,0)))","v":""},{"$f":"IF($E46=\"\",\"\",IF(INDEX('E_Tokovi izvora'!$A:$N,CN46,I$7)=\"\",\"\",INDEX('E_Tokovi izvora'!$A:$N,CN46,I$7)))","v":""},{"$f":"IF($E46=\"\",\"\",IF(INDEX('E_Tokovi izvora'!$A:$N,CO46,J$7)=\"\",\"\",INDEX('E_Tokovi izvora'!$A:$N,CO46,J$7)))","v":""},{"$f":"IF($E46=\"\",\"\",IF(INDEX('E_Tokovi izvora'!$A:$N,CP46,K$7)=\"\",\"\",INDEX('E_Tokovi izvora'!$A:$N,CP46,K$7)))","v":""},{"$f":"IF($E46=\"\",\"\",IF(INDEX('E_Tokovi izvora'!$A:$N,CQ46,L$7)=\"\",\"\",INDEX('E_Tokovi izvora'!$A:$N,CQ46,L$7)))","v":""},{"$f":"IF($E46=\"\",\"\",IF(INDEX('E_Tokovi izvora'!$A:$N,CR46,M$7)=\"\",\"\",INDEX('E_Tokovi izvora'!$A:$N,CR46,M$7)))","v":""},{"$f":"IF($E46=\"\",\"\",IF(INDEX('E_Tokovi izvora'!$A:$N,CS46,N$7)=\"\",\"\",INDEX('E_Tokovi izvora'!$A:$N,CS46,N$7)))","v":""},{"$f":"IF($E46=\"\",\"\",IF(INDEX('E_Tokovi izvora'!$A:$N,CT46,O$7)=\"\",\"\",INDEX('E_Tokovi izvora'!$A:$N,CT46,O$7)))","v":""},{"$f":"IF($E46=\"\",\"\",IF(INDEX('E_Tokovi izvora'!$A:$N,CU46,P$7)=\"\",\"\",INDEX('E_Tokovi izvora'!$A:$N,CU46,P$7)))","v":""},{"$f":"IF($E46=\"\",\"\",IF(INDEX('E_Tokovi izvora'!$A:$N,CV46,Q$7)=\"\",\"\",INDEX('E_Tokovi izvora'!$A:$N,CV46,Q$7)))","v":""},{"$f":"IF($E46=\"\",\"\",IF(INDEX('E_Tokovi izvora'!$A:$N,CW46,R$7)=\"\",\"\",INDEX('E_Tokovi izvora'!$A:$N,CW46,R$7)))","v":""},{"$f":"IF($E46=\"\",\"\",IF(INDEX('E_Tokovi izvora'!$A:$N,CX46,S$7)=\"\",\"\",INDEX('E_Tokovi izvora'!$A:$N,CX46,S$7)))","v":""},{"$f":"IF($E46=\"\",\"\",IF(INDEX('E_Tokovi izvora'!$A:$N,CY46,T$7)=\"\",\"\",INDEX('E_Tokovi izvora'!$A:$N,CY46,T$7)))","v":""},{"$f":"IF($E46=\"\",\"\",IF(INDEX('E_Tokovi izvora'!$A:$N,CZ46,U$7)=\"\",\"\",INDEX('E_Tokovi izvora'!$A:$N,CZ46,U$7)))","v":""},{"$f":"IF($E46=\"\",\"\",IF(INDEX('E_Tokovi izvora'!$A:$N,DA46,V$7)=\"\",\"\",INDEX('E_Tokovi izvora'!$A:$N,DA46,V$7)))","v":""},{"$f":"IF($E46=\"\",\"\",IF(INDEX('E_Tokovi izvora'!$A:$N,DB46,W$7)=\"\",\"\",INDEX('E_Tokovi izvora'!$A:$N,DB46,W$7)))","v":""},{"$f":"IF($E46=\"\",\"\",IF(INDEX('E_Tokovi izvora'!$A:$N,DC46,X$7)=\"\",\"\",INDEX('E_Tokovi izvora'!$A:$N,DC46,X$7)))","v":""},{"$f":"IF($E46=\"\",\"\",IF(INDEX('E_Tokovi izvora'!$A:$N,DD46,Y$7)=\"\",\"\",INDEX('E_Tokovi izvora'!$A:$N,DD46,Y$7)))","v":""},{"$f":"IF($E46=\"\",\"\",IF(INDEX('E_Tokovi izvora'!$A:$N,DE46,Z$7)=\"\",\"\",INDEX('E_Tokovi izvora'!$A:$N,DE46,Z$7)))","v":""},{"$f":"IF($E46=\"\",\"\",IF(INDEX('E_Tokovi izvora'!$A:$N,DF46,AA$7)=\"\",\"\",INDEX('E_Tokovi izvora'!$A:$N,DF46,AA$7)))","v":""},{"$f":"IF($E46=\"\",\"\",IF(INDEX('E_Tokovi izvora'!$A:$N,DG46,AB$7)=\"\",\"\",INDEX('E_Tokovi izvora'!$A:$N,DG46,AB$7)))","v":""},{"$f":"IF($E46=\"\",\"\",IF(INDEX('E_Tokovi izvora'!$A:$N,DH46,AC$7)=\"\",\"\",INDEX('E_Tokovi izvora'!$A:$N,DH46,AC$7)))","v":""},{"$f":"IF($E46=\"\",\"\",IF(INDEX('E_Tokovi izvora'!$A:$N,DI46,AD$7)=\"\",\"\",INDEX('E_Tokovi izvora'!$A:$N,DI46,AD$7)))","v":""},{"$f":"IF($E46=\"\",\"\",IF(INDEX('E_Tokovi izvora'!$A:$N,DJ46,AE$7)=\"\",\"\",INDEX('E_Tokovi izvora'!$A:$N,DJ46,AE$7)))","v":""},{"$f":"IF($E46=\"\",\"\",IF(INDEX('E_Tokovi izvora'!$A:$N,DK46,AF$7)=\"\",\"\",INDEX('E_Tokovi izvora'!$A:$N,DK46,AF$7)))","v":""},{"$f":"IF($E46=\"\",\"\",IF(INDEX('E_Tokovi izvora'!$A:$N,DL46,AG$7)=\"\",\"\",INDEX('E_Tokovi izvora'!$A:$N,DL46,AG$7)))","v":""},{"$f":"IF($E46=\"\",\"\",IF(INDEX('E_Tokovi izvora'!$A:$N,DM46,AH$7)=\"\",\"\",INDEX('E_Tokovi izvora'!$A:$N,DM46,AH$7)))","v":""},{"$f":"IF($E46=\"\",\"\",IF(INDEX('E_Tokovi izvora'!$A:$N,DN46,AI$7)=\"\",\"\",INDEX('E_Tokovi izvora'!$A:$N,DN46,AI$7)))","v":""},{"$f":"IF($E46=\"\",\"\",IF(INDEX('E_Tokovi izvora'!$A:$N,DO46,AJ$7)=\"\",\"\",INDEX('E_Tokovi izvora'!$A:$N,DO46,AJ$7)))","v":""},{"$f":"IF($E46=\"\",\"\",IF(INDEX('E_Tokovi izvora'!$A:$N,DP46,AK$7)=\"\",\"\",INDEX('E_Tokovi izvora'!$A:$N,DP46,AK$7)))","v":""},{"$f":"IF($E46=\"\",\"\",IF(INDEX('E_Tokovi izvora'!$A:$N,DQ46,AL$7)=\"\",\"\",INDEX('E_Tokovi izvora'!$A:$N,DQ46,AL$7)))","v":""},{"$f":"IF($E46=\"\",\"\",IF(INDEX('E_Tokovi izvora'!$A:$N,DR46,AM$7)=\"\",\"\",INDEX('E_Tokovi izvora'!$A:$N,DR46,AM$7)))","v":""},{"$f":"IF($E46=\"\",\"\",IF(INDEX('E_Tokovi izvora'!$A:$N,DS46,AN$7)=\"\",\"\",INDEX('E_Tokovi izvora'!$A:$N,DS46,AN$7)))","v":""},{"$f":"IF($E46=\"\",\"\",IF(INDEX('E_Tokovi izvora'!$A:$N,DT46,AO$7)=\"\",\"\",INDEX('E_Tokovi izvora'!$A:$N,DT46,AO$7)))","v":""},{"$f":"IF($E46=\"\",\"\",IF(INDEX('E_Tokovi izvora'!$A:$N,DU46,AP$7)=\"\",\"\",INDEX('E_Tokovi izvora'!$A:$N,DU46,AP$7)))","v":""},{"$f":"IF($E46=\"\",\"\",IF(INDEX('E_Tokovi izvora'!$A:$N,DV46,AQ$7)=\"\",\"\",INDEX('E_Tokovi izvora'!$A:$N,DV46,AQ$7)))","v":""},{"$f":"IF($E46=\"\",\"\",IF(INDEX('E_Tokovi izvora'!$A:$N,DW46,AR$7)=\"\",\"\",INDEX('E_Tokovi izvora'!$A:$N,DW46,AR$7)))","v":""},{"$f":"IF($E46=\"\",\"\",IF(INDEX('E_Tokovi izvora'!$A:$N,DX46,AS$7)=\"\",\"\",INDEX('E_Tokovi izvora'!$A:$N,DX46,AS$7)))","v":""},{"$f":"IF($E46=\"\",\"\",IF(INDEX('E_Tokovi izvora'!$A:$N,DY46,AT$7)=\"\",\"\",INDEX('E_Tokovi izvora'!$A:$N,DY46,AT$7)))","v":""},{"$f":"IF($E46=\"\",\"\",IF(INDEX('E_Tokovi izvora'!$A:$N,DZ46,AU$7)=\"\",\"\",INDEX('E_Tokovi izvora'!$A:$N,DZ46,AU$7)))","v":""},{"$f":"IF($E46=\"\",\"\",IF(INDEX('E_Tokovi izvora'!$A:$N,EA46,AV$7)=\"\",\"\",INDEX('E_Tokovi izvora'!$A:$N,EA46,AV$7)))","v":""},{"$f":"IF($E46=\"\",\"\",IF(INDEX('E_Tokovi izvora'!$A:$N,EB46,AW$7)=\"\",\"\",INDEX('E_Tokovi izvora'!$A:$N,EB46,AW$7)))","v":""},{"$f":"IF($E46=\"\",\"\",IF(INDEX('E_Tokovi izvora'!$A:$N,EC46,AX$7)=\"\",\"\",INDEX('E_Tokovi izvora'!$A:$N,EC46,AX$7)))","v":""},{"$f":"IF($E46=\"\",\"\",IF(INDEX('E_Tokovi izvora'!$A:$N,ED46,AY$7)=\"\",\"\",INDEX('E_Tokovi izvora'!$A:$N,ED46,AY$7)))","v":""},{"$f":"IF($E46=\"\",\"\",IF(INDEX('E_Tokovi izvora'!$A:$N,EE46,AZ$7)=\"\",\"\",INDEX('E_Tokovi izvora'!$A:$N,EE46,AZ$7)))","v":""},{"$f":"IF($E46=\"\",\"\",IF(INDEX('E_Tokovi izvora'!$A:$N,EF46,BA$7)=\"\",\"\",INDEX('E_Tokovi izvora'!$A:$N,EF46,BA$7)))","v":""},{"$f":"IF($E46=\"\",\"\",IF(INDEX('E_Tokovi izvora'!$A:$N,EG46,BB$7)=\"\",\"\",INDEX('E_Tokovi izvora'!$A:$N,EG46,BB$7)))","v":""},{"$f":"IF($E46=\"\",\"\",IF(INDEX('E_Tokovi izvora'!$A:$N,EH46,BC$7)=\"\",\"\",INDEX('E_Tokovi izvora'!$A:$N,EH46,BC$7)))","v":""},{"$f":"IF($E46=\"\",\"\",IF(INDEX('E_Tokovi izvora'!$A:$N,EI46,BD$7)=\"\",\"\",INDEX('E_Tokovi izvora'!$A:$N,EI46,BD$7)))","v":""},{"$f":"IF($E46=\"\",\"\",IF(INDEX('E_Tokovi izvora'!$A:$N,EJ46,BE$7)=\"\",\"\",INDEX('E_Tokovi izvora'!$A:$N,EJ46,BE$7)))","v":""},{"$f":"IF($E46=\"\",\"\",IF(INDEX('E_Tokovi izvora'!$A:$N,EK46,BF$7)=\"\",\"\",INDEX('E_Tokovi izvora'!$A:$N,EK46,BF$7)))","v":""},{"$f":"IF($E46=\"\",\"\",IF(INDEX('E_Tokovi izvora'!$A:$N,EL46,BG$7)=\"\",\"\",INDEX('E_Tokovi izvora'!$A:$N,EL46,BG$7)))","v":""},{"$f":"IF($E46=\"\",\"\",IF(INDEX('E_Tokovi izvora'!$A:$N,EM46,BH$7)=\"\",\"\",INDEX('E_Tokovi izvora'!$A:$N,EM46,BH$7)))","v":""},{"$f":"IF($E46=\"\",\"\",IF(INDEX('E_Tokovi izvora'!$A:$N,EN46,BI$7)=\"\",\"\",INDEX('E_Tokovi izvora'!$A:$N,EN46,BI$7)))","v":""},{"$f":"IF($E46=\"\",\"\",IF(INDEX('E_Tokovi izvora'!$A:$N,EO46,BJ$7)=\"\",\"\",INDEX('E_Tokovi izvora'!$A:$N,EO46,BJ$7)))","v":""},{"$f":"IF($E46=\"\",\"\",IF(INDEX('E_Tokovi izvora'!$A:$N,EP46,BK$7)=\"\",\"\",INDEX('E_Tokovi izvora'!$A:$N,EP46,BK$7)))","v":""},{"$f":"IF($E46=\"\",\"\",IF(INDEX('E_Tokovi izvora'!$A:$N,EQ46,BL$7)=\"\",\"\",INDEX('E_Tokovi izvora'!$A:$N,EQ46,BL$7)))","v":""},{"$f":"IF($E46=\"\",\"\",IF(INDEX('E_Tokovi izvora'!$A:$N,ER46,BM$7)=\"\",\"\",INDEX('E_Tokovi izvora'!$A:$N,ER46,BM$7)))","v":""},{"$f":"IF($E46=\"\",\"\",IF(INDEX('E_Tokovi izvora'!$A:$N,ES46,BN$7)=\"\",\"\",INDEX('E_Tokovi izvora'!$A:$N,ES46,BN$7)))","v":""},{"$f":"IF($E46=\"\",\"\",IF(INDEX('E_Tokovi izvora'!$A:$N,ET46,BO$7)=\"\",\"\",INDEX('E_Tokovi izvora'!$A:$N,ET46,BO$7)))","v":""},{"$f":"IF($E46=\"\",\"\",IF(INDEX('E_Tokovi izvora'!$A:$N,EU46,BP$7)=\"\",\"\",INDEX('E_Tokovi izvora'!$A:$N,EU46,BP$7)))","v":""},{"$f":"IF($E46=\"\",\"\",IF(INDEX('E_Tokovi izvora'!$A:$N,EV46,BQ$7)=\"\",\"\",INDEX('E_Tokovi izvora'!$A:$N,EV46,BQ$7)))","v":""},{"$f":"IF($E46=\"\",\"\",IF(INDEX('E_Tokovi izvora'!$A:$N,EW46,BR$7)=\"\",\"\",INDEX('E_Tokovi izvora'!$A:$N,EW46,BR$7)))","v":""},{"$f":"IF($E46=\"\",\"\",IF(INDEX('E_Tokovi izvora'!$A:$N,EX46,BS$7)=\"\",\"\",INDEX('E_Tokovi izvora'!$A:$N,EX46,BS$7)))","v":""},{"$f":"IF($E46=\"\",\"\",IF(INDEX('E_Tokovi izvora'!$A:$N,EY46,BT$7)=\"\",\"\",INDEX('E_Tokovi izvora'!$A:$N,EY46,BT$7)))","v":""},null,null,null,null,null,null,null,null,null,null,null,null,null,null,null,"SourceCategory_",{"$f":"INDEX('C_Opis postrojenja'!$A$226:$A$332,ROWS($CI$11:CI46))=\"ausblenden\"","v":false},"SourceStreamName_",null,2443,2445,2447,2449,2451,2453,2455,2455,2455,2455,2455,2458,2462,2463,2464,2471,2481,2481,2481,2481,2481,2481,2481,2472,2482,2482,2482,2482,2482,2482,2482,2473,2483,2483,2483,2483,2483,2483,2483,2474,2484,2484,2484,2484,2484,2484,2484,2475,2485,2485,2485,2485,2485,2485,2485,2476,2486,2486,2486,2486,2486,2486,2486,2492]
[null,{"$f":"IF(COUNTIF($CK$10:CK47,TRUE)>0,\"\",INDEX('C_Opis postrojenja'!$E$226:$E$242,ROWS($A$11:A47)))","v":""},{"$f":"IF($E47=\"\",\"\",INDEX('C_Opis postrojenja'!F:F,MATCH($B47,'C_Opis postrojenja'!$E:$E,0)))","v":""},{"$f":"IF($E47=\"\",\"\",INDEX('C_Opis postrojenja'!I:I,MATCH($B47,'C_Opis postrojenja'!$E:$E,0)))","v":""},{"$f":"IF($B47=\"\",\"\",INDEX('C_Opis postrojenja'!F:F,MATCH($CJ47,'C_Opis postrojenja'!$Q:$Q,0)))","v":""},{"$f":"IF($E47=\"\",\"\",INDEX('C_Opis postrojenja'!L:L,MATCH($CJ47,'C_Opis postrojenja'!$Q:$Q,0)))","v":""},{"$f":"IF($E47=\"\",\"\",INDEX('C_Opis postrojenja'!M:M,MATCH($CJ47,'C_Opis postrojenja'!$Q:$Q,0)))","v":""},{"$f":"IF($E47=\"\",\"\",INDEX('C_Opis postrojenja'!N:N,MATCH($CJ47,'C_Opis postrojenja'!$Q:$Q,0)))","v":""},{"$f":"IF($E47=\"\",\"\",IF(INDEX('E_Tokovi izvora'!$A:$N,CN47,I$7)=\"\",\"\",INDEX('E_Tokovi izvora'!$A:$N,CN47,I$7)))","v":""},{"$f":"IF($E47=\"\",\"\",IF(INDEX('E_Tokovi izvora'!$A:$N,CO47,J$7)=\"\",\"\",INDEX('E_Tokovi izvora'!$A:$N,CO47,J$7)))","v":""},{"$f":"IF($E47=\"\",\"\",IF(INDEX('E_Tokovi izvora'!$A:$N,CP47,K$7)=\"\",\"\",INDEX('E_Tokovi izvora'!$A:$N,CP47,K$7)))","v":""},{"$f":"IF($E47=\"\",\"\",IF(INDEX('E_Tokovi izvora'!$A:$N,CQ47,L$7)=\"\",\"\",INDEX('E_Tokovi izvora'!$A:$N,CQ47,L$7)))","v":""},{"$f":"IF($E47=\"\",\"\",IF(INDEX('E_Tokovi izvora'!$A:$N,CR47,M$7)=\"\",\"\",INDEX('E_Tokovi izvora'!$A:$N,CR47,M$7)))","v":""},{"$f":"IF($E47=\"\",\"\",IF(INDEX('E_Tokovi izvora'!$A:$N,CS47,N$7)=\"\",\"\",INDEX('E_Tokovi izvora'!$A:$N,CS47,N$7)))","v":""},{"$f":"IF($E47=\"\",\"\",IF(INDEX('E_Tokovi izvora'!$A:$N,CT47,O$7)=\"\",\"\",INDEX('E_Tokovi izvora'!$A:$N,CT47,O$7)))","v":""},{"$f":"IF($E47=\"\",\"\",IF(INDEX('E_Tokovi izvora'!$A:$N,CU47,P$7)=\"\",\"\",INDEX('E_Tokovi izvora'!$A:$N,CU47,P$7)))","v":""},{"$f":"IF($E47=\"\",\"\",IF(INDEX('E_Tokovi izvora'!$A:$N,CV47,Q$7)=\"\",\"\",INDEX('E_Tokovi izvora'!$A:$N,CV47,Q$7)))","v":""},{"$f":"IF($E47=\"\",\"\",IF(INDEX('E_Tokovi izvora'!$A:$N,CW47,R$7)=\"\",\"\",INDEX('E_Tokovi izvora'!$A:$N,CW47,R$7)))","v":""},{"$f":"IF($E47=\"\",\"\",IF(INDEX('E_Tokovi izvora'!$A:$N,CX47,S$7)=\"\",\"\",INDEX('E_Tokovi izvora'!$A:$N,CX47,S$7)))","v":""},{"$f":"IF($E47=\"\",\"\",IF(INDEX('E_Tokovi izvora'!$A:$N,CY47,T$7)=\"\",\"\",INDEX('E_Tokovi izvora'!$A:$N,CY47,T$7)))","v":""},{"$f":"IF($E47=\"\",\"\",IF(INDEX('E_Tokovi izvora'!$A:$N,CZ47,U$7)=\"\",\"\",INDEX('E_Tokovi izvora'!$A:$N,CZ47,U$7)))","v":""},{"$f":"IF($E47=\"\",\"\",IF(INDEX('E_Tokovi izvora'!$A:$N,DA47,V$7)=\"\",\"\",INDEX('E_Tokovi izvora'!$A:$N,DA47,V$7)))","v":""},{"$f":"IF($E47=\"\",\"\",IF(INDEX('E_Tokovi izvora'!$A:$N,DB47,W$7)=\"\",\"\",INDEX('E_Tokovi izvora'!$A:$N,DB47,W$7)))","v":""},{"$f":"IF($E47=\"\",\"\",IF(INDEX('E_Tokovi izvora'!$A:$N,DC47,X$7)=\"\",\"\",INDEX('E_Tokovi izvora'!$A:$N,DC47,X$7)))","v":""},{"$f":"IF($E47=\"\",\"\",IF(INDEX('E_Tokovi izvora'!$A:$N,DD47,Y$7)=\"\",\"\",INDEX('E_Tokovi izvora'!$A:$N,DD47,Y$7)))","v":""},{"$f":"IF($E47=\"\",\"\",IF(INDEX('E_Tokovi izvora'!$A:$N,DE47,Z$7)=\"\",\"\",INDEX('E_Tokovi izvora'!$A:$N,DE47,Z$7)))","v":""},{"$f":"IF($E47=\"\",\"\",IF(INDEX('E_Tokovi izvora'!$A:$N,DF47,AA$7)=\"\",\"\",INDEX('E_Tokovi izvora'!$A:$N,DF47,AA$7)))","v":""},{"$f":"IF($E47=\"\",\"\",IF(INDEX('E_Tokovi izvora'!$A:$N,DG47,AB$7)=\"\",\"\",INDEX('E_Tokovi izvora'!$A:$N,DG47,AB$7)))","v":""},{"$f":"IF($E47=\"\",\"\",IF(INDEX('E_Tokovi izvora'!$A:$N,DH47,AC$7)=\"\",\"\",INDEX('E_Tokovi izvora'!$A:$N,DH47,AC$7)))","v":""},{"$f":"IF($E47=\"\",\"\",IF(INDEX('E_Tokovi izvora'!$A:$N,DI47,AD$7)=\"\",\"\",INDEX('E_Tokovi izvora'!$A:$N,DI47,AD$7)))","v":""},{"$f":"IF($E47=\"\",\"\",IF(INDEX('E_Tokovi izvora'!$A:$N,DJ47,AE$7)=\"\",\"\",INDEX('E_Tokovi izvora'!$A:$N,DJ47,AE$7)))","v":""},{"$f":"IF($E47=\"\",\"\",IF(INDEX('E_Tokovi izvora'!$A:$N,DK47,AF$7)=\"\",\"\",INDEX('E_Tokovi izvora'!$A:$N,DK47,AF$7)))","v":""},{"$f":"IF($E47=\"\",\"\",IF(INDEX('E_Tokovi izvora'!$A:$N,DL47,AG$7)=\"\",\"\",INDEX('E_Tokovi izvora'!$A:$N,DL47,AG$7)))","v":""},{"$f":"IF($E47=\"\",\"\",IF(INDEX('E_Tokovi izvora'!$A:$N,DM47,AH$7)=\"\",\"\",INDEX('E_Tokovi izvora'!$A:$N,DM47,AH$7)))","v":""},{"$f":"IF($E47=\"\",\"\",IF(INDEX('E_Tokovi izvora'!$A:$N,DN47,AI$7)=\"\",\"\",INDEX('E_Tokovi izvora'!$A:$N,DN47,AI$7)))","v":""},{"$f":"IF($E47=\"\",\"\",IF(INDEX('E_Tokovi izvora'!$A:$N,DO47,AJ$7)=\"\",\"\",INDEX('E_Tokovi izvora'!$A:$N,DO47,AJ$7)))","v":""},{"$f":"IF($E47=\"\",\"\",IF(INDEX('E_Tokovi izvora'!$A:$N,DP47,AK$7)=\"\",\"\",INDEX('E_Tokovi izvora'!$A:$N,DP47,AK$7)))","v":""},{"$f":"IF($E47=\"\",\"\",IF(INDEX('E_Tokovi izvora'!$A:$N,DQ47,AL$7)=\"\",\"\",INDEX('E_Tokovi izvora'!$A:$N,DQ47,AL$7)))","v":""},{"$f":"IF($E47=\"\",\"\",IF(INDEX('E_Tokovi izvora'!$A:$N,DR47,AM$7)=\"\",\"\",INDEX('E_Tokovi izvora'!$A:$N,DR47,AM$7)))","v":""},{"$f":"IF($E47=\"\",\"\",IF(INDEX('E_Tokovi izvora'!$A:$N,DS47,AN$7)=\"\",\"\",INDEX('E_Tokovi izvora'!$A:$N,DS47,AN$7)))","v":""},{"$f":"IF($E47=\"\",\"\",IF(INDEX('E_Tokovi izvora'!$A:$N,DT47,AO$7)=\"\",\"\",INDEX('E_Tokovi izvora'!$A:$N,DT47,AO$7)))","v":""},{"$f":"IF($E47=\"\",\"\",IF(INDEX('E_Tokovi izvora'!$A:$N,DU47,AP$7)=\"\",\"\",INDEX('E_Tokovi izvora'!$A:$N,DU47,AP$7)))","v":""},{"$f":"IF($E47=\"\",\"\",IF(INDEX('E_Tokovi izvora'!$A:$N,DV47,AQ$7)=\"\",\"\",INDEX('E_Tokovi izvora'!$A:$N,DV47,AQ$7)))","v":""},{"$f":"IF($E47=\"\",\"\",IF(INDEX('E_Tokovi izvora'!$A:$N,DW47,AR$7)=\"\",\"\",INDEX('E_Tokovi izvora'!$A:$N,DW47,AR$7)))","v":""},{"$f":"IF($E47=\"\",\"\",IF(INDEX('E_Tokovi izvora'!$A:$N,DX47,AS$7)=\"\",\"\",INDEX('E_Tokovi izvora'!$A:$N,DX47,AS$7)))","v":""},{"$f":"IF($E47=\"\",\"\",IF(INDEX('E_Tokovi izvora'!$A:$N,DY47,AT$7)=\"\",\"\",INDEX('E_Tokovi izvora'!$A:$N,DY47,AT$7)))","v":""},{"$f":"IF($E47=\"\",\"\",IF(INDEX('E_Tokovi izvora'!$A:$N,DZ47,AU$7)=\"\",\"\",INDEX('E_Tokovi izvora'!$A:$N,DZ47,AU$7)))","v":""},{"$f":"IF($E47=\"\",\"\",IF(INDEX('E_Tokovi izvora'!$A:$N,EA47,AV$7)=\"\",\"\",INDEX('E_Tokovi izvora'!$A:$N,EA47,AV$7)))","v":""},{"$f":"IF($E47=\"\",\"\",IF(INDEX('E_Tokovi izvora'!$A:$N,EB47,AW$7)=\"\",\"\",INDEX('E_Tokovi izvora'!$A:$N,EB47,AW$7)))","v":""},{"$f":"IF($E47=\"\",\"\",IF(INDEX('E_Tokovi izvora'!$A:$N,EC47,AX$7)=\"\",\"\",INDEX('E_Tokovi izvora'!$A:$N,EC47,AX$7)))","v":""},{"$f":"IF($E47=\"\",\"\",IF(INDEX('E_Tokovi izvora'!$A:$N,ED47,AY$7)=\"\",\"\",INDEX('E_Tokovi izvora'!$A:$N,ED47,AY$7)))","v":""},{"$f":"IF($E47=\"\",\"\",IF(INDEX('E_Tokovi izvora'!$A:$N,EE47,AZ$7)=\"\",\"\",INDEX('E_Tokovi izvora'!$A:$N,EE47,AZ$7)))","v":""},{"$f":"IF($E47=\"\",\"\",IF(INDEX('E_Tokovi izvora'!$A:$N,EF47,BA$7)=\"\",\"\",INDEX('E_Tokovi izvora'!$A:$N,EF47,BA$7)))","v":""},{"$f":"IF($E47=\"\",\"\",IF(INDEX('E_Tokovi izvora'!$A:$N,EG47,BB$7)=\"\",\"\",INDEX('E_Tokovi izvora'!$A:$N,EG47,BB$7)))","v":""},{"$f":"IF($E47=\"\",\"\",IF(INDEX('E_Tokovi izvora'!$A:$N,EH47,BC$7)=\"\",\"\",INDEX('E_Tokovi izvora'!$A:$N,EH47,BC$7)))","v":""},{"$f":"IF($E47=\"\",\"\",IF(INDEX('E_Tokovi izvora'!$A:$N,EI47,BD$7)=\"\",\"\",INDEX('E_Tokovi izvora'!$A:$N,EI47,BD$7)))","v":""},{"$f":"IF($E47=\"\",\"\",IF(INDEX('E_Tokovi izvora'!$A:$N,EJ47,BE$7)=\"\",\"\",INDEX('E_Tokovi izvora'!$A:$N,EJ47,BE$7)))","v":""},{"$f":"IF($E47=\"\",\"\",IF(INDEX('E_Tokovi izvora'!$A:$N,EK47,BF$7)=\"\",\"\",INDEX('E_Tokovi izvora'!$A:$N,EK47,BF$7)))","v":""},{"$f":"IF($E47=\"\",\"\",IF(INDEX('E_Tokovi izvora'!$A:$N,EL47,BG$7)=\"\",\"\",INDEX('E_Tokovi izvora'!$A:$N,EL47,BG$7)))","v":""},{"$f":"IF($E47=\"\",\"\",IF(INDEX('E_Tokovi izvora'!$A:$N,EM47,BH$7)=\"\",\"\",INDEX('E_Tokovi izvora'!$A:$N,EM47,BH$7)))","v":""},{"$f":"IF($E47=\"\",\"\",IF(INDEX('E_Tokovi izvora'!$A:$N,EN47,BI$7)=\"\",\"\",INDEX('E_Tokovi izvora'!$A:$N,EN47,BI$7)))","v":""},{"$f":"IF($E47=\"\",\"\",IF(INDEX('E_Tokovi izvora'!$A:$N,EO47,BJ$7)=\"\",\"\",INDEX('E_Tokovi izvora'!$A:$N,EO47,BJ$7)))","v":""},{"$f":"IF($E47=\"\",\"\",IF(INDEX('E_Tokovi izvora'!$A:$N,EP47,BK$7)=\"\",\"\",INDEX('E_Tokovi izvora'!$A:$N,EP47,BK$7)))","v":""},{"$f":"IF($E47=\"\",\"\",IF(INDEX('E_Tokovi izvora'!$A:$N,EQ47,BL$7)=\"\",\"\",INDEX('E_Tokovi izvora'!$A:$N,EQ47,BL$7)))","v":""},{"$f":"IF($E47=\"\",\"\",IF(INDEX('E_Tokovi izvora'!$A:$N,ER47,BM$7)=\"\",\"\",INDEX('E_Tokovi izvora'!$A:$N,ER47,BM$7)))","v":""},{"$f":"IF($E47=\"\",\"\",IF(INDEX('E_Tokovi izvora'!$A:$N,ES47,BN$7)=\"\",\"\",INDEX('E_Tokovi izvora'!$A:$N,ES47,BN$7)))","v":""},{"$f":"IF($E47=\"\",\"\",IF(INDEX('E_Tokovi izvora'!$A:$N,ET47,BO$7)=\"\",\"\",INDEX('E_Tokovi izvora'!$A:$N,ET47,BO$7)))","v":""},{"$f":"IF($E47=\"\",\"\",IF(INDEX('E_Tokovi izvora'!$A:$N,EU47,BP$7)=\"\",\"\",INDEX('E_Tokovi izvora'!$A:$N,EU47,BP$7)))","v":""},{"$f":"IF($E47=\"\",\"\",IF(INDEX('E_Tokovi izvora'!$A:$N,EV47,BQ$7)=\"\",\"\",INDEX('E_Tokovi izvora'!$A:$N,EV47,BQ$7)))","v":""},{"$f":"IF($E47=\"\",\"\",IF(INDEX('E_Tokovi izvora'!$A:$N,EW47,BR$7)=\"\",\"\",INDEX('E_Tokovi izvora'!$A:$N,EW47,BR$7)))","v":""},{"$f":"IF($E47=\"\",\"\",IF(INDEX('E_Tokovi izvora'!$A:$N,EX47,BS$7)=\"\",\"\",INDEX('E_Tokovi izvora'!$A:$N,EX47,BS$7)))","v":""},{"$f":"IF($E47=\"\",\"\",IF(INDEX('E_Tokovi izvora'!$A:$N,EY47,BT$7)=\"\",\"\",INDEX('E_Tokovi izvora'!$A:$N,EY47,BT$7)))","v":""},null,null,null,null,null,null,null,null,null,null,null,null,null,null,null,"SourceCategory_",{"$f":"INDEX('C_Opis postrojenja'!$A$226:$A$332,ROWS($CI$11:CI47))=\"ausblenden\"","v":false},"SourceStreamName_",null,2509,2511,2513,2515,2517,2519,2521,2521,2521,2521,2521,2524,2528,2529,2530,2537,2547,2547,2547,2547,2547,2547,2547,2538,2548,2548,2548,2548,2548,2548,2548,2539,2549,2549,2549,2549,2549,2549,2549,2540,2550,2550,2550,2550,2550,2550,2550,2541,2551,2551,2551,2551,2551,2551,2551,2542,2552,2552,2552,2552,2552,2552,2552,2558]
[null,{"$f":"IF(COUNTIF($CK$10:CK48,TRUE)>0,\"\",INDEX('C_Opis postrojenja'!$E$226:$E$242,ROWS($A$11:A48)))","v":""},{"$f":"IF($E48=\"\",\"\",INDEX('C_Opis postrojenja'!F:F,MATCH($B48,'C_Opis postrojenja'!$E:$E,0)))","v":""},{"$f":"IF($E48=\"\",\"\",INDEX('C_Opis postrojenja'!I:I,MATCH($B48,'C_Opis postrojenja'!$E:$E,0)))","v":""},{"$f":"IF($B48=\"\",\"\",INDEX('C_Opis postrojenja'!F:F,MATCH($CJ48,'C_Opis postrojenja'!$Q:$Q,0)))","v":""},{"$f":"IF($E48=\"\",\"\",INDEX('C_Opis postrojenja'!L:L,MATCH($CJ48,'C_Opis postrojenja'!$Q:$Q,0)))","v":""},{"$f":"IF($E48=\"\",\"\",INDEX('C_Opis postrojenja'!M:M,MATCH($CJ48,'C_Opis postrojenja'!$Q:$Q,0)))","v":""},{"$f":"IF($E48=\"\",\"\",INDEX('C_Opis postrojenja'!N:N,MATCH($CJ48,'C_Opis postrojenja'!$Q:$Q,0)))","v":""},{"$f":"IF($E48=\"\",\"\",IF(INDEX('E_Tokovi izvora'!$A:$N,CN48,I$7)=\"\",\"\",INDEX('E_Tokovi izvora'!$A:$N,CN48,I$7)))","v":""},{"$f":"IF($E48=\"\",\"\",IF(INDEX('E_Tokovi izvora'!$A:$N,CO48,J$7)=\"\",\"\",INDEX('E_Tokovi izvora'!$A:$N,CO48,J$7)))","v":""},{"$f":"IF($E48=\"\",\"\",IF(INDEX('E_Tokovi izvora'!$A:$N,CP48,K$7)=\"\",\"\",INDEX('E_Tokovi izvora'!$A:$N,CP48,K$7)))","v":""},{"$f":"IF($E48=\"\",\"\",IF(INDEX('E_Tokovi izvora'!$A:$N,CQ48,L$7)=\"\",\"\",INDEX('E_Tokovi izvora'!$A:$N,CQ48,L$7)))","v":""},{"$f":"IF($E48=\"\",\"\",IF(INDEX('E_Tokovi izvora'!$A:$N,CR48,M$7)=\"\",\"\",INDEX('E_Tokovi izvora'!$A:$N,CR48,M$7)))","v":""},{"$f":"IF($E48=\"\",\"\",IF(INDEX('E_Tokovi izvora'!$A:$N,CS48,N$7)=\"\",\"\",INDEX('E_Tokovi izvora'!$A:$N,CS48,N$7)))","v":""},{"$f":"IF($E48=\"\",\"\",IF(INDEX('E_Tokovi izvora'!$A:$N,CT48,O$7)=\"\",\"\",INDEX('E_Tokovi izvora'!$A:$N,CT48,O$7)))","v":""},{"$f":"IF($E48=\"\",\"\",IF(INDEX('E_Tokovi izvora'!$A:$N,CU48,P$7)=\"\",\"\",INDEX('E_Tokovi izvora'!$A:$N,CU48,P$7)))","v":""},{"$f":"IF($E48=\"\",\"\",IF(INDEX('E_Tokovi izvora'!$A:$N,CV48,Q$7)=\"\",\"\",INDEX('E_Tokovi izvora'!$A:$N,CV48,Q$7)))","v":""},{"$f":"IF($E48=\"\",\"\",IF(INDEX('E_Tokovi izvora'!$A:$N,CW48,R$7)=\"\",\"\",INDEX('E_Tokovi izvora'!$A:$N,CW48,R$7)))","v":""},{"$f":"IF($E48=\"\",\"\",IF(INDEX('E_Tokovi izvora'!$A:$N,CX48,S$7)=\"\",\"\",INDEX('E_Tokovi izvora'!$A:$N,CX48,S$7)))","v":""},{"$f":"IF($E48=\"\",\"\",IF(INDEX('E_Tokovi izvora'!$A:$N,CY48,T$7)=\"\",\"\",INDEX('E_Tokovi izvora'!$A:$N,CY48,T$7)))","v":""},{"$f":"IF($E48=\"\",\"\",IF(INDEX('E_Tokovi izvora'!$A:$N,CZ48,U$7)=\"\",\"\",INDEX('E_Tokovi izvora'!$A:$N,CZ48,U$7)))","v":""},{"$f":"IF($E48=\"\",\"\",IF(INDEX('E_Tokovi izvora'!$A:$N,DA48,V$7)=\"\",\"\",INDEX('E_Tokovi izvora'!$A:$N,DA48,V$7)))","v":""},{"$f":"IF($E48=\"\",\"\",IF(INDEX('E_Tokovi izvora'!$A:$N,DB48,W$7)=\"\",\"\",INDEX('E_Tokovi izvora'!$A:$N,DB48,W$7)))","v":""},{"$f":"IF($E48=\"\",\"\",IF(INDEX('E_Tokovi izvora'!$A:$N,DC48,X$7)=\"\",\"\",INDEX('E_Tokovi izvora'!$A:$N,DC48,X$7)))","v":""},{"$f":"IF($E48=\"\",\"\",IF(INDEX('E_Tokovi izvora'!$A:$N,DD48,Y$7)=\"\",\"\",INDEX('E_Tokovi izvora'!$A:$N,DD48,Y$7)))","v":""},{"$f":"IF($E48=\"\",\"\",IF(INDEX('E_Tokovi izvora'!$A:$N,DE48,Z$7)=\"\",\"\",INDEX('E_Tokovi izvora'!$A:$N,DE48,Z$7)))","v":""},{"$f":"IF($E48=\"\",\"\",IF(INDEX('E_Tokovi izvora'!$A:$N,DF48,AA$7)=\"\",\"\",INDEX('E_Tokovi izvora'!$A:$N,DF48,AA$7)))","v":""},{"$f":"IF($E48=\"\",\"\",IF(INDEX('E_Tokovi izvora'!$A:$N,DG48,AB$7)=\"\",\"\",INDEX('E_Tokovi izvora'!$A:$N,DG48,AB$7)))","v":""},{"$f":"IF($E48=\"\",\"\",IF(INDEX('E_Tokovi izvora'!$A:$N,DH48,AC$7)=\"\",\"\",INDEX('E_Tokovi izvora'!$A:$N,DH48,AC$7)))","v":""},{"$f":"IF($E48=\"\",\"\",IF(INDEX('E_Tokovi izvora'!$A:$N,DI48,AD$7)=\"\",\"\",INDEX('E_Tokovi izvora'!$A:$N,DI48,AD$7)))","v":""},{"$f":"IF($E48=\"\",\"\",IF(INDEX('E_Tokovi izvora'!$A:$N,DJ48,AE$7)=\"\",\"\",INDEX('E_Tokovi izvora'!$A:$N,DJ48,AE$7)))","v":""},{"$f":"IF($E48=\"\",\"\",IF(INDEX('E_Tokovi izvora'!$A:$N,DK48,AF$7)=\"\",\"\",INDEX('E_Tokovi izvora'!$A:$N,DK48,AF$7)))","v":""},{"$f":"IF($E48=\"\",\"\",IF(INDEX('E_Tokovi izvora'!$A:$N,DL48,AG$7)=\"\",\"\",INDEX('E_Tokovi izvora'!$A:$N,DL48,AG$7)))","v":""},{"$f":"IF($E48=\"\",\"\",IF(INDEX('E_Tokovi izvora'!$A:$N,DM48,AH$7)=\"\",\"\",INDEX('E_Tokovi izvora'!$A:$N,DM48,AH$7)))","v":""},{"$f":"IF($E48=\"\",\"\",IF(INDEX('E_Tokovi izvora'!$A:$N,DN48,AI$7)=\"\",\"\",INDEX('E_Tokovi izvora'!$A:$N,DN48,AI$7)))","v":""},{"$f":"IF($E48=\"\",\"\",IF(INDEX('E_Tokovi izvora'!$A:$N,DO48,AJ$7)=\"\",\"\",INDEX('E_Tokovi izvora'!$A:$N,DO48,AJ$7)))","v":""},{"$f":"IF($E48=\"\",\"\",IF(INDEX('E_Tokovi izvora'!$A:$N,DP48,AK$7)=\"\",\"\",INDEX('E_Tokovi izvora'!$A:$N,DP48,AK$7)))","v":""},{"$f":"IF($E48=\"\",\"\",IF(INDEX('E_Tokovi izvora'!$A:$N,DQ48,AL$7)=\"\",\"\",INDEX('E_Tokovi izvora'!$A:$N,DQ48,AL$7)))","v":""},{"$f":"IF($E48=\"\",\"\",IF(INDEX('E_Tokovi izvora'!$A:$N,DR48,AM$7)=\"\",\"\",INDEX('E_Tokovi izvora'!$A:$N,DR48,AM$7)))","v":""},{"$f":"IF($E48=\"\",\"\",IF(INDEX('E_Tokovi izvora'!$A:$N,DS48,AN$7)=\"\",\"\",INDEX('E_Tokovi izvora'!$A:$N,DS48,AN$7)))","v":""},{"$f":"IF($E48=\"\",\"\",IF(INDEX('E_Tokovi izvora'!$A:$N,DT48,AO$7)=\"\",\"\",INDEX('E_Tokovi izvora'!$A:$N,DT48,AO$7)))","v":""},{"$f":"IF($E48=\"\",\"\",IF(INDEX('E_Tokovi izvora'!$A:$N,DU48,AP$7)=\"\",\"\",INDEX('E_Tokovi izvora'!$A:$N,DU48,AP$7)))","v":""},{"$f":"IF($E48=\"\",\"\",IF(INDEX('E_Tokovi izvora'!$A:$N,DV48,AQ$7)=\"\",\"\",INDEX('E_Tokovi izvora'!$A:$N,DV48,AQ$7)))","v":""},{"$f":"IF($E48=\"\",\"\",IF(INDEX('E_Tokovi izvora'!$A:$N,DW48,AR$7)=\"\",\"\",INDEX('E_Tokovi izvora'!$A:$N,DW48,AR$7)))","v":""},{"$f":"IF($E48=\"\",\"\",IF(INDEX('E_Tokovi izvora'!$A:$N,DX48,AS$7)=\"\",\"\",INDEX('E_Tokovi izvora'!$A:$N,DX48,AS$7)))","v":""},{"$f":"IF($E48=\"\",\"\",IF(INDEX('E_Tokovi izvora'!$A:$N,DY48,AT$7)=\"\",\"\",INDEX('E_Tokovi izvora'!$A:$N,DY48,AT$7)))","v":""},{"$f":"IF($E48=\"\",\"\",IF(INDEX('E_Tokovi izvora'!$A:$N,DZ48,AU$7)=\"\",\"\",INDEX('E_Tokovi izvora'!$A:$N,DZ48,AU$7)))","v":""},{"$f":"IF($E48=\"\",\"\",IF(INDEX('E_Tokovi izvora'!$A:$N,EA48,AV$7)=\"\",\"\",INDEX('E_Tokovi izvora'!$A:$N,EA48,AV$7)))","v":""},{"$f":"IF($E48=\"\",\"\",IF(INDEX('E_Tokovi izvora'!$A:$N,EB48,AW$7)=\"\",\"\",INDEX('E_Tokovi izvora'!$A:$N,EB48,AW$7)))","v":""},{"$f":"IF($E48=\"\",\"\",IF(INDEX('E_Tokovi izvora'!$A:$N,EC48,AX$7)=\"\",\"\",INDEX('E_Tokovi izvora'!$A:$N,EC48,AX$7)))","v":""},{"$f":"IF($E48=\"\",\"\",IF(INDEX('E_Tokovi izvora'!$A:$N,ED48,AY$7)=\"\",\"\",INDEX('E_Tokovi izvora'!$A:$N,ED48,AY$7)))","v":""},{"$f":"IF($E48=\"\",\"\",IF(INDEX('E_Tokovi izvora'!$A:$N,EE48,AZ$7)=\"\",\"\",INDEX('E_Tokovi izvora'!$A:$N,EE48,AZ$7)))","v":""},{"$f":"IF($E48=\"\",\"\",IF(INDEX('E_Tokovi izvora'!$A:$N,EF48,BA$7)=\"\",\"\",INDEX('E_Tokovi izvora'!$A:$N,EF48,BA$7)))","v":""},{"$f":"IF($E48=\"\",\"\",IF(INDEX('E_Tokovi izvora'!$A:$N,EG48,BB$7)=\"\",\"\",INDEX('E_Tokovi izvora'!$A:$N,EG48,BB$7)))","v":""},{"$f":"IF($E48=\"\",\"\",IF(INDEX('E_Tokovi izvora'!$A:$N,EH48,BC$7)=\"\",\"\",INDEX('E_Tokovi izvora'!$A:$N,EH48,BC$7)))","v":""},{"$f":"IF($E48=\"\",\"\",IF(INDEX('E_Tokovi izvora'!$A:$N,EI48,BD$7)=\"\",\"\",INDEX('E_Tokovi izvora'!$A:$N,EI48,BD$7)))","v":""},{"$f":"IF($E48=\"\",\"\",IF(INDEX('E_Tokovi izvora'!$A:$N,EJ48,BE$7)=\"\",\"\",INDEX('E_Tokovi izvora'!$A:$N,EJ48,BE$7)))","v":""},{"$f":"IF($E48=\"\",\"\",IF(INDEX('E_Tokovi izvora'!$A:$N,EK48,BF$7)=\"\",\"\",INDEX('E_Tokovi izvora'!$A:$N,EK48,BF$7)))","v":""},{"$f":"IF($E48=\"\",\"\",IF(INDEX('E_Tokovi izvora'!$A:$N,EL48,BG$7)=\"\",\"\",INDEX('E_Tokovi izvora'!$A:$N,EL48,BG$7)))","v":""},{"$f":"IF($E48=\"\",\"\",IF(INDEX('E_Tokovi izvora'!$A:$N,EM48,BH$7)=\"\",\"\",INDEX('E_Tokovi izvora'!$A:$N,EM48,BH$7)))","v":""},{"$f":"IF($E48=\"\",\"\",IF(INDEX('E_Tokovi izvora'!$A:$N,EN48,BI$7)=\"\",\"\",INDEX('E_Tokovi izvora'!$A:$N,EN48,BI$7)))","v":""},{"$f":"IF($E48=\"\",\"\",IF(INDEX('E_Tokovi izvora'!$A:$N,EO48,BJ$7)=\"\",\"\",INDEX('E_Tokovi izvora'!$A:$N,EO48,BJ$7)))","v":""},{"$f":"IF($E48=\"\",\"\",IF(INDEX('E_Tokovi izvora'!$A:$N,EP48,BK$7)=\"\",\"\",INDEX('E_Tokovi izvora'!$A:$N,EP48,BK$7)))","v":""},{"$f":"IF($E48=\"\",\"\",IF(INDEX('E_Tokovi izvora'!$A:$N,EQ48,BL$7)=\"\",\"\",INDEX('E_Tokovi izvora'!$A:$N,EQ48,BL$7)))","v":""},{"$f":"IF($E48=\"\",\"\",IF(INDEX('E_Tokovi izvora'!$A:$N,ER48,BM$7)=\"\",\"\",INDEX('E_Tokovi izvora'!$A:$N,ER48,BM$7)))","v":""},{"$f":"IF($E48=\"\",\"\",IF(INDEX('E_Tokovi izvora'!$A:$N,ES48,BN$7)=\"\",\"\",INDEX('E_Tokovi izvora'!$A:$N,ES48,BN$7)))","v":""},{"$f":"IF($E48=\"\",\"\",IF(INDEX('E_Tokovi izvora'!$A:$N,ET48,BO$7)=\"\",\"\",INDEX('E_Tokovi izvora'!$A:$N,ET48,BO$7)))","v":""},{"$f":"IF($E48=\"\",\"\",IF(INDEX('E_Tokovi izvora'!$A:$N,EU48,BP$7)=\"\",\"\",INDEX('E_Tokovi izvora'!$A:$N,EU48,BP$7)))","v":""},{"$f":"IF($E48=\"\",\"\",IF(INDEX('E_Tokovi izvora'!$A:$N,EV48,BQ$7)=\"\",\"\",INDEX('E_Tokovi izvora'!$A:$N,EV48,BQ$7)))","v":""},{"$f":"IF($E48=\"\",\"\",IF(INDEX('E_Tokovi izvora'!$A:$N,EW48,BR$7)=\"\",\"\",INDEX('E_Tokovi izvora'!$A:$N,EW48,BR$7)))","v":""},{"$f":"IF($E48=\"\",\"\",IF(INDEX('E_Tokovi izvora'!$A:$N,EX48,BS$7)=\"\",\"\",INDEX('E_Tokovi izvora'!$A:$N,EX48,BS$7)))","v":""},{"$f":"IF($E48=\"\",\"\",IF(INDEX('E_Tokovi izvora'!$A:$N,EY48,BT$7)=\"\",\"\",INDEX('E_Tokovi izvora'!$A:$N,EY48,BT$7)))","v":""},null,null,null,null,null,null,null,null,null,null,null,null,null,null,null,"SourceCategory_",{"$f":"INDEX('C_Opis postrojenja'!$A$226:$A$332,ROWS($CI$11:CI48))=\"ausblenden\"","v":false},"SourceStreamName_",null,2575,2577,2579,2581,2583,2585,2587,2587,2587,2587,2587,2590,2594,2595,2596,2603,2613,2613,2613,2613,2613,2613,2613,2604,2614,2614,2614,2614,2614,2614,2614,2605,2615,2615,2615,2615,2615,2615,2615,2606,2616,2616,2616,2616,2616,2616,2616,2607,2617,2617,2617,2617,2617,2617,2617,2608,2618,2618,2618,2618,2618,2618,2618,2624]
[null,{"$f":"IF(COUNTIF($CK$10:CK49,TRUE)>0,\"\",INDEX('C_Opis postrojenja'!$E$226:$E$242,ROWS($A$11:A49)))","v":""},{"$f":"IF($E49=\"\",\"\",INDEX('C_Opis postrojenja'!F:F,MATCH($B49,'C_Opis postrojenja'!$E:$E,0)))","v":""},{"$f":"IF($E49=\"\",\"\",INDEX('C_Opis postrojenja'!I:I,MATCH($B49,'C_Opis postrojenja'!$E:$E,0)))","v":""},{"$f":"IF($B49=\"\",\"\",INDEX('C_Opis postrojenja'!F:F,MATCH($CJ49,'C_Opis postrojenja'!$Q:$Q,0)))","v":""},{"$f":"IF($E49=\"\",\"\",INDEX('C_Opis postrojenja'!L:L,MATCH($CJ49,'C_Opis postrojenja'!$Q:$Q,0)))","v":""},{"$f":"IF($E49=\"\",\"\",INDEX('C_Opis postrojenja'!M:M,MATCH($CJ49,'C_Opis postrojenja'!$Q:$Q,0)))","v":""},{"$f":"IF($E49=\"\",\"\",INDEX('C_Opis postrojenja'!N:N,MATCH($CJ49,'C_Opis postrojenja'!$Q:$Q,0)))","v":""},{"$f":"IF($E49=\"\",\"\",IF(INDEX('E_Tokovi izvora'!$A:$N,CN49,I$7)=\"\",\"\",INDEX('E_Tokovi izvora'!$A:$N,CN49,I$7)))","v":""},{"$f":"IF($E49=\"\",\"\",IF(INDEX('E_Tokovi izvora'!$A:$N,CO49,J$7)=\"\",\"\",INDEX('E_Tokovi izvora'!$A:$N,CO49,J$7)))","v":""},{"$f":"IF($E49=\"\",\"\",IF(INDEX('E_Tokovi izvora'!$A:$N,CP49,K$7)=\"\",\"\",INDEX('E_Tokovi izvora'!$A:$N,CP49,K$7)))","v":""},{"$f":"IF($E49=\"\",\"\",IF(INDEX('E_Tokovi izvora'!$A:$N,CQ49,L$7)=\"\",\"\",INDEX('E_Tokovi izvora'!$A:$N,CQ49,L$7)))","v":""},{"$f":"IF($E49=\"\",\"\",IF(INDEX('E_Tokovi izvora'!$A:$N,CR49,M$7)=\"\",\"\",INDEX('E_Tokovi izvora'!$A:$N,CR49,M$7)))","v":""},{"$f":"IF($E49=\"\",\"\",IF(INDEX('E_Tokovi izvora'!$A:$N,CS49,N$7)=\"\",\"\",INDEX('E_Tokovi izvora'!$A:$N,CS49,N$7)))","v":""},{"$f":"IF($E49=\"\",\"\",IF(INDEX('E_Tokovi izvora'!$A:$N,CT49,O$7)=\"\",\"\",INDEX('E_Tokovi izvora'!$A:$N,CT49,O$7)))","v":""},{"$f":"IF($E49=\"\",\"\",IF(INDEX('E_Tokovi izvora'!$A:$N,CU49,P$7)=\"\",\"\",INDEX('E_Tokovi izvora'!$A:$N,CU49,P$7)))","v":""},{"$f":"IF($E49=\"\",\"\",IF(INDEX('E_Tokovi izvora'!$A:$N,CV49,Q$7)=\"\",\"\",INDEX('E_Tokovi izvora'!$A:$N,CV49,Q$7)))","v":""},{"$f":"IF($E49=\"\",\"\",IF(INDEX('E_Tokovi izvora'!$A:$N,CW49,R$7)=\"\",\"\",INDEX('E_Tokovi izvora'!$A:$N,CW49,R$7)))","v":""},{"$f":"IF($E49=\"\",\"\",IF(INDEX('E_Tokovi izvora'!$A:$N,CX49,S$7)=\"\",\"\",INDEX('E_Tokovi izvora'!$A:$N,CX49,S$7)))","v":""},{"$f":"IF($E49=\"\",\"\",IF(INDEX('E_Tokovi izvora'!$A:$N,CY49,T$7)=\"\",\"\",INDEX('E_Tokovi izvora'!$A:$N,CY49,T$7)))","v":""},{"$f":"IF($E49=\"\",\"\",IF(INDEX('E_Tokovi izvora'!$A:$N,CZ49,U$7)=\"\",\"\",INDEX('E_Tokovi izvora'!$A:$N,CZ49,U$7)))","v":""},{"$f":"IF($E49=\"\",\"\",IF(INDEX('E_Tokovi izvora'!$A:$N,DA49,V$7)=\"\",\"\",INDEX('E_Tokovi izvora'!$A:$N,DA49,V$7)))","v":""},{"$f":"IF($E49=\"\",\"\",IF(INDEX('E_Tokovi izvora'!$A:$N,DB49,W$7)=\"\",\"\",INDEX('E_Tokovi izvora'!$A:$N,DB49,W$7)))","v":""},{"$f":"IF($E49=\"\",\"\",IF(INDEX('E_Tokovi izvora'!$A:$N,DC49,X$7)=\"\",\"\",INDEX('E_Tokovi izvora'!$A:$N,DC49,X$7)))","v":""},{"$f":"IF($E49=\"\",\"\",IF(INDEX('E_Tokovi izvora'!$A:$N,DD49,Y$7)=\"\",\"\",INDEX('E_Tokovi izvora'!$A:$N,DD49,Y$7)))","v":""},{"$f":"IF($E49=\"\",\"\",IF(INDEX('E_Tokovi izvora'!$A:$N,DE49,Z$7)=\"\",\"\",INDEX('E_Tokovi izvora'!$A:$N,DE49,Z$7)))","v":""},{"$f":"IF($E49=\"\",\"\",IF(INDEX('E_Tokovi izvora'!$A:$N,DF49,AA$7)=\"\",\"\",INDEX('E_Tokovi izvora'!$A:$N,DF49,AA$7)))","v":""},{"$f":"IF($E49=\"\",\"\",IF(INDEX('E_Tokovi izvora'!$A:$N,DG49,AB$7)=\"\",\"\",INDEX('E_Tokovi izvora'!$A:$N,DG49,AB$7)))","v":""},{"$f":"IF($E49=\"\",\"\",IF(INDEX('E_Tokovi izvora'!$A:$N,DH49,AC$7)=\"\",\"\",INDEX('E_Tokovi izvora'!$A:$N,DH49,AC$7)))","v":""},{"$f":"IF($E49=\"\",\"\",IF(INDEX('E_Tokovi izvora'!$A:$N,DI49,AD$7)=\"\",\"\",INDEX('E_Tokovi izvora'!$A:$N,DI49,AD$7)))","v":""},{"$f":"IF($E49=\"\",\"\",IF(INDEX('E_Tokovi izvora'!$A:$N,DJ49,AE$7)=\"\",\"\",INDEX('E_Tokovi izvora'!$A:$N,DJ49,AE$7)))","v":""},{"$f":"IF($E49=\"\",\"\",IF(INDEX('E_Tokovi izvora'!$A:$N,DK49,AF$7)=\"\",\"\",INDEX('E_Tokovi izvora'!$A:$N,DK49,AF$7)))","v":""},{"$f":"IF($E49=\"\",\"\",IF(INDEX('E_Tokovi izvora'!$A:$N,DL49,AG$7)=\"\",\"\",INDEX('E_Tokovi izvora'!$A:$N,DL49,AG$7)))","v":""},{"$f":"IF($E49=\"\",\"\",IF(INDEX('E_Tokovi izvora'!$A:$N,DM49,AH$7)=\"\",\"\",INDEX('E_Tokovi izvora'!$A:$N,DM49,AH$7)))","v":""},{"$f":"IF($E49=\"\",\"\",IF(INDEX('E_Tokovi izvora'!$A:$N,DN49,AI$7)=\"\",\"\",INDEX('E_Tokovi izvora'!$A:$N,DN49,AI$7)))","v":""},{"$f":"IF($E49=\"\",\"\",IF(INDEX('E_Tokovi izvora'!$A:$N,DO49,AJ$7)=\"\",\"\",INDEX('E_Tokovi izvora'!$A:$N,DO49,AJ$7)))","v":""},{"$f":"IF($E49=\"\",\"\",IF(INDEX('E_Tokovi izvora'!$A:$N,DP49,AK$7)=\"\",\"\",INDEX('E_Tokovi izvora'!$A:$N,DP49,AK$7)))","v":""},{"$f":"IF($E49=\"\",\"\",IF(INDEX('E_Tokovi izvora'!$A:$N,DQ49,AL$7)=\"\",\"\",INDEX('E_Tokovi izvora'!$A:$N,DQ49,AL$7)))","v":""},{"$f":"IF($E49=\"\",\"\",IF(INDEX('E_Tokovi izvora'!$A:$N,DR49,AM$7)=\"\",\"\",INDEX('E_Tokovi izvora'!$A:$N,DR49,AM$7)))","v":""},{"$f":"IF($E49=\"\",\"\",IF(INDEX('E_Tokovi izvora'!$A:$N,DS49,AN$7)=\"\",\"\",INDEX('E_Tokovi izvora'!$A:$N,DS49,AN$7)))","v":""},{"$f":"IF($E49=\"\",\"\",IF(INDEX('E_Tokovi izvora'!$A:$N,DT49,AO$7)=\"\",\"\",INDEX('E_Tokovi izvora'!$A:$N,DT49,AO$7)))","v":""},{"$f":"IF($E49=\"\",\"\",IF(INDEX('E_Tokovi izvora'!$A:$N,DU49,AP$7)=\"\",\"\",INDEX('E_Tokovi izvora'!$A:$N,DU49,AP$7)))","v":""},{"$f":"IF($E49=\"\",\"\",IF(INDEX('E_Tokovi izvora'!$A:$N,DV49,AQ$7)=\"\",\"\",INDEX('E_Tokovi izvora'!$A:$N,DV49,AQ$7)))","v":""},{"$f":"IF($E49=\"\",\"\",IF(INDEX('E_Tokovi izvora'!$A:$N,DW49,AR$7)=\"\",\"\",INDEX('E_Tokovi izvora'!$A:$N,DW49,AR$7)))","v":""},{"$f":"IF($E49=\"\",\"\",IF(INDEX('E_Tokovi izvora'!$A:$N,DX49,AS$7)=\"\",\"\",INDEX('E_Tokovi izvora'!$A:$N,DX49,AS$7)))","v":""},{"$f":"IF($E49=\"\",\"\",IF(INDEX('E_Tokovi izvora'!$A:$N,DY49,AT$7)=\"\",\"\",INDEX('E_Tokovi izvora'!$A:$N,DY49,AT$7)))","v":""},{"$f":"IF($E49=\"\",\"\",IF(INDEX('E_Tokovi izvora'!$A:$N,DZ49,AU$7)=\"\",\"\",INDEX('E_Tokovi izvora'!$A:$N,DZ49,AU$7)))","v":""},{"$f":"IF($E49=\"\",\"\",IF(INDEX('E_Tokovi izvora'!$A:$N,EA49,AV$7)=\"\",\"\",INDEX('E_Tokovi izvora'!$A:$N,EA49,AV$7)))","v":""},{"$f":"IF($E49=\"\",\"\",IF(INDEX('E_Tokovi izvora'!$A:$N,EB49,AW$7)=\"\",\"\",INDEX('E_Tokovi izvora'!$A:$N,EB49,AW$7)))","v":""},{"$f":"IF($E49=\"\",\"\",IF(INDEX('E_Tokovi izvora'!$A:$N,EC49,AX$7)=\"\",\"\",INDEX('E_Tokovi izvora'!$A:$N,EC49,AX$7)))","v":""},{"$f":"IF($E49=\"\",\"\",IF(INDEX('E_Tokovi izvora'!$A:$N,ED49,AY$7)=\"\",\"\",INDEX('E_Tokovi izvora'!$A:$N,ED49,AY$7)))","v":""},{"$f":"IF($E49=\"\",\"\",IF(INDEX('E_Tokovi izvora'!$A:$N,EE49,AZ$7)=\"\",\"\",INDEX('E_Tokovi izvora'!$A:$N,EE49,AZ$7)))","v":""},{"$f":"IF($E49=\"\",\"\",IF(INDEX('E_Tokovi izvora'!$A:$N,EF49,BA$7)=\"\",\"\",INDEX('E_Tokovi izvora'!$A:$N,EF49,BA$7)))","v":""},{"$f":"IF($E49=\"\",\"\",IF(INDEX('E_Tokovi izvora'!$A:$N,EG49,BB$7)=\"\",\"\",INDEX('E_Tokovi izvora'!$A:$N,EG49,BB$7)))","v":""},{"$f":"IF($E49=\"\",\"\",IF(INDEX('E_Tokovi izvora'!$A:$N,EH49,BC$7)=\"\",\"\",INDEX('E_Tokovi izvora'!$A:$N,EH49,BC$7)))","v":""},{"$f":"IF($E49=\"\",\"\",IF(INDEX('E_Tokovi izvora'!$A:$N,EI49,BD$7)=\"\",\"\",INDEX('E_Tokovi izvora'!$A:$N,EI49,BD$7)))","v":""},{"$f":"IF($E49=\"\",\"\",IF(INDEX('E_Tokovi izvora'!$A:$N,EJ49,BE$7)=\"\",\"\",INDEX('E_Tokovi izvora'!$A:$N,EJ49,BE$7)))","v":""},{"$f":"IF($E49=\"\",\"\",IF(INDEX('E_Tokovi izvora'!$A:$N,EK49,BF$7)=\"\",\"\",INDEX('E_Tokovi izvora'!$A:$N,EK49,BF$7)))","v":""},{"$f":"IF($E49=\"\",\"\",IF(INDEX('E_Tokovi izvora'!$A:$N,EL49,BG$7)=\"\",\"\",INDEX('E_Tokovi izvora'!$A:$N,EL49,BG$7)))","v":""},{"$f":"IF($E49=\"\",\"\",IF(INDEX('E_Tokovi izvora'!$A:$N,EM49,BH$7)=\"\",\"\",INDEX('E_Tokovi izvora'!$A:$N,EM49,BH$7)))","v":""},{"$f":"IF($E49=\"\",\"\",IF(INDEX('E_Tokovi izvora'!$A:$N,EN49,BI$7)=\"\",\"\",INDEX('E_Tokovi izvora'!$A:$N,EN49,BI$7)))","v":""},{"$f":"IF($E49=\"\",\"\",IF(INDEX('E_Tokovi izvora'!$A:$N,EO49,BJ$7)=\"\",\"\",INDEX('E_Tokovi izvora'!$A:$N,EO49,BJ$7)))","v":""},{"$f":"IF($E49=\"\",\"\",IF(INDEX('E_Tokovi izvora'!$A:$N,EP49,BK$7)=\"\",\"\",INDEX('E_Tokovi izvora'!$A:$N,EP49,BK$7)))","v":""},{"$f":"IF($E49=\"\",\"\",IF(INDEX('E_Tokovi izvora'!$A:$N,EQ49,BL$7)=\"\",\"\",INDEX('E_Tokovi izvora'!$A:$N,EQ49,BL$7)))","v":""},{"$f":"IF($E49=\"\",\"\",IF(INDEX('E_Tokovi izvora'!$A:$N,ER49,BM$7)=\"\",\"\",INDEX('E_Tokovi izvora'!$A:$N,ER49,BM$7)))","v":""},{"$f":"IF($E49=\"\",\"\",IF(INDEX('E_Tokovi izvora'!$A:$N,ES49,BN$7)=\"\",\"\",INDEX('E_Tokovi izvora'!$A:$N,ES49,BN$7)))","v":""},{"$f":"IF($E49=\"\",\"\",IF(INDEX('E_Tokovi izvora'!$A:$N,ET49,BO$7)=\"\",\"\",INDEX('E_Tokovi izvora'!$A:$N,ET49,BO$7)))","v":""},{"$f":"IF($E49=\"\",\"\",IF(INDEX('E_Tokovi izvora'!$A:$N,EU49,BP$7)=\"\",\"\",INDEX('E_Tokovi izvora'!$A:$N,EU49,BP$7)))","v":""},{"$f":"IF($E49=\"\",\"\",IF(INDEX('E_Tokovi izvora'!$A:$N,EV49,BQ$7)=\"\",\"\",INDEX('E_Tokovi izvora'!$A:$N,EV49,BQ$7)))","v":""},{"$f":"IF($E49=\"\",\"\",IF(INDEX('E_Tokovi izvora'!$A:$N,EW49,BR$7)=\"\",\"\",INDEX('E_Tokovi izvora'!$A:$N,EW49,BR$7)))","v":""},{"$f":"IF($E49=\"\",\"\",IF(INDEX('E_Tokovi izvora'!$A:$N,EX49,BS$7)=\"\",\"\",INDEX('E_Tokovi izvora'!$A:$N,EX49,BS$7)))","v":""},{"$f":"IF($E49=\"\",\"\",IF(INDEX('E_Tokovi izvora'!$A:$N,EY49,BT$7)=\"\",\"\",INDEX('E_Tokovi izvora'!$A:$N,EY49,BT$7)))","v":""},null,null,null,null,null,null,null,null,null,null,null,null,null,null,null,"SourceCategory_",{"$f":"INDEX('C_Opis postrojenja'!$A$226:$A$332,ROWS($CI$11:CI49))=\"ausblenden\"","v":false},"SourceStreamName_",null,2641,2643,2645,2647,2649,2651,2653,2653,2653,2653,2653,2656,2660,2661,2662,2669,2679,2679,2679,2679,2679,2679,2679,2670,2680,2680,2680,2680,2680,2680,2680,2671,2681,2681,2681,2681,2681,2681,2681,2672,2682,2682,2682,2682,2682,2682,2682,2673,2683,2683,2683,2683,2683,2683,2683,2674,2684,2684,2684,2684,2684,2684,2684,2690]
[null,{"$f":"IF(COUNTIF($CK$10:CK50,TRUE)>0,\"\",INDEX('C_Opis postrojenja'!$E$226:$E$242,ROWS($A$11:A50)))","v":""},{"$f":"IF($E50=\"\",\"\",INDEX('C_Opis postrojenja'!F:F,MATCH($B50,'C_Opis postrojenja'!$E:$E,0)))","v":""},{"$f":"IF($E50=\"\",\"\",INDEX('C_Opis postrojenja'!I:I,MATCH($B50,'C_Opis postrojenja'!$E:$E,0)))","v":""},{"$f":"IF($B50=\"\",\"\",INDEX('C_Opis postrojenja'!F:F,MATCH($CJ50,'C_Opis postrojenja'!$Q:$Q,0)))","v":""},{"$f":"IF($E50=\"\",\"\",INDEX('C_Opis postrojenja'!L:L,MATCH($CJ50,'C_Opis postrojenja'!$Q:$Q,0)))","v":""},{"$f":"IF($E50=\"\",\"\",INDEX('C_Opis postrojenja'!M:M,MATCH($CJ50,'C_Opis postrojenja'!$Q:$Q,0)))","v":""},{"$f":"IF($E50=\"\",\"\",INDEX('C_Opis postrojenja'!N:N,MATCH($CJ50,'C_Opis postrojenja'!$Q:$Q,0)))","v":""},{"$f":"IF($E50=\"\",\"\",IF(INDEX('E_Tokovi izvora'!$A:$N,CN50,I$7)=\"\",\"\",INDEX('E_Tokovi izvora'!$A:$N,CN50,I$7)))","v":""},{"$f":"IF($E50=\"\",\"\",IF(INDEX('E_Tokovi izvora'!$A:$N,CO50,J$7)=\"\",\"\",INDEX('E_Tokovi izvora'!$A:$N,CO50,J$7)))","v":""},{"$f":"IF($E50=\"\",\"\",IF(INDEX('E_Tokovi izvora'!$A:$N,CP50,K$7)=\"\",\"\",INDEX('E_Tokovi izvora'!$A:$N,CP50,K$7)))","v":""},{"$f":"IF($E50=\"\",\"\",IF(INDEX('E_Tokovi izvora'!$A:$N,CQ50,L$7)=\"\",\"\",INDEX('E_Tokovi izvora'!$A:$N,CQ50,L$7)))","v":""},{"$f":"IF($E50=\"\",\"\",IF(INDEX('E_Tokovi izvora'!$A:$N,CR50,M$7)=\"\",\"\",INDEX('E_Tokovi izvora'!$A:$N,CR50,M$7)))","v":""},{"$f":"IF($E50=\"\",\"\",IF(INDEX('E_Tokovi izvora'!$A:$N,CS50,N$7)=\"\",\"\",INDEX('E_Tokovi izvora'!$A:$N,CS50,N$7)))","v":""},{"$f":"IF($E50=\"\",\"\",IF(INDEX('E_Tokovi izvora'!$A:$N,CT50,O$7)=\"\",\"\",INDEX('E_Tokovi izvora'!$A:$N,CT50,O$7)))","v":""},{"$f":"IF($E50=\"\",\"\",IF(INDEX('E_Tokovi izvora'!$A:$N,CU50,P$7)=\"\",\"\",INDEX('E_Tokovi izvora'!$A:$N,CU50,P$7)))","v":""},{"$f":"IF($E50=\"\",\"\",IF(INDEX('E_Tokovi izvora'!$A:$N,CV50,Q$7)=\"\",\"\",INDEX('E_Tokovi izvora'!$A:$N,CV50,Q$7)))","v":""},{"$f":"IF($E50=\"\",\"\",IF(INDEX('E_Tokovi izvora'!$A:$N,CW50,R$7)=\"\",\"\",INDEX('E_Tokovi izvora'!$A:$N,CW50,R$7)))","v":""},{"$f":"IF($E50=\"\",\"\",IF(INDEX('E_Tokovi izvora'!$A:$N,CX50,S$7)=\"\",\"\",INDEX('E_Tokovi izvora'!$A:$N,CX50,S$7)))","v":""},{"$f":"IF($E50=\"\",\"\",IF(INDEX('E_Tokovi izvora'!$A:$N,CY50,T$7)=\"\",\"\",INDEX('E_Tokovi izvora'!$A:$N,CY50,T$7)))","v":""},{"$f":"IF($E50=\"\",\"\",IF(INDEX('E_Tokovi izvora'!$A:$N,CZ50,U$7)=\"\",\"\",INDEX('E_Tokovi izvora'!$A:$N,CZ50,U$7)))","v":""},{"$f":"IF($E50=\"\",\"\",IF(INDEX('E_Tokovi izvora'!$A:$N,DA50,V$7)=\"\",\"\",INDEX('E_Tokovi izvora'!$A:$N,DA50,V$7)))","v":""},{"$f":"IF($E50=\"\",\"\",IF(INDEX('E_Tokovi izvora'!$A:$N,DB50,W$7)=\"\",\"\",INDEX('E_Tokovi izvora'!$A:$N,DB50,W$7)))","v":""},{"$f":"IF($E50=\"\",\"\",IF(INDEX('E_Tokovi izvora'!$A:$N,DC50,X$7)=\"\",\"\",INDEX('E_Tokovi izvora'!$A:$N,DC50,X$7)))","v":""},{"$f":"IF($E50=\"\",\"\",IF(INDEX('E_Tokovi izvora'!$A:$N,DD50,Y$7)=\"\",\"\",INDEX('E_Tokovi izvora'!$A:$N,DD50,Y$7)))","v":""},{"$f":"IF($E50=\"\",\"\",IF(INDEX('E_Tokovi izvora'!$A:$N,DE50,Z$7)=\"\",\"\",INDEX('E_Tokovi izvora'!$A:$N,DE50,Z$7)))","v":""},{"$f":"IF($E50=\"\",\"\",IF(INDEX('E_Tokovi izvora'!$A:$N,DF50,AA$7)=\"\",\"\",INDEX('E_Tokovi izvora'!$A:$N,DF50,AA$7)))","v":""},{"$f":"IF($E50=\"\",\"\",IF(INDEX('E_Tokovi izvora'!$A:$N,DG50,AB$7)=\"\",\"\",INDEX('E_Tokovi izvora'!$A:$N,DG50,AB$7)))","v":""},{"$f":"IF($E50=\"\",\"\",IF(INDEX('E_Tokovi izvora'!$A:$N,DH50,AC$7)=\"\",\"\",INDEX('E_Tokovi izvora'!$A:$N,DH50,AC$7)))","v":""},{"$f":"IF($E50=\"\",\"\",IF(INDEX('E_Tokovi izvora'!$A:$N,DI50,AD$7)=\"\",\"\",INDEX('E_Tokovi izvora'!$A:$N,DI50,AD$7)))","v":""},{"$f":"IF($E50=\"\",\"\",IF(INDEX('E_Tokovi izvora'!$A:$N,DJ50,AE$7)=\"\",\"\",INDEX('E_Tokovi izvora'!$A:$N,DJ50,AE$7)))","v":""},{"$f":"IF($E50=\"\",\"\",IF(INDEX('E_Tokovi izvora'!$A:$N,DK50,AF$7)=\"\",\"\",INDEX('E_Tokovi izvora'!$A:$N,DK50,AF$7)))","v":""},{"$f":"IF($E50=\"\",\"\",IF(INDEX('E_Tokovi izvora'!$A:$N,DL50,AG$7)=\"\",\"\",INDEX('E_Tokovi izvora'!$A:$N,DL50,AG$7)))","v":""},{"$f":"IF($E50=\"\",\"\",IF(INDEX('E_Tokovi izvora'!$A:$N,DM50,AH$7)=\"\",\"\",INDEX('E_Tokovi izvora'!$A:$N,DM50,AH$7)))","v":""},{"$f":"IF($E50=\"\",\"\",IF(INDEX('E_Tokovi izvora'!$A:$N,DN50,AI$7)=\"\",\"\",INDEX('E_Tokovi izvora'!$A:$N,DN50,AI$7)))","v":""},{"$f":"IF($E50=\"\",\"\",IF(INDEX('E_Tokovi izvora'!$A:$N,DO50,AJ$7)=\"\",\"\",INDEX('E_Tokovi izvora'!$A:$N,DO50,AJ$7)))","v":""},{"$f":"IF($E50=\"\",\"\",IF(INDEX('E_Tokovi izvora'!$A:$N,DP50,AK$7)=\"\",\"\",INDEX('E_Tokovi izvora'!$A:$N,DP50,AK$7)))","v":""},{"$f":"IF($E50=\"\",\"\",IF(INDEX('E_Tokovi izvora'!$A:$N,DQ50,AL$7)=\"\",\"\",INDEX('E_Tokovi izvora'!$A:$N,DQ50,AL$7)))","v":""},{"$f":"IF($E50=\"\",\"\",IF(INDEX('E_Tokovi izvora'!$A:$N,DR50,AM$7)=\"\",\"\",INDEX('E_Tokovi izvora'!$A:$N,DR50,AM$7)))","v":""},{"$f":"IF($E50=\"\",\"\",IF(INDEX('E_Tokovi izvora'!$A:$N,DS50,AN$7)=\"\",\"\",INDEX('E_Tokovi izvora'!$A:$N,DS50,AN$7)))","v":""},{"$f":"IF($E50=\"\",\"\",IF(INDEX('E_Tokovi izvora'!$A:$N,DT50,AO$7)=\"\",\"\",INDEX('E_Tokovi izvora'!$A:$N,DT50,AO$7)))","v":""},{"$f":"IF($E50=\"\",\"\",IF(INDEX('E_Tokovi izvora'!$A:$N,DU50,AP$7)=\"\",\"\",INDEX('E_Tokovi izvora'!$A:$N,DU50,AP$7)))","v":""},{"$f":"IF($E50=\"\",\"\",IF(INDEX('E_Tokovi izvora'!$A:$N,DV50,AQ$7)=\"\",\"\",INDEX('E_Tokovi izvora'!$A:$N,DV50,AQ$7)))","v":""},{"$f":"IF($E50=\"\",\"\",IF(INDEX('E_Tokovi izvora'!$A:$N,DW50,AR$7)=\"\",\"\",INDEX('E_Tokovi izvora'!$A:$N,DW50,AR$7)))","v":""},{"$f":"IF($E50=\"\",\"\",IF(INDEX('E_Tokovi izvora'!$A:$N,DX50,AS$7)=\"\",\"\",INDEX('E_Tokovi izvora'!$A:$N,DX50,AS$7)))","v":""},{"$f":"IF($E50=\"\",\"\",IF(INDEX('E_Tokovi izvora'!$A:$N,DY50,AT$7)=\"\",\"\",INDEX('E_Tokovi izvora'!$A:$N,DY50,AT$7)))","v":""},{"$f":"IF($E50=\"\",\"\",IF(INDEX('E_Tokovi izvora'!$A:$N,DZ50,AU$7)=\"\",\"\",INDEX('E_Tokovi izvora'!$A:$N,DZ50,AU$7)))","v":""},{"$f":"IF($E50=\"\",\"\",IF(INDEX('E_Tokovi izvora'!$A:$N,EA50,AV$7)=\"\",\"\",INDEX('E_Tokovi izvora'!$A:$N,EA50,AV$7)))","v":""},{"$f":"IF($E50=\"\",\"\",IF(INDEX('E_Tokovi izvora'!$A:$N,EB50,AW$7)=\"\",\"\",INDEX('E_Tokovi izvora'!$A:$N,EB50,AW$7)))","v":""},{"$f":"IF($E50=\"\",\"\",IF(INDEX('E_Tokovi izvora'!$A:$N,EC50,AX$7)=\"\",\"\",INDEX('E_Tokovi izvora'!$A:$N,EC50,AX$7)))","v":""},{"$f":"IF($E50=\"\",\"\",IF(INDEX('E_Tokovi izvora'!$A:$N,ED50,AY$7)=\"\",\"\",INDEX('E_Tokovi izvora'!$A:$N,ED50,AY$7)))","v":""},{"$f":"IF($E50=\"\",\"\",IF(INDEX('E_Tokovi izvora'!$A:$N,EE50,AZ$7)=\"\",\"\",INDEX('E_Tokovi izvora'!$A:$N,EE50,AZ$7)))","v":""},{"$f":"IF($E50=\"\",\"\",IF(INDEX('E_Tokovi izvora'!$A:$N,EF50,BA$7)=\"\",\"\",INDEX('E_Tokovi izvora'!$A:$N,EF50,BA$7)))","v":""},{"$f":"IF($E50=\"\",\"\",IF(INDEX('E_Tokovi izvora'!$A:$N,EG50,BB$7)=\"\",\"\",INDEX('E_Tokovi izvora'!$A:$N,EG50,BB$7)))","v":""},{"$f":"IF($E50=\"\",\"\",IF(INDEX('E_Tokovi izvora'!$A:$N,EH50,BC$7)=\"\",\"\",INDEX('E_Tokovi izvora'!$A:$N,EH50,BC$7)))","v":""},{"$f":"IF($E50=\"\",\"\",IF(INDEX('E_Tokovi izvora'!$A:$N,EI50,BD$7)=\"\",\"\",INDEX('E_Tokovi izvora'!$A:$N,EI50,BD$7)))","v":""},{"$f":"IF($E50=\"\",\"\",IF(INDEX('E_Tokovi izvora'!$A:$N,EJ50,BE$7)=\"\",\"\",INDEX('E_Tokovi izvora'!$A:$N,EJ50,BE$7)))","v":""},{"$f":"IF($E50=\"\",\"\",IF(INDEX('E_Tokovi izvora'!$A:$N,EK50,BF$7)=\"\",\"\",INDEX('E_Tokovi izvora'!$A:$N,EK50,BF$7)))","v":""},{"$f":"IF($E50=\"\",\"\",IF(INDEX('E_Tokovi izvora'!$A:$N,EL50,BG$7)=\"\",\"\",INDEX('E_Tokovi izvora'!$A:$N,EL50,BG$7)))","v":""},{"$f":"IF($E50=\"\",\"\",IF(INDEX('E_Tokovi izvora'!$A:$N,EM50,BH$7)=\"\",\"\",INDEX('E_Tokovi izvora'!$A:$N,EM50,BH$7)))","v":""},{"$f":"IF($E50=\"\",\"\",IF(INDEX('E_Tokovi izvora'!$A:$N,EN50,BI$7)=\"\",\"\",INDEX('E_Tokovi izvora'!$A:$N,EN50,BI$7)))","v":""},{"$f":"IF($E50=\"\",\"\",IF(INDEX('E_Tokovi izvora'!$A:$N,EO50,BJ$7)=\"\",\"\",INDEX('E_Tokovi izvora'!$A:$N,EO50,BJ$7)))","v":""},{"$f":"IF($E50=\"\",\"\",IF(INDEX('E_Tokovi izvora'!$A:$N,EP50,BK$7)=\"\",\"\",INDEX('E_Tokovi izvora'!$A:$N,EP50,BK$7)))","v":""},{"$f":"IF($E50=\"\",\"\",IF(INDEX('E_Tokovi izvora'!$A:$N,EQ50,BL$7)=\"\",\"\",INDEX('E_Tokovi izvora'!$A:$N,EQ50,BL$7)))","v":""},{"$f":"IF($E50=\"\",\"\",IF(INDEX('E_Tokovi izvora'!$A:$N,ER50,BM$7)=\"\",\"\",INDEX('E_Tokovi izvora'!$A:$N,ER50,BM$7)))","v":""},{"$f":"IF($E50=\"\",\"\",IF(INDEX('E_Tokovi izvora'!$A:$N,ES50,BN$7)=\"\",\"\",INDEX('E_Tokovi izvora'!$A:$N,ES50,BN$7)))","v":""},{"$f":"IF($E50=\"\",\"\",IF(INDEX('E_Tokovi izvora'!$A:$N,ET50,BO$7)=\"\",\"\",INDEX('E_Tokovi izvora'!$A:$N,ET50,BO$7)))","v":""},{"$f":"IF($E50=\"\",\"\",IF(INDEX('E_Tokovi izvora'!$A:$N,EU50,BP$7)=\"\",\"\",INDEX('E_Tokovi izvora'!$A:$N,EU50,BP$7)))","v":""},{"$f":"IF($E50=\"\",\"\",IF(INDEX('E_Tokovi izvora'!$A:$N,EV50,BQ$7)=\"\",\"\",INDEX('E_Tokovi izvora'!$A:$N,EV50,BQ$7)))","v":""},{"$f":"IF($E50=\"\",\"\",IF(INDEX('E_Tokovi izvora'!$A:$N,EW50,BR$7)=\"\",\"\",INDEX('E_Tokovi izvora'!$A:$N,EW50,BR$7)))","v":""},{"$f":"IF($E50=\"\",\"\",IF(INDEX('E_Tokovi izvora'!$A:$N,EX50,BS$7)=\"\",\"\",INDEX('E_Tokovi izvora'!$A:$N,EX50,BS$7)))","v":""},{"$f":"IF($E50=\"\",\"\",IF(INDEX('E_Tokovi izvora'!$A:$N,EY50,BT$7)=\"\",\"\",INDEX('E_Tokovi izvora'!$A:$N,EY50,BT$7)))","v":""},null,null,null,null,null,null,null,null,null,null,null,null,null,null,null,"SourceCategory_",{"$f":"INDEX('C_Opis postrojenja'!$A$226:$A$332,ROWS($CI$11:CI50))=\"ausblenden\"","v":false},"SourceStreamName_",null,2707,2709,2711,2713,2715,2717,2719,2719,2719,2719,2719,2722,2726,2727,2728,2735,2745,2745,2745,2745,2745,2745,2745,2736,2746,2746,2746,2746,2746,2746,2746,2737,2747,2747,2747,2747,2747,2747,2747,2738,2748,2748,2748,2748,2748,2748,2748,2739,2749,2749,2749,2749,2749,2749,2749,2740,2750,2750,2750,2750,2750,2750,2750,2756]
[null,{"$f":"IF(COUNTIF($CK$10:CK51,TRUE)>0,\"\",INDEX('C_Opis postrojenja'!$E$226:$E$242,ROWS($A$11:A51)))","v":""},{"$f":"IF($E51=\"\",\"\",INDEX('C_Opis postrojenja'!F:F,MATCH($B51,'C_Opis postrojenja'!$E:$E,0)))","v":""},{"$f":"IF($E51=\"\",\"\",INDEX('C_Opis postrojenja'!I:I,MATCH($B51,'C_Opis postrojenja'!$E:$E,0)))","v":""},{"$f":"IF($B51=\"\",\"\",INDEX('C_Opis postrojenja'!F:F,MATCH($CJ51,'C_Opis postrojenja'!$Q:$Q,0)))","v":""},{"$f":"IF($E51=\"\",\"\",INDEX('C_Opis postrojenja'!L:L,MATCH($CJ51,'C_Opis postrojenja'!$Q:$Q,0)))","v":""},{"$f":"IF($E51=\"\",\"\",INDEX('C_Opis postrojenja'!M:M,MATCH($CJ51,'C_Opis postrojenja'!$Q:$Q,0)))","v":""},{"$f":"IF($E51=\"\",\"\",INDEX('C_Opis postrojenja'!N:N,MATCH($CJ51,'C_Opis postrojenja'!$Q:$Q,0)))","v":""},{"$f":"IF($E51=\"\",\"\",IF(INDEX('E_Tokovi izvora'!$A:$N,CN51,I$7)=\"\",\"\",INDEX('E_Tokovi izvora'!$A:$N,CN51,I$7)))","v":""},{"$f":"IF($E51=\"\",\"\",IF(INDEX('E_Tokovi izvora'!$A:$N,CO51,J$7)=\"\",\"\",INDEX('E_Tokovi izvora'!$A:$N,CO51,J$7)))","v":""},{"$f":"IF($E51=\"\",\"\",IF(INDEX('E_Tokovi izvora'!$A:$N,CP51,K$7)=\"\",\"\",INDEX('E_Tokovi izvora'!$A:$N,CP51,K$7)))","v":""},{"$f":"IF($E51=\"\",\"\",IF(INDEX('E_Tokovi izvora'!$A:$N,CQ51,L$7)=\"\",\"\",INDEX('E_Tokovi izvora'!$A:$N,CQ51,L$7)))","v":""},{"$f":"IF($E51=\"\",\"\",IF(INDEX('E_Tokovi izvora'!$A:$N,CR51,M$7)=\"\",\"\",INDEX('E_Tokovi izvora'!$A:$N,CR51,M$7)))","v":""},{"$f":"IF($E51=\"\",\"\",IF(INDEX('E_Tokovi izvora'!$A:$N,CS51,N$7)=\"\",\"\",INDEX('E_Tokovi izvora'!$A:$N,CS51,N$7)))","v":""},{"$f":"IF($E51=\"\",\"\",IF(INDEX('E_Tokovi izvora'!$A:$N,CT51,O$7)=\"\",\"\",INDEX('E_Tokovi izvora'!$A:$N,CT51,O$7)))","v":""},{"$f":"IF($E51=\"\",\"\",IF(INDEX('E_Tokovi izvora'!$A:$N,CU51,P$7)=\"\",\"\",INDEX('E_Tokovi izvora'!$A:$N,CU51,P$7)))","v":""},{"$f":"IF($E51=\"\",\"\",IF(INDEX('E_Tokovi izvora'!$A:$N,CV51,Q$7)=\"\",\"\",INDEX('E_Tokovi izvora'!$A:$N,CV51,Q$7)))","v":""},{"$f":"IF($E51=\"\",\"\",IF(INDEX('E_Tokovi izvora'!$A:$N,CW51,R$7)=\"\",\"\",INDEX('E_Tokovi izvora'!$A:$N,CW51,R$7)))","v":""},{"$f":"IF($E51=\"\",\"\",IF(INDEX('E_Tokovi izvora'!$A:$N,CX51,S$7)=\"\",\"\",INDEX('E_Tokovi izvora'!$A:$N,CX51,S$7)))","v":""},{"$f":"IF($E51=\"\",\"\",IF(INDEX('E_Tokovi izvora'!$A:$N,CY51,T$7)=\"\",\"\",INDEX('E_Tokovi izvora'!$A:$N,CY51,T$7)))","v":""},{"$f":"IF($E51=\"\",\"\",IF(INDEX('E_Tokovi izvora'!$A:$N,CZ51,U$7)=\"\",\"\",INDEX('E_Tokovi izvora'!$A:$N,CZ51,U$7)))","v":""},{"$f":"IF($E51=\"\",\"\",IF(INDEX('E_Tokovi izvora'!$A:$N,DA51,V$7)=\"\",\"\",INDEX('E_Tokovi izvora'!$A:$N,DA51,V$7)))","v":""},{"$f":"IF($E51=\"\",\"\",IF(INDEX('E_Tokovi izvora'!$A:$N,DB51,W$7)=\"\",\"\",INDEX('E_Tokovi izvora'!$A:$N,DB51,W$7)))","v":""},{"$f":"IF($E51=\"\",\"\",IF(INDEX('E_Tokovi izvora'!$A:$N,DC51,X$7)=\"\",\"\",INDEX('E_Tokovi izvora'!$A:$N,DC51,X$7)))","v":""},{"$f":"IF($E51=\"\",\"\",IF(INDEX('E_Tokovi izvora'!$A:$N,DD51,Y$7)=\"\",\"\",INDEX('E_Tokovi izvora'!$A:$N,DD51,Y$7)))","v":""},{"$f":"IF($E51=\"\",\"\",IF(INDEX('E_Tokovi izvora'!$A:$N,DE51,Z$7)=\"\",\"\",INDEX('E_Tokovi izvora'!$A:$N,DE51,Z$7)))","v":""},{"$f":"IF($E51=\"\",\"\",IF(INDEX('E_Tokovi izvora'!$A:$N,DF51,AA$7)=\"\",\"\",INDEX('E_Tokovi izvora'!$A:$N,DF51,AA$7)))","v":""},{"$f":"IF($E51=\"\",\"\",IF(INDEX('E_Tokovi izvora'!$A:$N,DG51,AB$7)=\"\",\"\",INDEX('E_Tokovi izvora'!$A:$N,DG51,AB$7)))","v":""},{"$f":"IF($E51=\"\",\"\",IF(INDEX('E_Tokovi izvora'!$A:$N,DH51,AC$7)=\"\",\"\",INDEX('E_Tokovi izvora'!$A:$N,DH51,AC$7)))","v":""},{"$f":"IF($E51=\"\",\"\",IF(INDEX('E_Tokovi izvora'!$A:$N,DI51,AD$7)=\"\",\"\",INDEX('E_Tokovi izvora'!$A:$N,DI51,AD$7)))","v":""},{"$f":"IF($E51=\"\",\"\",IF(INDEX('E_Tokovi izvora'!$A:$N,DJ51,AE$7)=\"\",\"\",INDEX('E_Tokovi izvora'!$A:$N,DJ51,AE$7)))","v":""},{"$f":"IF($E51=\"\",\"\",IF(INDEX('E_Tokovi izvora'!$A:$N,DK51,AF$7)=\"\",\"\",INDEX('E_Tokovi izvora'!$A:$N,DK51,AF$7)))","v":""},{"$f":"IF($E51=\"\",\"\",IF(INDEX('E_Tokovi izvora'!$A:$N,DL51,AG$7)=\"\",\"\",INDEX('E_Tokovi izvora'!$A:$N,DL51,AG$7)))","v":""},{"$f":"IF($E51=\"\",\"\",IF(INDEX('E_Tokovi izvora'!$A:$N,DM51,AH$7)=\"\",\"\",INDEX('E_Tokovi izvora'!$A:$N,DM51,AH$7)))","v":""},{"$f":"IF($E51=\"\",\"\",IF(INDEX('E_Tokovi izvora'!$A:$N,DN51,AI$7)=\"\",\"\",INDEX('E_Tokovi izvora'!$A:$N,DN51,AI$7)))","v":""},{"$f":"IF($E51=\"\",\"\",IF(INDEX('E_Tokovi izvora'!$A:$N,DO51,AJ$7)=\"\",\"\",INDEX('E_Tokovi izvora'!$A:$N,DO51,AJ$7)))","v":""},{"$f":"IF($E51=\"\",\"\",IF(INDEX('E_Tokovi izvora'!$A:$N,DP51,AK$7)=\"\",\"\",INDEX('E_Tokovi izvora'!$A:$N,DP51,AK$7)))","v":""},{"$f":"IF($E51=\"\",\"\",IF(INDEX('E_Tokovi izvora'!$A:$N,DQ51,AL$7)=\"\",\"\",INDEX('E_Tokovi izvora'!$A:$N,DQ51,AL$7)))","v":""},{"$f":"IF($E51=\"\",\"\",IF(INDEX('E_Tokovi izvora'!$A:$N,DR51,AM$7)=\"\",\"\",INDEX('E_Tokovi izvora'!$A:$N,DR51,AM$7)))","v":""},{"$f":"IF($E51=\"\",\"\",IF(INDEX('E_Tokovi izvora'!$A:$N,DS51,AN$7)=\"\",\"\",INDEX('E_Tokovi izvora'!$A:$N,DS51,AN$7)))","v":""},{"$f":"IF($E51=\"\",\"\",IF(INDEX('E_Tokovi izvora'!$A:$N,DT51,AO$7)=\"\",\"\",INDEX('E_Tokovi izvora'!$A:$N,DT51,AO$7)))","v":""},{"$f":"IF($E51=\"\",\"\",IF(INDEX('E_Tokovi izvora'!$A:$N,DU51,AP$7)=\"\",\"\",INDEX('E_Tokovi izvora'!$A:$N,DU51,AP$7)))","v":""},{"$f":"IF($E51=\"\",\"\",IF(INDEX('E_Tokovi izvora'!$A:$N,DV51,AQ$7)=\"\",\"\",INDEX('E_Tokovi izvora'!$A:$N,DV51,AQ$7)))","v":""},{"$f":"IF($E51=\"\",\"\",IF(INDEX('E_Tokovi izvora'!$A:$N,DW51,AR$7)=\"\",\"\",INDEX('E_Tokovi izvora'!$A:$N,DW51,AR$7)))","v":""},{"$f":"IF($E51=\"\",\"\",IF(INDEX('E_Tokovi izvora'!$A:$N,DX51,AS$7)=\"\",\"\",INDEX('E_Tokovi izvora'!$A:$N,DX51,AS$7)))","v":""},{"$f":"IF($E51=\"\",\"\",IF(INDEX('E_Tokovi izvora'!$A:$N,DY51,AT$7)=\"\",\"\",INDEX('E_Tokovi izvora'!$A:$N,DY51,AT$7)))","v":""},{"$f":"IF($E51=\"\",\"\",IF(INDEX('E_Tokovi izvora'!$A:$N,DZ51,AU$7)=\"\",\"\",INDEX('E_Tokovi izvora'!$A:$N,DZ51,AU$7)))","v":""},{"$f":"IF($E51=\"\",\"\",IF(INDEX('E_Tokovi izvora'!$A:$N,EA51,AV$7)=\"\",\"\",INDEX('E_Tokovi izvora'!$A:$N,EA51,AV$7)))","v":""},{"$f":"IF($E51=\"\",\"\",IF(INDEX('E_Tokovi izvora'!$A:$N,EB51,AW$7)=\"\",\"\",INDEX('E_Tokovi izvora'!$A:$N,EB51,AW$7)))","v":""},{"$f":"IF($E51=\"\",\"\",IF(INDEX('E_Tokovi izvora'!$A:$N,EC51,AX$7)=\"\",\"\",INDEX('E_Tokovi izvora'!$A:$N,EC51,AX$7)))","v":""},{"$f":"IF($E51=\"\",\"\",IF(INDEX('E_Tokovi izvora'!$A:$N,ED51,AY$7)=\"\",\"\",INDEX('E_Tokovi izvora'!$A:$N,ED51,AY$7)))","v":""},{"$f":"IF($E51=\"\",\"\",IF(INDEX('E_Tokovi izvora'!$A:$N,EE51,AZ$7)=\"\",\"\",INDEX('E_Tokovi izvora'!$A:$N,EE51,AZ$7)))","v":""},{"$f":"IF($E51=\"\",\"\",IF(INDEX('E_Tokovi izvora'!$A:$N,EF51,BA$7)=\"\",\"\",INDEX('E_Tokovi izvora'!$A:$N,EF51,BA$7)))","v":""},{"$f":"IF($E51=\"\",\"\",IF(INDEX('E_Tokovi izvora'!$A:$N,EG51,BB$7)=\"\",\"\",INDEX('E_Tokovi izvora'!$A:$N,EG51,BB$7)))","v":""},{"$f":"IF($E51=\"\",\"\",IF(INDEX('E_Tokovi izvora'!$A:$N,EH51,BC$7)=\"\",\"\",INDEX('E_Tokovi izvora'!$A:$N,EH51,BC$7)))","v":""},{"$f":"IF($E51=\"\",\"\",IF(INDEX('E_Tokovi izvora'!$A:$N,EI51,BD$7)=\"\",\"\",INDEX('E_Tokovi izvora'!$A:$N,EI51,BD$7)))","v":""},{"$f":"IF($E51=\"\",\"\",IF(INDEX('E_Tokovi izvora'!$A:$N,EJ51,BE$7)=\"\",\"\",INDEX('E_Tokovi izvora'!$A:$N,EJ51,BE$7)))","v":""},{"$f":"IF($E51=\"\",\"\",IF(INDEX('E_Tokovi izvora'!$A:$N,EK51,BF$7)=\"\",\"\",INDEX('E_Tokovi izvora'!$A:$N,EK51,BF$7)))","v":""},{"$f":"IF($E51=\"\",\"\",IF(INDEX('E_Tokovi izvora'!$A:$N,EL51,BG$7)=\"\",\"\",INDEX('E_Tokovi izvora'!$A:$N,EL51,BG$7)))","v":""},{"$f":"IF($E51=\"\",\"\",IF(INDEX('E_Tokovi izvora'!$A:$N,EM51,BH$7)=\"\",\"\",INDEX('E_Tokovi izvora'!$A:$N,EM51,BH$7)))","v":""},{"$f":"IF($E51=\"\",\"\",IF(INDEX('E_Tokovi izvora'!$A:$N,EN51,BI$7)=\"\",\"\",INDEX('E_Tokovi izvora'!$A:$N,EN51,BI$7)))","v":""},{"$f":"IF($E51=\"\",\"\",IF(INDEX('E_Tokovi izvora'!$A:$N,EO51,BJ$7)=\"\",\"\",INDEX('E_Tokovi izvora'!$A:$N,EO51,BJ$7)))","v":""},{"$f":"IF($E51=\"\",\"\",IF(INDEX('E_Tokovi izvora'!$A:$N,EP51,BK$7)=\"\",\"\",INDEX('E_Tokovi izvora'!$A:$N,EP51,BK$7)))","v":""},{"$f":"IF($E51=\"\",\"\",IF(INDEX('E_Tokovi izvora'!$A:$N,EQ51,BL$7)=\"\",\"\",INDEX('E_Tokovi izvora'!$A:$N,EQ51,BL$7)))","v":""},{"$f":"IF($E51=\"\",\"\",IF(INDEX('E_Tokovi izvora'!$A:$N,ER51,BM$7)=\"\",\"\",INDEX('E_Tokovi izvora'!$A:$N,ER51,BM$7)))","v":""},{"$f":"IF($E51=\"\",\"\",IF(INDEX('E_Tokovi izvora'!$A:$N,ES51,BN$7)=\"\",\"\",INDEX('E_Tokovi izvora'!$A:$N,ES51,BN$7)))","v":""},{"$f":"IF($E51=\"\",\"\",IF(INDEX('E_Tokovi izvora'!$A:$N,ET51,BO$7)=\"\",\"\",INDEX('E_Tokovi izvora'!$A:$N,ET51,BO$7)))","v":""},{"$f":"IF($E51=\"\",\"\",IF(INDEX('E_Tokovi izvora'!$A:$N,EU51,BP$7)=\"\",\"\",INDEX('E_Tokovi izvora'!$A:$N,EU51,BP$7)))","v":""},{"$f":"IF($E51=\"\",\"\",IF(INDEX('E_Tokovi izvora'!$A:$N,EV51,BQ$7)=\"\",\"\",INDEX('E_Tokovi izvora'!$A:$N,EV51,BQ$7)))","v":""},{"$f":"IF($E51=\"\",\"\",IF(INDEX('E_Tokovi izvora'!$A:$N,EW51,BR$7)=\"\",\"\",INDEX('E_Tokovi izvora'!$A:$N,EW51,BR$7)))","v":""},{"$f":"IF($E51=\"\",\"\",IF(INDEX('E_Tokovi izvora'!$A:$N,EX51,BS$7)=\"\",\"\",INDEX('E_Tokovi izvora'!$A:$N,EX51,BS$7)))","v":""},{"$f":"IF($E51=\"\",\"\",IF(INDEX('E_Tokovi izvora'!$A:$N,EY51,BT$7)=\"\",\"\",INDEX('E_Tokovi izvora'!$A:$N,EY51,BT$7)))","v":""},null,null,null,null,null,null,null,null,null,null,null,null,null,null,null,"SourceCategory_",{"$f":"INDEX('C_Opis postrojenja'!$A$226:$A$332,ROWS($CI$11:CI51))=\"ausblenden\"","v":false},"SourceStreamName_",null,2773,2775,2777,2779,2781,2783,2785,2785,2785,2785,2785,2788,2792,2793,2794,2801,2811,2811,2811,2811,2811,2811,2811,2802,2812,2812,2812,2812,2812,2812,2812,2803,2813,2813,2813,2813,2813,2813,2813,2804,2814,2814,2814,2814,2814,2814,2814,2805,2815,2815,2815,2815,2815,2815,2815,2806,2816,2816,2816,2816,2816,2816,2816,2822]
[null,{"$f":"IF(COUNTIF($CK$10:CK52,TRUE)>0,\"\",INDEX('C_Opis postrojenja'!$E$226:$E$242,ROWS($A$11:A52)))","v":""},{"$f":"IF($E52=\"\",\"\",INDEX('C_Opis postrojenja'!F:F,MATCH($B52,'C_Opis postrojenja'!$E:$E,0)))","v":""},{"$f":"IF($E52=\"\",\"\",INDEX('C_Opis postrojenja'!I:I,MATCH($B52,'C_Opis postrojenja'!$E:$E,0)))","v":""},{"$f":"IF($B52=\"\",\"\",INDEX('C_Opis postrojenja'!F:F,MATCH($CJ52,'C_Opis postrojenja'!$Q:$Q,0)))","v":""},{"$f":"IF($E52=\"\",\"\",INDEX('C_Opis postrojenja'!L:L,MATCH($CJ52,'C_Opis postrojenja'!$Q:$Q,0)))","v":""},{"$f":"IF($E52=\"\",\"\",INDEX('C_Opis postrojenja'!M:M,MATCH($CJ52,'C_Opis postrojenja'!$Q:$Q,0)))","v":""},{"$f":"IF($E52=\"\",\"\",INDEX('C_Opis postrojenja'!N:N,MATCH($CJ52,'C_Opis postrojenja'!$Q:$Q,0)))","v":""},{"$f":"IF($E52=\"\",\"\",IF(INDEX('E_Tokovi izvora'!$A:$N,CN52,I$7)=\"\",\"\",INDEX('E_Tokovi izvora'!$A:$N,CN52,I$7)))","v":""},{"$f":"IF($E52=\"\",\"\",IF(INDEX('E_Tokovi izvora'!$A:$N,CO52,J$7)=\"\",\"\",INDEX('E_Tokovi izvora'!$A:$N,CO52,J$7)))","v":""},{"$f":"IF($E52=\"\",\"\",IF(INDEX('E_Tokovi izvora'!$A:$N,CP52,K$7)=\"\",\"\",INDEX('E_Tokovi izvora'!$A:$N,CP52,K$7)))","v":""},{"$f":"IF($E52=\"\",\"\",IF(INDEX('E_Tokovi izvora'!$A:$N,CQ52,L$7)=\"\",\"\",INDEX('E_Tokovi izvora'!$A:$N,CQ52,L$7)))","v":""},{"$f":"IF($E52=\"\",\"\",IF(INDEX('E_Tokovi izvora'!$A:$N,CR52,M$7)=\"\",\"\",INDEX('E_Tokovi izvora'!$A:$N,CR52,M$7)))","v":""},{"$f":"IF($E52=\"\",\"\",IF(INDEX('E_Tokovi izvora'!$A:$N,CS52,N$7)=\"\",\"\",INDEX('E_Tokovi izvora'!$A:$N,CS52,N$7)))","v":""},{"$f":"IF($E52=\"\",\"\",IF(INDEX('E_Tokovi izvora'!$A:$N,CT52,O$7)=\"\",\"\",INDEX('E_Tokovi izvora'!$A:$N,CT52,O$7)))","v":""},{"$f":"IF($E52=\"\",\"\",IF(INDEX('E_Tokovi izvora'!$A:$N,CU52,P$7)=\"\",\"\",INDEX('E_Tokovi izvora'!$A:$N,CU52,P$7)))","v":""},{"$f":"IF($E52=\"\",\"\",IF(INDEX('E_Tokovi izvora'!$A:$N,CV52,Q$7)=\"\",\"\",INDEX('E_Tokovi izvora'!$A:$N,CV52,Q$7)))","v":""},{"$f":"IF($E52=\"\",\"\",IF(INDEX('E_Tokovi izvora'!$A:$N,CW52,R$7)=\"\",\"\",INDEX('E_Tokovi izvora'!$A:$N,CW52,R$7)))","v":""},{"$f":"IF($E52=\"\",\"\",IF(INDEX('E_Tokovi izvora'!$A:$N,CX52,S$7)=\"\",\"\",INDEX('E_Tokovi izvora'!$A:$N,CX52,S$7)))","v":""},{"$f":"IF($E52=\"\",\"\",IF(INDEX('E_Tokovi izvora'!$A:$N,CY52,T$7)=\"\",\"\",INDEX('E_Tokovi izvora'!$A:$N,CY52,T$7)))","v":""},{"$f":"IF($E52=\"\",\"\",IF(INDEX('E_Tokovi izvora'!$A:$N,CZ52,U$7)=\"\",\"\",INDEX('E_Tokovi izvora'!$A:$N,CZ52,U$7)))","v":""},{"$f":"IF($E52=\"\",\"\",IF(INDEX('E_Tokovi izvora'!$A:$N,DA52,V$7)=\"\",\"\",INDEX('E_Tokovi izvora'!$A:$N,DA52,V$7)))","v":""},{"$f":"IF($E52=\"\",\"\",IF(INDEX('E_Tokovi izvora'!$A:$N,DB52,W$7)=\"\",\"\",INDEX('E_Tokovi izvora'!$A:$N,DB52,W$7)))","v":""},{"$f":"IF($E52=\"\",\"\",IF(INDEX('E_Tokovi izvora'!$A:$N,DC52,X$7)=\"\",\"\",INDEX('E_Tokovi izvora'!$A:$N,DC52,X$7)))","v":""},{"$f":"IF($E52=\"\",\"\",IF(INDEX('E_Tokovi izvora'!$A:$N,DD52,Y$7)=\"\",\"\",INDEX('E_Tokovi izvora'!$A:$N,DD52,Y$7)))","v":""},{"$f":"IF($E52=\"\",\"\",IF(INDEX('E_Tokovi izvora'!$A:$N,DE52,Z$7)=\"\",\"\",INDEX('E_Tokovi izvora'!$A:$N,DE52,Z$7)))","v":""},{"$f":"IF($E52=\"\",\"\",IF(INDEX('E_Tokovi izvora'!$A:$N,DF52,AA$7)=\"\",\"\",INDEX('E_Tokovi izvora'!$A:$N,DF52,AA$7)))","v":""},{"$f":"IF($E52=\"\",\"\",IF(INDEX('E_Tokovi izvora'!$A:$N,DG52,AB$7)=\"\",\"\",INDEX('E_Tokovi izvora'!$A:$N,DG52,AB$7)))","v":""},{"$f":"IF($E52=\"\",\"\",IF(INDEX('E_Tokovi izvora'!$A:$N,DH52,AC$7)=\"\",\"\",INDEX('E_Tokovi izvora'!$A:$N,DH52,AC$7)))","v":""},{"$f":"IF($E52=\"\",\"\",IF(INDEX('E_Tokovi izvora'!$A:$N,DI52,AD$7)=\"\",\"\",INDEX('E_Tokovi izvora'!$A:$N,DI52,AD$7)))","v":""},{"$f":"IF($E52=\"\",\"\",IF(INDEX('E_Tokovi izvora'!$A:$N,DJ52,AE$7)=\"\",\"\",INDEX('E_Tokovi izvora'!$A:$N,DJ52,AE$7)))","v":""},{"$f":"IF($E52=\"\",\"\",IF(INDEX('E_Tokovi izvora'!$A:$N,DK52,AF$7)=\"\",\"\",INDEX('E_Tokovi izvora'!$A:$N,DK52,AF$7)))","v":""},{"$f":"IF($E52=\"\",\"\",IF(INDEX('E_Tokovi izvora'!$A:$N,DL52,AG$7)=\"\",\"\",INDEX('E_Tokovi izvora'!$A:$N,DL52,AG$7)))","v":""},{"$f":"IF($E52=\"\",\"\",IF(INDEX('E_Tokovi izvora'!$A:$N,DM52,AH$7)=\"\",\"\",INDEX('E_Tokovi izvora'!$A:$N,DM52,AH$7)))","v":""},{"$f":"IF($E52=\"\",\"\",IF(INDEX('E_Tokovi izvora'!$A:$N,DN52,AI$7)=\"\",\"\",INDEX('E_Tokovi izvora'!$A:$N,DN52,AI$7)))","v":""},{"$f":"IF($E52=\"\",\"\",IF(INDEX('E_Tokovi izvora'!$A:$N,DO52,AJ$7)=\"\",\"\",INDEX('E_Tokovi izvora'!$A:$N,DO52,AJ$7)))","v":""},{"$f":"IF($E52=\"\",\"\",IF(INDEX('E_Tokovi izvora'!$A:$N,DP52,AK$7)=\"\",\"\",INDEX('E_Tokovi izvora'!$A:$N,DP52,AK$7)))","v":""},{"$f":"IF($E52=\"\",\"\",IF(INDEX('E_Tokovi izvora'!$A:$N,DQ52,AL$7)=\"\",\"\",INDEX('E_Tokovi izvora'!$A:$N,DQ52,AL$7)))","v":""},{"$f":"IF($E52=\"\",\"\",IF(INDEX('E_Tokovi izvora'!$A:$N,DR52,AM$7)=\"\",\"\",INDEX('E_Tokovi izvora'!$A:$N,DR52,AM$7)))","v":""},{"$f":"IF($E52=\"\",\"\",IF(INDEX('E_Tokovi izvora'!$A:$N,DS52,AN$7)=\"\",\"\",INDEX('E_Tokovi izvora'!$A:$N,DS52,AN$7)))","v":""},{"$f":"IF($E52=\"\",\"\",IF(INDEX('E_Tokovi izvora'!$A:$N,DT52,AO$7)=\"\",\"\",INDEX('E_Tokovi izvora'!$A:$N,DT52,AO$7)))","v":""},{"$f":"IF($E52=\"\",\"\",IF(INDEX('E_Tokovi izvora'!$A:$N,DU52,AP$7)=\"\",\"\",INDEX('E_Tokovi izvora'!$A:$N,DU52,AP$7)))","v":""},{"$f":"IF($E52=\"\",\"\",IF(INDEX('E_Tokovi izvora'!$A:$N,DV52,AQ$7)=\"\",\"\",INDEX('E_Tokovi izvora'!$A:$N,DV52,AQ$7)))","v":""},{"$f":"IF($E52=\"\",\"\",IF(INDEX('E_Tokovi izvora'!$A:$N,DW52,AR$7)=\"\",\"\",INDEX('E_Tokovi izvora'!$A:$N,DW52,AR$7)))","v":""},{"$f":"IF($E52=\"\",\"\",IF(INDEX('E_Tokovi izvora'!$A:$N,DX52,AS$7)=\"\",\"\",INDEX('E_Tokovi izvora'!$A:$N,DX52,AS$7)))","v":""},{"$f":"IF($E52=\"\",\"\",IF(INDEX('E_Tokovi izvora'!$A:$N,DY52,AT$7)=\"\",\"\",INDEX('E_Tokovi izvora'!$A:$N,DY52,AT$7)))","v":""},{"$f":"IF($E52=\"\",\"\",IF(INDEX('E_Tokovi izvora'!$A:$N,DZ52,AU$7)=\"\",\"\",INDEX('E_Tokovi izvora'!$A:$N,DZ52,AU$7)))","v":""},{"$f":"IF($E52=\"\",\"\",IF(INDEX('E_Tokovi izvora'!$A:$N,EA52,AV$7)=\"\",\"\",INDEX('E_Tokovi izvora'!$A:$N,EA52,AV$7)))","v":""},{"$f":"IF($E52=\"\",\"\",IF(INDEX('E_Tokovi izvora'!$A:$N,EB52,AW$7)=\"\",\"\",INDEX('E_Tokovi izvora'!$A:$N,EB52,AW$7)))","v":""},{"$f":"IF($E52=\"\",\"\",IF(INDEX('E_Tokovi izvora'!$A:$N,EC52,AX$7)=\"\",\"\",INDEX('E_Tokovi izvora'!$A:$N,EC52,AX$7)))","v":""},{"$f":"IF($E52=\"\",\"\",IF(INDEX('E_Tokovi izvora'!$A:$N,ED52,AY$7)=\"\",\"\",INDEX('E_Tokovi izvora'!$A:$N,ED52,AY$7)))","v":""},{"$f":"IF($E52=\"\",\"\",IF(INDEX('E_Tokovi izvora'!$A:$N,EE52,AZ$7)=\"\",\"\",INDEX('E_Tokovi izvora'!$A:$N,EE52,AZ$7)))","v":""},{"$f":"IF($E52=\"\",\"\",IF(INDEX('E_Tokovi izvora'!$A:$N,EF52,BA$7)=\"\",\"\",INDEX('E_Tokovi izvora'!$A:$N,EF52,BA$7)))","v":""},{"$f":"IF($E52=\"\",\"\",IF(INDEX('E_Tokovi izvora'!$A:$N,EG52,BB$7)=\"\",\"\",INDEX('E_Tokovi izvora'!$A:$N,EG52,BB$7)))","v":""},{"$f":"IF($E52=\"\",\"\",IF(INDEX('E_Tokovi izvora'!$A:$N,EH52,BC$7)=\"\",\"\",INDEX('E_Tokovi izvora'!$A:$N,EH52,BC$7)))","v":""},{"$f":"IF($E52=\"\",\"\",IF(INDEX('E_Tokovi izvora'!$A:$N,EI52,BD$7)=\"\",\"\",INDEX('E_Tokovi izvora'!$A:$N,EI52,BD$7)))","v":""},{"$f":"IF($E52=\"\",\"\",IF(INDEX('E_Tokovi izvora'!$A:$N,EJ52,BE$7)=\"\",\"\",INDEX('E_Tokovi izvora'!$A:$N,EJ52,BE$7)))","v":""},{"$f":"IF($E52=\"\",\"\",IF(INDEX('E_Tokovi izvora'!$A:$N,EK52,BF$7)=\"\",\"\",INDEX('E_Tokovi izvora'!$A:$N,EK52,BF$7)))","v":""},{"$f":"IF($E52=\"\",\"\",IF(INDEX('E_Tokovi izvora'!$A:$N,EL52,BG$7)=\"\",\"\",INDEX('E_Tokovi izvora'!$A:$N,EL52,BG$7)))","v":""},{"$f":"IF($E52=\"\",\"\",IF(INDEX('E_Tokovi izvora'!$A:$N,EM52,BH$7)=\"\",\"\",INDEX('E_Tokovi izvora'!$A:$N,EM52,BH$7)))","v":""},{"$f":"IF($E52=\"\",\"\",IF(INDEX('E_Tokovi izvora'!$A:$N,EN52,BI$7)=\"\",\"\",INDEX('E_Tokovi izvora'!$A:$N,EN52,BI$7)))","v":""},{"$f":"IF($E52=\"\",\"\",IF(INDEX('E_Tokovi izvora'!$A:$N,EO52,BJ$7)=\"\",\"\",INDEX('E_Tokovi izvora'!$A:$N,EO52,BJ$7)))","v":""},{"$f":"IF($E52=\"\",\"\",IF(INDEX('E_Tokovi izvora'!$A:$N,EP52,BK$7)=\"\",\"\",INDEX('E_Tokovi izvora'!$A:$N,EP52,BK$7)))","v":""},{"$f":"IF($E52=\"\",\"\",IF(INDEX('E_Tokovi izvora'!$A:$N,EQ52,BL$7)=\"\",\"\",INDEX('E_Tokovi izvora'!$A:$N,EQ52,BL$7)))","v":""},{"$f":"IF($E52=\"\",\"\",IF(INDEX('E_Tokovi izvora'!$A:$N,ER52,BM$7)=\"\",\"\",INDEX('E_Tokovi izvora'!$A:$N,ER52,BM$7)))","v":""},{"$f":"IF($E52=\"\",\"\",IF(INDEX('E_Tokovi izvora'!$A:$N,ES52,BN$7)=\"\",\"\",INDEX('E_Tokovi izvora'!$A:$N,ES52,BN$7)))","v":""},{"$f":"IF($E52=\"\",\"\",IF(INDEX('E_Tokovi izvora'!$A:$N,ET52,BO$7)=\"\",\"\",INDEX('E_Tokovi izvora'!$A:$N,ET52,BO$7)))","v":""},{"$f":"IF($E52=\"\",\"\",IF(INDEX('E_Tokovi izvora'!$A:$N,EU52,BP$7)=\"\",\"\",INDEX('E_Tokovi izvora'!$A:$N,EU52,BP$7)))","v":""},{"$f":"IF($E52=\"\",\"\",IF(INDEX('E_Tokovi izvora'!$A:$N,EV52,BQ$7)=\"\",\"\",INDEX('E_Tokovi izvora'!$A:$N,EV52,BQ$7)))","v":""},{"$f":"IF($E52=\"\",\"\",IF(INDEX('E_Tokovi izvora'!$A:$N,EW52,BR$7)=\"\",\"\",INDEX('E_Tokovi izvora'!$A:$N,EW52,BR$7)))","v":""},{"$f":"IF($E52=\"\",\"\",IF(INDEX('E_Tokovi izvora'!$A:$N,EX52,BS$7)=\"\",\"\",INDEX('E_Tokovi izvora'!$A:$N,EX52,BS$7)))","v":""},{"$f":"IF($E52=\"\",\"\",IF(INDEX('E_Tokovi izvora'!$A:$N,EY52,BT$7)=\"\",\"\",INDEX('E_Tokovi izvora'!$A:$N,EY52,BT$7)))","v":""},null,null,null,null,null,null,null,null,null,null,null,null,null,null,null,"SourceCategory_",{"$f":"INDEX('C_Opis postrojenja'!$A$226:$A$332,ROWS($CI$11:CI52))=\"ausblenden\"","v":false},"SourceStreamName_",null,2839,2841,2843,2845,2847,2849,2851,2851,2851,2851,2851,2854,2858,2859,2860,2867,2877,2877,2877,2877,2877,2877,2877,2868,2878,2878,2878,2878,2878,2878,2878,2869,2879,2879,2879,2879,2879,2879,2879,2870,2880,2880,2880,2880,2880,2880,2880,2871,2881,2881,2881,2881,2881,2881,2881,2872,2882,2882,2882,2882,2882,2882,2882,2888]
[null,{"$f":"IF(COUNTIF($CK$10:CK53,TRUE)>0,\"\",INDEX('C_Opis postrojenja'!$E$226:$E$242,ROWS($A$11:A53)))","v":""},{"$f":"IF($E53=\"\",\"\",INDEX('C_Opis postrojenja'!F:F,MATCH($B53,'C_Opis postrojenja'!$E:$E,0)))","v":""},{"$f":"IF($E53=\"\",\"\",INDEX('C_Opis postrojenja'!I:I,MATCH($B53,'C_Opis postrojenja'!$E:$E,0)))","v":""},{"$f":"IF($B53=\"\",\"\",INDEX('C_Opis postrojenja'!F:F,MATCH($CJ53,'C_Opis postrojenja'!$Q:$Q,0)))","v":""},{"$f":"IF($E53=\"\",\"\",INDEX('C_Opis postrojenja'!L:L,MATCH($CJ53,'C_Opis postrojenja'!$Q:$Q,0)))","v":""},{"$f":"IF($E53=\"\",\"\",INDEX('C_Opis postrojenja'!M:M,MATCH($CJ53,'C_Opis postrojenja'!$Q:$Q,0)))","v":""},{"$f":"IF($E53=\"\",\"\",INDEX('C_Opis postrojenja'!N:N,MATCH($CJ53,'C_Opis postrojenja'!$Q:$Q,0)))","v":""},{"$f":"IF($E53=\"\",\"\",IF(INDEX('E_Tokovi izvora'!$A:$N,CN53,I$7)=\"\",\"\",INDEX('E_Tokovi izvora'!$A:$N,CN53,I$7)))","v":""},{"$f":"IF($E53=\"\",\"\",IF(INDEX('E_Tokovi izvora'!$A:$N,CO53,J$7)=\"\",\"\",INDEX('E_Tokovi izvora'!$A:$N,CO53,J$7)))","v":""},{"$f":"IF($E53=\"\",\"\",IF(INDEX('E_Tokovi izvora'!$A:$N,CP53,K$7)=\"\",\"\",INDEX('E_Tokovi izvora'!$A:$N,CP53,K$7)))","v":""},{"$f":"IF($E53=\"\",\"\",IF(INDEX('E_Tokovi izvora'!$A:$N,CQ53,L$7)=\"\",\"\",INDEX('E_Tokovi izvora'!$A:$N,CQ53,L$7)))","v":""},{"$f":"IF($E53=\"\",\"\",IF(INDEX('E_Tokovi izvora'!$A:$N,CR53,M$7)=\"\",\"\",INDEX('E_Tokovi izvora'!$A:$N,CR53,M$7)))","v":""},{"$f":"IF($E53=\"\",\"\",IF(INDEX('E_Tokovi izvora'!$A:$N,CS53,N$7)=\"\",\"\",INDEX('E_Tokovi izvora'!$A:$N,CS53,N$7)))","v":""},{"$f":"IF($E53=\"\",\"\",IF(INDEX('E_Tokovi izvora'!$A:$N,CT53,O$7)=\"\",\"\",INDEX('E_Tokovi izvora'!$A:$N,CT53,O$7)))","v":""},{"$f":"IF($E53=\"\",\"\",IF(INDEX('E_Tokovi izvora'!$A:$N,CU53,P$7)=\"\",\"\",INDEX('E_Tokovi izvora'!$A:$N,CU53,P$7)))","v":""},{"$f":"IF($E53=\"\",\"\",IF(INDEX('E_Tokovi izvora'!$A:$N,CV53,Q$7)=\"\",\"\",INDEX('E_Tokovi izvora'!$A:$N,CV53,Q$7)))","v":""},{"$f":"IF($E53=\"\",\"\",IF(INDEX('E_Tokovi izvora'!$A:$N,CW53,R$7)=\"\",\"\",INDEX('E_Tokovi izvora'!$A:$N,CW53,R$7)))","v":""},{"$f":"IF($E53=\"\",\"\",IF(INDEX('E_Tokovi izvora'!$A:$N,CX53,S$7)=\"\",\"\",INDEX('E_Tokovi izvora'!$A:$N,CX53,S$7)))","v":""},{"$f":"IF($E53=\"\",\"\",IF(INDEX('E_Tokovi izvora'!$A:$N,CY53,T$7)=\"\",\"\",INDEX('E_Tokovi izvora'!$A:$N,CY53,T$7)))","v":""},{"$f":"IF($E53=\"\",\"\",IF(INDEX('E_Tokovi izvora'!$A:$N,CZ53,U$7)=\"\",\"\",INDEX('E_Tokovi izvora'!$A:$N,CZ53,U$7)))","v":""},{"$f":"IF($E53=\"\",\"\",IF(INDEX('E_Tokovi izvora'!$A:$N,DA53,V$7)=\"\",\"\",INDEX('E_Tokovi izvora'!$A:$N,DA53,V$7)))","v":""},{"$f":"IF($E53=\"\",\"\",IF(INDEX('E_Tokovi izvora'!$A:$N,DB53,W$7)=\"\",\"\",INDEX('E_Tokovi izvora'!$A:$N,DB53,W$7)))","v":""},{"$f":"IF($E53=\"\",\"\",IF(INDEX('E_Tokovi izvora'!$A:$N,DC53,X$7)=\"\",\"\",INDEX('E_Tokovi izvora'!$A:$N,DC53,X$7)))","v":""},{"$f":"IF($E53=\"\",\"\",IF(INDEX('E_Tokovi izvora'!$A:$N,DD53,Y$7)=\"\",\"\",INDEX('E_Tokovi izvora'!$A:$N,DD53,Y$7)))","v":""},{"$f":"IF($E53=\"\",\"\",IF(INDEX('E_Tokovi izvora'!$A:$N,DE53,Z$7)=\"\",\"\",INDEX('E_Tokovi izvora'!$A:$N,DE53,Z$7)))","v":""},{"$f":"IF($E53=\"\",\"\",IF(INDEX('E_Tokovi izvora'!$A:$N,DF53,AA$7)=\"\",\"\",INDEX('E_Tokovi izvora'!$A:$N,DF53,AA$7)))","v":""},{"$f":"IF($E53=\"\",\"\",IF(INDEX('E_Tokovi izvora'!$A:$N,DG53,AB$7)=\"\",\"\",INDEX('E_Tokovi izvora'!$A:$N,DG53,AB$7)))","v":""},{"$f":"IF($E53=\"\",\"\",IF(INDEX('E_Tokovi izvora'!$A:$N,DH53,AC$7)=\"\",\"\",INDEX('E_Tokovi izvora'!$A:$N,DH53,AC$7)))","v":""},{"$f":"IF($E53=\"\",\"\",IF(INDEX('E_Tokovi izvora'!$A:$N,DI53,AD$7)=\"\",\"\",INDEX('E_Tokovi izvora'!$A:$N,DI53,AD$7)))","v":""},{"$f":"IF($E53=\"\",\"\",IF(INDEX('E_Tokovi izvora'!$A:$N,DJ53,AE$7)=\"\",\"\",INDEX('E_Tokovi izvora'!$A:$N,DJ53,AE$7)))","v":""},{"$f":"IF($E53=\"\",\"\",IF(INDEX('E_Tokovi izvora'!$A:$N,DK53,AF$7)=\"\",\"\",INDEX('E_Tokovi izvora'!$A:$N,DK53,AF$7)))","v":""},{"$f":"IF($E53=\"\",\"\",IF(INDEX('E_Tokovi izvora'!$A:$N,DL53,AG$7)=\"\",\"\",INDEX('E_Tokovi izvora'!$A:$N,DL53,AG$7)))","v":""},{"$f":"IF($E53=\"\",\"\",IF(INDEX('E_Tokovi izvora'!$A:$N,DM53,AH$7)=\"\",\"\",INDEX('E_Tokovi izvora'!$A:$N,DM53,AH$7)))","v":""},{"$f":"IF($E53=\"\",\"\",IF(INDEX('E_Tokovi izvora'!$A:$N,DN53,AI$7)=\"\",\"\",INDEX('E_Tokovi izvora'!$A:$N,DN53,AI$7)))","v":""},{"$f":"IF($E53=\"\",\"\",IF(INDEX('E_Tokovi izvora'!$A:$N,DO53,AJ$7)=\"\",\"\",INDEX('E_Tokovi izvora'!$A:$N,DO53,AJ$7)))","v":""},{"$f":"IF($E53=\"\",\"\",IF(INDEX('E_Tokovi izvora'!$A:$N,DP53,AK$7)=\"\",\"\",INDEX('E_Tokovi izvora'!$A:$N,DP53,AK$7)))","v":""},{"$f":"IF($E53=\"\",\"\",IF(INDEX('E_Tokovi izvora'!$A:$N,DQ53,AL$7)=\"\",\"\",INDEX('E_Tokovi izvora'!$A:$N,DQ53,AL$7)))","v":""},{"$f":"IF($E53=\"\",\"\",IF(INDEX('E_Tokovi izvora'!$A:$N,DR53,AM$7)=\"\",\"\",INDEX('E_Tokovi izvora'!$A:$N,DR53,AM$7)))","v":""},{"$f":"IF($E53=\"\",\"\",IF(INDEX('E_Tokovi izvora'!$A:$N,DS53,AN$7)=\"\",\"\",INDEX('E_Tokovi izvora'!$A:$N,DS53,AN$7)))","v":""},{"$f":"IF($E53=\"\",\"\",IF(INDEX('E_Tokovi izvora'!$A:$N,DT53,AO$7)=\"\",\"\",INDEX('E_Tokovi izvora'!$A:$N,DT53,AO$7)))","v":""},{"$f":"IF($E53=\"\",\"\",IF(INDEX('E_Tokovi izvora'!$A:$N,DU53,AP$7)=\"\",\"\",INDEX('E_Tokovi izvora'!$A:$N,DU53,AP$7)))","v":""},{"$f":"IF($E53=\"\",\"\",IF(INDEX('E_Tokovi izvora'!$A:$N,DV53,AQ$7)=\"\",\"\",INDEX('E_Tokovi izvora'!$A:$N,DV53,AQ$7)))","v":""},{"$f":"IF($E53=\"\",\"\",IF(INDEX('E_Tokovi izvora'!$A:$N,DW53,AR$7)=\"\",\"\",INDEX('E_Tokovi izvora'!$A:$N,DW53,AR$7)))","v":""},{"$f":"IF($E53=\"\",\"\",IF(INDEX('E_Tokovi izvora'!$A:$N,DX53,AS$7)=\"\",\"\",INDEX('E_Tokovi izvora'!$A:$N,DX53,AS$7)))","v":""},{"$f":"IF($E53=\"\",\"\",IF(INDEX('E_Tokovi izvora'!$A:$N,DY53,AT$7)=\"\",\"\",INDEX('E_Tokovi izvora'!$A:$N,DY53,AT$7)))","v":""},{"$f":"IF($E53=\"\",\"\",IF(INDEX('E_Tokovi izvora'!$A:$N,DZ53,AU$7)=\"\",\"\",INDEX('E_Tokovi izvora'!$A:$N,DZ53,AU$7)))","v":""},{"$f":"IF($E53=\"\",\"\",IF(INDEX('E_Tokovi izvora'!$A:$N,EA53,AV$7)=\"\",\"\",INDEX('E_Tokovi izvora'!$A:$N,EA53,AV$7)))","v":""},{"$f":"IF($E53=\"\",\"\",IF(INDEX('E_Tokovi izvora'!$A:$N,EB53,AW$7)=\"\",\"\",INDEX('E_Tokovi izvora'!$A:$N,EB53,AW$7)))","v":""},{"$f":"IF($E53=\"\",\"\",IF(INDEX('E_Tokovi izvora'!$A:$N,EC53,AX$7)=\"\",\"\",INDEX('E_Tokovi izvora'!$A:$N,EC53,AX$7)))","v":""},{"$f":"IF($E53=\"\",\"\",IF(INDEX('E_Tokovi izvora'!$A:$N,ED53,AY$7)=\"\",\"\",INDEX('E_Tokovi izvora'!$A:$N,ED53,AY$7)))","v":""},{"$f":"IF($E53=\"\",\"\",IF(INDEX('E_Tokovi izvora'!$A:$N,EE53,AZ$7)=\"\",\"\",INDEX('E_Tokovi izvora'!$A:$N,EE53,AZ$7)))","v":""},{"$f":"IF($E53=\"\",\"\",IF(INDEX('E_Tokovi izvora'!$A:$N,EF53,BA$7)=\"\",\"\",INDEX('E_Tokovi izvora'!$A:$N,EF53,BA$7)))","v":""},{"$f":"IF($E53=\"\",\"\",IF(INDEX('E_Tokovi izvora'!$A:$N,EG53,BB$7)=\"\",\"\",INDEX('E_Tokovi izvora'!$A:$N,EG53,BB$7)))","v":""},{"$f":"IF($E53=\"\",\"\",IF(INDEX('E_Tokovi izvora'!$A:$N,EH53,BC$7)=\"\",\"\",INDEX('E_Tokovi izvora'!$A:$N,EH53,BC$7)))","v":""},{"$f":"IF($E53=\"\",\"\",IF(INDEX('E_Tokovi izvora'!$A:$N,EI53,BD$7)=\"\",\"\",INDEX('E_Tokovi izvora'!$A:$N,EI53,BD$7)))","v":""},{"$f":"IF($E53=\"\",\"\",IF(INDEX('E_Tokovi izvora'!$A:$N,EJ53,BE$7)=\"\",\"\",INDEX('E_Tokovi izvora'!$A:$N,EJ53,BE$7)))","v":""},{"$f":"IF($E53=\"\",\"\",IF(INDEX('E_Tokovi izvora'!$A:$N,EK53,BF$7)=\"\",\"\",INDEX('E_Tokovi izvora'!$A:$N,EK53,BF$7)))","v":""},{"$f":"IF($E53=\"\",\"\",IF(INDEX('E_Tokovi izvora'!$A:$N,EL53,BG$7)=\"\",\"\",INDEX('E_Tokovi izvora'!$A:$N,EL53,BG$7)))","v":""},{"$f":"IF($E53=\"\",\"\",IF(INDEX('E_Tokovi izvora'!$A:$N,EM53,BH$7)=\"\",\"\",INDEX('E_Tokovi izvora'!$A:$N,EM53,BH$7)))","v":""},{"$f":"IF($E53=\"\",\"\",IF(INDEX('E_Tokovi izvora'!$A:$N,EN53,BI$7)=\"\",\"\",INDEX('E_Tokovi izvora'!$A:$N,EN53,BI$7)))","v":""},{"$f":"IF($E53=\"\",\"\",IF(INDEX('E_Tokovi izvora'!$A:$N,EO53,BJ$7)=\"\",\"\",INDEX('E_Tokovi izvora'!$A:$N,EO53,BJ$7)))","v":""},{"$f":"IF($E53=\"\",\"\",IF(INDEX('E_Tokovi izvora'!$A:$N,EP53,BK$7)=\"\",\"\",INDEX('E_Tokovi izvora'!$A:$N,EP53,BK$7)))","v":""},{"$f":"IF($E53=\"\",\"\",IF(INDEX('E_Tokovi izvora'!$A:$N,EQ53,BL$7)=\"\",\"\",INDEX('E_Tokovi izvora'!$A:$N,EQ53,BL$7)))","v":""},{"$f":"IF($E53=\"\",\"\",IF(INDEX('E_Tokovi izvora'!$A:$N,ER53,BM$7)=\"\",\"\",INDEX('E_Tokovi izvora'!$A:$N,ER53,BM$7)))","v":""},{"$f":"IF($E53=\"\",\"\",IF(INDEX('E_Tokovi izvora'!$A:$N,ES53,BN$7)=\"\",\"\",INDEX('E_Tokovi izvora'!$A:$N,ES53,BN$7)))","v":""},{"$f":"IF($E53=\"\",\"\",IF(INDEX('E_Tokovi izvora'!$A:$N,ET53,BO$7)=\"\",\"\",INDEX('E_Tokovi izvora'!$A:$N,ET53,BO$7)))","v":""},{"$f":"IF($E53=\"\",\"\",IF(INDEX('E_Tokovi izvora'!$A:$N,EU53,BP$7)=\"\",\"\",INDEX('E_Tokovi izvora'!$A:$N,EU53,BP$7)))","v":""},{"$f":"IF($E53=\"\",\"\",IF(INDEX('E_Tokovi izvora'!$A:$N,EV53,BQ$7)=\"\",\"\",INDEX('E_Tokovi izvora'!$A:$N,EV53,BQ$7)))","v":""},{"$f":"IF($E53=\"\",\"\",IF(INDEX('E_Tokovi izvora'!$A:$N,EW53,BR$7)=\"\",\"\",INDEX('E_Tokovi izvora'!$A:$N,EW53,BR$7)))","v":""},{"$f":"IF($E53=\"\",\"\",IF(INDEX('E_Tokovi izvora'!$A:$N,EX53,BS$7)=\"\",\"\",INDEX('E_Tokovi izvora'!$A:$N,EX53,BS$7)))","v":""},{"$f":"IF($E53=\"\",\"\",IF(INDEX('E_Tokovi izvora'!$A:$N,EY53,BT$7)=\"\",\"\",INDEX('E_Tokovi izvora'!$A:$N,EY53,BT$7)))","v":""},null,null,null,null,null,null,null,null,null,null,null,null,null,null,null,"SourceCategory_",{"$f":"INDEX('C_Opis postrojenja'!$A$226:$A$332,ROWS($CI$11:CI53))=\"ausblenden\"","v":false},"SourceStreamName_",null,2905,2907,2909,2911,2913,2915,2917,2917,2917,2917,2917,2920,2924,2925,2926,2933,2943,2943,2943,2943,2943,2943,2943,2934,2944,2944,2944,2944,2944,2944,2944,2935,2945,2945,2945,2945,2945,2945,2945,2936,2946,2946,2946,2946,2946,2946,2946,2937,2947,2947,2947,2947,2947,2947,2947,2938,2948,2948,2948,2948,2948,2948,2948,2954]
[null,{"$f":"IF(COUNTIF($CK$10:CK54,TRUE)>0,\"\",INDEX('C_Opis postrojenja'!$E$226:$E$242,ROWS($A$11:A54)))","v":""},{"$f":"IF($E54=\"\",\"\",INDEX('C_Opis postrojenja'!F:F,MATCH($B54,'C_Opis postrojenja'!$E:$E,0)))","v":""},{"$f":"IF($E54=\"\",\"\",INDEX('C_Opis postrojenja'!I:I,MATCH($B54,'C_Opis postrojenja'!$E:$E,0)))","v":""},{"$f":"IF($B54=\"\",\"\",INDEX('C_Opis postrojenja'!F:F,MATCH($CJ54,'C_Opis postrojenja'!$Q:$Q,0)))","v":""},{"$f":"IF($E54=\"\",\"\",INDEX('C_Opis postrojenja'!L:L,MATCH($CJ54,'C_Opis postrojenja'!$Q:$Q,0)))","v":""},{"$f":"IF($E54=\"\",\"\",INDEX('C_Opis postrojenja'!M:M,MATCH($CJ54,'C_Opis postrojenja'!$Q:$Q,0)))","v":""},{"$f":"IF($E54=\"\",\"\",INDEX('C_Opis postrojenja'!N:N,MATCH($CJ54,'C_Opis postrojenja'!$Q:$Q,0)))","v":""},{"$f":"IF($E54=\"\",\"\",IF(INDEX('E_Tokovi izvora'!$A:$N,CN54,I$7)=\"\",\"\",INDEX('E_Tokovi izvora'!$A:$N,CN54,I$7)))","v":""},{"$f":"IF($E54=\"\",\"\",IF(INDEX('E_Tokovi izvora'!$A:$N,CO54,J$7)=\"\",\"\",INDEX('E_Tokovi izvora'!$A:$N,CO54,J$7)))","v":""},{"$f":"IF($E54=\"\",\"\",IF(INDEX('E_Tokovi izvora'!$A:$N,CP54,K$7)=\"\",\"\",INDEX('E_Tokovi izvora'!$A:$N,CP54,K$7)))","v":""},{"$f":"IF($E54=\"\",\"\",IF(INDEX('E_Tokovi izvora'!$A:$N,CQ54,L$7)=\"\",\"\",INDEX('E_Tokovi izvora'!$A:$N,CQ54,L$7)))","v":""},{"$f":"IF($E54=\"\",\"\",IF(INDEX('E_Tokovi izvora'!$A:$N,CR54,M$7)=\"\",\"\",INDEX('E_Tokovi izvora'!$A:$N,CR54,M$7)))","v":""},{"$f":"IF($E54=\"\",\"\",IF(INDEX('E_Tokovi izvora'!$A:$N,CS54,N$7)=\"\",\"\",INDEX('E_Tokovi izvora'!$A:$N,CS54,N$7)))","v":""},{"$f":"IF($E54=\"\",\"\",IF(INDEX('E_Tokovi izvora'!$A:$N,CT54,O$7)=\"\",\"\",INDEX('E_Tokovi izvora'!$A:$N,CT54,O$7)))","v":""},{"$f":"IF($E54=\"\",\"\",IF(INDEX('E_Tokovi izvora'!$A:$N,CU54,P$7)=\"\",\"\",INDEX('E_Tokovi izvora'!$A:$N,CU54,P$7)))","v":""},{"$f":"IF($E54=\"\",\"\",IF(INDEX('E_Tokovi izvora'!$A:$N,CV54,Q$7)=\"\",\"\",INDEX('E_Tokovi izvora'!$A:$N,CV54,Q$7)))","v":""},{"$f":"IF($E54=\"\",\"\",IF(INDEX('E_Tokovi izvora'!$A:$N,CW54,R$7)=\"\",\"\",INDEX('E_Tokovi izvora'!$A:$N,CW54,R$7)))","v":""},{"$f":"IF($E54=\"\",\"\",IF(INDEX('E_Tokovi izvora'!$A:$N,CX54,S$7)=\"\",\"\",INDEX('E_Tokovi izvora'!$A:$N,CX54,S$7)))","v":""},{"$f":"IF($E54=\"\",\"\",IF(INDEX('E_Tokovi izvora'!$A:$N,CY54,T$7)=\"\",\"\",INDEX('E_Tokovi izvora'!$A:$N,CY54,T$7)))","v":""},{"$f":"IF($E54=\"\",\"\",IF(INDEX('E_Tokovi izvora'!$A:$N,CZ54,U$7)=\"\",\"\",INDEX('E_Tokovi izvora'!$A:$N,CZ54,U$7)))","v":""},{"$f":"IF($E54=\"\",\"\",IF(INDEX('E_Tokovi izvora'!$A:$N,DA54,V$7)=\"\",\"\",INDEX('E_Tokovi izvora'!$A:$N,DA54,V$7)))","v":""},{"$f":"IF($E54=\"\",\"\",IF(INDEX('E_Tokovi izvora'!$A:$N,DB54,W$7)=\"\",\"\",INDEX('E_Tokovi izvora'!$A:$N,DB54,W$7)))","v":""},{"$f":"IF($E54=\"\",\"\",IF(INDEX('E_Tokovi izvora'!$A:$N,DC54,X$7)=\"\",\"\",INDEX('E_Tokovi izvora'!$A:$N,DC54,X$7)))","v":""},{"$f":"IF($E54=\"\",\"\",IF(INDEX('E_Tokovi izvora'!$A:$N,DD54,Y$7)=\"\",\"\",INDEX('E_Tokovi izvora'!$A:$N,DD54,Y$7)))","v":""},{"$f":"IF($E54=\"\",\"\",IF(INDEX('E_Tokovi izvora'!$A:$N,DE54,Z$7)=\"\",\"\",INDEX('E_Tokovi izvora'!$A:$N,DE54,Z$7)))","v":""},{"$f":"IF($E54=\"\",\"\",IF(INDEX('E_Tokovi izvora'!$A:$N,DF54,AA$7)=\"\",\"\",INDEX('E_Tokovi izvora'!$A:$N,DF54,AA$7)))","v":""},{"$f":"IF($E54=\"\",\"\",IF(INDEX('E_Tokovi izvora'!$A:$N,DG54,AB$7)=\"\",\"\",INDEX('E_Tokovi izvora'!$A:$N,DG54,AB$7)))","v":""},{"$f":"IF($E54=\"\",\"\",IF(INDEX('E_Tokovi izvora'!$A:$N,DH54,AC$7)=\"\",\"\",INDEX('E_Tokovi izvora'!$A:$N,DH54,AC$7)))","v":""},{"$f":"IF($E54=\"\",\"\",IF(INDEX('E_Tokovi izvora'!$A:$N,DI54,AD$7)=\"\",\"\",INDEX('E_Tokovi izvora'!$A:$N,DI54,AD$7)))","v":""},{"$f":"IF($E54=\"\",\"\",IF(INDEX('E_Tokovi izvora'!$A:$N,DJ54,AE$7)=\"\",\"\",INDEX('E_Tokovi izvora'!$A:$N,DJ54,AE$7)))","v":""},{"$f":"IF($E54=\"\",\"\",IF(INDEX('E_Tokovi izvora'!$A:$N,DK54,AF$7)=\"\",\"\",INDEX('E_Tokovi izvora'!$A:$N,DK54,AF$7)))","v":""},{"$f":"IF($E54=\"\",\"\",IF(INDEX('E_Tokovi izvora'!$A:$N,DL54,AG$7)=\"\",\"\",INDEX('E_Tokovi izvora'!$A:$N,DL54,AG$7)))","v":""},{"$f":"IF($E54=\"\",\"\",IF(INDEX('E_Tokovi izvora'!$A:$N,DM54,AH$7)=\"\",\"\",INDEX('E_Tokovi izvora'!$A:$N,DM54,AH$7)))","v":""},{"$f":"IF($E54=\"\",\"\",IF(INDEX('E_Tokovi izvora'!$A:$N,DN54,AI$7)=\"\",\"\",INDEX('E_Tokovi izvora'!$A:$N,DN54,AI$7)))","v":""},{"$f":"IF($E54=\"\",\"\",IF(INDEX('E_Tokovi izvora'!$A:$N,DO54,AJ$7)=\"\",\"\",INDEX('E_Tokovi izvora'!$A:$N,DO54,AJ$7)))","v":""},{"$f":"IF($E54=\"\",\"\",IF(INDEX('E_Tokovi izvora'!$A:$N,DP54,AK$7)=\"\",\"\",INDEX('E_Tokovi izvora'!$A:$N,DP54,AK$7)))","v":""},{"$f":"IF($E54=\"\",\"\",IF(INDEX('E_Tokovi izvora'!$A:$N,DQ54,AL$7)=\"\",\"\",INDEX('E_Tokovi izvora'!$A:$N,DQ54,AL$7)))","v":""},{"$f":"IF($E54=\"\",\"\",IF(INDEX('E_Tokovi izvora'!$A:$N,DR54,AM$7)=\"\",\"\",INDEX('E_Tokovi izvora'!$A:$N,DR54,AM$7)))","v":""},{"$f":"IF($E54=\"\",\"\",IF(INDEX('E_Tokovi izvora'!$A:$N,DS54,AN$7)=\"\",\"\",INDEX('E_Tokovi izvora'!$A:$N,DS54,AN$7)))","v":""},{"$f":"IF($E54=\"\",\"\",IF(INDEX('E_Tokovi izvora'!$A:$N,DT54,AO$7)=\"\",\"\",INDEX('E_Tokovi izvora'!$A:$N,DT54,AO$7)))","v":""},{"$f":"IF($E54=\"\",\"\",IF(INDEX('E_Tokovi izvora'!$A:$N,DU54,AP$7)=\"\",\"\",INDEX('E_Tokovi izvora'!$A:$N,DU54,AP$7)))","v":""},{"$f":"IF($E54=\"\",\"\",IF(INDEX('E_Tokovi izvora'!$A:$N,DV54,AQ$7)=\"\",\"\",INDEX('E_Tokovi izvora'!$A:$N,DV54,AQ$7)))","v":""},{"$f":"IF($E54=\"\",\"\",IF(INDEX('E_Tokovi izvora'!$A:$N,DW54,AR$7)=\"\",\"\",INDEX('E_Tokovi izvora'!$A:$N,DW54,AR$7)))","v":""},{"$f":"IF($E54=\"\",\"\",IF(INDEX('E_Tokovi izvora'!$A:$N,DX54,AS$7)=\"\",\"\",INDEX('E_Tokovi izvora'!$A:$N,DX54,AS$7)))","v":""},{"$f":"IF($E54=\"\",\"\",IF(INDEX('E_Tokovi izvora'!$A:$N,DY54,AT$7)=\"\",\"\",INDEX('E_Tokovi izvora'!$A:$N,DY54,AT$7)))","v":""},{"$f":"IF($E54=\"\",\"\",IF(INDEX('E_Tokovi izvora'!$A:$N,DZ54,AU$7)=\"\",\"\",INDEX('E_Tokovi izvora'!$A:$N,DZ54,AU$7)))","v":""},{"$f":"IF($E54=\"\",\"\",IF(INDEX('E_Tokovi izvora'!$A:$N,EA54,AV$7)=\"\",\"\",INDEX('E_Tokovi izvora'!$A:$N,EA54,AV$7)))","v":""},{"$f":"IF($E54=\"\",\"\",IF(INDEX('E_Tokovi izvora'!$A:$N,EB54,AW$7)=\"\",\"\",INDEX('E_Tokovi izvora'!$A:$N,EB54,AW$7)))","v":""},{"$f":"IF($E54=\"\",\"\",IF(INDEX('E_Tokovi izvora'!$A:$N,EC54,AX$7)=\"\",\"\",INDEX('E_Tokovi izvora'!$A:$N,EC54,AX$7)))","v":""},{"$f":"IF($E54=\"\",\"\",IF(INDEX('E_Tokovi izvora'!$A:$N,ED54,AY$7)=\"\",\"\",INDEX('E_Tokovi izvora'!$A:$N,ED54,AY$7)))","v":""},{"$f":"IF($E54=\"\",\"\",IF(INDEX('E_Tokovi izvora'!$A:$N,EE54,AZ$7)=\"\",\"\",INDEX('E_Tokovi izvora'!$A:$N,EE54,AZ$7)))","v":""},{"$f":"IF($E54=\"\",\"\",IF(INDEX('E_Tokovi izvora'!$A:$N,EF54,BA$7)=\"\",\"\",INDEX('E_Tokovi izvora'!$A:$N,EF54,BA$7)))","v":""},{"$f":"IF($E54=\"\",\"\",IF(INDEX('E_Tokovi izvora'!$A:$N,EG54,BB$7)=\"\",\"\",INDEX('E_Tokovi izvora'!$A:$N,EG54,BB$7)))","v":""},{"$f":"IF($E54=\"\",\"\",IF(INDEX('E_Tokovi izvora'!$A:$N,EH54,BC$7)=\"\",\"\",INDEX('E_Tokovi izvora'!$A:$N,EH54,BC$7)))","v":""},{"$f":"IF($E54=\"\",\"\",IF(INDEX('E_Tokovi izvora'!$A:$N,EI54,BD$7)=\"\",\"\",INDEX('E_Tokovi izvora'!$A:$N,EI54,BD$7)))","v":""},{"$f":"IF($E54=\"\",\"\",IF(INDEX('E_Tokovi izvora'!$A:$N,EJ54,BE$7)=\"\",\"\",INDEX('E_Tokovi izvora'!$A:$N,EJ54,BE$7)))","v":""},{"$f":"IF($E54=\"\",\"\",IF(INDEX('E_Tokovi izvora'!$A:$N,EK54,BF$7)=\"\",\"\",INDEX('E_Tokovi izvora'!$A:$N,EK54,BF$7)))","v":""},{"$f":"IF($E54=\"\",\"\",IF(INDEX('E_Tokovi izvora'!$A:$N,EL54,BG$7)=\"\",\"\",INDEX('E_Tokovi izvora'!$A:$N,EL54,BG$7)))","v":""},{"$f":"IF($E54=\"\",\"\",IF(INDEX('E_Tokovi izvora'!$A:$N,EM54,BH$7)=\"\",\"\",INDEX('E_Tokovi izvora'!$A:$N,EM54,BH$7)))","v":""},{"$f":"IF($E54=\"\",\"\",IF(INDEX('E_Tokovi izvora'!$A:$N,EN54,BI$7)=\"\",\"\",INDEX('E_Tokovi izvora'!$A:$N,EN54,BI$7)))","v":""},{"$f":"IF($E54=\"\",\"\",IF(INDEX('E_Tokovi izvora'!$A:$N,EO54,BJ$7)=\"\",\"\",INDEX('E_Tokovi izvora'!$A:$N,EO54,BJ$7)))","v":""},{"$f":"IF($E54=\"\",\"\",IF(INDEX('E_Tokovi izvora'!$A:$N,EP54,BK$7)=\"\",\"\",INDEX('E_Tokovi izvora'!$A:$N,EP54,BK$7)))","v":""},{"$f":"IF($E54=\"\",\"\",IF(INDEX('E_Tokovi izvora'!$A:$N,EQ54,BL$7)=\"\",\"\",INDEX('E_Tokovi izvora'!$A:$N,EQ54,BL$7)))","v":""},{"$f":"IF($E54=\"\",\"\",IF(INDEX('E_Tokovi izvora'!$A:$N,ER54,BM$7)=\"\",\"\",INDEX('E_Tokovi izvora'!$A:$N,ER54,BM$7)))","v":""},{"$f":"IF($E54=\"\",\"\",IF(INDEX('E_Tokovi izvora'!$A:$N,ES54,BN$7)=\"\",\"\",INDEX('E_Tokovi izvora'!$A:$N,ES54,BN$7)))","v":""},{"$f":"IF($E54=\"\",\"\",IF(INDEX('E_Tokovi izvora'!$A:$N,ET54,BO$7)=\"\",\"\",INDEX('E_Tokovi izvora'!$A:$N,ET54,BO$7)))","v":""},{"$f":"IF($E54=\"\",\"\",IF(INDEX('E_Tokovi izvora'!$A:$N,EU54,BP$7)=\"\",\"\",INDEX('E_Tokovi izvora'!$A:$N,EU54,BP$7)))","v":""},{"$f":"IF($E54=\"\",\"\",IF(INDEX('E_Tokovi izvora'!$A:$N,EV54,BQ$7)=\"\",\"\",INDEX('E_Tokovi izvora'!$A:$N,EV54,BQ$7)))","v":""},{"$f":"IF($E54=\"\",\"\",IF(INDEX('E_Tokovi izvora'!$A:$N,EW54,BR$7)=\"\",\"\",INDEX('E_Tokovi izvora'!$A:$N,EW54,BR$7)))","v":""},{"$f":"IF($E54=\"\",\"\",IF(INDEX('E_Tokovi izvora'!$A:$N,EX54,BS$7)=\"\",\"\",INDEX('E_Tokovi izvora'!$A:$N,EX54,BS$7)))","v":""},{"$f":"IF($E54=\"\",\"\",IF(INDEX('E_Tokovi izvora'!$A:$N,EY54,BT$7)=\"\",\"\",INDEX('E_Tokovi izvora'!$A:$N,EY54,BT$7)))","v":""},null,null,null,null,null,null,null,null,null,null,null,null,null,null,null,"SourceCategory_",{"$f":"INDEX('C_Opis postrojenja'!$A$226:$A$332,ROWS($CI$11:CI54))=\"ausblenden\"","v":true},"SourceStreamName_",null,2971,2973,2975,2977,2979,2981,2983,2983,2983,2983,2983,2986,2990,2991,2992,2999,3009,3009,3009,3009,3009,3009,3009,3000,3010,3010,3010,3010,3010,3010,3010,3001,3011,3011,3011,3011,3011,3011,3011,3002,3012,3012,3012,3012,3012,3012,3012,3003,3013,3013,3013,3013,3013,3013,3013,3004,3014,3014,3014,3014,3014,3014,3014,3020]
[null,{"$f":"IF(COUNTIF($CK$10:CK55,TRUE)>0,\"\",INDEX('C_Opis postrojenja'!$E$226:$E$242,ROWS($A$11:A55)))","v":""},{"$f":"IF($E55=\"\",\"\",INDEX('C_Opis postrojenja'!F:F,MATCH($B55,'C_Opis postrojenja'!$E:$E,0)))","v":""},{"$f":"IF($E55=\"\",\"\",INDEX('C_Opis postrojenja'!I:I,MATCH($B55,'C_Opis postrojenja'!$E:$E,0)))","v":""},{"$f":"IF($B55=\"\",\"\",INDEX('C_Opis postrojenja'!F:F,MATCH($CJ55,'C_Opis postrojenja'!$Q:$Q,0)))","v":""},{"$f":"IF($E55=\"\",\"\",INDEX('C_Opis postrojenja'!L:L,MATCH($CJ55,'C_Opis postrojenja'!$Q:$Q,0)))","v":""},{"$f":"IF($E55=\"\",\"\",INDEX('C_Opis postrojenja'!M:M,MATCH($CJ55,'C_Opis postrojenja'!$Q:$Q,0)))","v":""},{"$f":"IF($E55=\"\",\"\",INDEX('C_Opis postrojenja'!N:N,MATCH($CJ55,'C_Opis postrojenja'!$Q:$Q,0)))","v":""},{"$f":"IF($E55=\"\",\"\",IF(INDEX('E_Tokovi izvora'!$A:$N,CN55,I$7)=\"\",\"\",INDEX('E_Tokovi izvora'!$A:$N,CN55,I$7)))","v":""},{"$f":"IF($E55=\"\",\"\",IF(INDEX('E_Tokovi izvora'!$A:$N,CO55,J$7)=\"\",\"\",INDEX('E_Tokovi izvora'!$A:$N,CO55,J$7)))","v":""},{"$f":"IF($E55=\"\",\"\",IF(INDEX('E_Tokovi izvora'!$A:$N,CP55,K$7)=\"\",\"\",INDEX('E_Tokovi izvora'!$A:$N,CP55,K$7)))","v":""},{"$f":"IF($E55=\"\",\"\",IF(INDEX('E_Tokovi izvora'!$A:$N,CQ55,L$7)=\"\",\"\",INDEX('E_Tokovi izvora'!$A:$N,CQ55,L$7)))","v":""},{"$f":"IF($E55=\"\",\"\",IF(INDEX('E_Tokovi izvora'!$A:$N,CR55,M$7)=\"\",\"\",INDEX('E_Tokovi izvora'!$A:$N,CR55,M$7)))","v":""},{"$f":"IF($E55=\"\",\"\",IF(INDEX('E_Tokovi izvora'!$A:$N,CS55,N$7)=\"\",\"\",INDEX('E_Tokovi izvora'!$A:$N,CS55,N$7)))","v":""},{"$f":"IF($E55=\"\",\"\",IF(INDEX('E_Tokovi izvora'!$A:$N,CT55,O$7)=\"\",\"\",INDEX('E_Tokovi izvora'!$A:$N,CT55,O$7)))","v":""},{"$f":"IF($E55=\"\",\"\",IF(INDEX('E_Tokovi izvora'!$A:$N,CU55,P$7)=\"\",\"\",INDEX('E_Tokovi izvora'!$A:$N,CU55,P$7)))","v":""},{"$f":"IF($E55=\"\",\"\",IF(INDEX('E_Tokovi izvora'!$A:$N,CV55,Q$7)=\"\",\"\",INDEX('E_Tokovi izvora'!$A:$N,CV55,Q$7)))","v":""},{"$f":"IF($E55=\"\",\"\",IF(INDEX('E_Tokovi izvora'!$A:$N,CW55,R$7)=\"\",\"\",INDEX('E_Tokovi izvora'!$A:$N,CW55,R$7)))","v":""},{"$f":"IF($E55=\"\",\"\",IF(INDEX('E_Tokovi izvora'!$A:$N,CX55,S$7)=\"\",\"\",INDEX('E_Tokovi izvora'!$A:$N,CX55,S$7)))","v":""},{"$f":"IF($E55=\"\",\"\",IF(INDEX('E_Tokovi izvora'!$A:$N,CY55,T$7)=\"\",\"\",INDEX('E_Tokovi izvora'!$A:$N,CY55,T$7)))","v":""},{"$f":"IF($E55=\"\",\"\",IF(INDEX('E_Tokovi izvora'!$A:$N,CZ55,U$7)=\"\",\"\",INDEX('E_Tokovi izvora'!$A:$N,CZ55,U$7)))","v":""},{"$f":"IF($E55=\"\",\"\",IF(INDEX('E_Tokovi izvora'!$A:$N,DA55,V$7)=\"\",\"\",INDEX('E_Tokovi izvora'!$A:$N,DA55,V$7)))","v":""},{"$f":"IF($E55=\"\",\"\",IF(INDEX('E_Tokovi izvora'!$A:$N,DB55,W$7)=\"\",\"\",INDEX('E_Tokovi izvora'!$A:$N,DB55,W$7)))","v":""},{"$f":"IF($E55=\"\",\"\",IF(INDEX('E_Tokovi izvora'!$A:$N,DC55,X$7)=\"\",\"\",INDEX('E_Tokovi izvora'!$A:$N,DC55,X$7)))","v":""},{"$f":"IF($E55=\"\",\"\",IF(INDEX('E_Tokovi izvora'!$A:$N,DD55,Y$7)=\"\",\"\",INDEX('E_Tokovi izvora'!$A:$N,DD55,Y$7)))","v":""},{"$f":"IF($E55=\"\",\"\",IF(INDEX('E_Tokovi izvora'!$A:$N,DE55,Z$7)=\"\",\"\",INDEX('E_Tokovi izvora'!$A:$N,DE55,Z$7)))","v":""},{"$f":"IF($E55=\"\",\"\",IF(INDEX('E_Tokovi izvora'!$A:$N,DF55,AA$7)=\"\",\"\",INDEX('E_Tokovi izvora'!$A:$N,DF55,AA$7)))","v":""},{"$f":"IF($E55=\"\",\"\",IF(INDEX('E_Tokovi izvora'!$A:$N,DG55,AB$7)=\"\",\"\",INDEX('E_Tokovi izvora'!$A:$N,DG55,AB$7)))","v":""},{"$f":"IF($E55=\"\",\"\",IF(INDEX('E_Tokovi izvora'!$A:$N,DH55,AC$7)=\"\",\"\",INDEX('E_Tokovi izvora'!$A:$N,DH55,AC$7)))","v":""},{"$f":"IF($E55=\"\",\"\",IF(INDEX('E_Tokovi izvora'!$A:$N,DI55,AD$7)=\"\",\"\",INDEX('E_Tokovi izvora'!$A:$N,DI55,AD$7)))","v":""},{"$f":"IF($E55=\"\",\"\",IF(INDEX('E_Tokovi izvora'!$A:$N,DJ55,AE$7)=\"\",\"\",INDEX('E_Tokovi izvora'!$A:$N,DJ55,AE$7)))","v":""},{"$f":"IF($E55=\"\",\"\",IF(INDEX('E_Tokovi izvora'!$A:$N,DK55,AF$7)=\"\",\"\",INDEX('E_Tokovi izvora'!$A:$N,DK55,AF$7)))","v":""},{"$f":"IF($E55=\"\",\"\",IF(INDEX('E_Tokovi izvora'!$A:$N,DL55,AG$7)=\"\",\"\",INDEX('E_Tokovi izvora'!$A:$N,DL55,AG$7)))","v":""},{"$f":"IF($E55=\"\",\"\",IF(INDEX('E_Tokovi izvora'!$A:$N,DM55,AH$7)=\"\",\"\",INDEX('E_Tokovi izvora'!$A:$N,DM55,AH$7)))","v":""},{"$f":"IF($E55=\"\",\"\",IF(INDEX('E_Tokovi izvora'!$A:$N,DN55,AI$7)=\"\",\"\",INDEX('E_Tokovi izvora'!$A:$N,DN55,AI$7)))","v":""},{"$f":"IF($E55=\"\",\"\",IF(INDEX('E_Tokovi izvora'!$A:$N,DO55,AJ$7)=\"\",\"\",INDEX('E_Tokovi izvora'!$A:$N,DO55,AJ$7)))","v":""},{"$f":"IF($E55=\"\",\"\",IF(INDEX('E_Tokovi izvora'!$A:$N,DP55,AK$7)=\"\",\"\",INDEX('E_Tokovi izvora'!$A:$N,DP55,AK$7)))","v":""},{"$f":"IF($E55=\"\",\"\",IF(INDEX('E_Tokovi izvora'!$A:$N,DQ55,AL$7)=\"\",\"\",INDEX('E_Tokovi izvora'!$A:$N,DQ55,AL$7)))","v":""},{"$f":"IF($E55=\"\",\"\",IF(INDEX('E_Tokovi izvora'!$A:$N,DR55,AM$7)=\"\",\"\",INDEX('E_Tokovi izvora'!$A:$N,DR55,AM$7)))","v":""},{"$f":"IF($E55=\"\",\"\",IF(INDEX('E_Tokovi izvora'!$A:$N,DS55,AN$7)=\"\",\"\",INDEX('E_Tokovi izvora'!$A:$N,DS55,AN$7)))","v":""},{"$f":"IF($E55=\"\",\"\",IF(INDEX('E_Tokovi izvora'!$A:$N,DT55,AO$7)=\"\",\"\",INDEX('E_Tokovi izvora'!$A:$N,DT55,AO$7)))","v":""},{"$f":"IF($E55=\"\",\"\",IF(INDEX('E_Tokovi izvora'!$A:$N,DU55,AP$7)=\"\",\"\",INDEX('E_Tokovi izvora'!$A:$N,DU55,AP$7)))","v":""},{"$f":"IF($E55=\"\",\"\",IF(INDEX('E_Tokovi izvora'!$A:$N,DV55,AQ$7)=\"\",\"\",INDEX('E_Tokovi izvora'!$A:$N,DV55,AQ$7)))","v":""},{"$f":"IF($E55=\"\",\"\",IF(INDEX('E_Tokovi izvora'!$A:$N,DW55,AR$7)=\"\",\"\",INDEX('E_Tokovi izvora'!$A:$N,DW55,AR$7)))","v":""},{"$f":"IF($E55=\"\",\"\",IF(INDEX('E_Tokovi izvora'!$A:$N,DX55,AS$7)=\"\",\"\",INDEX('E_Tokovi izvora'!$A:$N,DX55,AS$7)))","v":""},{"$f":"IF($E55=\"\",\"\",IF(INDEX('E_Tokovi izvora'!$A:$N,DY55,AT$7)=\"\",\"\",INDEX('E_Tokovi izvora'!$A:$N,DY55,AT$7)))","v":""},{"$f":"IF($E55=\"\",\"\",IF(INDEX('E_Tokovi izvora'!$A:$N,DZ55,AU$7)=\"\",\"\",INDEX('E_Tokovi izvora'!$A:$N,DZ55,AU$7)))","v":""},{"$f":"IF($E55=\"\",\"\",IF(INDEX('E_Tokovi izvora'!$A:$N,EA55,AV$7)=\"\",\"\",INDEX('E_Tokovi izvora'!$A:$N,EA55,AV$7)))","v":""},{"$f":"IF($E55=\"\",\"\",IF(INDEX('E_Tokovi izvora'!$A:$N,EB55,AW$7)=\"\",\"\",INDEX('E_Tokovi izvora'!$A:$N,EB55,AW$7)))","v":""},{"$f":"IF($E55=\"\",\"\",IF(INDEX('E_Tokovi izvora'!$A:$N,EC55,AX$7)=\"\",\"\",INDEX('E_Tokovi izvora'!$A:$N,EC55,AX$7)))","v":""},{"$f":"IF($E55=\"\",\"\",IF(INDEX('E_Tokovi izvora'!$A:$N,ED55,AY$7)=\"\",\"\",INDEX('E_Tokovi izvora'!$A:$N,ED55,AY$7)))","v":""},{"$f":"IF($E55=\"\",\"\",IF(INDEX('E_Tokovi izvora'!$A:$N,EE55,AZ$7)=\"\",\"\",INDEX('E_Tokovi izvora'!$A:$N,EE55,AZ$7)))","v":""},{"$f":"IF($E55=\"\",\"\",IF(INDEX('E_Tokovi izvora'!$A:$N,EF55,BA$7)=\"\",\"\",INDEX('E_Tokovi izvora'!$A:$N,EF55,BA$7)))","v":""},{"$f":"IF($E55=\"\",\"\",IF(INDEX('E_Tokovi izvora'!$A:$N,EG55,BB$7)=\"\",\"\",INDEX('E_Tokovi izvora'!$A:$N,EG55,BB$7)))","v":""},{"$f":"IF($E55=\"\",\"\",IF(INDEX('E_Tokovi izvora'!$A:$N,EH55,BC$7)=\"\",\"\",INDEX('E_Tokovi izvora'!$A:$N,EH55,BC$7)))","v":""},{"$f":"IF($E55=\"\",\"\",IF(INDEX('E_Tokovi izvora'!$A:$N,EI55,BD$7)=\"\",\"\",INDEX('E_Tokovi izvora'!$A:$N,EI55,BD$7)))","v":""},{"$f":"IF($E55=\"\",\"\",IF(INDEX('E_Tokovi izvora'!$A:$N,EJ55,BE$7)=\"\",\"\",INDEX('E_Tokovi izvora'!$A:$N,EJ55,BE$7)))","v":""},{"$f":"IF($E55=\"\",\"\",IF(INDEX('E_Tokovi izvora'!$A:$N,EK55,BF$7)=\"\",\"\",INDEX('E_Tokovi izvora'!$A:$N,EK55,BF$7)))","v":""},{"$f":"IF($E55=\"\",\"\",IF(INDEX('E_Tokovi izvora'!$A:$N,EL55,BG$7)=\"\",\"\",INDEX('E_Tokovi izvora'!$A:$N,EL55,BG$7)))","v":""},{"$f":"IF($E55=\"\",\"\",IF(INDEX('E_Tokovi izvora'!$A:$N,EM55,BH$7)=\"\",\"\",INDEX('E_Tokovi izvora'!$A:$N,EM55,BH$7)))","v":""},{"$f":"IF($E55=\"\",\"\",IF(INDEX('E_Tokovi izvora'!$A:$N,EN55,BI$7)=\"\",\"\",INDEX('E_Tokovi izvora'!$A:$N,EN55,BI$7)))","v":""},{"$f":"IF($E55=\"\",\"\",IF(INDEX('E_Tokovi izvora'!$A:$N,EO55,BJ$7)=\"\",\"\",INDEX('E_Tokovi izvora'!$A:$N,EO55,BJ$7)))","v":""},{"$f":"IF($E55=\"\",\"\",IF(INDEX('E_Tokovi izvora'!$A:$N,EP55,BK$7)=\"\",\"\",INDEX('E_Tokovi izvora'!$A:$N,EP55,BK$7)))","v":""},{"$f":"IF($E55=\"\",\"\",IF(INDEX('E_Tokovi izvora'!$A:$N,EQ55,BL$7)=\"\",\"\",INDEX('E_Tokovi izvora'!$A:$N,EQ55,BL$7)))","v":""},{"$f":"IF($E55=\"\",\"\",IF(INDEX('E_Tokovi izvora'!$A:$N,ER55,BM$7)=\"\",\"\",INDEX('E_Tokovi izvora'!$A:$N,ER55,BM$7)))","v":""},{"$f":"IF($E55=\"\",\"\",IF(INDEX('E_Tokovi izvora'!$A:$N,ES55,BN$7)=\"\",\"\",INDEX('E_Tokovi izvora'!$A:$N,ES55,BN$7)))","v":""},{"$f":"IF($E55=\"\",\"\",IF(INDEX('E_Tokovi izvora'!$A:$N,ET55,BO$7)=\"\",\"\",INDEX('E_Tokovi izvora'!$A:$N,ET55,BO$7)))","v":""},{"$f":"IF($E55=\"\",\"\",IF(INDEX('E_Tokovi izvora'!$A:$N,EU55,BP$7)=\"\",\"\",INDEX('E_Tokovi izvora'!$A:$N,EU55,BP$7)))","v":""},{"$f":"IF($E55=\"\",\"\",IF(INDEX('E_Tokovi izvora'!$A:$N,EV55,BQ$7)=\"\",\"\",INDEX('E_Tokovi izvora'!$A:$N,EV55,BQ$7)))","v":""},{"$f":"IF($E55=\"\",\"\",IF(INDEX('E_Tokovi izvora'!$A:$N,EW55,BR$7)=\"\",\"\",INDEX('E_Tokovi izvora'!$A:$N,EW55,BR$7)))","v":""},{"$f":"IF($E55=\"\",\"\",IF(INDEX('E_Tokovi izvora'!$A:$N,EX55,BS$7)=\"\",\"\",INDEX('E_Tokovi izvora'!$A:$N,EX55,BS$7)))","v":""},{"$f":"IF($E55=\"\",\"\",IF(INDEX('E_Tokovi izvora'!$A:$N,EY55,BT$7)=\"\",\"\",INDEX('E_Tokovi izvora'!$A:$N,EY55,BT$7)))","v":""},null,null,null,null,null,null,null,null,null,null,null,null,null,null,null,"SourceCategory_",{"$f":"INDEX('C_Opis postrojenja'!$A$226:$A$332,ROWS($CI$11:CI55))=\"ausblenden\"","v":true},"SourceStreamName_",null,3037,3039,3041,3043,3045,3047,3049,3049,3049,3049,3049,3052,3056,3057,3058,3065,3075,3075,3075,3075,3075,3075,3075,3066,3076,3076,3076,3076,3076,3076,3076,3067,3077,3077,3077,3077,3077,3077,3077,3068,3078,3078,3078,3078,3078,3078,3078,3069,3079,3079,3079,3079,3079,3079,3079,3070,3080,3080,3080,3080,3080,3080,3080,3086]
[null,{"$f":"IF(COUNTIF($CK$10:CK56,TRUE)>0,\"\",INDEX('C_Opis postrojenja'!$E$226:$E$242,ROWS($A$11:A56)))","v":""},{"$f":"IF($E56=\"\",\"\",INDEX('C_Opis postrojenja'!F:F,MATCH($B56,'C_Opis postrojenja'!$E:$E,0)))","v":""},{"$f":"IF($E56=\"\",\"\",INDEX('C_Opis postrojenja'!I:I,MATCH($B56,'C_Opis postrojenja'!$E:$E,0)))","v":""},{"$f":"IF($B56=\"\",\"\",INDEX('C_Opis postrojenja'!F:F,MATCH($CJ56,'C_Opis postrojenja'!$Q:$Q,0)))","v":""},{"$f":"IF($E56=\"\",\"\",INDEX('C_Opis postrojenja'!L:L,MATCH($CJ56,'C_Opis postrojenja'!$Q:$Q,0)))","v":""},{"$f":"IF($E56=\"\",\"\",INDEX('C_Opis postrojenja'!M:M,MATCH($CJ56,'C_Opis postrojenja'!$Q:$Q,0)))","v":""},{"$f":"IF($E56=\"\",\"\",INDEX('C_Opis postrojenja'!N:N,MATCH($CJ56,'C_Opis postrojenja'!$Q:$Q,0)))","v":""},{"$f":"IF($E56=\"\",\"\",IF(INDEX('E_Tokovi izvora'!$A:$N,CN56,I$7)=\"\",\"\",INDEX('E_Tokovi izvora'!$A:$N,CN56,I$7)))","v":""},{"$f":"IF($E56=\"\",\"\",IF(INDEX('E_Tokovi izvora'!$A:$N,CO56,J$7)=\"\",\"\",INDEX('E_Tokovi izvora'!$A:$N,CO56,J$7)))","v":""},{"$f":"IF($E56=\"\",\"\",IF(INDEX('E_Tokovi izvora'!$A:$N,CP56,K$7)=\"\",\"\",INDEX('E_Tokovi izvora'!$A:$N,CP56,K$7)))","v":""},{"$f":"IF($E56=\"\",\"\",IF(INDEX('E_Tokovi izvora'!$A:$N,CQ56,L$7)=\"\",\"\",INDEX('E_Tokovi izvora'!$A:$N,CQ56,L$7)))","v":""},{"$f":"IF($E56=\"\",\"\",IF(INDEX('E_Tokovi izvora'!$A:$N,CR56,M$7)=\"\",\"\",INDEX('E_Tokovi izvora'!$A:$N,CR56,M$7)))","v":""},{"$f":"IF($E56=\"\",\"\",IF(INDEX('E_Tokovi izvora'!$A:$N,CS56,N$7)=\"\",\"\",INDEX('E_Tokovi izvora'!$A:$N,CS56,N$7)))","v":""},{"$f":"IF($E56=\"\",\"\",IF(INDEX('E_Tokovi izvora'!$A:$N,CT56,O$7)=\"\",\"\",INDEX('E_Tokovi izvora'!$A:$N,CT56,O$7)))","v":""},{"$f":"IF($E56=\"\",\"\",IF(INDEX('E_Tokovi izvora'!$A:$N,CU56,P$7)=\"\",\"\",INDEX('E_Tokovi izvora'!$A:$N,CU56,P$7)))","v":""},{"$f":"IF($E56=\"\",\"\",IF(INDEX('E_Tokovi izvora'!$A:$N,CV56,Q$7)=\"\",\"\",INDEX('E_Tokovi izvora'!$A:$N,CV56,Q$7)))","v":""},{"$f":"IF($E56=\"\",\"\",IF(INDEX('E_Tokovi izvora'!$A:$N,CW56,R$7)=\"\",\"\",INDEX('E_Tokovi izvora'!$A:$N,CW56,R$7)))","v":""},{"$f":"IF($E56=\"\",\"\",IF(INDEX('E_Tokovi izvora'!$A:$N,CX56,S$7)=\"\",\"\",INDEX('E_Tokovi izvora'!$A:$N,CX56,S$7)))","v":""},{"$f":"IF($E56=\"\",\"\",IF(INDEX('E_Tokovi izvora'!$A:$N,CY56,T$7)=\"\",\"\",INDEX('E_Tokovi izvora'!$A:$N,CY56,T$7)))","v":""},{"$f":"IF($E56=\"\",\"\",IF(INDEX('E_Tokovi izvora'!$A:$N,CZ56,U$7)=\"\",\"\",INDEX('E_Tokovi izvora'!$A:$N,CZ56,U$7)))","v":""},{"$f":"IF($E56=\"\",\"\",IF(INDEX('E_Tokovi izvora'!$A:$N,DA56,V$7)=\"\",\"\",INDEX('E_Tokovi izvora'!$A:$N,DA56,V$7)))","v":""},{"$f":"IF($E56=\"\",\"\",IF(INDEX('E_Tokovi izvora'!$A:$N,DB56,W$7)=\"\",\"\",INDEX('E_Tokovi izvora'!$A:$N,DB56,W$7)))","v":""},{"$f":"IF($E56=\"\",\"\",IF(INDEX('E_Tokovi izvora'!$A:$N,DC56,X$7)=\"\",\"\",INDEX('E_Tokovi izvora'!$A:$N,DC56,X$7)))","v":""},{"$f":"IF($E56=\"\",\"\",IF(INDEX('E_Tokovi izvora'!$A:$N,DD56,Y$7)=\"\",\"\",INDEX('E_Tokovi izvora'!$A:$N,DD56,Y$7)))","v":""},{"$f":"IF($E56=\"\",\"\",IF(INDEX('E_Tokovi izvora'!$A:$N,DE56,Z$7)=\"\",\"\",INDEX('E_Tokovi izvora'!$A:$N,DE56,Z$7)))","v":""},{"$f":"IF($E56=\"\",\"\",IF(INDEX('E_Tokovi izvora'!$A:$N,DF56,AA$7)=\"\",\"\",INDEX('E_Tokovi izvora'!$A:$N,DF56,AA$7)))","v":""},{"$f":"IF($E56=\"\",\"\",IF(INDEX('E_Tokovi izvora'!$A:$N,DG56,AB$7)=\"\",\"\",INDEX('E_Tokovi izvora'!$A:$N,DG56,AB$7)))","v":""},{"$f":"IF($E56=\"\",\"\",IF(INDEX('E_Tokovi izvora'!$A:$N,DH56,AC$7)=\"\",\"\",INDEX('E_Tokovi izvora'!$A:$N,DH56,AC$7)))","v":""},{"$f":"IF($E56=\"\",\"\",IF(INDEX('E_Tokovi izvora'!$A:$N,DI56,AD$7)=\"\",\"\",INDEX('E_Tokovi izvora'!$A:$N,DI56,AD$7)))","v":""},{"$f":"IF($E56=\"\",\"\",IF(INDEX('E_Tokovi izvora'!$A:$N,DJ56,AE$7)=\"\",\"\",INDEX('E_Tokovi izvora'!$A:$N,DJ56,AE$7)))","v":""},{"$f":"IF($E56=\"\",\"\",IF(INDEX('E_Tokovi izvora'!$A:$N,DK56,AF$7)=\"\",\"\",INDEX('E_Tokovi izvora'!$A:$N,DK56,AF$7)))","v":""},{"$f":"IF($E56=\"\",\"\",IF(INDEX('E_Tokovi izvora'!$A:$N,DL56,AG$7)=\"\",\"\",INDEX('E_Tokovi izvora'!$A:$N,DL56,AG$7)))","v":""},{"$f":"IF($E56=\"\",\"\",IF(INDEX('E_Tokovi izvora'!$A:$N,DM56,AH$7)=\"\",\"\",INDEX('E_Tokovi izvora'!$A:$N,DM56,AH$7)))","v":""},{"$f":"IF($E56=\"\",\"\",IF(INDEX('E_Tokovi izvora'!$A:$N,DN56,AI$7)=\"\",\"\",INDEX('E_Tokovi izvora'!$A:$N,DN56,AI$7)))","v":""},{"$f":"IF($E56=\"\",\"\",IF(INDEX('E_Tokovi izvora'!$A:$N,DO56,AJ$7)=\"\",\"\",INDEX('E_Tokovi izvora'!$A:$N,DO56,AJ$7)))","v":""},{"$f":"IF($E56=\"\",\"\",IF(INDEX('E_Tokovi izvora'!$A:$N,DP56,AK$7)=\"\",\"\",INDEX('E_Tokovi izvora'!$A:$N,DP56,AK$7)))","v":""},{"$f":"IF($E56=\"\",\"\",IF(INDEX('E_Tokovi izvora'!$A:$N,DQ56,AL$7)=\"\",\"\",INDEX('E_Tokovi izvora'!$A:$N,DQ56,AL$7)))","v":""},{"$f":"IF($E56=\"\",\"\",IF(INDEX('E_Tokovi izvora'!$A:$N,DR56,AM$7)=\"\",\"\",INDEX('E_Tokovi izvora'!$A:$N,DR56,AM$7)))","v":""},{"$f":"IF($E56=\"\",\"\",IF(INDEX('E_Tokovi izvora'!$A:$N,DS56,AN$7)=\"\",\"\",INDEX('E_Tokovi izvora'!$A:$N,DS56,AN$7)))","v":""},{"$f":"IF($E56=\"\",\"\",IF(INDEX('E_Tokovi izvora'!$A:$N,DT56,AO$7)=\"\",\"\",INDEX('E_Tokovi izvora'!$A:$N,DT56,AO$7)))","v":""},{"$f":"IF($E56=\"\",\"\",IF(INDEX('E_Tokovi izvora'!$A:$N,DU56,AP$7)=\"\",\"\",INDEX('E_Tokovi izvora'!$A:$N,DU56,AP$7)))","v":""},{"$f":"IF($E56=\"\",\"\",IF(INDEX('E_Tokovi izvora'!$A:$N,DV56,AQ$7)=\"\",\"\",INDEX('E_Tokovi izvora'!$A:$N,DV56,AQ$7)))","v":""},{"$f":"IF($E56=\"\",\"\",IF(INDEX('E_Tokovi izvora'!$A:$N,DW56,AR$7)=\"\",\"\",INDEX('E_Tokovi izvora'!$A:$N,DW56,AR$7)))","v":""},{"$f":"IF($E56=\"\",\"\",IF(INDEX('E_Tokovi izvora'!$A:$N,DX56,AS$7)=\"\",\"\",INDEX('E_Tokovi izvora'!$A:$N,DX56,AS$7)))","v":""},{"$f":"IF($E56=\"\",\"\",IF(INDEX('E_Tokovi izvora'!$A:$N,DY56,AT$7)=\"\",\"\",INDEX('E_Tokovi izvora'!$A:$N,DY56,AT$7)))","v":""},{"$f":"IF($E56=\"\",\"\",IF(INDEX('E_Tokovi izvora'!$A:$N,DZ56,AU$7)=\"\",\"\",INDEX('E_Tokovi izvora'!$A:$N,DZ56,AU$7)))","v":""},{"$f":"IF($E56=\"\",\"\",IF(INDEX('E_Tokovi izvora'!$A:$N,EA56,AV$7)=\"\",\"\",INDEX('E_Tokovi izvora'!$A:$N,EA56,AV$7)))","v":""},{"$f":"IF($E56=\"\",\"\",IF(INDEX('E_Tokovi izvora'!$A:$N,EB56,AW$7)=\"\",\"\",INDEX('E_Tokovi izvora'!$A:$N,EB56,AW$7)))","v":""},{"$f":"IF($E56=\"\",\"\",IF(INDEX('E_Tokovi izvora'!$A:$N,EC56,AX$7)=\"\",\"\",INDEX('E_Tokovi izvora'!$A:$N,EC56,AX$7)))","v":""},{"$f":"IF($E56=\"\",\"\",IF(INDEX('E_Tokovi izvora'!$A:$N,ED56,AY$7)=\"\",\"\",INDEX('E_Tokovi izvora'!$A:$N,ED56,AY$7)))","v":""},{"$f":"IF($E56=\"\",\"\",IF(INDEX('E_Tokovi izvora'!$A:$N,EE56,AZ$7)=\"\",\"\",INDEX('E_Tokovi izvora'!$A:$N,EE56,AZ$7)))","v":""},{"$f":"IF($E56=\"\",\"\",IF(INDEX('E_Tokovi izvora'!$A:$N,EF56,BA$7)=\"\",\"\",INDEX('E_Tokovi izvora'!$A:$N,EF56,BA$7)))","v":""},{"$f":"IF($E56=\"\",\"\",IF(INDEX('E_Tokovi izvora'!$A:$N,EG56,BB$7)=\"\",\"\",INDEX('E_Tokovi izvora'!$A:$N,EG56,BB$7)))","v":""},{"$f":"IF($E56=\"\",\"\",IF(INDEX('E_Tokovi izvora'!$A:$N,EH56,BC$7)=\"\",\"\",INDEX('E_Tokovi izvora'!$A:$N,EH56,BC$7)))","v":""},{"$f":"IF($E56=\"\",\"\",IF(INDEX('E_Tokovi izvora'!$A:$N,EI56,BD$7)=\"\",\"\",INDEX('E_Tokovi izvora'!$A:$N,EI56,BD$7)))","v":""},{"$f":"IF($E56=\"\",\"\",IF(INDEX('E_Tokovi izvora'!$A:$N,EJ56,BE$7)=\"\",\"\",INDEX('E_Tokovi izvora'!$A:$N,EJ56,BE$7)))","v":""},{"$f":"IF($E56=\"\",\"\",IF(INDEX('E_Tokovi izvora'!$A:$N,EK56,BF$7)=\"\",\"\",INDEX('E_Tokovi izvora'!$A:$N,EK56,BF$7)))","v":""},{"$f":"IF($E56=\"\",\"\",IF(INDEX('E_Tokovi izvora'!$A:$N,EL56,BG$7)=\"\",\"\",INDEX('E_Tokovi izvora'!$A:$N,EL56,BG$7)))","v":""},{"$f":"IF($E56=\"\",\"\",IF(INDEX('E_Tokovi izvora'!$A:$N,EM56,BH$7)=\"\",\"\",INDEX('E_Tokovi izvora'!$A:$N,EM56,BH$7)))","v":""},{"$f":"IF($E56=\"\",\"\",IF(INDEX('E_Tokovi izvora'!$A:$N,EN56,BI$7)=\"\",\"\",INDEX('E_Tokovi izvora'!$A:$N,EN56,BI$7)))","v":""},{"$f":"IF($E56=\"\",\"\",IF(INDEX('E_Tokovi izvora'!$A:$N,EO56,BJ$7)=\"\",\"\",INDEX('E_Tokovi izvora'!$A:$N,EO56,BJ$7)))","v":""},{"$f":"IF($E56=\"\",\"\",IF(INDEX('E_Tokovi izvora'!$A:$N,EP56,BK$7)=\"\",\"\",INDEX('E_Tokovi izvora'!$A:$N,EP56,BK$7)))","v":""},{"$f":"IF($E56=\"\",\"\",IF(INDEX('E_Tokovi izvora'!$A:$N,EQ56,BL$7)=\"\",\"\",INDEX('E_Tokovi izvora'!$A:$N,EQ56,BL$7)))","v":""},{"$f":"IF($E56=\"\",\"\",IF(INDEX('E_Tokovi izvora'!$A:$N,ER56,BM$7)=\"\",\"\",INDEX('E_Tokovi izvora'!$A:$N,ER56,BM$7)))","v":""},{"$f":"IF($E56=\"\",\"\",IF(INDEX('E_Tokovi izvora'!$A:$N,ES56,BN$7)=\"\",\"\",INDEX('E_Tokovi izvora'!$A:$N,ES56,BN$7)))","v":""},{"$f":"IF($E56=\"\",\"\",IF(INDEX('E_Tokovi izvora'!$A:$N,ET56,BO$7)=\"\",\"\",INDEX('E_Tokovi izvora'!$A:$N,ET56,BO$7)))","v":""},{"$f":"IF($E56=\"\",\"\",IF(INDEX('E_Tokovi izvora'!$A:$N,EU56,BP$7)=\"\",\"\",INDEX('E_Tokovi izvora'!$A:$N,EU56,BP$7)))","v":""},{"$f":"IF($E56=\"\",\"\",IF(INDEX('E_Tokovi izvora'!$A:$N,EV56,BQ$7)=\"\",\"\",INDEX('E_Tokovi izvora'!$A:$N,EV56,BQ$7)))","v":""},{"$f":"IF($E56=\"\",\"\",IF(INDEX('E_Tokovi izvora'!$A:$N,EW56,BR$7)=\"\",\"\",INDEX('E_Tokovi izvora'!$A:$N,EW56,BR$7)))","v":""},{"$f":"IF($E56=\"\",\"\",IF(INDEX('E_Tokovi izvora'!$A:$N,EX56,BS$7)=\"\",\"\",INDEX('E_Tokovi izvora'!$A:$N,EX56,BS$7)))","v":""},{"$f":"IF($E56=\"\",\"\",IF(INDEX('E_Tokovi izvora'!$A:$N,EY56,BT$7)=\"\",\"\",INDEX('E_Tokovi izvora'!$A:$N,EY56,BT$7)))","v":""},null,null,null,null,null,null,null,null,null,null,null,null,null,null,null,"SourceCategory_",{"$f":"INDEX('C_Opis postrojenja'!$A$226:$A$332,ROWS($CI$11:CI56))=\"ausblenden\"","v":true},"SourceStreamName_",null,3103,3105,3107,3109,3111,3113,3115,3115,3115,3115,3115,3118,3122,3123,3124,3131,3141,3141,3141,3141,3141,3141,3141,3132,3142,3142,3142,3142,3142,3142,3142,3133,3143,3143,3143,3143,3143,3143,3143,3134,3144,3144,3144,3144,3144,3144,3144,3135,3145,3145,3145,3145,3145,3145,3145,3136,3146,3146,3146,3146,3146,3146,3146,3152]
[null,{"$f":"IF(COUNTIF($CK$10:CK57,TRUE)>0,\"\",INDEX('C_Opis postrojenja'!$E$226:$E$242,ROWS($A$11:A57)))","v":""},{"$f":"IF($E57=\"\",\"\",INDEX('C_Opis postrojenja'!F:F,MATCH($B57,'C_Opis postrojenja'!$E:$E,0)))","v":""},{"$f":"IF($E57=\"\",\"\",INDEX('C_Opis postrojenja'!I:I,MATCH($B57,'C_Opis postrojenja'!$E:$E,0)))","v":""},{"$f":"IF($B57=\"\",\"\",INDEX('C_Opis postrojenja'!F:F,MATCH($CJ57,'C_Opis postrojenja'!$Q:$Q,0)))","v":""},{"$f":"IF($E57=\"\",\"\",INDEX('C_Opis postrojenja'!L:L,MATCH($CJ57,'C_Opis postrojenja'!$Q:$Q,0)))","v":""},{"$f":"IF($E57=\"\",\"\",INDEX('C_Opis postrojenja'!M:M,MATCH($CJ57,'C_Opis postrojenja'!$Q:$Q,0)))","v":""},{"$f":"IF($E57=\"\",\"\",INDEX('C_Opis postrojenja'!N:N,MATCH($CJ57,'C_Opis postrojenja'!$Q:$Q,0)))","v":""},{"$f":"IF($E57=\"\",\"\",IF(INDEX('E_Tokovi izvora'!$A:$N,CN57,I$7)=\"\",\"\",INDEX('E_Tokovi izvora'!$A:$N,CN57,I$7)))","v":""},{"$f":"IF($E57=\"\",\"\",IF(INDEX('E_Tokovi izvora'!$A:$N,CO57,J$7)=\"\",\"\",INDEX('E_Tokovi izvora'!$A:$N,CO57,J$7)))","v":""},{"$f":"IF($E57=\"\",\"\",IF(INDEX('E_Tokovi izvora'!$A:$N,CP57,K$7)=\"\",\"\",INDEX('E_Tokovi izvora'!$A:$N,CP57,K$7)))","v":""},{"$f":"IF($E57=\"\",\"\",IF(INDEX('E_Tokovi izvora'!$A:$N,CQ57,L$7)=\"\",\"\",INDEX('E_Tokovi izvora'!$A:$N,CQ57,L$7)))","v":""},{"$f":"IF($E57=\"\",\"\",IF(INDEX('E_Tokovi izvora'!$A:$N,CR57,M$7)=\"\",\"\",INDEX('E_Tokovi izvora'!$A:$N,CR57,M$7)))","v":""},{"$f":"IF($E57=\"\",\"\",IF(INDEX('E_Tokovi izvora'!$A:$N,CS57,N$7)=\"\",\"\",INDEX('E_Tokovi izvora'!$A:$N,CS57,N$7)))","v":""},{"$f":"IF($E57=\"\",\"\",IF(INDEX('E_Tokovi izvora'!$A:$N,CT57,O$7)=\"\",\"\",INDEX('E_Tokovi izvora'!$A:$N,CT57,O$7)))","v":""},{"$f":"IF($E57=\"\",\"\",IF(INDEX('E_Tokovi izvora'!$A:$N,CU57,P$7)=\"\",\"\",INDEX('E_Tokovi izvora'!$A:$N,CU57,P$7)))","v":""},{"$f":"IF($E57=\"\",\"\",IF(INDEX('E_Tokovi izvora'!$A:$N,CV57,Q$7)=\"\",\"\",INDEX('E_Tokovi izvora'!$A:$N,CV57,Q$7)))","v":""},{"$f":"IF($E57=\"\",\"\",IF(INDEX('E_Tokovi izvora'!$A:$N,CW57,R$7)=\"\",\"\",INDEX('E_Tokovi izvora'!$A:$N,CW57,R$7)))","v":""},{"$f":"IF($E57=\"\",\"\",IF(INDEX('E_Tokovi izvora'!$A:$N,CX57,S$7)=\"\",\"\",INDEX('E_Tokovi izvora'!$A:$N,CX57,S$7)))","v":""},{"$f":"IF($E57=\"\",\"\",IF(INDEX('E_Tokovi izvora'!$A:$N,CY57,T$7)=\"\",\"\",INDEX('E_Tokovi izvora'!$A:$N,CY57,T$7)))","v":""},{"$f":"IF($E57=\"\",\"\",IF(INDEX('E_Tokovi izvora'!$A:$N,CZ57,U$7)=\"\",\"\",INDEX('E_Tokovi izvora'!$A:$N,CZ57,U$7)))","v":""},{"$f":"IF($E57=\"\",\"\",IF(INDEX('E_Tokovi izvora'!$A:$N,DA57,V$7)=\"\",\"\",INDEX('E_Tokovi izvora'!$A:$N,DA57,V$7)))","v":""},{"$f":"IF($E57=\"\",\"\",IF(INDEX('E_Tokovi izvora'!$A:$N,DB57,W$7)=\"\",\"\",INDEX('E_Tokovi izvora'!$A:$N,DB57,W$7)))","v":""},{"$f":"IF($E57=\"\",\"\",IF(INDEX('E_Tokovi izvora'!$A:$N,DC57,X$7)=\"\",\"\",INDEX('E_Tokovi izvora'!$A:$N,DC57,X$7)))","v":""},{"$f":"IF($E57=\"\",\"\",IF(INDEX('E_Tokovi izvora'!$A:$N,DD57,Y$7)=\"\",\"\",INDEX('E_Tokovi izvora'!$A:$N,DD57,Y$7)))","v":""},{"$f":"IF($E57=\"\",\"\",IF(INDEX('E_Tokovi izvora'!$A:$N,DE57,Z$7)=\"\",\"\",INDEX('E_Tokovi izvora'!$A:$N,DE57,Z$7)))","v":""},{"$f":"IF($E57=\"\",\"\",IF(INDEX('E_Tokovi izvora'!$A:$N,DF57,AA$7)=\"\",\"\",INDEX('E_Tokovi izvora'!$A:$N,DF57,AA$7)))","v":""},{"$f":"IF($E57=\"\",\"\",IF(INDEX('E_Tokovi izvora'!$A:$N,DG57,AB$7)=\"\",\"\",INDEX('E_Tokovi izvora'!$A:$N,DG57,AB$7)))","v":""},{"$f":"IF($E57=\"\",\"\",IF(INDEX('E_Tokovi izvora'!$A:$N,DH57,AC$7)=\"\",\"\",INDEX('E_Tokovi izvora'!$A:$N,DH57,AC$7)))","v":""},{"$f":"IF($E57=\"\",\"\",IF(INDEX('E_Tokovi izvora'!$A:$N,DI57,AD$7)=\"\",\"\",INDEX('E_Tokovi izvora'!$A:$N,DI57,AD$7)))","v":""},{"$f":"IF($E57=\"\",\"\",IF(INDEX('E_Tokovi izvora'!$A:$N,DJ57,AE$7)=\"\",\"\",INDEX('E_Tokovi izvora'!$A:$N,DJ57,AE$7)))","v":""},{"$f":"IF($E57=\"\",\"\",IF(INDEX('E_Tokovi izvora'!$A:$N,DK57,AF$7)=\"\",\"\",INDEX('E_Tokovi izvora'!$A:$N,DK57,AF$7)))","v":""},{"$f":"IF($E57=\"\",\"\",IF(INDEX('E_Tokovi izvora'!$A:$N,DL57,AG$7)=\"\",\"\",INDEX('E_Tokovi izvora'!$A:$N,DL57,AG$7)))","v":""},{"$f":"IF($E57=\"\",\"\",IF(INDEX('E_Tokovi izvora'!$A:$N,DM57,AH$7)=\"\",\"\",INDEX('E_Tokovi izvora'!$A:$N,DM57,AH$7)))","v":""},{"$f":"IF($E57=\"\",\"\",IF(INDEX('E_Tokovi izvora'!$A:$N,DN57,AI$7)=\"\",\"\",INDEX('E_Tokovi izvora'!$A:$N,DN57,AI$7)))","v":""},{"$f":"IF($E57=\"\",\"\",IF(INDEX('E_Tokovi izvora'!$A:$N,DO57,AJ$7)=\"\",\"\",INDEX('E_Tokovi izvora'!$A:$N,DO57,AJ$7)))","v":""},{"$f":"IF($E57=\"\",\"\",IF(INDEX('E_Tokovi izvora'!$A:$N,DP57,AK$7)=\"\",\"\",INDEX('E_Tokovi izvora'!$A:$N,DP57,AK$7)))","v":""},{"$f":"IF($E57=\"\",\"\",IF(INDEX('E_Tokovi izvora'!$A:$N,DQ57,AL$7)=\"\",\"\",INDEX('E_Tokovi izvora'!$A:$N,DQ57,AL$7)))","v":""},{"$f":"IF($E57=\"\",\"\",IF(INDEX('E_Tokovi izvora'!$A:$N,DR57,AM$7)=\"\",\"\",INDEX('E_Tokovi izvora'!$A:$N,DR57,AM$7)))","v":""},{"$f":"IF($E57=\"\",\"\",IF(INDEX('E_Tokovi izvora'!$A:$N,DS57,AN$7)=\"\",\"\",INDEX('E_Tokovi izvora'!$A:$N,DS57,AN$7)))","v":""},{"$f":"IF($E57=\"\",\"\",IF(INDEX('E_Tokovi izvora'!$A:$N,DT57,AO$7)=\"\",\"\",INDEX('E_Tokovi izvora'!$A:$N,DT57,AO$7)))","v":""},{"$f":"IF($E57=\"\",\"\",IF(INDEX('E_Tokovi izvora'!$A:$N,DU57,AP$7)=\"\",\"\",INDEX('E_Tokovi izvora'!$A:$N,DU57,AP$7)))","v":""},{"$f":"IF($E57=\"\",\"\",IF(INDEX('E_Tokovi izvora'!$A:$N,DV57,AQ$7)=\"\",\"\",INDEX('E_Tokovi izvora'!$A:$N,DV57,AQ$7)))","v":""},{"$f":"IF($E57=\"\",\"\",IF(INDEX('E_Tokovi izvora'!$A:$N,DW57,AR$7)=\"\",\"\",INDEX('E_Tokovi izvora'!$A:$N,DW57,AR$7)))","v":""},{"$f":"IF($E57=\"\",\"\",IF(INDEX('E_Tokovi izvora'!$A:$N,DX57,AS$7)=\"\",\"\",INDEX('E_Tokovi izvora'!$A:$N,DX57,AS$7)))","v":""},{"$f":"IF($E57=\"\",\"\",IF(INDEX('E_Tokovi izvora'!$A:$N,DY57,AT$7)=\"\",\"\",INDEX('E_Tokovi izvora'!$A:$N,DY57,AT$7)))","v":""},{"$f":"IF($E57=\"\",\"\",IF(INDEX('E_Tokovi izvora'!$A:$N,DZ57,AU$7)=\"\",\"\",INDEX('E_Tokovi izvora'!$A:$N,DZ57,AU$7)))","v":""},{"$f":"IF($E57=\"\",\"\",IF(INDEX('E_Tokovi izvora'!$A:$N,EA57,AV$7)=\"\",\"\",INDEX('E_Tokovi izvora'!$A:$N,EA57,AV$7)))","v":""},{"$f":"IF($E57=\"\",\"\",IF(INDEX('E_Tokovi izvora'!$A:$N,EB57,AW$7)=\"\",\"\",INDEX('E_Tokovi izvora'!$A:$N,EB57,AW$7)))","v":""},{"$f":"IF($E57=\"\",\"\",IF(INDEX('E_Tokovi izvora'!$A:$N,EC57,AX$7)=\"\",\"\",INDEX('E_Tokovi izvora'!$A:$N,EC57,AX$7)))","v":""},{"$f":"IF($E57=\"\",\"\",IF(INDEX('E_Tokovi izvora'!$A:$N,ED57,AY$7)=\"\",\"\",INDEX('E_Tokovi izvora'!$A:$N,ED57,AY$7)))","v":""},{"$f":"IF($E57=\"\",\"\",IF(INDEX('E_Tokovi izvora'!$A:$N,EE57,AZ$7)=\"\",\"\",INDEX('E_Tokovi izvora'!$A:$N,EE57,AZ$7)))","v":""},{"$f":"IF($E57=\"\",\"\",IF(INDEX('E_Tokovi izvora'!$A:$N,EF57,BA$7)=\"\",\"\",INDEX('E_Tokovi izvora'!$A:$N,EF57,BA$7)))","v":""},{"$f":"IF($E57=\"\",\"\",IF(INDEX('E_Tokovi izvora'!$A:$N,EG57,BB$7)=\"\",\"\",INDEX('E_Tokovi izvora'!$A:$N,EG57,BB$7)))","v":""},{"$f":"IF($E57=\"\",\"\",IF(INDEX('E_Tokovi izvora'!$A:$N,EH57,BC$7)=\"\",\"\",INDEX('E_Tokovi izvora'!$A:$N,EH57,BC$7)))","v":""},{"$f":"IF($E57=\"\",\"\",IF(INDEX('E_Tokovi izvora'!$A:$N,EI57,BD$7)=\"\",\"\",INDEX('E_Tokovi izvora'!$A:$N,EI57,BD$7)))","v":""},{"$f":"IF($E57=\"\",\"\",IF(INDEX('E_Tokovi izvora'!$A:$N,EJ57,BE$7)=\"\",\"\",INDEX('E_Tokovi izvora'!$A:$N,EJ57,BE$7)))","v":""},{"$f":"IF($E57=\"\",\"\",IF(INDEX('E_Tokovi izvora'!$A:$N,EK57,BF$7)=\"\",\"\",INDEX('E_Tokovi izvora'!$A:$N,EK57,BF$7)))","v":""},{"$f":"IF($E57=\"\",\"\",IF(INDEX('E_Tokovi izvora'!$A:$N,EL57,BG$7)=\"\",\"\",INDEX('E_Tokovi izvora'!$A:$N,EL57,BG$7)))","v":""},{"$f":"IF($E57=\"\",\"\",IF(INDEX('E_Tokovi izvora'!$A:$N,EM57,BH$7)=\"\",\"\",INDEX('E_Tokovi izvora'!$A:$N,EM57,BH$7)))","v":""},{"$f":"IF($E57=\"\",\"\",IF(INDEX('E_Tokovi izvora'!$A:$N,EN57,BI$7)=\"\",\"\",INDEX('E_Tokovi izvora'!$A:$N,EN57,BI$7)))","v":""},{"$f":"IF($E57=\"\",\"\",IF(INDEX('E_Tokovi izvora'!$A:$N,EO57,BJ$7)=\"\",\"\",INDEX('E_Tokovi izvora'!$A:$N,EO57,BJ$7)))","v":""},{"$f":"IF($E57=\"\",\"\",IF(INDEX('E_Tokovi izvora'!$A:$N,EP57,BK$7)=\"\",\"\",INDEX('E_Tokovi izvora'!$A:$N,EP57,BK$7)))","v":""},{"$f":"IF($E57=\"\",\"\",IF(INDEX('E_Tokovi izvora'!$A:$N,EQ57,BL$7)=\"\",\"\",INDEX('E_Tokovi izvora'!$A:$N,EQ57,BL$7)))","v":""},{"$f":"IF($E57=\"\",\"\",IF(INDEX('E_Tokovi izvora'!$A:$N,ER57,BM$7)=\"\",\"\",INDEX('E_Tokovi izvora'!$A:$N,ER57,BM$7)))","v":""},{"$f":"IF($E57=\"\",\"\",IF(INDEX('E_Tokovi izvora'!$A:$N,ES57,BN$7)=\"\",\"\",INDEX('E_Tokovi izvora'!$A:$N,ES57,BN$7)))","v":""},{"$f":"IF($E57=\"\",\"\",IF(INDEX('E_Tokovi izvora'!$A:$N,ET57,BO$7)=\"\",\"\",INDEX('E_Tokovi izvora'!$A:$N,ET57,BO$7)))","v":""},{"$f":"IF($E57=\"\",\"\",IF(INDEX('E_Tokovi izvora'!$A:$N,EU57,BP$7)=\"\",\"\",INDEX('E_Tokovi izvora'!$A:$N,EU57,BP$7)))","v":""},{"$f":"IF($E57=\"\",\"\",IF(INDEX('E_Tokovi izvora'!$A:$N,EV57,BQ$7)=\"\",\"\",INDEX('E_Tokovi izvora'!$A:$N,EV57,BQ$7)))","v":""},{"$f":"IF($E57=\"\",\"\",IF(INDEX('E_Tokovi izvora'!$A:$N,EW57,BR$7)=\"\",\"\",INDEX('E_Tokovi izvora'!$A:$N,EW57,BR$7)))","v":""},{"$f":"IF($E57=\"\",\"\",IF(INDEX('E_Tokovi izvora'!$A:$N,EX57,BS$7)=\"\",\"\",INDEX('E_Tokovi izvora'!$A:$N,EX57,BS$7)))","v":""},{"$f":"IF($E57=\"\",\"\",IF(INDEX('E_Tokovi izvora'!$A:$N,EY57,BT$7)=\"\",\"\",INDEX('E_Tokovi izvora'!$A:$N,EY57,BT$7)))","v":""},null,null,null,null,null,null,null,null,null,null,null,null,null,null,null,"SourceCategory_",{"$f":"INDEX('C_Opis postrojenja'!$A$226:$A$332,ROWS($CI$11:CI57))=\"ausblenden\"","v":true},"SourceStreamName_",null,3169,3171,3173,3175,3177,3179,3181,3181,3181,3181,3181,3184,3188,3189,3190,3197,3207,3207,3207,3207,3207,3207,3207,3198,3208,3208,3208,3208,3208,3208,3208,3199,3209,3209,3209,3209,3209,3209,3209,3200,3210,3210,3210,3210,3210,3210,3210,3201,3211,3211,3211,3211,3211,3211,3211,3202,3212,3212,3212,3212,3212,3212,3212,3218]
[null,{"$f":"IF(COUNTIF($CK$10:CK58,TRUE)>0,\"\",INDEX('C_Opis postrojenja'!$E$226:$E$242,ROWS($A$11:A58)))","v":""},{"$f":"IF($E58=\"\",\"\",INDEX('C_Opis postrojenja'!F:F,MATCH($B58,'C_Opis postrojenja'!$E:$E,0)))","v":""},{"$f":"IF($E58=\"\",\"\",INDEX('C_Opis postrojenja'!I:I,MATCH($B58,'C_Opis postrojenja'!$E:$E,0)))","v":""},{"$f":"IF($B58=\"\",\"\",INDEX('C_Opis postrojenja'!F:F,MATCH($CJ58,'C_Opis postrojenja'!$Q:$Q,0)))","v":""},{"$f":"IF($E58=\"\",\"\",INDEX('C_Opis postrojenja'!L:L,MATCH($CJ58,'C_Opis postrojenja'!$Q:$Q,0)))","v":""},{"$f":"IF($E58=\"\",\"\",INDEX('C_Opis postrojenja'!M:M,MATCH($CJ58,'C_Opis postrojenja'!$Q:$Q,0)))","v":""},{"$f":"IF($E58=\"\",\"\",INDEX('C_Opis postrojenja'!N:N,MATCH($CJ58,'C_Opis postrojenja'!$Q:$Q,0)))","v":""},{"$f":"IF($E58=\"\",\"\",IF(INDEX('E_Tokovi izvora'!$A:$N,CN58,I$7)=\"\",\"\",INDEX('E_Tokovi izvora'!$A:$N,CN58,I$7)))","v":""},{"$f":"IF($E58=\"\",\"\",IF(INDEX('E_Tokovi izvora'!$A:$N,CO58,J$7)=\"\",\"\",INDEX('E_Tokovi izvora'!$A:$N,CO58,J$7)))","v":""},{"$f":"IF($E58=\"\",\"\",IF(INDEX('E_Tokovi izvora'!$A:$N,CP58,K$7)=\"\",\"\",INDEX('E_Tokovi izvora'!$A:$N,CP58,K$7)))","v":""},{"$f":"IF($E58=\"\",\"\",IF(INDEX('E_Tokovi izvora'!$A:$N,CQ58,L$7)=\"\",\"\",INDEX('E_Tokovi izvora'!$A:$N,CQ58,L$7)))","v":""},{"$f":"IF($E58=\"\",\"\",IF(INDEX('E_Tokovi izvora'!$A:$N,CR58,M$7)=\"\",\"\",INDEX('E_Tokovi izvora'!$A:$N,CR58,M$7)))","v":""},{"$f":"IF($E58=\"\",\"\",IF(INDEX('E_Tokovi izvora'!$A:$N,CS58,N$7)=\"\",\"\",INDEX('E_Tokovi izvora'!$A:$N,CS58,N$7)))","v":""},{"$f":"IF($E58=\"\",\"\",IF(INDEX('E_Tokovi izvora'!$A:$N,CT58,O$7)=\"\",\"\",INDEX('E_Tokovi izvora'!$A:$N,CT58,O$7)))","v":""},{"$f":"IF($E58=\"\",\"\",IF(INDEX('E_Tokovi izvora'!$A:$N,CU58,P$7)=\"\",\"\",INDEX('E_Tokovi izvora'!$A:$N,CU58,P$7)))","v":""},{"$f":"IF($E58=\"\",\"\",IF(INDEX('E_Tokovi izvora'!$A:$N,CV58,Q$7)=\"\",\"\",INDEX('E_Tokovi izvora'!$A:$N,CV58,Q$7)))","v":""},{"$f":"IF($E58=\"\",\"\",IF(INDEX('E_Tokovi izvora'!$A:$N,CW58,R$7)=\"\",\"\",INDEX('E_Tokovi izvora'!$A:$N,CW58,R$7)))","v":""},{"$f":"IF($E58=\"\",\"\",IF(INDEX('E_Tokovi izvora'!$A:$N,CX58,S$7)=\"\",\"\",INDEX('E_Tokovi izvora'!$A:$N,CX58,S$7)))","v":""},{"$f":"IF($E58=\"\",\"\",IF(INDEX('E_Tokovi izvora'!$A:$N,CY58,T$7)=\"\",\"\",INDEX('E_Tokovi izvora'!$A:$N,CY58,T$7)))","v":""},{"$f":"IF($E58=\"\",\"\",IF(INDEX('E_Tokovi izvora'!$A:$N,CZ58,U$7)=\"\",\"\",INDEX('E_Tokovi izvora'!$A:$N,CZ58,U$7)))","v":""},{"$f":"IF($E58=\"\",\"\",IF(INDEX('E_Tokovi izvora'!$A:$N,DA58,V$7)=\"\",\"\",INDEX('E_Tokovi izvora'!$A:$N,DA58,V$7)))","v":""},{"$f":"IF($E58=\"\",\"\",IF(INDEX('E_Tokovi izvora'!$A:$N,DB58,W$7)=\"\",\"\",INDEX('E_Tokovi izvora'!$A:$N,DB58,W$7)))","v":""},{"$f":"IF($E58=\"\",\"\",IF(INDEX('E_Tokovi izvora'!$A:$N,DC58,X$7)=\"\",\"\",INDEX('E_Tokovi izvora'!$A:$N,DC58,X$7)))","v":""},{"$f":"IF($E58=\"\",\"\",IF(INDEX('E_Tokovi izvora'!$A:$N,DD58,Y$7)=\"\",\"\",INDEX('E_Tokovi izvora'!$A:$N,DD58,Y$7)))","v":""},{"$f":"IF($E58=\"\",\"\",IF(INDEX('E_Tokovi izvora'!$A:$N,DE58,Z$7)=\"\",\"\",INDEX('E_Tokovi izvora'!$A:$N,DE58,Z$7)))","v":""},{"$f":"IF($E58=\"\",\"\",IF(INDEX('E_Tokovi izvora'!$A:$N,DF58,AA$7)=\"\",\"\",INDEX('E_Tokovi izvora'!$A:$N,DF58,AA$7)))","v":""},{"$f":"IF($E58=\"\",\"\",IF(INDEX('E_Tokovi izvora'!$A:$N,DG58,AB$7)=\"\",\"\",INDEX('E_Tokovi izvora'!$A:$N,DG58,AB$7)))","v":""},{"$f":"IF($E58=\"\",\"\",IF(INDEX('E_Tokovi izvora'!$A:$N,DH58,AC$7)=\"\",\"\",INDEX('E_Tokovi izvora'!$A:$N,DH58,AC$7)))","v":""},{"$f":"IF($E58=\"\",\"\",IF(INDEX('E_Tokovi izvora'!$A:$N,DI58,AD$7)=\"\",\"\",INDEX('E_Tokovi izvora'!$A:$N,DI58,AD$7)))","v":""},{"$f":"IF($E58=\"\",\"\",IF(INDEX('E_Tokovi izvora'!$A:$N,DJ58,AE$7)=\"\",\"\",INDEX('E_Tokovi izvora'!$A:$N,DJ58,AE$7)))","v":""},{"$f":"IF($E58=\"\",\"\",IF(INDEX('E_Tokovi izvora'!$A:$N,DK58,AF$7)=\"\",\"\",INDEX('E_Tokovi izvora'!$A:$N,DK58,AF$7)))","v":""},{"$f":"IF($E58=\"\",\"\",IF(INDEX('E_Tokovi izvora'!$A:$N,DL58,AG$7)=\"\",\"\",INDEX('E_Tokovi izvora'!$A:$N,DL58,AG$7)))","v":""},{"$f":"IF($E58=\"\",\"\",IF(INDEX('E_Tokovi izvora'!$A:$N,DM58,AH$7)=\"\",\"\",INDEX('E_Tokovi izvora'!$A:$N,DM58,AH$7)))","v":""},{"$f":"IF($E58=\"\",\"\",IF(INDEX('E_Tokovi izvora'!$A:$N,DN58,AI$7)=\"\",\"\",INDEX('E_Tokovi izvora'!$A:$N,DN58,AI$7)))","v":""},{"$f":"IF($E58=\"\",\"\",IF(INDEX('E_Tokovi izvora'!$A:$N,DO58,AJ$7)=\"\",\"\",INDEX('E_Tokovi izvora'!$A:$N,DO58,AJ$7)))","v":""},{"$f":"IF($E58=\"\",\"\",IF(INDEX('E_Tokovi izvora'!$A:$N,DP58,AK$7)=\"\",\"\",INDEX('E_Tokovi izvora'!$A:$N,DP58,AK$7)))","v":""},{"$f":"IF($E58=\"\",\"\",IF(INDEX('E_Tokovi izvora'!$A:$N,DQ58,AL$7)=\"\",\"\",INDEX('E_Tokovi izvora'!$A:$N,DQ58,AL$7)))","v":""},{"$f":"IF($E58=\"\",\"\",IF(INDEX('E_Tokovi izvora'!$A:$N,DR58,AM$7)=\"\",\"\",INDEX('E_Tokovi izvora'!$A:$N,DR58,AM$7)))","v":""},{"$f":"IF($E58=\"\",\"\",IF(INDEX('E_Tokovi izvora'!$A:$N,DS58,AN$7)=\"\",\"\",INDEX('E_Tokovi izvora'!$A:$N,DS58,AN$7)))","v":""},{"$f":"IF($E58=\"\",\"\",IF(INDEX('E_Tokovi izvora'!$A:$N,DT58,AO$7)=\"\",\"\",INDEX('E_Tokovi izvora'!$A:$N,DT58,AO$7)))","v":""},{"$f":"IF($E58=\"\",\"\",IF(INDEX('E_Tokovi izvora'!$A:$N,DU58,AP$7)=\"\",\"\",INDEX('E_Tokovi izvora'!$A:$N,DU58,AP$7)))","v":""},{"$f":"IF($E58=\"\",\"\",IF(INDEX('E_Tokovi izvora'!$A:$N,DV58,AQ$7)=\"\",\"\",INDEX('E_Tokovi izvora'!$A:$N,DV58,AQ$7)))","v":""},{"$f":"IF($E58=\"\",\"\",IF(INDEX('E_Tokovi izvora'!$A:$N,DW58,AR$7)=\"\",\"\",INDEX('E_Tokovi izvora'!$A:$N,DW58,AR$7)))","v":""},{"$f":"IF($E58=\"\",\"\",IF(INDEX('E_Tokovi izvora'!$A:$N,DX58,AS$7)=\"\",\"\",INDEX('E_Tokovi izvora'!$A:$N,DX58,AS$7)))","v":""},{"$f":"IF($E58=\"\",\"\",IF(INDEX('E_Tokovi izvora'!$A:$N,DY58,AT$7)=\"\",\"\",INDEX('E_Tokovi izvora'!$A:$N,DY58,AT$7)))","v":""},{"$f":"IF($E58=\"\",\"\",IF(INDEX('E_Tokovi izvora'!$A:$N,DZ58,AU$7)=\"\",\"\",INDEX('E_Tokovi izvora'!$A:$N,DZ58,AU$7)))","v":""},{"$f":"IF($E58=\"\",\"\",IF(INDEX('E_Tokovi izvora'!$A:$N,EA58,AV$7)=\"\",\"\",INDEX('E_Tokovi izvora'!$A:$N,EA58,AV$7)))","v":""},{"$f":"IF($E58=\"\",\"\",IF(INDEX('E_Tokovi izvora'!$A:$N,EB58,AW$7)=\"\",\"\",INDEX('E_Tokovi izvora'!$A:$N,EB58,AW$7)))","v":""},{"$f":"IF($E58=\"\",\"\",IF(INDEX('E_Tokovi izvora'!$A:$N,EC58,AX$7)=\"\",\"\",INDEX('E_Tokovi izvora'!$A:$N,EC58,AX$7)))","v":""},{"$f":"IF($E58=\"\",\"\",IF(INDEX('E_Tokovi izvora'!$A:$N,ED58,AY$7)=\"\",\"\",INDEX('E_Tokovi izvora'!$A:$N,ED58,AY$7)))","v":""},{"$f":"IF($E58=\"\",\"\",IF(INDEX('E_Tokovi izvora'!$A:$N,EE58,AZ$7)=\"\",\"\",INDEX('E_Tokovi izvora'!$A:$N,EE58,AZ$7)))","v":""},{"$f":"IF($E58=\"\",\"\",IF(INDEX('E_Tokovi izvora'!$A:$N,EF58,BA$7)=\"\",\"\",INDEX('E_Tokovi izvora'!$A:$N,EF58,BA$7)))","v":""},{"$f":"IF($E58=\"\",\"\",IF(INDEX('E_Tokovi izvora'!$A:$N,EG58,BB$7)=\"\",\"\",INDEX('E_Tokovi izvora'!$A:$N,EG58,BB$7)))","v":""},{"$f":"IF($E58=\"\",\"\",IF(INDEX('E_Tokovi izvora'!$A:$N,EH58,BC$7)=\"\",\"\",INDEX('E_Tokovi izvora'!$A:$N,EH58,BC$7)))","v":""},{"$f":"IF($E58=\"\",\"\",IF(INDEX('E_Tokovi izvora'!$A:$N,EI58,BD$7)=\"\",\"\",INDEX('E_Tokovi izvora'!$A:$N,EI58,BD$7)))","v":""},{"$f":"IF($E58=\"\",\"\",IF(INDEX('E_Tokovi izvora'!$A:$N,EJ58,BE$7)=\"\",\"\",INDEX('E_Tokovi izvora'!$A:$N,EJ58,BE$7)))","v":""},{"$f":"IF($E58=\"\",\"\",IF(INDEX('E_Tokovi izvora'!$A:$N,EK58,BF$7)=\"\",\"\",INDEX('E_Tokovi izvora'!$A:$N,EK58,BF$7)))","v":""},{"$f":"IF($E58=\"\",\"\",IF(INDEX('E_Tokovi izvora'!$A:$N,EL58,BG$7)=\"\",\"\",INDEX('E_Tokovi izvora'!$A:$N,EL58,BG$7)))","v":""},{"$f":"IF($E58=\"\",\"\",IF(INDEX('E_Tokovi izvora'!$A:$N,EM58,BH$7)=\"\",\"\",INDEX('E_Tokovi izvora'!$A:$N,EM58,BH$7)))","v":""},{"$f":"IF($E58=\"\",\"\",IF(INDEX('E_Tokovi izvora'!$A:$N,EN58,BI$7)=\"\",\"\",INDEX('E_Tokovi izvora'!$A:$N,EN58,BI$7)))","v":""},{"$f":"IF($E58=\"\",\"\",IF(INDEX('E_Tokovi izvora'!$A:$N,EO58,BJ$7)=\"\",\"\",INDEX('E_Tokovi izvora'!$A:$N,EO58,BJ$7)))","v":""},{"$f":"IF($E58=\"\",\"\",IF(INDEX('E_Tokovi izvora'!$A:$N,EP58,BK$7)=\"\",\"\",INDEX('E_Tokovi izvora'!$A:$N,EP58,BK$7)))","v":""},{"$f":"IF($E58=\"\",\"\",IF(INDEX('E_Tokovi izvora'!$A:$N,EQ58,BL$7)=\"\",\"\",INDEX('E_Tokovi izvora'!$A:$N,EQ58,BL$7)))","v":""},{"$f":"IF($E58=\"\",\"\",IF(INDEX('E_Tokovi izvora'!$A:$N,ER58,BM$7)=\"\",\"\",INDEX('E_Tokovi izvora'!$A:$N,ER58,BM$7)))","v":""},{"$f":"IF($E58=\"\",\"\",IF(INDEX('E_Tokovi izvora'!$A:$N,ES58,BN$7)=\"\",\"\",INDEX('E_Tokovi izvora'!$A:$N,ES58,BN$7)))","v":""},{"$f":"IF($E58=\"\",\"\",IF(INDEX('E_Tokovi izvora'!$A:$N,ET58,BO$7)=\"\",\"\",INDEX('E_Tokovi izvora'!$A:$N,ET58,BO$7)))","v":""},{"$f":"IF($E58=\"\",\"\",IF(INDEX('E_Tokovi izvora'!$A:$N,EU58,BP$7)=\"\",\"\",INDEX('E_Tokovi izvora'!$A:$N,EU58,BP$7)))","v":""},{"$f":"IF($E58=\"\",\"\",IF(INDEX('E_Tokovi izvora'!$A:$N,EV58,BQ$7)=\"\",\"\",INDEX('E_Tokovi izvora'!$A:$N,EV58,BQ$7)))","v":""},{"$f":"IF($E58=\"\",\"\",IF(INDEX('E_Tokovi izvora'!$A:$N,EW58,BR$7)=\"\",\"\",INDEX('E_Tokovi izvora'!$A:$N,EW58,BR$7)))","v":""},{"$f":"IF($E58=\"\",\"\",IF(INDEX('E_Tokovi izvora'!$A:$N,EX58,BS$7)=\"\",\"\",INDEX('E_Tokovi izvora'!$A:$N,EX58,BS$7)))","v":""},{"$f":"IF($E58=\"\",\"\",IF(INDEX('E_Tokovi izvora'!$A:$N,EY58,BT$7)=\"\",\"\",INDEX('E_Tokovi izvora'!$A:$N,EY58,BT$7)))","v":""},null,null,null,null,null,null,null,null,null,null,null,null,null,null,null,"SourceCategory_",{"$f":"INDEX('C_Opis postrojenja'!$A$226:$A$332,ROWS($CI$11:CI58))=\"ausblenden\"","v":true},"SourceStreamName_",null,3235,3237,3239,3241,3243,3245,3247,3247,3247,3247,3247,3250,3254,3255,3256,3263,3273,3273,3273,3273,3273,3273,3273,3264,3274,3274,3274,3274,3274,3274,3274,3265,3275,3275,3275,3275,3275,3275,3275,3266,3276,3276,3276,3276,3276,3276,3276,3267,3277,3277,3277,3277,3277,3277,3277,3268,3278,3278,3278,3278,3278,3278,3278,3284]
[null,{"$f":"IF(COUNTIF($CK$10:CK59,TRUE)>0,\"\",INDEX('C_Opis postrojenja'!$E$226:$E$242,ROWS($A$11:A59)))","v":""},{"$f":"IF($E59=\"\",\"\",INDEX('C_Opis postrojenja'!F:F,MATCH($B59,'C_Opis postrojenja'!$E:$E,0)))","v":""},{"$f":"IF($E59=\"\",\"\",INDEX('C_Opis postrojenja'!I:I,MATCH($B59,'C_Opis postrojenja'!$E:$E,0)))","v":""},{"$f":"IF($B59=\"\",\"\",INDEX('C_Opis postrojenja'!F:F,MATCH($CJ59,'C_Opis postrojenja'!$Q:$Q,0)))","v":""},{"$f":"IF($E59=\"\",\"\",INDEX('C_Opis postrojenja'!L:L,MATCH($CJ59,'C_Opis postrojenja'!$Q:$Q,0)))","v":""},{"$f":"IF($E59=\"\",\"\",INDEX('C_Opis postrojenja'!M:M,MATCH($CJ59,'C_Opis postrojenja'!$Q:$Q,0)))","v":""},{"$f":"IF($E59=\"\",\"\",INDEX('C_Opis postrojenja'!N:N,MATCH($CJ59,'C_Opis postrojenja'!$Q:$Q,0)))","v":""},{"$f":"IF($E59=\"\",\"\",IF(INDEX('E_Tokovi izvora'!$A:$N,CN59,I$7)=\"\",\"\",INDEX('E_Tokovi izvora'!$A:$N,CN59,I$7)))","v":""},{"$f":"IF($E59=\"\",\"\",IF(INDEX('E_Tokovi izvora'!$A:$N,CO59,J$7)=\"\",\"\",INDEX('E_Tokovi izvora'!$A:$N,CO59,J$7)))","v":""},{"$f":"IF($E59=\"\",\"\",IF(INDEX('E_Tokovi izvora'!$A:$N,CP59,K$7)=\"\",\"\",INDEX('E_Tokovi izvora'!$A:$N,CP59,K$7)))","v":""},{"$f":"IF($E59=\"\",\"\",IF(INDEX('E_Tokovi izvora'!$A:$N,CQ59,L$7)=\"\",\"\",INDEX('E_Tokovi izvora'!$A:$N,CQ59,L$7)))","v":""},{"$f":"IF($E59=\"\",\"\",IF(INDEX('E_Tokovi izvora'!$A:$N,CR59,M$7)=\"\",\"\",INDEX('E_Tokovi izvora'!$A:$N,CR59,M$7)))","v":""},{"$f":"IF($E59=\"\",\"\",IF(INDEX('E_Tokovi izvora'!$A:$N,CS59,N$7)=\"\",\"\",INDEX('E_Tokovi izvora'!$A:$N,CS59,N$7)))","v":""},{"$f":"IF($E59=\"\",\"\",IF(INDEX('E_Tokovi izvora'!$A:$N,CT59,O$7)=\"\",\"\",INDEX('E_Tokovi izvora'!$A:$N,CT59,O$7)))","v":""},{"$f":"IF($E59=\"\",\"\",IF(INDEX('E_Tokovi izvora'!$A:$N,CU59,P$7)=\"\",\"\",INDEX('E_Tokovi izvora'!$A:$N,CU59,P$7)))","v":""},{"$f":"IF($E59=\"\",\"\",IF(INDEX('E_Tokovi izvora'!$A:$N,CV59,Q$7)=\"\",\"\",INDEX('E_Tokovi izvora'!$A:$N,CV59,Q$7)))","v":""},{"$f":"IF($E59=\"\",\"\",IF(INDEX('E_Tokovi izvora'!$A:$N,CW59,R$7)=\"\",\"\",INDEX('E_Tokovi izvora'!$A:$N,CW59,R$7)))","v":""},{"$f":"IF($E59=\"\",\"\",IF(INDEX('E_Tokovi izvora'!$A:$N,CX59,S$7)=\"\",\"\",INDEX('E_Tokovi izvora'!$A:$N,CX59,S$7)))","v":""},{"$f":"IF($E59=\"\",\"\",IF(INDEX('E_Tokovi izvora'!$A:$N,CY59,T$7)=\"\",\"\",INDEX('E_Tokovi izvora'!$A:$N,CY59,T$7)))","v":""},{"$f":"IF($E59=\"\",\"\",IF(INDEX('E_Tokovi izvora'!$A:$N,CZ59,U$7)=\"\",\"\",INDEX('E_Tokovi izvora'!$A:$N,CZ59,U$7)))","v":""},{"$f":"IF($E59=\"\",\"\",IF(INDEX('E_Tokovi izvora'!$A:$N,DA59,V$7)=\"\",\"\",INDEX('E_Tokovi izvora'!$A:$N,DA59,V$7)))","v":""},{"$f":"IF($E59=\"\",\"\",IF(INDEX('E_Tokovi izvora'!$A:$N,DB59,W$7)=\"\",\"\",INDEX('E_Tokovi izvora'!$A:$N,DB59,W$7)))","v":""},{"$f":"IF($E59=\"\",\"\",IF(INDEX('E_Tokovi izvora'!$A:$N,DC59,X$7)=\"\",\"\",INDEX('E_Tokovi izvora'!$A:$N,DC59,X$7)))","v":""},{"$f":"IF($E59=\"\",\"\",IF(INDEX('E_Tokovi izvora'!$A:$N,DD59,Y$7)=\"\",\"\",INDEX('E_Tokovi izvora'!$A:$N,DD59,Y$7)))","v":""},{"$f":"IF($E59=\"\",\"\",IF(INDEX('E_Tokovi izvora'!$A:$N,DE59,Z$7)=\"\",\"\",INDEX('E_Tokovi izvora'!$A:$N,DE59,Z$7)))","v":""},{"$f":"IF($E59=\"\",\"\",IF(INDEX('E_Tokovi izvora'!$A:$N,DF59,AA$7)=\"\",\"\",INDEX('E_Tokovi izvora'!$A:$N,DF59,AA$7)))","v":""},{"$f":"IF($E59=\"\",\"\",IF(INDEX('E_Tokovi izvora'!$A:$N,DG59,AB$7)=\"\",\"\",INDEX('E_Tokovi izvora'!$A:$N,DG59,AB$7)))","v":""},{"$f":"IF($E59=\"\",\"\",IF(INDEX('E_Tokovi izvora'!$A:$N,DH59,AC$7)=\"\",\"\",INDEX('E_Tokovi izvora'!$A:$N,DH59,AC$7)))","v":""},{"$f":"IF($E59=\"\",\"\",IF(INDEX('E_Tokovi izvora'!$A:$N,DI59,AD$7)=\"\",\"\",INDEX('E_Tokovi izvora'!$A:$N,DI59,AD$7)))","v":""},{"$f":"IF($E59=\"\",\"\",IF(INDEX('E_Tokovi izvora'!$A:$N,DJ59,AE$7)=\"\",\"\",INDEX('E_Tokovi izvora'!$A:$N,DJ59,AE$7)))","v":""},{"$f":"IF($E59=\"\",\"\",IF(INDEX('E_Tokovi izvora'!$A:$N,DK59,AF$7)=\"\",\"\",INDEX('E_Tokovi izvora'!$A:$N,DK59,AF$7)))","v":""},{"$f":"IF($E59=\"\",\"\",IF(INDEX('E_Tokovi izvora'!$A:$N,DL59,AG$7)=\"\",\"\",INDEX('E_Tokovi izvora'!$A:$N,DL59,AG$7)))","v":""},{"$f":"IF($E59=\"\",\"\",IF(INDEX('E_Tokovi izvora'!$A:$N,DM59,AH$7)=\"\",\"\",INDEX('E_Tokovi izvora'!$A:$N,DM59,AH$7)))","v":""},{"$f":"IF($E59=\"\",\"\",IF(INDEX('E_Tokovi izvora'!$A:$N,DN59,AI$7)=\"\",\"\",INDEX('E_Tokovi izvora'!$A:$N,DN59,AI$7)))","v":""},{"$f":"IF($E59=\"\",\"\",IF(INDEX('E_Tokovi izvora'!$A:$N,DO59,AJ$7)=\"\",\"\",INDEX('E_Tokovi izvora'!$A:$N,DO59,AJ$7)))","v":""},{"$f":"IF($E59=\"\",\"\",IF(INDEX('E_Tokovi izvora'!$A:$N,DP59,AK$7)=\"\",\"\",INDEX('E_Tokovi izvora'!$A:$N,DP59,AK$7)))","v":""},{"$f":"IF($E59=\"\",\"\",IF(INDEX('E_Tokovi izvora'!$A:$N,DQ59,AL$7)=\"\",\"\",INDEX('E_Tokovi izvora'!$A:$N,DQ59,AL$7)))","v":""},{"$f":"IF($E59=\"\",\"\",IF(INDEX('E_Tokovi izvora'!$A:$N,DR59,AM$7)=\"\",\"\",INDEX('E_Tokovi izvora'!$A:$N,DR59,AM$7)))","v":""},{"$f":"IF($E59=\"\",\"\",IF(INDEX('E_Tokovi izvora'!$A:$N,DS59,AN$7)=\"\",\"\",INDEX('E_Tokovi izvora'!$A:$N,DS59,AN$7)))","v":""},{"$f":"IF($E59=\"\",\"\",IF(INDEX('E_Tokovi izvora'!$A:$N,DT59,AO$7)=\"\",\"\",INDEX('E_Tokovi izvora'!$A:$N,DT59,AO$7)))","v":""},{"$f":"IF($E59=\"\",\"\",IF(INDEX('E_Tokovi izvora'!$A:$N,DU59,AP$7)=\"\",\"\",INDEX('E_Tokovi izvora'!$A:$N,DU59,AP$7)))","v":""},{"$f":"IF($E59=\"\",\"\",IF(INDEX('E_Tokovi izvora'!$A:$N,DV59,AQ$7)=\"\",\"\",INDEX('E_Tokovi izvora'!$A:$N,DV59,AQ$7)))","v":""},{"$f":"IF($E59=\"\",\"\",IF(INDEX('E_Tokovi izvora'!$A:$N,DW59,AR$7)=\"\",\"\",INDEX('E_Tokovi izvora'!$A:$N,DW59,AR$7)))","v":""},{"$f":"IF($E59=\"\",\"\",IF(INDEX('E_Tokovi izvora'!$A:$N,DX59,AS$7)=\"\",\"\",INDEX('E_Tokovi izvora'!$A:$N,DX59,AS$7)))","v":""},{"$f":"IF($E59=\"\",\"\",IF(INDEX('E_Tokovi izvora'!$A:$N,DY59,AT$7)=\"\",\"\",INDEX('E_Tokovi izvora'!$A:$N,DY59,AT$7)))","v":""},{"$f":"IF($E59=\"\",\"\",IF(INDEX('E_Tokovi izvora'!$A:$N,DZ59,AU$7)=\"\",\"\",INDEX('E_Tokovi izvora'!$A:$N,DZ59,AU$7)))","v":""},{"$f":"IF($E59=\"\",\"\",IF(INDEX('E_Tokovi izvora'!$A:$N,EA59,AV$7)=\"\",\"\",INDEX('E_Tokovi izvora'!$A:$N,EA59,AV$7)))","v":""},{"$f":"IF($E59=\"\",\"\",IF(INDEX('E_Tokovi izvora'!$A:$N,EB59,AW$7)=\"\",\"\",INDEX('E_Tokovi izvora'!$A:$N,EB59,AW$7)))","v":""},{"$f":"IF($E59=\"\",\"\",IF(INDEX('E_Tokovi izvora'!$A:$N,EC59,AX$7)=\"\",\"\",INDEX('E_Tokovi izvora'!$A:$N,EC59,AX$7)))","v":""},{"$f":"IF($E59=\"\",\"\",IF(INDEX('E_Tokovi izvora'!$A:$N,ED59,AY$7)=\"\",\"\",INDEX('E_Tokovi izvora'!$A:$N,ED59,AY$7)))","v":""},{"$f":"IF($E59=\"\",\"\",IF(INDEX('E_Tokovi izvora'!$A:$N,EE59,AZ$7)=\"\",\"\",INDEX('E_Tokovi izvora'!$A:$N,EE59,AZ$7)))","v":""},{"$f":"IF($E59=\"\",\"\",IF(INDEX('E_Tokovi izvora'!$A:$N,EF59,BA$7)=\"\",\"\",INDEX('E_Tokovi izvora'!$A:$N,EF59,BA$7)))","v":""},{"$f":"IF($E59=\"\",\"\",IF(INDEX('E_Tokovi izvora'!$A:$N,EG59,BB$7)=\"\",\"\",INDEX('E_Tokovi izvora'!$A:$N,EG59,BB$7)))","v":""},{"$f":"IF($E59=\"\",\"\",IF(INDEX('E_Tokovi izvora'!$A:$N,EH59,BC$7)=\"\",\"\",INDEX('E_Tokovi izvora'!$A:$N,EH59,BC$7)))","v":""},{"$f":"IF($E59=\"\",\"\",IF(INDEX('E_Tokovi izvora'!$A:$N,EI59,BD$7)=\"\",\"\",INDEX('E_Tokovi izvora'!$A:$N,EI59,BD$7)))","v":""},{"$f":"IF($E59=\"\",\"\",IF(INDEX('E_Tokovi izvora'!$A:$N,EJ59,BE$7)=\"\",\"\",INDEX('E_Tokovi izvora'!$A:$N,EJ59,BE$7)))","v":""},{"$f":"IF($E59=\"\",\"\",IF(INDEX('E_Tokovi izvora'!$A:$N,EK59,BF$7)=\"\",\"\",INDEX('E_Tokovi izvora'!$A:$N,EK59,BF$7)))","v":""},{"$f":"IF($E59=\"\",\"\",IF(INDEX('E_Tokovi izvora'!$A:$N,EL59,BG$7)=\"\",\"\",INDEX('E_Tokovi izvora'!$A:$N,EL59,BG$7)))","v":""},{"$f":"IF($E59=\"\",\"\",IF(INDEX('E_Tokovi izvora'!$A:$N,EM59,BH$7)=\"\",\"\",INDEX('E_Tokovi izvora'!$A:$N,EM59,BH$7)))","v":""},{"$f":"IF($E59=\"\",\"\",IF(INDEX('E_Tokovi izvora'!$A:$N,EN59,BI$7)=\"\",\"\",INDEX('E_Tokovi izvora'!$A:$N,EN59,BI$7)))","v":""},{"$f":"IF($E59=\"\",\"\",IF(INDEX('E_Tokovi izvora'!$A:$N,EO59,BJ$7)=\"\",\"\",INDEX('E_Tokovi izvora'!$A:$N,EO59,BJ$7)))","v":""},{"$f":"IF($E59=\"\",\"\",IF(INDEX('E_Tokovi izvora'!$A:$N,EP59,BK$7)=\"\",\"\",INDEX('E_Tokovi izvora'!$A:$N,EP59,BK$7)))","v":""},{"$f":"IF($E59=\"\",\"\",IF(INDEX('E_Tokovi izvora'!$A:$N,EQ59,BL$7)=\"\",\"\",INDEX('E_Tokovi izvora'!$A:$N,EQ59,BL$7)))","v":""},{"$f":"IF($E59=\"\",\"\",IF(INDEX('E_Tokovi izvora'!$A:$N,ER59,BM$7)=\"\",\"\",INDEX('E_Tokovi izvora'!$A:$N,ER59,BM$7)))","v":""},{"$f":"IF($E59=\"\",\"\",IF(INDEX('E_Tokovi izvora'!$A:$N,ES59,BN$7)=\"\",\"\",INDEX('E_Tokovi izvora'!$A:$N,ES59,BN$7)))","v":""},{"$f":"IF($E59=\"\",\"\",IF(INDEX('E_Tokovi izvora'!$A:$N,ET59,BO$7)=\"\",\"\",INDEX('E_Tokovi izvora'!$A:$N,ET59,BO$7)))","v":""},{"$f":"IF($E59=\"\",\"\",IF(INDEX('E_Tokovi izvora'!$A:$N,EU59,BP$7)=\"\",\"\",INDEX('E_Tokovi izvora'!$A:$N,EU59,BP$7)))","v":""},{"$f":"IF($E59=\"\",\"\",IF(INDEX('E_Tokovi izvora'!$A:$N,EV59,BQ$7)=\"\",\"\",INDEX('E_Tokovi izvora'!$A:$N,EV59,BQ$7)))","v":""},{"$f":"IF($E59=\"\",\"\",IF(INDEX('E_Tokovi izvora'!$A:$N,EW59,BR$7)=\"\",\"\",INDEX('E_Tokovi izvora'!$A:$N,EW59,BR$7)))","v":""},{"$f":"IF($E59=\"\",\"\",IF(INDEX('E_Tokovi izvora'!$A:$N,EX59,BS$7)=\"\",\"\",INDEX('E_Tokovi izvora'!$A:$N,EX59,BS$7)))","v":""},{"$f":"IF($E59=\"\",\"\",IF(INDEX('E_Tokovi izvora'!$A:$N,EY59,BT$7)=\"\",\"\",INDEX('E_Tokovi izvora'!$A:$N,EY59,BT$7)))","v":""},null,null,null,null,null,null,null,null,null,null,null,null,null,null,null,"SourceCategory_",{"$f":"INDEX('C_Opis postrojenja'!$A$226:$A$332,ROWS($CI$11:CI59))=\"ausblenden\"","v":true},"SourceStreamName_",null,3301,3303,3305,3307,3309,3311,3313,3313,3313,3313,3313,3316,3320,3321,3322,3329,3339,3339,3339,3339,3339,3339,3339,3330,3340,3340,3340,3340,3340,3340,3340,3331,3341,3341,3341,3341,3341,3341,3341,3332,3342,3342,3342,3342,3342,3342,3342,3333,3343,3343,3343,3343,3343,3343,3343,3334,3344,3344,3344,3344,3344,3344,3344,3350]
[null,{"$f":"IF(COUNTIF($CK$10:CK60,TRUE)>0,\"\",INDEX('C_Opis postrojenja'!$E$226:$E$242,ROWS($A$11:A60)))","v":""},{"$f":"IF($E60=\"\",\"\",INDEX('C_Opis postrojenja'!F:F,MATCH($B60,'C_Opis postrojenja'!$E:$E,0)))","v":""},{"$f":"IF($E60=\"\",\"\",INDEX('C_Opis postrojenja'!I:I,MATCH($B60,'C_Opis postrojenja'!$E:$E,0)))","v":""},{"$f":"IF($B60=\"\",\"\",INDEX('C_Opis postrojenja'!F:F,MATCH($CJ60,'C_Opis postrojenja'!$Q:$Q,0)))","v":""},{"$f":"IF($E60=\"\",\"\",INDEX('C_Opis postrojenja'!L:L,MATCH($CJ60,'C_Opis postrojenja'!$Q:$Q,0)))","v":""},{"$f":"IF($E60=\"\",\"\",INDEX('C_Opis postrojenja'!M:M,MATCH($CJ60,'C_Opis postrojenja'!$Q:$Q,0)))","v":""},{"$f":"IF($E60=\"\",\"\",INDEX('C_Opis postrojenja'!N:N,MATCH($CJ60,'C_Opis postrojenja'!$Q:$Q,0)))","v":""},{"$f":"IF($E60=\"\",\"\",IF(INDEX('E_Tokovi izvora'!$A:$N,CN60,I$7)=\"\",\"\",INDEX('E_Tokovi izvora'!$A:$N,CN60,I$7)))","v":""},{"$f":"IF($E60=\"\",\"\",IF(INDEX('E_Tokovi izvora'!$A:$N,CO60,J$7)=\"\",\"\",INDEX('E_Tokovi izvora'!$A:$N,CO60,J$7)))","v":""},{"$f":"IF($E60=\"\",\"\",IF(INDEX('E_Tokovi izvora'!$A:$N,CP60,K$7)=\"\",\"\",INDEX('E_Tokovi izvora'!$A:$N,CP60,K$7)))","v":""},{"$f":"IF($E60=\"\",\"\",IF(INDEX('E_Tokovi izvora'!$A:$N,CQ60,L$7)=\"\",\"\",INDEX('E_Tokovi izvora'!$A:$N,CQ60,L$7)))","v":""},{"$f":"IF($E60=\"\",\"\",IF(INDEX('E_Tokovi izvora'!$A:$N,CR60,M$7)=\"\",\"\",INDEX('E_Tokovi izvora'!$A:$N,CR60,M$7)))","v":""},{"$f":"IF($E60=\"\",\"\",IF(INDEX('E_Tokovi izvora'!$A:$N,CS60,N$7)=\"\",\"\",INDEX('E_Tokovi izvora'!$A:$N,CS60,N$7)))","v":""},{"$f":"IF($E60=\"\",\"\",IF(INDEX('E_Tokovi izvora'!$A:$N,CT60,O$7)=\"\",\"\",INDEX('E_Tokovi izvora'!$A:$N,CT60,O$7)))","v":""},{"$f":"IF($E60=\"\",\"\",IF(INDEX('E_Tokovi izvora'!$A:$N,CU60,P$7)=\"\",\"\",INDEX('E_Tokovi izvora'!$A:$N,CU60,P$7)))","v":""},{"$f":"IF($E60=\"\",\"\",IF(INDEX('E_Tokovi izvora'!$A:$N,CV60,Q$7)=\"\",\"\",INDEX('E_Tokovi izvora'!$A:$N,CV60,Q$7)))","v":""},{"$f":"IF($E60=\"\",\"\",IF(INDEX('E_Tokovi izvora'!$A:$N,CW60,R$7)=\"\",\"\",INDEX('E_Tokovi izvora'!$A:$N,CW60,R$7)))","v":""},{"$f":"IF($E60=\"\",\"\",IF(INDEX('E_Tokovi izvora'!$A:$N,CX60,S$7)=\"\",\"\",INDEX('E_Tokovi izvora'!$A:$N,CX60,S$7)))","v":""},{"$f":"IF($E60=\"\",\"\",IF(INDEX('E_Tokovi izvora'!$A:$N,CY60,T$7)=\"\",\"\",INDEX('E_Tokovi izvora'!$A:$N,CY60,T$7)))","v":""},{"$f":"IF($E60=\"\",\"\",IF(INDEX('E_Tokovi izvora'!$A:$N,CZ60,U$7)=\"\",\"\",INDEX('E_Tokovi izvora'!$A:$N,CZ60,U$7)))","v":""},{"$f":"IF($E60=\"\",\"\",IF(INDEX('E_Tokovi izvora'!$A:$N,DA60,V$7)=\"\",\"\",INDEX('E_Tokovi izvora'!$A:$N,DA60,V$7)))","v":""},{"$f":"IF($E60=\"\",\"\",IF(INDEX('E_Tokovi izvora'!$A:$N,DB60,W$7)=\"\",\"\",INDEX('E_Tokovi izvora'!$A:$N,DB60,W$7)))","v":""},{"$f":"IF($E60=\"\",\"\",IF(INDEX('E_Tokovi izvora'!$A:$N,DC60,X$7)=\"\",\"\",INDEX('E_Tokovi izvora'!$A:$N,DC60,X$7)))","v":""},{"$f":"IF($E60=\"\",\"\",IF(INDEX('E_Tokovi izvora'!$A:$N,DD60,Y$7)=\"\",\"\",INDEX('E_Tokovi izvora'!$A:$N,DD60,Y$7)))","v":""},{"$f":"IF($E60=\"\",\"\",IF(INDEX('E_Tokovi izvora'!$A:$N,DE60,Z$7)=\"\",\"\",INDEX('E_Tokovi izvora'!$A:$N,DE60,Z$7)))","v":""},{"$f":"IF($E60=\"\",\"\",IF(INDEX('E_Tokovi izvora'!$A:$N,DF60,AA$7)=\"\",\"\",INDEX('E_Tokovi izvora'!$A:$N,DF60,AA$7)))","v":""},{"$f":"IF($E60=\"\",\"\",IF(INDEX('E_Tokovi izvora'!$A:$N,DG60,AB$7)=\"\",\"\",INDEX('E_Tokovi izvora'!$A:$N,DG60,AB$7)))","v":""},{"$f":"IF($E60=\"\",\"\",IF(INDEX('E_Tokovi izvora'!$A:$N,DH60,AC$7)=\"\",\"\",INDEX('E_Tokovi izvora'!$A:$N,DH60,AC$7)))","v":""},{"$f":"IF($E60=\"\",\"\",IF(INDEX('E_Tokovi izvora'!$A:$N,DI60,AD$7)=\"\",\"\",INDEX('E_Tokovi izvora'!$A:$N,DI60,AD$7)))","v":""},{"$f":"IF($E60=\"\",\"\",IF(INDEX('E_Tokovi izvora'!$A:$N,DJ60,AE$7)=\"\",\"\",INDEX('E_Tokovi izvora'!$A:$N,DJ60,AE$7)))","v":""},{"$f":"IF($E60=\"\",\"\",IF(INDEX('E_Tokovi izvora'!$A:$N,DK60,AF$7)=\"\",\"\",INDEX('E_Tokovi izvora'!$A:$N,DK60,AF$7)))","v":""},{"$f":"IF($E60=\"\",\"\",IF(INDEX('E_Tokovi izvora'!$A:$N,DL60,AG$7)=\"\",\"\",INDEX('E_Tokovi izvora'!$A:$N,DL60,AG$7)))","v":""},{"$f":"IF($E60=\"\",\"\",IF(INDEX('E_Tokovi izvora'!$A:$N,DM60,AH$7)=\"\",\"\",INDEX('E_Tokovi izvora'!$A:$N,DM60,AH$7)))","v":""},{"$f":"IF($E60=\"\",\"\",IF(INDEX('E_Tokovi izvora'!$A:$N,DN60,AI$7)=\"\",\"\",INDEX('E_Tokovi izvora'!$A:$N,DN60,AI$7)))","v":""},{"$f":"IF($E60=\"\",\"\",IF(INDEX('E_Tokovi izvora'!$A:$N,DO60,AJ$7)=\"\",\"\",INDEX('E_Tokovi izvora'!$A:$N,DO60,AJ$7)))","v":""},{"$f":"IF($E60=\"\",\"\",IF(INDEX('E_Tokovi izvora'!$A:$N,DP60,AK$7)=\"\",\"\",INDEX('E_Tokovi izvora'!$A:$N,DP60,AK$7)))","v":""},{"$f":"IF($E60=\"\",\"\",IF(INDEX('E_Tokovi izvora'!$A:$N,DQ60,AL$7)=\"\",\"\",INDEX('E_Tokovi izvora'!$A:$N,DQ60,AL$7)))","v":""},{"$f":"IF($E60=\"\",\"\",IF(INDEX('E_Tokovi izvora'!$A:$N,DR60,AM$7)=\"\",\"\",INDEX('E_Tokovi izvora'!$A:$N,DR60,AM$7)))","v":""},{"$f":"IF($E60=\"\",\"\",IF(INDEX('E_Tokovi izvora'!$A:$N,DS60,AN$7)=\"\",\"\",INDEX('E_Tokovi izvora'!$A:$N,DS60,AN$7)))","v":""},{"$f":"IF($E60=\"\",\"\",IF(INDEX('E_Tokovi izvora'!$A:$N,DT60,AO$7)=\"\",\"\",INDEX('E_Tokovi izvora'!$A:$N,DT60,AO$7)))","v":""},{"$f":"IF($E60=\"\",\"\",IF(INDEX('E_Tokovi izvora'!$A:$N,DU60,AP$7)=\"\",\"\",INDEX('E_Tokovi izvora'!$A:$N,DU60,AP$7)))","v":""},{"$f":"IF($E60=\"\",\"\",IF(INDEX('E_Tokovi izvora'!$A:$N,DV60,AQ$7)=\"\",\"\",INDEX('E_Tokovi izvora'!$A:$N,DV60,AQ$7)))","v":""},{"$f":"IF($E60=\"\",\"\",IF(INDEX('E_Tokovi izvora'!$A:$N,DW60,AR$7)=\"\",\"\",INDEX('E_Tokovi izvora'!$A:$N,DW60,AR$7)))","v":""},{"$f":"IF($E60=\"\",\"\",IF(INDEX('E_Tokovi izvora'!$A:$N,DX60,AS$7)=\"\",\"\",INDEX('E_Tokovi izvora'!$A:$N,DX60,AS$7)))","v":""},{"$f":"IF($E60=\"\",\"\",IF(INDEX('E_Tokovi izvora'!$A:$N,DY60,AT$7)=\"\",\"\",INDEX('E_Tokovi izvora'!$A:$N,DY60,AT$7)))","v":""},{"$f":"IF($E60=\"\",\"\",IF(INDEX('E_Tokovi izvora'!$A:$N,DZ60,AU$7)=\"\",\"\",INDEX('E_Tokovi izvora'!$A:$N,DZ60,AU$7)))","v":""},{"$f":"IF($E60=\"\",\"\",IF(INDEX('E_Tokovi izvora'!$A:$N,EA60,AV$7)=\"\",\"\",INDEX('E_Tokovi izvora'!$A:$N,EA60,AV$7)))","v":""},{"$f":"IF($E60=\"\",\"\",IF(INDEX('E_Tokovi izvora'!$A:$N,EB60,AW$7)=\"\",\"\",INDEX('E_Tokovi izvora'!$A:$N,EB60,AW$7)))","v":""},{"$f":"IF($E60=\"\",\"\",IF(INDEX('E_Tokovi izvora'!$A:$N,EC60,AX$7)=\"\",\"\",INDEX('E_Tokovi izvora'!$A:$N,EC60,AX$7)))","v":""},{"$f":"IF($E60=\"\",\"\",IF(INDEX('E_Tokovi izvora'!$A:$N,ED60,AY$7)=\"\",\"\",INDEX('E_Tokovi izvora'!$A:$N,ED60,AY$7)))","v":""},{"$f":"IF($E60=\"\",\"\",IF(INDEX('E_Tokovi izvora'!$A:$N,EE60,AZ$7)=\"\",\"\",INDEX('E_Tokovi izvora'!$A:$N,EE60,AZ$7)))","v":""},{"$f":"IF($E60=\"\",\"\",IF(INDEX('E_Tokovi izvora'!$A:$N,EF60,BA$7)=\"\",\"\",INDEX('E_Tokovi izvora'!$A:$N,EF60,BA$7)))","v":""},{"$f":"IF($E60=\"\",\"\",IF(INDEX('E_Tokovi izvora'!$A:$N,EG60,BB$7)=\"\",\"\",INDEX('E_Tokovi izvora'!$A:$N,EG60,BB$7)))","v":""},{"$f":"IF($E60=\"\",\"\",IF(INDEX('E_Tokovi izvora'!$A:$N,EH60,BC$7)=\"\",\"\",INDEX('E_Tokovi izvora'!$A:$N,EH60,BC$7)))","v":""},{"$f":"IF($E60=\"\",\"\",IF(INDEX('E_Tokovi izvora'!$A:$N,EI60,BD$7)=\"\",\"\",INDEX('E_Tokovi izvora'!$A:$N,EI60,BD$7)))","v":""},{"$f":"IF($E60=\"\",\"\",IF(INDEX('E_Tokovi izvora'!$A:$N,EJ60,BE$7)=\"\",\"\",INDEX('E_Tokovi izvora'!$A:$N,EJ60,BE$7)))","v":""},{"$f":"IF($E60=\"\",\"\",IF(INDEX('E_Tokovi izvora'!$A:$N,EK60,BF$7)=\"\",\"\",INDEX('E_Tokovi izvora'!$A:$N,EK60,BF$7)))","v":""},{"$f":"IF($E60=\"\",\"\",IF(INDEX('E_Tokovi izvora'!$A:$N,EL60,BG$7)=\"\",\"\",INDEX('E_Tokovi izvora'!$A:$N,EL60,BG$7)))","v":""},{"$f":"IF($E60=\"\",\"\",IF(INDEX('E_Tokovi izvora'!$A:$N,EM60,BH$7)=\"\",\"\",INDEX('E_Tokovi izvora'!$A:$N,EM60,BH$7)))","v":""},{"$f":"IF($E60=\"\",\"\",IF(INDEX('E_Tokovi izvora'!$A:$N,EN60,BI$7)=\"\",\"\",INDEX('E_Tokovi izvora'!$A:$N,EN60,BI$7)))","v":""},{"$f":"IF($E60=\"\",\"\",IF(INDEX('E_Tokovi izvora'!$A:$N,EO60,BJ$7)=\"\",\"\",INDEX('E_Tokovi izvora'!$A:$N,EO60,BJ$7)))","v":""},{"$f":"IF($E60=\"\",\"\",IF(INDEX('E_Tokovi izvora'!$A:$N,EP60,BK$7)=\"\",\"\",INDEX('E_Tokovi izvora'!$A:$N,EP60,BK$7)))","v":""},{"$f":"IF($E60=\"\",\"\",IF(INDEX('E_Tokovi izvora'!$A:$N,EQ60,BL$7)=\"\",\"\",INDEX('E_Tokovi izvora'!$A:$N,EQ60,BL$7)))","v":""},{"$f":"IF($E60=\"\",\"\",IF(INDEX('E_Tokovi izvora'!$A:$N,ER60,BM$7)=\"\",\"\",INDEX('E_Tokovi izvora'!$A:$N,ER60,BM$7)))","v":""},{"$f":"IF($E60=\"\",\"\",IF(INDEX('E_Tokovi izvora'!$A:$N,ES60,BN$7)=\"\",\"\",INDEX('E_Tokovi izvora'!$A:$N,ES60,BN$7)))","v":""},{"$f":"IF($E60=\"\",\"\",IF(INDEX('E_Tokovi izvora'!$A:$N,ET60,BO$7)=\"\",\"\",INDEX('E_Tokovi izvora'!$A:$N,ET60,BO$7)))","v":""},{"$f":"IF($E60=\"\",\"\",IF(INDEX('E_Tokovi izvora'!$A:$N,EU60,BP$7)=\"\",\"\",INDEX('E_Tokovi izvora'!$A:$N,EU60,BP$7)))","v":""},{"$f":"IF($E60=\"\",\"\",IF(INDEX('E_Tokovi izvora'!$A:$N,EV60,BQ$7)=\"\",\"\",INDEX('E_Tokovi izvora'!$A:$N,EV60,BQ$7)))","v":""},{"$f":"IF($E60=\"\",\"\",IF(INDEX('E_Tokovi izvora'!$A:$N,EW60,BR$7)=\"\",\"\",INDEX('E_Tokovi izvora'!$A:$N,EW60,BR$7)))","v":""},{"$f":"IF($E60=\"\",\"\",IF(INDEX('E_Tokovi izvora'!$A:$N,EX60,BS$7)=\"\",\"\",INDEX('E_Tokovi izvora'!$A:$N,EX60,BS$7)))","v":""},{"$f":"IF($E60=\"\",\"\",IF(INDEX('E_Tokovi izvora'!$A:$N,EY60,BT$7)=\"\",\"\",INDEX('E_Tokovi izvora'!$A:$N,EY60,BT$7)))","v":""},null,null,null,null,null,null,null,null,null,null,null,null,null,null,null,"SourceCategory_",{"$f":"INDEX('C_Opis postrojenja'!$A$226:$A$332,ROWS($CI$11:CI60))=\"ausblenden\"","v":true},"SourceStreamName_",null,3367,3369,3371,3373,3375,3377,3379,3379,3379,3379,3379,3382,3386,3387,3388,3395,3405,3405,3405,3405,3405,3405,3405,3396,3406,3406,3406,3406,3406,3406,3406,3397,3407,3407,3407,3407,3407,3407,3407,3398,3408,3408,3408,3408,3408,3408,3408,3399,3409,3409,3409,3409,3409,3409,3409,3400,3410,3410,3410,3410,3410,3410,3410,3416]
[null,{"$f":"IF(COUNTIF($CK$10:CK61,TRUE)>0,\"\",INDEX('C_Opis postrojenja'!$E$226:$E$242,ROWS($A$11:A61)))","v":""},{"$f":"IF($E61=\"\",\"\",INDEX('C_Opis postrojenja'!F:F,MATCH($B61,'C_Opis postrojenja'!$E:$E,0)))","v":""},{"$f":"IF($E61=\"\",\"\",INDEX('C_Opis postrojenja'!I:I,MATCH($B61,'C_Opis postrojenja'!$E:$E,0)))","v":""},{"$f":"IF($B61=\"\",\"\",INDEX('C_Opis postrojenja'!F:F,MATCH($CJ61,'C_Opis postrojenja'!$Q:$Q,0)))","v":""},{"$f":"IF($E61=\"\",\"\",INDEX('C_Opis postrojenja'!L:L,MATCH($CJ61,'C_Opis postrojenja'!$Q:$Q,0)))","v":""},{"$f":"IF($E61=\"\",\"\",INDEX('C_Opis postrojenja'!M:M,MATCH($CJ61,'C_Opis postrojenja'!$Q:$Q,0)))","v":""},{"$f":"IF($E61=\"\",\"\",INDEX('C_Opis postrojenja'!N:N,MATCH($CJ61,'C_Opis postrojenja'!$Q:$Q,0)))","v":""},{"$f":"IF($E61=\"\",\"\",IF(INDEX('E_Tokovi izvora'!$A:$N,CN61,I$7)=\"\",\"\",INDEX('E_Tokovi izvora'!$A:$N,CN61,I$7)))","v":""},{"$f":"IF($E61=\"\",\"\",IF(INDEX('E_Tokovi izvora'!$A:$N,CO61,J$7)=\"\",\"\",INDEX('E_Tokovi izvora'!$A:$N,CO61,J$7)))","v":""},{"$f":"IF($E61=\"\",\"\",IF(INDEX('E_Tokovi izvora'!$A:$N,CP61,K$7)=\"\",\"\",INDEX('E_Tokovi izvora'!$A:$N,CP61,K$7)))","v":""},{"$f":"IF($E61=\"\",\"\",IF(INDEX('E_Tokovi izvora'!$A:$N,CQ61,L$7)=\"\",\"\",INDEX('E_Tokovi izvora'!$A:$N,CQ61,L$7)))","v":""},{"$f":"IF($E61=\"\",\"\",IF(INDEX('E_Tokovi izvora'!$A:$N,CR61,M$7)=\"\",\"\",INDEX('E_Tokovi izvora'!$A:$N,CR61,M$7)))","v":""},{"$f":"IF($E61=\"\",\"\",IF(INDEX('E_Tokovi izvora'!$A:$N,CS61,N$7)=\"\",\"\",INDEX('E_Tokovi izvora'!$A:$N,CS61,N$7)))","v":""},{"$f":"IF($E61=\"\",\"\",IF(INDEX('E_Tokovi izvora'!$A:$N,CT61,O$7)=\"\",\"\",INDEX('E_Tokovi izvora'!$A:$N,CT61,O$7)))","v":""},{"$f":"IF($E61=\"\",\"\",IF(INDEX('E_Tokovi izvora'!$A:$N,CU61,P$7)=\"\",\"\",INDEX('E_Tokovi izvora'!$A:$N,CU61,P$7)))","v":""},{"$f":"IF($E61=\"\",\"\",IF(INDEX('E_Tokovi izvora'!$A:$N,CV61,Q$7)=\"\",\"\",INDEX('E_Tokovi izvora'!$A:$N,CV61,Q$7)))","v":""},{"$f":"IF($E61=\"\",\"\",IF(INDEX('E_Tokovi izvora'!$A:$N,CW61,R$7)=\"\",\"\",INDEX('E_Tokovi izvora'!$A:$N,CW61,R$7)))","v":""},{"$f":"IF($E61=\"\",\"\",IF(INDEX('E_Tokovi izvora'!$A:$N,CX61,S$7)=\"\",\"\",INDEX('E_Tokovi izvora'!$A:$N,CX61,S$7)))","v":""},{"$f":"IF($E61=\"\",\"\",IF(INDEX('E_Tokovi izvora'!$A:$N,CY61,T$7)=\"\",\"\",INDEX('E_Tokovi izvora'!$A:$N,CY61,T$7)))","v":""},{"$f":"IF($E61=\"\",\"\",IF(INDEX('E_Tokovi izvora'!$A:$N,CZ61,U$7)=\"\",\"\",INDEX('E_Tokovi izvora'!$A:$N,CZ61,U$7)))","v":""},{"$f":"IF($E61=\"\",\"\",IF(INDEX('E_Tokovi izvora'!$A:$N,DA61,V$7)=\"\",\"\",INDEX('E_Tokovi izvora'!$A:$N,DA61,V$7)))","v":""},{"$f":"IF($E61=\"\",\"\",IF(INDEX('E_Tokovi izvora'!$A:$N,DB61,W$7)=\"\",\"\",INDEX('E_Tokovi izvora'!$A:$N,DB61,W$7)))","v":""},{"$f":"IF($E61=\"\",\"\",IF(INDEX('E_Tokovi izvora'!$A:$N,DC61,X$7)=\"\",\"\",INDEX('E_Tokovi izvora'!$A:$N,DC61,X$7)))","v":""},{"$f":"IF($E61=\"\",\"\",IF(INDEX('E_Tokovi izvora'!$A:$N,DD61,Y$7)=\"\",\"\",INDEX('E_Tokovi izvora'!$A:$N,DD61,Y$7)))","v":""},{"$f":"IF($E61=\"\",\"\",IF(INDEX('E_Tokovi izvora'!$A:$N,DE61,Z$7)=\"\",\"\",INDEX('E_Tokovi izvora'!$A:$N,DE61,Z$7)))","v":""},{"$f":"IF($E61=\"\",\"\",IF(INDEX('E_Tokovi izvora'!$A:$N,DF61,AA$7)=\"\",\"\",INDEX('E_Tokovi izvora'!$A:$N,DF61,AA$7)))","v":""},{"$f":"IF($E61=\"\",\"\",IF(INDEX('E_Tokovi izvora'!$A:$N,DG61,AB$7)=\"\",\"\",INDEX('E_Tokovi izvora'!$A:$N,DG61,AB$7)))","v":""},{"$f":"IF($E61=\"\",\"\",IF(INDEX('E_Tokovi izvora'!$A:$N,DH61,AC$7)=\"\",\"\",INDEX('E_Tokovi izvora'!$A:$N,DH61,AC$7)))","v":""},{"$f":"IF($E61=\"\",\"\",IF(INDEX('E_Tokovi izvora'!$A:$N,DI61,AD$7)=\"\",\"\",INDEX('E_Tokovi izvora'!$A:$N,DI61,AD$7)))","v":""},{"$f":"IF($E61=\"\",\"\",IF(INDEX('E_Tokovi izvora'!$A:$N,DJ61,AE$7)=\"\",\"\",INDEX('E_Tokovi izvora'!$A:$N,DJ61,AE$7)))","v":""},{"$f":"IF($E61=\"\",\"\",IF(INDEX('E_Tokovi izvora'!$A:$N,DK61,AF$7)=\"\",\"\",INDEX('E_Tokovi izvora'!$A:$N,DK61,AF$7)))","v":""},{"$f":"IF($E61=\"\",\"\",IF(INDEX('E_Tokovi izvora'!$A:$N,DL61,AG$7)=\"\",\"\",INDEX('E_Tokovi izvora'!$A:$N,DL61,AG$7)))","v":""},{"$f":"IF($E61=\"\",\"\",IF(INDEX('E_Tokovi izvora'!$A:$N,DM61,AH$7)=\"\",\"\",INDEX('E_Tokovi izvora'!$A:$N,DM61,AH$7)))","v":""},{"$f":"IF($E61=\"\",\"\",IF(INDEX('E_Tokovi izvora'!$A:$N,DN61,AI$7)=\"\",\"\",INDEX('E_Tokovi izvora'!$A:$N,DN61,AI$7)))","v":""},{"$f":"IF($E61=\"\",\"\",IF(INDEX('E_Tokovi izvora'!$A:$N,DO61,AJ$7)=\"\",\"\",INDEX('E_Tokovi izvora'!$A:$N,DO61,AJ$7)))","v":""},{"$f":"IF($E61=\"\",\"\",IF(INDEX('E_Tokovi izvora'!$A:$N,DP61,AK$7)=\"\",\"\",INDEX('E_Tokovi izvora'!$A:$N,DP61,AK$7)))","v":""},{"$f":"IF($E61=\"\",\"\",IF(INDEX('E_Tokovi izvora'!$A:$N,DQ61,AL$7)=\"\",\"\",INDEX('E_Tokovi izvora'!$A:$N,DQ61,AL$7)))","v":""},{"$f":"IF($E61=\"\",\"\",IF(INDEX('E_Tokovi izvora'!$A:$N,DR61,AM$7)=\"\",\"\",INDEX('E_Tokovi izvora'!$A:$N,DR61,AM$7)))","v":""},{"$f":"IF($E61=\"\",\"\",IF(INDEX('E_Tokovi izvora'!$A:$N,DS61,AN$7)=\"\",\"\",INDEX('E_Tokovi izvora'!$A:$N,DS61,AN$7)))","v":""},{"$f":"IF($E61=\"\",\"\",IF(INDEX('E_Tokovi izvora'!$A:$N,DT61,AO$7)=\"\",\"\",INDEX('E_Tokovi izvora'!$A:$N,DT61,AO$7)))","v":""},{"$f":"IF($E61=\"\",\"\",IF(INDEX('E_Tokovi izvora'!$A:$N,DU61,AP$7)=\"\",\"\",INDEX('E_Tokovi izvora'!$A:$N,DU61,AP$7)))","v":""},{"$f":"IF($E61=\"\",\"\",IF(INDEX('E_Tokovi izvora'!$A:$N,DV61,AQ$7)=\"\",\"\",INDEX('E_Tokovi izvora'!$A:$N,DV61,AQ$7)))","v":""},{"$f":"IF($E61=\"\",\"\",IF(INDEX('E_Tokovi izvora'!$A:$N,DW61,AR$7)=\"\",\"\",INDEX('E_Tokovi izvora'!$A:$N,DW61,AR$7)))","v":""},{"$f":"IF($E61=\"\",\"\",IF(INDEX('E_Tokovi izvora'!$A:$N,DX61,AS$7)=\"\",\"\",INDEX('E_Tokovi izvora'!$A:$N,DX61,AS$7)))","v":""},{"$f":"IF($E61=\"\",\"\",IF(INDEX('E_Tokovi izvora'!$A:$N,DY61,AT$7)=\"\",\"\",INDEX('E_Tokovi izvora'!$A:$N,DY61,AT$7)))","v":""},{"$f":"IF($E61=\"\",\"\",IF(INDEX('E_Tokovi izvora'!$A:$N,DZ61,AU$7)=\"\",\"\",INDEX('E_Tokovi izvora'!$A:$N,DZ61,AU$7)))","v":""},{"$f":"IF($E61=\"\",\"\",IF(INDEX('E_Tokovi izvora'!$A:$N,EA61,AV$7)=\"\",\"\",INDEX('E_Tokovi izvora'!$A:$N,EA61,AV$7)))","v":""},{"$f":"IF($E61=\"\",\"\",IF(INDEX('E_Tokovi izvora'!$A:$N,EB61,AW$7)=\"\",\"\",INDEX('E_Tokovi izvora'!$A:$N,EB61,AW$7)))","v":""},{"$f":"IF($E61=\"\",\"\",IF(INDEX('E_Tokovi izvora'!$A:$N,EC61,AX$7)=\"\",\"\",INDEX('E_Tokovi izvora'!$A:$N,EC61,AX$7)))","v":""},{"$f":"IF($E61=\"\",\"\",IF(INDEX('E_Tokovi izvora'!$A:$N,ED61,AY$7)=\"\",\"\",INDEX('E_Tokovi izvora'!$A:$N,ED61,AY$7)))","v":""},{"$f":"IF($E61=\"\",\"\",IF(INDEX('E_Tokovi izvora'!$A:$N,EE61,AZ$7)=\"\",\"\",INDEX('E_Tokovi izvora'!$A:$N,EE61,AZ$7)))","v":""},{"$f":"IF($E61=\"\",\"\",IF(INDEX('E_Tokovi izvora'!$A:$N,EF61,BA$7)=\"\",\"\",INDEX('E_Tokovi izvora'!$A:$N,EF61,BA$7)))","v":""},{"$f":"IF($E61=\"\",\"\",IF(INDEX('E_Tokovi izvora'!$A:$N,EG61,BB$7)=\"\",\"\",INDEX('E_Tokovi izvora'!$A:$N,EG61,BB$7)))","v":""},{"$f":"IF($E61=\"\",\"\",IF(INDEX('E_Tokovi izvora'!$A:$N,EH61,BC$7)=\"\",\"\",INDEX('E_Tokovi izvora'!$A:$N,EH61,BC$7)))","v":""},{"$f":"IF($E61=\"\",\"\",IF(INDEX('E_Tokovi izvora'!$A:$N,EI61,BD$7)=\"\",\"\",INDEX('E_Tokovi izvora'!$A:$N,EI61,BD$7)))","v":""},{"$f":"IF($E61=\"\",\"\",IF(INDEX('E_Tokovi izvora'!$A:$N,EJ61,BE$7)=\"\",\"\",INDEX('E_Tokovi izvora'!$A:$N,EJ61,BE$7)))","v":""},{"$f":"IF($E61=\"\",\"\",IF(INDEX('E_Tokovi izvora'!$A:$N,EK61,BF$7)=\"\",\"\",INDEX('E_Tokovi izvora'!$A:$N,EK61,BF$7)))","v":""},{"$f":"IF($E61=\"\",\"\",IF(INDEX('E_Tokovi izvora'!$A:$N,EL61,BG$7)=\"\",\"\",INDEX('E_Tokovi izvora'!$A:$N,EL61,BG$7)))","v":""},{"$f":"IF($E61=\"\",\"\",IF(INDEX('E_Tokovi izvora'!$A:$N,EM61,BH$7)=\"\",\"\",INDEX('E_Tokovi izvora'!$A:$N,EM61,BH$7)))","v":""},{"$f":"IF($E61=\"\",\"\",IF(INDEX('E_Tokovi izvora'!$A:$N,EN61,BI$7)=\"\",\"\",INDEX('E_Tokovi izvora'!$A:$N,EN61,BI$7)))","v":""},{"$f":"IF($E61=\"\",\"\",IF(INDEX('E_Tokovi izvora'!$A:$N,EO61,BJ$7)=\"\",\"\",INDEX('E_Tokovi izvora'!$A:$N,EO61,BJ$7)))","v":""},{"$f":"IF($E61=\"\",\"\",IF(INDEX('E_Tokovi izvora'!$A:$N,EP61,BK$7)=\"\",\"\",INDEX('E_Tokovi izvora'!$A:$N,EP61,BK$7)))","v":""},{"$f":"IF($E61=\"\",\"\",IF(INDEX('E_Tokovi izvora'!$A:$N,EQ61,BL$7)=\"\",\"\",INDEX('E_Tokovi izvora'!$A:$N,EQ61,BL$7)))","v":""},{"$f":"IF($E61=\"\",\"\",IF(INDEX('E_Tokovi izvora'!$A:$N,ER61,BM$7)=\"\",\"\",INDEX('E_Tokovi izvora'!$A:$N,ER61,BM$7)))","v":""},{"$f":"IF($E61=\"\",\"\",IF(INDEX('E_Tokovi izvora'!$A:$N,ES61,BN$7)=\"\",\"\",INDEX('E_Tokovi izvora'!$A:$N,ES61,BN$7)))","v":""},{"$f":"IF($E61=\"\",\"\",IF(INDEX('E_Tokovi izvora'!$A:$N,ET61,BO$7)=\"\",\"\",INDEX('E_Tokovi izvora'!$A:$N,ET61,BO$7)))","v":""},{"$f":"IF($E61=\"\",\"\",IF(INDEX('E_Tokovi izvora'!$A:$N,EU61,BP$7)=\"\",\"\",INDEX('E_Tokovi izvora'!$A:$N,EU61,BP$7)))","v":""},{"$f":"IF($E61=\"\",\"\",IF(INDEX('E_Tokovi izvora'!$A:$N,EV61,BQ$7)=\"\",\"\",INDEX('E_Tokovi izvora'!$A:$N,EV61,BQ$7)))","v":""},{"$f":"IF($E61=\"\",\"\",IF(INDEX('E_Tokovi izvora'!$A:$N,EW61,BR$7)=\"\",\"\",INDEX('E_Tokovi izvora'!$A:$N,EW61,BR$7)))","v":""},{"$f":"IF($E61=\"\",\"\",IF(INDEX('E_Tokovi izvora'!$A:$N,EX61,BS$7)=\"\",\"\",INDEX('E_Tokovi izvora'!$A:$N,EX61,BS$7)))","v":""},{"$f":"IF($E61=\"\",\"\",IF(INDEX('E_Tokovi izvora'!$A:$N,EY61,BT$7)=\"\",\"\",INDEX('E_Tokovi izvora'!$A:$N,EY61,BT$7)))","v":""},null,null,null,null,null,null,null,null,null,null,null,null,null,null,null,"SourceCategory_",{"$f":"INDEX('C_Opis postrojenja'!$A$226:$A$332,ROWS($CI$11:CI61))=\"ausblenden\"","v":true},"SourceStreamName_",null,3433,3435,3437,3439,3441,3443,3445,3445,3445,3445,3445,3448,3452,3453,3454,3461,3471,3471,3471,3471,3471,3471,3471,3462,3472,3472,3472,3472,3472,3472,3472,3463,3473,3473,3473,3473,3473,3473,3473,3464,3474,3474,3474,3474,3474,3474,3474,3465,3475,3475,3475,3475,3475,3475,3475,3466,3476,3476,3476,3476,3476,3476,3476,3482]
[null,{"$f":"IF(COUNTIF($CK$10:CK62,TRUE)>0,\"\",INDEX('C_Opis postrojenja'!$E$226:$E$242,ROWS($A$11:A62)))","v":""},{"$f":"IF($E62=\"\",\"\",INDEX('C_Opis postrojenja'!F:F,MATCH($B62,'C_Opis postrojenja'!$E:$E,0)))","v":""},{"$f":"IF($E62=\"\",\"\",INDEX('C_Opis postrojenja'!I:I,MATCH($B62,'C_Opis postrojenja'!$E:$E,0)))","v":""},{"$f":"IF($B62=\"\",\"\",INDEX('C_Opis postrojenja'!F:F,MATCH($CJ62,'C_Opis postrojenja'!$Q:$Q,0)))","v":""},{"$f":"IF($E62=\"\",\"\",INDEX('C_Opis postrojenja'!L:L,MATCH($CJ62,'C_Opis postrojenja'!$Q:$Q,0)))","v":""},{"$f":"IF($E62=\"\",\"\",INDEX('C_Opis postrojenja'!M:M,MATCH($CJ62,'C_Opis postrojenja'!$Q:$Q,0)))","v":""},{"$f":"IF($E62=\"\",\"\",INDEX('C_Opis postrojenja'!N:N,MATCH($CJ62,'C_Opis postrojenja'!$Q:$Q,0)))","v":""},{"$f":"IF($E62=\"\",\"\",IF(INDEX('E_Tokovi izvora'!$A:$N,CN62,I$7)=\"\",\"\",INDEX('E_Tokovi izvora'!$A:$N,CN62,I$7)))","v":""},{"$f":"IF($E62=\"\",\"\",IF(INDEX('E_Tokovi izvora'!$A:$N,CO62,J$7)=\"\",\"\",INDEX('E_Tokovi izvora'!$A:$N,CO62,J$7)))","v":""},{"$f":"IF($E62=\"\",\"\",IF(INDEX('E_Tokovi izvora'!$A:$N,CP62,K$7)=\"\",\"\",INDEX('E_Tokovi izvora'!$A:$N,CP62,K$7)))","v":""},{"$f":"IF($E62=\"\",\"\",IF(INDEX('E_Tokovi izvora'!$A:$N,CQ62,L$7)=\"\",\"\",INDEX('E_Tokovi izvora'!$A:$N,CQ62,L$7)))","v":""},{"$f":"IF($E62=\"\",\"\",IF(INDEX('E_Tokovi izvora'!$A:$N,CR62,M$7)=\"\",\"\",INDEX('E_Tokovi izvora'!$A:$N,CR62,M$7)))","v":""},{"$f":"IF($E62=\"\",\"\",IF(INDEX('E_Tokovi izvora'!$A:$N,CS62,N$7)=\"\",\"\",INDEX('E_Tokovi izvora'!$A:$N,CS62,N$7)))","v":""},{"$f":"IF($E62=\"\",\"\",IF(INDEX('E_Tokovi izvora'!$A:$N,CT62,O$7)=\"\",\"\",INDEX('E_Tokovi izvora'!$A:$N,CT62,O$7)))","v":""},{"$f":"IF($E62=\"\",\"\",IF(INDEX('E_Tokovi izvora'!$A:$N,CU62,P$7)=\"\",\"\",INDEX('E_Tokovi izvora'!$A:$N,CU62,P$7)))","v":""},{"$f":"IF($E62=\"\",\"\",IF(INDEX('E_Tokovi izvora'!$A:$N,CV62,Q$7)=\"\",\"\",INDEX('E_Tokovi izvora'!$A:$N,CV62,Q$7)))","v":""},{"$f":"IF($E62=\"\",\"\",IF(INDEX('E_Tokovi izvora'!$A:$N,CW62,R$7)=\"\",\"\",INDEX('E_Tokovi izvora'!$A:$N,CW62,R$7)))","v":""},{"$f":"IF($E62=\"\",\"\",IF(INDEX('E_Tokovi izvora'!$A:$N,CX62,S$7)=\"\",\"\",INDEX('E_Tokovi izvora'!$A:$N,CX62,S$7)))","v":""},{"$f":"IF($E62=\"\",\"\",IF(INDEX('E_Tokovi izvora'!$A:$N,CY62,T$7)=\"\",\"\",INDEX('E_Tokovi izvora'!$A:$N,CY62,T$7)))","v":""},{"$f":"IF($E62=\"\",\"\",IF(INDEX('E_Tokovi izvora'!$A:$N,CZ62,U$7)=\"\",\"\",INDEX('E_Tokovi izvora'!$A:$N,CZ62,U$7)))","v":""},{"$f":"IF($E62=\"\",\"\",IF(INDEX('E_Tokovi izvora'!$A:$N,DA62,V$7)=\"\",\"\",INDEX('E_Tokovi izvora'!$A:$N,DA62,V$7)))","v":""},{"$f":"IF($E62=\"\",\"\",IF(INDEX('E_Tokovi izvora'!$A:$N,DB62,W$7)=\"\",\"\",INDEX('E_Tokovi izvora'!$A:$N,DB62,W$7)))","v":""},{"$f":"IF($E62=\"\",\"\",IF(INDEX('E_Tokovi izvora'!$A:$N,DC62,X$7)=\"\",\"\",INDEX('E_Tokovi izvora'!$A:$N,DC62,X$7)))","v":""},{"$f":"IF($E62=\"\",\"\",IF(INDEX('E_Tokovi izvora'!$A:$N,DD62,Y$7)=\"\",\"\",INDEX('E_Tokovi izvora'!$A:$N,DD62,Y$7)))","v":""},{"$f":"IF($E62=\"\",\"\",IF(INDEX('E_Tokovi izvora'!$A:$N,DE62,Z$7)=\"\",\"\",INDEX('E_Tokovi izvora'!$A:$N,DE62,Z$7)))","v":""},{"$f":"IF($E62=\"\",\"\",IF(INDEX('E_Tokovi izvora'!$A:$N,DF62,AA$7)=\"\",\"\",INDEX('E_Tokovi izvora'!$A:$N,DF62,AA$7)))","v":""},{"$f":"IF($E62=\"\",\"\",IF(INDEX('E_Tokovi izvora'!$A:$N,DG62,AB$7)=\"\",\"\",INDEX('E_Tokovi izvora'!$A:$N,DG62,AB$7)))","v":""},{"$f":"IF($E62=\"\",\"\",IF(INDEX('E_Tokovi izvora'!$A:$N,DH62,AC$7)=\"\",\"\",INDEX('E_Tokovi izvora'!$A:$N,DH62,AC$7)))","v":""},{"$f":"IF($E62=\"\",\"\",IF(INDEX('E_Tokovi izvora'!$A:$N,DI62,AD$7)=\"\",\"\",INDEX('E_Tokovi izvora'!$A:$N,DI62,AD$7)))","v":""},{"$f":"IF($E62=\"\",\"\",IF(INDEX('E_Tokovi izvora'!$A:$N,DJ62,AE$7)=\"\",\"\",INDEX('E_Tokovi izvora'!$A:$N,DJ62,AE$7)))","v":""},{"$f":"IF($E62=\"\",\"\",IF(INDEX('E_Tokovi izvora'!$A:$N,DK62,AF$7)=\"\",\"\",INDEX('E_Tokovi izvora'!$A:$N,DK62,AF$7)))","v":""},{"$f":"IF($E62=\"\",\"\",IF(INDEX('E_Tokovi izvora'!$A:$N,DL62,AG$7)=\"\",\"\",INDEX('E_Tokovi izvora'!$A:$N,DL62,AG$7)))","v":""},{"$f":"IF($E62=\"\",\"\",IF(INDEX('E_Tokovi izvora'!$A:$N,DM62,AH$7)=\"\",\"\",INDEX('E_Tokovi izvora'!$A:$N,DM62,AH$7)))","v":""},{"$f":"IF($E62=\"\",\"\",IF(INDEX('E_Tokovi izvora'!$A:$N,DN62,AI$7)=\"\",\"\",INDEX('E_Tokovi izvora'!$A:$N,DN62,AI$7)))","v":""},{"$f":"IF($E62=\"\",\"\",IF(INDEX('E_Tokovi izvora'!$A:$N,DO62,AJ$7)=\"\",\"\",INDEX('E_Tokovi izvora'!$A:$N,DO62,AJ$7)))","v":""},{"$f":"IF($E62=\"\",\"\",IF(INDEX('E_Tokovi izvora'!$A:$N,DP62,AK$7)=\"\",\"\",INDEX('E_Tokovi izvora'!$A:$N,DP62,AK$7)))","v":""},{"$f":"IF($E62=\"\",\"\",IF(INDEX('E_Tokovi izvora'!$A:$N,DQ62,AL$7)=\"\",\"\",INDEX('E_Tokovi izvora'!$A:$N,DQ62,AL$7)))","v":""},{"$f":"IF($E62=\"\",\"\",IF(INDEX('E_Tokovi izvora'!$A:$N,DR62,AM$7)=\"\",\"\",INDEX('E_Tokovi izvora'!$A:$N,DR62,AM$7)))","v":""},{"$f":"IF($E62=\"\",\"\",IF(INDEX('E_Tokovi izvora'!$A:$N,DS62,AN$7)=\"\",\"\",INDEX('E_Tokovi izvora'!$A:$N,DS62,AN$7)))","v":""},{"$f":"IF($E62=\"\",\"\",IF(INDEX('E_Tokovi izvora'!$A:$N,DT62,AO$7)=\"\",\"\",INDEX('E_Tokovi izvora'!$A:$N,DT62,AO$7)))","v":""},{"$f":"IF($E62=\"\",\"\",IF(INDEX('E_Tokovi izvora'!$A:$N,DU62,AP$7)=\"\",\"\",INDEX('E_Tokovi izvora'!$A:$N,DU62,AP$7)))","v":""},{"$f":"IF($E62=\"\",\"\",IF(INDEX('E_Tokovi izvora'!$A:$N,DV62,AQ$7)=\"\",\"\",INDEX('E_Tokovi izvora'!$A:$N,DV62,AQ$7)))","v":""},{"$f":"IF($E62=\"\",\"\",IF(INDEX('E_Tokovi izvora'!$A:$N,DW62,AR$7)=\"\",\"\",INDEX('E_Tokovi izvora'!$A:$N,DW62,AR$7)))","v":""},{"$f":"IF($E62=\"\",\"\",IF(INDEX('E_Tokovi izvora'!$A:$N,DX62,AS$7)=\"\",\"\",INDEX('E_Tokovi izvora'!$A:$N,DX62,AS$7)))","v":""},{"$f":"IF($E62=\"\",\"\",IF(INDEX('E_Tokovi izvora'!$A:$N,DY62,AT$7)=\"\",\"\",INDEX('E_Tokovi izvora'!$A:$N,DY62,AT$7)))","v":""},{"$f":"IF($E62=\"\",\"\",IF(INDEX('E_Tokovi izvora'!$A:$N,DZ62,AU$7)=\"\",\"\",INDEX('E_Tokovi izvora'!$A:$N,DZ62,AU$7)))","v":""},{"$f":"IF($E62=\"\",\"\",IF(INDEX('E_Tokovi izvora'!$A:$N,EA62,AV$7)=\"\",\"\",INDEX('E_Tokovi izvora'!$A:$N,EA62,AV$7)))","v":""},{"$f":"IF($E62=\"\",\"\",IF(INDEX('E_Tokovi izvora'!$A:$N,EB62,AW$7)=\"\",\"\",INDEX('E_Tokovi izvora'!$A:$N,EB62,AW$7)))","v":""},{"$f":"IF($E62=\"\",\"\",IF(INDEX('E_Tokovi izvora'!$A:$N,EC62,AX$7)=\"\",\"\",INDEX('E_Tokovi izvora'!$A:$N,EC62,AX$7)))","v":""},{"$f":"IF($E62=\"\",\"\",IF(INDEX('E_Tokovi izvora'!$A:$N,ED62,AY$7)=\"\",\"\",INDEX('E_Tokovi izvora'!$A:$N,ED62,AY$7)))","v":""},{"$f":"IF($E62=\"\",\"\",IF(INDEX('E_Tokovi izvora'!$A:$N,EE62,AZ$7)=\"\",\"\",INDEX('E_Tokovi izvora'!$A:$N,EE62,AZ$7)))","v":""},{"$f":"IF($E62=\"\",\"\",IF(INDEX('E_Tokovi izvora'!$A:$N,EF62,BA$7)=\"\",\"\",INDEX('E_Tokovi izvora'!$A:$N,EF62,BA$7)))","v":""},{"$f":"IF($E62=\"\",\"\",IF(INDEX('E_Tokovi izvora'!$A:$N,EG62,BB$7)=\"\",\"\",INDEX('E_Tokovi izvora'!$A:$N,EG62,BB$7)))","v":""},{"$f":"IF($E62=\"\",\"\",IF(INDEX('E_Tokovi izvora'!$A:$N,EH62,BC$7)=\"\",\"\",INDEX('E_Tokovi izvora'!$A:$N,EH62,BC$7)))","v":""},{"$f":"IF($E62=\"\",\"\",IF(INDEX('E_Tokovi izvora'!$A:$N,EI62,BD$7)=\"\",\"\",INDEX('E_Tokovi izvora'!$A:$N,EI62,BD$7)))","v":""},{"$f":"IF($E62=\"\",\"\",IF(INDEX('E_Tokovi izvora'!$A:$N,EJ62,BE$7)=\"\",\"\",INDEX('E_Tokovi izvora'!$A:$N,EJ62,BE$7)))","v":""},{"$f":"IF($E62=\"\",\"\",IF(INDEX('E_Tokovi izvora'!$A:$N,EK62,BF$7)=\"\",\"\",INDEX('E_Tokovi izvora'!$A:$N,EK62,BF$7)))","v":""},{"$f":"IF($E62=\"\",\"\",IF(INDEX('E_Tokovi izvora'!$A:$N,EL62,BG$7)=\"\",\"\",INDEX('E_Tokovi izvora'!$A:$N,EL62,BG$7)))","v":""},{"$f":"IF($E62=\"\",\"\",IF(INDEX('E_Tokovi izvora'!$A:$N,EM62,BH$7)=\"\",\"\",INDEX('E_Tokovi izvora'!$A:$N,EM62,BH$7)))","v":""},{"$f":"IF($E62=\"\",\"\",IF(INDEX('E_Tokovi izvora'!$A:$N,EN62,BI$7)=\"\",\"\",INDEX('E_Tokovi izvora'!$A:$N,EN62,BI$7)))","v":""},{"$f":"IF($E62=\"\",\"\",IF(INDEX('E_Tokovi izvora'!$A:$N,EO62,BJ$7)=\"\",\"\",INDEX('E_Tokovi izvora'!$A:$N,EO62,BJ$7)))","v":""},{"$f":"IF($E62=\"\",\"\",IF(INDEX('E_Tokovi izvora'!$A:$N,EP62,BK$7)=\"\",\"\",INDEX('E_Tokovi izvora'!$A:$N,EP62,BK$7)))","v":""},{"$f":"IF($E62=\"\",\"\",IF(INDEX('E_Tokovi izvora'!$A:$N,EQ62,BL$7)=\"\",\"\",INDEX('E_Tokovi izvora'!$A:$N,EQ62,BL$7)))","v":""},{"$f":"IF($E62=\"\",\"\",IF(INDEX('E_Tokovi izvora'!$A:$N,ER62,BM$7)=\"\",\"\",INDEX('E_Tokovi izvora'!$A:$N,ER62,BM$7)))","v":""},{"$f":"IF($E62=\"\",\"\",IF(INDEX('E_Tokovi izvora'!$A:$N,ES62,BN$7)=\"\",\"\",INDEX('E_Tokovi izvora'!$A:$N,ES62,BN$7)))","v":""},{"$f":"IF($E62=\"\",\"\",IF(INDEX('E_Tokovi izvora'!$A:$N,ET62,BO$7)=\"\",\"\",INDEX('E_Tokovi izvora'!$A:$N,ET62,BO$7)))","v":""},{"$f":"IF($E62=\"\",\"\",IF(INDEX('E_Tokovi izvora'!$A:$N,EU62,BP$7)=\"\",\"\",INDEX('E_Tokovi izvora'!$A:$N,EU62,BP$7)))","v":""},{"$f":"IF($E62=\"\",\"\",IF(INDEX('E_Tokovi izvora'!$A:$N,EV62,BQ$7)=\"\",\"\",INDEX('E_Tokovi izvora'!$A:$N,EV62,BQ$7)))","v":""},{"$f":"IF($E62=\"\",\"\",IF(INDEX('E_Tokovi izvora'!$A:$N,EW62,BR$7)=\"\",\"\",INDEX('E_Tokovi izvora'!$A:$N,EW62,BR$7)))","v":""},{"$f":"IF($E62=\"\",\"\",IF(INDEX('E_Tokovi izvora'!$A:$N,EX62,BS$7)=\"\",\"\",INDEX('E_Tokovi izvora'!$A:$N,EX62,BS$7)))","v":""},{"$f":"IF($E62=\"\",\"\",IF(INDEX('E_Tokovi izvora'!$A:$N,EY62,BT$7)=\"\",\"\",INDEX('E_Tokovi izvora'!$A:$N,EY62,BT$7)))","v":""},null,null,null,null,null,null,null,null,null,null,null,null,null,null,null,"SourceCategory_",{"$f":"INDEX('C_Opis postrojenja'!$A$226:$A$332,ROWS($CI$11:CI62))=\"ausblenden\"","v":true},"SourceStreamName_",null,3499,3501,3503,3505,3507,3509,3511,3511,3511,3511,3511,3514,3518,3519,3520,3527,3537,3537,3537,3537,3537,3537,3537,3528,3538,3538,3538,3538,3538,3538,3538,3529,3539,3539,3539,3539,3539,3539,3539,3530,3540,3540,3540,3540,3540,3540,3540,3531,3541,3541,3541,3541,3541,3541,3541,3532,3542,3542,3542,3542,3542,3542,3542,3548]
[null,{"$f":"IF(COUNTIF($CK$10:CK63,TRUE)>0,\"\",INDEX('C_Opis postrojenja'!$E$226:$E$242,ROWS($A$11:A63)))","v":""},{"$f":"IF($E63=\"\",\"\",INDEX('C_Opis postrojenja'!F:F,MATCH($B63,'C_Opis postrojenja'!$E:$E,0)))","v":""},{"$f":"IF($E63=\"\",\"\",INDEX('C_Opis postrojenja'!I:I,MATCH($B63,'C_Opis postrojenja'!$E:$E,0)))","v":""},{"$f":"IF($B63=\"\",\"\",INDEX('C_Opis postrojenja'!F:F,MATCH($CJ63,'C_Opis postrojenja'!$Q:$Q,0)))","v":""},{"$f":"IF($E63=\"\",\"\",INDEX('C_Opis postrojenja'!L:L,MATCH($CJ63,'C_Opis postrojenja'!$Q:$Q,0)))","v":""},{"$f":"IF($E63=\"\",\"\",INDEX('C_Opis postrojenja'!M:M,MATCH($CJ63,'C_Opis postrojenja'!$Q:$Q,0)))","v":""},{"$f":"IF($E63=\"\",\"\",INDEX('C_Opis postrojenja'!N:N,MATCH($CJ63,'C_Opis postrojenja'!$Q:$Q,0)))","v":""},{"$f":"IF($E63=\"\",\"\",IF(INDEX('E_Tokovi izvora'!$A:$N,CN63,I$7)=\"\",\"\",INDEX('E_Tokovi izvora'!$A:$N,CN63,I$7)))","v":""},{"$f":"IF($E63=\"\",\"\",IF(INDEX('E_Tokovi izvora'!$A:$N,CO63,J$7)=\"\",\"\",INDEX('E_Tokovi izvora'!$A:$N,CO63,J$7)))","v":""},{"$f":"IF($E63=\"\",\"\",IF(INDEX('E_Tokovi izvora'!$A:$N,CP63,K$7)=\"\",\"\",INDEX('E_Tokovi izvora'!$A:$N,CP63,K$7)))","v":""},{"$f":"IF($E63=\"\",\"\",IF(INDEX('E_Tokovi izvora'!$A:$N,CQ63,L$7)=\"\",\"\",INDEX('E_Tokovi izvora'!$A:$N,CQ63,L$7)))","v":""},{"$f":"IF($E63=\"\",\"\",IF(INDEX('E_Tokovi izvora'!$A:$N,CR63,M$7)=\"\",\"\",INDEX('E_Tokovi izvora'!$A:$N,CR63,M$7)))","v":""},{"$f":"IF($E63=\"\",\"\",IF(INDEX('E_Tokovi izvora'!$A:$N,CS63,N$7)=\"\",\"\",INDEX('E_Tokovi izvora'!$A:$N,CS63,N$7)))","v":""},{"$f":"IF($E63=\"\",\"\",IF(INDEX('E_Tokovi izvora'!$A:$N,CT63,O$7)=\"\",\"\",INDEX('E_Tokovi izvora'!$A:$N,CT63,O$7)))","v":""},{"$f":"IF($E63=\"\",\"\",IF(INDEX('E_Tokovi izvora'!$A:$N,CU63,P$7)=\"\",\"\",INDEX('E_Tokovi izvora'!$A:$N,CU63,P$7)))","v":""},{"$f":"IF($E63=\"\",\"\",IF(INDEX('E_Tokovi izvora'!$A:$N,CV63,Q$7)=\"\",\"\",INDEX('E_Tokovi izvora'!$A:$N,CV63,Q$7)))","v":""},{"$f":"IF($E63=\"\",\"\",IF(INDEX('E_Tokovi izvora'!$A:$N,CW63,R$7)=\"\",\"\",INDEX('E_Tokovi izvora'!$A:$N,CW63,R$7)))","v":""},{"$f":"IF($E63=\"\",\"\",IF(INDEX('E_Tokovi izvora'!$A:$N,CX63,S$7)=\"\",\"\",INDEX('E_Tokovi izvora'!$A:$N,CX63,S$7)))","v":""},{"$f":"IF($E63=\"\",\"\",IF(INDEX('E_Tokovi izvora'!$A:$N,CY63,T$7)=\"\",\"\",INDEX('E_Tokovi izvora'!$A:$N,CY63,T$7)))","v":""},{"$f":"IF($E63=\"\",\"\",IF(INDEX('E_Tokovi izvora'!$A:$N,CZ63,U$7)=\"\",\"\",INDEX('E_Tokovi izvora'!$A:$N,CZ63,U$7)))","v":""},{"$f":"IF($E63=\"\",\"\",IF(INDEX('E_Tokovi izvora'!$A:$N,DA63,V$7)=\"\",\"\",INDEX('E_Tokovi izvora'!$A:$N,DA63,V$7)))","v":""},{"$f":"IF($E63=\"\",\"\",IF(INDEX('E_Tokovi izvora'!$A:$N,DB63,W$7)=\"\",\"\",INDEX('E_Tokovi izvora'!$A:$N,DB63,W$7)))","v":""},{"$f":"IF($E63=\"\",\"\",IF(INDEX('E_Tokovi izvora'!$A:$N,DC63,X$7)=\"\",\"\",INDEX('E_Tokovi izvora'!$A:$N,DC63,X$7)))","v":""},{"$f":"IF($E63=\"\",\"\",IF(INDEX('E_Tokovi izvora'!$A:$N,DD63,Y$7)=\"\",\"\",INDEX('E_Tokovi izvora'!$A:$N,DD63,Y$7)))","v":""},{"$f":"IF($E63=\"\",\"\",IF(INDEX('E_Tokovi izvora'!$A:$N,DE63,Z$7)=\"\",\"\",INDEX('E_Tokovi izvora'!$A:$N,DE63,Z$7)))","v":""},{"$f":"IF($E63=\"\",\"\",IF(INDEX('E_Tokovi izvora'!$A:$N,DF63,AA$7)=\"\",\"\",INDEX('E_Tokovi izvora'!$A:$N,DF63,AA$7)))","v":""},{"$f":"IF($E63=\"\",\"\",IF(INDEX('E_Tokovi izvora'!$A:$N,DG63,AB$7)=\"\",\"\",INDEX('E_Tokovi izvora'!$A:$N,DG63,AB$7)))","v":""},{"$f":"IF($E63=\"\",\"\",IF(INDEX('E_Tokovi izvora'!$A:$N,DH63,AC$7)=\"\",\"\",INDEX('E_Tokovi izvora'!$A:$N,DH63,AC$7)))","v":""},{"$f":"IF($E63=\"\",\"\",IF(INDEX('E_Tokovi izvora'!$A:$N,DI63,AD$7)=\"\",\"\",INDEX('E_Tokovi izvora'!$A:$N,DI63,AD$7)))","v":""},{"$f":"IF($E63=\"\",\"\",IF(INDEX('E_Tokovi izvora'!$A:$N,DJ63,AE$7)=\"\",\"\",INDEX('E_Tokovi izvora'!$A:$N,DJ63,AE$7)))","v":""},{"$f":"IF($E63=\"\",\"\",IF(INDEX('E_Tokovi izvora'!$A:$N,DK63,AF$7)=\"\",\"\",INDEX('E_Tokovi izvora'!$A:$N,DK63,AF$7)))","v":""},{"$f":"IF($E63=\"\",\"\",IF(INDEX('E_Tokovi izvora'!$A:$N,DL63,AG$7)=\"\",\"\",INDEX('E_Tokovi izvora'!$A:$N,DL63,AG$7)))","v":""},{"$f":"IF($E63=\"\",\"\",IF(INDEX('E_Tokovi izvora'!$A:$N,DM63,AH$7)=\"\",\"\",INDEX('E_Tokovi izvora'!$A:$N,DM63,AH$7)))","v":""},{"$f":"IF($E63=\"\",\"\",IF(INDEX('E_Tokovi izvora'!$A:$N,DN63,AI$7)=\"\",\"\",INDEX('E_Tokovi izvora'!$A:$N,DN63,AI$7)))","v":""},{"$f":"IF($E63=\"\",\"\",IF(INDEX('E_Tokovi izvora'!$A:$N,DO63,AJ$7)=\"\",\"\",INDEX('E_Tokovi izvora'!$A:$N,DO63,AJ$7)))","v":""},{"$f":"IF($E63=\"\",\"\",IF(INDEX('E_Tokovi izvora'!$A:$N,DP63,AK$7)=\"\",\"\",INDEX('E_Tokovi izvora'!$A:$N,DP63,AK$7)))","v":""},{"$f":"IF($E63=\"\",\"\",IF(INDEX('E_Tokovi izvora'!$A:$N,DQ63,AL$7)=\"\",\"\",INDEX('E_Tokovi izvora'!$A:$N,DQ63,AL$7)))","v":""},{"$f":"IF($E63=\"\",\"\",IF(INDEX('E_Tokovi izvora'!$A:$N,DR63,AM$7)=\"\",\"\",INDEX('E_Tokovi izvora'!$A:$N,DR63,AM$7)))","v":""},{"$f":"IF($E63=\"\",\"\",IF(INDEX('E_Tokovi izvora'!$A:$N,DS63,AN$7)=\"\",\"\",INDEX('E_Tokovi izvora'!$A:$N,DS63,AN$7)))","v":""},{"$f":"IF($E63=\"\",\"\",IF(INDEX('E_Tokovi izvora'!$A:$N,DT63,AO$7)=\"\",\"\",INDEX('E_Tokovi izvora'!$A:$N,DT63,AO$7)))","v":""},{"$f":"IF($E63=\"\",\"\",IF(INDEX('E_Tokovi izvora'!$A:$N,DU63,AP$7)=\"\",\"\",INDEX('E_Tokovi izvora'!$A:$N,DU63,AP$7)))","v":""},{"$f":"IF($E63=\"\",\"\",IF(INDEX('E_Tokovi izvora'!$A:$N,DV63,AQ$7)=\"\",\"\",INDEX('E_Tokovi izvora'!$A:$N,DV63,AQ$7)))","v":""},{"$f":"IF($E63=\"\",\"\",IF(INDEX('E_Tokovi izvora'!$A:$N,DW63,AR$7)=\"\",\"\",INDEX('E_Tokovi izvora'!$A:$N,DW63,AR$7)))","v":""},{"$f":"IF($E63=\"\",\"\",IF(INDEX('E_Tokovi izvora'!$A:$N,DX63,AS$7)=\"\",\"\",INDEX('E_Tokovi izvora'!$A:$N,DX63,AS$7)))","v":""},{"$f":"IF($E63=\"\",\"\",IF(INDEX('E_Tokovi izvora'!$A:$N,DY63,AT$7)=\"\",\"\",INDEX('E_Tokovi izvora'!$A:$N,DY63,AT$7)))","v":""},{"$f":"IF($E63=\"\",\"\",IF(INDEX('E_Tokovi izvora'!$A:$N,DZ63,AU$7)=\"\",\"\",INDEX('E_Tokovi izvora'!$A:$N,DZ63,AU$7)))","v":""},{"$f":"IF($E63=\"\",\"\",IF(INDEX('E_Tokovi izvora'!$A:$N,EA63,AV$7)=\"\",\"\",INDEX('E_Tokovi izvora'!$A:$N,EA63,AV$7)))","v":""},{"$f":"IF($E63=\"\",\"\",IF(INDEX('E_Tokovi izvora'!$A:$N,EB63,AW$7)=\"\",\"\",INDEX('E_Tokovi izvora'!$A:$N,EB63,AW$7)))","v":""},{"$f":"IF($E63=\"\",\"\",IF(INDEX('E_Tokovi izvora'!$A:$N,EC63,AX$7)=\"\",\"\",INDEX('E_Tokovi izvora'!$A:$N,EC63,AX$7)))","v":""},{"$f":"IF($E63=\"\",\"\",IF(INDEX('E_Tokovi izvora'!$A:$N,ED63,AY$7)=\"\",\"\",INDEX('E_Tokovi izvora'!$A:$N,ED63,AY$7)))","v":""},{"$f":"IF($E63=\"\",\"\",IF(INDEX('E_Tokovi izvora'!$A:$N,EE63,AZ$7)=\"\",\"\",INDEX('E_Tokovi izvora'!$A:$N,EE63,AZ$7)))","v":""},{"$f":"IF($E63=\"\",\"\",IF(INDEX('E_Tokovi izvora'!$A:$N,EF63,BA$7)=\"\",\"\",INDEX('E_Tokovi izvora'!$A:$N,EF63,BA$7)))","v":""},{"$f":"IF($E63=\"\",\"\",IF(INDEX('E_Tokovi izvora'!$A:$N,EG63,BB$7)=\"\",\"\",INDEX('E_Tokovi izvora'!$A:$N,EG63,BB$7)))","v":""},{"$f":"IF($E63=\"\",\"\",IF(INDEX('E_Tokovi izvora'!$A:$N,EH63,BC$7)=\"\",\"\",INDEX('E_Tokovi izvora'!$A:$N,EH63,BC$7)))","v":""},{"$f":"IF($E63=\"\",\"\",IF(INDEX('E_Tokovi izvora'!$A:$N,EI63,BD$7)=\"\",\"\",INDEX('E_Tokovi izvora'!$A:$N,EI63,BD$7)))","v":""},{"$f":"IF($E63=\"\",\"\",IF(INDEX('E_Tokovi izvora'!$A:$N,EJ63,BE$7)=\"\",\"\",INDEX('E_Tokovi izvora'!$A:$N,EJ63,BE$7)))","v":""},{"$f":"IF($E63=\"\",\"\",IF(INDEX('E_Tokovi izvora'!$A:$N,EK63,BF$7)=\"\",\"\",INDEX('E_Tokovi izvora'!$A:$N,EK63,BF$7)))","v":""},{"$f":"IF($E63=\"\",\"\",IF(INDEX('E_Tokovi izvora'!$A:$N,EL63,BG$7)=\"\",\"\",INDEX('E_Tokovi izvora'!$A:$N,EL63,BG$7)))","v":""},{"$f":"IF($E63=\"\",\"\",IF(INDEX('E_Tokovi izvora'!$A:$N,EM63,BH$7)=\"\",\"\",INDEX('E_Tokovi izvora'!$A:$N,EM63,BH$7)))","v":""},{"$f":"IF($E63=\"\",\"\",IF(INDEX('E_Tokovi izvora'!$A:$N,EN63,BI$7)=\"\",\"\",INDEX('E_Tokovi izvora'!$A:$N,EN63,BI$7)))","v":""},{"$f":"IF($E63=\"\",\"\",IF(INDEX('E_Tokovi izvora'!$A:$N,EO63,BJ$7)=\"\",\"\",INDEX('E_Tokovi izvora'!$A:$N,EO63,BJ$7)))","v":""},{"$f":"IF($E63=\"\",\"\",IF(INDEX('E_Tokovi izvora'!$A:$N,EP63,BK$7)=\"\",\"\",INDEX('E_Tokovi izvora'!$A:$N,EP63,BK$7)))","v":""},{"$f":"IF($E63=\"\",\"\",IF(INDEX('E_Tokovi izvora'!$A:$N,EQ63,BL$7)=\"\",\"\",INDEX('E_Tokovi izvora'!$A:$N,EQ63,BL$7)))","v":""},{"$f":"IF($E63=\"\",\"\",IF(INDEX('E_Tokovi izvora'!$A:$N,ER63,BM$7)=\"\",\"\",INDEX('E_Tokovi izvora'!$A:$N,ER63,BM$7)))","v":""},{"$f":"IF($E63=\"\",\"\",IF(INDEX('E_Tokovi izvora'!$A:$N,ES63,BN$7)=\"\",\"\",INDEX('E_Tokovi izvora'!$A:$N,ES63,BN$7)))","v":""},{"$f":"IF($E63=\"\",\"\",IF(INDEX('E_Tokovi izvora'!$A:$N,ET63,BO$7)=\"\",\"\",INDEX('E_Tokovi izvora'!$A:$N,ET63,BO$7)))","v":""},{"$f":"IF($E63=\"\",\"\",IF(INDEX('E_Tokovi izvora'!$A:$N,EU63,BP$7)=\"\",\"\",INDEX('E_Tokovi izvora'!$A:$N,EU63,BP$7)))","v":""},{"$f":"IF($E63=\"\",\"\",IF(INDEX('E_Tokovi izvora'!$A:$N,EV63,BQ$7)=\"\",\"\",INDEX('E_Tokovi izvora'!$A:$N,EV63,BQ$7)))","v":""},{"$f":"IF($E63=\"\",\"\",IF(INDEX('E_Tokovi izvora'!$A:$N,EW63,BR$7)=\"\",\"\",INDEX('E_Tokovi izvora'!$A:$N,EW63,BR$7)))","v":""},{"$f":"IF($E63=\"\",\"\",IF(INDEX('E_Tokovi izvora'!$A:$N,EX63,BS$7)=\"\",\"\",INDEX('E_Tokovi izvora'!$A:$N,EX63,BS$7)))","v":""},{"$f":"IF($E63=\"\",\"\",IF(INDEX('E_Tokovi izvora'!$A:$N,EY63,BT$7)=\"\",\"\",INDEX('E_Tokovi izvora'!$A:$N,EY63,BT$7)))","v":""},null,null,null,null,null,null,null,null,null,null,null,null,null,null,null,"SourceCategory_",{"$f":"INDEX('C_Opis postrojenja'!$A$226:$A$332,ROWS($CI$11:CI63))=\"ausblenden\"","v":true},"SourceStreamName_",null,3565,3567,3569,3571,3573,3575,3577,3577,3577,3577,3577,3580,3584,3585,3586,3593,3603,3603,3603,3603,3603,3603,3603,3594,3604,3604,3604,3604,3604,3604,3604,3595,3605,3605,3605,3605,3605,3605,3605,3596,3606,3606,3606,3606,3606,3606,3606,3597,3607,3607,3607,3607,3607,3607,3607,3598,3608,3608,3608,3608,3608,3608,3608,3614]
[null,{"$f":"IF(COUNTIF($CK$10:CK64,TRUE)>0,\"\",INDEX('C_Opis postrojenja'!$E$226:$E$242,ROWS($A$11:A64)))","v":""},{"$f":"IF($E64=\"\",\"\",INDEX('C_Opis postrojenja'!F:F,MATCH($B64,'C_Opis postrojenja'!$E:$E,0)))","v":""},{"$f":"IF($E64=\"\",\"\",INDEX('C_Opis postrojenja'!I:I,MATCH($B64,'C_Opis postrojenja'!$E:$E,0)))","v":""},{"$f":"IF($B64=\"\",\"\",INDEX('C_Opis postrojenja'!F:F,MATCH($CJ64,'C_Opis postrojenja'!$Q:$Q,0)))","v":""},{"$f":"IF($E64=\"\",\"\",INDEX('C_Opis postrojenja'!L:L,MATCH($CJ64,'C_Opis postrojenja'!$Q:$Q,0)))","v":""},{"$f":"IF($E64=\"\",\"\",INDEX('C_Opis postrojenja'!M:M,MATCH($CJ64,'C_Opis postrojenja'!$Q:$Q,0)))","v":""},{"$f":"IF($E64=\"\",\"\",INDEX('C_Opis postrojenja'!N:N,MATCH($CJ64,'C_Opis postrojenja'!$Q:$Q,0)))","v":""},{"$f":"IF($E64=\"\",\"\",IF(INDEX('E_Tokovi izvora'!$A:$N,CN64,I$7)=\"\",\"\",INDEX('E_Tokovi izvora'!$A:$N,CN64,I$7)))","v":""},{"$f":"IF($E64=\"\",\"\",IF(INDEX('E_Tokovi izvora'!$A:$N,CO64,J$7)=\"\",\"\",INDEX('E_Tokovi izvora'!$A:$N,CO64,J$7)))","v":""},{"$f":"IF($E64=\"\",\"\",IF(INDEX('E_Tokovi izvora'!$A:$N,CP64,K$7)=\"\",\"\",INDEX('E_Tokovi izvora'!$A:$N,CP64,K$7)))","v":""},{"$f":"IF($E64=\"\",\"\",IF(INDEX('E_Tokovi izvora'!$A:$N,CQ64,L$7)=\"\",\"\",INDEX('E_Tokovi izvora'!$A:$N,CQ64,L$7)))","v":""},{"$f":"IF($E64=\"\",\"\",IF(INDEX('E_Tokovi izvora'!$A:$N,CR64,M$7)=\"\",\"\",INDEX('E_Tokovi izvora'!$A:$N,CR64,M$7)))","v":""},{"$f":"IF($E64=\"\",\"\",IF(INDEX('E_Tokovi izvora'!$A:$N,CS64,N$7)=\"\",\"\",INDEX('E_Tokovi izvora'!$A:$N,CS64,N$7)))","v":""},{"$f":"IF($E64=\"\",\"\",IF(INDEX('E_Tokovi izvora'!$A:$N,CT64,O$7)=\"\",\"\",INDEX('E_Tokovi izvora'!$A:$N,CT64,O$7)))","v":""},{"$f":"IF($E64=\"\",\"\",IF(INDEX('E_Tokovi izvora'!$A:$N,CU64,P$7)=\"\",\"\",INDEX('E_Tokovi izvora'!$A:$N,CU64,P$7)))","v":""},{"$f":"IF($E64=\"\",\"\",IF(INDEX('E_Tokovi izvora'!$A:$N,CV64,Q$7)=\"\",\"\",INDEX('E_Tokovi izvora'!$A:$N,CV64,Q$7)))","v":""},{"$f":"IF($E64=\"\",\"\",IF(INDEX('E_Tokovi izvora'!$A:$N,CW64,R$7)=\"\",\"\",INDEX('E_Tokovi izvora'!$A:$N,CW64,R$7)))","v":""},{"$f":"IF($E64=\"\",\"\",IF(INDEX('E_Tokovi izvora'!$A:$N,CX64,S$7)=\"\",\"\",INDEX('E_Tokovi izvora'!$A:$N,CX64,S$7)))","v":""},{"$f":"IF($E64=\"\",\"\",IF(INDEX('E_Tokovi izvora'!$A:$N,CY64,T$7)=\"\",\"\",INDEX('E_Tokovi izvora'!$A:$N,CY64,T$7)))","v":""},{"$f":"IF($E64=\"\",\"\",IF(INDEX('E_Tokovi izvora'!$A:$N,CZ64,U$7)=\"\",\"\",INDEX('E_Tokovi izvora'!$A:$N,CZ64,U$7)))","v":""},{"$f":"IF($E64=\"\",\"\",IF(INDEX('E_Tokovi izvora'!$A:$N,DA64,V$7)=\"\",\"\",INDEX('E_Tokovi izvora'!$A:$N,DA64,V$7)))","v":""},{"$f":"IF($E64=\"\",\"\",IF(INDEX('E_Tokovi izvora'!$A:$N,DB64,W$7)=\"\",\"\",INDEX('E_Tokovi izvora'!$A:$N,DB64,W$7)))","v":""},{"$f":"IF($E64=\"\",\"\",IF(INDEX('E_Tokovi izvora'!$A:$N,DC64,X$7)=\"\",\"\",INDEX('E_Tokovi izvora'!$A:$N,DC64,X$7)))","v":""},{"$f":"IF($E64=\"\",\"\",IF(INDEX('E_Tokovi izvora'!$A:$N,DD64,Y$7)=\"\",\"\",INDEX('E_Tokovi izvora'!$A:$N,DD64,Y$7)))","v":""},{"$f":"IF($E64=\"\",\"\",IF(INDEX('E_Tokovi izvora'!$A:$N,DE64,Z$7)=\"\",\"\",INDEX('E_Tokovi izvora'!$A:$N,DE64,Z$7)))","v":""},{"$f":"IF($E64=\"\",\"\",IF(INDEX('E_Tokovi izvora'!$A:$N,DF64,AA$7)=\"\",\"\",INDEX('E_Tokovi izvora'!$A:$N,DF64,AA$7)))","v":""},{"$f":"IF($E64=\"\",\"\",IF(INDEX('E_Tokovi izvora'!$A:$N,DG64,AB$7)=\"\",\"\",INDEX('E_Tokovi izvora'!$A:$N,DG64,AB$7)))","v":""},{"$f":"IF($E64=\"\",\"\",IF(INDEX('E_Tokovi izvora'!$A:$N,DH64,AC$7)=\"\",\"\",INDEX('E_Tokovi izvora'!$A:$N,DH64,AC$7)))","v":""},{"$f":"IF($E64=\"\",\"\",IF(INDEX('E_Tokovi izvora'!$A:$N,DI64,AD$7)=\"\",\"\",INDEX('E_Tokovi izvora'!$A:$N,DI64,AD$7)))","v":""},{"$f":"IF($E64=\"\",\"\",IF(INDEX('E_Tokovi izvora'!$A:$N,DJ64,AE$7)=\"\",\"\",INDEX('E_Tokovi izvora'!$A:$N,DJ64,AE$7)))","v":""},{"$f":"IF($E64=\"\",\"\",IF(INDEX('E_Tokovi izvora'!$A:$N,DK64,AF$7)=\"\",\"\",INDEX('E_Tokovi izvora'!$A:$N,DK64,AF$7)))","v":""},{"$f":"IF($E64=\"\",\"\",IF(INDEX('E_Tokovi izvora'!$A:$N,DL64,AG$7)=\"\",\"\",INDEX('E_Tokovi izvora'!$A:$N,DL64,AG$7)))","v":""},{"$f":"IF($E64=\"\",\"\",IF(INDEX('E_Tokovi izvora'!$A:$N,DM64,AH$7)=\"\",\"\",INDEX('E_Tokovi izvora'!$A:$N,DM64,AH$7)))","v":""},{"$f":"IF($E64=\"\",\"\",IF(INDEX('E_Tokovi izvora'!$A:$N,DN64,AI$7)=\"\",\"\",INDEX('E_Tokovi izvora'!$A:$N,DN64,AI$7)))","v":""},{"$f":"IF($E64=\"\",\"\",IF(INDEX('E_Tokovi izvora'!$A:$N,DO64,AJ$7)=\"\",\"\",INDEX('E_Tokovi izvora'!$A:$N,DO64,AJ$7)))","v":""},{"$f":"IF($E64=\"\",\"\",IF(INDEX('E_Tokovi izvora'!$A:$N,DP64,AK$7)=\"\",\"\",INDEX('E_Tokovi izvora'!$A:$N,DP64,AK$7)))","v":""},{"$f":"IF($E64=\"\",\"\",IF(INDEX('E_Tokovi izvora'!$A:$N,DQ64,AL$7)=\"\",\"\",INDEX('E_Tokovi izvora'!$A:$N,DQ64,AL$7)))","v":""},{"$f":"IF($E64=\"\",\"\",IF(INDEX('E_Tokovi izvora'!$A:$N,DR64,AM$7)=\"\",\"\",INDEX('E_Tokovi izvora'!$A:$N,DR64,AM$7)))","v":""},{"$f":"IF($E64=\"\",\"\",IF(INDEX('E_Tokovi izvora'!$A:$N,DS64,AN$7)=\"\",\"\",INDEX('E_Tokovi izvora'!$A:$N,DS64,AN$7)))","v":""},{"$f":"IF($E64=\"\",\"\",IF(INDEX('E_Tokovi izvora'!$A:$N,DT64,AO$7)=\"\",\"\",INDEX('E_Tokovi izvora'!$A:$N,DT64,AO$7)))","v":""},{"$f":"IF($E64=\"\",\"\",IF(INDEX('E_Tokovi izvora'!$A:$N,DU64,AP$7)=\"\",\"\",INDEX('E_Tokovi izvora'!$A:$N,DU64,AP$7)))","v":""},{"$f":"IF($E64=\"\",\"\",IF(INDEX('E_Tokovi izvora'!$A:$N,DV64,AQ$7)=\"\",\"\",INDEX('E_Tokovi izvora'!$A:$N,DV64,AQ$7)))","v":""},{"$f":"IF($E64=\"\",\"\",IF(INDEX('E_Tokovi izvora'!$A:$N,DW64,AR$7)=\"\",\"\",INDEX('E_Tokovi izvora'!$A:$N,DW64,AR$7)))","v":""},{"$f":"IF($E64=\"\",\"\",IF(INDEX('E_Tokovi izvora'!$A:$N,DX64,AS$7)=\"\",\"\",INDEX('E_Tokovi izvora'!$A:$N,DX64,AS$7)))","v":""},{"$f":"IF($E64=\"\",\"\",IF(INDEX('E_Tokovi izvora'!$A:$N,DY64,AT$7)=\"\",\"\",INDEX('E_Tokovi izvora'!$A:$N,DY64,AT$7)))","v":""},{"$f":"IF($E64=\"\",\"\",IF(INDEX('E_Tokovi izvora'!$A:$N,DZ64,AU$7)=\"\",\"\",INDEX('E_Tokovi izvora'!$A:$N,DZ64,AU$7)))","v":""},{"$f":"IF($E64=\"\",\"\",IF(INDEX('E_Tokovi izvora'!$A:$N,EA64,AV$7)=\"\",\"\",INDEX('E_Tokovi izvora'!$A:$N,EA64,AV$7)))","v":""},{"$f":"IF($E64=\"\",\"\",IF(INDEX('E_Tokovi izvora'!$A:$N,EB64,AW$7)=\"\",\"\",INDEX('E_Tokovi izvora'!$A:$N,EB64,AW$7)))","v":""},{"$f":"IF($E64=\"\",\"\",IF(INDEX('E_Tokovi izvora'!$A:$N,EC64,AX$7)=\"\",\"\",INDEX('E_Tokovi izvora'!$A:$N,EC64,AX$7)))","v":""},{"$f":"IF($E64=\"\",\"\",IF(INDEX('E_Tokovi izvora'!$A:$N,ED64,AY$7)=\"\",\"\",INDEX('E_Tokovi izvora'!$A:$N,ED64,AY$7)))","v":""},{"$f":"IF($E64=\"\",\"\",IF(INDEX('E_Tokovi izvora'!$A:$N,EE64,AZ$7)=\"\",\"\",INDEX('E_Tokovi izvora'!$A:$N,EE64,AZ$7)))","v":""},{"$f":"IF($E64=\"\",\"\",IF(INDEX('E_Tokovi izvora'!$A:$N,EF64,BA$7)=\"\",\"\",INDEX('E_Tokovi izvora'!$A:$N,EF64,BA$7)))","v":""},{"$f":"IF($E64=\"\",\"\",IF(INDEX('E_Tokovi izvora'!$A:$N,EG64,BB$7)=\"\",\"\",INDEX('E_Tokovi izvora'!$A:$N,EG64,BB$7)))","v":""},{"$f":"IF($E64=\"\",\"\",IF(INDEX('E_Tokovi izvora'!$A:$N,EH64,BC$7)=\"\",\"\",INDEX('E_Tokovi izvora'!$A:$N,EH64,BC$7)))","v":""},{"$f":"IF($E64=\"\",\"\",IF(INDEX('E_Tokovi izvora'!$A:$N,EI64,BD$7)=\"\",\"\",INDEX('E_Tokovi izvora'!$A:$N,EI64,BD$7)))","v":""},{"$f":"IF($E64=\"\",\"\",IF(INDEX('E_Tokovi izvora'!$A:$N,EJ64,BE$7)=\"\",\"\",INDEX('E_Tokovi izvora'!$A:$N,EJ64,BE$7)))","v":""},{"$f":"IF($E64=\"\",\"\",IF(INDEX('E_Tokovi izvora'!$A:$N,EK64,BF$7)=\"\",\"\",INDEX('E_Tokovi izvora'!$A:$N,EK64,BF$7)))","v":""},{"$f":"IF($E64=\"\",\"\",IF(INDEX('E_Tokovi izvora'!$A:$N,EL64,BG$7)=\"\",\"\",INDEX('E_Tokovi izvora'!$A:$N,EL64,BG$7)))","v":""},{"$f":"IF($E64=\"\",\"\",IF(INDEX('E_Tokovi izvora'!$A:$N,EM64,BH$7)=\"\",\"\",INDEX('E_Tokovi izvora'!$A:$N,EM64,BH$7)))","v":""},{"$f":"IF($E64=\"\",\"\",IF(INDEX('E_Tokovi izvora'!$A:$N,EN64,BI$7)=\"\",\"\",INDEX('E_Tokovi izvora'!$A:$N,EN64,BI$7)))","v":""},{"$f":"IF($E64=\"\",\"\",IF(INDEX('E_Tokovi izvora'!$A:$N,EO64,BJ$7)=\"\",\"\",INDEX('E_Tokovi izvora'!$A:$N,EO64,BJ$7)))","v":""},{"$f":"IF($E64=\"\",\"\",IF(INDEX('E_Tokovi izvora'!$A:$N,EP64,BK$7)=\"\",\"\",INDEX('E_Tokovi izvora'!$A:$N,EP64,BK$7)))","v":""},{"$f":"IF($E64=\"\",\"\",IF(INDEX('E_Tokovi izvora'!$A:$N,EQ64,BL$7)=\"\",\"\",INDEX('E_Tokovi izvora'!$A:$N,EQ64,BL$7)))","v":""},{"$f":"IF($E64=\"\",\"\",IF(INDEX('E_Tokovi izvora'!$A:$N,ER64,BM$7)=\"\",\"\",INDEX('E_Tokovi izvora'!$A:$N,ER64,BM$7)))","v":""},{"$f":"IF($E64=\"\",\"\",IF(INDEX('E_Tokovi izvora'!$A:$N,ES64,BN$7)=\"\",\"\",INDEX('E_Tokovi izvora'!$A:$N,ES64,BN$7)))","v":""},{"$f":"IF($E64=\"\",\"\",IF(INDEX('E_Tokovi izvora'!$A:$N,ET64,BO$7)=\"\",\"\",INDEX('E_Tokovi izvora'!$A:$N,ET64,BO$7)))","v":""},{"$f":"IF($E64=\"\",\"\",IF(INDEX('E_Tokovi izvora'!$A:$N,EU64,BP$7)=\"\",\"\",INDEX('E_Tokovi izvora'!$A:$N,EU64,BP$7)))","v":""},{"$f":"IF($E64=\"\",\"\",IF(INDEX('E_Tokovi izvora'!$A:$N,EV64,BQ$7)=\"\",\"\",INDEX('E_Tokovi izvora'!$A:$N,EV64,BQ$7)))","v":""},{"$f":"IF($E64=\"\",\"\",IF(INDEX('E_Tokovi izvora'!$A:$N,EW64,BR$7)=\"\",\"\",INDEX('E_Tokovi izvora'!$A:$N,EW64,BR$7)))","v":""},{"$f":"IF($E64=\"\",\"\",IF(INDEX('E_Tokovi izvora'!$A:$N,EX64,BS$7)=\"\",\"\",INDEX('E_Tokovi izvora'!$A:$N,EX64,BS$7)))","v":""},{"$f":"IF($E64=\"\",\"\",IF(INDEX('E_Tokovi izvora'!$A:$N,EY64,BT$7)=\"\",\"\",INDEX('E_Tokovi izvora'!$A:$N,EY64,BT$7)))","v":""},null,null,null,null,null,null,null,null,null,null,null,null,null,null,null,"SourceCategory_",{"$f":"INDEX('C_Opis postrojenja'!$A$226:$A$332,ROWS($CI$11:CI64))=\"ausblenden\"","v":true},"SourceStreamName_",null,3631,3633,3635,3637,3639,3641,3643,3643,3643,3643,3643,3646,3650,3651,3652,3659,3669,3669,3669,3669,3669,3669,3669,3660,3670,3670,3670,3670,3670,3670,3670,3661,3671,3671,3671,3671,3671,3671,3671,3662,3672,3672,3672,3672,3672,3672,3672,3663,3673,3673,3673,3673,3673,3673,3673,3664,3674,3674,3674,3674,3674,3674,3674,3680]
[null,{"$f":"IF(COUNTIF($CK$10:CK65,TRUE)>0,\"\",INDEX('C_Opis postrojenja'!$E$226:$E$242,ROWS($A$11:A65)))","v":""},{"$f":"IF($E65=\"\",\"\",INDEX('C_Opis postrojenja'!F:F,MATCH($B65,'C_Opis postrojenja'!$E:$E,0)))","v":""},{"$f":"IF($E65=\"\",\"\",INDEX('C_Opis postrojenja'!I:I,MATCH($B65,'C_Opis postrojenja'!$E:$E,0)))","v":""},{"$f":"IF($B65=\"\",\"\",INDEX('C_Opis postrojenja'!F:F,MATCH($CJ65,'C_Opis postrojenja'!$Q:$Q,0)))","v":""},{"$f":"IF($E65=\"\",\"\",INDEX('C_Opis postrojenja'!L:L,MATCH($CJ65,'C_Opis postrojenja'!$Q:$Q,0)))","v":""},{"$f":"IF($E65=\"\",\"\",INDEX('C_Opis postrojenja'!M:M,MATCH($CJ65,'C_Opis postrojenja'!$Q:$Q,0)))","v":""},{"$f":"IF($E65=\"\",\"\",INDEX('C_Opis postrojenja'!N:N,MATCH($CJ65,'C_Opis postrojenja'!$Q:$Q,0)))","v":""},{"$f":"IF($E65=\"\",\"\",IF(INDEX('E_Tokovi izvora'!$A:$N,CN65,I$7)=\"\",\"\",INDEX('E_Tokovi izvora'!$A:$N,CN65,I$7)))","v":""},{"$f":"IF($E65=\"\",\"\",IF(INDEX('E_Tokovi izvora'!$A:$N,CO65,J$7)=\"\",\"\",INDEX('E_Tokovi izvora'!$A:$N,CO65,J$7)))","v":""},{"$f":"IF($E65=\"\",\"\",IF(INDEX('E_Tokovi izvora'!$A:$N,CP65,K$7)=\"\",\"\",INDEX('E_Tokovi izvora'!$A:$N,CP65,K$7)))","v":""},{"$f":"IF($E65=\"\",\"\",IF(INDEX('E_Tokovi izvora'!$A:$N,CQ65,L$7)=\"\",\"\",INDEX('E_Tokovi izvora'!$A:$N,CQ65,L$7)))","v":""},{"$f":"IF($E65=\"\",\"\",IF(INDEX('E_Tokovi izvora'!$A:$N,CR65,M$7)=\"\",\"\",INDEX('E_Tokovi izvora'!$A:$N,CR65,M$7)))","v":""},{"$f":"IF($E65=\"\",\"\",IF(INDEX('E_Tokovi izvora'!$A:$N,CS65,N$7)=\"\",\"\",INDEX('E_Tokovi izvora'!$A:$N,CS65,N$7)))","v":""},{"$f":"IF($E65=\"\",\"\",IF(INDEX('E_Tokovi izvora'!$A:$N,CT65,O$7)=\"\",\"\",INDEX('E_Tokovi izvora'!$A:$N,CT65,O$7)))","v":""},{"$f":"IF($E65=\"\",\"\",IF(INDEX('E_Tokovi izvora'!$A:$N,CU65,P$7)=\"\",\"\",INDEX('E_Tokovi izvora'!$A:$N,CU65,P$7)))","v":""},{"$f":"IF($E65=\"\",\"\",IF(INDEX('E_Tokovi izvora'!$A:$N,CV65,Q$7)=\"\",\"\",INDEX('E_Tokovi izvora'!$A:$N,CV65,Q$7)))","v":""},{"$f":"IF($E65=\"\",\"\",IF(INDEX('E_Tokovi izvora'!$A:$N,CW65,R$7)=\"\",\"\",INDEX('E_Tokovi izvora'!$A:$N,CW65,R$7)))","v":""},{"$f":"IF($E65=\"\",\"\",IF(INDEX('E_Tokovi izvora'!$A:$N,CX65,S$7)=\"\",\"\",INDEX('E_Tokovi izvora'!$A:$N,CX65,S$7)))","v":""},{"$f":"IF($E65=\"\",\"\",IF(INDEX('E_Tokovi izvora'!$A:$N,CY65,T$7)=\"\",\"\",INDEX('E_Tokovi izvora'!$A:$N,CY65,T$7)))","v":""},{"$f":"IF($E65=\"\",\"\",IF(INDEX('E_Tokovi izvora'!$A:$N,CZ65,U$7)=\"\",\"\",INDEX('E_Tokovi izvora'!$A:$N,CZ65,U$7)))","v":""},{"$f":"IF($E65=\"\",\"\",IF(INDEX('E_Tokovi izvora'!$A:$N,DA65,V$7)=\"\",\"\",INDEX('E_Tokovi izvora'!$A:$N,DA65,V$7)))","v":""},{"$f":"IF($E65=\"\",\"\",IF(INDEX('E_Tokovi izvora'!$A:$N,DB65,W$7)=\"\",\"\",INDEX('E_Tokovi izvora'!$A:$N,DB65,W$7)))","v":""},{"$f":"IF($E65=\"\",\"\",IF(INDEX('E_Tokovi izvora'!$A:$N,DC65,X$7)=\"\",\"\",INDEX('E_Tokovi izvora'!$A:$N,DC65,X$7)))","v":""},{"$f":"IF($E65=\"\",\"\",IF(INDEX('E_Tokovi izvora'!$A:$N,DD65,Y$7)=\"\",\"\",INDEX('E_Tokovi izvora'!$A:$N,DD65,Y$7)))","v":""},{"$f":"IF($E65=\"\",\"\",IF(INDEX('E_Tokovi izvora'!$A:$N,DE65,Z$7)=\"\",\"\",INDEX('E_Tokovi izvora'!$A:$N,DE65,Z$7)))","v":""},{"$f":"IF($E65=\"\",\"\",IF(INDEX('E_Tokovi izvora'!$A:$N,DF65,AA$7)=\"\",\"\",INDEX('E_Tokovi izvora'!$A:$N,DF65,AA$7)))","v":""},{"$f":"IF($E65=\"\",\"\",IF(INDEX('E_Tokovi izvora'!$A:$N,DG65,AB$7)=\"\",\"\",INDEX('E_Tokovi izvora'!$A:$N,DG65,AB$7)))","v":""},{"$f":"IF($E65=\"\",\"\",IF(INDEX('E_Tokovi izvora'!$A:$N,DH65,AC$7)=\"\",\"\",INDEX('E_Tokovi izvora'!$A:$N,DH65,AC$7)))","v":""},{"$f":"IF($E65=\"\",\"\",IF(INDEX('E_Tokovi izvora'!$A:$N,DI65,AD$7)=\"\",\"\",INDEX('E_Tokovi izvora'!$A:$N,DI65,AD$7)))","v":""},{"$f":"IF($E65=\"\",\"\",IF(INDEX('E_Tokovi izvora'!$A:$N,DJ65,AE$7)=\"\",\"\",INDEX('E_Tokovi izvora'!$A:$N,DJ65,AE$7)))","v":""},{"$f":"IF($E65=\"\",\"\",IF(INDEX('E_Tokovi izvora'!$A:$N,DK65,AF$7)=\"\",\"\",INDEX('E_Tokovi izvora'!$A:$N,DK65,AF$7)))","v":""},{"$f":"IF($E65=\"\",\"\",IF(INDEX('E_Tokovi izvora'!$A:$N,DL65,AG$7)=\"\",\"\",INDEX('E_Tokovi izvora'!$A:$N,DL65,AG$7)))","v":""},{"$f":"IF($E65=\"\",\"\",IF(INDEX('E_Tokovi izvora'!$A:$N,DM65,AH$7)=\"\",\"\",INDEX('E_Tokovi izvora'!$A:$N,DM65,AH$7)))","v":""},{"$f":"IF($E65=\"\",\"\",IF(INDEX('E_Tokovi izvora'!$A:$N,DN65,AI$7)=\"\",\"\",INDEX('E_Tokovi izvora'!$A:$N,DN65,AI$7)))","v":""},{"$f":"IF($E65=\"\",\"\",IF(INDEX('E_Tokovi izvora'!$A:$N,DO65,AJ$7)=\"\",\"\",INDEX('E_Tokovi izvora'!$A:$N,DO65,AJ$7)))","v":""},{"$f":"IF($E65=\"\",\"\",IF(INDEX('E_Tokovi izvora'!$A:$N,DP65,AK$7)=\"\",\"\",INDEX('E_Tokovi izvora'!$A:$N,DP65,AK$7)))","v":""},{"$f":"IF($E65=\"\",\"\",IF(INDEX('E_Tokovi izvora'!$A:$N,DQ65,AL$7)=\"\",\"\",INDEX('E_Tokovi izvora'!$A:$N,DQ65,AL$7)))","v":""},{"$f":"IF($E65=\"\",\"\",IF(INDEX('E_Tokovi izvora'!$A:$N,DR65,AM$7)=\"\",\"\",INDEX('E_Tokovi izvora'!$A:$N,DR65,AM$7)))","v":""},{"$f":"IF($E65=\"\",\"\",IF(INDEX('E_Tokovi izvora'!$A:$N,DS65,AN$7)=\"\",\"\",INDEX('E_Tokovi izvora'!$A:$N,DS65,AN$7)))","v":""},{"$f":"IF($E65=\"\",\"\",IF(INDEX('E_Tokovi izvora'!$A:$N,DT65,AO$7)=\"\",\"\",INDEX('E_Tokovi izvora'!$A:$N,DT65,AO$7)))","v":""},{"$f":"IF($E65=\"\",\"\",IF(INDEX('E_Tokovi izvora'!$A:$N,DU65,AP$7)=\"\",\"\",INDEX('E_Tokovi izvora'!$A:$N,DU65,AP$7)))","v":""},{"$f":"IF($E65=\"\",\"\",IF(INDEX('E_Tokovi izvora'!$A:$N,DV65,AQ$7)=\"\",\"\",INDEX('E_Tokovi izvora'!$A:$N,DV65,AQ$7)))","v":""},{"$f":"IF($E65=\"\",\"\",IF(INDEX('E_Tokovi izvora'!$A:$N,DW65,AR$7)=\"\",\"\",INDEX('E_Tokovi izvora'!$A:$N,DW65,AR$7)))","v":""},{"$f":"IF($E65=\"\",\"\",IF(INDEX('E_Tokovi izvora'!$A:$N,DX65,AS$7)=\"\",\"\",INDEX('E_Tokovi izvora'!$A:$N,DX65,AS$7)))","v":""},{"$f":"IF($E65=\"\",\"\",IF(INDEX('E_Tokovi izvora'!$A:$N,DY65,AT$7)=\"\",\"\",INDEX('E_Tokovi izvora'!$A:$N,DY65,AT$7)))","v":""},{"$f":"IF($E65=\"\",\"\",IF(INDEX('E_Tokovi izvora'!$A:$N,DZ65,AU$7)=\"\",\"\",INDEX('E_Tokovi izvora'!$A:$N,DZ65,AU$7)))","v":""},{"$f":"IF($E65=\"\",\"\",IF(INDEX('E_Tokovi izvora'!$A:$N,EA65,AV$7)=\"\",\"\",INDEX('E_Tokovi izvora'!$A:$N,EA65,AV$7)))","v":""},{"$f":"IF($E65=\"\",\"\",IF(INDEX('E_Tokovi izvora'!$A:$N,EB65,AW$7)=\"\",\"\",INDEX('E_Tokovi izvora'!$A:$N,EB65,AW$7)))","v":""},{"$f":"IF($E65=\"\",\"\",IF(INDEX('E_Tokovi izvora'!$A:$N,EC65,AX$7)=\"\",\"\",INDEX('E_Tokovi izvora'!$A:$N,EC65,AX$7)))","v":""},{"$f":"IF($E65=\"\",\"\",IF(INDEX('E_Tokovi izvora'!$A:$N,ED65,AY$7)=\"\",\"\",INDEX('E_Tokovi izvora'!$A:$N,ED65,AY$7)))","v":""},{"$f":"IF($E65=\"\",\"\",IF(INDEX('E_Tokovi izvora'!$A:$N,EE65,AZ$7)=\"\",\"\",INDEX('E_Tokovi izvora'!$A:$N,EE65,AZ$7)))","v":""},{"$f":"IF($E65=\"\",\"\",IF(INDEX('E_Tokovi izvora'!$A:$N,EF65,BA$7)=\"\",\"\",INDEX('E_Tokovi izvora'!$A:$N,EF65,BA$7)))","v":""},{"$f":"IF($E65=\"\",\"\",IF(INDEX('E_Tokovi izvora'!$A:$N,EG65,BB$7)=\"\",\"\",INDEX('E_Tokovi izvora'!$A:$N,EG65,BB$7)))","v":""},{"$f":"IF($E65=\"\",\"\",IF(INDEX('E_Tokovi izvora'!$A:$N,EH65,BC$7)=\"\",\"\",INDEX('E_Tokovi izvora'!$A:$N,EH65,BC$7)))","v":""},{"$f":"IF($E65=\"\",\"\",IF(INDEX('E_Tokovi izvora'!$A:$N,EI65,BD$7)=\"\",\"\",INDEX('E_Tokovi izvora'!$A:$N,EI65,BD$7)))","v":""},{"$f":"IF($E65=\"\",\"\",IF(INDEX('E_Tokovi izvora'!$A:$N,EJ65,BE$7)=\"\",\"\",INDEX('E_Tokovi izvora'!$A:$N,EJ65,BE$7)))","v":""},{"$f":"IF($E65=\"\",\"\",IF(INDEX('E_Tokovi izvora'!$A:$N,EK65,BF$7)=\"\",\"\",INDEX('E_Tokovi izvora'!$A:$N,EK65,BF$7)))","v":""},{"$f":"IF($E65=\"\",\"\",IF(INDEX('E_Tokovi izvora'!$A:$N,EL65,BG$7)=\"\",\"\",INDEX('E_Tokovi izvora'!$A:$N,EL65,BG$7)))","v":""},{"$f":"IF($E65=\"\",\"\",IF(INDEX('E_Tokovi izvora'!$A:$N,EM65,BH$7)=\"\",\"\",INDEX('E_Tokovi izvora'!$A:$N,EM65,BH$7)))","v":""},{"$f":"IF($E65=\"\",\"\",IF(INDEX('E_Tokovi izvora'!$A:$N,EN65,BI$7)=\"\",\"\",INDEX('E_Tokovi izvora'!$A:$N,EN65,BI$7)))","v":""},{"$f":"IF($E65=\"\",\"\",IF(INDEX('E_Tokovi izvora'!$A:$N,EO65,BJ$7)=\"\",\"\",INDEX('E_Tokovi izvora'!$A:$N,EO65,BJ$7)))","v":""},{"$f":"IF($E65=\"\",\"\",IF(INDEX('E_Tokovi izvora'!$A:$N,EP65,BK$7)=\"\",\"\",INDEX('E_Tokovi izvora'!$A:$N,EP65,BK$7)))","v":""},{"$f":"IF($E65=\"\",\"\",IF(INDEX('E_Tokovi izvora'!$A:$N,EQ65,BL$7)=\"\",\"\",INDEX('E_Tokovi izvora'!$A:$N,EQ65,BL$7)))","v":""},{"$f":"IF($E65=\"\",\"\",IF(INDEX('E_Tokovi izvora'!$A:$N,ER65,BM$7)=\"\",\"\",INDEX('E_Tokovi izvora'!$A:$N,ER65,BM$7)))","v":""},{"$f":"IF($E65=\"\",\"\",IF(INDEX('E_Tokovi izvora'!$A:$N,ES65,BN$7)=\"\",\"\",INDEX('E_Tokovi izvora'!$A:$N,ES65,BN$7)))","v":""},{"$f":"IF($E65=\"\",\"\",IF(INDEX('E_Tokovi izvora'!$A:$N,ET65,BO$7)=\"\",\"\",INDEX('E_Tokovi izvora'!$A:$N,ET65,BO$7)))","v":""},{"$f":"IF($E65=\"\",\"\",IF(INDEX('E_Tokovi izvora'!$A:$N,EU65,BP$7)=\"\",\"\",INDEX('E_Tokovi izvora'!$A:$N,EU65,BP$7)))","v":""},{"$f":"IF($E65=\"\",\"\",IF(INDEX('E_Tokovi izvora'!$A:$N,EV65,BQ$7)=\"\",\"\",INDEX('E_Tokovi izvora'!$A:$N,EV65,BQ$7)))","v":""},{"$f":"IF($E65=\"\",\"\",IF(INDEX('E_Tokovi izvora'!$A:$N,EW65,BR$7)=\"\",\"\",INDEX('E_Tokovi izvora'!$A:$N,EW65,BR$7)))","v":""},{"$f":"IF($E65=\"\",\"\",IF(INDEX('E_Tokovi izvora'!$A:$N,EX65,BS$7)=\"\",\"\",INDEX('E_Tokovi izvora'!$A:$N,EX65,BS$7)))","v":""},{"$f":"IF($E65=\"\",\"\",IF(INDEX('E_Tokovi izvora'!$A:$N,EY65,BT$7)=\"\",\"\",INDEX('E_Tokovi izvora'!$A:$N,EY65,BT$7)))","v":""},null,null,null,null,null,null,null,null,null,null,null,null,null,null,null,"SourceCategory_",{"$f":"INDEX('C_Opis postrojenja'!$A$226:$A$332,ROWS($CI$11:CI65))=\"ausblenden\"","v":true},"SourceStreamName_",null,3697,3699,3701,3703,3705,3707,3709,3709,3709,3709,3709,3712,3716,3717,3718,3725,3735,3735,3735,3735,3735,3735,3735,3726,3736,3736,3736,3736,3736,3736,3736,3727,3737,3737,3737,3737,3737,3737,3737,3728,3738,3738,3738,3738,3738,3738,3738,3729,3739,3739,3739,3739,3739,3739,3739,3730,3740,3740,3740,3740,3740,3740,3740,3746]
[null,{"$f":"IF(COUNTIF($CK$10:CK66,TRUE)>0,\"\",INDEX('C_Opis postrojenja'!$E$226:$E$242,ROWS($A$11:A66)))","v":""},{"$f":"IF($E66=\"\",\"\",INDEX('C_Opis postrojenja'!F:F,MATCH($B66,'C_Opis postrojenja'!$E:$E,0)))","v":""},{"$f":"IF($E66=\"\",\"\",INDEX('C_Opis postrojenja'!I:I,MATCH($B66,'C_Opis postrojenja'!$E:$E,0)))","v":""},{"$f":"IF($B66=\"\",\"\",INDEX('C_Opis postrojenja'!F:F,MATCH($CJ66,'C_Opis postrojenja'!$Q:$Q,0)))","v":""},{"$f":"IF($E66=\"\",\"\",INDEX('C_Opis postrojenja'!L:L,MATCH($CJ66,'C_Opis postrojenja'!$Q:$Q,0)))","v":""},{"$f":"IF($E66=\"\",\"\",INDEX('C_Opis postrojenja'!M:M,MATCH($CJ66,'C_Opis postrojenja'!$Q:$Q,0)))","v":""},{"$f":"IF($E66=\"\",\"\",INDEX('C_Opis postrojenja'!N:N,MATCH($CJ66,'C_Opis postrojenja'!$Q:$Q,0)))","v":""},{"$f":"IF($E66=\"\",\"\",IF(INDEX('E_Tokovi izvora'!$A:$N,CN66,I$7)=\"\",\"\",INDEX('E_Tokovi izvora'!$A:$N,CN66,I$7)))","v":""},{"$f":"IF($E66=\"\",\"\",IF(INDEX('E_Tokovi izvora'!$A:$N,CO66,J$7)=\"\",\"\",INDEX('E_Tokovi izvora'!$A:$N,CO66,J$7)))","v":""},{"$f":"IF($E66=\"\",\"\",IF(INDEX('E_Tokovi izvora'!$A:$N,CP66,K$7)=\"\",\"\",INDEX('E_Tokovi izvora'!$A:$N,CP66,K$7)))","v":""},{"$f":"IF($E66=\"\",\"\",IF(INDEX('E_Tokovi izvora'!$A:$N,CQ66,L$7)=\"\",\"\",INDEX('E_Tokovi izvora'!$A:$N,CQ66,L$7)))","v":""},{"$f":"IF($E66=\"\",\"\",IF(INDEX('E_Tokovi izvora'!$A:$N,CR66,M$7)=\"\",\"\",INDEX('E_Tokovi izvora'!$A:$N,CR66,M$7)))","v":""},{"$f":"IF($E66=\"\",\"\",IF(INDEX('E_Tokovi izvora'!$A:$N,CS66,N$7)=\"\",\"\",INDEX('E_Tokovi izvora'!$A:$N,CS66,N$7)))","v":""},{"$f":"IF($E66=\"\",\"\",IF(INDEX('E_Tokovi izvora'!$A:$N,CT66,O$7)=\"\",\"\",INDEX('E_Tokovi izvora'!$A:$N,CT66,O$7)))","v":""},{"$f":"IF($E66=\"\",\"\",IF(INDEX('E_Tokovi izvora'!$A:$N,CU66,P$7)=\"\",\"\",INDEX('E_Tokovi izvora'!$A:$N,CU66,P$7)))","v":""},{"$f":"IF($E66=\"\",\"\",IF(INDEX('E_Tokovi izvora'!$A:$N,CV66,Q$7)=\"\",\"\",INDEX('E_Tokovi izvora'!$A:$N,CV66,Q$7)))","v":""},{"$f":"IF($E66=\"\",\"\",IF(INDEX('E_Tokovi izvora'!$A:$N,CW66,R$7)=\"\",\"\",INDEX('E_Tokovi izvora'!$A:$N,CW66,R$7)))","v":""},{"$f":"IF($E66=\"\",\"\",IF(INDEX('E_Tokovi izvora'!$A:$N,CX66,S$7)=\"\",\"\",INDEX('E_Tokovi izvora'!$A:$N,CX66,S$7)))","v":""},{"$f":"IF($E66=\"\",\"\",IF(INDEX('E_Tokovi izvora'!$A:$N,CY66,T$7)=\"\",\"\",INDEX('E_Tokovi izvora'!$A:$N,CY66,T$7)))","v":""},{"$f":"IF($E66=\"\",\"\",IF(INDEX('E_Tokovi izvora'!$A:$N,CZ66,U$7)=\"\",\"\",INDEX('E_Tokovi izvora'!$A:$N,CZ66,U$7)))","v":""},{"$f":"IF($E66=\"\",\"\",IF(INDEX('E_Tokovi izvora'!$A:$N,DA66,V$7)=\"\",\"\",INDEX('E_Tokovi izvora'!$A:$N,DA66,V$7)))","v":""},{"$f":"IF($E66=\"\",\"\",IF(INDEX('E_Tokovi izvora'!$A:$N,DB66,W$7)=\"\",\"\",INDEX('E_Tokovi izvora'!$A:$N,DB66,W$7)))","v":""},{"$f":"IF($E66=\"\",\"\",IF(INDEX('E_Tokovi izvora'!$A:$N,DC66,X$7)=\"\",\"\",INDEX('E_Tokovi izvora'!$A:$N,DC66,X$7)))","v":""},{"$f":"IF($E66=\"\",\"\",IF(INDEX('E_Tokovi izvora'!$A:$N,DD66,Y$7)=\"\",\"\",INDEX('E_Tokovi izvora'!$A:$N,DD66,Y$7)))","v":""},{"$f":"IF($E66=\"\",\"\",IF(INDEX('E_Tokovi izvora'!$A:$N,DE66,Z$7)=\"\",\"\",INDEX('E_Tokovi izvora'!$A:$N,DE66,Z$7)))","v":""},{"$f":"IF($E66=\"\",\"\",IF(INDEX('E_Tokovi izvora'!$A:$N,DF66,AA$7)=\"\",\"\",INDEX('E_Tokovi izvora'!$A:$N,DF66,AA$7)))","v":""},{"$f":"IF($E66=\"\",\"\",IF(INDEX('E_Tokovi izvora'!$A:$N,DG66,AB$7)=\"\",\"\",INDEX('E_Tokovi izvora'!$A:$N,DG66,AB$7)))","v":""},{"$f":"IF($E66=\"\",\"\",IF(INDEX('E_Tokovi izvora'!$A:$N,DH66,AC$7)=\"\",\"\",INDEX('E_Tokovi izvora'!$A:$N,DH66,AC$7)))","v":""},{"$f":"IF($E66=\"\",\"\",IF(INDEX('E_Tokovi izvora'!$A:$N,DI66,AD$7)=\"\",\"\",INDEX('E_Tokovi izvora'!$A:$N,DI66,AD$7)))","v":""},{"$f":"IF($E66=\"\",\"\",IF(INDEX('E_Tokovi izvora'!$A:$N,DJ66,AE$7)=\"\",\"\",INDEX('E_Tokovi izvora'!$A:$N,DJ66,AE$7)))","v":""},{"$f":"IF($E66=\"\",\"\",IF(INDEX('E_Tokovi izvora'!$A:$N,DK66,AF$7)=\"\",\"\",INDEX('E_Tokovi izvora'!$A:$N,DK66,AF$7)))","v":""},{"$f":"IF($E66=\"\",\"\",IF(INDEX('E_Tokovi izvora'!$A:$N,DL66,AG$7)=\"\",\"\",INDEX('E_Tokovi izvora'!$A:$N,DL66,AG$7)))","v":""},{"$f":"IF($E66=\"\",\"\",IF(INDEX('E_Tokovi izvora'!$A:$N,DM66,AH$7)=\"\",\"\",INDEX('E_Tokovi izvora'!$A:$N,DM66,AH$7)))","v":""},{"$f":"IF($E66=\"\",\"\",IF(INDEX('E_Tokovi izvora'!$A:$N,DN66,AI$7)=\"\",\"\",INDEX('E_Tokovi izvora'!$A:$N,DN66,AI$7)))","v":""},{"$f":"IF($E66=\"\",\"\",IF(INDEX('E_Tokovi izvora'!$A:$N,DO66,AJ$7)=\"\",\"\",INDEX('E_Tokovi izvora'!$A:$N,DO66,AJ$7)))","v":""},{"$f":"IF($E66=\"\",\"\",IF(INDEX('E_Tokovi izvora'!$A:$N,DP66,AK$7)=\"\",\"\",INDEX('E_Tokovi izvora'!$A:$N,DP66,AK$7)))","v":""},{"$f":"IF($E66=\"\",\"\",IF(INDEX('E_Tokovi izvora'!$A:$N,DQ66,AL$7)=\"\",\"\",INDEX('E_Tokovi izvora'!$A:$N,DQ66,AL$7)))","v":""},{"$f":"IF($E66=\"\",\"\",IF(INDEX('E_Tokovi izvora'!$A:$N,DR66,AM$7)=\"\",\"\",INDEX('E_Tokovi izvora'!$A:$N,DR66,AM$7)))","v":""},{"$f":"IF($E66=\"\",\"\",IF(INDEX('E_Tokovi izvora'!$A:$N,DS66,AN$7)=\"\",\"\",INDEX('E_Tokovi izvora'!$A:$N,DS66,AN$7)))","v":""},{"$f":"IF($E66=\"\",\"\",IF(INDEX('E_Tokovi izvora'!$A:$N,DT66,AO$7)=\"\",\"\",INDEX('E_Tokovi izvora'!$A:$N,DT66,AO$7)))","v":""},{"$f":"IF($E66=\"\",\"\",IF(INDEX('E_Tokovi izvora'!$A:$N,DU66,AP$7)=\"\",\"\",INDEX('E_Tokovi izvora'!$A:$N,DU66,AP$7)))","v":""},{"$f":"IF($E66=\"\",\"\",IF(INDEX('E_Tokovi izvora'!$A:$N,DV66,AQ$7)=\"\",\"\",INDEX('E_Tokovi izvora'!$A:$N,DV66,AQ$7)))","v":""},{"$f":"IF($E66=\"\",\"\",IF(INDEX('E_Tokovi izvora'!$A:$N,DW66,AR$7)=\"\",\"\",INDEX('E_Tokovi izvora'!$A:$N,DW66,AR$7)))","v":""},{"$f":"IF($E66=\"\",\"\",IF(INDEX('E_Tokovi izvora'!$A:$N,DX66,AS$7)=\"\",\"\",INDEX('E_Tokovi izvora'!$A:$N,DX66,AS$7)))","v":""},{"$f":"IF($E66=\"\",\"\",IF(INDEX('E_Tokovi izvora'!$A:$N,DY66,AT$7)=\"\",\"\",INDEX('E_Tokovi izvora'!$A:$N,DY66,AT$7)))","v":""},{"$f":"IF($E66=\"\",\"\",IF(INDEX('E_Tokovi izvora'!$A:$N,DZ66,AU$7)=\"\",\"\",INDEX('E_Tokovi izvora'!$A:$N,DZ66,AU$7)))","v":""},{"$f":"IF($E66=\"\",\"\",IF(INDEX('E_Tokovi izvora'!$A:$N,EA66,AV$7)=\"\",\"\",INDEX('E_Tokovi izvora'!$A:$N,EA66,AV$7)))","v":""},{"$f":"IF($E66=\"\",\"\",IF(INDEX('E_Tokovi izvora'!$A:$N,EB66,AW$7)=\"\",\"\",INDEX('E_Tokovi izvora'!$A:$N,EB66,AW$7)))","v":""},{"$f":"IF($E66=\"\",\"\",IF(INDEX('E_Tokovi izvora'!$A:$N,EC66,AX$7)=\"\",\"\",INDEX('E_Tokovi izvora'!$A:$N,EC66,AX$7)))","v":""},{"$f":"IF($E66=\"\",\"\",IF(INDEX('E_Tokovi izvora'!$A:$N,ED66,AY$7)=\"\",\"\",INDEX('E_Tokovi izvora'!$A:$N,ED66,AY$7)))","v":""},{"$f":"IF($E66=\"\",\"\",IF(INDEX('E_Tokovi izvora'!$A:$N,EE66,AZ$7)=\"\",\"\",INDEX('E_Tokovi izvora'!$A:$N,EE66,AZ$7)))","v":""},{"$f":"IF($E66=\"\",\"\",IF(INDEX('E_Tokovi izvora'!$A:$N,EF66,BA$7)=\"\",\"\",INDEX('E_Tokovi izvora'!$A:$N,EF66,BA$7)))","v":""},{"$f":"IF($E66=\"\",\"\",IF(INDEX('E_Tokovi izvora'!$A:$N,EG66,BB$7)=\"\",\"\",INDEX('E_Tokovi izvora'!$A:$N,EG66,BB$7)))","v":""},{"$f":"IF($E66=\"\",\"\",IF(INDEX('E_Tokovi izvora'!$A:$N,EH66,BC$7)=\"\",\"\",INDEX('E_Tokovi izvora'!$A:$N,EH66,BC$7)))","v":""},{"$f":"IF($E66=\"\",\"\",IF(INDEX('E_Tokovi izvora'!$A:$N,EI66,BD$7)=\"\",\"\",INDEX('E_Tokovi izvora'!$A:$N,EI66,BD$7)))","v":""},{"$f":"IF($E66=\"\",\"\",IF(INDEX('E_Tokovi izvora'!$A:$N,EJ66,BE$7)=\"\",\"\",INDEX('E_Tokovi izvora'!$A:$N,EJ66,BE$7)))","v":""},{"$f":"IF($E66=\"\",\"\",IF(INDEX('E_Tokovi izvora'!$A:$N,EK66,BF$7)=\"\",\"\",INDEX('E_Tokovi izvora'!$A:$N,EK66,BF$7)))","v":""},{"$f":"IF($E66=\"\",\"\",IF(INDEX('E_Tokovi izvora'!$A:$N,EL66,BG$7)=\"\",\"\",INDEX('E_Tokovi izvora'!$A:$N,EL66,BG$7)))","v":""},{"$f":"IF($E66=\"\",\"\",IF(INDEX('E_Tokovi izvora'!$A:$N,EM66,BH$7)=\"\",\"\",INDEX('E_Tokovi izvora'!$A:$N,EM66,BH$7)))","v":""},{"$f":"IF($E66=\"\",\"\",IF(INDEX('E_Tokovi izvora'!$A:$N,EN66,BI$7)=\"\",\"\",INDEX('E_Tokovi izvora'!$A:$N,EN66,BI$7)))","v":""},{"$f":"IF($E66=\"\",\"\",IF(INDEX('E_Tokovi izvora'!$A:$N,EO66,BJ$7)=\"\",\"\",INDEX('E_Tokovi izvora'!$A:$N,EO66,BJ$7)))","v":""},{"$f":"IF($E66=\"\",\"\",IF(INDEX('E_Tokovi izvora'!$A:$N,EP66,BK$7)=\"\",\"\",INDEX('E_Tokovi izvora'!$A:$N,EP66,BK$7)))","v":""},{"$f":"IF($E66=\"\",\"\",IF(INDEX('E_Tokovi izvora'!$A:$N,EQ66,BL$7)=\"\",\"\",INDEX('E_Tokovi izvora'!$A:$N,EQ66,BL$7)))","v":""},{"$f":"IF($E66=\"\",\"\",IF(INDEX('E_Tokovi izvora'!$A:$N,ER66,BM$7)=\"\",\"\",INDEX('E_Tokovi izvora'!$A:$N,ER66,BM$7)))","v":""},{"$f":"IF($E66=\"\",\"\",IF(INDEX('E_Tokovi izvora'!$A:$N,ES66,BN$7)=\"\",\"\",INDEX('E_Tokovi izvora'!$A:$N,ES66,BN$7)))","v":""},{"$f":"IF($E66=\"\",\"\",IF(INDEX('E_Tokovi izvora'!$A:$N,ET66,BO$7)=\"\",\"\",INDEX('E_Tokovi izvora'!$A:$N,ET66,BO$7)))","v":""},{"$f":"IF($E66=\"\",\"\",IF(INDEX('E_Tokovi izvora'!$A:$N,EU66,BP$7)=\"\",\"\",INDEX('E_Tokovi izvora'!$A:$N,EU66,BP$7)))","v":""},{"$f":"IF($E66=\"\",\"\",IF(INDEX('E_Tokovi izvora'!$A:$N,EV66,BQ$7)=\"\",\"\",INDEX('E_Tokovi izvora'!$A:$N,EV66,BQ$7)))","v":""},{"$f":"IF($E66=\"\",\"\",IF(INDEX('E_Tokovi izvora'!$A:$N,EW66,BR$7)=\"\",\"\",INDEX('E_Tokovi izvora'!$A:$N,EW66,BR$7)))","v":""},{"$f":"IF($E66=\"\",\"\",IF(INDEX('E_Tokovi izvora'!$A:$N,EX66,BS$7)=\"\",\"\",INDEX('E_Tokovi izvora'!$A:$N,EX66,BS$7)))","v":""},{"$f":"IF($E66=\"\",\"\",IF(INDEX('E_Tokovi izvora'!$A:$N,EY66,BT$7)=\"\",\"\",INDEX('E_Tokovi izvora'!$A:$N,EY66,BT$7)))","v":""},null,null,null,null,null,null,null,null,null,null,null,null,null,null,null,"SourceCategory_",{"$f":"INDEX('C_Opis postrojenja'!$A$226:$A$332,ROWS($CI$11:CI66))=\"ausblenden\"","v":true},"SourceStreamName_",null,3763,3765,3767,3769,3771,3773,3775,3775,3775,3775,3775,3778,3782,3783,3784,3791,3801,3801,3801,3801,3801,3801,3801,3792,3802,3802,3802,3802,3802,3802,3802,3793,3803,3803,3803,3803,3803,3803,3803,3794,3804,3804,3804,3804,3804,3804,3804,3795,3805,3805,3805,3805,3805,3805,3805,3796,3806,3806,3806,3806,3806,3806,3806,3812]
[null,{"$f":"IF(COUNTIF($CK$10:CK67,TRUE)>0,\"\",INDEX('C_Opis postrojenja'!$E$226:$E$242,ROWS($A$11:A67)))","v":""},{"$f":"IF($E67=\"\",\"\",INDEX('C_Opis postrojenja'!F:F,MATCH($B67,'C_Opis postrojenja'!$E:$E,0)))","v":""},{"$f":"IF($E67=\"\",\"\",INDEX('C_Opis postrojenja'!I:I,MATCH($B67,'C_Opis postrojenja'!$E:$E,0)))","v":""},{"$f":"IF($B67=\"\",\"\",INDEX('C_Opis postrojenja'!F:F,MATCH($CJ67,'C_Opis postrojenja'!$Q:$Q,0)))","v":""},{"$f":"IF($E67=\"\",\"\",INDEX('C_Opis postrojenja'!L:L,MATCH($CJ67,'C_Opis postrojenja'!$Q:$Q,0)))","v":""},{"$f":"IF($E67=\"\",\"\",INDEX('C_Opis postrojenja'!M:M,MATCH($CJ67,'C_Opis postrojenja'!$Q:$Q,0)))","v":""},{"$f":"IF($E67=\"\",\"\",INDEX('C_Opis postrojenja'!N:N,MATCH($CJ67,'C_Opis postrojenja'!$Q:$Q,0)))","v":""},{"$f":"IF($E67=\"\",\"\",IF(INDEX('E_Tokovi izvora'!$A:$N,CN67,I$7)=\"\",\"\",INDEX('E_Tokovi izvora'!$A:$N,CN67,I$7)))","v":""},{"$f":"IF($E67=\"\",\"\",IF(INDEX('E_Tokovi izvora'!$A:$N,CO67,J$7)=\"\",\"\",INDEX('E_Tokovi izvora'!$A:$N,CO67,J$7)))","v":""},{"$f":"IF($E67=\"\",\"\",IF(INDEX('E_Tokovi izvora'!$A:$N,CP67,K$7)=\"\",\"\",INDEX('E_Tokovi izvora'!$A:$N,CP67,K$7)))","v":""},{"$f":"IF($E67=\"\",\"\",IF(INDEX('E_Tokovi izvora'!$A:$N,CQ67,L$7)=\"\",\"\",INDEX('E_Tokovi izvora'!$A:$N,CQ67,L$7)))","v":""},{"$f":"IF($E67=\"\",\"\",IF(INDEX('E_Tokovi izvora'!$A:$N,CR67,M$7)=\"\",\"\",INDEX('E_Tokovi izvora'!$A:$N,CR67,M$7)))","v":""},{"$f":"IF($E67=\"\",\"\",IF(INDEX('E_Tokovi izvora'!$A:$N,CS67,N$7)=\"\",\"\",INDEX('E_Tokovi izvora'!$A:$N,CS67,N$7)))","v":""},{"$f":"IF($E67=\"\",\"\",IF(INDEX('E_Tokovi izvora'!$A:$N,CT67,O$7)=\"\",\"\",INDEX('E_Tokovi izvora'!$A:$N,CT67,O$7)))","v":""},{"$f":"IF($E67=\"\",\"\",IF(INDEX('E_Tokovi izvora'!$A:$N,CU67,P$7)=\"\",\"\",INDEX('E_Tokovi izvora'!$A:$N,CU67,P$7)))","v":""},{"$f":"IF($E67=\"\",\"\",IF(INDEX('E_Tokovi izvora'!$A:$N,CV67,Q$7)=\"\",\"\",INDEX('E_Tokovi izvora'!$A:$N,CV67,Q$7)))","v":""},{"$f":"IF($E67=\"\",\"\",IF(INDEX('E_Tokovi izvora'!$A:$N,CW67,R$7)=\"\",\"\",INDEX('E_Tokovi izvora'!$A:$N,CW67,R$7)))","v":""},{"$f":"IF($E67=\"\",\"\",IF(INDEX('E_Tokovi izvora'!$A:$N,CX67,S$7)=\"\",\"\",INDEX('E_Tokovi izvora'!$A:$N,CX67,S$7)))","v":""},{"$f":"IF($E67=\"\",\"\",IF(INDEX('E_Tokovi izvora'!$A:$N,CY67,T$7)=\"\",\"\",INDEX('E_Tokovi izvora'!$A:$N,CY67,T$7)))","v":""},{"$f":"IF($E67=\"\",\"\",IF(INDEX('E_Tokovi izvora'!$A:$N,CZ67,U$7)=\"\",\"\",INDEX('E_Tokovi izvora'!$A:$N,CZ67,U$7)))","v":""},{"$f":"IF($E67=\"\",\"\",IF(INDEX('E_Tokovi izvora'!$A:$N,DA67,V$7)=\"\",\"\",INDEX('E_Tokovi izvora'!$A:$N,DA67,V$7)))","v":""},{"$f":"IF($E67=\"\",\"\",IF(INDEX('E_Tokovi izvora'!$A:$N,DB67,W$7)=\"\",\"\",INDEX('E_Tokovi izvora'!$A:$N,DB67,W$7)))","v":""},{"$f":"IF($E67=\"\",\"\",IF(INDEX('E_Tokovi izvora'!$A:$N,DC67,X$7)=\"\",\"\",INDEX('E_Tokovi izvora'!$A:$N,DC67,X$7)))","v":""},{"$f":"IF($E67=\"\",\"\",IF(INDEX('E_Tokovi izvora'!$A:$N,DD67,Y$7)=\"\",\"\",INDEX('E_Tokovi izvora'!$A:$N,DD67,Y$7)))","v":""},{"$f":"IF($E67=\"\",\"\",IF(INDEX('E_Tokovi izvora'!$A:$N,DE67,Z$7)=\"\",\"\",INDEX('E_Tokovi izvora'!$A:$N,DE67,Z$7)))","v":""},{"$f":"IF($E67=\"\",\"\",IF(INDEX('E_Tokovi izvora'!$A:$N,DF67,AA$7)=\"\",\"\",INDEX('E_Tokovi izvora'!$A:$N,DF67,AA$7)))","v":""},{"$f":"IF($E67=\"\",\"\",IF(INDEX('E_Tokovi izvora'!$A:$N,DG67,AB$7)=\"\",\"\",INDEX('E_Tokovi izvora'!$A:$N,DG67,AB$7)))","v":""},{"$f":"IF($E67=\"\",\"\",IF(INDEX('E_Tokovi izvora'!$A:$N,DH67,AC$7)=\"\",\"\",INDEX('E_Tokovi izvora'!$A:$N,DH67,AC$7)))","v":""},{"$f":"IF($E67=\"\",\"\",IF(INDEX('E_Tokovi izvora'!$A:$N,DI67,AD$7)=\"\",\"\",INDEX('E_Tokovi izvora'!$A:$N,DI67,AD$7)))","v":""},{"$f":"IF($E67=\"\",\"\",IF(INDEX('E_Tokovi izvora'!$A:$N,DJ67,AE$7)=\"\",\"\",INDEX('E_Tokovi izvora'!$A:$N,DJ67,AE$7)))","v":""},{"$f":"IF($E67=\"\",\"\",IF(INDEX('E_Tokovi izvora'!$A:$N,DK67,AF$7)=\"\",\"\",INDEX('E_Tokovi izvora'!$A:$N,DK67,AF$7)))","v":""},{"$f":"IF($E67=\"\",\"\",IF(INDEX('E_Tokovi izvora'!$A:$N,DL67,AG$7)=\"\",\"\",INDEX('E_Tokovi izvora'!$A:$N,DL67,AG$7)))","v":""},{"$f":"IF($E67=\"\",\"\",IF(INDEX('E_Tokovi izvora'!$A:$N,DM67,AH$7)=\"\",\"\",INDEX('E_Tokovi izvora'!$A:$N,DM67,AH$7)))","v":""},{"$f":"IF($E67=\"\",\"\",IF(INDEX('E_Tokovi izvora'!$A:$N,DN67,AI$7)=\"\",\"\",INDEX('E_Tokovi izvora'!$A:$N,DN67,AI$7)))","v":""},{"$f":"IF($E67=\"\",\"\",IF(INDEX('E_Tokovi izvora'!$A:$N,DO67,AJ$7)=\"\",\"\",INDEX('E_Tokovi izvora'!$A:$N,DO67,AJ$7)))","v":""},{"$f":"IF($E67=\"\",\"\",IF(INDEX('E_Tokovi izvora'!$A:$N,DP67,AK$7)=\"\",\"\",INDEX('E_Tokovi izvora'!$A:$N,DP67,AK$7)))","v":""},{"$f":"IF($E67=\"\",\"\",IF(INDEX('E_Tokovi izvora'!$A:$N,DQ67,AL$7)=\"\",\"\",INDEX('E_Tokovi izvora'!$A:$N,DQ67,AL$7)))","v":""},{"$f":"IF($E67=\"\",\"\",IF(INDEX('E_Tokovi izvora'!$A:$N,DR67,AM$7)=\"\",\"\",INDEX('E_Tokovi izvora'!$A:$N,DR67,AM$7)))","v":""},{"$f":"IF($E67=\"\",\"\",IF(INDEX('E_Tokovi izvora'!$A:$N,DS67,AN$7)=\"\",\"\",INDEX('E_Tokovi izvora'!$A:$N,DS67,AN$7)))","v":""},{"$f":"IF($E67=\"\",\"\",IF(INDEX('E_Tokovi izvora'!$A:$N,DT67,AO$7)=\"\",\"\",INDEX('E_Tokovi izvora'!$A:$N,DT67,AO$7)))","v":""},{"$f":"IF($E67=\"\",\"\",IF(INDEX('E_Tokovi izvora'!$A:$N,DU67,AP$7)=\"\",\"\",INDEX('E_Tokovi izvora'!$A:$N,DU67,AP$7)))","v":""},{"$f":"IF($E67=\"\",\"\",IF(INDEX('E_Tokovi izvora'!$A:$N,DV67,AQ$7)=\"\",\"\",INDEX('E_Tokovi izvora'!$A:$N,DV67,AQ$7)))","v":""},{"$f":"IF($E67=\"\",\"\",IF(INDEX('E_Tokovi izvora'!$A:$N,DW67,AR$7)=\"\",\"\",INDEX('E_Tokovi izvora'!$A:$N,DW67,AR$7)))","v":""},{"$f":"IF($E67=\"\",\"\",IF(INDEX('E_Tokovi izvora'!$A:$N,DX67,AS$7)=\"\",\"\",INDEX('E_Tokovi izvora'!$A:$N,DX67,AS$7)))","v":""},{"$f":"IF($E67=\"\",\"\",IF(INDEX('E_Tokovi izvora'!$A:$N,DY67,AT$7)=\"\",\"\",INDEX('E_Tokovi izvora'!$A:$N,DY67,AT$7)))","v":""},{"$f":"IF($E67=\"\",\"\",IF(INDEX('E_Tokovi izvora'!$A:$N,DZ67,AU$7)=\"\",\"\",INDEX('E_Tokovi izvora'!$A:$N,DZ67,AU$7)))","v":""},{"$f":"IF($E67=\"\",\"\",IF(INDEX('E_Tokovi izvora'!$A:$N,EA67,AV$7)=\"\",\"\",INDEX('E_Tokovi izvora'!$A:$N,EA67,AV$7)))","v":""},{"$f":"IF($E67=\"\",\"\",IF(INDEX('E_Tokovi izvora'!$A:$N,EB67,AW$7)=\"\",\"\",INDEX('E_Tokovi izvora'!$A:$N,EB67,AW$7)))","v":""},{"$f":"IF($E67=\"\",\"\",IF(INDEX('E_Tokovi izvora'!$A:$N,EC67,AX$7)=\"\",\"\",INDEX('E_Tokovi izvora'!$A:$N,EC67,AX$7)))","v":""},{"$f":"IF($E67=\"\",\"\",IF(INDEX('E_Tokovi izvora'!$A:$N,ED67,AY$7)=\"\",\"\",INDEX('E_Tokovi izvora'!$A:$N,ED67,AY$7)))","v":""},{"$f":"IF($E67=\"\",\"\",IF(INDEX('E_Tokovi izvora'!$A:$N,EE67,AZ$7)=\"\",\"\",INDEX('E_Tokovi izvora'!$A:$N,EE67,AZ$7)))","v":""},{"$f":"IF($E67=\"\",\"\",IF(INDEX('E_Tokovi izvora'!$A:$N,EF67,BA$7)=\"\",\"\",INDEX('E_Tokovi izvora'!$A:$N,EF67,BA$7)))","v":""},{"$f":"IF($E67=\"\",\"\",IF(INDEX('E_Tokovi izvora'!$A:$N,EG67,BB$7)=\"\",\"\",INDEX('E_Tokovi izvora'!$A:$N,EG67,BB$7)))","v":""},{"$f":"IF($E67=\"\",\"\",IF(INDEX('E_Tokovi izvora'!$A:$N,EH67,BC$7)=\"\",\"\",INDEX('E_Tokovi izvora'!$A:$N,EH67,BC$7)))","v":""},{"$f":"IF($E67=\"\",\"\",IF(INDEX('E_Tokovi izvora'!$A:$N,EI67,BD$7)=\"\",\"\",INDEX('E_Tokovi izvora'!$A:$N,EI67,BD$7)))","v":""},{"$f":"IF($E67=\"\",\"\",IF(INDEX('E_Tokovi izvora'!$A:$N,EJ67,BE$7)=\"\",\"\",INDEX('E_Tokovi izvora'!$A:$N,EJ67,BE$7)))","v":""},{"$f":"IF($E67=\"\",\"\",IF(INDEX('E_Tokovi izvora'!$A:$N,EK67,BF$7)=\"\",\"\",INDEX('E_Tokovi izvora'!$A:$N,EK67,BF$7)))","v":""},{"$f":"IF($E67=\"\",\"\",IF(INDEX('E_Tokovi izvora'!$A:$N,EL67,BG$7)=\"\",\"\",INDEX('E_Tokovi izvora'!$A:$N,EL67,BG$7)))","v":""},{"$f":"IF($E67=\"\",\"\",IF(INDEX('E_Tokovi izvora'!$A:$N,EM67,BH$7)=\"\",\"\",INDEX('E_Tokovi izvora'!$A:$N,EM67,BH$7)))","v":""},{"$f":"IF($E67=\"\",\"\",IF(INDEX('E_Tokovi izvora'!$A:$N,EN67,BI$7)=\"\",\"\",INDEX('E_Tokovi izvora'!$A:$N,EN67,BI$7)))","v":""},{"$f":"IF($E67=\"\",\"\",IF(INDEX('E_Tokovi izvora'!$A:$N,EO67,BJ$7)=\"\",\"\",INDEX('E_Tokovi izvora'!$A:$N,EO67,BJ$7)))","v":""},{"$f":"IF($E67=\"\",\"\",IF(INDEX('E_Tokovi izvora'!$A:$N,EP67,BK$7)=\"\",\"\",INDEX('E_Tokovi izvora'!$A:$N,EP67,BK$7)))","v":""},{"$f":"IF($E67=\"\",\"\",IF(INDEX('E_Tokovi izvora'!$A:$N,EQ67,BL$7)=\"\",\"\",INDEX('E_Tokovi izvora'!$A:$N,EQ67,BL$7)))","v":""},{"$f":"IF($E67=\"\",\"\",IF(INDEX('E_Tokovi izvora'!$A:$N,ER67,BM$7)=\"\",\"\",INDEX('E_Tokovi izvora'!$A:$N,ER67,BM$7)))","v":""},{"$f":"IF($E67=\"\",\"\",IF(INDEX('E_Tokovi izvora'!$A:$N,ES67,BN$7)=\"\",\"\",INDEX('E_Tokovi izvora'!$A:$N,ES67,BN$7)))","v":""},{"$f":"IF($E67=\"\",\"\",IF(INDEX('E_Tokovi izvora'!$A:$N,ET67,BO$7)=\"\",\"\",INDEX('E_Tokovi izvora'!$A:$N,ET67,BO$7)))","v":""},{"$f":"IF($E67=\"\",\"\",IF(INDEX('E_Tokovi izvora'!$A:$N,EU67,BP$7)=\"\",\"\",INDEX('E_Tokovi izvora'!$A:$N,EU67,BP$7)))","v":""},{"$f":"IF($E67=\"\",\"\",IF(INDEX('E_Tokovi izvora'!$A:$N,EV67,BQ$7)=\"\",\"\",INDEX('E_Tokovi izvora'!$A:$N,EV67,BQ$7)))","v":""},{"$f":"IF($E67=\"\",\"\",IF(INDEX('E_Tokovi izvora'!$A:$N,EW67,BR$7)=\"\",\"\",INDEX('E_Tokovi izvora'!$A:$N,EW67,BR$7)))","v":""},{"$f":"IF($E67=\"\",\"\",IF(INDEX('E_Tokovi izvora'!$A:$N,EX67,BS$7)=\"\",\"\",INDEX('E_Tokovi izvora'!$A:$N,EX67,BS$7)))","v":""},{"$f":"IF($E67=\"\",\"\",IF(INDEX('E_Tokovi izvora'!$A:$N,EY67,BT$7)=\"\",\"\",INDEX('E_Tokovi izvora'!$A:$N,EY67,BT$7)))","v":""},null,null,null,null,null,null,null,null,null,null,null,null,null,null,null,"SourceCategory_",{"$f":"INDEX('C_Opis postrojenja'!$A$226:$A$332,ROWS($CI$11:CI67))=\"ausblenden\"","v":true},"SourceStreamName_",null,3829,3831,3833,3835,3837,3839,3841,3841,3841,3841,3841,3844,3848,3849,3850,3857,3867,3867,3867,3867,3867,3867,3867,3858,3868,3868,3868,3868,3868,3868,3868,3859,3869,3869,3869,3869,3869,3869,3869,3860,3870,3870,3870,3870,3870,3870,3870,3861,3871,3871,3871,3871,3871,3871,3871,3862,3872,3872,3872,3872,3872,3872,3872,3878]
[null,{"$f":"IF(COUNTIF($CK$10:CK68,TRUE)>0,\"\",INDEX('C_Opis postrojenja'!$E$226:$E$242,ROWS($A$11:A68)))","v":""},{"$f":"IF($E68=\"\",\"\",INDEX('C_Opis postrojenja'!F:F,MATCH($B68,'C_Opis postrojenja'!$E:$E,0)))","v":""},{"$f":"IF($E68=\"\",\"\",INDEX('C_Opis postrojenja'!I:I,MATCH($B68,'C_Opis postrojenja'!$E:$E,0)))","v":""},{"$f":"IF($B68=\"\",\"\",INDEX('C_Opis postrojenja'!F:F,MATCH($CJ68,'C_Opis postrojenja'!$Q:$Q,0)))","v":""},{"$f":"IF($E68=\"\",\"\",INDEX('C_Opis postrojenja'!L:L,MATCH($CJ68,'C_Opis postrojenja'!$Q:$Q,0)))","v":""},{"$f":"IF($E68=\"\",\"\",INDEX('C_Opis postrojenja'!M:M,MATCH($CJ68,'C_Opis postrojenja'!$Q:$Q,0)))","v":""},{"$f":"IF($E68=\"\",\"\",INDEX('C_Opis postrojenja'!N:N,MATCH($CJ68,'C_Opis postrojenja'!$Q:$Q,0)))","v":""},{"$f":"IF($E68=\"\",\"\",IF(INDEX('E_Tokovi izvora'!$A:$N,CN68,I$7)=\"\",\"\",INDEX('E_Tokovi izvora'!$A:$N,CN68,I$7)))","v":""},{"$f":"IF($E68=\"\",\"\",IF(INDEX('E_Tokovi izvora'!$A:$N,CO68,J$7)=\"\",\"\",INDEX('E_Tokovi izvora'!$A:$N,CO68,J$7)))","v":""},{"$f":"IF($E68=\"\",\"\",IF(INDEX('E_Tokovi izvora'!$A:$N,CP68,K$7)=\"\",\"\",INDEX('E_Tokovi izvora'!$A:$N,CP68,K$7)))","v":""},{"$f":"IF($E68=\"\",\"\",IF(INDEX('E_Tokovi izvora'!$A:$N,CQ68,L$7)=\"\",\"\",INDEX('E_Tokovi izvora'!$A:$N,CQ68,L$7)))","v":""},{"$f":"IF($E68=\"\",\"\",IF(INDEX('E_Tokovi izvora'!$A:$N,CR68,M$7)=\"\",\"\",INDEX('E_Tokovi izvora'!$A:$N,CR68,M$7)))","v":""},{"$f":"IF($E68=\"\",\"\",IF(INDEX('E_Tokovi izvora'!$A:$N,CS68,N$7)=\"\",\"\",INDEX('E_Tokovi izvora'!$A:$N,CS68,N$7)))","v":""},{"$f":"IF($E68=\"\",\"\",IF(INDEX('E_Tokovi izvora'!$A:$N,CT68,O$7)=\"\",\"\",INDEX('E_Tokovi izvora'!$A:$N,CT68,O$7)))","v":""},{"$f":"IF($E68=\"\",\"\",IF(INDEX('E_Tokovi izvora'!$A:$N,CU68,P$7)=\"\",\"\",INDEX('E_Tokovi izvora'!$A:$N,CU68,P$7)))","v":""},{"$f":"IF($E68=\"\",\"\",IF(INDEX('E_Tokovi izvora'!$A:$N,CV68,Q$7)=\"\",\"\",INDEX('E_Tokovi izvora'!$A:$N,CV68,Q$7)))","v":""},{"$f":"IF($E68=\"\",\"\",IF(INDEX('E_Tokovi izvora'!$A:$N,CW68,R$7)=\"\",\"\",INDEX('E_Tokovi izvora'!$A:$N,CW68,R$7)))","v":""},{"$f":"IF($E68=\"\",\"\",IF(INDEX('E_Tokovi izvora'!$A:$N,CX68,S$7)=\"\",\"\",INDEX('E_Tokovi izvora'!$A:$N,CX68,S$7)))","v":""},{"$f":"IF($E68=\"\",\"\",IF(INDEX('E_Tokovi izvora'!$A:$N,CY68,T$7)=\"\",\"\",INDEX('E_Tokovi izvora'!$A:$N,CY68,T$7)))","v":""},{"$f":"IF($E68=\"\",\"\",IF(INDEX('E_Tokovi izvora'!$A:$N,CZ68,U$7)=\"\",\"\",INDEX('E_Tokovi izvora'!$A:$N,CZ68,U$7)))","v":""},{"$f":"IF($E68=\"\",\"\",IF(INDEX('E_Tokovi izvora'!$A:$N,DA68,V$7)=\"\",\"\",INDEX('E_Tokovi izvora'!$A:$N,DA68,V$7)))","v":""},{"$f":"IF($E68=\"\",\"\",IF(INDEX('E_Tokovi izvora'!$A:$N,DB68,W$7)=\"\",\"\",INDEX('E_Tokovi izvora'!$A:$N,DB68,W$7)))","v":""},{"$f":"IF($E68=\"\",\"\",IF(INDEX('E_Tokovi izvora'!$A:$N,DC68,X$7)=\"\",\"\",INDEX('E_Tokovi izvora'!$A:$N,DC68,X$7)))","v":""},{"$f":"IF($E68=\"\",\"\",IF(INDEX('E_Tokovi izvora'!$A:$N,DD68,Y$7)=\"\",\"\",INDEX('E_Tokovi izvora'!$A:$N,DD68,Y$7)))","v":""},{"$f":"IF($E68=\"\",\"\",IF(INDEX('E_Tokovi izvora'!$A:$N,DE68,Z$7)=\"\",\"\",INDEX('E_Tokovi izvora'!$A:$N,DE68,Z$7)))","v":""},{"$f":"IF($E68=\"\",\"\",IF(INDEX('E_Tokovi izvora'!$A:$N,DF68,AA$7)=\"\",\"\",INDEX('E_Tokovi izvora'!$A:$N,DF68,AA$7)))","v":""},{"$f":"IF($E68=\"\",\"\",IF(INDEX('E_Tokovi izvora'!$A:$N,DG68,AB$7)=\"\",\"\",INDEX('E_Tokovi izvora'!$A:$N,DG68,AB$7)))","v":""},{"$f":"IF($E68=\"\",\"\",IF(INDEX('E_Tokovi izvora'!$A:$N,DH68,AC$7)=\"\",\"\",INDEX('E_Tokovi izvora'!$A:$N,DH68,AC$7)))","v":""},{"$f":"IF($E68=\"\",\"\",IF(INDEX('E_Tokovi izvora'!$A:$N,DI68,AD$7)=\"\",\"\",INDEX('E_Tokovi izvora'!$A:$N,DI68,AD$7)))","v":""},{"$f":"IF($E68=\"\",\"\",IF(INDEX('E_Tokovi izvora'!$A:$N,DJ68,AE$7)=\"\",\"\",INDEX('E_Tokovi izvora'!$A:$N,DJ68,AE$7)))","v":""},{"$f":"IF($E68=\"\",\"\",IF(INDEX('E_Tokovi izvora'!$A:$N,DK68,AF$7)=\"\",\"\",INDEX('E_Tokovi izvora'!$A:$N,DK68,AF$7)))","v":""},{"$f":"IF($E68=\"\",\"\",IF(INDEX('E_Tokovi izvora'!$A:$N,DL68,AG$7)=\"\",\"\",INDEX('E_Tokovi izvora'!$A:$N,DL68,AG$7)))","v":""},{"$f":"IF($E68=\"\",\"\",IF(INDEX('E_Tokovi izvora'!$A:$N,DM68,AH$7)=\"\",\"\",INDEX('E_Tokovi izvora'!$A:$N,DM68,AH$7)))","v":""},{"$f":"IF($E68=\"\",\"\",IF(INDEX('E_Tokovi izvora'!$A:$N,DN68,AI$7)=\"\",\"\",INDEX('E_Tokovi izvora'!$A:$N,DN68,AI$7)))","v":""},{"$f":"IF($E68=\"\",\"\",IF(INDEX('E_Tokovi izvora'!$A:$N,DO68,AJ$7)=\"\",\"\",INDEX('E_Tokovi izvora'!$A:$N,DO68,AJ$7)))","v":""},{"$f":"IF($E68=\"\",\"\",IF(INDEX('E_Tokovi izvora'!$A:$N,DP68,AK$7)=\"\",\"\",INDEX('E_Tokovi izvora'!$A:$N,DP68,AK$7)))","v":""},{"$f":"IF($E68=\"\",\"\",IF(INDEX('E_Tokovi izvora'!$A:$N,DQ68,AL$7)=\"\",\"\",INDEX('E_Tokovi izvora'!$A:$N,DQ68,AL$7)))","v":""},{"$f":"IF($E68=\"\",\"\",IF(INDEX('E_Tokovi izvora'!$A:$N,DR68,AM$7)=\"\",\"\",INDEX('E_Tokovi izvora'!$A:$N,DR68,AM$7)))","v":""},{"$f":"IF($E68=\"\",\"\",IF(INDEX('E_Tokovi izvora'!$A:$N,DS68,AN$7)=\"\",\"\",INDEX('E_Tokovi izvora'!$A:$N,DS68,AN$7)))","v":""},{"$f":"IF($E68=\"\",\"\",IF(INDEX('E_Tokovi izvora'!$A:$N,DT68,AO$7)=\"\",\"\",INDEX('E_Tokovi izvora'!$A:$N,DT68,AO$7)))","v":""},{"$f":"IF($E68=\"\",\"\",IF(INDEX('E_Tokovi izvora'!$A:$N,DU68,AP$7)=\"\",\"\",INDEX('E_Tokovi izvora'!$A:$N,DU68,AP$7)))","v":""},{"$f":"IF($E68=\"\",\"\",IF(INDEX('E_Tokovi izvora'!$A:$N,DV68,AQ$7)=\"\",\"\",INDEX('E_Tokovi izvora'!$A:$N,DV68,AQ$7)))","v":""},{"$f":"IF($E68=\"\",\"\",IF(INDEX('E_Tokovi izvora'!$A:$N,DW68,AR$7)=\"\",\"\",INDEX('E_Tokovi izvora'!$A:$N,DW68,AR$7)))","v":""},{"$f":"IF($E68=\"\",\"\",IF(INDEX('E_Tokovi izvora'!$A:$N,DX68,AS$7)=\"\",\"\",INDEX('E_Tokovi izvora'!$A:$N,DX68,AS$7)))","v":""},{"$f":"IF($E68=\"\",\"\",IF(INDEX('E_Tokovi izvora'!$A:$N,DY68,AT$7)=\"\",\"\",INDEX('E_Tokovi izvora'!$A:$N,DY68,AT$7)))","v":""},{"$f":"IF($E68=\"\",\"\",IF(INDEX('E_Tokovi izvora'!$A:$N,DZ68,AU$7)=\"\",\"\",INDEX('E_Tokovi izvora'!$A:$N,DZ68,AU$7)))","v":""},{"$f":"IF($E68=\"\",\"\",IF(INDEX('E_Tokovi izvora'!$A:$N,EA68,AV$7)=\"\",\"\",INDEX('E_Tokovi izvora'!$A:$N,EA68,AV$7)))","v":""},{"$f":"IF($E68=\"\",\"\",IF(INDEX('E_Tokovi izvora'!$A:$N,EB68,AW$7)=\"\",\"\",INDEX('E_Tokovi izvora'!$A:$N,EB68,AW$7)))","v":""},{"$f":"IF($E68=\"\",\"\",IF(INDEX('E_Tokovi izvora'!$A:$N,EC68,AX$7)=\"\",\"\",INDEX('E_Tokovi izvora'!$A:$N,EC68,AX$7)))","v":""},{"$f":"IF($E68=\"\",\"\",IF(INDEX('E_Tokovi izvora'!$A:$N,ED68,AY$7)=\"\",\"\",INDEX('E_Tokovi izvora'!$A:$N,ED68,AY$7)))","v":""},{"$f":"IF($E68=\"\",\"\",IF(INDEX('E_Tokovi izvora'!$A:$N,EE68,AZ$7)=\"\",\"\",INDEX('E_Tokovi izvora'!$A:$N,EE68,AZ$7)))","v":""},{"$f":"IF($E68=\"\",\"\",IF(INDEX('E_Tokovi izvora'!$A:$N,EF68,BA$7)=\"\",\"\",INDEX('E_Tokovi izvora'!$A:$N,EF68,BA$7)))","v":""},{"$f":"IF($E68=\"\",\"\",IF(INDEX('E_Tokovi izvora'!$A:$N,EG68,BB$7)=\"\",\"\",INDEX('E_Tokovi izvora'!$A:$N,EG68,BB$7)))","v":""},{"$f":"IF($E68=\"\",\"\",IF(INDEX('E_Tokovi izvora'!$A:$N,EH68,BC$7)=\"\",\"\",INDEX('E_Tokovi izvora'!$A:$N,EH68,BC$7)))","v":""},{"$f":"IF($E68=\"\",\"\",IF(INDEX('E_Tokovi izvora'!$A:$N,EI68,BD$7)=\"\",\"\",INDEX('E_Tokovi izvora'!$A:$N,EI68,BD$7)))","v":""},{"$f":"IF($E68=\"\",\"\",IF(INDEX('E_Tokovi izvora'!$A:$N,EJ68,BE$7)=\"\",\"\",INDEX('E_Tokovi izvora'!$A:$N,EJ68,BE$7)))","v":""},{"$f":"IF($E68=\"\",\"\",IF(INDEX('E_Tokovi izvora'!$A:$N,EK68,BF$7)=\"\",\"\",INDEX('E_Tokovi izvora'!$A:$N,EK68,BF$7)))","v":""},{"$f":"IF($E68=\"\",\"\",IF(INDEX('E_Tokovi izvora'!$A:$N,EL68,BG$7)=\"\",\"\",INDEX('E_Tokovi izvora'!$A:$N,EL68,BG$7)))","v":""},{"$f":"IF($E68=\"\",\"\",IF(INDEX('E_Tokovi izvora'!$A:$N,EM68,BH$7)=\"\",\"\",INDEX('E_Tokovi izvora'!$A:$N,EM68,BH$7)))","v":""},{"$f":"IF($E68=\"\",\"\",IF(INDEX('E_Tokovi izvora'!$A:$N,EN68,BI$7)=\"\",\"\",INDEX('E_Tokovi izvora'!$A:$N,EN68,BI$7)))","v":""},{"$f":"IF($E68=\"\",\"\",IF(INDEX('E_Tokovi izvora'!$A:$N,EO68,BJ$7)=\"\",\"\",INDEX('E_Tokovi izvora'!$A:$N,EO68,BJ$7)))","v":""},{"$f":"IF($E68=\"\",\"\",IF(INDEX('E_Tokovi izvora'!$A:$N,EP68,BK$7)=\"\",\"\",INDEX('E_Tokovi izvora'!$A:$N,EP68,BK$7)))","v":""},{"$f":"IF($E68=\"\",\"\",IF(INDEX('E_Tokovi izvora'!$A:$N,EQ68,BL$7)=\"\",\"\",INDEX('E_Tokovi izvora'!$A:$N,EQ68,BL$7)))","v":""},{"$f":"IF($E68=\"\",\"\",IF(INDEX('E_Tokovi izvora'!$A:$N,ER68,BM$7)=\"\",\"\",INDEX('E_Tokovi izvora'!$A:$N,ER68,BM$7)))","v":""},{"$f":"IF($E68=\"\",\"\",IF(INDEX('E_Tokovi izvora'!$A:$N,ES68,BN$7)=\"\",\"\",INDEX('E_Tokovi izvora'!$A:$N,ES68,BN$7)))","v":""},{"$f":"IF($E68=\"\",\"\",IF(INDEX('E_Tokovi izvora'!$A:$N,ET68,BO$7)=\"\",\"\",INDEX('E_Tokovi izvora'!$A:$N,ET68,BO$7)))","v":""},{"$f":"IF($E68=\"\",\"\",IF(INDEX('E_Tokovi izvora'!$A:$N,EU68,BP$7)=\"\",\"\",INDEX('E_Tokovi izvora'!$A:$N,EU68,BP$7)))","v":""},{"$f":"IF($E68=\"\",\"\",IF(INDEX('E_Tokovi izvora'!$A:$N,EV68,BQ$7)=\"\",\"\",INDEX('E_Tokovi izvora'!$A:$N,EV68,BQ$7)))","v":""},{"$f":"IF($E68=\"\",\"\",IF(INDEX('E_Tokovi izvora'!$A:$N,EW68,BR$7)=\"\",\"\",INDEX('E_Tokovi izvora'!$A:$N,EW68,BR$7)))","v":""},{"$f":"IF($E68=\"\",\"\",IF(INDEX('E_Tokovi izvora'!$A:$N,EX68,BS$7)=\"\",\"\",INDEX('E_Tokovi izvora'!$A:$N,EX68,BS$7)))","v":""},{"$f":"IF($E68=\"\",\"\",IF(INDEX('E_Tokovi izvora'!$A:$N,EY68,BT$7)=\"\",\"\",INDEX('E_Tokovi izvora'!$A:$N,EY68,BT$7)))","v":""},null,null,null,null,null,null,null,null,null,null,null,null,null,null,null,"SourceCategory_",{"$f":"INDEX('C_Opis postrojenja'!$A$226:$A$332,ROWS($CI$11:CI68))=\"ausblenden\"","v":true},"SourceStreamName_",null,3895,3897,3899,3901,3903,3905,3907,3907,3907,3907,3907,3910,3914,3915,3916,3923,3933,3933,3933,3933,3933,3933,3933,3924,3934,3934,3934,3934,3934,3934,3934,3925,3935,3935,3935,3935,3935,3935,3935,3926,3936,3936,3936,3936,3936,3936,3936,3927,3937,3937,3937,3937,3937,3937,3937,3928,3938,3938,3938,3938,3938,3938,3938,3944]
[null,{"$f":"IF(COUNTIF($CK$10:CK69,TRUE)>0,\"\",INDEX('C_Opis postrojenja'!$E$226:$E$242,ROWS($A$11:A69)))","v":""},{"$f":"IF($E69=\"\",\"\",INDEX('C_Opis postrojenja'!F:F,MATCH($B69,'C_Opis postrojenja'!$E:$E,0)))","v":""},{"$f":"IF($E69=\"\",\"\",INDEX('C_Opis postrojenja'!I:I,MATCH($B69,'C_Opis postrojenja'!$E:$E,0)))","v":""},{"$f":"IF($B69=\"\",\"\",INDEX('C_Opis postrojenja'!F:F,MATCH($CJ69,'C_Opis postrojenja'!$Q:$Q,0)))","v":""},{"$f":"IF($E69=\"\",\"\",INDEX('C_Opis postrojenja'!L:L,MATCH($CJ69,'C_Opis postrojenja'!$Q:$Q,0)))","v":""},{"$f":"IF($E69=\"\",\"\",INDEX('C_Opis postrojenja'!M:M,MATCH($CJ69,'C_Opis postrojenja'!$Q:$Q,0)))","v":""},{"$f":"IF($E69=\"\",\"\",INDEX('C_Opis postrojenja'!N:N,MATCH($CJ69,'C_Opis postrojenja'!$Q:$Q,0)))","v":""},{"$f":"IF($E69=\"\",\"\",IF(INDEX('E_Tokovi izvora'!$A:$N,CN69,I$7)=\"\",\"\",INDEX('E_Tokovi izvora'!$A:$N,CN69,I$7)))","v":""},{"$f":"IF($E69=\"\",\"\",IF(INDEX('E_Tokovi izvora'!$A:$N,CO69,J$7)=\"\",\"\",INDEX('E_Tokovi izvora'!$A:$N,CO69,J$7)))","v":""},{"$f":"IF($E69=\"\",\"\",IF(INDEX('E_Tokovi izvora'!$A:$N,CP69,K$7)=\"\",\"\",INDEX('E_Tokovi izvora'!$A:$N,CP69,K$7)))","v":""},{"$f":"IF($E69=\"\",\"\",IF(INDEX('E_Tokovi izvora'!$A:$N,CQ69,L$7)=\"\",\"\",INDEX('E_Tokovi izvora'!$A:$N,CQ69,L$7)))","v":""},{"$f":"IF($E69=\"\",\"\",IF(INDEX('E_Tokovi izvora'!$A:$N,CR69,M$7)=\"\",\"\",INDEX('E_Tokovi izvora'!$A:$N,CR69,M$7)))","v":""},{"$f":"IF($E69=\"\",\"\",IF(INDEX('E_Tokovi izvora'!$A:$N,CS69,N$7)=\"\",\"\",INDEX('E_Tokovi izvora'!$A:$N,CS69,N$7)))","v":""},{"$f":"IF($E69=\"\",\"\",IF(INDEX('E_Tokovi izvora'!$A:$N,CT69,O$7)=\"\",\"\",INDEX('E_Tokovi izvora'!$A:$N,CT69,O$7)))","v":""},{"$f":"IF($E69=\"\",\"\",IF(INDEX('E_Tokovi izvora'!$A:$N,CU69,P$7)=\"\",\"\",INDEX('E_Tokovi izvora'!$A:$N,CU69,P$7)))","v":""},{"$f":"IF($E69=\"\",\"\",IF(INDEX('E_Tokovi izvora'!$A:$N,CV69,Q$7)=\"\",\"\",INDEX('E_Tokovi izvora'!$A:$N,CV69,Q$7)))","v":""},{"$f":"IF($E69=\"\",\"\",IF(INDEX('E_Tokovi izvora'!$A:$N,CW69,R$7)=\"\",\"\",INDEX('E_Tokovi izvora'!$A:$N,CW69,R$7)))","v":""},{"$f":"IF($E69=\"\",\"\",IF(INDEX('E_Tokovi izvora'!$A:$N,CX69,S$7)=\"\",\"\",INDEX('E_Tokovi izvora'!$A:$N,CX69,S$7)))","v":""},{"$f":"IF($E69=\"\",\"\",IF(INDEX('E_Tokovi izvora'!$A:$N,CY69,T$7)=\"\",\"\",INDEX('E_Tokovi izvora'!$A:$N,CY69,T$7)))","v":""},{"$f":"IF($E69=\"\",\"\",IF(INDEX('E_Tokovi izvora'!$A:$N,CZ69,U$7)=\"\",\"\",INDEX('E_Tokovi izvora'!$A:$N,CZ69,U$7)))","v":""},{"$f":"IF($E69=\"\",\"\",IF(INDEX('E_Tokovi izvora'!$A:$N,DA69,V$7)=\"\",\"\",INDEX('E_Tokovi izvora'!$A:$N,DA69,V$7)))","v":""},{"$f":"IF($E69=\"\",\"\",IF(INDEX('E_Tokovi izvora'!$A:$N,DB69,W$7)=\"\",\"\",INDEX('E_Tokovi izvora'!$A:$N,DB69,W$7)))","v":""},{"$f":"IF($E69=\"\",\"\",IF(INDEX('E_Tokovi izvora'!$A:$N,DC69,X$7)=\"\",\"\",INDEX('E_Tokovi izvora'!$A:$N,DC69,X$7)))","v":""},{"$f":"IF($E69=\"\",\"\",IF(INDEX('E_Tokovi izvora'!$A:$N,DD69,Y$7)=\"\",\"\",INDEX('E_Tokovi izvora'!$A:$N,DD69,Y$7)))","v":""},{"$f":"IF($E69=\"\",\"\",IF(INDEX('E_Tokovi izvora'!$A:$N,DE69,Z$7)=\"\",\"\",INDEX('E_Tokovi izvora'!$A:$N,DE69,Z$7)))","v":""},{"$f":"IF($E69=\"\",\"\",IF(INDEX('E_Tokovi izvora'!$A:$N,DF69,AA$7)=\"\",\"\",INDEX('E_Tokovi izvora'!$A:$N,DF69,AA$7)))","v":""},{"$f":"IF($E69=\"\",\"\",IF(INDEX('E_Tokovi izvora'!$A:$N,DG69,AB$7)=\"\",\"\",INDEX('E_Tokovi izvora'!$A:$N,DG69,AB$7)))","v":""},{"$f":"IF($E69=\"\",\"\",IF(INDEX('E_Tokovi izvora'!$A:$N,DH69,AC$7)=\"\",\"\",INDEX('E_Tokovi izvora'!$A:$N,DH69,AC$7)))","v":""},{"$f":"IF($E69=\"\",\"\",IF(INDEX('E_Tokovi izvora'!$A:$N,DI69,AD$7)=\"\",\"\",INDEX('E_Tokovi izvora'!$A:$N,DI69,AD$7)))","v":""},{"$f":"IF($E69=\"\",\"\",IF(INDEX('E_Tokovi izvora'!$A:$N,DJ69,AE$7)=\"\",\"\",INDEX('E_Tokovi izvora'!$A:$N,DJ69,AE$7)))","v":""},{"$f":"IF($E69=\"\",\"\",IF(INDEX('E_Tokovi izvora'!$A:$N,DK69,AF$7)=\"\",\"\",INDEX('E_Tokovi izvora'!$A:$N,DK69,AF$7)))","v":""},{"$f":"IF($E69=\"\",\"\",IF(INDEX('E_Tokovi izvora'!$A:$N,DL69,AG$7)=\"\",\"\",INDEX('E_Tokovi izvora'!$A:$N,DL69,AG$7)))","v":""},{"$f":"IF($E69=\"\",\"\",IF(INDEX('E_Tokovi izvora'!$A:$N,DM69,AH$7)=\"\",\"\",INDEX('E_Tokovi izvora'!$A:$N,DM69,AH$7)))","v":""},{"$f":"IF($E69=\"\",\"\",IF(INDEX('E_Tokovi izvora'!$A:$N,DN69,AI$7)=\"\",\"\",INDEX('E_Tokovi izvora'!$A:$N,DN69,AI$7)))","v":""},{"$f":"IF($E69=\"\",\"\",IF(INDEX('E_Tokovi izvora'!$A:$N,DO69,AJ$7)=\"\",\"\",INDEX('E_Tokovi izvora'!$A:$N,DO69,AJ$7)))","v":""},{"$f":"IF($E69=\"\",\"\",IF(INDEX('E_Tokovi izvora'!$A:$N,DP69,AK$7)=\"\",\"\",INDEX('E_Tokovi izvora'!$A:$N,DP69,AK$7)))","v":""},{"$f":"IF($E69=\"\",\"\",IF(INDEX('E_Tokovi izvora'!$A:$N,DQ69,AL$7)=\"\",\"\",INDEX('E_Tokovi izvora'!$A:$N,DQ69,AL$7)))","v":""},{"$f":"IF($E69=\"\",\"\",IF(INDEX('E_Tokovi izvora'!$A:$N,DR69,AM$7)=\"\",\"\",INDEX('E_Tokovi izvora'!$A:$N,DR69,AM$7)))","v":""},{"$f":"IF($E69=\"\",\"\",IF(INDEX('E_Tokovi izvora'!$A:$N,DS69,AN$7)=\"\",\"\",INDEX('E_Tokovi izvora'!$A:$N,DS69,AN$7)))","v":""},{"$f":"IF($E69=\"\",\"\",IF(INDEX('E_Tokovi izvora'!$A:$N,DT69,AO$7)=\"\",\"\",INDEX('E_Tokovi izvora'!$A:$N,DT69,AO$7)))","v":""},{"$f":"IF($E69=\"\",\"\",IF(INDEX('E_Tokovi izvora'!$A:$N,DU69,AP$7)=\"\",\"\",INDEX('E_Tokovi izvora'!$A:$N,DU69,AP$7)))","v":""},{"$f":"IF($E69=\"\",\"\",IF(INDEX('E_Tokovi izvora'!$A:$N,DV69,AQ$7)=\"\",\"\",INDEX('E_Tokovi izvora'!$A:$N,DV69,AQ$7)))","v":""},{"$f":"IF($E69=\"\",\"\",IF(INDEX('E_Tokovi izvora'!$A:$N,DW69,AR$7)=\"\",\"\",INDEX('E_Tokovi izvora'!$A:$N,DW69,AR$7)))","v":""},{"$f":"IF($E69=\"\",\"\",IF(INDEX('E_Tokovi izvora'!$A:$N,DX69,AS$7)=\"\",\"\",INDEX('E_Tokovi izvora'!$A:$N,DX69,AS$7)))","v":""},{"$f":"IF($E69=\"\",\"\",IF(INDEX('E_Tokovi izvora'!$A:$N,DY69,AT$7)=\"\",\"\",INDEX('E_Tokovi izvora'!$A:$N,DY69,AT$7)))","v":""},{"$f":"IF($E69=\"\",\"\",IF(INDEX('E_Tokovi izvora'!$A:$N,DZ69,AU$7)=\"\",\"\",INDEX('E_Tokovi izvora'!$A:$N,DZ69,AU$7)))","v":""},{"$f":"IF($E69=\"\",\"\",IF(INDEX('E_Tokovi izvora'!$A:$N,EA69,AV$7)=\"\",\"\",INDEX('E_Tokovi izvora'!$A:$N,EA69,AV$7)))","v":""},{"$f":"IF($E69=\"\",\"\",IF(INDEX('E_Tokovi izvora'!$A:$N,EB69,AW$7)=\"\",\"\",INDEX('E_Tokovi izvora'!$A:$N,EB69,AW$7)))","v":""},{"$f":"IF($E69=\"\",\"\",IF(INDEX('E_Tokovi izvora'!$A:$N,EC69,AX$7)=\"\",\"\",INDEX('E_Tokovi izvora'!$A:$N,EC69,AX$7)))","v":""},{"$f":"IF($E69=\"\",\"\",IF(INDEX('E_Tokovi izvora'!$A:$N,ED69,AY$7)=\"\",\"\",INDEX('E_Tokovi izvora'!$A:$N,ED69,AY$7)))","v":""},{"$f":"IF($E69=\"\",\"\",IF(INDEX('E_Tokovi izvora'!$A:$N,EE69,AZ$7)=\"\",\"\",INDEX('E_Tokovi izvora'!$A:$N,EE69,AZ$7)))","v":""},{"$f":"IF($E69=\"\",\"\",IF(INDEX('E_Tokovi izvora'!$A:$N,EF69,BA$7)=\"\",\"\",INDEX('E_Tokovi izvora'!$A:$N,EF69,BA$7)))","v":""},{"$f":"IF($E69=\"\",\"\",IF(INDEX('E_Tokovi izvora'!$A:$N,EG69,BB$7)=\"\",\"\",INDEX('E_Tokovi izvora'!$A:$N,EG69,BB$7)))","v":""},{"$f":"IF($E69=\"\",\"\",IF(INDEX('E_Tokovi izvora'!$A:$N,EH69,BC$7)=\"\",\"\",INDEX('E_Tokovi izvora'!$A:$N,EH69,BC$7)))","v":""},{"$f":"IF($E69=\"\",\"\",IF(INDEX('E_Tokovi izvora'!$A:$N,EI69,BD$7)=\"\",\"\",INDEX('E_Tokovi izvora'!$A:$N,EI69,BD$7)))","v":""},{"$f":"IF($E69=\"\",\"\",IF(INDEX('E_Tokovi izvora'!$A:$N,EJ69,BE$7)=\"\",\"\",INDEX('E_Tokovi izvora'!$A:$N,EJ69,BE$7)))","v":""},{"$f":"IF($E69=\"\",\"\",IF(INDEX('E_Tokovi izvora'!$A:$N,EK69,BF$7)=\"\",\"\",INDEX('E_Tokovi izvora'!$A:$N,EK69,BF$7)))","v":""},{"$f":"IF($E69=\"\",\"\",IF(INDEX('E_Tokovi izvora'!$A:$N,EL69,BG$7)=\"\",\"\",INDEX('E_Tokovi izvora'!$A:$N,EL69,BG$7)))","v":""},{"$f":"IF($E69=\"\",\"\",IF(INDEX('E_Tokovi izvora'!$A:$N,EM69,BH$7)=\"\",\"\",INDEX('E_Tokovi izvora'!$A:$N,EM69,BH$7)))","v":""},{"$f":"IF($E69=\"\",\"\",IF(INDEX('E_Tokovi izvora'!$A:$N,EN69,BI$7)=\"\",\"\",INDEX('E_Tokovi izvora'!$A:$N,EN69,BI$7)))","v":""},{"$f":"IF($E69=\"\",\"\",IF(INDEX('E_Tokovi izvora'!$A:$N,EO69,BJ$7)=\"\",\"\",INDEX('E_Tokovi izvora'!$A:$N,EO69,BJ$7)))","v":""},{"$f":"IF($E69=\"\",\"\",IF(INDEX('E_Tokovi izvora'!$A:$N,EP69,BK$7)=\"\",\"\",INDEX('E_Tokovi izvora'!$A:$N,EP69,BK$7)))","v":""},{"$f":"IF($E69=\"\",\"\",IF(INDEX('E_Tokovi izvora'!$A:$N,EQ69,BL$7)=\"\",\"\",INDEX('E_Tokovi izvora'!$A:$N,EQ69,BL$7)))","v":""},{"$f":"IF($E69=\"\",\"\",IF(INDEX('E_Tokovi izvora'!$A:$N,ER69,BM$7)=\"\",\"\",INDEX('E_Tokovi izvora'!$A:$N,ER69,BM$7)))","v":""},{"$f":"IF($E69=\"\",\"\",IF(INDEX('E_Tokovi izvora'!$A:$N,ES69,BN$7)=\"\",\"\",INDEX('E_Tokovi izvora'!$A:$N,ES69,BN$7)))","v":""},{"$f":"IF($E69=\"\",\"\",IF(INDEX('E_Tokovi izvora'!$A:$N,ET69,BO$7)=\"\",\"\",INDEX('E_Tokovi izvora'!$A:$N,ET69,BO$7)))","v":""},{"$f":"IF($E69=\"\",\"\",IF(INDEX('E_Tokovi izvora'!$A:$N,EU69,BP$7)=\"\",\"\",INDEX('E_Tokovi izvora'!$A:$N,EU69,BP$7)))","v":""},{"$f":"IF($E69=\"\",\"\",IF(INDEX('E_Tokovi izvora'!$A:$N,EV69,BQ$7)=\"\",\"\",INDEX('E_Tokovi izvora'!$A:$N,EV69,BQ$7)))","v":""},{"$f":"IF($E69=\"\",\"\",IF(INDEX('E_Tokovi izvora'!$A:$N,EW69,BR$7)=\"\",\"\",INDEX('E_Tokovi izvora'!$A:$N,EW69,BR$7)))","v":""},{"$f":"IF($E69=\"\",\"\",IF(INDEX('E_Tokovi izvora'!$A:$N,EX69,BS$7)=\"\",\"\",INDEX('E_Tokovi izvora'!$A:$N,EX69,BS$7)))","v":""},{"$f":"IF($E69=\"\",\"\",IF(INDEX('E_Tokovi izvora'!$A:$N,EY69,BT$7)=\"\",\"\",INDEX('E_Tokovi izvora'!$A:$N,EY69,BT$7)))","v":""},null,null,null,null,null,null,null,null,null,null,null,null,null,null,null,"SourceCategory_",{"$f":"INDEX('C_Opis postrojenja'!$A$226:$A$332,ROWS($CI$11:CI69))=\"ausblenden\"","v":true},"SourceStreamName_",null,3961,3963,3965,3967,3969,3971,3973,3973,3973,3973,3973,3976,3980,3981,3982,3989,3999,3999,3999,3999,3999,3999,3999,3990,4000,4000,4000,4000,4000,4000,4000,3991,4001,4001,4001,4001,4001,4001,4001,3992,4002,4002,4002,4002,4002,4002,4002,3993,4003,4003,4003,4003,4003,4003,4003,3994,4004,4004,4004,4004,4004,4004,4004,4010]
[null,{"$f":"IF(COUNTIF($CK$10:CK70,TRUE)>0,\"\",INDEX('C_Opis postrojenja'!$E$226:$E$242,ROWS($A$11:A70)))","v":""},{"$f":"IF($E70=\"\",\"\",INDEX('C_Opis postrojenja'!F:F,MATCH($B70,'C_Opis postrojenja'!$E:$E,0)))","v":""},{"$f":"IF($E70=\"\",\"\",INDEX('C_Opis postrojenja'!I:I,MATCH($B70,'C_Opis postrojenja'!$E:$E,0)))","v":""},{"$f":"IF($B70=\"\",\"\",INDEX('C_Opis postrojenja'!F:F,MATCH($CJ70,'C_Opis postrojenja'!$Q:$Q,0)))","v":""},{"$f":"IF($E70=\"\",\"\",INDEX('C_Opis postrojenja'!L:L,MATCH($CJ70,'C_Opis postrojenja'!$Q:$Q,0)))","v":""},{"$f":"IF($E70=\"\",\"\",INDEX('C_Opis postrojenja'!M:M,MATCH($CJ70,'C_Opis postrojenja'!$Q:$Q,0)))","v":""},{"$f":"IF($E70=\"\",\"\",INDEX('C_Opis postrojenja'!N:N,MATCH($CJ70,'C_Opis postrojenja'!$Q:$Q,0)))","v":""},{"$f":"IF($E70=\"\",\"\",IF(INDEX('E_Tokovi izvora'!$A:$N,CN70,I$7)=\"\",\"\",INDEX('E_Tokovi izvora'!$A:$N,CN70,I$7)))","v":""},{"$f":"IF($E70=\"\",\"\",IF(INDEX('E_Tokovi izvora'!$A:$N,CO70,J$7)=\"\",\"\",INDEX('E_Tokovi izvora'!$A:$N,CO70,J$7)))","v":""},{"$f":"IF($E70=\"\",\"\",IF(INDEX('E_Tokovi izvora'!$A:$N,CP70,K$7)=\"\",\"\",INDEX('E_Tokovi izvora'!$A:$N,CP70,K$7)))","v":""},{"$f":"IF($E70=\"\",\"\",IF(INDEX('E_Tokovi izvora'!$A:$N,CQ70,L$7)=\"\",\"\",INDEX('E_Tokovi izvora'!$A:$N,CQ70,L$7)))","v":""},{"$f":"IF($E70=\"\",\"\",IF(INDEX('E_Tokovi izvora'!$A:$N,CR70,M$7)=\"\",\"\",INDEX('E_Tokovi izvora'!$A:$N,CR70,M$7)))","v":""},{"$f":"IF($E70=\"\",\"\",IF(INDEX('E_Tokovi izvora'!$A:$N,CS70,N$7)=\"\",\"\",INDEX('E_Tokovi izvora'!$A:$N,CS70,N$7)))","v":""},{"$f":"IF($E70=\"\",\"\",IF(INDEX('E_Tokovi izvora'!$A:$N,CT70,O$7)=\"\",\"\",INDEX('E_Tokovi izvora'!$A:$N,CT70,O$7)))","v":""},{"$f":"IF($E70=\"\",\"\",IF(INDEX('E_Tokovi izvora'!$A:$N,CU70,P$7)=\"\",\"\",INDEX('E_Tokovi izvora'!$A:$N,CU70,P$7)))","v":""},{"$f":"IF($E70=\"\",\"\",IF(INDEX('E_Tokovi izvora'!$A:$N,CV70,Q$7)=\"\",\"\",INDEX('E_Tokovi izvora'!$A:$N,CV70,Q$7)))","v":""},{"$f":"IF($E70=\"\",\"\",IF(INDEX('E_Tokovi izvora'!$A:$N,CW70,R$7)=\"\",\"\",INDEX('E_Tokovi izvora'!$A:$N,CW70,R$7)))","v":""},{"$f":"IF($E70=\"\",\"\",IF(INDEX('E_Tokovi izvora'!$A:$N,CX70,S$7)=\"\",\"\",INDEX('E_Tokovi izvora'!$A:$N,CX70,S$7)))","v":""},{"$f":"IF($E70=\"\",\"\",IF(INDEX('E_Tokovi izvora'!$A:$N,CY70,T$7)=\"\",\"\",INDEX('E_Tokovi izvora'!$A:$N,CY70,T$7)))","v":""},{"$f":"IF($E70=\"\",\"\",IF(INDEX('E_Tokovi izvora'!$A:$N,CZ70,U$7)=\"\",\"\",INDEX('E_Tokovi izvora'!$A:$N,CZ70,U$7)))","v":""},{"$f":"IF($E70=\"\",\"\",IF(INDEX('E_Tokovi izvora'!$A:$N,DA70,V$7)=\"\",\"\",INDEX('E_Tokovi izvora'!$A:$N,DA70,V$7)))","v":""},{"$f":"IF($E70=\"\",\"\",IF(INDEX('E_Tokovi izvora'!$A:$N,DB70,W$7)=\"\",\"\",INDEX('E_Tokovi izvora'!$A:$N,DB70,W$7)))","v":""},{"$f":"IF($E70=\"\",\"\",IF(INDEX('E_Tokovi izvora'!$A:$N,DC70,X$7)=\"\",\"\",INDEX('E_Tokovi izvora'!$A:$N,DC70,X$7)))","v":""},{"$f":"IF($E70=\"\",\"\",IF(INDEX('E_Tokovi izvora'!$A:$N,DD70,Y$7)=\"\",\"\",INDEX('E_Tokovi izvora'!$A:$N,DD70,Y$7)))","v":""},{"$f":"IF($E70=\"\",\"\",IF(INDEX('E_Tokovi izvora'!$A:$N,DE70,Z$7)=\"\",\"\",INDEX('E_Tokovi izvora'!$A:$N,DE70,Z$7)))","v":""},{"$f":"IF($E70=\"\",\"\",IF(INDEX('E_Tokovi izvora'!$A:$N,DF70,AA$7)=\"\",\"\",INDEX('E_Tokovi izvora'!$A:$N,DF70,AA$7)))","v":""},{"$f":"IF($E70=\"\",\"\",IF(INDEX('E_Tokovi izvora'!$A:$N,DG70,AB$7)=\"\",\"\",INDEX('E_Tokovi izvora'!$A:$N,DG70,AB$7)))","v":""},{"$f":"IF($E70=\"\",\"\",IF(INDEX('E_Tokovi izvora'!$A:$N,DH70,AC$7)=\"\",\"\",INDEX('E_Tokovi izvora'!$A:$N,DH70,AC$7)))","v":""},{"$f":"IF($E70=\"\",\"\",IF(INDEX('E_Tokovi izvora'!$A:$N,DI70,AD$7)=\"\",\"\",INDEX('E_Tokovi izvora'!$A:$N,DI70,AD$7)))","v":""},{"$f":"IF($E70=\"\",\"\",IF(INDEX('E_Tokovi izvora'!$A:$N,DJ70,AE$7)=\"\",\"\",INDEX('E_Tokovi izvora'!$A:$N,DJ70,AE$7)))","v":""},{"$f":"IF($E70=\"\",\"\",IF(INDEX('E_Tokovi izvora'!$A:$N,DK70,AF$7)=\"\",\"\",INDEX('E_Tokovi izvora'!$A:$N,DK70,AF$7)))","v":""},{"$f":"IF($E70=\"\",\"\",IF(INDEX('E_Tokovi izvora'!$A:$N,DL70,AG$7)=\"\",\"\",INDEX('E_Tokovi izvora'!$A:$N,DL70,AG$7)))","v":""},{"$f":"IF($E70=\"\",\"\",IF(INDEX('E_Tokovi izvora'!$A:$N,DM70,AH$7)=\"\",\"\",INDEX('E_Tokovi izvora'!$A:$N,DM70,AH$7)))","v":""},{"$f":"IF($E70=\"\",\"\",IF(INDEX('E_Tokovi izvora'!$A:$N,DN70,AI$7)=\"\",\"\",INDEX('E_Tokovi izvora'!$A:$N,DN70,AI$7)))","v":""},{"$f":"IF($E70=\"\",\"\",IF(INDEX('E_Tokovi izvora'!$A:$N,DO70,AJ$7)=\"\",\"\",INDEX('E_Tokovi izvora'!$A:$N,DO70,AJ$7)))","v":""},{"$f":"IF($E70=\"\",\"\",IF(INDEX('E_Tokovi izvora'!$A:$N,DP70,AK$7)=\"\",\"\",INDEX('E_Tokovi izvora'!$A:$N,DP70,AK$7)))","v":""},{"$f":"IF($E70=\"\",\"\",IF(INDEX('E_Tokovi izvora'!$A:$N,DQ70,AL$7)=\"\",\"\",INDEX('E_Tokovi izvora'!$A:$N,DQ70,AL$7)))","v":""},{"$f":"IF($E70=\"\",\"\",IF(INDEX('E_Tokovi izvora'!$A:$N,DR70,AM$7)=\"\",\"\",INDEX('E_Tokovi izvora'!$A:$N,DR70,AM$7)))","v":""},{"$f":"IF($E70=\"\",\"\",IF(INDEX('E_Tokovi izvora'!$A:$N,DS70,AN$7)=\"\",\"\",INDEX('E_Tokovi izvora'!$A:$N,DS70,AN$7)))","v":""},{"$f":"IF($E70=\"\",\"\",IF(INDEX('E_Tokovi izvora'!$A:$N,DT70,AO$7)=\"\",\"\",INDEX('E_Tokovi izvora'!$A:$N,DT70,AO$7)))","v":""},{"$f":"IF($E70=\"\",\"\",IF(INDEX('E_Tokovi izvora'!$A:$N,DU70,AP$7)=\"\",\"\",INDEX('E_Tokovi izvora'!$A:$N,DU70,AP$7)))","v":""},{"$f":"IF($E70=\"\",\"\",IF(INDEX('E_Tokovi izvora'!$A:$N,DV70,AQ$7)=\"\",\"\",INDEX('E_Tokovi izvora'!$A:$N,DV70,AQ$7)))","v":""},{"$f":"IF($E70=\"\",\"\",IF(INDEX('E_Tokovi izvora'!$A:$N,DW70,AR$7)=\"\",\"\",INDEX('E_Tokovi izvora'!$A:$N,DW70,AR$7)))","v":""},{"$f":"IF($E70=\"\",\"\",IF(INDEX('E_Tokovi izvora'!$A:$N,DX70,AS$7)=\"\",\"\",INDEX('E_Tokovi izvora'!$A:$N,DX70,AS$7)))","v":""},{"$f":"IF($E70=\"\",\"\",IF(INDEX('E_Tokovi izvora'!$A:$N,DY70,AT$7)=\"\",\"\",INDEX('E_Tokovi izvora'!$A:$N,DY70,AT$7)))","v":""},{"$f":"IF($E70=\"\",\"\",IF(INDEX('E_Tokovi izvora'!$A:$N,DZ70,AU$7)=\"\",\"\",INDEX('E_Tokovi izvora'!$A:$N,DZ70,AU$7)))","v":""},{"$f":"IF($E70=\"\",\"\",IF(INDEX('E_Tokovi izvora'!$A:$N,EA70,AV$7)=\"\",\"\",INDEX('E_Tokovi izvora'!$A:$N,EA70,AV$7)))","v":""},{"$f":"IF($E70=\"\",\"\",IF(INDEX('E_Tokovi izvora'!$A:$N,EB70,AW$7)=\"\",\"\",INDEX('E_Tokovi izvora'!$A:$N,EB70,AW$7)))","v":""},{"$f":"IF($E70=\"\",\"\",IF(INDEX('E_Tokovi izvora'!$A:$N,EC70,AX$7)=\"\",\"\",INDEX('E_Tokovi izvora'!$A:$N,EC70,AX$7)))","v":""},{"$f":"IF($E70=\"\",\"\",IF(INDEX('E_Tokovi izvora'!$A:$N,ED70,AY$7)=\"\",\"\",INDEX('E_Tokovi izvora'!$A:$N,ED70,AY$7)))","v":""},{"$f":"IF($E70=\"\",\"\",IF(INDEX('E_Tokovi izvora'!$A:$N,EE70,AZ$7)=\"\",\"\",INDEX('E_Tokovi izvora'!$A:$N,EE70,AZ$7)))","v":""},{"$f":"IF($E70=\"\",\"\",IF(INDEX('E_Tokovi izvora'!$A:$N,EF70,BA$7)=\"\",\"\",INDEX('E_Tokovi izvora'!$A:$N,EF70,BA$7)))","v":""},{"$f":"IF($E70=\"\",\"\",IF(INDEX('E_Tokovi izvora'!$A:$N,EG70,BB$7)=\"\",\"\",INDEX('E_Tokovi izvora'!$A:$N,EG70,BB$7)))","v":""},{"$f":"IF($E70=\"\",\"\",IF(INDEX('E_Tokovi izvora'!$A:$N,EH70,BC$7)=\"\",\"\",INDEX('E_Tokovi izvora'!$A:$N,EH70,BC$7)))","v":""},{"$f":"IF($E70=\"\",\"\",IF(INDEX('E_Tokovi izvora'!$A:$N,EI70,BD$7)=\"\",\"\",INDEX('E_Tokovi izvora'!$A:$N,EI70,BD$7)))","v":""},{"$f":"IF($E70=\"\",\"\",IF(INDEX('E_Tokovi izvora'!$A:$N,EJ70,BE$7)=\"\",\"\",INDEX('E_Tokovi izvora'!$A:$N,EJ70,BE$7)))","v":""},{"$f":"IF($E70=\"\",\"\",IF(INDEX('E_Tokovi izvora'!$A:$N,EK70,BF$7)=\"\",\"\",INDEX('E_Tokovi izvora'!$A:$N,EK70,BF$7)))","v":""},{"$f":"IF($E70=\"\",\"\",IF(INDEX('E_Tokovi izvora'!$A:$N,EL70,BG$7)=\"\",\"\",INDEX('E_Tokovi izvora'!$A:$N,EL70,BG$7)))","v":""},{"$f":"IF($E70=\"\",\"\",IF(INDEX('E_Tokovi izvora'!$A:$N,EM70,BH$7)=\"\",\"\",INDEX('E_Tokovi izvora'!$A:$N,EM70,BH$7)))","v":""},{"$f":"IF($E70=\"\",\"\",IF(INDEX('E_Tokovi izvora'!$A:$N,EN70,BI$7)=\"\",\"\",INDEX('E_Tokovi izvora'!$A:$N,EN70,BI$7)))","v":""},{"$f":"IF($E70=\"\",\"\",IF(INDEX('E_Tokovi izvora'!$A:$N,EO70,BJ$7)=\"\",\"\",INDEX('E_Tokovi izvora'!$A:$N,EO70,BJ$7)))","v":""},{"$f":"IF($E70=\"\",\"\",IF(INDEX('E_Tokovi izvora'!$A:$N,EP70,BK$7)=\"\",\"\",INDEX('E_Tokovi izvora'!$A:$N,EP70,BK$7)))","v":""},{"$f":"IF($E70=\"\",\"\",IF(INDEX('E_Tokovi izvora'!$A:$N,EQ70,BL$7)=\"\",\"\",INDEX('E_Tokovi izvora'!$A:$N,EQ70,BL$7)))","v":""},{"$f":"IF($E70=\"\",\"\",IF(INDEX('E_Tokovi izvora'!$A:$N,ER70,BM$7)=\"\",\"\",INDEX('E_Tokovi izvora'!$A:$N,ER70,BM$7)))","v":""},{"$f":"IF($E70=\"\",\"\",IF(INDEX('E_Tokovi izvora'!$A:$N,ES70,BN$7)=\"\",\"\",INDEX('E_Tokovi izvora'!$A:$N,ES70,BN$7)))","v":""},{"$f":"IF($E70=\"\",\"\",IF(INDEX('E_Tokovi izvora'!$A:$N,ET70,BO$7)=\"\",\"\",INDEX('E_Tokovi izvora'!$A:$N,ET70,BO$7)))","v":""},{"$f":"IF($E70=\"\",\"\",IF(INDEX('E_Tokovi izvora'!$A:$N,EU70,BP$7)=\"\",\"\",INDEX('E_Tokovi izvora'!$A:$N,EU70,BP$7)))","v":""},{"$f":"IF($E70=\"\",\"\",IF(INDEX('E_Tokovi izvora'!$A:$N,EV70,BQ$7)=\"\",\"\",INDEX('E_Tokovi izvora'!$A:$N,EV70,BQ$7)))","v":""},{"$f":"IF($E70=\"\",\"\",IF(INDEX('E_Tokovi izvora'!$A:$N,EW70,BR$7)=\"\",\"\",INDEX('E_Tokovi izvora'!$A:$N,EW70,BR$7)))","v":""},{"$f":"IF($E70=\"\",\"\",IF(INDEX('E_Tokovi izvora'!$A:$N,EX70,BS$7)=\"\",\"\",INDEX('E_Tokovi izvora'!$A:$N,EX70,BS$7)))","v":""},{"$f":"IF($E70=\"\",\"\",IF(INDEX('E_Tokovi izvora'!$A:$N,EY70,BT$7)=\"\",\"\",INDEX('E_Tokovi izvora'!$A:$N,EY70,BT$7)))","v":""},null,null,null,null,null,null,null,null,null,null,null,null,null,null,null,"SourceCategory_",{"$f":"INDEX('C_Opis postrojenja'!$A$226:$A$332,ROWS($CI$11:CI70))=\"ausblenden\"","v":true},"SourceStreamName_",null,4027,4029,4031,4033,4035,4037,4039,4039,4039,4039,4039,4042,4046,4047,4048,4055,4065,4065,4065,4065,4065,4065,4065,4056,4066,4066,4066,4066,4066,4066,4066,4057,4067,4067,4067,4067,4067,4067,4067,4058,4068,4068,4068,4068,4068,4068,4068,4059,4069,4069,4069,4069,4069,4069,4069,4060,4070,4070,4070,4070,4070,4070,4070,4076]
[null,{"$f":"IF(COUNTIF($CK$10:CK71,TRUE)>0,\"\",INDEX('C_Opis postrojenja'!$E$226:$E$242,ROWS($A$11:A71)))","v":""},{"$f":"IF($E71=\"\",\"\",INDEX('C_Opis postrojenja'!F:F,MATCH($B71,'C_Opis postrojenja'!$E:$E,0)))","v":""},{"$f":"IF($E71=\"\",\"\",INDEX('C_Opis postrojenja'!I:I,MATCH($B71,'C_Opis postrojenja'!$E:$E,0)))","v":""},{"$f":"IF($B71=\"\",\"\",INDEX('C_Opis postrojenja'!F:F,MATCH($CJ71,'C_Opis postrojenja'!$Q:$Q,0)))","v":""},{"$f":"IF($E71=\"\",\"\",INDEX('C_Opis postrojenja'!L:L,MATCH($CJ71,'C_Opis postrojenja'!$Q:$Q,0)))","v":""},{"$f":"IF($E71=\"\",\"\",INDEX('C_Opis postrojenja'!M:M,MATCH($CJ71,'C_Opis postrojenja'!$Q:$Q,0)))","v":""},{"$f":"IF($E71=\"\",\"\",INDEX('C_Opis postrojenja'!N:N,MATCH($CJ71,'C_Opis postrojenja'!$Q:$Q,0)))","v":""},{"$f":"IF($E71=\"\",\"\",IF(INDEX('E_Tokovi izvora'!$A:$N,CN71,I$7)=\"\",\"\",INDEX('E_Tokovi izvora'!$A:$N,CN71,I$7)))","v":""},{"$f":"IF($E71=\"\",\"\",IF(INDEX('E_Tokovi izvora'!$A:$N,CO71,J$7)=\"\",\"\",INDEX('E_Tokovi izvora'!$A:$N,CO71,J$7)))","v":""},{"$f":"IF($E71=\"\",\"\",IF(INDEX('E_Tokovi izvora'!$A:$N,CP71,K$7)=\"\",\"\",INDEX('E_Tokovi izvora'!$A:$N,CP71,K$7)))","v":""},{"$f":"IF($E71=\"\",\"\",IF(INDEX('E_Tokovi izvora'!$A:$N,CQ71,L$7)=\"\",\"\",INDEX('E_Tokovi izvora'!$A:$N,CQ71,L$7)))","v":""},{"$f":"IF($E71=\"\",\"\",IF(INDEX('E_Tokovi izvora'!$A:$N,CR71,M$7)=\"\",\"\",INDEX('E_Tokovi izvora'!$A:$N,CR71,M$7)))","v":""},{"$f":"IF($E71=\"\",\"\",IF(INDEX('E_Tokovi izvora'!$A:$N,CS71,N$7)=\"\",\"\",INDEX('E_Tokovi izvora'!$A:$N,CS71,N$7)))","v":""},{"$f":"IF($E71=\"\",\"\",IF(INDEX('E_Tokovi izvora'!$A:$N,CT71,O$7)=\"\",\"\",INDEX('E_Tokovi izvora'!$A:$N,CT71,O$7)))","v":""},{"$f":"IF($E71=\"\",\"\",IF(INDEX('E_Tokovi izvora'!$A:$N,CU71,P$7)=\"\",\"\",INDEX('E_Tokovi izvora'!$A:$N,CU71,P$7)))","v":""},{"$f":"IF($E71=\"\",\"\",IF(INDEX('E_Tokovi izvora'!$A:$N,CV71,Q$7)=\"\",\"\",INDEX('E_Tokovi izvora'!$A:$N,CV71,Q$7)))","v":""},{"$f":"IF($E71=\"\",\"\",IF(INDEX('E_Tokovi izvora'!$A:$N,CW71,R$7)=\"\",\"\",INDEX('E_Tokovi izvora'!$A:$N,CW71,R$7)))","v":""},{"$f":"IF($E71=\"\",\"\",IF(INDEX('E_Tokovi izvora'!$A:$N,CX71,S$7)=\"\",\"\",INDEX('E_Tokovi izvora'!$A:$N,CX71,S$7)))","v":""},{"$f":"IF($E71=\"\",\"\",IF(INDEX('E_Tokovi izvora'!$A:$N,CY71,T$7)=\"\",\"\",INDEX('E_Tokovi izvora'!$A:$N,CY71,T$7)))","v":""},{"$f":"IF($E71=\"\",\"\",IF(INDEX('E_Tokovi izvora'!$A:$N,CZ71,U$7)=\"\",\"\",INDEX('E_Tokovi izvora'!$A:$N,CZ71,U$7)))","v":""},{"$f":"IF($E71=\"\",\"\",IF(INDEX('E_Tokovi izvora'!$A:$N,DA71,V$7)=\"\",\"\",INDEX('E_Tokovi izvora'!$A:$N,DA71,V$7)))","v":""},{"$f":"IF($E71=\"\",\"\",IF(INDEX('E_Tokovi izvora'!$A:$N,DB71,W$7)=\"\",\"\",INDEX('E_Tokovi izvora'!$A:$N,DB71,W$7)))","v":""},{"$f":"IF($E71=\"\",\"\",IF(INDEX('E_Tokovi izvora'!$A:$N,DC71,X$7)=\"\",\"\",INDEX('E_Tokovi izvora'!$A:$N,DC71,X$7)))","v":""},{"$f":"IF($E71=\"\",\"\",IF(INDEX('E_Tokovi izvora'!$A:$N,DD71,Y$7)=\"\",\"\",INDEX('E_Tokovi izvora'!$A:$N,DD71,Y$7)))","v":""},{"$f":"IF($E71=\"\",\"\",IF(INDEX('E_Tokovi izvora'!$A:$N,DE71,Z$7)=\"\",\"\",INDEX('E_Tokovi izvora'!$A:$N,DE71,Z$7)))","v":""},{"$f":"IF($E71=\"\",\"\",IF(INDEX('E_Tokovi izvora'!$A:$N,DF71,AA$7)=\"\",\"\",INDEX('E_Tokovi izvora'!$A:$N,DF71,AA$7)))","v":""},{"$f":"IF($E71=\"\",\"\",IF(INDEX('E_Tokovi izvora'!$A:$N,DG71,AB$7)=\"\",\"\",INDEX('E_Tokovi izvora'!$A:$N,DG71,AB$7)))","v":""},{"$f":"IF($E71=\"\",\"\",IF(INDEX('E_Tokovi izvora'!$A:$N,DH71,AC$7)=\"\",\"\",INDEX('E_Tokovi izvora'!$A:$N,DH71,AC$7)))","v":""},{"$f":"IF($E71=\"\",\"\",IF(INDEX('E_Tokovi izvora'!$A:$N,DI71,AD$7)=\"\",\"\",INDEX('E_Tokovi izvora'!$A:$N,DI71,AD$7)))","v":""},{"$f":"IF($E71=\"\",\"\",IF(INDEX('E_Tokovi izvora'!$A:$N,DJ71,AE$7)=\"\",\"\",INDEX('E_Tokovi izvora'!$A:$N,DJ71,AE$7)))","v":""},{"$f":"IF($E71=\"\",\"\",IF(INDEX('E_Tokovi izvora'!$A:$N,DK71,AF$7)=\"\",\"\",INDEX('E_Tokovi izvora'!$A:$N,DK71,AF$7)))","v":""},{"$f":"IF($E71=\"\",\"\",IF(INDEX('E_Tokovi izvora'!$A:$N,DL71,AG$7)=\"\",\"\",INDEX('E_Tokovi izvora'!$A:$N,DL71,AG$7)))","v":""},{"$f":"IF($E71=\"\",\"\",IF(INDEX('E_Tokovi izvora'!$A:$N,DM71,AH$7)=\"\",\"\",INDEX('E_Tokovi izvora'!$A:$N,DM71,AH$7)))","v":""},{"$f":"IF($E71=\"\",\"\",IF(INDEX('E_Tokovi izvora'!$A:$N,DN71,AI$7)=\"\",\"\",INDEX('E_Tokovi izvora'!$A:$N,DN71,AI$7)))","v":""},{"$f":"IF($E71=\"\",\"\",IF(INDEX('E_Tokovi izvora'!$A:$N,DO71,AJ$7)=\"\",\"\",INDEX('E_Tokovi izvora'!$A:$N,DO71,AJ$7)))","v":""},{"$f":"IF($E71=\"\",\"\",IF(INDEX('E_Tokovi izvora'!$A:$N,DP71,AK$7)=\"\",\"\",INDEX('E_Tokovi izvora'!$A:$N,DP71,AK$7)))","v":""},{"$f":"IF($E71=\"\",\"\",IF(INDEX('E_Tokovi izvora'!$A:$N,DQ71,AL$7)=\"\",\"\",INDEX('E_Tokovi izvora'!$A:$N,DQ71,AL$7)))","v":""},{"$f":"IF($E71=\"\",\"\",IF(INDEX('E_Tokovi izvora'!$A:$N,DR71,AM$7)=\"\",\"\",INDEX('E_Tokovi izvora'!$A:$N,DR71,AM$7)))","v":""},{"$f":"IF($E71=\"\",\"\",IF(INDEX('E_Tokovi izvora'!$A:$N,DS71,AN$7)=\"\",\"\",INDEX('E_Tokovi izvora'!$A:$N,DS71,AN$7)))","v":""},{"$f":"IF($E71=\"\",\"\",IF(INDEX('E_Tokovi izvora'!$A:$N,DT71,AO$7)=\"\",\"\",INDEX('E_Tokovi izvora'!$A:$N,DT71,AO$7)))","v":""},{"$f":"IF($E71=\"\",\"\",IF(INDEX('E_Tokovi izvora'!$A:$N,DU71,AP$7)=\"\",\"\",INDEX('E_Tokovi izvora'!$A:$N,DU71,AP$7)))","v":""},{"$f":"IF($E71=\"\",\"\",IF(INDEX('E_Tokovi izvora'!$A:$N,DV71,AQ$7)=\"\",\"\",INDEX('E_Tokovi izvora'!$A:$N,DV71,AQ$7)))","v":""},{"$f":"IF($E71=\"\",\"\",IF(INDEX('E_Tokovi izvora'!$A:$N,DW71,AR$7)=\"\",\"\",INDEX('E_Tokovi izvora'!$A:$N,DW71,AR$7)))","v":""},{"$f":"IF($E71=\"\",\"\",IF(INDEX('E_Tokovi izvora'!$A:$N,DX71,AS$7)=\"\",\"\",INDEX('E_Tokovi izvora'!$A:$N,DX71,AS$7)))","v":""},{"$f":"IF($E71=\"\",\"\",IF(INDEX('E_Tokovi izvora'!$A:$N,DY71,AT$7)=\"\",\"\",INDEX('E_Tokovi izvora'!$A:$N,DY71,AT$7)))","v":""},{"$f":"IF($E71=\"\",\"\",IF(INDEX('E_Tokovi izvora'!$A:$N,DZ71,AU$7)=\"\",\"\",INDEX('E_Tokovi izvora'!$A:$N,DZ71,AU$7)))","v":""},{"$f":"IF($E71=\"\",\"\",IF(INDEX('E_Tokovi izvora'!$A:$N,EA71,AV$7)=\"\",\"\",INDEX('E_Tokovi izvora'!$A:$N,EA71,AV$7)))","v":""},{"$f":"IF($E71=\"\",\"\",IF(INDEX('E_Tokovi izvora'!$A:$N,EB71,AW$7)=\"\",\"\",INDEX('E_Tokovi izvora'!$A:$N,EB71,AW$7)))","v":""},{"$f":"IF($E71=\"\",\"\",IF(INDEX('E_Tokovi izvora'!$A:$N,EC71,AX$7)=\"\",\"\",INDEX('E_Tokovi izvora'!$A:$N,EC71,AX$7)))","v":""},{"$f":"IF($E71=\"\",\"\",IF(INDEX('E_Tokovi izvora'!$A:$N,ED71,AY$7)=\"\",\"\",INDEX('E_Tokovi izvora'!$A:$N,ED71,AY$7)))","v":""},{"$f":"IF($E71=\"\",\"\",IF(INDEX('E_Tokovi izvora'!$A:$N,EE71,AZ$7)=\"\",\"\",INDEX('E_Tokovi izvora'!$A:$N,EE71,AZ$7)))","v":""},{"$f":"IF($E71=\"\",\"\",IF(INDEX('E_Tokovi izvora'!$A:$N,EF71,BA$7)=\"\",\"\",INDEX('E_Tokovi izvora'!$A:$N,EF71,BA$7)))","v":""},{"$f":"IF($E71=\"\",\"\",IF(INDEX('E_Tokovi izvora'!$A:$N,EG71,BB$7)=\"\",\"\",INDEX('E_Tokovi izvora'!$A:$N,EG71,BB$7)))","v":""},{"$f":"IF($E71=\"\",\"\",IF(INDEX('E_Tokovi izvora'!$A:$N,EH71,BC$7)=\"\",\"\",INDEX('E_Tokovi izvora'!$A:$N,EH71,BC$7)))","v":""},{"$f":"IF($E71=\"\",\"\",IF(INDEX('E_Tokovi izvora'!$A:$N,EI71,BD$7)=\"\",\"\",INDEX('E_Tokovi izvora'!$A:$N,EI71,BD$7)))","v":""},{"$f":"IF($E71=\"\",\"\",IF(INDEX('E_Tokovi izvora'!$A:$N,EJ71,BE$7)=\"\",\"\",INDEX('E_Tokovi izvora'!$A:$N,EJ71,BE$7)))","v":""},{"$f":"IF($E71=\"\",\"\",IF(INDEX('E_Tokovi izvora'!$A:$N,EK71,BF$7)=\"\",\"\",INDEX('E_Tokovi izvora'!$A:$N,EK71,BF$7)))","v":""},{"$f":"IF($E71=\"\",\"\",IF(INDEX('E_Tokovi izvora'!$A:$N,EL71,BG$7)=\"\",\"\",INDEX('E_Tokovi izvora'!$A:$N,EL71,BG$7)))","v":""},{"$f":"IF($E71=\"\",\"\",IF(INDEX('E_Tokovi izvora'!$A:$N,EM71,BH$7)=\"\",\"\",INDEX('E_Tokovi izvora'!$A:$N,EM71,BH$7)))","v":""},{"$f":"IF($E71=\"\",\"\",IF(INDEX('E_Tokovi izvora'!$A:$N,EN71,BI$7)=\"\",\"\",INDEX('E_Tokovi izvora'!$A:$N,EN71,BI$7)))","v":""},{"$f":"IF($E71=\"\",\"\",IF(INDEX('E_Tokovi izvora'!$A:$N,EO71,BJ$7)=\"\",\"\",INDEX('E_Tokovi izvora'!$A:$N,EO71,BJ$7)))","v":""},{"$f":"IF($E71=\"\",\"\",IF(INDEX('E_Tokovi izvora'!$A:$N,EP71,BK$7)=\"\",\"\",INDEX('E_Tokovi izvora'!$A:$N,EP71,BK$7)))","v":""},{"$f":"IF($E71=\"\",\"\",IF(INDEX('E_Tokovi izvora'!$A:$N,EQ71,BL$7)=\"\",\"\",INDEX('E_Tokovi izvora'!$A:$N,EQ71,BL$7)))","v":""},{"$f":"IF($E71=\"\",\"\",IF(INDEX('E_Tokovi izvora'!$A:$N,ER71,BM$7)=\"\",\"\",INDEX('E_Tokovi izvora'!$A:$N,ER71,BM$7)))","v":""},{"$f":"IF($E71=\"\",\"\",IF(INDEX('E_Tokovi izvora'!$A:$N,ES71,BN$7)=\"\",\"\",INDEX('E_Tokovi izvora'!$A:$N,ES71,BN$7)))","v":""},{"$f":"IF($E71=\"\",\"\",IF(INDEX('E_Tokovi izvora'!$A:$N,ET71,BO$7)=\"\",\"\",INDEX('E_Tokovi izvora'!$A:$N,ET71,BO$7)))","v":""},{"$f":"IF($E71=\"\",\"\",IF(INDEX('E_Tokovi izvora'!$A:$N,EU71,BP$7)=\"\",\"\",INDEX('E_Tokovi izvora'!$A:$N,EU71,BP$7)))","v":""},{"$f":"IF($E71=\"\",\"\",IF(INDEX('E_Tokovi izvora'!$A:$N,EV71,BQ$7)=\"\",\"\",INDEX('E_Tokovi izvora'!$A:$N,EV71,BQ$7)))","v":""},{"$f":"IF($E71=\"\",\"\",IF(INDEX('E_Tokovi izvora'!$A:$N,EW71,BR$7)=\"\",\"\",INDEX('E_Tokovi izvora'!$A:$N,EW71,BR$7)))","v":""},{"$f":"IF($E71=\"\",\"\",IF(INDEX('E_Tokovi izvora'!$A:$N,EX71,BS$7)=\"\",\"\",INDEX('E_Tokovi izvora'!$A:$N,EX71,BS$7)))","v":""},{"$f":"IF($E71=\"\",\"\",IF(INDEX('E_Tokovi izvora'!$A:$N,EY71,BT$7)=\"\",\"\",INDEX('E_Tokovi izvora'!$A:$N,EY71,BT$7)))","v":""},null,null,null,null,null,null,null,null,null,null,null,null,null,null,null,"SourceCategory_",{"$f":"INDEX('C_Opis postrojenja'!$A$226:$A$332,ROWS($CI$11:CI71))=\"ausblenden\"","v":true},"SourceStreamName_",null,4093,4095,4097,4099,4101,4103,4105,4105,4105,4105,4105,4108,4112,4113,4114,4121,4131,4131,4131,4131,4131,4131,4131,4122,4132,4132,4132,4132,4132,4132,4132,4123,4133,4133,4133,4133,4133,4133,4133,4124,4134,4134,4134,4134,4134,4134,4134,4125,4135,4135,4135,4135,4135,4135,4135,4126,4136,4136,4136,4136,4136,4136,4136,4142]
[null,{"$f":"IF(COUNTIF($CK$10:CK72,TRUE)>0,\"\",INDEX('C_Opis postrojenja'!$E$226:$E$242,ROWS($A$11:A72)))","v":""},{"$f":"IF($E72=\"\",\"\",INDEX('C_Opis postrojenja'!F:F,MATCH($B72,'C_Opis postrojenja'!$E:$E,0)))","v":""},{"$f":"IF($E72=\"\",\"\",INDEX('C_Opis postrojenja'!I:I,MATCH($B72,'C_Opis postrojenja'!$E:$E,0)))","v":""},{"$f":"IF($B72=\"\",\"\",INDEX('C_Opis postrojenja'!F:F,MATCH($CJ72,'C_Opis postrojenja'!$Q:$Q,0)))","v":""},{"$f":"IF($E72=\"\",\"\",INDEX('C_Opis postrojenja'!L:L,MATCH($CJ72,'C_Opis postrojenja'!$Q:$Q,0)))","v":""},{"$f":"IF($E72=\"\",\"\",INDEX('C_Opis postrojenja'!M:M,MATCH($CJ72,'C_Opis postrojenja'!$Q:$Q,0)))","v":""},{"$f":"IF($E72=\"\",\"\",INDEX('C_Opis postrojenja'!N:N,MATCH($CJ72,'C_Opis postrojenja'!$Q:$Q,0)))","v":""},{"$f":"IF($E72=\"\",\"\",IF(INDEX('E_Tokovi izvora'!$A:$N,CN72,I$7)=\"\",\"\",INDEX('E_Tokovi izvora'!$A:$N,CN72,I$7)))","v":""},{"$f":"IF($E72=\"\",\"\",IF(INDEX('E_Tokovi izvora'!$A:$N,CO72,J$7)=\"\",\"\",INDEX('E_Tokovi izvora'!$A:$N,CO72,J$7)))","v":""},{"$f":"IF($E72=\"\",\"\",IF(INDEX('E_Tokovi izvora'!$A:$N,CP72,K$7)=\"\",\"\",INDEX('E_Tokovi izvora'!$A:$N,CP72,K$7)))","v":""},{"$f":"IF($E72=\"\",\"\",IF(INDEX('E_Tokovi izvora'!$A:$N,CQ72,L$7)=\"\",\"\",INDEX('E_Tokovi izvora'!$A:$N,CQ72,L$7)))","v":""},{"$f":"IF($E72=\"\",\"\",IF(INDEX('E_Tokovi izvora'!$A:$N,CR72,M$7)=\"\",\"\",INDEX('E_Tokovi izvora'!$A:$N,CR72,M$7)))","v":""},{"$f":"IF($E72=\"\",\"\",IF(INDEX('E_Tokovi izvora'!$A:$N,CS72,N$7)=\"\",\"\",INDEX('E_Tokovi izvora'!$A:$N,CS72,N$7)))","v":""},{"$f":"IF($E72=\"\",\"\",IF(INDEX('E_Tokovi izvora'!$A:$N,CT72,O$7)=\"\",\"\",INDEX('E_Tokovi izvora'!$A:$N,CT72,O$7)))","v":""},{"$f":"IF($E72=\"\",\"\",IF(INDEX('E_Tokovi izvora'!$A:$N,CU72,P$7)=\"\",\"\",INDEX('E_Tokovi izvora'!$A:$N,CU72,P$7)))","v":""},{"$f":"IF($E72=\"\",\"\",IF(INDEX('E_Tokovi izvora'!$A:$N,CV72,Q$7)=\"\",\"\",INDEX('E_Tokovi izvora'!$A:$N,CV72,Q$7)))","v":""},{"$f":"IF($E72=\"\",\"\",IF(INDEX('E_Tokovi izvora'!$A:$N,CW72,R$7)=\"\",\"\",INDEX('E_Tokovi izvora'!$A:$N,CW72,R$7)))","v":""},{"$f":"IF($E72=\"\",\"\",IF(INDEX('E_Tokovi izvora'!$A:$N,CX72,S$7)=\"\",\"\",INDEX('E_Tokovi izvora'!$A:$N,CX72,S$7)))","v":""},{"$f":"IF($E72=\"\",\"\",IF(INDEX('E_Tokovi izvora'!$A:$N,CY72,T$7)=\"\",\"\",INDEX('E_Tokovi izvora'!$A:$N,CY72,T$7)))","v":""},{"$f":"IF($E72=\"\",\"\",IF(INDEX('E_Tokovi izvora'!$A:$N,CZ72,U$7)=\"\",\"\",INDEX('E_Tokovi izvora'!$A:$N,CZ72,U$7)))","v":""},{"$f":"IF($E72=\"\",\"\",IF(INDEX('E_Tokovi izvora'!$A:$N,DA72,V$7)=\"\",\"\",INDEX('E_Tokovi izvora'!$A:$N,DA72,V$7)))","v":""},{"$f":"IF($E72=\"\",\"\",IF(INDEX('E_Tokovi izvora'!$A:$N,DB72,W$7)=\"\",\"\",INDEX('E_Tokovi izvora'!$A:$N,DB72,W$7)))","v":""},{"$f":"IF($E72=\"\",\"\",IF(INDEX('E_Tokovi izvora'!$A:$N,DC72,X$7)=\"\",\"\",INDEX('E_Tokovi izvora'!$A:$N,DC72,X$7)))","v":""},{"$f":"IF($E72=\"\",\"\",IF(INDEX('E_Tokovi izvora'!$A:$N,DD72,Y$7)=\"\",\"\",INDEX('E_Tokovi izvora'!$A:$N,DD72,Y$7)))","v":""},{"$f":"IF($E72=\"\",\"\",IF(INDEX('E_Tokovi izvora'!$A:$N,DE72,Z$7)=\"\",\"\",INDEX('E_Tokovi izvora'!$A:$N,DE72,Z$7)))","v":""},{"$f":"IF($E72=\"\",\"\",IF(INDEX('E_Tokovi izvora'!$A:$N,DF72,AA$7)=\"\",\"\",INDEX('E_Tokovi izvora'!$A:$N,DF72,AA$7)))","v":""},{"$f":"IF($E72=\"\",\"\",IF(INDEX('E_Tokovi izvora'!$A:$N,DG72,AB$7)=\"\",\"\",INDEX('E_Tokovi izvora'!$A:$N,DG72,AB$7)))","v":""},{"$f":"IF($E72=\"\",\"\",IF(INDEX('E_Tokovi izvora'!$A:$N,DH72,AC$7)=\"\",\"\",INDEX('E_Tokovi izvora'!$A:$N,DH72,AC$7)))","v":""},{"$f":"IF($E72=\"\",\"\",IF(INDEX('E_Tokovi izvora'!$A:$N,DI72,AD$7)=\"\",\"\",INDEX('E_Tokovi izvora'!$A:$N,DI72,AD$7)))","v":""},{"$f":"IF($E72=\"\",\"\",IF(INDEX('E_Tokovi izvora'!$A:$N,DJ72,AE$7)=\"\",\"\",INDEX('E_Tokovi izvora'!$A:$N,DJ72,AE$7)))","v":""},{"$f":"IF($E72=\"\",\"\",IF(INDEX('E_Tokovi izvora'!$A:$N,DK72,AF$7)=\"\",\"\",INDEX('E_Tokovi izvora'!$A:$N,DK72,AF$7)))","v":""},{"$f":"IF($E72=\"\",\"\",IF(INDEX('E_Tokovi izvora'!$A:$N,DL72,AG$7)=\"\",\"\",INDEX('E_Tokovi izvora'!$A:$N,DL72,AG$7)))","v":""},{"$f":"IF($E72=\"\",\"\",IF(INDEX('E_Tokovi izvora'!$A:$N,DM72,AH$7)=\"\",\"\",INDEX('E_Tokovi izvora'!$A:$N,DM72,AH$7)))","v":""},{"$f":"IF($E72=\"\",\"\",IF(INDEX('E_Tokovi izvora'!$A:$N,DN72,AI$7)=\"\",\"\",INDEX('E_Tokovi izvora'!$A:$N,DN72,AI$7)))","v":""},{"$f":"IF($E72=\"\",\"\",IF(INDEX('E_Tokovi izvora'!$A:$N,DO72,AJ$7)=\"\",\"\",INDEX('E_Tokovi izvora'!$A:$N,DO72,AJ$7)))","v":""},{"$f":"IF($E72=\"\",\"\",IF(INDEX('E_Tokovi izvora'!$A:$N,DP72,AK$7)=\"\",\"\",INDEX('E_Tokovi izvora'!$A:$N,DP72,AK$7)))","v":""},{"$f":"IF($E72=\"\",\"\",IF(INDEX('E_Tokovi izvora'!$A:$N,DQ72,AL$7)=\"\",\"\",INDEX('E_Tokovi izvora'!$A:$N,DQ72,AL$7)))","v":""},{"$f":"IF($E72=\"\",\"\",IF(INDEX('E_Tokovi izvora'!$A:$N,DR72,AM$7)=\"\",\"\",INDEX('E_Tokovi izvora'!$A:$N,DR72,AM$7)))","v":""},{"$f":"IF($E72=\"\",\"\",IF(INDEX('E_Tokovi izvora'!$A:$N,DS72,AN$7)=\"\",\"\",INDEX('E_Tokovi izvora'!$A:$N,DS72,AN$7)))","v":""},{"$f":"IF($E72=\"\",\"\",IF(INDEX('E_Tokovi izvora'!$A:$N,DT72,AO$7)=\"\",\"\",INDEX('E_Tokovi izvora'!$A:$N,DT72,AO$7)))","v":""},{"$f":"IF($E72=\"\",\"\",IF(INDEX('E_Tokovi izvora'!$A:$N,DU72,AP$7)=\"\",\"\",INDEX('E_Tokovi izvora'!$A:$N,DU72,AP$7)))","v":""},{"$f":"IF($E72=\"\",\"\",IF(INDEX('E_Tokovi izvora'!$A:$N,DV72,AQ$7)=\"\",\"\",INDEX('E_Tokovi izvora'!$A:$N,DV72,AQ$7)))","v":""},{"$f":"IF($E72=\"\",\"\",IF(INDEX('E_Tokovi izvora'!$A:$N,DW72,AR$7)=\"\",\"\",INDEX('E_Tokovi izvora'!$A:$N,DW72,AR$7)))","v":""},{"$f":"IF($E72=\"\",\"\",IF(INDEX('E_Tokovi izvora'!$A:$N,DX72,AS$7)=\"\",\"\",INDEX('E_Tokovi izvora'!$A:$N,DX72,AS$7)))","v":""},{"$f":"IF($E72=\"\",\"\",IF(INDEX('E_Tokovi izvora'!$A:$N,DY72,AT$7)=\"\",\"\",INDEX('E_Tokovi izvora'!$A:$N,DY72,AT$7)))","v":""},{"$f":"IF($E72=\"\",\"\",IF(INDEX('E_Tokovi izvora'!$A:$N,DZ72,AU$7)=\"\",\"\",INDEX('E_Tokovi izvora'!$A:$N,DZ72,AU$7)))","v":""},{"$f":"IF($E72=\"\",\"\",IF(INDEX('E_Tokovi izvora'!$A:$N,EA72,AV$7)=\"\",\"\",INDEX('E_Tokovi izvora'!$A:$N,EA72,AV$7)))","v":""},{"$f":"IF($E72=\"\",\"\",IF(INDEX('E_Tokovi izvora'!$A:$N,EB72,AW$7)=\"\",\"\",INDEX('E_Tokovi izvora'!$A:$N,EB72,AW$7)))","v":""},{"$f":"IF($E72=\"\",\"\",IF(INDEX('E_Tokovi izvora'!$A:$N,EC72,AX$7)=\"\",\"\",INDEX('E_Tokovi izvora'!$A:$N,EC72,AX$7)))","v":""},{"$f":"IF($E72=\"\",\"\",IF(INDEX('E_Tokovi izvora'!$A:$N,ED72,AY$7)=\"\",\"\",INDEX('E_Tokovi izvora'!$A:$N,ED72,AY$7)))","v":""},{"$f":"IF($E72=\"\",\"\",IF(INDEX('E_Tokovi izvora'!$A:$N,EE72,AZ$7)=\"\",\"\",INDEX('E_Tokovi izvora'!$A:$N,EE72,AZ$7)))","v":""},{"$f":"IF($E72=\"\",\"\",IF(INDEX('E_Tokovi izvora'!$A:$N,EF72,BA$7)=\"\",\"\",INDEX('E_Tokovi izvora'!$A:$N,EF72,BA$7)))","v":""},{"$f":"IF($E72=\"\",\"\",IF(INDEX('E_Tokovi izvora'!$A:$N,EG72,BB$7)=\"\",\"\",INDEX('E_Tokovi izvora'!$A:$N,EG72,BB$7)))","v":""},{"$f":"IF($E72=\"\",\"\",IF(INDEX('E_Tokovi izvora'!$A:$N,EH72,BC$7)=\"\",\"\",INDEX('E_Tokovi izvora'!$A:$N,EH72,BC$7)))","v":""},{"$f":"IF($E72=\"\",\"\",IF(INDEX('E_Tokovi izvora'!$A:$N,EI72,BD$7)=\"\",\"\",INDEX('E_Tokovi izvora'!$A:$N,EI72,BD$7)))","v":""},{"$f":"IF($E72=\"\",\"\",IF(INDEX('E_Tokovi izvora'!$A:$N,EJ72,BE$7)=\"\",\"\",INDEX('E_Tokovi izvora'!$A:$N,EJ72,BE$7)))","v":""},{"$f":"IF($E72=\"\",\"\",IF(INDEX('E_Tokovi izvora'!$A:$N,EK72,BF$7)=\"\",\"\",INDEX('E_Tokovi izvora'!$A:$N,EK72,BF$7)))","v":""},{"$f":"IF($E72=\"\",\"\",IF(INDEX('E_Tokovi izvora'!$A:$N,EL72,BG$7)=\"\",\"\",INDEX('E_Tokovi izvora'!$A:$N,EL72,BG$7)))","v":""},{"$f":"IF($E72=\"\",\"\",IF(INDEX('E_Tokovi izvora'!$A:$N,EM72,BH$7)=\"\",\"\",INDEX('E_Tokovi izvora'!$A:$N,EM72,BH$7)))","v":""},{"$f":"IF($E72=\"\",\"\",IF(INDEX('E_Tokovi izvora'!$A:$N,EN72,BI$7)=\"\",\"\",INDEX('E_Tokovi izvora'!$A:$N,EN72,BI$7)))","v":""},{"$f":"IF($E72=\"\",\"\",IF(INDEX('E_Tokovi izvora'!$A:$N,EO72,BJ$7)=\"\",\"\",INDEX('E_Tokovi izvora'!$A:$N,EO72,BJ$7)))","v":""},{"$f":"IF($E72=\"\",\"\",IF(INDEX('E_Tokovi izvora'!$A:$N,EP72,BK$7)=\"\",\"\",INDEX('E_Tokovi izvora'!$A:$N,EP72,BK$7)))","v":""},{"$f":"IF($E72=\"\",\"\",IF(INDEX('E_Tokovi izvora'!$A:$N,EQ72,BL$7)=\"\",\"\",INDEX('E_Tokovi izvora'!$A:$N,EQ72,BL$7)))","v":""},{"$f":"IF($E72=\"\",\"\",IF(INDEX('E_Tokovi izvora'!$A:$N,ER72,BM$7)=\"\",\"\",INDEX('E_Tokovi izvora'!$A:$N,ER72,BM$7)))","v":""},{"$f":"IF($E72=\"\",\"\",IF(INDEX('E_Tokovi izvora'!$A:$N,ES72,BN$7)=\"\",\"\",INDEX('E_Tokovi izvora'!$A:$N,ES72,BN$7)))","v":""},{"$f":"IF($E72=\"\",\"\",IF(INDEX('E_Tokovi izvora'!$A:$N,ET72,BO$7)=\"\",\"\",INDEX('E_Tokovi izvora'!$A:$N,ET72,BO$7)))","v":""},{"$f":"IF($E72=\"\",\"\",IF(INDEX('E_Tokovi izvora'!$A:$N,EU72,BP$7)=\"\",\"\",INDEX('E_Tokovi izvora'!$A:$N,EU72,BP$7)))","v":""},{"$f":"IF($E72=\"\",\"\",IF(INDEX('E_Tokovi izvora'!$A:$N,EV72,BQ$7)=\"\",\"\",INDEX('E_Tokovi izvora'!$A:$N,EV72,BQ$7)))","v":""},{"$f":"IF($E72=\"\",\"\",IF(INDEX('E_Tokovi izvora'!$A:$N,EW72,BR$7)=\"\",\"\",INDEX('E_Tokovi izvora'!$A:$N,EW72,BR$7)))","v":""},{"$f":"IF($E72=\"\",\"\",IF(INDEX('E_Tokovi izvora'!$A:$N,EX72,BS$7)=\"\",\"\",INDEX('E_Tokovi izvora'!$A:$N,EX72,BS$7)))","v":""},{"$f":"IF($E72=\"\",\"\",IF(INDEX('E_Tokovi izvora'!$A:$N,EY72,BT$7)=\"\",\"\",INDEX('E_Tokovi izvora'!$A:$N,EY72,BT$7)))","v":""},null,null,null,null,null,null,null,null,null,null,null,null,null,null,null,"SourceCategory_",{"$f":"INDEX('C_Opis postrojenja'!$A$226:$A$332,ROWS($CI$11:CI72))=\"ausblenden\"","v":true},"SourceStreamName_",null,4159,4161,4163,4165,4167,4169,4171,4171,4171,4171,4171,4174,4178,4179,4180,4187,4197,4197,4197,4197,4197,4197,4197,4188,4198,4198,4198,4198,4198,4198,4198,4189,4199,4199,4199,4199,4199,4199,4199,4190,4200,4200,4200,4200,4200,4200,4200,4191,4201,4201,4201,4201,4201,4201,4201,4192,4202,4202,4202,4202,4202,4202,4202,4208]
[null,{"$f":"IF(COUNTIF($CK$10:CK73,TRUE)>0,\"\",INDEX('C_Opis postrojenja'!$E$226:$E$242,ROWS($A$11:A73)))","v":""},{"$f":"IF($E73=\"\",\"\",INDEX('C_Opis postrojenja'!F:F,MATCH($B73,'C_Opis postrojenja'!$E:$E,0)))","v":""},{"$f":"IF($E73=\"\",\"\",INDEX('C_Opis postrojenja'!I:I,MATCH($B73,'C_Opis postrojenja'!$E:$E,0)))","v":""},{"$f":"IF($B73=\"\",\"\",INDEX('C_Opis postrojenja'!F:F,MATCH($CJ73,'C_Opis postrojenja'!$Q:$Q,0)))","v":""},{"$f":"IF($E73=\"\",\"\",INDEX('C_Opis postrojenja'!L:L,MATCH($CJ73,'C_Opis postrojenja'!$Q:$Q,0)))","v":""},{"$f":"IF($E73=\"\",\"\",INDEX('C_Opis postrojenja'!M:M,MATCH($CJ73,'C_Opis postrojenja'!$Q:$Q,0)))","v":""},{"$f":"IF($E73=\"\",\"\",INDEX('C_Opis postrojenja'!N:N,MATCH($CJ73,'C_Opis postrojenja'!$Q:$Q,0)))","v":""},{"$f":"IF($E73=\"\",\"\",IF(INDEX('E_Tokovi izvora'!$A:$N,CN73,I$7)=\"\",\"\",INDEX('E_Tokovi izvora'!$A:$N,CN73,I$7)))","v":""},{"$f":"IF($E73=\"\",\"\",IF(INDEX('E_Tokovi izvora'!$A:$N,CO73,J$7)=\"\",\"\",INDEX('E_Tokovi izvora'!$A:$N,CO73,J$7)))","v":""},{"$f":"IF($E73=\"\",\"\",IF(INDEX('E_Tokovi izvora'!$A:$N,CP73,K$7)=\"\",\"\",INDEX('E_Tokovi izvora'!$A:$N,CP73,K$7)))","v":""},{"$f":"IF($E73=\"\",\"\",IF(INDEX('E_Tokovi izvora'!$A:$N,CQ73,L$7)=\"\",\"\",INDEX('E_Tokovi izvora'!$A:$N,CQ73,L$7)))","v":""},{"$f":"IF($E73=\"\",\"\",IF(INDEX('E_Tokovi izvora'!$A:$N,CR73,M$7)=\"\",\"\",INDEX('E_Tokovi izvora'!$A:$N,CR73,M$7)))","v":""},{"$f":"IF($E73=\"\",\"\",IF(INDEX('E_Tokovi izvora'!$A:$N,CS73,N$7)=\"\",\"\",INDEX('E_Tokovi izvora'!$A:$N,CS73,N$7)))","v":""},{"$f":"IF($E73=\"\",\"\",IF(INDEX('E_Tokovi izvora'!$A:$N,CT73,O$7)=\"\",\"\",INDEX('E_Tokovi izvora'!$A:$N,CT73,O$7)))","v":""},{"$f":"IF($E73=\"\",\"\",IF(INDEX('E_Tokovi izvora'!$A:$N,CU73,P$7)=\"\",\"\",INDEX('E_Tokovi izvora'!$A:$N,CU73,P$7)))","v":""},{"$f":"IF($E73=\"\",\"\",IF(INDEX('E_Tokovi izvora'!$A:$N,CV73,Q$7)=\"\",\"\",INDEX('E_Tokovi izvora'!$A:$N,CV73,Q$7)))","v":""},{"$f":"IF($E73=\"\",\"\",IF(INDEX('E_Tokovi izvora'!$A:$N,CW73,R$7)=\"\",\"\",INDEX('E_Tokovi izvora'!$A:$N,CW73,R$7)))","v":""},{"$f":"IF($E73=\"\",\"\",IF(INDEX('E_Tokovi izvora'!$A:$N,CX73,S$7)=\"\",\"\",INDEX('E_Tokovi izvora'!$A:$N,CX73,S$7)))","v":""},{"$f":"IF($E73=\"\",\"\",IF(INDEX('E_Tokovi izvora'!$A:$N,CY73,T$7)=\"\",\"\",INDEX('E_Tokovi izvora'!$A:$N,CY73,T$7)))","v":""},{"$f":"IF($E73=\"\",\"\",IF(INDEX('E_Tokovi izvora'!$A:$N,CZ73,U$7)=\"\",\"\",INDEX('E_Tokovi izvora'!$A:$N,CZ73,U$7)))","v":""},{"$f":"IF($E73=\"\",\"\",IF(INDEX('E_Tokovi izvora'!$A:$N,DA73,V$7)=\"\",\"\",INDEX('E_Tokovi izvora'!$A:$N,DA73,V$7)))","v":""},{"$f":"IF($E73=\"\",\"\",IF(INDEX('E_Tokovi izvora'!$A:$N,DB73,W$7)=\"\",\"\",INDEX('E_Tokovi izvora'!$A:$N,DB73,W$7)))","v":""},{"$f":"IF($E73=\"\",\"\",IF(INDEX('E_Tokovi izvora'!$A:$N,DC73,X$7)=\"\",\"\",INDEX('E_Tokovi izvora'!$A:$N,DC73,X$7)))","v":""},{"$f":"IF($E73=\"\",\"\",IF(INDEX('E_Tokovi izvora'!$A:$N,DD73,Y$7)=\"\",\"\",INDEX('E_Tokovi izvora'!$A:$N,DD73,Y$7)))","v":""},{"$f":"IF($E73=\"\",\"\",IF(INDEX('E_Tokovi izvora'!$A:$N,DE73,Z$7)=\"\",\"\",INDEX('E_Tokovi izvora'!$A:$N,DE73,Z$7)))","v":""},{"$f":"IF($E73=\"\",\"\",IF(INDEX('E_Tokovi izvora'!$A:$N,DF73,AA$7)=\"\",\"\",INDEX('E_Tokovi izvora'!$A:$N,DF73,AA$7)))","v":""},{"$f":"IF($E73=\"\",\"\",IF(INDEX('E_Tokovi izvora'!$A:$N,DG73,AB$7)=\"\",\"\",INDEX('E_Tokovi izvora'!$A:$N,DG73,AB$7)))","v":""},{"$f":"IF($E73=\"\",\"\",IF(INDEX('E_Tokovi izvora'!$A:$N,DH73,AC$7)=\"\",\"\",INDEX('E_Tokovi izvora'!$A:$N,DH73,AC$7)))","v":""},{"$f":"IF($E73=\"\",\"\",IF(INDEX('E_Tokovi izvora'!$A:$N,DI73,AD$7)=\"\",\"\",INDEX('E_Tokovi izvora'!$A:$N,DI73,AD$7)))","v":""},{"$f":"IF($E73=\"\",\"\",IF(INDEX('E_Tokovi izvora'!$A:$N,DJ73,AE$7)=\"\",\"\",INDEX('E_Tokovi izvora'!$A:$N,DJ73,AE$7)))","v":""},{"$f":"IF($E73=\"\",\"\",IF(INDEX('E_Tokovi izvora'!$A:$N,DK73,AF$7)=\"\",\"\",INDEX('E_Tokovi izvora'!$A:$N,DK73,AF$7)))","v":""},{"$f":"IF($E73=\"\",\"\",IF(INDEX('E_Tokovi izvora'!$A:$N,DL73,AG$7)=\"\",\"\",INDEX('E_Tokovi izvora'!$A:$N,DL73,AG$7)))","v":""},{"$f":"IF($E73=\"\",\"\",IF(INDEX('E_Tokovi izvora'!$A:$N,DM73,AH$7)=\"\",\"\",INDEX('E_Tokovi izvora'!$A:$N,DM73,AH$7)))","v":""},{"$f":"IF($E73=\"\",\"\",IF(INDEX('E_Tokovi izvora'!$A:$N,DN73,AI$7)=\"\",\"\",INDEX('E_Tokovi izvora'!$A:$N,DN73,AI$7)))","v":""},{"$f":"IF($E73=\"\",\"\",IF(INDEX('E_Tokovi izvora'!$A:$N,DO73,AJ$7)=\"\",\"\",INDEX('E_Tokovi izvora'!$A:$N,DO73,AJ$7)))","v":""},{"$f":"IF($E73=\"\",\"\",IF(INDEX('E_Tokovi izvora'!$A:$N,DP73,AK$7)=\"\",\"\",INDEX('E_Tokovi izvora'!$A:$N,DP73,AK$7)))","v":""},{"$f":"IF($E73=\"\",\"\",IF(INDEX('E_Tokovi izvora'!$A:$N,DQ73,AL$7)=\"\",\"\",INDEX('E_Tokovi izvora'!$A:$N,DQ73,AL$7)))","v":""},{"$f":"IF($E73=\"\",\"\",IF(INDEX('E_Tokovi izvora'!$A:$N,DR73,AM$7)=\"\",\"\",INDEX('E_Tokovi izvora'!$A:$N,DR73,AM$7)))","v":""},{"$f":"IF($E73=\"\",\"\",IF(INDEX('E_Tokovi izvora'!$A:$N,DS73,AN$7)=\"\",\"\",INDEX('E_Tokovi izvora'!$A:$N,DS73,AN$7)))","v":""},{"$f":"IF($E73=\"\",\"\",IF(INDEX('E_Tokovi izvora'!$A:$N,DT73,AO$7)=\"\",\"\",INDEX('E_Tokovi izvora'!$A:$N,DT73,AO$7)))","v":""},{"$f":"IF($E73=\"\",\"\",IF(INDEX('E_Tokovi izvora'!$A:$N,DU73,AP$7)=\"\",\"\",INDEX('E_Tokovi izvora'!$A:$N,DU73,AP$7)))","v":""},{"$f":"IF($E73=\"\",\"\",IF(INDEX('E_Tokovi izvora'!$A:$N,DV73,AQ$7)=\"\",\"\",INDEX('E_Tokovi izvora'!$A:$N,DV73,AQ$7)))","v":""},{"$f":"IF($E73=\"\",\"\",IF(INDEX('E_Tokovi izvora'!$A:$N,DW73,AR$7)=\"\",\"\",INDEX('E_Tokovi izvora'!$A:$N,DW73,AR$7)))","v":""},{"$f":"IF($E73=\"\",\"\",IF(INDEX('E_Tokovi izvora'!$A:$N,DX73,AS$7)=\"\",\"\",INDEX('E_Tokovi izvora'!$A:$N,DX73,AS$7)))","v":""},{"$f":"IF($E73=\"\",\"\",IF(INDEX('E_Tokovi izvora'!$A:$N,DY73,AT$7)=\"\",\"\",INDEX('E_Tokovi izvora'!$A:$N,DY73,AT$7)))","v":""},{"$f":"IF($E73=\"\",\"\",IF(INDEX('E_Tokovi izvora'!$A:$N,DZ73,AU$7)=\"\",\"\",INDEX('E_Tokovi izvora'!$A:$N,DZ73,AU$7)))","v":""},{"$f":"IF($E73=\"\",\"\",IF(INDEX('E_Tokovi izvora'!$A:$N,EA73,AV$7)=\"\",\"\",INDEX('E_Tokovi izvora'!$A:$N,EA73,AV$7)))","v":""},{"$f":"IF($E73=\"\",\"\",IF(INDEX('E_Tokovi izvora'!$A:$N,EB73,AW$7)=\"\",\"\",INDEX('E_Tokovi izvora'!$A:$N,EB73,AW$7)))","v":""},{"$f":"IF($E73=\"\",\"\",IF(INDEX('E_Tokovi izvora'!$A:$N,EC73,AX$7)=\"\",\"\",INDEX('E_Tokovi izvora'!$A:$N,EC73,AX$7)))","v":""},{"$f":"IF($E73=\"\",\"\",IF(INDEX('E_Tokovi izvora'!$A:$N,ED73,AY$7)=\"\",\"\",INDEX('E_Tokovi izvora'!$A:$N,ED73,AY$7)))","v":""},{"$f":"IF($E73=\"\",\"\",IF(INDEX('E_Tokovi izvora'!$A:$N,EE73,AZ$7)=\"\",\"\",INDEX('E_Tokovi izvora'!$A:$N,EE73,AZ$7)))","v":""},{"$f":"IF($E73=\"\",\"\",IF(INDEX('E_Tokovi izvora'!$A:$N,EF73,BA$7)=\"\",\"\",INDEX('E_Tokovi izvora'!$A:$N,EF73,BA$7)))","v":""},{"$f":"IF($E73=\"\",\"\",IF(INDEX('E_Tokovi izvora'!$A:$N,EG73,BB$7)=\"\",\"\",INDEX('E_Tokovi izvora'!$A:$N,EG73,BB$7)))","v":""},{"$f":"IF($E73=\"\",\"\",IF(INDEX('E_Tokovi izvora'!$A:$N,EH73,BC$7)=\"\",\"\",INDEX('E_Tokovi izvora'!$A:$N,EH73,BC$7)))","v":""},{"$f":"IF($E73=\"\",\"\",IF(INDEX('E_Tokovi izvora'!$A:$N,EI73,BD$7)=\"\",\"\",INDEX('E_Tokovi izvora'!$A:$N,EI73,BD$7)))","v":""},{"$f":"IF($E73=\"\",\"\",IF(INDEX('E_Tokovi izvora'!$A:$N,EJ73,BE$7)=\"\",\"\",INDEX('E_Tokovi izvora'!$A:$N,EJ73,BE$7)))","v":""},{"$f":"IF($E73=\"\",\"\",IF(INDEX('E_Tokovi izvora'!$A:$N,EK73,BF$7)=\"\",\"\",INDEX('E_Tokovi izvora'!$A:$N,EK73,BF$7)))","v":""},{"$f":"IF($E73=\"\",\"\",IF(INDEX('E_Tokovi izvora'!$A:$N,EL73,BG$7)=\"\",\"\",INDEX('E_Tokovi izvora'!$A:$N,EL73,BG$7)))","v":""},{"$f":"IF($E73=\"\",\"\",IF(INDEX('E_Tokovi izvora'!$A:$N,EM73,BH$7)=\"\",\"\",INDEX('E_Tokovi izvora'!$A:$N,EM73,BH$7)))","v":""},{"$f":"IF($E73=\"\",\"\",IF(INDEX('E_Tokovi izvora'!$A:$N,EN73,BI$7)=\"\",\"\",INDEX('E_Tokovi izvora'!$A:$N,EN73,BI$7)))","v":""},{"$f":"IF($E73=\"\",\"\",IF(INDEX('E_Tokovi izvora'!$A:$N,EO73,BJ$7)=\"\",\"\",INDEX('E_Tokovi izvora'!$A:$N,EO73,BJ$7)))","v":""},{"$f":"IF($E73=\"\",\"\",IF(INDEX('E_Tokovi izvora'!$A:$N,EP73,BK$7)=\"\",\"\",INDEX('E_Tokovi izvora'!$A:$N,EP73,BK$7)))","v":""},{"$f":"IF($E73=\"\",\"\",IF(INDEX('E_Tokovi izvora'!$A:$N,EQ73,BL$7)=\"\",\"\",INDEX('E_Tokovi izvora'!$A:$N,EQ73,BL$7)))","v":""},{"$f":"IF($E73=\"\",\"\",IF(INDEX('E_Tokovi izvora'!$A:$N,ER73,BM$7)=\"\",\"\",INDEX('E_Tokovi izvora'!$A:$N,ER73,BM$7)))","v":""},{"$f":"IF($E73=\"\",\"\",IF(INDEX('E_Tokovi izvora'!$A:$N,ES73,BN$7)=\"\",\"\",INDEX('E_Tokovi izvora'!$A:$N,ES73,BN$7)))","v":""},{"$f":"IF($E73=\"\",\"\",IF(INDEX('E_Tokovi izvora'!$A:$N,ET73,BO$7)=\"\",\"\",INDEX('E_Tokovi izvora'!$A:$N,ET73,BO$7)))","v":""},{"$f":"IF($E73=\"\",\"\",IF(INDEX('E_Tokovi izvora'!$A:$N,EU73,BP$7)=\"\",\"\",INDEX('E_Tokovi izvora'!$A:$N,EU73,BP$7)))","v":""},{"$f":"IF($E73=\"\",\"\",IF(INDEX('E_Tokovi izvora'!$A:$N,EV73,BQ$7)=\"\",\"\",INDEX('E_Tokovi izvora'!$A:$N,EV73,BQ$7)))","v":""},{"$f":"IF($E73=\"\",\"\",IF(INDEX('E_Tokovi izvora'!$A:$N,EW73,BR$7)=\"\",\"\",INDEX('E_Tokovi izvora'!$A:$N,EW73,BR$7)))","v":""},{"$f":"IF($E73=\"\",\"\",IF(INDEX('E_Tokovi izvora'!$A:$N,EX73,BS$7)=\"\",\"\",INDEX('E_Tokovi izvora'!$A:$N,EX73,BS$7)))","v":""},{"$f":"IF($E73=\"\",\"\",IF(INDEX('E_Tokovi izvora'!$A:$N,EY73,BT$7)=\"\",\"\",INDEX('E_Tokovi izvora'!$A:$N,EY73,BT$7)))","v":""},null,null,null,null,null,null,null,null,null,null,null,null,null,null,null,"SourceCategory_",{"$f":"INDEX('C_Opis postrojenja'!$A$226:$A$332,ROWS($CI$11:CI73))=\"ausblenden\"","v":true},"SourceStreamName_",null,4225,4227,4229,4231,4233,4235,4237,4237,4237,4237,4237,4240,4244,4245,4246,4253,4263,4263,4263,4263,4263,4263,4263,4254,4264,4264,4264,4264,4264,4264,4264,4255,4265,4265,4265,4265,4265,4265,4265,4256,4266,4266,4266,4266,4266,4266,4266,4257,4267,4267,4267,4267,4267,4267,4267,4258,4268,4268,4268,4268,4268,4268,4268,4274]
[null,{"$f":"IF(COUNTIF($CK$10:CK74,TRUE)>0,\"\",INDEX('C_Opis postrojenja'!$E$226:$E$242,ROWS($A$11:A74)))","v":""},{"$f":"IF($E74=\"\",\"\",INDEX('C_Opis postrojenja'!F:F,MATCH($B74,'C_Opis postrojenja'!$E:$E,0)))","v":""},{"$f":"IF($E74=\"\",\"\",INDEX('C_Opis postrojenja'!I:I,MATCH($B74,'C_Opis postrojenja'!$E:$E,0)))","v":""},{"$f":"IF($B74=\"\",\"\",INDEX('C_Opis postrojenja'!F:F,MATCH($CJ74,'C_Opis postrojenja'!$Q:$Q,0)))","v":""},{"$f":"IF($E74=\"\",\"\",INDEX('C_Opis postrojenja'!L:L,MATCH($CJ74,'C_Opis postrojenja'!$Q:$Q,0)))","v":""},{"$f":"IF($E74=\"\",\"\",INDEX('C_Opis postrojenja'!M:M,MATCH($CJ74,'C_Opis postrojenja'!$Q:$Q,0)))","v":""},{"$f":"IF($E74=\"\",\"\",INDEX('C_Opis postrojenja'!N:N,MATCH($CJ74,'C_Opis postrojenja'!$Q:$Q,0)))","v":""},{"$f":"IF($E74=\"\",\"\",IF(INDEX('E_Tokovi izvora'!$A:$N,CN74,I$7)=\"\",\"\",INDEX('E_Tokovi izvora'!$A:$N,CN74,I$7)))","v":""},{"$f":"IF($E74=\"\",\"\",IF(INDEX('E_Tokovi izvora'!$A:$N,CO74,J$7)=\"\",\"\",INDEX('E_Tokovi izvora'!$A:$N,CO74,J$7)))","v":""},{"$f":"IF($E74=\"\",\"\",IF(INDEX('E_Tokovi izvora'!$A:$N,CP74,K$7)=\"\",\"\",INDEX('E_Tokovi izvora'!$A:$N,CP74,K$7)))","v":""},{"$f":"IF($E74=\"\",\"\",IF(INDEX('E_Tokovi izvora'!$A:$N,CQ74,L$7)=\"\",\"\",INDEX('E_Tokovi izvora'!$A:$N,CQ74,L$7)))","v":""},{"$f":"IF($E74=\"\",\"\",IF(INDEX('E_Tokovi izvora'!$A:$N,CR74,M$7)=\"\",\"\",INDEX('E_Tokovi izvora'!$A:$N,CR74,M$7)))","v":""},{"$f":"IF($E74=\"\",\"\",IF(INDEX('E_Tokovi izvora'!$A:$N,CS74,N$7)=\"\",\"\",INDEX('E_Tokovi izvora'!$A:$N,CS74,N$7)))","v":""},{"$f":"IF($E74=\"\",\"\",IF(INDEX('E_Tokovi izvora'!$A:$N,CT74,O$7)=\"\",\"\",INDEX('E_Tokovi izvora'!$A:$N,CT74,O$7)))","v":""},{"$f":"IF($E74=\"\",\"\",IF(INDEX('E_Tokovi izvora'!$A:$N,CU74,P$7)=\"\",\"\",INDEX('E_Tokovi izvora'!$A:$N,CU74,P$7)))","v":""},{"$f":"IF($E74=\"\",\"\",IF(INDEX('E_Tokovi izvora'!$A:$N,CV74,Q$7)=\"\",\"\",INDEX('E_Tokovi izvora'!$A:$N,CV74,Q$7)))","v":""},{"$f":"IF($E74=\"\",\"\",IF(INDEX('E_Tokovi izvora'!$A:$N,CW74,R$7)=\"\",\"\",INDEX('E_Tokovi izvora'!$A:$N,CW74,R$7)))","v":""},{"$f":"IF($E74=\"\",\"\",IF(INDEX('E_Tokovi izvora'!$A:$N,CX74,S$7)=\"\",\"\",INDEX('E_Tokovi izvora'!$A:$N,CX74,S$7)))","v":""},{"$f":"IF($E74=\"\",\"\",IF(INDEX('E_Tokovi izvora'!$A:$N,CY74,T$7)=\"\",\"\",INDEX('E_Tokovi izvora'!$A:$N,CY74,T$7)))","v":""},{"$f":"IF($E74=\"\",\"\",IF(INDEX('E_Tokovi izvora'!$A:$N,CZ74,U$7)=\"\",\"\",INDEX('E_Tokovi izvora'!$A:$N,CZ74,U$7)))","v":""},{"$f":"IF($E74=\"\",\"\",IF(INDEX('E_Tokovi izvora'!$A:$N,DA74,V$7)=\"\",\"\",INDEX('E_Tokovi izvora'!$A:$N,DA74,V$7)))","v":""},{"$f":"IF($E74=\"\",\"\",IF(INDEX('E_Tokovi izvora'!$A:$N,DB74,W$7)=\"\",\"\",INDEX('E_Tokovi izvora'!$A:$N,DB74,W$7)))","v":""},{"$f":"IF($E74=\"\",\"\",IF(INDEX('E_Tokovi izvora'!$A:$N,DC74,X$7)=\"\",\"\",INDEX('E_Tokovi izvora'!$A:$N,DC74,X$7)))","v":""},{"$f":"IF($E74=\"\",\"\",IF(INDEX('E_Tokovi izvora'!$A:$N,DD74,Y$7)=\"\",\"\",INDEX('E_Tokovi izvora'!$A:$N,DD74,Y$7)))","v":""},{"$f":"IF($E74=\"\",\"\",IF(INDEX('E_Tokovi izvora'!$A:$N,DE74,Z$7)=\"\",\"\",INDEX('E_Tokovi izvora'!$A:$N,DE74,Z$7)))","v":""},{"$f":"IF($E74=\"\",\"\",IF(INDEX('E_Tokovi izvora'!$A:$N,DF74,AA$7)=\"\",\"\",INDEX('E_Tokovi izvora'!$A:$N,DF74,AA$7)))","v":""},{"$f":"IF($E74=\"\",\"\",IF(INDEX('E_Tokovi izvora'!$A:$N,DG74,AB$7)=\"\",\"\",INDEX('E_Tokovi izvora'!$A:$N,DG74,AB$7)))","v":""},{"$f":"IF($E74=\"\",\"\",IF(INDEX('E_Tokovi izvora'!$A:$N,DH74,AC$7)=\"\",\"\",INDEX('E_Tokovi izvora'!$A:$N,DH74,AC$7)))","v":""},{"$f":"IF($E74=\"\",\"\",IF(INDEX('E_Tokovi izvora'!$A:$N,DI74,AD$7)=\"\",\"\",INDEX('E_Tokovi izvora'!$A:$N,DI74,AD$7)))","v":""},{"$f":"IF($E74=\"\",\"\",IF(INDEX('E_Tokovi izvora'!$A:$N,DJ74,AE$7)=\"\",\"\",INDEX('E_Tokovi izvora'!$A:$N,DJ74,AE$7)))","v":""},{"$f":"IF($E74=\"\",\"\",IF(INDEX('E_Tokovi izvora'!$A:$N,DK74,AF$7)=\"\",\"\",INDEX('E_Tokovi izvora'!$A:$N,DK74,AF$7)))","v":""},{"$f":"IF($E74=\"\",\"\",IF(INDEX('E_Tokovi izvora'!$A:$N,DL74,AG$7)=\"\",\"\",INDEX('E_Tokovi izvora'!$A:$N,DL74,AG$7)))","v":""},{"$f":"IF($E74=\"\",\"\",IF(INDEX('E_Tokovi izvora'!$A:$N,DM74,AH$7)=\"\",\"\",INDEX('E_Tokovi izvora'!$A:$N,DM74,AH$7)))","v":""},{"$f":"IF($E74=\"\",\"\",IF(INDEX('E_Tokovi izvora'!$A:$N,DN74,AI$7)=\"\",\"\",INDEX('E_Tokovi izvora'!$A:$N,DN74,AI$7)))","v":""},{"$f":"IF($E74=\"\",\"\",IF(INDEX('E_Tokovi izvora'!$A:$N,DO74,AJ$7)=\"\",\"\",INDEX('E_Tokovi izvora'!$A:$N,DO74,AJ$7)))","v":""},{"$f":"IF($E74=\"\",\"\",IF(INDEX('E_Tokovi izvora'!$A:$N,DP74,AK$7)=\"\",\"\",INDEX('E_Tokovi izvora'!$A:$N,DP74,AK$7)))","v":""},{"$f":"IF($E74=\"\",\"\",IF(INDEX('E_Tokovi izvora'!$A:$N,DQ74,AL$7)=\"\",\"\",INDEX('E_Tokovi izvora'!$A:$N,DQ74,AL$7)))","v":""},{"$f":"IF($E74=\"\",\"\",IF(INDEX('E_Tokovi izvora'!$A:$N,DR74,AM$7)=\"\",\"\",INDEX('E_Tokovi izvora'!$A:$N,DR74,AM$7)))","v":""},{"$f":"IF($E74=\"\",\"\",IF(INDEX('E_Tokovi izvora'!$A:$N,DS74,AN$7)=\"\",\"\",INDEX('E_Tokovi izvora'!$A:$N,DS74,AN$7)))","v":""},{"$f":"IF($E74=\"\",\"\",IF(INDEX('E_Tokovi izvora'!$A:$N,DT74,AO$7)=\"\",\"\",INDEX('E_Tokovi izvora'!$A:$N,DT74,AO$7)))","v":""},{"$f":"IF($E74=\"\",\"\",IF(INDEX('E_Tokovi izvora'!$A:$N,DU74,AP$7)=\"\",\"\",INDEX('E_Tokovi izvora'!$A:$N,DU74,AP$7)))","v":""},{"$f":"IF($E74=\"\",\"\",IF(INDEX('E_Tokovi izvora'!$A:$N,DV74,AQ$7)=\"\",\"\",INDEX('E_Tokovi izvora'!$A:$N,DV74,AQ$7)))","v":""},{"$f":"IF($E74=\"\",\"\",IF(INDEX('E_Tokovi izvora'!$A:$N,DW74,AR$7)=\"\",\"\",INDEX('E_Tokovi izvora'!$A:$N,DW74,AR$7)))","v":""},{"$f":"IF($E74=\"\",\"\",IF(INDEX('E_Tokovi izvora'!$A:$N,DX74,AS$7)=\"\",\"\",INDEX('E_Tokovi izvora'!$A:$N,DX74,AS$7)))","v":""},{"$f":"IF($E74=\"\",\"\",IF(INDEX('E_Tokovi izvora'!$A:$N,DY74,AT$7)=\"\",\"\",INDEX('E_Tokovi izvora'!$A:$N,DY74,AT$7)))","v":""},{"$f":"IF($E74=\"\",\"\",IF(INDEX('E_Tokovi izvora'!$A:$N,DZ74,AU$7)=\"\",\"\",INDEX('E_Tokovi izvora'!$A:$N,DZ74,AU$7)))","v":""},{"$f":"IF($E74=\"\",\"\",IF(INDEX('E_Tokovi izvora'!$A:$N,EA74,AV$7)=\"\",\"\",INDEX('E_Tokovi izvora'!$A:$N,EA74,AV$7)))","v":""},{"$f":"IF($E74=\"\",\"\",IF(INDEX('E_Tokovi izvora'!$A:$N,EB74,AW$7)=\"\",\"\",INDEX('E_Tokovi izvora'!$A:$N,EB74,AW$7)))","v":""},{"$f":"IF($E74=\"\",\"\",IF(INDEX('E_Tokovi izvora'!$A:$N,EC74,AX$7)=\"\",\"\",INDEX('E_Tokovi izvora'!$A:$N,EC74,AX$7)))","v":""},{"$f":"IF($E74=\"\",\"\",IF(INDEX('E_Tokovi izvora'!$A:$N,ED74,AY$7)=\"\",\"\",INDEX('E_Tokovi izvora'!$A:$N,ED74,AY$7)))","v":""},{"$f":"IF($E74=\"\",\"\",IF(INDEX('E_Tokovi izvora'!$A:$N,EE74,AZ$7)=\"\",\"\",INDEX('E_Tokovi izvora'!$A:$N,EE74,AZ$7)))","v":""},{"$f":"IF($E74=\"\",\"\",IF(INDEX('E_Tokovi izvora'!$A:$N,EF74,BA$7)=\"\",\"\",INDEX('E_Tokovi izvora'!$A:$N,EF74,BA$7)))","v":""},{"$f":"IF($E74=\"\",\"\",IF(INDEX('E_Tokovi izvora'!$A:$N,EG74,BB$7)=\"\",\"\",INDEX('E_Tokovi izvora'!$A:$N,EG74,BB$7)))","v":""},{"$f":"IF($E74=\"\",\"\",IF(INDEX('E_Tokovi izvora'!$A:$N,EH74,BC$7)=\"\",\"\",INDEX('E_Tokovi izvora'!$A:$N,EH74,BC$7)))","v":""},{"$f":"IF($E74=\"\",\"\",IF(INDEX('E_Tokovi izvora'!$A:$N,EI74,BD$7)=\"\",\"\",INDEX('E_Tokovi izvora'!$A:$N,EI74,BD$7)))","v":""},{"$f":"IF($E74=\"\",\"\",IF(INDEX('E_Tokovi izvora'!$A:$N,EJ74,BE$7)=\"\",\"\",INDEX('E_Tokovi izvora'!$A:$N,EJ74,BE$7)))","v":""},{"$f":"IF($E74=\"\",\"\",IF(INDEX('E_Tokovi izvora'!$A:$N,EK74,BF$7)=\"\",\"\",INDEX('E_Tokovi izvora'!$A:$N,EK74,BF$7)))","v":""},{"$f":"IF($E74=\"\",\"\",IF(INDEX('E_Tokovi izvora'!$A:$N,EL74,BG$7)=\"\",\"\",INDEX('E_Tokovi izvora'!$A:$N,EL74,BG$7)))","v":""},{"$f":"IF($E74=\"\",\"\",IF(INDEX('E_Tokovi izvora'!$A:$N,EM74,BH$7)=\"\",\"\",INDEX('E_Tokovi izvora'!$A:$N,EM74,BH$7)))","v":""},{"$f":"IF($E74=\"\",\"\",IF(INDEX('E_Tokovi izvora'!$A:$N,EN74,BI$7)=\"\",\"\",INDEX('E_Tokovi izvora'!$A:$N,EN74,BI$7)))","v":""},{"$f":"IF($E74=\"\",\"\",IF(INDEX('E_Tokovi izvora'!$A:$N,EO74,BJ$7)=\"\",\"\",INDEX('E_Tokovi izvora'!$A:$N,EO74,BJ$7)))","v":""},{"$f":"IF($E74=\"\",\"\",IF(INDEX('E_Tokovi izvora'!$A:$N,EP74,BK$7)=\"\",\"\",INDEX('E_Tokovi izvora'!$A:$N,EP74,BK$7)))","v":""},{"$f":"IF($E74=\"\",\"\",IF(INDEX('E_Tokovi izvora'!$A:$N,EQ74,BL$7)=\"\",\"\",INDEX('E_Tokovi izvora'!$A:$N,EQ74,BL$7)))","v":""},{"$f":"IF($E74=\"\",\"\",IF(INDEX('E_Tokovi izvora'!$A:$N,ER74,BM$7)=\"\",\"\",INDEX('E_Tokovi izvora'!$A:$N,ER74,BM$7)))","v":""},{"$f":"IF($E74=\"\",\"\",IF(INDEX('E_Tokovi izvora'!$A:$N,ES74,BN$7)=\"\",\"\",INDEX('E_Tokovi izvora'!$A:$N,ES74,BN$7)))","v":""},{"$f":"IF($E74=\"\",\"\",IF(INDEX('E_Tokovi izvora'!$A:$N,ET74,BO$7)=\"\",\"\",INDEX('E_Tokovi izvora'!$A:$N,ET74,BO$7)))","v":""},{"$f":"IF($E74=\"\",\"\",IF(INDEX('E_Tokovi izvora'!$A:$N,EU74,BP$7)=\"\",\"\",INDEX('E_Tokovi izvora'!$A:$N,EU74,BP$7)))","v":""},{"$f":"IF($E74=\"\",\"\",IF(INDEX('E_Tokovi izvora'!$A:$N,EV74,BQ$7)=\"\",\"\",INDEX('E_Tokovi izvora'!$A:$N,EV74,BQ$7)))","v":""},{"$f":"IF($E74=\"\",\"\",IF(INDEX('E_Tokovi izvora'!$A:$N,EW74,BR$7)=\"\",\"\",INDEX('E_Tokovi izvora'!$A:$N,EW74,BR$7)))","v":""},{"$f":"IF($E74=\"\",\"\",IF(INDEX('E_Tokovi izvora'!$A:$N,EX74,BS$7)=\"\",\"\",INDEX('E_Tokovi izvora'!$A:$N,EX74,BS$7)))","v":""},{"$f":"IF($E74=\"\",\"\",IF(INDEX('E_Tokovi izvora'!$A:$N,EY74,BT$7)=\"\",\"\",INDEX('E_Tokovi izvora'!$A:$N,EY74,BT$7)))","v":""},null,null,null,null,null,null,null,null,null,null,null,null,null,null,null,"SourceCategory_",{"$f":"INDEX('C_Opis postrojenja'!$A$226:$A$332,ROWS($CI$11:CI74))=\"ausblenden\"","v":true},"SourceStreamName_",null,4291,4293,4295,4297,4299,4301,4303,4303,4303,4303,4303,4306,4310,4311,4312,4319,4329,4329,4329,4329,4329,4329,4329,4320,4330,4330,4330,4330,4330,4330,4330,4321,4331,4331,4331,4331,4331,4331,4331,4322,4332,4332,4332,4332,4332,4332,4332,4323,4333,4333,4333,4333,4333,4333,4333,4324,4334,4334,4334,4334,4334,4334,4334,4340]
[null,{"$f":"IF(COUNTIF($CK$10:CK75,TRUE)>0,\"\",INDEX('C_Opis postrojenja'!$E$226:$E$242,ROWS($A$11:A75)))","v":""},{"$f":"IF($E75=\"\",\"\",INDEX('C_Opis postrojenja'!F:F,MATCH($B75,'C_Opis postrojenja'!$E:$E,0)))","v":""},{"$f":"IF($E75=\"\",\"\",INDEX('C_Opis postrojenja'!I:I,MATCH($B75,'C_Opis postrojenja'!$E:$E,0)))","v":""},{"$f":"IF($B75=\"\",\"\",INDEX('C_Opis postrojenja'!F:F,MATCH($CJ75,'C_Opis postrojenja'!$Q:$Q,0)))","v":""},{"$f":"IF($E75=\"\",\"\",INDEX('C_Opis postrojenja'!L:L,MATCH($CJ75,'C_Opis postrojenja'!$Q:$Q,0)))","v":""},{"$f":"IF($E75=\"\",\"\",INDEX('C_Opis postrojenja'!M:M,MATCH($CJ75,'C_Opis postrojenja'!$Q:$Q,0)))","v":""},{"$f":"IF($E75=\"\",\"\",INDEX('C_Opis postrojenja'!N:N,MATCH($CJ75,'C_Opis postrojenja'!$Q:$Q,0)))","v":""},{"$f":"IF($E75=\"\",\"\",IF(INDEX('E_Tokovi izvora'!$A:$N,CN75,I$7)=\"\",\"\",INDEX('E_Tokovi izvora'!$A:$N,CN75,I$7)))","v":""},{"$f":"IF($E75=\"\",\"\",IF(INDEX('E_Tokovi izvora'!$A:$N,CO75,J$7)=\"\",\"\",INDEX('E_Tokovi izvora'!$A:$N,CO75,J$7)))","v":""},{"$f":"IF($E75=\"\",\"\",IF(INDEX('E_Tokovi izvora'!$A:$N,CP75,K$7)=\"\",\"\",INDEX('E_Tokovi izvora'!$A:$N,CP75,K$7)))","v":""},{"$f":"IF($E75=\"\",\"\",IF(INDEX('E_Tokovi izvora'!$A:$N,CQ75,L$7)=\"\",\"\",INDEX('E_Tokovi izvora'!$A:$N,CQ75,L$7)))","v":""},{"$f":"IF($E75=\"\",\"\",IF(INDEX('E_Tokovi izvora'!$A:$N,CR75,M$7)=\"\",\"\",INDEX('E_Tokovi izvora'!$A:$N,CR75,M$7)))","v":""},{"$f":"IF($E75=\"\",\"\",IF(INDEX('E_Tokovi izvora'!$A:$N,CS75,N$7)=\"\",\"\",INDEX('E_Tokovi izvora'!$A:$N,CS75,N$7)))","v":""},{"$f":"IF($E75=\"\",\"\",IF(INDEX('E_Tokovi izvora'!$A:$N,CT75,O$7)=\"\",\"\",INDEX('E_Tokovi izvora'!$A:$N,CT75,O$7)))","v":""},{"$f":"IF($E75=\"\",\"\",IF(INDEX('E_Tokovi izvora'!$A:$N,CU75,P$7)=\"\",\"\",INDEX('E_Tokovi izvora'!$A:$N,CU75,P$7)))","v":""},{"$f":"IF($E75=\"\",\"\",IF(INDEX('E_Tokovi izvora'!$A:$N,CV75,Q$7)=\"\",\"\",INDEX('E_Tokovi izvora'!$A:$N,CV75,Q$7)))","v":""},{"$f":"IF($E75=\"\",\"\",IF(INDEX('E_Tokovi izvora'!$A:$N,CW75,R$7)=\"\",\"\",INDEX('E_Tokovi izvora'!$A:$N,CW75,R$7)))","v":""},{"$f":"IF($E75=\"\",\"\",IF(INDEX('E_Tokovi izvora'!$A:$N,CX75,S$7)=\"\",\"\",INDEX('E_Tokovi izvora'!$A:$N,CX75,S$7)))","v":""},{"$f":"IF($E75=\"\",\"\",IF(INDEX('E_Tokovi izvora'!$A:$N,CY75,T$7)=\"\",\"\",INDEX('E_Tokovi izvora'!$A:$N,CY75,T$7)))","v":""},{"$f":"IF($E75=\"\",\"\",IF(INDEX('E_Tokovi izvora'!$A:$N,CZ75,U$7)=\"\",\"\",INDEX('E_Tokovi izvora'!$A:$N,CZ75,U$7)))","v":""},{"$f":"IF($E75=\"\",\"\",IF(INDEX('E_Tokovi izvora'!$A:$N,DA75,V$7)=\"\",\"\",INDEX('E_Tokovi izvora'!$A:$N,DA75,V$7)))","v":""},{"$f":"IF($E75=\"\",\"\",IF(INDEX('E_Tokovi izvora'!$A:$N,DB75,W$7)=\"\",\"\",INDEX('E_Tokovi izvora'!$A:$N,DB75,W$7)))","v":""},{"$f":"IF($E75=\"\",\"\",IF(INDEX('E_Tokovi izvora'!$A:$N,DC75,X$7)=\"\",\"\",INDEX('E_Tokovi izvora'!$A:$N,DC75,X$7)))","v":""},{"$f":"IF($E75=\"\",\"\",IF(INDEX('E_Tokovi izvora'!$A:$N,DD75,Y$7)=\"\",\"\",INDEX('E_Tokovi izvora'!$A:$N,DD75,Y$7)))","v":""},{"$f":"IF($E75=\"\",\"\",IF(INDEX('E_Tokovi izvora'!$A:$N,DE75,Z$7)=\"\",\"\",INDEX('E_Tokovi izvora'!$A:$N,DE75,Z$7)))","v":""},{"$f":"IF($E75=\"\",\"\",IF(INDEX('E_Tokovi izvora'!$A:$N,DF75,AA$7)=\"\",\"\",INDEX('E_Tokovi izvora'!$A:$N,DF75,AA$7)))","v":""},{"$f":"IF($E75=\"\",\"\",IF(INDEX('E_Tokovi izvora'!$A:$N,DG75,AB$7)=\"\",\"\",INDEX('E_Tokovi izvora'!$A:$N,DG75,AB$7)))","v":""},{"$f":"IF($E75=\"\",\"\",IF(INDEX('E_Tokovi izvora'!$A:$N,DH75,AC$7)=\"\",\"\",INDEX('E_Tokovi izvora'!$A:$N,DH75,AC$7)))","v":""},{"$f":"IF($E75=\"\",\"\",IF(INDEX('E_Tokovi izvora'!$A:$N,DI75,AD$7)=\"\",\"\",INDEX('E_Tokovi izvora'!$A:$N,DI75,AD$7)))","v":""},{"$f":"IF($E75=\"\",\"\",IF(INDEX('E_Tokovi izvora'!$A:$N,DJ75,AE$7)=\"\",\"\",INDEX('E_Tokovi izvora'!$A:$N,DJ75,AE$7)))","v":""},{"$f":"IF($E75=\"\",\"\",IF(INDEX('E_Tokovi izvora'!$A:$N,DK75,AF$7)=\"\",\"\",INDEX('E_Tokovi izvora'!$A:$N,DK75,AF$7)))","v":""},{"$f":"IF($E75=\"\",\"\",IF(INDEX('E_Tokovi izvora'!$A:$N,DL75,AG$7)=\"\",\"\",INDEX('E_Tokovi izvora'!$A:$N,DL75,AG$7)))","v":""},{"$f":"IF($E75=\"\",\"\",IF(INDEX('E_Tokovi izvora'!$A:$N,DM75,AH$7)=\"\",\"\",INDEX('E_Tokovi izvora'!$A:$N,DM75,AH$7)))","v":""},{"$f":"IF($E75=\"\",\"\",IF(INDEX('E_Tokovi izvora'!$A:$N,DN75,AI$7)=\"\",\"\",INDEX('E_Tokovi izvora'!$A:$N,DN75,AI$7)))","v":""},{"$f":"IF($E75=\"\",\"\",IF(INDEX('E_Tokovi izvora'!$A:$N,DO75,AJ$7)=\"\",\"\",INDEX('E_Tokovi izvora'!$A:$N,DO75,AJ$7)))","v":""},{"$f":"IF($E75=\"\",\"\",IF(INDEX('E_Tokovi izvora'!$A:$N,DP75,AK$7)=\"\",\"\",INDEX('E_Tokovi izvora'!$A:$N,DP75,AK$7)))","v":""},{"$f":"IF($E75=\"\",\"\",IF(INDEX('E_Tokovi izvora'!$A:$N,DQ75,AL$7)=\"\",\"\",INDEX('E_Tokovi izvora'!$A:$N,DQ75,AL$7)))","v":""},{"$f":"IF($E75=\"\",\"\",IF(INDEX('E_Tokovi izvora'!$A:$N,DR75,AM$7)=\"\",\"\",INDEX('E_Tokovi izvora'!$A:$N,DR75,AM$7)))","v":""},{"$f":"IF($E75=\"\",\"\",IF(INDEX('E_Tokovi izvora'!$A:$N,DS75,AN$7)=\"\",\"\",INDEX('E_Tokovi izvora'!$A:$N,DS75,AN$7)))","v":""},{"$f":"IF($E75=\"\",\"\",IF(INDEX('E_Tokovi izvora'!$A:$N,DT75,AO$7)=\"\",\"\",INDEX('E_Tokovi izvora'!$A:$N,DT75,AO$7)))","v":""},{"$f":"IF($E75=\"\",\"\",IF(INDEX('E_Tokovi izvora'!$A:$N,DU75,AP$7)=\"\",\"\",INDEX('E_Tokovi izvora'!$A:$N,DU75,AP$7)))","v":""},{"$f":"IF($E75=\"\",\"\",IF(INDEX('E_Tokovi izvora'!$A:$N,DV75,AQ$7)=\"\",\"\",INDEX('E_Tokovi izvora'!$A:$N,DV75,AQ$7)))","v":""},{"$f":"IF($E75=\"\",\"\",IF(INDEX('E_Tokovi izvora'!$A:$N,DW75,AR$7)=\"\",\"\",INDEX('E_Tokovi izvora'!$A:$N,DW75,AR$7)))","v":""},{"$f":"IF($E75=\"\",\"\",IF(INDEX('E_Tokovi izvora'!$A:$N,DX75,AS$7)=\"\",\"\",INDEX('E_Tokovi izvora'!$A:$N,DX75,AS$7)))","v":""},{"$f":"IF($E75=\"\",\"\",IF(INDEX('E_Tokovi izvora'!$A:$N,DY75,AT$7)=\"\",\"\",INDEX('E_Tokovi izvora'!$A:$N,DY75,AT$7)))","v":""},{"$f":"IF($E75=\"\",\"\",IF(INDEX('E_Tokovi izvora'!$A:$N,DZ75,AU$7)=\"\",\"\",INDEX('E_Tokovi izvora'!$A:$N,DZ75,AU$7)))","v":""},{"$f":"IF($E75=\"\",\"\",IF(INDEX('E_Tokovi izvora'!$A:$N,EA75,AV$7)=\"\",\"\",INDEX('E_Tokovi izvora'!$A:$N,EA75,AV$7)))","v":""},{"$f":"IF($E75=\"\",\"\",IF(INDEX('E_Tokovi izvora'!$A:$N,EB75,AW$7)=\"\",\"\",INDEX('E_Tokovi izvora'!$A:$N,EB75,AW$7)))","v":""},{"$f":"IF($E75=\"\",\"\",IF(INDEX('E_Tokovi izvora'!$A:$N,EC75,AX$7)=\"\",\"\",INDEX('E_Tokovi izvora'!$A:$N,EC75,AX$7)))","v":""},{"$f":"IF($E75=\"\",\"\",IF(INDEX('E_Tokovi izvora'!$A:$N,ED75,AY$7)=\"\",\"\",INDEX('E_Tokovi izvora'!$A:$N,ED75,AY$7)))","v":""},{"$f":"IF($E75=\"\",\"\",IF(INDEX('E_Tokovi izvora'!$A:$N,EE75,AZ$7)=\"\",\"\",INDEX('E_Tokovi izvora'!$A:$N,EE75,AZ$7)))","v":""},{"$f":"IF($E75=\"\",\"\",IF(INDEX('E_Tokovi izvora'!$A:$N,EF75,BA$7)=\"\",\"\",INDEX('E_Tokovi izvora'!$A:$N,EF75,BA$7)))","v":""},{"$f":"IF($E75=\"\",\"\",IF(INDEX('E_Tokovi izvora'!$A:$N,EG75,BB$7)=\"\",\"\",INDEX('E_Tokovi izvora'!$A:$N,EG75,BB$7)))","v":""},{"$f":"IF($E75=\"\",\"\",IF(INDEX('E_Tokovi izvora'!$A:$N,EH75,BC$7)=\"\",\"\",INDEX('E_Tokovi izvora'!$A:$N,EH75,BC$7)))","v":""},{"$f":"IF($E75=\"\",\"\",IF(INDEX('E_Tokovi izvora'!$A:$N,EI75,BD$7)=\"\",\"\",INDEX('E_Tokovi izvora'!$A:$N,EI75,BD$7)))","v":""},{"$f":"IF($E75=\"\",\"\",IF(INDEX('E_Tokovi izvora'!$A:$N,EJ75,BE$7)=\"\",\"\",INDEX('E_Tokovi izvora'!$A:$N,EJ75,BE$7)))","v":""},{"$f":"IF($E75=\"\",\"\",IF(INDEX('E_Tokovi izvora'!$A:$N,EK75,BF$7)=\"\",\"\",INDEX('E_Tokovi izvora'!$A:$N,EK75,BF$7)))","v":""},{"$f":"IF($E75=\"\",\"\",IF(INDEX('E_Tokovi izvora'!$A:$N,EL75,BG$7)=\"\",\"\",INDEX('E_Tokovi izvora'!$A:$N,EL75,BG$7)))","v":""},{"$f":"IF($E75=\"\",\"\",IF(INDEX('E_Tokovi izvora'!$A:$N,EM75,BH$7)=\"\",\"\",INDEX('E_Tokovi izvora'!$A:$N,EM75,BH$7)))","v":""},{"$f":"IF($E75=\"\",\"\",IF(INDEX('E_Tokovi izvora'!$A:$N,EN75,BI$7)=\"\",\"\",INDEX('E_Tokovi izvora'!$A:$N,EN75,BI$7)))","v":""},{"$f":"IF($E75=\"\",\"\",IF(INDEX('E_Tokovi izvora'!$A:$N,EO75,BJ$7)=\"\",\"\",INDEX('E_Tokovi izvora'!$A:$N,EO75,BJ$7)))","v":""},{"$f":"IF($E75=\"\",\"\",IF(INDEX('E_Tokovi izvora'!$A:$N,EP75,BK$7)=\"\",\"\",INDEX('E_Tokovi izvora'!$A:$N,EP75,BK$7)))","v":""},{"$f":"IF($E75=\"\",\"\",IF(INDEX('E_Tokovi izvora'!$A:$N,EQ75,BL$7)=\"\",\"\",INDEX('E_Tokovi izvora'!$A:$N,EQ75,BL$7)))","v":""},{"$f":"IF($E75=\"\",\"\",IF(INDEX('E_Tokovi izvora'!$A:$N,ER75,BM$7)=\"\",\"\",INDEX('E_Tokovi izvora'!$A:$N,ER75,BM$7)))","v":""},{"$f":"IF($E75=\"\",\"\",IF(INDEX('E_Tokovi izvora'!$A:$N,ES75,BN$7)=\"\",\"\",INDEX('E_Tokovi izvora'!$A:$N,ES75,BN$7)))","v":""},{"$f":"IF($E75=\"\",\"\",IF(INDEX('E_Tokovi izvora'!$A:$N,ET75,BO$7)=\"\",\"\",INDEX('E_Tokovi izvora'!$A:$N,ET75,BO$7)))","v":""},{"$f":"IF($E75=\"\",\"\",IF(INDEX('E_Tokovi izvora'!$A:$N,EU75,BP$7)=\"\",\"\",INDEX('E_Tokovi izvora'!$A:$N,EU75,BP$7)))","v":""},{"$f":"IF($E75=\"\",\"\",IF(INDEX('E_Tokovi izvora'!$A:$N,EV75,BQ$7)=\"\",\"\",INDEX('E_Tokovi izvora'!$A:$N,EV75,BQ$7)))","v":""},{"$f":"IF($E75=\"\",\"\",IF(INDEX('E_Tokovi izvora'!$A:$N,EW75,BR$7)=\"\",\"\",INDEX('E_Tokovi izvora'!$A:$N,EW75,BR$7)))","v":""},{"$f":"IF($E75=\"\",\"\",IF(INDEX('E_Tokovi izvora'!$A:$N,EX75,BS$7)=\"\",\"\",INDEX('E_Tokovi izvora'!$A:$N,EX75,BS$7)))","v":""},{"$f":"IF($E75=\"\",\"\",IF(INDEX('E_Tokovi izvora'!$A:$N,EY75,BT$7)=\"\",\"\",INDEX('E_Tokovi izvora'!$A:$N,EY75,BT$7)))","v":""},null,null,null,null,null,null,null,null,null,null,null,null,null,null,null,{"$f":"EUconst_CNTR_SourceCategory&B75","v":"SourceCategory_"},{"$f":"INDEX('C_Opis postrojenja'!$A$226:$A$332,ROWS($CI$11:CI75))=\"ausblenden\"","v":true},{"$f":"EUconst_CNTR_SourceStreamName&B75","v":"SourceStreamName_"},null,4357,4359,4361,4363,4365,4367,4369,4369,4369,4369,4369,4372,4376,4377,4378,4385,4395,4395,4395,4395,4395,4395,4395,4386,4396,4396,4396,4396,4396,4396,4396,4387,4397,4397,4397,4397,4397,4397,4397,4388,4398,4398,4398,4398,4398,4398,4398,4389,4399,4399,4399,4399,4399,4399,4399,4390,4400,4400,4400,4400,4400,4400,4400,4406]
[null,{"$f":"IF(COUNTIF($CK$10:CK76,TRUE)>0,\"\",INDEX('C_Opis postrojenja'!$E$226:$E$242,ROWS($A$11:A76)))","v":""},{"$f":"IF($E76=\"\",\"\",INDEX('C_Opis postrojenja'!F:F,MATCH($B76,'C_Opis postrojenja'!$E:$E,0)))","v":""},{"$f":"IF($E76=\"\",\"\",INDEX('C_Opis postrojenja'!I:I,MATCH($B76,'C_Opis postrojenja'!$E:$E,0)))","v":""},{"$f":"IF($B76=\"\",\"\",INDEX('C_Opis postrojenja'!F:F,MATCH($CJ76,'C_Opis postrojenja'!$Q:$Q,0)))","v":""},{"$f":"IF($E76=\"\",\"\",INDEX('C_Opis postrojenja'!L:L,MATCH($CJ76,'C_Opis postrojenja'!$Q:$Q,0)))","v":""},{"$f":"IF($E76=\"\",\"\",INDEX('C_Opis postrojenja'!M:M,MATCH($CJ76,'C_Opis postrojenja'!$Q:$Q,0)))","v":""},{"$f":"IF($E76=\"\",\"\",INDEX('C_Opis postrojenja'!N:N,MATCH($CJ76,'C_Opis postrojenja'!$Q:$Q,0)))","v":""},{"$f":"IF($E76=\"\",\"\",IF(INDEX('E_Tokovi izvora'!$A:$N,CN76,I$7)=\"\",\"\",INDEX('E_Tokovi izvora'!$A:$N,CN76,I$7)))","v":""},{"$f":"IF($E76=\"\",\"\",IF(INDEX('E_Tokovi izvora'!$A:$N,CO76,J$7)=\"\",\"\",INDEX('E_Tokovi izvora'!$A:$N,CO76,J$7)))","v":""},{"$f":"IF($E76=\"\",\"\",IF(INDEX('E_Tokovi izvora'!$A:$N,CP76,K$7)=\"\",\"\",INDEX('E_Tokovi izvora'!$A:$N,CP76,K$7)))","v":""},{"$f":"IF($E76=\"\",\"\",IF(INDEX('E_Tokovi izvora'!$A:$N,CQ76,L$7)=\"\",\"\",INDEX('E_Tokovi izvora'!$A:$N,CQ76,L$7)))","v":""},{"$f":"IF($E76=\"\",\"\",IF(INDEX('E_Tokovi izvora'!$A:$N,CR76,M$7)=\"\",\"\",INDEX('E_Tokovi izvora'!$A:$N,CR76,M$7)))","v":""},{"$f":"IF($E76=\"\",\"\",IF(INDEX('E_Tokovi izvora'!$A:$N,CS76,N$7)=\"\",\"\",INDEX('E_Tokovi izvora'!$A:$N,CS76,N$7)))","v":""},{"$f":"IF($E76=\"\",\"\",IF(INDEX('E_Tokovi izvora'!$A:$N,CT76,O$7)=\"\",\"\",INDEX('E_Tokovi izvora'!$A:$N,CT76,O$7)))","v":""},{"$f":"IF($E76=\"\",\"\",IF(INDEX('E_Tokovi izvora'!$A:$N,CU76,P$7)=\"\",\"\",INDEX('E_Tokovi izvora'!$A:$N,CU76,P$7)))","v":""},{"$f":"IF($E76=\"\",\"\",IF(INDEX('E_Tokovi izvora'!$A:$N,CV76,Q$7)=\"\",\"\",INDEX('E_Tokovi izvora'!$A:$N,CV76,Q$7)))","v":""},{"$f":"IF($E76=\"\",\"\",IF(INDEX('E_Tokovi izvora'!$A:$N,CW76,R$7)=\"\",\"\",INDEX('E_Tokovi izvora'!$A:$N,CW76,R$7)))","v":""},{"$f":"IF($E76=\"\",\"\",IF(INDEX('E_Tokovi izvora'!$A:$N,CX76,S$7)=\"\",\"\",INDEX('E_Tokovi izvora'!$A:$N,CX76,S$7)))","v":""},{"$f":"IF($E76=\"\",\"\",IF(INDEX('E_Tokovi izvora'!$A:$N,CY76,T$7)=\"\",\"\",INDEX('E_Tokovi izvora'!$A:$N,CY76,T$7)))","v":""},{"$f":"IF($E76=\"\",\"\",IF(INDEX('E_Tokovi izvora'!$A:$N,CZ76,U$7)=\"\",\"\",INDEX('E_Tokovi izvora'!$A:$N,CZ76,U$7)))","v":""},{"$f":"IF($E76=\"\",\"\",IF(INDEX('E_Tokovi izvora'!$A:$N,DA76,V$7)=\"\",\"\",INDEX('E_Tokovi izvora'!$A:$N,DA76,V$7)))","v":""},{"$f":"IF($E76=\"\",\"\",IF(INDEX('E_Tokovi izvora'!$A:$N,DB76,W$7)=\"\",\"\",INDEX('E_Tokovi izvora'!$A:$N,DB76,W$7)))","v":""},{"$f":"IF($E76=\"\",\"\",IF(INDEX('E_Tokovi izvora'!$A:$N,DC76,X$7)=\"\",\"\",INDEX('E_Tokovi izvora'!$A:$N,DC76,X$7)))","v":""},{"$f":"IF($E76=\"\",\"\",IF(INDEX('E_Tokovi izvora'!$A:$N,DD76,Y$7)=\"\",\"\",INDEX('E_Tokovi izvora'!$A:$N,DD76,Y$7)))","v":""},{"$f":"IF($E76=\"\",\"\",IF(INDEX('E_Tokovi izvora'!$A:$N,DE76,Z$7)=\"\",\"\",INDEX('E_Tokovi izvora'!$A:$N,DE76,Z$7)))","v":""},{"$f":"IF($E76=\"\",\"\",IF(INDEX('E_Tokovi izvora'!$A:$N,DF76,AA$7)=\"\",\"\",INDEX('E_Tokovi izvora'!$A:$N,DF76,AA$7)))","v":""},{"$f":"IF($E76=\"\",\"\",IF(INDEX('E_Tokovi izvora'!$A:$N,DG76,AB$7)=\"\",\"\",INDEX('E_Tokovi izvora'!$A:$N,DG76,AB$7)))","v":""},{"$f":"IF($E76=\"\",\"\",IF(INDEX('E_Tokovi izvora'!$A:$N,DH76,AC$7)=\"\",\"\",INDEX('E_Tokovi izvora'!$A:$N,DH76,AC$7)))","v":""},{"$f":"IF($E76=\"\",\"\",IF(INDEX('E_Tokovi izvora'!$A:$N,DI76,AD$7)=\"\",\"\",INDEX('E_Tokovi izvora'!$A:$N,DI76,AD$7)))","v":""},{"$f":"IF($E76=\"\",\"\",IF(INDEX('E_Tokovi izvora'!$A:$N,DJ76,AE$7)=\"\",\"\",INDEX('E_Tokovi izvora'!$A:$N,DJ76,AE$7)))","v":""},{"$f":"IF($E76=\"\",\"\",IF(INDEX('E_Tokovi izvora'!$A:$N,DK76,AF$7)=\"\",\"\",INDEX('E_Tokovi izvora'!$A:$N,DK76,AF$7)))","v":""},{"$f":"IF($E76=\"\",\"\",IF(INDEX('E_Tokovi izvora'!$A:$N,DL76,AG$7)=\"\",\"\",INDEX('E_Tokovi izvora'!$A:$N,DL76,AG$7)))","v":""},{"$f":"IF($E76=\"\",\"\",IF(INDEX('E_Tokovi izvora'!$A:$N,DM76,AH$7)=\"\",\"\",INDEX('E_Tokovi izvora'!$A:$N,DM76,AH$7)))","v":""},{"$f":"IF($E76=\"\",\"\",IF(INDEX('E_Tokovi izvora'!$A:$N,DN76,AI$7)=\"\",\"\",INDEX('E_Tokovi izvora'!$A:$N,DN76,AI$7)))","v":""},{"$f":"IF($E76=\"\",\"\",IF(INDEX('E_Tokovi izvora'!$A:$N,DO76,AJ$7)=\"\",\"\",INDEX('E_Tokovi izvora'!$A:$N,DO76,AJ$7)))","v":""},{"$f":"IF($E76=\"\",\"\",IF(INDEX('E_Tokovi izvora'!$A:$N,DP76,AK$7)=\"\",\"\",INDEX('E_Tokovi izvora'!$A:$N,DP76,AK$7)))","v":""},{"$f":"IF($E76=\"\",\"\",IF(INDEX('E_Tokovi izvora'!$A:$N,DQ76,AL$7)=\"\",\"\",INDEX('E_Tokovi izvora'!$A:$N,DQ76,AL$7)))","v":""},{"$f":"IF($E76=\"\",\"\",IF(INDEX('E_Tokovi izvora'!$A:$N,DR76,AM$7)=\"\",\"\",INDEX('E_Tokovi izvora'!$A:$N,DR76,AM$7)))","v":""},{"$f":"IF($E76=\"\",\"\",IF(INDEX('E_Tokovi izvora'!$A:$N,DS76,AN$7)=\"\",\"\",INDEX('E_Tokovi izvora'!$A:$N,DS76,AN$7)))","v":""},{"$f":"IF($E76=\"\",\"\",IF(INDEX('E_Tokovi izvora'!$A:$N,DT76,AO$7)=\"\",\"\",INDEX('E_Tokovi izvora'!$A:$N,DT76,AO$7)))","v":""},{"$f":"IF($E76=\"\",\"\",IF(INDEX('E_Tokovi izvora'!$A:$N,DU76,AP$7)=\"\",\"\",INDEX('E_Tokovi izvora'!$A:$N,DU76,AP$7)))","v":""},{"$f":"IF($E76=\"\",\"\",IF(INDEX('E_Tokovi izvora'!$A:$N,DV76,AQ$7)=\"\",\"\",INDEX('E_Tokovi izvora'!$A:$N,DV76,AQ$7)))","v":""},{"$f":"IF($E76=\"\",\"\",IF(INDEX('E_Tokovi izvora'!$A:$N,DW76,AR$7)=\"\",\"\",INDEX('E_Tokovi izvora'!$A:$N,DW76,AR$7)))","v":""},{"$f":"IF($E76=\"\",\"\",IF(INDEX('E_Tokovi izvora'!$A:$N,DX76,AS$7)=\"\",\"\",INDEX('E_Tokovi izvora'!$A:$N,DX76,AS$7)))","v":""},{"$f":"IF($E76=\"\",\"\",IF(INDEX('E_Tokovi izvora'!$A:$N,DY76,AT$7)=\"\",\"\",INDEX('E_Tokovi izvora'!$A:$N,DY76,AT$7)))","v":""},{"$f":"IF($E76=\"\",\"\",IF(INDEX('E_Tokovi izvora'!$A:$N,DZ76,AU$7)=\"\",\"\",INDEX('E_Tokovi izvora'!$A:$N,DZ76,AU$7)))","v":""},{"$f":"IF($E76=\"\",\"\",IF(INDEX('E_Tokovi izvora'!$A:$N,EA76,AV$7)=\"\",\"\",INDEX('E_Tokovi izvora'!$A:$N,EA76,AV$7)))","v":""},{"$f":"IF($E76=\"\",\"\",IF(INDEX('E_Tokovi izvora'!$A:$N,EB76,AW$7)=\"\",\"\",INDEX('E_Tokovi izvora'!$A:$N,EB76,AW$7)))","v":""},{"$f":"IF($E76=\"\",\"\",IF(INDEX('E_Tokovi izvora'!$A:$N,EC76,AX$7)=\"\",\"\",INDEX('E_Tokovi izvora'!$A:$N,EC76,AX$7)))","v":""},{"$f":"IF($E76=\"\",\"\",IF(INDEX('E_Tokovi izvora'!$A:$N,ED76,AY$7)=\"\",\"\",INDEX('E_Tokovi izvora'!$A:$N,ED76,AY$7)))","v":""},{"$f":"IF($E76=\"\",\"\",IF(INDEX('E_Tokovi izvora'!$A:$N,EE76,AZ$7)=\"\",\"\",INDEX('E_Tokovi izvora'!$A:$N,EE76,AZ$7)))","v":""},{"$f":"IF($E76=\"\",\"\",IF(INDEX('E_Tokovi izvora'!$A:$N,EF76,BA$7)=\"\",\"\",INDEX('E_Tokovi izvora'!$A:$N,EF76,BA$7)))","v":""},{"$f":"IF($E76=\"\",\"\",IF(INDEX('E_Tokovi izvora'!$A:$N,EG76,BB$7)=\"\",\"\",INDEX('E_Tokovi izvora'!$A:$N,EG76,BB$7)))","v":""},{"$f":"IF($E76=\"\",\"\",IF(INDEX('E_Tokovi izvora'!$A:$N,EH76,BC$7)=\"\",\"\",INDEX('E_Tokovi izvora'!$A:$N,EH76,BC$7)))","v":""},{"$f":"IF($E76=\"\",\"\",IF(INDEX('E_Tokovi izvora'!$A:$N,EI76,BD$7)=\"\",\"\",INDEX('E_Tokovi izvora'!$A:$N,EI76,BD$7)))","v":""},{"$f":"IF($E76=\"\",\"\",IF(INDEX('E_Tokovi izvora'!$A:$N,EJ76,BE$7)=\"\",\"\",INDEX('E_Tokovi izvora'!$A:$N,EJ76,BE$7)))","v":""},{"$f":"IF($E76=\"\",\"\",IF(INDEX('E_Tokovi izvora'!$A:$N,EK76,BF$7)=\"\",\"\",INDEX('E_Tokovi izvora'!$A:$N,EK76,BF$7)))","v":""},{"$f":"IF($E76=\"\",\"\",IF(INDEX('E_Tokovi izvora'!$A:$N,EL76,BG$7)=\"\",\"\",INDEX('E_Tokovi izvora'!$A:$N,EL76,BG$7)))","v":""},{"$f":"IF($E76=\"\",\"\",IF(INDEX('E_Tokovi izvora'!$A:$N,EM76,BH$7)=\"\",\"\",INDEX('E_Tokovi izvora'!$A:$N,EM76,BH$7)))","v":""},{"$f":"IF($E76=\"\",\"\",IF(INDEX('E_Tokovi izvora'!$A:$N,EN76,BI$7)=\"\",\"\",INDEX('E_Tokovi izvora'!$A:$N,EN76,BI$7)))","v":""},{"$f":"IF($E76=\"\",\"\",IF(INDEX('E_Tokovi izvora'!$A:$N,EO76,BJ$7)=\"\",\"\",INDEX('E_Tokovi izvora'!$A:$N,EO76,BJ$7)))","v":""},{"$f":"IF($E76=\"\",\"\",IF(INDEX('E_Tokovi izvora'!$A:$N,EP76,BK$7)=\"\",\"\",INDEX('E_Tokovi izvora'!$A:$N,EP76,BK$7)))","v":""},{"$f":"IF($E76=\"\",\"\",IF(INDEX('E_Tokovi izvora'!$A:$N,EQ76,BL$7)=\"\",\"\",INDEX('E_Tokovi izvora'!$A:$N,EQ76,BL$7)))","v":""},{"$f":"IF($E76=\"\",\"\",IF(INDEX('E_Tokovi izvora'!$A:$N,ER76,BM$7)=\"\",\"\",INDEX('E_Tokovi izvora'!$A:$N,ER76,BM$7)))","v":""},{"$f":"IF($E76=\"\",\"\",IF(INDEX('E_Tokovi izvora'!$A:$N,ES76,BN$7)=\"\",\"\",INDEX('E_Tokovi izvora'!$A:$N,ES76,BN$7)))","v":""},{"$f":"IF($E76=\"\",\"\",IF(INDEX('E_Tokovi izvora'!$A:$N,ET76,BO$7)=\"\",\"\",INDEX('E_Tokovi izvora'!$A:$N,ET76,BO$7)))","v":""},{"$f":"IF($E76=\"\",\"\",IF(INDEX('E_Tokovi izvora'!$A:$N,EU76,BP$7)=\"\",\"\",INDEX('E_Tokovi izvora'!$A:$N,EU76,BP$7)))","v":""},{"$f":"IF($E76=\"\",\"\",IF(INDEX('E_Tokovi izvora'!$A:$N,EV76,BQ$7)=\"\",\"\",INDEX('E_Tokovi izvora'!$A:$N,EV76,BQ$7)))","v":""},{"$f":"IF($E76=\"\",\"\",IF(INDEX('E_Tokovi izvora'!$A:$N,EW76,BR$7)=\"\",\"\",INDEX('E_Tokovi izvora'!$A:$N,EW76,BR$7)))","v":""},{"$f":"IF($E76=\"\",\"\",IF(INDEX('E_Tokovi izvora'!$A:$N,EX76,BS$7)=\"\",\"\",INDEX('E_Tokovi izvora'!$A:$N,EX76,BS$7)))","v":""},{"$f":"IF($E76=\"\",\"\",IF(INDEX('E_Tokovi izvora'!$A:$N,EY76,BT$7)=\"\",\"\",INDEX('E_Tokovi izvora'!$A:$N,EY76,BT$7)))","v":""},null,null,null,null,null,null,null,null,null,null,null,null,null,null,null,"SourceCategory_",{"$f":"INDEX('C_Opis postrojenja'!$A$226:$A$332,ROWS($CI$11:CI76))=\"ausblenden\"","v":true},"SourceStreamName_",null,4423,4425,4427,4429,4431,4433,4435,4435,4435,4435,4435,4438,4442,4443,4444,4451,4461,4461,4461,4461,4461,4461,4461,4452,4462,4462,4462,4462,4462,4462,4462,4453,4463,4463,4463,4463,4463,4463,4463,4454,4464,4464,4464,4464,4464,4464,4464,4455,4465,4465,4465,4465,4465,4465,4465,4456,4466,4466,4466,4466,4466,4466,4466,4472]
[null,{"$f":"IF(COUNTIF($CK$10:CK77,TRUE)>0,\"\",INDEX('C_Opis postrojenja'!$E$226:$E$242,ROWS($A$11:A77)))","v":""},{"$f":"IF($E77=\"\",\"\",INDEX('C_Opis postrojenja'!F:F,MATCH($B77,'C_Opis postrojenja'!$E:$E,0)))","v":""},{"$f":"IF($E77=\"\",\"\",INDEX('C_Opis postrojenja'!I:I,MATCH($B77,'C_Opis postrojenja'!$E:$E,0)))","v":""},{"$f":"IF($B77=\"\",\"\",INDEX('C_Opis postrojenja'!F:F,MATCH($CJ77,'C_Opis postrojenja'!$Q:$Q,0)))","v":""},{"$f":"IF($E77=\"\",\"\",INDEX('C_Opis postrojenja'!L:L,MATCH($CJ77,'C_Opis postrojenja'!$Q:$Q,0)))","v":""},{"$f":"IF($E77=\"\",\"\",INDEX('C_Opis postrojenja'!M:M,MATCH($CJ77,'C_Opis postrojenja'!$Q:$Q,0)))","v":""},{"$f":"IF($E77=\"\",\"\",INDEX('C_Opis postrojenja'!N:N,MATCH($CJ77,'C_Opis postrojenja'!$Q:$Q,0)))","v":""},{"$f":"IF($E77=\"\",\"\",IF(INDEX('E_Tokovi izvora'!$A:$N,CN77,I$7)=\"\",\"\",INDEX('E_Tokovi izvora'!$A:$N,CN77,I$7)))","v":""},{"$f":"IF($E77=\"\",\"\",IF(INDEX('E_Tokovi izvora'!$A:$N,CO77,J$7)=\"\",\"\",INDEX('E_Tokovi izvora'!$A:$N,CO77,J$7)))","v":""},{"$f":"IF($E77=\"\",\"\",IF(INDEX('E_Tokovi izvora'!$A:$N,CP77,K$7)=\"\",\"\",INDEX('E_Tokovi izvora'!$A:$N,CP77,K$7)))","v":""},{"$f":"IF($E77=\"\",\"\",IF(INDEX('E_Tokovi izvora'!$A:$N,CQ77,L$7)=\"\",\"\",INDEX('E_Tokovi izvora'!$A:$N,CQ77,L$7)))","v":""},{"$f":"IF($E77=\"\",\"\",IF(INDEX('E_Tokovi izvora'!$A:$N,CR77,M$7)=\"\",\"\",INDEX('E_Tokovi izvora'!$A:$N,CR77,M$7)))","v":""},{"$f":"IF($E77=\"\",\"\",IF(INDEX('E_Tokovi izvora'!$A:$N,CS77,N$7)=\"\",\"\",INDEX('E_Tokovi izvora'!$A:$N,CS77,N$7)))","v":""},{"$f":"IF($E77=\"\",\"\",IF(INDEX('E_Tokovi izvora'!$A:$N,CT77,O$7)=\"\",\"\",INDEX('E_Tokovi izvora'!$A:$N,CT77,O$7)))","v":""},{"$f":"IF($E77=\"\",\"\",IF(INDEX('E_Tokovi izvora'!$A:$N,CU77,P$7)=\"\",\"\",INDEX('E_Tokovi izvora'!$A:$N,CU77,P$7)))","v":""},{"$f":"IF($E77=\"\",\"\",IF(INDEX('E_Tokovi izvora'!$A:$N,CV77,Q$7)=\"\",\"\",INDEX('E_Tokovi izvora'!$A:$N,CV77,Q$7)))","v":""},{"$f":"IF($E77=\"\",\"\",IF(INDEX('E_Tokovi izvora'!$A:$N,CW77,R$7)=\"\",\"\",INDEX('E_Tokovi izvora'!$A:$N,CW77,R$7)))","v":""},{"$f":"IF($E77=\"\",\"\",IF(INDEX('E_Tokovi izvora'!$A:$N,CX77,S$7)=\"\",\"\",INDEX('E_Tokovi izvora'!$A:$N,CX77,S$7)))","v":""},{"$f":"IF($E77=\"\",\"\",IF(INDEX('E_Tokovi izvora'!$A:$N,CY77,T$7)=\"\",\"\",INDEX('E_Tokovi izvora'!$A:$N,CY77,T$7)))","v":""},{"$f":"IF($E77=\"\",\"\",IF(INDEX('E_Tokovi izvora'!$A:$N,CZ77,U$7)=\"\",\"\",INDEX('E_Tokovi izvora'!$A:$N,CZ77,U$7)))","v":""},{"$f":"IF($E77=\"\",\"\",IF(INDEX('E_Tokovi izvora'!$A:$N,DA77,V$7)=\"\",\"\",INDEX('E_Tokovi izvora'!$A:$N,DA77,V$7)))","v":""},{"$f":"IF($E77=\"\",\"\",IF(INDEX('E_Tokovi izvora'!$A:$N,DB77,W$7)=\"\",\"\",INDEX('E_Tokovi izvora'!$A:$N,DB77,W$7)))","v":""},{"$f":"IF($E77=\"\",\"\",IF(INDEX('E_Tokovi izvora'!$A:$N,DC77,X$7)=\"\",\"\",INDEX('E_Tokovi izvora'!$A:$N,DC77,X$7)))","v":""},{"$f":"IF($E77=\"\",\"\",IF(INDEX('E_Tokovi izvora'!$A:$N,DD77,Y$7)=\"\",\"\",INDEX('E_Tokovi izvora'!$A:$N,DD77,Y$7)))","v":""},{"$f":"IF($E77=\"\",\"\",IF(INDEX('E_Tokovi izvora'!$A:$N,DE77,Z$7)=\"\",\"\",INDEX('E_Tokovi izvora'!$A:$N,DE77,Z$7)))","v":""},{"$f":"IF($E77=\"\",\"\",IF(INDEX('E_Tokovi izvora'!$A:$N,DF77,AA$7)=\"\",\"\",INDEX('E_Tokovi izvora'!$A:$N,DF77,AA$7)))","v":""},{"$f":"IF($E77=\"\",\"\",IF(INDEX('E_Tokovi izvora'!$A:$N,DG77,AB$7)=\"\",\"\",INDEX('E_Tokovi izvora'!$A:$N,DG77,AB$7)))","v":""},{"$f":"IF($E77=\"\",\"\",IF(INDEX('E_Tokovi izvora'!$A:$N,DH77,AC$7)=\"\",\"\",INDEX('E_Tokovi izvora'!$A:$N,DH77,AC$7)))","v":""},{"$f":"IF($E77=\"\",\"\",IF(INDEX('E_Tokovi izvora'!$A:$N,DI77,AD$7)=\"\",\"\",INDEX('E_Tokovi izvora'!$A:$N,DI77,AD$7)))","v":""},{"$f":"IF($E77=\"\",\"\",IF(INDEX('E_Tokovi izvora'!$A:$N,DJ77,AE$7)=\"\",\"\",INDEX('E_Tokovi izvora'!$A:$N,DJ77,AE$7)))","v":""},{"$f":"IF($E77=\"\",\"\",IF(INDEX('E_Tokovi izvora'!$A:$N,DK77,AF$7)=\"\",\"\",INDEX('E_Tokovi izvora'!$A:$N,DK77,AF$7)))","v":""},{"$f":"IF($E77=\"\",\"\",IF(INDEX('E_Tokovi izvora'!$A:$N,DL77,AG$7)=\"\",\"\",INDEX('E_Tokovi izvora'!$A:$N,DL77,AG$7)))","v":""},{"$f":"IF($E77=\"\",\"\",IF(INDEX('E_Tokovi izvora'!$A:$N,DM77,AH$7)=\"\",\"\",INDEX('E_Tokovi izvora'!$A:$N,DM77,AH$7)))","v":""},{"$f":"IF($E77=\"\",\"\",IF(INDEX('E_Tokovi izvora'!$A:$N,DN77,AI$7)=\"\",\"\",INDEX('E_Tokovi izvora'!$A:$N,DN77,AI$7)))","v":""},{"$f":"IF($E77=\"\",\"\",IF(INDEX('E_Tokovi izvora'!$A:$N,DO77,AJ$7)=\"\",\"\",INDEX('E_Tokovi izvora'!$A:$N,DO77,AJ$7)))","v":""},{"$f":"IF($E77=\"\",\"\",IF(INDEX('E_Tokovi izvora'!$A:$N,DP77,AK$7)=\"\",\"\",INDEX('E_Tokovi izvora'!$A:$N,DP77,AK$7)))","v":""},{"$f":"IF($E77=\"\",\"\",IF(INDEX('E_Tokovi izvora'!$A:$N,DQ77,AL$7)=\"\",\"\",INDEX('E_Tokovi izvora'!$A:$N,DQ77,AL$7)))","v":""},{"$f":"IF($E77=\"\",\"\",IF(INDEX('E_Tokovi izvora'!$A:$N,DR77,AM$7)=\"\",\"\",INDEX('E_Tokovi izvora'!$A:$N,DR77,AM$7)))","v":""},{"$f":"IF($E77=\"\",\"\",IF(INDEX('E_Tokovi izvora'!$A:$N,DS77,AN$7)=\"\",\"\",INDEX('E_Tokovi izvora'!$A:$N,DS77,AN$7)))","v":""},{"$f":"IF($E77=\"\",\"\",IF(INDEX('E_Tokovi izvora'!$A:$N,DT77,AO$7)=\"\",\"\",INDEX('E_Tokovi izvora'!$A:$N,DT77,AO$7)))","v":""},{"$f":"IF($E77=\"\",\"\",IF(INDEX('E_Tokovi izvora'!$A:$N,DU77,AP$7)=\"\",\"\",INDEX('E_Tokovi izvora'!$A:$N,DU77,AP$7)))","v":""},{"$f":"IF($E77=\"\",\"\",IF(INDEX('E_Tokovi izvora'!$A:$N,DV77,AQ$7)=\"\",\"\",INDEX('E_Tokovi izvora'!$A:$N,DV77,AQ$7)))","v":""},{"$f":"IF($E77=\"\",\"\",IF(INDEX('E_Tokovi izvora'!$A:$N,DW77,AR$7)=\"\",\"\",INDEX('E_Tokovi izvora'!$A:$N,DW77,AR$7)))","v":""},{"$f":"IF($E77=\"\",\"\",IF(INDEX('E_Tokovi izvora'!$A:$N,DX77,AS$7)=\"\",\"\",INDEX('E_Tokovi izvora'!$A:$N,DX77,AS$7)))","v":""},{"$f":"IF($E77=\"\",\"\",IF(INDEX('E_Tokovi izvora'!$A:$N,DY77,AT$7)=\"\",\"\",INDEX('E_Tokovi izvora'!$A:$N,DY77,AT$7)))","v":""},{"$f":"IF($E77=\"\",\"\",IF(INDEX('E_Tokovi izvora'!$A:$N,DZ77,AU$7)=\"\",\"\",INDEX('E_Tokovi izvora'!$A:$N,DZ77,AU$7)))","v":""},{"$f":"IF($E77=\"\",\"\",IF(INDEX('E_Tokovi izvora'!$A:$N,EA77,AV$7)=\"\",\"\",INDEX('E_Tokovi izvora'!$A:$N,EA77,AV$7)))","v":""},{"$f":"IF($E77=\"\",\"\",IF(INDEX('E_Tokovi izvora'!$A:$N,EB77,AW$7)=\"\",\"\",INDEX('E_Tokovi izvora'!$A:$N,EB77,AW$7)))","v":""},{"$f":"IF($E77=\"\",\"\",IF(INDEX('E_Tokovi izvora'!$A:$N,EC77,AX$7)=\"\",\"\",INDEX('E_Tokovi izvora'!$A:$N,EC77,AX$7)))","v":""},{"$f":"IF($E77=\"\",\"\",IF(INDEX('E_Tokovi izvora'!$A:$N,ED77,AY$7)=\"\",\"\",INDEX('E_Tokovi izvora'!$A:$N,ED77,AY$7)))","v":""},{"$f":"IF($E77=\"\",\"\",IF(INDEX('E_Tokovi izvora'!$A:$N,EE77,AZ$7)=\"\",\"\",INDEX('E_Tokovi izvora'!$A:$N,EE77,AZ$7)))","v":""},{"$f":"IF($E77=\"\",\"\",IF(INDEX('E_Tokovi izvora'!$A:$N,EF77,BA$7)=\"\",\"\",INDEX('E_Tokovi izvora'!$A:$N,EF77,BA$7)))","v":""},{"$f":"IF($E77=\"\",\"\",IF(INDEX('E_Tokovi izvora'!$A:$N,EG77,BB$7)=\"\",\"\",INDEX('E_Tokovi izvora'!$A:$N,EG77,BB$7)))","v":""},{"$f":"IF($E77=\"\",\"\",IF(INDEX('E_Tokovi izvora'!$A:$N,EH77,BC$7)=\"\",\"\",INDEX('E_Tokovi izvora'!$A:$N,EH77,BC$7)))","v":""},{"$f":"IF($E77=\"\",\"\",IF(INDEX('E_Tokovi izvora'!$A:$N,EI77,BD$7)=\"\",\"\",INDEX('E_Tokovi izvora'!$A:$N,EI77,BD$7)))","v":""},{"$f":"IF($E77=\"\",\"\",IF(INDEX('E_Tokovi izvora'!$A:$N,EJ77,BE$7)=\"\",\"\",INDEX('E_Tokovi izvora'!$A:$N,EJ77,BE$7)))","v":""},{"$f":"IF($E77=\"\",\"\",IF(INDEX('E_Tokovi izvora'!$A:$N,EK77,BF$7)=\"\",\"\",INDEX('E_Tokovi izvora'!$A:$N,EK77,BF$7)))","v":""},{"$f":"IF($E77=\"\",\"\",IF(INDEX('E_Tokovi izvora'!$A:$N,EL77,BG$7)=\"\",\"\",INDEX('E_Tokovi izvora'!$A:$N,EL77,BG$7)))","v":""},{"$f":"IF($E77=\"\",\"\",IF(INDEX('E_Tokovi izvora'!$A:$N,EM77,BH$7)=\"\",\"\",INDEX('E_Tokovi izvora'!$A:$N,EM77,BH$7)))","v":""},{"$f":"IF($E77=\"\",\"\",IF(INDEX('E_Tokovi izvora'!$A:$N,EN77,BI$7)=\"\",\"\",INDEX('E_Tokovi izvora'!$A:$N,EN77,BI$7)))","v":""},{"$f":"IF($E77=\"\",\"\",IF(INDEX('E_Tokovi izvora'!$A:$N,EO77,BJ$7)=\"\",\"\",INDEX('E_Tokovi izvora'!$A:$N,EO77,BJ$7)))","v":""},{"$f":"IF($E77=\"\",\"\",IF(INDEX('E_Tokovi izvora'!$A:$N,EP77,BK$7)=\"\",\"\",INDEX('E_Tokovi izvora'!$A:$N,EP77,BK$7)))","v":""},{"$f":"IF($E77=\"\",\"\",IF(INDEX('E_Tokovi izvora'!$A:$N,EQ77,BL$7)=\"\",\"\",INDEX('E_Tokovi izvora'!$A:$N,EQ77,BL$7)))","v":""},{"$f":"IF($E77=\"\",\"\",IF(INDEX('E_Tokovi izvora'!$A:$N,ER77,BM$7)=\"\",\"\",INDEX('E_Tokovi izvora'!$A:$N,ER77,BM$7)))","v":""},{"$f":"IF($E77=\"\",\"\",IF(INDEX('E_Tokovi izvora'!$A:$N,ES77,BN$7)=\"\",\"\",INDEX('E_Tokovi izvora'!$A:$N,ES77,BN$7)))","v":""},{"$f":"IF($E77=\"\",\"\",IF(INDEX('E_Tokovi izvora'!$A:$N,ET77,BO$7)=\"\",\"\",INDEX('E_Tokovi izvora'!$A:$N,ET77,BO$7)))","v":""},{"$f":"IF($E77=\"\",\"\",IF(INDEX('E_Tokovi izvora'!$A:$N,EU77,BP$7)=\"\",\"\",INDEX('E_Tokovi izvora'!$A:$N,EU77,BP$7)))","v":""},{"$f":"IF($E77=\"\",\"\",IF(INDEX('E_Tokovi izvora'!$A:$N,EV77,BQ$7)=\"\",\"\",INDEX('E_Tokovi izvora'!$A:$N,EV77,BQ$7)))","v":""},{"$f":"IF($E77=\"\",\"\",IF(INDEX('E_Tokovi izvora'!$A:$N,EW77,BR$7)=\"\",\"\",INDEX('E_Tokovi izvora'!$A:$N,EW77,BR$7)))","v":""},{"$f":"IF($E77=\"\",\"\",IF(INDEX('E_Tokovi izvora'!$A:$N,EX77,BS$7)=\"\",\"\",INDEX('E_Tokovi izvora'!$A:$N,EX77,BS$7)))","v":""},{"$f":"IF($E77=\"\",\"\",IF(INDEX('E_Tokovi izvora'!$A:$N,EY77,BT$7)=\"\",\"\",INDEX('E_Tokovi izvora'!$A:$N,EY77,BT$7)))","v":""},null,null,null,null,null,null,null,null,null,null,null,null,null,null,null,"SourceCategory_",{"$f":"INDEX('C_Opis postrojenja'!$A$226:$A$332,ROWS($CI$11:CI77))=\"ausblenden\"","v":true},"SourceStreamName_",null,4489,{"$f":"CO76+66","v":4491},{"$f":"CP76+66","v":4493},{"$f":"CQ76+66","v":4495},{"$f":"CR76+66","v":4497},{"$f":"CS76+66","v":4499},{"$f":"CT76+66","v":4501},{"$f":"CU76+66","v":4501},{"$f":"CV76+66","v":4501},{"$f":"CW76+66","v":4501},{"$f":"CX76+66","v":4501},{"$f":"CY76+66","v":4504},{"$f":"CZ76+66","v":4508},{"$f":"DA76+66","v":4509},{"$f":"DB76+66","v":4510},{"$f":"DC76+66","v":4517},{"$f":"DD76+66","v":4527},{"$f":"DE76+66","v":4527},{"$f":"DF76+66","v":4527},{"$f":"DG76+66","v":4527},{"$f":"DH76+66","v":4527},{"$f":"DI76+66","v":4527},{"$f":"DJ76+66","v":4527},{"$f":"DK76+66","v":4518},{"$f":"DL76+66","v":4528},{"$f":"DM76+66","v":4528},{"$f":"DN76+66","v":4528},{"$f":"DO76+66","v":4528},{"$f":"DP76+66","v":4528},{"$f":"DQ76+66","v":4528},{"$f":"DR76+66","v":4528},{"$f":"DS76+66","v":4519},{"$f":"DT76+66","v":4529},{"$f":"DU76+66","v":4529},{"$f":"DV76+66","v":4529},{"$f":"DW76+66","v":4529},{"$f":"DX76+66","v":4529},{"$f":"DY76+66","v":4529},{"$f":"DZ76+66","v":4529},{"$f":"EA76+66","v":4520},{"$f":"EB76+66","v":4530},{"$f":"EC76+66","v":4530},{"$f":"ED76+66","v":4530},{"$f":"EE76+66","v":4530},{"$f":"EF76+66","v":4530},{"$f":"EG76+66","v":4530},{"$f":"EH76+66","v":4530},{"$f":"EI76+66","v":4521},{"$f":"EJ76+66","v":4531},{"$f":"EK76+66","v":4531},{"$f":"EL76+66","v":4531},{"$f":"EM76+66","v":4531},{"$f":"EN76+66","v":4531},{"$f":"EO76+66","v":4531},{"$f":"EP76+66","v":4531},{"$f":"EQ76+66","v":4522},{"$f":"ER76+66","v":4532},{"$f":"ES76+66","v":4532},{"$f":"ET76+66","v":4532},{"$f":"EU76+66","v":4532},{"$f":"EV76+66","v":4532},{"$f":"EW76+66","v":4532},{"$f":"EX76+66","v":4532},{"$f":"EY76+66","v":4538}]
[null,{"$f":"IF(COUNTIF($CK$10:CK78,TRUE)>0,\"\",INDEX('C_Opis postrojenja'!$E$226:$E$242,ROWS($A$11:A78)))","v":""},{"$f":"IF($E78=\"\",\"\",INDEX('C_Opis postrojenja'!F:F,MATCH($B78,'C_Opis postrojenja'!$E:$E,0)))","v":""},{"$f":"IF($E78=\"\",\"\",INDEX('C_Opis postrojenja'!I:I,MATCH($B78,'C_Opis postrojenja'!$E:$E,0)))","v":""},{"$f":"IF($B78=\"\",\"\",INDEX('C_Opis postrojenja'!F:F,MATCH($CJ78,'C_Opis postrojenja'!$Q:$Q,0)))","v":""},{"$f":"IF($E78=\"\",\"\",INDEX('C_Opis postrojenja'!L:L,MATCH($CJ78,'C_Opis postrojenja'!$Q:$Q,0)))","v":""},{"$f":"IF($E78=\"\",\"\",INDEX('C_Opis postrojenja'!M:M,MATCH($CJ78,'C_Opis postrojenja'!$Q:$Q,0)))","v":""},{"$f":"IF($E78=\"\",\"\",INDEX('C_Opis postrojenja'!N:N,MATCH($CJ78,'C_Opis postrojenja'!$Q:$Q,0)))","v":""},{"$f":"IF($E78=\"\",\"\",IF(INDEX('E_Tokovi izvora'!$A:$N,CN78,I$7)=\"\",\"\",INDEX('E_Tokovi izvora'!$A:$N,CN78,I$7)))","v":""},{"$f":"IF($E78=\"\",\"\",IF(INDEX('E_Tokovi izvora'!$A:$N,CO78,J$7)=\"\",\"\",INDEX('E_Tokovi izvora'!$A:$N,CO78,J$7)))","v":""},{"$f":"IF($E78=\"\",\"\",IF(INDEX('E_Tokovi izvora'!$A:$N,CP78,K$7)=\"\",\"\",INDEX('E_Tokovi izvora'!$A:$N,CP78,K$7)))","v":""},{"$f":"IF($E78=\"\",\"\",IF(INDEX('E_Tokovi izvora'!$A:$N,CQ78,L$7)=\"\",\"\",INDEX('E_Tokovi izvora'!$A:$N,CQ78,L$7)))","v":""},{"$f":"IF($E78=\"\",\"\",IF(INDEX('E_Tokovi izvora'!$A:$N,CR78,M$7)=\"\",\"\",INDEX('E_Tokovi izvora'!$A:$N,CR78,M$7)))","v":""},{"$f":"IF($E78=\"\",\"\",IF(INDEX('E_Tokovi izvora'!$A:$N,CS78,N$7)=\"\",\"\",INDEX('E_Tokovi izvora'!$A:$N,CS78,N$7)))","v":""},{"$f":"IF($E78=\"\",\"\",IF(INDEX('E_Tokovi izvora'!$A:$N,CT78,O$7)=\"\",\"\",INDEX('E_Tokovi izvora'!$A:$N,CT78,O$7)))","v":""},{"$f":"IF($E78=\"\",\"\",IF(INDEX('E_Tokovi izvora'!$A:$N,CU78,P$7)=\"\",\"\",INDEX('E_Tokovi izvora'!$A:$N,CU78,P$7)))","v":""},{"$f":"IF($E78=\"\",\"\",IF(INDEX('E_Tokovi izvora'!$A:$N,CV78,Q$7)=\"\",\"\",INDEX('E_Tokovi izvora'!$A:$N,CV78,Q$7)))","v":""},{"$f":"IF($E78=\"\",\"\",IF(INDEX('E_Tokovi izvora'!$A:$N,CW78,R$7)=\"\",\"\",INDEX('E_Tokovi izvora'!$A:$N,CW78,R$7)))","v":""},{"$f":"IF($E78=\"\",\"\",IF(INDEX('E_Tokovi izvora'!$A:$N,CX78,S$7)=\"\",\"\",INDEX('E_Tokovi izvora'!$A:$N,CX78,S$7)))","v":""},{"$f":"IF($E78=\"\",\"\",IF(INDEX('E_Tokovi izvora'!$A:$N,CY78,T$7)=\"\",\"\",INDEX('E_Tokovi izvora'!$A:$N,CY78,T$7)))","v":""},{"$f":"IF($E78=\"\",\"\",IF(INDEX('E_Tokovi izvora'!$A:$N,CZ78,U$7)=\"\",\"\",INDEX('E_Tokovi izvora'!$A:$N,CZ78,U$7)))","v":""},{"$f":"IF($E78=\"\",\"\",IF(INDEX('E_Tokovi izvora'!$A:$N,DA78,V$7)=\"\",\"\",INDEX('E_Tokovi izvora'!$A:$N,DA78,V$7)))","v":""},{"$f":"IF($E78=\"\",\"\",IF(INDEX('E_Tokovi izvora'!$A:$N,DB78,W$7)=\"\",\"\",INDEX('E_Tokovi izvora'!$A:$N,DB78,W$7)))","v":""},{"$f":"IF($E78=\"\",\"\",IF(INDEX('E_Tokovi izvora'!$A:$N,DC78,X$7)=\"\",\"\",INDEX('E_Tokovi izvora'!$A:$N,DC78,X$7)))","v":""},{"$f":"IF($E78=\"\",\"\",IF(INDEX('E_Tokovi izvora'!$A:$N,DD78,Y$7)=\"\",\"\",INDEX('E_Tokovi izvora'!$A:$N,DD78,Y$7)))","v":""},{"$f":"IF($E78=\"\",\"\",IF(INDEX('E_Tokovi izvora'!$A:$N,DE78,Z$7)=\"\",\"\",INDEX('E_Tokovi izvora'!$A:$N,DE78,Z$7)))","v":""},{"$f":"IF($E78=\"\",\"\",IF(INDEX('E_Tokovi izvora'!$A:$N,DF78,AA$7)=\"\",\"\",INDEX('E_Tokovi izvora'!$A:$N,DF78,AA$7)))","v":""},{"$f":"IF($E78=\"\",\"\",IF(INDEX('E_Tokovi izvora'!$A:$N,DG78,AB$7)=\"\",\"\",INDEX('E_Tokovi izvora'!$A:$N,DG78,AB$7)))","v":""},{"$f":"IF($E78=\"\",\"\",IF(INDEX('E_Tokovi izvora'!$A:$N,DH78,AC$7)=\"\",\"\",INDEX('E_Tokovi izvora'!$A:$N,DH78,AC$7)))","v":""},{"$f":"IF($E78=\"\",\"\",IF(INDEX('E_Tokovi izvora'!$A:$N,DI78,AD$7)=\"\",\"\",INDEX('E_Tokovi izvora'!$A:$N,DI78,AD$7)))","v":""},{"$f":"IF($E78=\"\",\"\",IF(INDEX('E_Tokovi izvora'!$A:$N,DJ78,AE$7)=\"\",\"\",INDEX('E_Tokovi izvora'!$A:$N,DJ78,AE$7)))","v":""},{"$f":"IF($E78=\"\",\"\",IF(INDEX('E_Tokovi izvora'!$A:$N,DK78,AF$7)=\"\",\"\",INDEX('E_Tokovi izvora'!$A:$N,DK78,AF$7)))","v":""},{"$f":"IF($E78=\"\",\"\",IF(INDEX('E_Tokovi izvora'!$A:$N,DL78,AG$7)=\"\",\"\",INDEX('E_Tokovi izvora'!$A:$N,DL78,AG$7)))","v":""},{"$f":"IF($E78=\"\",\"\",IF(INDEX('E_Tokovi izvora'!$A:$N,DM78,AH$7)=\"\",\"\",INDEX('E_Tokovi izvora'!$A:$N,DM78,AH$7)))","v":""},{"$f":"IF($E78=\"\",\"\",IF(INDEX('E_Tokovi izvora'!$A:$N,DN78,AI$7)=\"\",\"\",INDEX('E_Tokovi izvora'!$A:$N,DN78,AI$7)))","v":""},{"$f":"IF($E78=\"\",\"\",IF(INDEX('E_Tokovi izvora'!$A:$N,DO78,AJ$7)=\"\",\"\",INDEX('E_Tokovi izvora'!$A:$N,DO78,AJ$7)))","v":""},{"$f":"IF($E78=\"\",\"\",IF(INDEX('E_Tokovi izvora'!$A:$N,DP78,AK$7)=\"\",\"\",INDEX('E_Tokovi izvora'!$A:$N,DP78,AK$7)))","v":""},{"$f":"IF($E78=\"\",\"\",IF(INDEX('E_Tokovi izvora'!$A:$N,DQ78,AL$7)=\"\",\"\",INDEX('E_Tokovi izvora'!$A:$N,DQ78,AL$7)))","v":""},{"$f":"IF($E78=\"\",\"\",IF(INDEX('E_Tokovi izvora'!$A:$N,DR78,AM$7)=\"\",\"\",INDEX('E_Tokovi izvora'!$A:$N,DR78,AM$7)))","v":""},{"$f":"IF($E78=\"\",\"\",IF(INDEX('E_Tokovi izvora'!$A:$N,DS78,AN$7)=\"\",\"\",INDEX('E_Tokovi izvora'!$A:$N,DS78,AN$7)))","v":""},{"$f":"IF($E78=\"\",\"\",IF(INDEX('E_Tokovi izvora'!$A:$N,DT78,AO$7)=\"\",\"\",INDEX('E_Tokovi izvora'!$A:$N,DT78,AO$7)))","v":""},{"$f":"IF($E78=\"\",\"\",IF(INDEX('E_Tokovi izvora'!$A:$N,DU78,AP$7)=\"\",\"\",INDEX('E_Tokovi izvora'!$A:$N,DU78,AP$7)))","v":""},{"$f":"IF($E78=\"\",\"\",IF(INDEX('E_Tokovi izvora'!$A:$N,DV78,AQ$7)=\"\",\"\",INDEX('E_Tokovi izvora'!$A:$N,DV78,AQ$7)))","v":""},{"$f":"IF($E78=\"\",\"\",IF(INDEX('E_Tokovi izvora'!$A:$N,DW78,AR$7)=\"\",\"\",INDEX('E_Tokovi izvora'!$A:$N,DW78,AR$7)))","v":""},{"$f":"IF($E78=\"\",\"\",IF(INDEX('E_Tokovi izvora'!$A:$N,DX78,AS$7)=\"\",\"\",INDEX('E_Tokovi izvora'!$A:$N,DX78,AS$7)))","v":""},{"$f":"IF($E78=\"\",\"\",IF(INDEX('E_Tokovi izvora'!$A:$N,DY78,AT$7)=\"\",\"\",INDEX('E_Tokovi izvora'!$A:$N,DY78,AT$7)))","v":""},{"$f":"IF($E78=\"\",\"\",IF(INDEX('E_Tokovi izvora'!$A:$N,DZ78,AU$7)=\"\",\"\",INDEX('E_Tokovi izvora'!$A:$N,DZ78,AU$7)))","v":""},{"$f":"IF($E78=\"\",\"\",IF(INDEX('E_Tokovi izvora'!$A:$N,EA78,AV$7)=\"\",\"\",INDEX('E_Tokovi izvora'!$A:$N,EA78,AV$7)))","v":""},{"$f":"IF($E78=\"\",\"\",IF(INDEX('E_Tokovi izvora'!$A:$N,EB78,AW$7)=\"\",\"\",INDEX('E_Tokovi izvora'!$A:$N,EB78,AW$7)))","v":""},{"$f":"IF($E78=\"\",\"\",IF(INDEX('E_Tokovi izvora'!$A:$N,EC78,AX$7)=\"\",\"\",INDEX('E_Tokovi izvora'!$A:$N,EC78,AX$7)))","v":""},{"$f":"IF($E78=\"\",\"\",IF(INDEX('E_Tokovi izvora'!$A:$N,ED78,AY$7)=\"\",\"\",INDEX('E_Tokovi izvora'!$A:$N,ED78,AY$7)))","v":""},{"$f":"IF($E78=\"\",\"\",IF(INDEX('E_Tokovi izvora'!$A:$N,EE78,AZ$7)=\"\",\"\",INDEX('E_Tokovi izvora'!$A:$N,EE78,AZ$7)))","v":""},{"$f":"IF($E78=\"\",\"\",IF(INDEX('E_Tokovi izvora'!$A:$N,EF78,BA$7)=\"\",\"\",INDEX('E_Tokovi izvora'!$A:$N,EF78,BA$7)))","v":""},{"$f":"IF($E78=\"\",\"\",IF(INDEX('E_Tokovi izvora'!$A:$N,EG78,BB$7)=\"\",\"\",INDEX('E_Tokovi izvora'!$A:$N,EG78,BB$7)))","v":""},{"$f":"IF($E78=\"\",\"\",IF(INDEX('E_Tokovi izvora'!$A:$N,EH78,BC$7)=\"\",\"\",INDEX('E_Tokovi izvora'!$A:$N,EH78,BC$7)))","v":""},{"$f":"IF($E78=\"\",\"\",IF(INDEX('E_Tokovi izvora'!$A:$N,EI78,BD$7)=\"\",\"\",INDEX('E_Tokovi izvora'!$A:$N,EI78,BD$7)))","v":""},{"$f":"IF($E78=\"\",\"\",IF(INDEX('E_Tokovi izvora'!$A:$N,EJ78,BE$7)=\"\",\"\",INDEX('E_Tokovi izvora'!$A:$N,EJ78,BE$7)))","v":""},{"$f":"IF($E78=\"\",\"\",IF(INDEX('E_Tokovi izvora'!$A:$N,EK78,BF$7)=\"\",\"\",INDEX('E_Tokovi izvora'!$A:$N,EK78,BF$7)))","v":""},{"$f":"IF($E78=\"\",\"\",IF(INDEX('E_Tokovi izvora'!$A:$N,EL78,BG$7)=\"\",\"\",INDEX('E_Tokovi izvora'!$A:$N,EL78,BG$7)))","v":""},{"$f":"IF($E78=\"\",\"\",IF(INDEX('E_Tokovi izvora'!$A:$N,EM78,BH$7)=\"\",\"\",INDEX('E_Tokovi izvora'!$A:$N,EM78,BH$7)))","v":""},{"$f":"IF($E78=\"\",\"\",IF(INDEX('E_Tokovi izvora'!$A:$N,EN78,BI$7)=\"\",\"\",INDEX('E_Tokovi izvora'!$A:$N,EN78,BI$7)))","v":""},{"$f":"IF($E78=\"\",\"\",IF(INDEX('E_Tokovi izvora'!$A:$N,EO78,BJ$7)=\"\",\"\",INDEX('E_Tokovi izvora'!$A:$N,EO78,BJ$7)))","v":""},{"$f":"IF($E78=\"\",\"\",IF(INDEX('E_Tokovi izvora'!$A:$N,EP78,BK$7)=\"\",\"\",INDEX('E_Tokovi izvora'!$A:$N,EP78,BK$7)))","v":""},{"$f":"IF($E78=\"\",\"\",IF(INDEX('E_Tokovi izvora'!$A:$N,EQ78,BL$7)=\"\",\"\",INDEX('E_Tokovi izvora'!$A:$N,EQ78,BL$7)))","v":""},{"$f":"IF($E78=\"\",\"\",IF(INDEX('E_Tokovi izvora'!$A:$N,ER78,BM$7)=\"\",\"\",INDEX('E_Tokovi izvora'!$A:$N,ER78,BM$7)))","v":""},{"$f":"IF($E78=\"\",\"\",IF(INDEX('E_Tokovi izvora'!$A:$N,ES78,BN$7)=\"\",\"\",INDEX('E_Tokovi izvora'!$A:$N,ES78,BN$7)))","v":""},{"$f":"IF($E78=\"\",\"\",IF(INDEX('E_Tokovi izvora'!$A:$N,ET78,BO$7)=\"\",\"\",INDEX('E_Tokovi izvora'!$A:$N,ET78,BO$7)))","v":""},{"$f":"IF($E78=\"\",\"\",IF(INDEX('E_Tokovi izvora'!$A:$N,EU78,BP$7)=\"\",\"\",INDEX('E_Tokovi izvora'!$A:$N,EU78,BP$7)))","v":""},{"$f":"IF($E78=\"\",\"\",IF(INDEX('E_Tokovi izvora'!$A:$N,EV78,BQ$7)=\"\",\"\",INDEX('E_Tokovi izvora'!$A:$N,EV78,BQ$7)))","v":""},{"$f":"IF($E78=\"\",\"\",IF(INDEX('E_Tokovi izvora'!$A:$N,EW78,BR$7)=\"\",\"\",INDEX('E_Tokovi izvora'!$A:$N,EW78,BR$7)))","v":""},{"$f":"IF($E78=\"\",\"\",IF(INDEX('E_Tokovi izvora'!$A:$N,EX78,BS$7)=\"\",\"\",INDEX('E_Tokovi izvora'!$A:$N,EX78,BS$7)))","v":""},{"$f":"IF($E78=\"\",\"\",IF(INDEX('E_Tokovi izvora'!$A:$N,EY78,BT$7)=\"\",\"\",INDEX('E_Tokovi izvora'!$A:$N,EY78,BT$7)))","v":""},null,null,null,null,null,null,null,null,null,null,null,null,null,null,null,"SourceCategory_",{"$f":"INDEX('C_Opis postrojenja'!$A$226:$A$332,ROWS($CI$11:CI78))=\"ausblenden\"","v":true},"SourceStreamName_",null,{"$f":"CN77+66","v":4555},4557,4559,4561,4563,4565,4567,4567,4567,4567,4567,4570,4574,4575,4576,4583,4593,4593,4593,4593,4593,4593,4593,4584,4594,4594,4594,4594,4594,4594,4594,4585,4595,4595,4595,4595,4595,4595,4595,4586,4596,4596,4596,4596,4596,4596,4596,4587,4597,4597,4597,4597,4597,4597,4597,4588,4598,4598,4598,4598,4598,4598,4598,4604]
[null,{"$f":"IF(COUNTIF($CK$10:CK79,TRUE)>0,\"\",INDEX('C_Opis postrojenja'!$E$226:$E$242,ROWS($A$11:A79)))","v":""},{"$f":"IF($E79=\"\",\"\",INDEX('C_Opis postrojenja'!F:F,MATCH($B79,'C_Opis postrojenja'!$E:$E,0)))","v":""},{"$f":"IF($E79=\"\",\"\",INDEX('C_Opis postrojenja'!I:I,MATCH($B79,'C_Opis postrojenja'!$E:$E,0)))","v":""},{"$f":"IF($B79=\"\",\"\",INDEX('C_Opis postrojenja'!F:F,MATCH($CJ79,'C_Opis postrojenja'!$Q:$Q,0)))","v":""},{"$f":"IF($E79=\"\",\"\",INDEX('C_Opis postrojenja'!L:L,MATCH($CJ79,'C_Opis postrojenja'!$Q:$Q,0)))","v":""},{"$f":"IF($E79=\"\",\"\",INDEX('C_Opis postrojenja'!M:M,MATCH($CJ79,'C_Opis postrojenja'!$Q:$Q,0)))","v":""},{"$f":"IF($E79=\"\",\"\",INDEX('C_Opis postrojenja'!N:N,MATCH($CJ79,'C_Opis postrojenja'!$Q:$Q,0)))","v":""},{"$f":"IF($E79=\"\",\"\",IF(INDEX('E_Tokovi izvora'!$A:$N,CN79,I$7)=\"\",\"\",INDEX('E_Tokovi izvora'!$A:$N,CN79,I$7)))","v":""},{"$f":"IF($E79=\"\",\"\",IF(INDEX('E_Tokovi izvora'!$A:$N,CO79,J$7)=\"\",\"\",INDEX('E_Tokovi izvora'!$A:$N,CO79,J$7)))","v":""},{"$f":"IF($E79=\"\",\"\",IF(INDEX('E_Tokovi izvora'!$A:$N,CP79,K$7)=\"\",\"\",INDEX('E_Tokovi izvora'!$A:$N,CP79,K$7)))","v":""},{"$f":"IF($E79=\"\",\"\",IF(INDEX('E_Tokovi izvora'!$A:$N,CQ79,L$7)=\"\",\"\",INDEX('E_Tokovi izvora'!$A:$N,CQ79,L$7)))","v":""},{"$f":"IF($E79=\"\",\"\",IF(INDEX('E_Tokovi izvora'!$A:$N,CR79,M$7)=\"\",\"\",INDEX('E_Tokovi izvora'!$A:$N,CR79,M$7)))","v":""},{"$f":"IF($E79=\"\",\"\",IF(INDEX('E_Tokovi izvora'!$A:$N,CS79,N$7)=\"\",\"\",INDEX('E_Tokovi izvora'!$A:$N,CS79,N$7)))","v":""},{"$f":"IF($E79=\"\",\"\",IF(INDEX('E_Tokovi izvora'!$A:$N,CT79,O$7)=\"\",\"\",INDEX('E_Tokovi izvora'!$A:$N,CT79,O$7)))","v":""},{"$f":"IF($E79=\"\",\"\",IF(INDEX('E_Tokovi izvora'!$A:$N,CU79,P$7)=\"\",\"\",INDEX('E_Tokovi izvora'!$A:$N,CU79,P$7)))","v":""},{"$f":"IF($E79=\"\",\"\",IF(INDEX('E_Tokovi izvora'!$A:$N,CV79,Q$7)=\"\",\"\",INDEX('E_Tokovi izvora'!$A:$N,CV79,Q$7)))","v":""},{"$f":"IF($E79=\"\",\"\",IF(INDEX('E_Tokovi izvora'!$A:$N,CW79,R$7)=\"\",\"\",INDEX('E_Tokovi izvora'!$A:$N,CW79,R$7)))","v":""},{"$f":"IF($E79=\"\",\"\",IF(INDEX('E_Tokovi izvora'!$A:$N,CX79,S$7)=\"\",\"\",INDEX('E_Tokovi izvora'!$A:$N,CX79,S$7)))","v":""},{"$f":"IF($E79=\"\",\"\",IF(INDEX('E_Tokovi izvora'!$A:$N,CY79,T$7)=\"\",\"\",INDEX('E_Tokovi izvora'!$A:$N,CY79,T$7)))","v":""},{"$f":"IF($E79=\"\",\"\",IF(INDEX('E_Tokovi izvora'!$A:$N,CZ79,U$7)=\"\",\"\",INDEX('E_Tokovi izvora'!$A:$N,CZ79,U$7)))","v":""},{"$f":"IF($E79=\"\",\"\",IF(INDEX('E_Tokovi izvora'!$A:$N,DA79,V$7)=\"\",\"\",INDEX('E_Tokovi izvora'!$A:$N,DA79,V$7)))","v":""},{"$f":"IF($E79=\"\",\"\",IF(INDEX('E_Tokovi izvora'!$A:$N,DB79,W$7)=\"\",\"\",INDEX('E_Tokovi izvora'!$A:$N,DB79,W$7)))","v":""},{"$f":"IF($E79=\"\",\"\",IF(INDEX('E_Tokovi izvora'!$A:$N,DC79,X$7)=\"\",\"\",INDEX('E_Tokovi izvora'!$A:$N,DC79,X$7)))","v":""},{"$f":"IF($E79=\"\",\"\",IF(INDEX('E_Tokovi izvora'!$A:$N,DD79,Y$7)=\"\",\"\",INDEX('E_Tokovi izvora'!$A:$N,DD79,Y$7)))","v":""},{"$f":"IF($E79=\"\",\"\",IF(INDEX('E_Tokovi izvora'!$A:$N,DE79,Z$7)=\"\",\"\",INDEX('E_Tokovi izvora'!$A:$N,DE79,Z$7)))","v":""},{"$f":"IF($E79=\"\",\"\",IF(INDEX('E_Tokovi izvora'!$A:$N,DF79,AA$7)=\"\",\"\",INDEX('E_Tokovi izvora'!$A:$N,DF79,AA$7)))","v":""},{"$f":"IF($E79=\"\",\"\",IF(INDEX('E_Tokovi izvora'!$A:$N,DG79,AB$7)=\"\",\"\",INDEX('E_Tokovi izvora'!$A:$N,DG79,AB$7)))","v":""},{"$f":"IF($E79=\"\",\"\",IF(INDEX('E_Tokovi izvora'!$A:$N,DH79,AC$7)=\"\",\"\",INDEX('E_Tokovi izvora'!$A:$N,DH79,AC$7)))","v":""},{"$f":"IF($E79=\"\",\"\",IF(INDEX('E_Tokovi izvora'!$A:$N,DI79,AD$7)=\"\",\"\",INDEX('E_Tokovi izvora'!$A:$N,DI79,AD$7)))","v":""},{"$f":"IF($E79=\"\",\"\",IF(INDEX('E_Tokovi izvora'!$A:$N,DJ79,AE$7)=\"\",\"\",INDEX('E_Tokovi izvora'!$A:$N,DJ79,AE$7)))","v":""},{"$f":"IF($E79=\"\",\"\",IF(INDEX('E_Tokovi izvora'!$A:$N,DK79,AF$7)=\"\",\"\",INDEX('E_Tokovi izvora'!$A:$N,DK79,AF$7)))","v":""},{"$f":"IF($E79=\"\",\"\",IF(INDEX('E_Tokovi izvora'!$A:$N,DL79,AG$7)=\"\",\"\",INDEX('E_Tokovi izvora'!$A:$N,DL79,AG$7)))","v":""},{"$f":"IF($E79=\"\",\"\",IF(INDEX('E_Tokovi izvora'!$A:$N,DM79,AH$7)=\"\",\"\",INDEX('E_Tokovi izvora'!$A:$N,DM79,AH$7)))","v":""},{"$f":"IF($E79=\"\",\"\",IF(INDEX('E_Tokovi izvora'!$A:$N,DN79,AI$7)=\"\",\"\",INDEX('E_Tokovi izvora'!$A:$N,DN79,AI$7)))","v":""},{"$f":"IF($E79=\"\",\"\",IF(INDEX('E_Tokovi izvora'!$A:$N,DO79,AJ$7)=\"\",\"\",INDEX('E_Tokovi izvora'!$A:$N,DO79,AJ$7)))","v":""},{"$f":"IF($E79=\"\",\"\",IF(INDEX('E_Tokovi izvora'!$A:$N,DP79,AK$7)=\"\",\"\",INDEX('E_Tokovi izvora'!$A:$N,DP79,AK$7)))","v":""},{"$f":"IF($E79=\"\",\"\",IF(INDEX('E_Tokovi izvora'!$A:$N,DQ79,AL$7)=\"\",\"\",INDEX('E_Tokovi izvora'!$A:$N,DQ79,AL$7)))","v":""},{"$f":"IF($E79=\"\",\"\",IF(INDEX('E_Tokovi izvora'!$A:$N,DR79,AM$7)=\"\",\"\",INDEX('E_Tokovi izvora'!$A:$N,DR79,AM$7)))","v":""},{"$f":"IF($E79=\"\",\"\",IF(INDEX('E_Tokovi izvora'!$A:$N,DS79,AN$7)=\"\",\"\",INDEX('E_Tokovi izvora'!$A:$N,DS79,AN$7)))","v":""},{"$f":"IF($E79=\"\",\"\",IF(INDEX('E_Tokovi izvora'!$A:$N,DT79,AO$7)=\"\",\"\",INDEX('E_Tokovi izvora'!$A:$N,DT79,AO$7)))","v":""},{"$f":"IF($E79=\"\",\"\",IF(INDEX('E_Tokovi izvora'!$A:$N,DU79,AP$7)=\"\",\"\",INDEX('E_Tokovi izvora'!$A:$N,DU79,AP$7)))","v":""},{"$f":"IF($E79=\"\",\"\",IF(INDEX('E_Tokovi izvora'!$A:$N,DV79,AQ$7)=\"\",\"\",INDEX('E_Tokovi izvora'!$A:$N,DV79,AQ$7)))","v":""},{"$f":"IF($E79=\"\",\"\",IF(INDEX('E_Tokovi izvora'!$A:$N,DW79,AR$7)=\"\",\"\",INDEX('E_Tokovi izvora'!$A:$N,DW79,AR$7)))","v":""},{"$f":"IF($E79=\"\",\"\",IF(INDEX('E_Tokovi izvora'!$A:$N,DX79,AS$7)=\"\",\"\",INDEX('E_Tokovi izvora'!$A:$N,DX79,AS$7)))","v":""},{"$f":"IF($E79=\"\",\"\",IF(INDEX('E_Tokovi izvora'!$A:$N,DY79,AT$7)=\"\",\"\",INDEX('E_Tokovi izvora'!$A:$N,DY79,AT$7)))","v":""},{"$f":"IF($E79=\"\",\"\",IF(INDEX('E_Tokovi izvora'!$A:$N,DZ79,AU$7)=\"\",\"\",INDEX('E_Tokovi izvora'!$A:$N,DZ79,AU$7)))","v":""},{"$f":"IF($E79=\"\",\"\",IF(INDEX('E_Tokovi izvora'!$A:$N,EA79,AV$7)=\"\",\"\",INDEX('E_Tokovi izvora'!$A:$N,EA79,AV$7)))","v":""},{"$f":"IF($E79=\"\",\"\",IF(INDEX('E_Tokovi izvora'!$A:$N,EB79,AW$7)=\"\",\"\",INDEX('E_Tokovi izvora'!$A:$N,EB79,AW$7)))","v":""},{"$f":"IF($E79=\"\",\"\",IF(INDEX('E_Tokovi izvora'!$A:$N,EC79,AX$7)=\"\",\"\",INDEX('E_Tokovi izvora'!$A:$N,EC79,AX$7)))","v":""},{"$f":"IF($E79=\"\",\"\",IF(INDEX('E_Tokovi izvora'!$A:$N,ED79,AY$7)=\"\",\"\",INDEX('E_Tokovi izvora'!$A:$N,ED79,AY$7)))","v":""},{"$f":"IF($E79=\"\",\"\",IF(INDEX('E_Tokovi izvora'!$A:$N,EE79,AZ$7)=\"\",\"\",INDEX('E_Tokovi izvora'!$A:$N,EE79,AZ$7)))","v":""},{"$f":"IF($E79=\"\",\"\",IF(INDEX('E_Tokovi izvora'!$A:$N,EF79,BA$7)=\"\",\"\",INDEX('E_Tokovi izvora'!$A:$N,EF79,BA$7)))","v":""},{"$f":"IF($E79=\"\",\"\",IF(INDEX('E_Tokovi izvora'!$A:$N,EG79,BB$7)=\"\",\"\",INDEX('E_Tokovi izvora'!$A:$N,EG79,BB$7)))","v":""},{"$f":"IF($E79=\"\",\"\",IF(INDEX('E_Tokovi izvora'!$A:$N,EH79,BC$7)=\"\",\"\",INDEX('E_Tokovi izvora'!$A:$N,EH79,BC$7)))","v":""},{"$f":"IF($E79=\"\",\"\",IF(INDEX('E_Tokovi izvora'!$A:$N,EI79,BD$7)=\"\",\"\",INDEX('E_Tokovi izvora'!$A:$N,EI79,BD$7)))","v":""},{"$f":"IF($E79=\"\",\"\",IF(INDEX('E_Tokovi izvora'!$A:$N,EJ79,BE$7)=\"\",\"\",INDEX('E_Tokovi izvora'!$A:$N,EJ79,BE$7)))","v":""},{"$f":"IF($E79=\"\",\"\",IF(INDEX('E_Tokovi izvora'!$A:$N,EK79,BF$7)=\"\",\"\",INDEX('E_Tokovi izvora'!$A:$N,EK79,BF$7)))","v":""},{"$f":"IF($E79=\"\",\"\",IF(INDEX('E_Tokovi izvora'!$A:$N,EL79,BG$7)=\"\",\"\",INDEX('E_Tokovi izvora'!$A:$N,EL79,BG$7)))","v":""},{"$f":"IF($E79=\"\",\"\",IF(INDEX('E_Tokovi izvora'!$A:$N,EM79,BH$7)=\"\",\"\",INDEX('E_Tokovi izvora'!$A:$N,EM79,BH$7)))","v":""},{"$f":"IF($E79=\"\",\"\",IF(INDEX('E_Tokovi izvora'!$A:$N,EN79,BI$7)=\"\",\"\",INDEX('E_Tokovi izvora'!$A:$N,EN79,BI$7)))","v":""},{"$f":"IF($E79=\"\",\"\",IF(INDEX('E_Tokovi izvora'!$A:$N,EO79,BJ$7)=\"\",\"\",INDEX('E_Tokovi izvora'!$A:$N,EO79,BJ$7)))","v":""},{"$f":"IF($E79=\"\",\"\",IF(INDEX('E_Tokovi izvora'!$A:$N,EP79,BK$7)=\"\",\"\",INDEX('E_Tokovi izvora'!$A:$N,EP79,BK$7)))","v":""},{"$f":"IF($E79=\"\",\"\",IF(INDEX('E_Tokovi izvora'!$A:$N,EQ79,BL$7)=\"\",\"\",INDEX('E_Tokovi izvora'!$A:$N,EQ79,BL$7)))","v":""},{"$f":"IF($E79=\"\",\"\",IF(INDEX('E_Tokovi izvora'!$A:$N,ER79,BM$7)=\"\",\"\",INDEX('E_Tokovi izvora'!$A:$N,ER79,BM$7)))","v":""},{"$f":"IF($E79=\"\",\"\",IF(INDEX('E_Tokovi izvora'!$A:$N,ES79,BN$7)=\"\",\"\",INDEX('E_Tokovi izvora'!$A:$N,ES79,BN$7)))","v":""},{"$f":"IF($E79=\"\",\"\",IF(INDEX('E_Tokovi izvora'!$A:$N,ET79,BO$7)=\"\",\"\",INDEX('E_Tokovi izvora'!$A:$N,ET79,BO$7)))","v":""},{"$f":"IF($E79=\"\",\"\",IF(INDEX('E_Tokovi izvora'!$A:$N,EU79,BP$7)=\"\",\"\",INDEX('E_Tokovi izvora'!$A:$N,EU79,BP$7)))","v":""},{"$f":"IF($E79=\"\",\"\",IF(INDEX('E_Tokovi izvora'!$A:$N,EV79,BQ$7)=\"\",\"\",INDEX('E_Tokovi izvora'!$A:$N,EV79,BQ$7)))","v":""},{"$f":"IF($E79=\"\",\"\",IF(INDEX('E_Tokovi izvora'!$A:$N,EW79,BR$7)=\"\",\"\",INDEX('E_Tokovi izvora'!$A:$N,EW79,BR$7)))","v":""},{"$f":"IF($E79=\"\",\"\",IF(INDEX('E_Tokovi izvora'!$A:$N,EX79,BS$7)=\"\",\"\",INDEX('E_Tokovi izvora'!$A:$N,EX79,BS$7)))","v":""},{"$f":"IF($E79=\"\",\"\",IF(INDEX('E_Tokovi izvora'!$A:$N,EY79,BT$7)=\"\",\"\",INDEX('E_Tokovi izvora'!$A:$N,EY79,BT$7)))","v":""},null,null,null,null,null,null,null,null,null,null,null,null,null,null,null,"SourceCategory_",{"$f":"INDEX('C_Opis postrojenja'!$A$226:$A$332,ROWS($CI$11:CI79))=\"ausblenden\"","v":true},"SourceStreamName_",null,4621,4623,4625,4627,4629,4631,4633,4633,4633,4633,4633,4636,4640,4641,4642,4649,4659,4659,4659,4659,4659,4659,4659,4650,4660,4660,4660,4660,4660,4660,4660,4651,4661,4661,4661,4661,4661,4661,4661,4652,4662,4662,4662,4662,4662,4662,4662,4653,4663,4663,4663,4663,4663,4663,4663,4654,4664,4664,4664,4664,4664,4664,4664,4670]
[null,{"$f":"IF(COUNTIF($CK$10:CK80,TRUE)>0,\"\",INDEX('C_Opis postrojenja'!$E$226:$E$242,ROWS($A$11:A80)))","v":""},{"$f":"IF($E80=\"\",\"\",INDEX('C_Opis postrojenja'!F:F,MATCH($B80,'C_Opis postrojenja'!$E:$E,0)))","v":""},{"$f":"IF($E80=\"\",\"\",INDEX('C_Opis postrojenja'!I:I,MATCH($B80,'C_Opis postrojenja'!$E:$E,0)))","v":""},{"$f":"IF($B80=\"\",\"\",INDEX('C_Opis postrojenja'!F:F,MATCH($CJ80,'C_Opis postrojenja'!$Q:$Q,0)))","v":""},{"$f":"IF($E80=\"\",\"\",INDEX('C_Opis postrojenja'!L:L,MATCH($CJ80,'C_Opis postrojenja'!$Q:$Q,0)))","v":""},{"$f":"IF($E80=\"\",\"\",INDEX('C_Opis postrojenja'!M:M,MATCH($CJ80,'C_Opis postrojenja'!$Q:$Q,0)))","v":""},{"$f":"IF($E80=\"\",\"\",INDEX('C_Opis postrojenja'!N:N,MATCH($CJ80,'C_Opis postrojenja'!$Q:$Q,0)))","v":""},{"$f":"IF($E80=\"\",\"\",IF(INDEX('E_Tokovi izvora'!$A:$N,CN80,I$7)=\"\",\"\",INDEX('E_Tokovi izvora'!$A:$N,CN80,I$7)))","v":""},{"$f":"IF($E80=\"\",\"\",IF(INDEX('E_Tokovi izvora'!$A:$N,CO80,J$7)=\"\",\"\",INDEX('E_Tokovi izvora'!$A:$N,CO80,J$7)))","v":""},{"$f":"IF($E80=\"\",\"\",IF(INDEX('E_Tokovi izvora'!$A:$N,CP80,K$7)=\"\",\"\",INDEX('E_Tokovi izvora'!$A:$N,CP80,K$7)))","v":""},{"$f":"IF($E80=\"\",\"\",IF(INDEX('E_Tokovi izvora'!$A:$N,CQ80,L$7)=\"\",\"\",INDEX('E_Tokovi izvora'!$A:$N,CQ80,L$7)))","v":""},{"$f":"IF($E80=\"\",\"\",IF(INDEX('E_Tokovi izvora'!$A:$N,CR80,M$7)=\"\",\"\",INDEX('E_Tokovi izvora'!$A:$N,CR80,M$7)))","v":""},{"$f":"IF($E80=\"\",\"\",IF(INDEX('E_Tokovi izvora'!$A:$N,CS80,N$7)=\"\",\"\",INDEX('E_Tokovi izvora'!$A:$N,CS80,N$7)))","v":""},{"$f":"IF($E80=\"\",\"\",IF(INDEX('E_Tokovi izvora'!$A:$N,CT80,O$7)=\"\",\"\",INDEX('E_Tokovi izvora'!$A:$N,CT80,O$7)))","v":""},{"$f":"IF($E80=\"\",\"\",IF(INDEX('E_Tokovi izvora'!$A:$N,CU80,P$7)=\"\",\"\",INDEX('E_Tokovi izvora'!$A:$N,CU80,P$7)))","v":""},{"$f":"IF($E80=\"\",\"\",IF(INDEX('E_Tokovi izvora'!$A:$N,CV80,Q$7)=\"\",\"\",INDEX('E_Tokovi izvora'!$A:$N,CV80,Q$7)))","v":""},{"$f":"IF($E80=\"\",\"\",IF(INDEX('E_Tokovi izvora'!$A:$N,CW80,R$7)=\"\",\"\",INDEX('E_Tokovi izvora'!$A:$N,CW80,R$7)))","v":""},{"$f":"IF($E80=\"\",\"\",IF(INDEX('E_Tokovi izvora'!$A:$N,CX80,S$7)=\"\",\"\",INDEX('E_Tokovi izvora'!$A:$N,CX80,S$7)))","v":""},{"$f":"IF($E80=\"\",\"\",IF(INDEX('E_Tokovi izvora'!$A:$N,CY80,T$7)=\"\",\"\",INDEX('E_Tokovi izvora'!$A:$N,CY80,T$7)))","v":""},{"$f":"IF($E80=\"\",\"\",IF(INDEX('E_Tokovi izvora'!$A:$N,CZ80,U$7)=\"\",\"\",INDEX('E_Tokovi izvora'!$A:$N,CZ80,U$7)))","v":""},{"$f":"IF($E80=\"\",\"\",IF(INDEX('E_Tokovi izvora'!$A:$N,DA80,V$7)=\"\",\"\",INDEX('E_Tokovi izvora'!$A:$N,DA80,V$7)))","v":""},{"$f":"IF($E80=\"\",\"\",IF(INDEX('E_Tokovi izvora'!$A:$N,DB80,W$7)=\"\",\"\",INDEX('E_Tokovi izvora'!$A:$N,DB80,W$7)))","v":""},{"$f":"IF($E80=\"\",\"\",IF(INDEX('E_Tokovi izvora'!$A:$N,DC80,X$7)=\"\",\"\",INDEX('E_Tokovi izvora'!$A:$N,DC80,X$7)))","v":""},{"$f":"IF($E80=\"\",\"\",IF(INDEX('E_Tokovi izvora'!$A:$N,DD80,Y$7)=\"\",\"\",INDEX('E_Tokovi izvora'!$A:$N,DD80,Y$7)))","v":""},{"$f":"IF($E80=\"\",\"\",IF(INDEX('E_Tokovi izvora'!$A:$N,DE80,Z$7)=\"\",\"\",INDEX('E_Tokovi izvora'!$A:$N,DE80,Z$7)))","v":""},{"$f":"IF($E80=\"\",\"\",IF(INDEX('E_Tokovi izvora'!$A:$N,DF80,AA$7)=\"\",\"\",INDEX('E_Tokovi izvora'!$A:$N,DF80,AA$7)))","v":""},{"$f":"IF($E80=\"\",\"\",IF(INDEX('E_Tokovi izvora'!$A:$N,DG80,AB$7)=\"\",\"\",INDEX('E_Tokovi izvora'!$A:$N,DG80,AB$7)))","v":""},{"$f":"IF($E80=\"\",\"\",IF(INDEX('E_Tokovi izvora'!$A:$N,DH80,AC$7)=\"\",\"\",INDEX('E_Tokovi izvora'!$A:$N,DH80,AC$7)))","v":""},{"$f":"IF($E80=\"\",\"\",IF(INDEX('E_Tokovi izvora'!$A:$N,DI80,AD$7)=\"\",\"\",INDEX('E_Tokovi izvora'!$A:$N,DI80,AD$7)))","v":""},{"$f":"IF($E80=\"\",\"\",IF(INDEX('E_Tokovi izvora'!$A:$N,DJ80,AE$7)=\"\",\"\",INDEX('E_Tokovi izvora'!$A:$N,DJ80,AE$7)))","v":""},{"$f":"IF($E80=\"\",\"\",IF(INDEX('E_Tokovi izvora'!$A:$N,DK80,AF$7)=\"\",\"\",INDEX('E_Tokovi izvora'!$A:$N,DK80,AF$7)))","v":""},{"$f":"IF($E80=\"\",\"\",IF(INDEX('E_Tokovi izvora'!$A:$N,DL80,AG$7)=\"\",\"\",INDEX('E_Tokovi izvora'!$A:$N,DL80,AG$7)))","v":""},{"$f":"IF($E80=\"\",\"\",IF(INDEX('E_Tokovi izvora'!$A:$N,DM80,AH$7)=\"\",\"\",INDEX('E_Tokovi izvora'!$A:$N,DM80,AH$7)))","v":""},{"$f":"IF($E80=\"\",\"\",IF(INDEX('E_Tokovi izvora'!$A:$N,DN80,AI$7)=\"\",\"\",INDEX('E_Tokovi izvora'!$A:$N,DN80,AI$7)))","v":""},{"$f":"IF($E80=\"\",\"\",IF(INDEX('E_Tokovi izvora'!$A:$N,DO80,AJ$7)=\"\",\"\",INDEX('E_Tokovi izvora'!$A:$N,DO80,AJ$7)))","v":""},{"$f":"IF($E80=\"\",\"\",IF(INDEX('E_Tokovi izvora'!$A:$N,DP80,AK$7)=\"\",\"\",INDEX('E_Tokovi izvora'!$A:$N,DP80,AK$7)))","v":""},{"$f":"IF($E80=\"\",\"\",IF(INDEX('E_Tokovi izvora'!$A:$N,DQ80,AL$7)=\"\",\"\",INDEX('E_Tokovi izvora'!$A:$N,DQ80,AL$7)))","v":""},{"$f":"IF($E80=\"\",\"\",IF(INDEX('E_Tokovi izvora'!$A:$N,DR80,AM$7)=\"\",\"\",INDEX('E_Tokovi izvora'!$A:$N,DR80,AM$7)))","v":""},{"$f":"IF($E80=\"\",\"\",IF(INDEX('E_Tokovi izvora'!$A:$N,DS80,AN$7)=\"\",\"\",INDEX('E_Tokovi izvora'!$A:$N,DS80,AN$7)))","v":""},{"$f":"IF($E80=\"\",\"\",IF(INDEX('E_Tokovi izvora'!$A:$N,DT80,AO$7)=\"\",\"\",INDEX('E_Tokovi izvora'!$A:$N,DT80,AO$7)))","v":""},{"$f":"IF($E80=\"\",\"\",IF(INDEX('E_Tokovi izvora'!$A:$N,DU80,AP$7)=\"\",\"\",INDEX('E_Tokovi izvora'!$A:$N,DU80,AP$7)))","v":""},{"$f":"IF($E80=\"\",\"\",IF(INDEX('E_Tokovi izvora'!$A:$N,DV80,AQ$7)=\"\",\"\",INDEX('E_Tokovi izvora'!$A:$N,DV80,AQ$7)))","v":""},{"$f":"IF($E80=\"\",\"\",IF(INDEX('E_Tokovi izvora'!$A:$N,DW80,AR$7)=\"\",\"\",INDEX('E_Tokovi izvora'!$A:$N,DW80,AR$7)))","v":""},{"$f":"IF($E80=\"\",\"\",IF(INDEX('E_Tokovi izvora'!$A:$N,DX80,AS$7)=\"\",\"\",INDEX('E_Tokovi izvora'!$A:$N,DX80,AS$7)))","v":""},{"$f":"IF($E80=\"\",\"\",IF(INDEX('E_Tokovi izvora'!$A:$N,DY80,AT$7)=\"\",\"\",INDEX('E_Tokovi izvora'!$A:$N,DY80,AT$7)))","v":""},{"$f":"IF($E80=\"\",\"\",IF(INDEX('E_Tokovi izvora'!$A:$N,DZ80,AU$7)=\"\",\"\",INDEX('E_Tokovi izvora'!$A:$N,DZ80,AU$7)))","v":""},{"$f":"IF($E80=\"\",\"\",IF(INDEX('E_Tokovi izvora'!$A:$N,EA80,AV$7)=\"\",\"\",INDEX('E_Tokovi izvora'!$A:$N,EA80,AV$7)))","v":""},{"$f":"IF($E80=\"\",\"\",IF(INDEX('E_Tokovi izvora'!$A:$N,EB80,AW$7)=\"\",\"\",INDEX('E_Tokovi izvora'!$A:$N,EB80,AW$7)))","v":""},{"$f":"IF($E80=\"\",\"\",IF(INDEX('E_Tokovi izvora'!$A:$N,EC80,AX$7)=\"\",\"\",INDEX('E_Tokovi izvora'!$A:$N,EC80,AX$7)))","v":""},{"$f":"IF($E80=\"\",\"\",IF(INDEX('E_Tokovi izvora'!$A:$N,ED80,AY$7)=\"\",\"\",INDEX('E_Tokovi izvora'!$A:$N,ED80,AY$7)))","v":""},{"$f":"IF($E80=\"\",\"\",IF(INDEX('E_Tokovi izvora'!$A:$N,EE80,AZ$7)=\"\",\"\",INDEX('E_Tokovi izvora'!$A:$N,EE80,AZ$7)))","v":""},{"$f":"IF($E80=\"\",\"\",IF(INDEX('E_Tokovi izvora'!$A:$N,EF80,BA$7)=\"\",\"\",INDEX('E_Tokovi izvora'!$A:$N,EF80,BA$7)))","v":""},{"$f":"IF($E80=\"\",\"\",IF(INDEX('E_Tokovi izvora'!$A:$N,EG80,BB$7)=\"\",\"\",INDEX('E_Tokovi izvora'!$A:$N,EG80,BB$7)))","v":""},{"$f":"IF($E80=\"\",\"\",IF(INDEX('E_Tokovi izvora'!$A:$N,EH80,BC$7)=\"\",\"\",INDEX('E_Tokovi izvora'!$A:$N,EH80,BC$7)))","v":""},{"$f":"IF($E80=\"\",\"\",IF(INDEX('E_Tokovi izvora'!$A:$N,EI80,BD$7)=\"\",\"\",INDEX('E_Tokovi izvora'!$A:$N,EI80,BD$7)))","v":""},{"$f":"IF($E80=\"\",\"\",IF(INDEX('E_Tokovi izvora'!$A:$N,EJ80,BE$7)=\"\",\"\",INDEX('E_Tokovi izvora'!$A:$N,EJ80,BE$7)))","v":""},{"$f":"IF($E80=\"\",\"\",IF(INDEX('E_Tokovi izvora'!$A:$N,EK80,BF$7)=\"\",\"\",INDEX('E_Tokovi izvora'!$A:$N,EK80,BF$7)))","v":""},{"$f":"IF($E80=\"\",\"\",IF(INDEX('E_Tokovi izvora'!$A:$N,EL80,BG$7)=\"\",\"\",INDEX('E_Tokovi izvora'!$A:$N,EL80,BG$7)))","v":""},{"$f":"IF($E80=\"\",\"\",IF(INDEX('E_Tokovi izvora'!$A:$N,EM80,BH$7)=\"\",\"\",INDEX('E_Tokovi izvora'!$A:$N,EM80,BH$7)))","v":""},{"$f":"IF($E80=\"\",\"\",IF(INDEX('E_Tokovi izvora'!$A:$N,EN80,BI$7)=\"\",\"\",INDEX('E_Tokovi izvora'!$A:$N,EN80,BI$7)))","v":""},{"$f":"IF($E80=\"\",\"\",IF(INDEX('E_Tokovi izvora'!$A:$N,EO80,BJ$7)=\"\",\"\",INDEX('E_Tokovi izvora'!$A:$N,EO80,BJ$7)))","v":""},{"$f":"IF($E80=\"\",\"\",IF(INDEX('E_Tokovi izvora'!$A:$N,EP80,BK$7)=\"\",\"\",INDEX('E_Tokovi izvora'!$A:$N,EP80,BK$7)))","v":""},{"$f":"IF($E80=\"\",\"\",IF(INDEX('E_Tokovi izvora'!$A:$N,EQ80,BL$7)=\"\",\"\",INDEX('E_Tokovi izvora'!$A:$N,EQ80,BL$7)))","v":""},{"$f":"IF($E80=\"\",\"\",IF(INDEX('E_Tokovi izvora'!$A:$N,ER80,BM$7)=\"\",\"\",INDEX('E_Tokovi izvora'!$A:$N,ER80,BM$7)))","v":""},{"$f":"IF($E80=\"\",\"\",IF(INDEX('E_Tokovi izvora'!$A:$N,ES80,BN$7)=\"\",\"\",INDEX('E_Tokovi izvora'!$A:$N,ES80,BN$7)))","v":""},{"$f":"IF($E80=\"\",\"\",IF(INDEX('E_Tokovi izvora'!$A:$N,ET80,BO$7)=\"\",\"\",INDEX('E_Tokovi izvora'!$A:$N,ET80,BO$7)))","v":""},{"$f":"IF($E80=\"\",\"\",IF(INDEX('E_Tokovi izvora'!$A:$N,EU80,BP$7)=\"\",\"\",INDEX('E_Tokovi izvora'!$A:$N,EU80,BP$7)))","v":""},{"$f":"IF($E80=\"\",\"\",IF(INDEX('E_Tokovi izvora'!$A:$N,EV80,BQ$7)=\"\",\"\",INDEX('E_Tokovi izvora'!$A:$N,EV80,BQ$7)))","v":""},{"$f":"IF($E80=\"\",\"\",IF(INDEX('E_Tokovi izvora'!$A:$N,EW80,BR$7)=\"\",\"\",INDEX('E_Tokovi izvora'!$A:$N,EW80,BR$7)))","v":""},{"$f":"IF($E80=\"\",\"\",IF(INDEX('E_Tokovi izvora'!$A:$N,EX80,BS$7)=\"\",\"\",INDEX('E_Tokovi izvora'!$A:$N,EX80,BS$7)))","v":""},{"$f":"IF($E80=\"\",\"\",IF(INDEX('E_Tokovi izvora'!$A:$N,EY80,BT$7)=\"\",\"\",INDEX('E_Tokovi izvora'!$A:$N,EY80,BT$7)))","v":""},null,null,null,null,null,null,null,null,null,null,null,null,null,null,null,"SourceCategory_",{"$f":"INDEX('C_Opis postrojenja'!$A$226:$A$332,ROWS($CI$11:CI80))=\"ausblenden\"","v":true},"SourceStreamName_",null,4687,4689,4691,4693,4695,4697,4699,4699,4699,4699,4699,4702,4706,4707,4708,4715,4725,4725,4725,4725,4725,4725,4725,4716,4726,4726,4726,4726,4726,4726,4726,4717,4727,4727,4727,4727,4727,4727,4727,4718,4728,4728,4728,4728,4728,4728,4728,4719,4729,4729,4729,4729,4729,4729,4729,4720,4730,4730,4730,4730,4730,4730,4730,4736]
[null,{"$f":"IF(COUNTIF($CK$10:CK81,TRUE)>0,\"\",INDEX('C_Opis postrojenja'!$E$226:$E$242,ROWS($A$11:A81)))","v":""},{"$f":"IF($E81=\"\",\"\",INDEX('C_Opis postrojenja'!F:F,MATCH($B81,'C_Opis postrojenja'!$E:$E,0)))","v":""},{"$f":"IF($E81=\"\",\"\",INDEX('C_Opis postrojenja'!I:I,MATCH($B81,'C_Opis postrojenja'!$E:$E,0)))","v":""},{"$f":"IF($B81=\"\",\"\",INDEX('C_Opis postrojenja'!F:F,MATCH($CJ81,'C_Opis postrojenja'!$Q:$Q,0)))","v":""},{"$f":"IF($E81=\"\",\"\",INDEX('C_Opis postrojenja'!L:L,MATCH($CJ81,'C_Opis postrojenja'!$Q:$Q,0)))","v":""},{"$f":"IF($E81=\"\",\"\",INDEX('C_Opis postrojenja'!M:M,MATCH($CJ81,'C_Opis postrojenja'!$Q:$Q,0)))","v":""},{"$f":"IF($E81=\"\",\"\",INDEX('C_Opis postrojenja'!N:N,MATCH($CJ81,'C_Opis postrojenja'!$Q:$Q,0)))","v":""},{"$f":"IF($E81=\"\",\"\",IF(INDEX('E_Tokovi izvora'!$A:$N,CN81,I$7)=\"\",\"\",INDEX('E_Tokovi izvora'!$A:$N,CN81,I$7)))","v":""},{"$f":"IF($E81=\"\",\"\",IF(INDEX('E_Tokovi izvora'!$A:$N,CO81,J$7)=\"\",\"\",INDEX('E_Tokovi izvora'!$A:$N,CO81,J$7)))","v":""},{"$f":"IF($E81=\"\",\"\",IF(INDEX('E_Tokovi izvora'!$A:$N,CP81,K$7)=\"\",\"\",INDEX('E_Tokovi izvora'!$A:$N,CP81,K$7)))","v":""},{"$f":"IF($E81=\"\",\"\",IF(INDEX('E_Tokovi izvora'!$A:$N,CQ81,L$7)=\"\",\"\",INDEX('E_Tokovi izvora'!$A:$N,CQ81,L$7)))","v":""},{"$f":"IF($E81=\"\",\"\",IF(INDEX('E_Tokovi izvora'!$A:$N,CR81,M$7)=\"\",\"\",INDEX('E_Tokovi izvora'!$A:$N,CR81,M$7)))","v":""},{"$f":"IF($E81=\"\",\"\",IF(INDEX('E_Tokovi izvora'!$A:$N,CS81,N$7)=\"\",\"\",INDEX('E_Tokovi izvora'!$A:$N,CS81,N$7)))","v":""},{"$f":"IF($E81=\"\",\"\",IF(INDEX('E_Tokovi izvora'!$A:$N,CT81,O$7)=\"\",\"\",INDEX('E_Tokovi izvora'!$A:$N,CT81,O$7)))","v":""},{"$f":"IF($E81=\"\",\"\",IF(INDEX('E_Tokovi izvora'!$A:$N,CU81,P$7)=\"\",\"\",INDEX('E_Tokovi izvora'!$A:$N,CU81,P$7)))","v":""},{"$f":"IF($E81=\"\",\"\",IF(INDEX('E_Tokovi izvora'!$A:$N,CV81,Q$7)=\"\",\"\",INDEX('E_Tokovi izvora'!$A:$N,CV81,Q$7)))","v":""},{"$f":"IF($E81=\"\",\"\",IF(INDEX('E_Tokovi izvora'!$A:$N,CW81,R$7)=\"\",\"\",INDEX('E_Tokovi izvora'!$A:$N,CW81,R$7)))","v":""},{"$f":"IF($E81=\"\",\"\",IF(INDEX('E_Tokovi izvora'!$A:$N,CX81,S$7)=\"\",\"\",INDEX('E_Tokovi izvora'!$A:$N,CX81,S$7)))","v":""},{"$f":"IF($E81=\"\",\"\",IF(INDEX('E_Tokovi izvora'!$A:$N,CY81,T$7)=\"\",\"\",INDEX('E_Tokovi izvora'!$A:$N,CY81,T$7)))","v":""},{"$f":"IF($E81=\"\",\"\",IF(INDEX('E_Tokovi izvora'!$A:$N,CZ81,U$7)=\"\",\"\",INDEX('E_Tokovi izvora'!$A:$N,CZ81,U$7)))","v":""},{"$f":"IF($E81=\"\",\"\",IF(INDEX('E_Tokovi izvora'!$A:$N,DA81,V$7)=\"\",\"\",INDEX('E_Tokovi izvora'!$A:$N,DA81,V$7)))","v":""},{"$f":"IF($E81=\"\",\"\",IF(INDEX('E_Tokovi izvora'!$A:$N,DB81,W$7)=\"\",\"\",INDEX('E_Tokovi izvora'!$A:$N,DB81,W$7)))","v":""},{"$f":"IF($E81=\"\",\"\",IF(INDEX('E_Tokovi izvora'!$A:$N,DC81,X$7)=\"\",\"\",INDEX('E_Tokovi izvora'!$A:$N,DC81,X$7)))","v":""},{"$f":"IF($E81=\"\",\"\",IF(INDEX('E_Tokovi izvora'!$A:$N,DD81,Y$7)=\"\",\"\",INDEX('E_Tokovi izvora'!$A:$N,DD81,Y$7)))","v":""},{"$f":"IF($E81=\"\",\"\",IF(INDEX('E_Tokovi izvora'!$A:$N,DE81,Z$7)=\"\",\"\",INDEX('E_Tokovi izvora'!$A:$N,DE81,Z$7)))","v":""},{"$f":"IF($E81=\"\",\"\",IF(INDEX('E_Tokovi izvora'!$A:$N,DF81,AA$7)=\"\",\"\",INDEX('E_Tokovi izvora'!$A:$N,DF81,AA$7)))","v":""},{"$f":"IF($E81=\"\",\"\",IF(INDEX('E_Tokovi izvora'!$A:$N,DG81,AB$7)=\"\",\"\",INDEX('E_Tokovi izvora'!$A:$N,DG81,AB$7)))","v":""},{"$f":"IF($E81=\"\",\"\",IF(INDEX('E_Tokovi izvora'!$A:$N,DH81,AC$7)=\"\",\"\",INDEX('E_Tokovi izvora'!$A:$N,DH81,AC$7)))","v":""},{"$f":"IF($E81=\"\",\"\",IF(INDEX('E_Tokovi izvora'!$A:$N,DI81,AD$7)=\"\",\"\",INDEX('E_Tokovi izvora'!$A:$N,DI81,AD$7)))","v":""},{"$f":"IF($E81=\"\",\"\",IF(INDEX('E_Tokovi izvora'!$A:$N,DJ81,AE$7)=\"\",\"\",INDEX('E_Tokovi izvora'!$A:$N,DJ81,AE$7)))","v":""},{"$f":"IF($E81=\"\",\"\",IF(INDEX('E_Tokovi izvora'!$A:$N,DK81,AF$7)=\"\",\"\",INDEX('E_Tokovi izvora'!$A:$N,DK81,AF$7)))","v":""},{"$f":"IF($E81=\"\",\"\",IF(INDEX('E_Tokovi izvora'!$A:$N,DL81,AG$7)=\"\",\"\",INDEX('E_Tokovi izvora'!$A:$N,DL81,AG$7)))","v":""},{"$f":"IF($E81=\"\",\"\",IF(INDEX('E_Tokovi izvora'!$A:$N,DM81,AH$7)=\"\",\"\",INDEX('E_Tokovi izvora'!$A:$N,DM81,AH$7)))","v":""},{"$f":"IF($E81=\"\",\"\",IF(INDEX('E_Tokovi izvora'!$A:$N,DN81,AI$7)=\"\",\"\",INDEX('E_Tokovi izvora'!$A:$N,DN81,AI$7)))","v":""},{"$f":"IF($E81=\"\",\"\",IF(INDEX('E_Tokovi izvora'!$A:$N,DO81,AJ$7)=\"\",\"\",INDEX('E_Tokovi izvora'!$A:$N,DO81,AJ$7)))","v":""},{"$f":"IF($E81=\"\",\"\",IF(INDEX('E_Tokovi izvora'!$A:$N,DP81,AK$7)=\"\",\"\",INDEX('E_Tokovi izvora'!$A:$N,DP81,AK$7)))","v":""},{"$f":"IF($E81=\"\",\"\",IF(INDEX('E_Tokovi izvora'!$A:$N,DQ81,AL$7)=\"\",\"\",INDEX('E_Tokovi izvora'!$A:$N,DQ81,AL$7)))","v":""},{"$f":"IF($E81=\"\",\"\",IF(INDEX('E_Tokovi izvora'!$A:$N,DR81,AM$7)=\"\",\"\",INDEX('E_Tokovi izvora'!$A:$N,DR81,AM$7)))","v":""},{"$f":"IF($E81=\"\",\"\",IF(INDEX('E_Tokovi izvora'!$A:$N,DS81,AN$7)=\"\",\"\",INDEX('E_Tokovi izvora'!$A:$N,DS81,AN$7)))","v":""},{"$f":"IF($E81=\"\",\"\",IF(INDEX('E_Tokovi izvora'!$A:$N,DT81,AO$7)=\"\",\"\",INDEX('E_Tokovi izvora'!$A:$N,DT81,AO$7)))","v":""},{"$f":"IF($E81=\"\",\"\",IF(INDEX('E_Tokovi izvora'!$A:$N,DU81,AP$7)=\"\",\"\",INDEX('E_Tokovi izvora'!$A:$N,DU81,AP$7)))","v":""},{"$f":"IF($E81=\"\",\"\",IF(INDEX('E_Tokovi izvora'!$A:$N,DV81,AQ$7)=\"\",\"\",INDEX('E_Tokovi izvora'!$A:$N,DV81,AQ$7)))","v":""},{"$f":"IF($E81=\"\",\"\",IF(INDEX('E_Tokovi izvora'!$A:$N,DW81,AR$7)=\"\",\"\",INDEX('E_Tokovi izvora'!$A:$N,DW81,AR$7)))","v":""},{"$f":"IF($E81=\"\",\"\",IF(INDEX('E_Tokovi izvora'!$A:$N,DX81,AS$7)=\"\",\"\",INDEX('E_Tokovi izvora'!$A:$N,DX81,AS$7)))","v":""},{"$f":"IF($E81=\"\",\"\",IF(INDEX('E_Tokovi izvora'!$A:$N,DY81,AT$7)=\"\",\"\",INDEX('E_Tokovi izvora'!$A:$N,DY81,AT$7)))","v":""},{"$f":"IF($E81=\"\",\"\",IF(INDEX('E_Tokovi izvora'!$A:$N,DZ81,AU$7)=\"\",\"\",INDEX('E_Tokovi izvora'!$A:$N,DZ81,AU$7)))","v":""},{"$f":"IF($E81=\"\",\"\",IF(INDEX('E_Tokovi izvora'!$A:$N,EA81,AV$7)=\"\",\"\",INDEX('E_Tokovi izvora'!$A:$N,EA81,AV$7)))","v":""},{"$f":"IF($E81=\"\",\"\",IF(INDEX('E_Tokovi izvora'!$A:$N,EB81,AW$7)=\"\",\"\",INDEX('E_Tokovi izvora'!$A:$N,EB81,AW$7)))","v":""},{"$f":"IF($E81=\"\",\"\",IF(INDEX('E_Tokovi izvora'!$A:$N,EC81,AX$7)=\"\",\"\",INDEX('E_Tokovi izvora'!$A:$N,EC81,AX$7)))","v":""},{"$f":"IF($E81=\"\",\"\",IF(INDEX('E_Tokovi izvora'!$A:$N,ED81,AY$7)=\"\",\"\",INDEX('E_Tokovi izvora'!$A:$N,ED81,AY$7)))","v":""},{"$f":"IF($E81=\"\",\"\",IF(INDEX('E_Tokovi izvora'!$A:$N,EE81,AZ$7)=\"\",\"\",INDEX('E_Tokovi izvora'!$A:$N,EE81,AZ$7)))","v":""},{"$f":"IF($E81=\"\",\"\",IF(INDEX('E_Tokovi izvora'!$A:$N,EF81,BA$7)=\"\",\"\",INDEX('E_Tokovi izvora'!$A:$N,EF81,BA$7)))","v":""},{"$f":"IF($E81=\"\",\"\",IF(INDEX('E_Tokovi izvora'!$A:$N,EG81,BB$7)=\"\",\"\",INDEX('E_Tokovi izvora'!$A:$N,EG81,BB$7)))","v":""},{"$f":"IF($E81=\"\",\"\",IF(INDEX('E_Tokovi izvora'!$A:$N,EH81,BC$7)=\"\",\"\",INDEX('E_Tokovi izvora'!$A:$N,EH81,BC$7)))","v":""},{"$f":"IF($E81=\"\",\"\",IF(INDEX('E_Tokovi izvora'!$A:$N,EI81,BD$7)=\"\",\"\",INDEX('E_Tokovi izvora'!$A:$N,EI81,BD$7)))","v":""},{"$f":"IF($E81=\"\",\"\",IF(INDEX('E_Tokovi izvora'!$A:$N,EJ81,BE$7)=\"\",\"\",INDEX('E_Tokovi izvora'!$A:$N,EJ81,BE$7)))","v":""},{"$f":"IF($E81=\"\",\"\",IF(INDEX('E_Tokovi izvora'!$A:$N,EK81,BF$7)=\"\",\"\",INDEX('E_Tokovi izvora'!$A:$N,EK81,BF$7)))","v":""},{"$f":"IF($E81=\"\",\"\",IF(INDEX('E_Tokovi izvora'!$A:$N,EL81,BG$7)=\"\",\"\",INDEX('E_Tokovi izvora'!$A:$N,EL81,BG$7)))","v":""},{"$f":"IF($E81=\"\",\"\",IF(INDEX('E_Tokovi izvora'!$A:$N,EM81,BH$7)=\"\",\"\",INDEX('E_Tokovi izvora'!$A:$N,EM81,BH$7)))","v":""},{"$f":"IF($E81=\"\",\"\",IF(INDEX('E_Tokovi izvora'!$A:$N,EN81,BI$7)=\"\",\"\",INDEX('E_Tokovi izvora'!$A:$N,EN81,BI$7)))","v":""},{"$f":"IF($E81=\"\",\"\",IF(INDEX('E_Tokovi izvora'!$A:$N,EO81,BJ$7)=\"\",\"\",INDEX('E_Tokovi izvora'!$A:$N,EO81,BJ$7)))","v":""},{"$f":"IF($E81=\"\",\"\",IF(INDEX('E_Tokovi izvora'!$A:$N,EP81,BK$7)=\"\",\"\",INDEX('E_Tokovi izvora'!$A:$N,EP81,BK$7)))","v":""},{"$f":"IF($E81=\"\",\"\",IF(INDEX('E_Tokovi izvora'!$A:$N,EQ81,BL$7)=\"\",\"\",INDEX('E_Tokovi izvora'!$A:$N,EQ81,BL$7)))","v":""},{"$f":"IF($E81=\"\",\"\",IF(INDEX('E_Tokovi izvora'!$A:$N,ER81,BM$7)=\"\",\"\",INDEX('E_Tokovi izvora'!$A:$N,ER81,BM$7)))","v":""},{"$f":"IF($E81=\"\",\"\",IF(INDEX('E_Tokovi izvora'!$A:$N,ES81,BN$7)=\"\",\"\",INDEX('E_Tokovi izvora'!$A:$N,ES81,BN$7)))","v":""},{"$f":"IF($E81=\"\",\"\",IF(INDEX('E_Tokovi izvora'!$A:$N,ET81,BO$7)=\"\",\"\",INDEX('E_Tokovi izvora'!$A:$N,ET81,BO$7)))","v":""},{"$f":"IF($E81=\"\",\"\",IF(INDEX('E_Tokovi izvora'!$A:$N,EU81,BP$7)=\"\",\"\",INDEX('E_Tokovi izvora'!$A:$N,EU81,BP$7)))","v":""},{"$f":"IF($E81=\"\",\"\",IF(INDEX('E_Tokovi izvora'!$A:$N,EV81,BQ$7)=\"\",\"\",INDEX('E_Tokovi izvora'!$A:$N,EV81,BQ$7)))","v":""},{"$f":"IF($E81=\"\",\"\",IF(INDEX('E_Tokovi izvora'!$A:$N,EW81,BR$7)=\"\",\"\",INDEX('E_Tokovi izvora'!$A:$N,EW81,BR$7)))","v":""},{"$f":"IF($E81=\"\",\"\",IF(INDEX('E_Tokovi izvora'!$A:$N,EX81,BS$7)=\"\",\"\",INDEX('E_Tokovi izvora'!$A:$N,EX81,BS$7)))","v":""},{"$f":"IF($E81=\"\",\"\",IF(INDEX('E_Tokovi izvora'!$A:$N,EY81,BT$7)=\"\",\"\",INDEX('E_Tokovi izvora'!$A:$N,EY81,BT$7)))","v":""},null,null,null,null,null,null,null,null,null,null,null,null,null,null,null,"SourceCategory_",{"$f":"INDEX('C_Opis postrojenja'!$A$226:$A$332,ROWS($CI$11:CI81))=\"ausblenden\"","v":true},"SourceStreamName_",null,4753,4755,4757,4759,4761,4763,4765,4765,4765,4765,4765,4768,4772,4773,4774,4781,4791,4791,4791,4791,4791,4791,4791,4782,4792,4792,4792,4792,4792,4792,4792,4783,4793,4793,4793,4793,4793,4793,4793,4784,4794,4794,4794,4794,4794,4794,4794,4785,4795,4795,4795,4795,4795,4795,4795,4786,4796,4796,4796,4796,4796,4796,4796,4802]
[null,{"$f":"IF(COUNTIF($CK$10:CK82,TRUE)>0,\"\",INDEX('C_Opis postrojenja'!$E$226:$E$242,ROWS($A$11:A82)))","v":""},{"$f":"IF($E82=\"\",\"\",INDEX('C_Opis postrojenja'!F:F,MATCH($B82,'C_Opis postrojenja'!$E:$E,0)))","v":""},{"$f":"IF($E82=\"\",\"\",INDEX('C_Opis postrojenja'!I:I,MATCH($B82,'C_Opis postrojenja'!$E:$E,0)))","v":""},{"$f":"IF($B82=\"\",\"\",INDEX('C_Opis postrojenja'!F:F,MATCH($CJ82,'C_Opis postrojenja'!$Q:$Q,0)))","v":""},{"$f":"IF($E82=\"\",\"\",INDEX('C_Opis postrojenja'!L:L,MATCH($CJ82,'C_Opis postrojenja'!$Q:$Q,0)))","v":""},{"$f":"IF($E82=\"\",\"\",INDEX('C_Opis postrojenja'!M:M,MATCH($CJ82,'C_Opis postrojenja'!$Q:$Q,0)))","v":""},{"$f":"IF($E82=\"\",\"\",INDEX('C_Opis postrojenja'!N:N,MATCH($CJ82,'C_Opis postrojenja'!$Q:$Q,0)))","v":""},{"$f":"IF($E82=\"\",\"\",IF(INDEX('E_Tokovi izvora'!$A:$N,CN82,I$7)=\"\",\"\",INDEX('E_Tokovi izvora'!$A:$N,CN82,I$7)))","v":""},{"$f":"IF($E82=\"\",\"\",IF(INDEX('E_Tokovi izvora'!$A:$N,CO82,J$7)=\"\",\"\",INDEX('E_Tokovi izvora'!$A:$N,CO82,J$7)))","v":""},{"$f":"IF($E82=\"\",\"\",IF(INDEX('E_Tokovi izvora'!$A:$N,CP82,K$7)=\"\",\"\",INDEX('E_Tokovi izvora'!$A:$N,CP82,K$7)))","v":""},{"$f":"IF($E82=\"\",\"\",IF(INDEX('E_Tokovi izvora'!$A:$N,CQ82,L$7)=\"\",\"\",INDEX('E_Tokovi izvora'!$A:$N,CQ82,L$7)))","v":""},{"$f":"IF($E82=\"\",\"\",IF(INDEX('E_Tokovi izvora'!$A:$N,CR82,M$7)=\"\",\"\",INDEX('E_Tokovi izvora'!$A:$N,CR82,M$7)))","v":""},{"$f":"IF($E82=\"\",\"\",IF(INDEX('E_Tokovi izvora'!$A:$N,CS82,N$7)=\"\",\"\",INDEX('E_Tokovi izvora'!$A:$N,CS82,N$7)))","v":""},{"$f":"IF($E82=\"\",\"\",IF(INDEX('E_Tokovi izvora'!$A:$N,CT82,O$7)=\"\",\"\",INDEX('E_Tokovi izvora'!$A:$N,CT82,O$7)))","v":""},{"$f":"IF($E82=\"\",\"\",IF(INDEX('E_Tokovi izvora'!$A:$N,CU82,P$7)=\"\",\"\",INDEX('E_Tokovi izvora'!$A:$N,CU82,P$7)))","v":""},{"$f":"IF($E82=\"\",\"\",IF(INDEX('E_Tokovi izvora'!$A:$N,CV82,Q$7)=\"\",\"\",INDEX('E_Tokovi izvora'!$A:$N,CV82,Q$7)))","v":""},{"$f":"IF($E82=\"\",\"\",IF(INDEX('E_Tokovi izvora'!$A:$N,CW82,R$7)=\"\",\"\",INDEX('E_Tokovi izvora'!$A:$N,CW82,R$7)))","v":""},{"$f":"IF($E82=\"\",\"\",IF(INDEX('E_Tokovi izvora'!$A:$N,CX82,S$7)=\"\",\"\",INDEX('E_Tokovi izvora'!$A:$N,CX82,S$7)))","v":""},{"$f":"IF($E82=\"\",\"\",IF(INDEX('E_Tokovi izvora'!$A:$N,CY82,T$7)=\"\",\"\",INDEX('E_Tokovi izvora'!$A:$N,CY82,T$7)))","v":""},{"$f":"IF($E82=\"\",\"\",IF(INDEX('E_Tokovi izvora'!$A:$N,CZ82,U$7)=\"\",\"\",INDEX('E_Tokovi izvora'!$A:$N,CZ82,U$7)))","v":""},{"$f":"IF($E82=\"\",\"\",IF(INDEX('E_Tokovi izvora'!$A:$N,DA82,V$7)=\"\",\"\",INDEX('E_Tokovi izvora'!$A:$N,DA82,V$7)))","v":""},{"$f":"IF($E82=\"\",\"\",IF(INDEX('E_Tokovi izvora'!$A:$N,DB82,W$7)=\"\",\"\",INDEX('E_Tokovi izvora'!$A:$N,DB82,W$7)))","v":""},{"$f":"IF($E82=\"\",\"\",IF(INDEX('E_Tokovi izvora'!$A:$N,DC82,X$7)=\"\",\"\",INDEX('E_Tokovi izvora'!$A:$N,DC82,X$7)))","v":""},{"$f":"IF($E82=\"\",\"\",IF(INDEX('E_Tokovi izvora'!$A:$N,DD82,Y$7)=\"\",\"\",INDEX('E_Tokovi izvora'!$A:$N,DD82,Y$7)))","v":""},{"$f":"IF($E82=\"\",\"\",IF(INDEX('E_Tokovi izvora'!$A:$N,DE82,Z$7)=\"\",\"\",INDEX('E_Tokovi izvora'!$A:$N,DE82,Z$7)))","v":""},{"$f":"IF($E82=\"\",\"\",IF(INDEX('E_Tokovi izvora'!$A:$N,DF82,AA$7)=\"\",\"\",INDEX('E_Tokovi izvora'!$A:$N,DF82,AA$7)))","v":""},{"$f":"IF($E82=\"\",\"\",IF(INDEX('E_Tokovi izvora'!$A:$N,DG82,AB$7)=\"\",\"\",INDEX('E_Tokovi izvora'!$A:$N,DG82,AB$7)))","v":""},{"$f":"IF($E82=\"\",\"\",IF(INDEX('E_Tokovi izvora'!$A:$N,DH82,AC$7)=\"\",\"\",INDEX('E_Tokovi izvora'!$A:$N,DH82,AC$7)))","v":""},{"$f":"IF($E82=\"\",\"\",IF(INDEX('E_Tokovi izvora'!$A:$N,DI82,AD$7)=\"\",\"\",INDEX('E_Tokovi izvora'!$A:$N,DI82,AD$7)))","v":""},{"$f":"IF($E82=\"\",\"\",IF(INDEX('E_Tokovi izvora'!$A:$N,DJ82,AE$7)=\"\",\"\",INDEX('E_Tokovi izvora'!$A:$N,DJ82,AE$7)))","v":""},{"$f":"IF($E82=\"\",\"\",IF(INDEX('E_Tokovi izvora'!$A:$N,DK82,AF$7)=\"\",\"\",INDEX('E_Tokovi izvora'!$A:$N,DK82,AF$7)))","v":""},{"$f":"IF($E82=\"\",\"\",IF(INDEX('E_Tokovi izvora'!$A:$N,DL82,AG$7)=\"\",\"\",INDEX('E_Tokovi izvora'!$A:$N,DL82,AG$7)))","v":""},{"$f":"IF($E82=\"\",\"\",IF(INDEX('E_Tokovi izvora'!$A:$N,DM82,AH$7)=\"\",\"\",INDEX('E_Tokovi izvora'!$A:$N,DM82,AH$7)))","v":""},{"$f":"IF($E82=\"\",\"\",IF(INDEX('E_Tokovi izvora'!$A:$N,DN82,AI$7)=\"\",\"\",INDEX('E_Tokovi izvora'!$A:$N,DN82,AI$7)))","v":""},{"$f":"IF($E82=\"\",\"\",IF(INDEX('E_Tokovi izvora'!$A:$N,DO82,AJ$7)=\"\",\"\",INDEX('E_Tokovi izvora'!$A:$N,DO82,AJ$7)))","v":""},{"$f":"IF($E82=\"\",\"\",IF(INDEX('E_Tokovi izvora'!$A:$N,DP82,AK$7)=\"\",\"\",INDEX('E_Tokovi izvora'!$A:$N,DP82,AK$7)))","v":""},{"$f":"IF($E82=\"\",\"\",IF(INDEX('E_Tokovi izvora'!$A:$N,DQ82,AL$7)=\"\",\"\",INDEX('E_Tokovi izvora'!$A:$N,DQ82,AL$7)))","v":""},{"$f":"IF($E82=\"\",\"\",IF(INDEX('E_Tokovi izvora'!$A:$N,DR82,AM$7)=\"\",\"\",INDEX('E_Tokovi izvora'!$A:$N,DR82,AM$7)))","v":""},{"$f":"IF($E82=\"\",\"\",IF(INDEX('E_Tokovi izvora'!$A:$N,DS82,AN$7)=\"\",\"\",INDEX('E_Tokovi izvora'!$A:$N,DS82,AN$7)))","v":""},{"$f":"IF($E82=\"\",\"\",IF(INDEX('E_Tokovi izvora'!$A:$N,DT82,AO$7)=\"\",\"\",INDEX('E_Tokovi izvora'!$A:$N,DT82,AO$7)))","v":""},{"$f":"IF($E82=\"\",\"\",IF(INDEX('E_Tokovi izvora'!$A:$N,DU82,AP$7)=\"\",\"\",INDEX('E_Tokovi izvora'!$A:$N,DU82,AP$7)))","v":""},{"$f":"IF($E82=\"\",\"\",IF(INDEX('E_Tokovi izvora'!$A:$N,DV82,AQ$7)=\"\",\"\",INDEX('E_Tokovi izvora'!$A:$N,DV82,AQ$7)))","v":""},{"$f":"IF($E82=\"\",\"\",IF(INDEX('E_Tokovi izvora'!$A:$N,DW82,AR$7)=\"\",\"\",INDEX('E_Tokovi izvora'!$A:$N,DW82,AR$7)))","v":""},{"$f":"IF($E82=\"\",\"\",IF(INDEX('E_Tokovi izvora'!$A:$N,DX82,AS$7)=\"\",\"\",INDEX('E_Tokovi izvora'!$A:$N,DX82,AS$7)))","v":""},{"$f":"IF($E82=\"\",\"\",IF(INDEX('E_Tokovi izvora'!$A:$N,DY82,AT$7)=\"\",\"\",INDEX('E_Tokovi izvora'!$A:$N,DY82,AT$7)))","v":""},{"$f":"IF($E82=\"\",\"\",IF(INDEX('E_Tokovi izvora'!$A:$N,DZ82,AU$7)=\"\",\"\",INDEX('E_Tokovi izvora'!$A:$N,DZ82,AU$7)))","v":""},{"$f":"IF($E82=\"\",\"\",IF(INDEX('E_Tokovi izvora'!$A:$N,EA82,AV$7)=\"\",\"\",INDEX('E_Tokovi izvora'!$A:$N,EA82,AV$7)))","v":""},{"$f":"IF($E82=\"\",\"\",IF(INDEX('E_Tokovi izvora'!$A:$N,EB82,AW$7)=\"\",\"\",INDEX('E_Tokovi izvora'!$A:$N,EB82,AW$7)))","v":""},{"$f":"IF($E82=\"\",\"\",IF(INDEX('E_Tokovi izvora'!$A:$N,EC82,AX$7)=\"\",\"\",INDEX('E_Tokovi izvora'!$A:$N,EC82,AX$7)))","v":""},{"$f":"IF($E82=\"\",\"\",IF(INDEX('E_Tokovi izvora'!$A:$N,ED82,AY$7)=\"\",\"\",INDEX('E_Tokovi izvora'!$A:$N,ED82,AY$7)))","v":""},{"$f":"IF($E82=\"\",\"\",IF(INDEX('E_Tokovi izvora'!$A:$N,EE82,AZ$7)=\"\",\"\",INDEX('E_Tokovi izvora'!$A:$N,EE82,AZ$7)))","v":""},{"$f":"IF($E82=\"\",\"\",IF(INDEX('E_Tokovi izvora'!$A:$N,EF82,BA$7)=\"\",\"\",INDEX('E_Tokovi izvora'!$A:$N,EF82,BA$7)))","v":""},{"$f":"IF($E82=\"\",\"\",IF(INDEX('E_Tokovi izvora'!$A:$N,EG82,BB$7)=\"\",\"\",INDEX('E_Tokovi izvora'!$A:$N,EG82,BB$7)))","v":""},{"$f":"IF($E82=\"\",\"\",IF(INDEX('E_Tokovi izvora'!$A:$N,EH82,BC$7)=\"\",\"\",INDEX('E_Tokovi izvora'!$A:$N,EH82,BC$7)))","v":""},{"$f":"IF($E82=\"\",\"\",IF(INDEX('E_Tokovi izvora'!$A:$N,EI82,BD$7)=\"\",\"\",INDEX('E_Tokovi izvora'!$A:$N,EI82,BD$7)))","v":""},{"$f":"IF($E82=\"\",\"\",IF(INDEX('E_Tokovi izvora'!$A:$N,EJ82,BE$7)=\"\",\"\",INDEX('E_Tokovi izvora'!$A:$N,EJ82,BE$7)))","v":""},{"$f":"IF($E82=\"\",\"\",IF(INDEX('E_Tokovi izvora'!$A:$N,EK82,BF$7)=\"\",\"\",INDEX('E_Tokovi izvora'!$A:$N,EK82,BF$7)))","v":""},{"$f":"IF($E82=\"\",\"\",IF(INDEX('E_Tokovi izvora'!$A:$N,EL82,BG$7)=\"\",\"\",INDEX('E_Tokovi izvora'!$A:$N,EL82,BG$7)))","v":""},{"$f":"IF($E82=\"\",\"\",IF(INDEX('E_Tokovi izvora'!$A:$N,EM82,BH$7)=\"\",\"\",INDEX('E_Tokovi izvora'!$A:$N,EM82,BH$7)))","v":""},{"$f":"IF($E82=\"\",\"\",IF(INDEX('E_Tokovi izvora'!$A:$N,EN82,BI$7)=\"\",\"\",INDEX('E_Tokovi izvora'!$A:$N,EN82,BI$7)))","v":""},{"$f":"IF($E82=\"\",\"\",IF(INDEX('E_Tokovi izvora'!$A:$N,EO82,BJ$7)=\"\",\"\",INDEX('E_Tokovi izvora'!$A:$N,EO82,BJ$7)))","v":""},{"$f":"IF($E82=\"\",\"\",IF(INDEX('E_Tokovi izvora'!$A:$N,EP82,BK$7)=\"\",\"\",INDEX('E_Tokovi izvora'!$A:$N,EP82,BK$7)))","v":""},{"$f":"IF($E82=\"\",\"\",IF(INDEX('E_Tokovi izvora'!$A:$N,EQ82,BL$7)=\"\",\"\",INDEX('E_Tokovi izvora'!$A:$N,EQ82,BL$7)))","v":""},{"$f":"IF($E82=\"\",\"\",IF(INDEX('E_Tokovi izvora'!$A:$N,ER82,BM$7)=\"\",\"\",INDEX('E_Tokovi izvora'!$A:$N,ER82,BM$7)))","v":""},{"$f":"IF($E82=\"\",\"\",IF(INDEX('E_Tokovi izvora'!$A:$N,ES82,BN$7)=\"\",\"\",INDEX('E_Tokovi izvora'!$A:$N,ES82,BN$7)))","v":""},{"$f":"IF($E82=\"\",\"\",IF(INDEX('E_Tokovi izvora'!$A:$N,ET82,BO$7)=\"\",\"\",INDEX('E_Tokovi izvora'!$A:$N,ET82,BO$7)))","v":""},{"$f":"IF($E82=\"\",\"\",IF(INDEX('E_Tokovi izvora'!$A:$N,EU82,BP$7)=\"\",\"\",INDEX('E_Tokovi izvora'!$A:$N,EU82,BP$7)))","v":""},{"$f":"IF($E82=\"\",\"\",IF(INDEX('E_Tokovi izvora'!$A:$N,EV82,BQ$7)=\"\",\"\",INDEX('E_Tokovi izvora'!$A:$N,EV82,BQ$7)))","v":""},{"$f":"IF($E82=\"\",\"\",IF(INDEX('E_Tokovi izvora'!$A:$N,EW82,BR$7)=\"\",\"\",INDEX('E_Tokovi izvora'!$A:$N,EW82,BR$7)))","v":""},{"$f":"IF($E82=\"\",\"\",IF(INDEX('E_Tokovi izvora'!$A:$N,EX82,BS$7)=\"\",\"\",INDEX('E_Tokovi izvora'!$A:$N,EX82,BS$7)))","v":""},{"$f":"IF($E82=\"\",\"\",IF(INDEX('E_Tokovi izvora'!$A:$N,EY82,BT$7)=\"\",\"\",INDEX('E_Tokovi izvora'!$A:$N,EY82,BT$7)))","v":""},null,null,null,null,null,null,null,null,null,null,null,null,null,null,null,"SourceCategory_",{"$f":"INDEX('C_Opis postrojenja'!$A$226:$A$332,ROWS($CI$11:CI82))=\"ausblenden\"","v":true},"SourceStreamName_",null,4819,4821,4823,4825,4827,4829,4831,4831,4831,4831,4831,4834,4838,4839,4840,4847,4857,4857,4857,4857,4857,4857,4857,4848,4858,4858,4858,4858,4858,4858,4858,4849,4859,4859,4859,4859,4859,4859,4859,4850,4860,4860,4860,4860,4860,4860,4860,4851,4861,4861,4861,4861,4861,4861,4861,4852,4862,4862,4862,4862,4862,4862,4862,4868]
[null,{"$f":"IF(COUNTIF($CK$10:CK83,TRUE)>0,\"\",INDEX('C_Opis postrojenja'!$E$226:$E$242,ROWS($A$11:A83)))","v":""},{"$f":"IF($E83=\"\",\"\",INDEX('C_Opis postrojenja'!F:F,MATCH($B83,'C_Opis postrojenja'!$E:$E,0)))","v":""},{"$f":"IF($E83=\"\",\"\",INDEX('C_Opis postrojenja'!I:I,MATCH($B83,'C_Opis postrojenja'!$E:$E,0)))","v":""},{"$f":"IF($B83=\"\",\"\",INDEX('C_Opis postrojenja'!F:F,MATCH($CJ83,'C_Opis postrojenja'!$Q:$Q,0)))","v":""},{"$f":"IF($E83=\"\",\"\",INDEX('C_Opis postrojenja'!L:L,MATCH($CJ83,'C_Opis postrojenja'!$Q:$Q,0)))","v":""},{"$f":"IF($E83=\"\",\"\",INDEX('C_Opis postrojenja'!M:M,MATCH($CJ83,'C_Opis postrojenja'!$Q:$Q,0)))","v":""},{"$f":"IF($E83=\"\",\"\",INDEX('C_Opis postrojenja'!N:N,MATCH($CJ83,'C_Opis postrojenja'!$Q:$Q,0)))","v":""},{"$f":"IF($E83=\"\",\"\",IF(INDEX('E_Tokovi izvora'!$A:$N,CN83,I$7)=\"\",\"\",INDEX('E_Tokovi izvora'!$A:$N,CN83,I$7)))","v":""},{"$f":"IF($E83=\"\",\"\",IF(INDEX('E_Tokovi izvora'!$A:$N,CO83,J$7)=\"\",\"\",INDEX('E_Tokovi izvora'!$A:$N,CO83,J$7)))","v":""},{"$f":"IF($E83=\"\",\"\",IF(INDEX('E_Tokovi izvora'!$A:$N,CP83,K$7)=\"\",\"\",INDEX('E_Tokovi izvora'!$A:$N,CP83,K$7)))","v":""},{"$f":"IF($E83=\"\",\"\",IF(INDEX('E_Tokovi izvora'!$A:$N,CQ83,L$7)=\"\",\"\",INDEX('E_Tokovi izvora'!$A:$N,CQ83,L$7)))","v":""},{"$f":"IF($E83=\"\",\"\",IF(INDEX('E_Tokovi izvora'!$A:$N,CR83,M$7)=\"\",\"\",INDEX('E_Tokovi izvora'!$A:$N,CR83,M$7)))","v":""},{"$f":"IF($E83=\"\",\"\",IF(INDEX('E_Tokovi izvora'!$A:$N,CS83,N$7)=\"\",\"\",INDEX('E_Tokovi izvora'!$A:$N,CS83,N$7)))","v":""},{"$f":"IF($E83=\"\",\"\",IF(INDEX('E_Tokovi izvora'!$A:$N,CT83,O$7)=\"\",\"\",INDEX('E_Tokovi izvora'!$A:$N,CT83,O$7)))","v":""},{"$f":"IF($E83=\"\",\"\",IF(INDEX('E_Tokovi izvora'!$A:$N,CU83,P$7)=\"\",\"\",INDEX('E_Tokovi izvora'!$A:$N,CU83,P$7)))","v":""},{"$f":"IF($E83=\"\",\"\",IF(INDEX('E_Tokovi izvora'!$A:$N,CV83,Q$7)=\"\",\"\",INDEX('E_Tokovi izvora'!$A:$N,CV83,Q$7)))","v":""},{"$f":"IF($E83=\"\",\"\",IF(INDEX('E_Tokovi izvora'!$A:$N,CW83,R$7)=\"\",\"\",INDEX('E_Tokovi izvora'!$A:$N,CW83,R$7)))","v":""},{"$f":"IF($E83=\"\",\"\",IF(INDEX('E_Tokovi izvora'!$A:$N,CX83,S$7)=\"\",\"\",INDEX('E_Tokovi izvora'!$A:$N,CX83,S$7)))","v":""},{"$f":"IF($E83=\"\",\"\",IF(INDEX('E_Tokovi izvora'!$A:$N,CY83,T$7)=\"\",\"\",INDEX('E_Tokovi izvora'!$A:$N,CY83,T$7)))","v":""},{"$f":"IF($E83=\"\",\"\",IF(INDEX('E_Tokovi izvora'!$A:$N,CZ83,U$7)=\"\",\"\",INDEX('E_Tokovi izvora'!$A:$N,CZ83,U$7)))","v":""},{"$f":"IF($E83=\"\",\"\",IF(INDEX('E_Tokovi izvora'!$A:$N,DA83,V$7)=\"\",\"\",INDEX('E_Tokovi izvora'!$A:$N,DA83,V$7)))","v":""},{"$f":"IF($E83=\"\",\"\",IF(INDEX('E_Tokovi izvora'!$A:$N,DB83,W$7)=\"\",\"\",INDEX('E_Tokovi izvora'!$A:$N,DB83,W$7)))","v":""},{"$f":"IF($E83=\"\",\"\",IF(INDEX('E_Tokovi izvora'!$A:$N,DC83,X$7)=\"\",\"\",INDEX('E_Tokovi izvora'!$A:$N,DC83,X$7)))","v":""},{"$f":"IF($E83=\"\",\"\",IF(INDEX('E_Tokovi izvora'!$A:$N,DD83,Y$7)=\"\",\"\",INDEX('E_Tokovi izvora'!$A:$N,DD83,Y$7)))","v":""},{"$f":"IF($E83=\"\",\"\",IF(INDEX('E_Tokovi izvora'!$A:$N,DE83,Z$7)=\"\",\"\",INDEX('E_Tokovi izvora'!$A:$N,DE83,Z$7)))","v":""},{"$f":"IF($E83=\"\",\"\",IF(INDEX('E_Tokovi izvora'!$A:$N,DF83,AA$7)=\"\",\"\",INDEX('E_Tokovi izvora'!$A:$N,DF83,AA$7)))","v":""},{"$f":"IF($E83=\"\",\"\",IF(INDEX('E_Tokovi izvora'!$A:$N,DG83,AB$7)=\"\",\"\",INDEX('E_Tokovi izvora'!$A:$N,DG83,AB$7)))","v":""},{"$f":"IF($E83=\"\",\"\",IF(INDEX('E_Tokovi izvora'!$A:$N,DH83,AC$7)=\"\",\"\",INDEX('E_Tokovi izvora'!$A:$N,DH83,AC$7)))","v":""},{"$f":"IF($E83=\"\",\"\",IF(INDEX('E_Tokovi izvora'!$A:$N,DI83,AD$7)=\"\",\"\",INDEX('E_Tokovi izvora'!$A:$N,DI83,AD$7)))","v":""},{"$f":"IF($E83=\"\",\"\",IF(INDEX('E_Tokovi izvora'!$A:$N,DJ83,AE$7)=\"\",\"\",INDEX('E_Tokovi izvora'!$A:$N,DJ83,AE$7)))","v":""},{"$f":"IF($E83=\"\",\"\",IF(INDEX('E_Tokovi izvora'!$A:$N,DK83,AF$7)=\"\",\"\",INDEX('E_Tokovi izvora'!$A:$N,DK83,AF$7)))","v":""},{"$f":"IF($E83=\"\",\"\",IF(INDEX('E_Tokovi izvora'!$A:$N,DL83,AG$7)=\"\",\"\",INDEX('E_Tokovi izvora'!$A:$N,DL83,AG$7)))","v":""},{"$f":"IF($E83=\"\",\"\",IF(INDEX('E_Tokovi izvora'!$A:$N,DM83,AH$7)=\"\",\"\",INDEX('E_Tokovi izvora'!$A:$N,DM83,AH$7)))","v":""},{"$f":"IF($E83=\"\",\"\",IF(INDEX('E_Tokovi izvora'!$A:$N,DN83,AI$7)=\"\",\"\",INDEX('E_Tokovi izvora'!$A:$N,DN83,AI$7)))","v":""},{"$f":"IF($E83=\"\",\"\",IF(INDEX('E_Tokovi izvora'!$A:$N,DO83,AJ$7)=\"\",\"\",INDEX('E_Tokovi izvora'!$A:$N,DO83,AJ$7)))","v":""},{"$f":"IF($E83=\"\",\"\",IF(INDEX('E_Tokovi izvora'!$A:$N,DP83,AK$7)=\"\",\"\",INDEX('E_Tokovi izvora'!$A:$N,DP83,AK$7)))","v":""},{"$f":"IF($E83=\"\",\"\",IF(INDEX('E_Tokovi izvora'!$A:$N,DQ83,AL$7)=\"\",\"\",INDEX('E_Tokovi izvora'!$A:$N,DQ83,AL$7)))","v":""},{"$f":"IF($E83=\"\",\"\",IF(INDEX('E_Tokovi izvora'!$A:$N,DR83,AM$7)=\"\",\"\",INDEX('E_Tokovi izvora'!$A:$N,DR83,AM$7)))","v":""},{"$f":"IF($E83=\"\",\"\",IF(INDEX('E_Tokovi izvora'!$A:$N,DS83,AN$7)=\"\",\"\",INDEX('E_Tokovi izvora'!$A:$N,DS83,AN$7)))","v":""},{"$f":"IF($E83=\"\",\"\",IF(INDEX('E_Tokovi izvora'!$A:$N,DT83,AO$7)=\"\",\"\",INDEX('E_Tokovi izvora'!$A:$N,DT83,AO$7)))","v":""},{"$f":"IF($E83=\"\",\"\",IF(INDEX('E_Tokovi izvora'!$A:$N,DU83,AP$7)=\"\",\"\",INDEX('E_Tokovi izvora'!$A:$N,DU83,AP$7)))","v":""},{"$f":"IF($E83=\"\",\"\",IF(INDEX('E_Tokovi izvora'!$A:$N,DV83,AQ$7)=\"\",\"\",INDEX('E_Tokovi izvora'!$A:$N,DV83,AQ$7)))","v":""},{"$f":"IF($E83=\"\",\"\",IF(INDEX('E_Tokovi izvora'!$A:$N,DW83,AR$7)=\"\",\"\",INDEX('E_Tokovi izvora'!$A:$N,DW83,AR$7)))","v":""},{"$f":"IF($E83=\"\",\"\",IF(INDEX('E_Tokovi izvora'!$A:$N,DX83,AS$7)=\"\",\"\",INDEX('E_Tokovi izvora'!$A:$N,DX83,AS$7)))","v":""},{"$f":"IF($E83=\"\",\"\",IF(INDEX('E_Tokovi izvora'!$A:$N,DY83,AT$7)=\"\",\"\",INDEX('E_Tokovi izvora'!$A:$N,DY83,AT$7)))","v":""},{"$f":"IF($E83=\"\",\"\",IF(INDEX('E_Tokovi izvora'!$A:$N,DZ83,AU$7)=\"\",\"\",INDEX('E_Tokovi izvora'!$A:$N,DZ83,AU$7)))","v":""},{"$f":"IF($E83=\"\",\"\",IF(INDEX('E_Tokovi izvora'!$A:$N,EA83,AV$7)=\"\",\"\",INDEX('E_Tokovi izvora'!$A:$N,EA83,AV$7)))","v":""},{"$f":"IF($E83=\"\",\"\",IF(INDEX('E_Tokovi izvora'!$A:$N,EB83,AW$7)=\"\",\"\",INDEX('E_Tokovi izvora'!$A:$N,EB83,AW$7)))","v":""},{"$f":"IF($E83=\"\",\"\",IF(INDEX('E_Tokovi izvora'!$A:$N,EC83,AX$7)=\"\",\"\",INDEX('E_Tokovi izvora'!$A:$N,EC83,AX$7)))","v":""},{"$f":"IF($E83=\"\",\"\",IF(INDEX('E_Tokovi izvora'!$A:$N,ED83,AY$7)=\"\",\"\",INDEX('E_Tokovi izvora'!$A:$N,ED83,AY$7)))","v":""},{"$f":"IF($E83=\"\",\"\",IF(INDEX('E_Tokovi izvora'!$A:$N,EE83,AZ$7)=\"\",\"\",INDEX('E_Tokovi izvora'!$A:$N,EE83,AZ$7)))","v":""},{"$f":"IF($E83=\"\",\"\",IF(INDEX('E_Tokovi izvora'!$A:$N,EF83,BA$7)=\"\",\"\",INDEX('E_Tokovi izvora'!$A:$N,EF83,BA$7)))","v":""},{"$f":"IF($E83=\"\",\"\",IF(INDEX('E_Tokovi izvora'!$A:$N,EG83,BB$7)=\"\",\"\",INDEX('E_Tokovi izvora'!$A:$N,EG83,BB$7)))","v":""},{"$f":"IF($E83=\"\",\"\",IF(INDEX('E_Tokovi izvora'!$A:$N,EH83,BC$7)=\"\",\"\",INDEX('E_Tokovi izvora'!$A:$N,EH83,BC$7)))","v":""},{"$f":"IF($E83=\"\",\"\",IF(INDEX('E_Tokovi izvora'!$A:$N,EI83,BD$7)=\"\",\"\",INDEX('E_Tokovi izvora'!$A:$N,EI83,BD$7)))","v":""},{"$f":"IF($E83=\"\",\"\",IF(INDEX('E_Tokovi izvora'!$A:$N,EJ83,BE$7)=\"\",\"\",INDEX('E_Tokovi izvora'!$A:$N,EJ83,BE$7)))","v":""},{"$f":"IF($E83=\"\",\"\",IF(INDEX('E_Tokovi izvora'!$A:$N,EK83,BF$7)=\"\",\"\",INDEX('E_Tokovi izvora'!$A:$N,EK83,BF$7)))","v":""},{"$f":"IF($E83=\"\",\"\",IF(INDEX('E_Tokovi izvora'!$A:$N,EL83,BG$7)=\"\",\"\",INDEX('E_Tokovi izvora'!$A:$N,EL83,BG$7)))","v":""},{"$f":"IF($E83=\"\",\"\",IF(INDEX('E_Tokovi izvora'!$A:$N,EM83,BH$7)=\"\",\"\",INDEX('E_Tokovi izvora'!$A:$N,EM83,BH$7)))","v":""},{"$f":"IF($E83=\"\",\"\",IF(INDEX('E_Tokovi izvora'!$A:$N,EN83,BI$7)=\"\",\"\",INDEX('E_Tokovi izvora'!$A:$N,EN83,BI$7)))","v":""},{"$f":"IF($E83=\"\",\"\",IF(INDEX('E_Tokovi izvora'!$A:$N,EO83,BJ$7)=\"\",\"\",INDEX('E_Tokovi izvora'!$A:$N,EO83,BJ$7)))","v":""},{"$f":"IF($E83=\"\",\"\",IF(INDEX('E_Tokovi izvora'!$A:$N,EP83,BK$7)=\"\",\"\",INDEX('E_Tokovi izvora'!$A:$N,EP83,BK$7)))","v":""},{"$f":"IF($E83=\"\",\"\",IF(INDEX('E_Tokovi izvora'!$A:$N,EQ83,BL$7)=\"\",\"\",INDEX('E_Tokovi izvora'!$A:$N,EQ83,BL$7)))","v":""},{"$f":"IF($E83=\"\",\"\",IF(INDEX('E_Tokovi izvora'!$A:$N,ER83,BM$7)=\"\",\"\",INDEX('E_Tokovi izvora'!$A:$N,ER83,BM$7)))","v":""},{"$f":"IF($E83=\"\",\"\",IF(INDEX('E_Tokovi izvora'!$A:$N,ES83,BN$7)=\"\",\"\",INDEX('E_Tokovi izvora'!$A:$N,ES83,BN$7)))","v":""},{"$f":"IF($E83=\"\",\"\",IF(INDEX('E_Tokovi izvora'!$A:$N,ET83,BO$7)=\"\",\"\",INDEX('E_Tokovi izvora'!$A:$N,ET83,BO$7)))","v":""},{"$f":"IF($E83=\"\",\"\",IF(INDEX('E_Tokovi izvora'!$A:$N,EU83,BP$7)=\"\",\"\",INDEX('E_Tokovi izvora'!$A:$N,EU83,BP$7)))","v":""},{"$f":"IF($E83=\"\",\"\",IF(INDEX('E_Tokovi izvora'!$A:$N,EV83,BQ$7)=\"\",\"\",INDEX('E_Tokovi izvora'!$A:$N,EV83,BQ$7)))","v":""},{"$f":"IF($E83=\"\",\"\",IF(INDEX('E_Tokovi izvora'!$A:$N,EW83,BR$7)=\"\",\"\",INDEX('E_Tokovi izvora'!$A:$N,EW83,BR$7)))","v":""},{"$f":"IF($E83=\"\",\"\",IF(INDEX('E_Tokovi izvora'!$A:$N,EX83,BS$7)=\"\",\"\",INDEX('E_Tokovi izvora'!$A:$N,EX83,BS$7)))","v":""},{"$f":"IF($E83=\"\",\"\",IF(INDEX('E_Tokovi izvora'!$A:$N,EY83,BT$7)=\"\",\"\",INDEX('E_Tokovi izvora'!$A:$N,EY83,BT$7)))","v":""},null,null,null,null,null,null,null,null,null,null,null,null,null,null,null,"SourceCategory_",{"$f":"INDEX('C_Opis postrojenja'!$A$226:$A$332,ROWS($CI$11:CI83))=\"ausblenden\"","v":true},"SourceStreamName_",null,4885,4887,4889,4891,4893,4895,4897,4897,4897,4897,4897,4900,4904,4905,4906,4913,4923,4923,4923,4923,4923,4923,4923,4914,4924,4924,4924,4924,4924,4924,4924,4915,4925,4925,4925,4925,4925,4925,4925,4916,4926,4926,4926,4926,4926,4926,4926,4917,4927,4927,4927,4927,4927,4927,4927,4918,4928,4928,4928,4928,4928,4928,4928,4934]
[null,{"$f":"IF(COUNTIF($CK$10:CK84,TRUE)>0,\"\",INDEX('C_Opis postrojenja'!$E$226:$E$242,ROWS($A$11:A84)))","v":""},{"$f":"IF($E84=\"\",\"\",INDEX('C_Opis postrojenja'!F:F,MATCH($B84,'C_Opis postrojenja'!$E:$E,0)))","v":""},{"$f":"IF($E84=\"\",\"\",INDEX('C_Opis postrojenja'!I:I,MATCH($B84,'C_Opis postrojenja'!$E:$E,0)))","v":""},{"$f":"IF($B84=\"\",\"\",INDEX('C_Opis postrojenja'!F:F,MATCH($CJ84,'C_Opis postrojenja'!$Q:$Q,0)))","v":""},{"$f":"IF($E84=\"\",\"\",INDEX('C_Opis postrojenja'!L:L,MATCH($CJ84,'C_Opis postrojenja'!$Q:$Q,0)))","v":""},{"$f":"IF($E84=\"\",\"\",INDEX('C_Opis postrojenja'!M:M,MATCH($CJ84,'C_Opis postrojenja'!$Q:$Q,0)))","v":""},{"$f":"IF($E84=\"\",\"\",INDEX('C_Opis postrojenja'!N:N,MATCH($CJ84,'C_Opis postrojenja'!$Q:$Q,0)))","v":""},{"$f":"IF($E84=\"\",\"\",IF(INDEX('E_Tokovi izvora'!$A:$N,CN84,I$7)=\"\",\"\",INDEX('E_Tokovi izvora'!$A:$N,CN84,I$7)))","v":""},{"$f":"IF($E84=\"\",\"\",IF(INDEX('E_Tokovi izvora'!$A:$N,CO84,J$7)=\"\",\"\",INDEX('E_Tokovi izvora'!$A:$N,CO84,J$7)))","v":""},{"$f":"IF($E84=\"\",\"\",IF(INDEX('E_Tokovi izvora'!$A:$N,CP84,K$7)=\"\",\"\",INDEX('E_Tokovi izvora'!$A:$N,CP84,K$7)))","v":""},{"$f":"IF($E84=\"\",\"\",IF(INDEX('E_Tokovi izvora'!$A:$N,CQ84,L$7)=\"\",\"\",INDEX('E_Tokovi izvora'!$A:$N,CQ84,L$7)))","v":""},{"$f":"IF($E84=\"\",\"\",IF(INDEX('E_Tokovi izvora'!$A:$N,CR84,M$7)=\"\",\"\",INDEX('E_Tokovi izvora'!$A:$N,CR84,M$7)))","v":""},{"$f":"IF($E84=\"\",\"\",IF(INDEX('E_Tokovi izvora'!$A:$N,CS84,N$7)=\"\",\"\",INDEX('E_Tokovi izvora'!$A:$N,CS84,N$7)))","v":""},{"$f":"IF($E84=\"\",\"\",IF(INDEX('E_Tokovi izvora'!$A:$N,CT84,O$7)=\"\",\"\",INDEX('E_Tokovi izvora'!$A:$N,CT84,O$7)))","v":""},{"$f":"IF($E84=\"\",\"\",IF(INDEX('E_Tokovi izvora'!$A:$N,CU84,P$7)=\"\",\"\",INDEX('E_Tokovi izvora'!$A:$N,CU84,P$7)))","v":""},{"$f":"IF($E84=\"\",\"\",IF(INDEX('E_Tokovi izvora'!$A:$N,CV84,Q$7)=\"\",\"\",INDEX('E_Tokovi izvora'!$A:$N,CV84,Q$7)))","v":""},{"$f":"IF($E84=\"\",\"\",IF(INDEX('E_Tokovi izvora'!$A:$N,CW84,R$7)=\"\",\"\",INDEX('E_Tokovi izvora'!$A:$N,CW84,R$7)))","v":""},{"$f":"IF($E84=\"\",\"\",IF(INDEX('E_Tokovi izvora'!$A:$N,CX84,S$7)=\"\",\"\",INDEX('E_Tokovi izvora'!$A:$N,CX84,S$7)))","v":""},{"$f":"IF($E84=\"\",\"\",IF(INDEX('E_Tokovi izvora'!$A:$N,CY84,T$7)=\"\",\"\",INDEX('E_Tokovi izvora'!$A:$N,CY84,T$7)))","v":""},{"$f":"IF($E84=\"\",\"\",IF(INDEX('E_Tokovi izvora'!$A:$N,CZ84,U$7)=\"\",\"\",INDEX('E_Tokovi izvora'!$A:$N,CZ84,U$7)))","v":""},{"$f":"IF($E84=\"\",\"\",IF(INDEX('E_Tokovi izvora'!$A:$N,DA84,V$7)=\"\",\"\",INDEX('E_Tokovi izvora'!$A:$N,DA84,V$7)))","v":""},{"$f":"IF($E84=\"\",\"\",IF(INDEX('E_Tokovi izvora'!$A:$N,DB84,W$7)=\"\",\"\",INDEX('E_Tokovi izvora'!$A:$N,DB84,W$7)))","v":""},{"$f":"IF($E84=\"\",\"\",IF(INDEX('E_Tokovi izvora'!$A:$N,DC84,X$7)=\"\",\"\",INDEX('E_Tokovi izvora'!$A:$N,DC84,X$7)))","v":""},{"$f":"IF($E84=\"\",\"\",IF(INDEX('E_Tokovi izvora'!$A:$N,DD84,Y$7)=\"\",\"\",INDEX('E_Tokovi izvora'!$A:$N,DD84,Y$7)))","v":""},{"$f":"IF($E84=\"\",\"\",IF(INDEX('E_Tokovi izvora'!$A:$N,DE84,Z$7)=\"\",\"\",INDEX('E_Tokovi izvora'!$A:$N,DE84,Z$7)))","v":""},{"$f":"IF($E84=\"\",\"\",IF(INDEX('E_Tokovi izvora'!$A:$N,DF84,AA$7)=\"\",\"\",INDEX('E_Tokovi izvora'!$A:$N,DF84,AA$7)))","v":""},{"$f":"IF($E84=\"\",\"\",IF(INDEX('E_Tokovi izvora'!$A:$N,DG84,AB$7)=\"\",\"\",INDEX('E_Tokovi izvora'!$A:$N,DG84,AB$7)))","v":""},{"$f":"IF($E84=\"\",\"\",IF(INDEX('E_Tokovi izvora'!$A:$N,DH84,AC$7)=\"\",\"\",INDEX('E_Tokovi izvora'!$A:$N,DH84,AC$7)))","v":""},{"$f":"IF($E84=\"\",\"\",IF(INDEX('E_Tokovi izvora'!$A:$N,DI84,AD$7)=\"\",\"\",INDEX('E_Tokovi izvora'!$A:$N,DI84,AD$7)))","v":""},{"$f":"IF($E84=\"\",\"\",IF(INDEX('E_Tokovi izvora'!$A:$N,DJ84,AE$7)=\"\",\"\",INDEX('E_Tokovi izvora'!$A:$N,DJ84,AE$7)))","v":""},{"$f":"IF($E84=\"\",\"\",IF(INDEX('E_Tokovi izvora'!$A:$N,DK84,AF$7)=\"\",\"\",INDEX('E_Tokovi izvora'!$A:$N,DK84,AF$7)))","v":""},{"$f":"IF($E84=\"\",\"\",IF(INDEX('E_Tokovi izvora'!$A:$N,DL84,AG$7)=\"\",\"\",INDEX('E_Tokovi izvora'!$A:$N,DL84,AG$7)))","v":""},{"$f":"IF($E84=\"\",\"\",IF(INDEX('E_Tokovi izvora'!$A:$N,DM84,AH$7)=\"\",\"\",INDEX('E_Tokovi izvora'!$A:$N,DM84,AH$7)))","v":""},{"$f":"IF($E84=\"\",\"\",IF(INDEX('E_Tokovi izvora'!$A:$N,DN84,AI$7)=\"\",\"\",INDEX('E_Tokovi izvora'!$A:$N,DN84,AI$7)))","v":""},{"$f":"IF($E84=\"\",\"\",IF(INDEX('E_Tokovi izvora'!$A:$N,DO84,AJ$7)=\"\",\"\",INDEX('E_Tokovi izvora'!$A:$N,DO84,AJ$7)))","v":""},{"$f":"IF($E84=\"\",\"\",IF(INDEX('E_Tokovi izvora'!$A:$N,DP84,AK$7)=\"\",\"\",INDEX('E_Tokovi izvora'!$A:$N,DP84,AK$7)))","v":""},{"$f":"IF($E84=\"\",\"\",IF(INDEX('E_Tokovi izvora'!$A:$N,DQ84,AL$7)=\"\",\"\",INDEX('E_Tokovi izvora'!$A:$N,DQ84,AL$7)))","v":""},{"$f":"IF($E84=\"\",\"\",IF(INDEX('E_Tokovi izvora'!$A:$N,DR84,AM$7)=\"\",\"\",INDEX('E_Tokovi izvora'!$A:$N,DR84,AM$7)))","v":""},{"$f":"IF($E84=\"\",\"\",IF(INDEX('E_Tokovi izvora'!$A:$N,DS84,AN$7)=\"\",\"\",INDEX('E_Tokovi izvora'!$A:$N,DS84,AN$7)))","v":""},{"$f":"IF($E84=\"\",\"\",IF(INDEX('E_Tokovi izvora'!$A:$N,DT84,AO$7)=\"\",\"\",INDEX('E_Tokovi izvora'!$A:$N,DT84,AO$7)))","v":""},{"$f":"IF($E84=\"\",\"\",IF(INDEX('E_Tokovi izvora'!$A:$N,DU84,AP$7)=\"\",\"\",INDEX('E_Tokovi izvora'!$A:$N,DU84,AP$7)))","v":""},{"$f":"IF($E84=\"\",\"\",IF(INDEX('E_Tokovi izvora'!$A:$N,DV84,AQ$7)=\"\",\"\",INDEX('E_Tokovi izvora'!$A:$N,DV84,AQ$7)))","v":""},{"$f":"IF($E84=\"\",\"\",IF(INDEX('E_Tokovi izvora'!$A:$N,DW84,AR$7)=\"\",\"\",INDEX('E_Tokovi izvora'!$A:$N,DW84,AR$7)))","v":""},{"$f":"IF($E84=\"\",\"\",IF(INDEX('E_Tokovi izvora'!$A:$N,DX84,AS$7)=\"\",\"\",INDEX('E_Tokovi izvora'!$A:$N,DX84,AS$7)))","v":""},{"$f":"IF($E84=\"\",\"\",IF(INDEX('E_Tokovi izvora'!$A:$N,DY84,AT$7)=\"\",\"\",INDEX('E_Tokovi izvora'!$A:$N,DY84,AT$7)))","v":""},{"$f":"IF($E84=\"\",\"\",IF(INDEX('E_Tokovi izvora'!$A:$N,DZ84,AU$7)=\"\",\"\",INDEX('E_Tokovi izvora'!$A:$N,DZ84,AU$7)))","v":""},{"$f":"IF($E84=\"\",\"\",IF(INDEX('E_Tokovi izvora'!$A:$N,EA84,AV$7)=\"\",\"\",INDEX('E_Tokovi izvora'!$A:$N,EA84,AV$7)))","v":""},{"$f":"IF($E84=\"\",\"\",IF(INDEX('E_Tokovi izvora'!$A:$N,EB84,AW$7)=\"\",\"\",INDEX('E_Tokovi izvora'!$A:$N,EB84,AW$7)))","v":""},{"$f":"IF($E84=\"\",\"\",IF(INDEX('E_Tokovi izvora'!$A:$N,EC84,AX$7)=\"\",\"\",INDEX('E_Tokovi izvora'!$A:$N,EC84,AX$7)))","v":""},{"$f":"IF($E84=\"\",\"\",IF(INDEX('E_Tokovi izvora'!$A:$N,ED84,AY$7)=\"\",\"\",INDEX('E_Tokovi izvora'!$A:$N,ED84,AY$7)))","v":""},{"$f":"IF($E84=\"\",\"\",IF(INDEX('E_Tokovi izvora'!$A:$N,EE84,AZ$7)=\"\",\"\",INDEX('E_Tokovi izvora'!$A:$N,EE84,AZ$7)))","v":""},{"$f":"IF($E84=\"\",\"\",IF(INDEX('E_Tokovi izvora'!$A:$N,EF84,BA$7)=\"\",\"\",INDEX('E_Tokovi izvora'!$A:$N,EF84,BA$7)))","v":""},{"$f":"IF($E84=\"\",\"\",IF(INDEX('E_Tokovi izvora'!$A:$N,EG84,BB$7)=\"\",\"\",INDEX('E_Tokovi izvora'!$A:$N,EG84,BB$7)))","v":""},{"$f":"IF($E84=\"\",\"\",IF(INDEX('E_Tokovi izvora'!$A:$N,EH84,BC$7)=\"\",\"\",INDEX('E_Tokovi izvora'!$A:$N,EH84,BC$7)))","v":""},{"$f":"IF($E84=\"\",\"\",IF(INDEX('E_Tokovi izvora'!$A:$N,EI84,BD$7)=\"\",\"\",INDEX('E_Tokovi izvora'!$A:$N,EI84,BD$7)))","v":""},{"$f":"IF($E84=\"\",\"\",IF(INDEX('E_Tokovi izvora'!$A:$N,EJ84,BE$7)=\"\",\"\",INDEX('E_Tokovi izvora'!$A:$N,EJ84,BE$7)))","v":""},{"$f":"IF($E84=\"\",\"\",IF(INDEX('E_Tokovi izvora'!$A:$N,EK84,BF$7)=\"\",\"\",INDEX('E_Tokovi izvora'!$A:$N,EK84,BF$7)))","v":""},{"$f":"IF($E84=\"\",\"\",IF(INDEX('E_Tokovi izvora'!$A:$N,EL84,BG$7)=\"\",\"\",INDEX('E_Tokovi izvora'!$A:$N,EL84,BG$7)))","v":""},{"$f":"IF($E84=\"\",\"\",IF(INDEX('E_Tokovi izvora'!$A:$N,EM84,BH$7)=\"\",\"\",INDEX('E_Tokovi izvora'!$A:$N,EM84,BH$7)))","v":""},{"$f":"IF($E84=\"\",\"\",IF(INDEX('E_Tokovi izvora'!$A:$N,EN84,BI$7)=\"\",\"\",INDEX('E_Tokovi izvora'!$A:$N,EN84,BI$7)))","v":""},{"$f":"IF($E84=\"\",\"\",IF(INDEX('E_Tokovi izvora'!$A:$N,EO84,BJ$7)=\"\",\"\",INDEX('E_Tokovi izvora'!$A:$N,EO84,BJ$7)))","v":""},{"$f":"IF($E84=\"\",\"\",IF(INDEX('E_Tokovi izvora'!$A:$N,EP84,BK$7)=\"\",\"\",INDEX('E_Tokovi izvora'!$A:$N,EP84,BK$7)))","v":""},{"$f":"IF($E84=\"\",\"\",IF(INDEX('E_Tokovi izvora'!$A:$N,EQ84,BL$7)=\"\",\"\",INDEX('E_Tokovi izvora'!$A:$N,EQ84,BL$7)))","v":""},{"$f":"IF($E84=\"\",\"\",IF(INDEX('E_Tokovi izvora'!$A:$N,ER84,BM$7)=\"\",\"\",INDEX('E_Tokovi izvora'!$A:$N,ER84,BM$7)))","v":""},{"$f":"IF($E84=\"\",\"\",IF(INDEX('E_Tokovi izvora'!$A:$N,ES84,BN$7)=\"\",\"\",INDEX('E_Tokovi izvora'!$A:$N,ES84,BN$7)))","v":""},{"$f":"IF($E84=\"\",\"\",IF(INDEX('E_Tokovi izvora'!$A:$N,ET84,BO$7)=\"\",\"\",INDEX('E_Tokovi izvora'!$A:$N,ET84,BO$7)))","v":""},{"$f":"IF($E84=\"\",\"\",IF(INDEX('E_Tokovi izvora'!$A:$N,EU84,BP$7)=\"\",\"\",INDEX('E_Tokovi izvora'!$A:$N,EU84,BP$7)))","v":""},{"$f":"IF($E84=\"\",\"\",IF(INDEX('E_Tokovi izvora'!$A:$N,EV84,BQ$7)=\"\",\"\",INDEX('E_Tokovi izvora'!$A:$N,EV84,BQ$7)))","v":""},{"$f":"IF($E84=\"\",\"\",IF(INDEX('E_Tokovi izvora'!$A:$N,EW84,BR$7)=\"\",\"\",INDEX('E_Tokovi izvora'!$A:$N,EW84,BR$7)))","v":""},{"$f":"IF($E84=\"\",\"\",IF(INDEX('E_Tokovi izvora'!$A:$N,EX84,BS$7)=\"\",\"\",INDEX('E_Tokovi izvora'!$A:$N,EX84,BS$7)))","v":""},{"$f":"IF($E84=\"\",\"\",IF(INDEX('E_Tokovi izvora'!$A:$N,EY84,BT$7)=\"\",\"\",INDEX('E_Tokovi izvora'!$A:$N,EY84,BT$7)))","v":""},null,null,null,null,null,null,null,null,null,null,null,null,null,null,null,"SourceCategory_",{"$f":"INDEX('C_Opis postrojenja'!$A$226:$A$332,ROWS($CI$11:CI84))=\"ausblenden\"","v":true},"SourceStreamName_",null,4951,4953,4955,4957,4959,4961,4963,4963,4963,4963,4963,4966,4970,4971,4972,4979,4989,4989,4989,4989,4989,4989,4989,4980,4990,4990,4990,4990,4990,4990,4990,4981,4991,4991,4991,4991,4991,4991,4991,4982,4992,4992,4992,4992,4992,4992,4992,4983,4993,4993,4993,4993,4993,4993,4993,4984,4994,4994,4994,4994,4994,4994,4994,5000]
[null,{"$f":"IF(COUNTIF($CK$10:CK85,TRUE)>0,\"\",INDEX('C_Opis postrojenja'!$E$226:$E$242,ROWS($A$11:A85)))","v":""},{"$f":"IF($E85=\"\",\"\",INDEX('C_Opis postrojenja'!F:F,MATCH($B85,'C_Opis postrojenja'!$E:$E,0)))","v":""},{"$f":"IF($E85=\"\",\"\",INDEX('C_Opis postrojenja'!I:I,MATCH($B85,'C_Opis postrojenja'!$E:$E,0)))","v":""},{"$f":"IF($B85=\"\",\"\",INDEX('C_Opis postrojenja'!F:F,MATCH($CJ85,'C_Opis postrojenja'!$Q:$Q,0)))","v":""},{"$f":"IF($E85=\"\",\"\",INDEX('C_Opis postrojenja'!L:L,MATCH($CJ85,'C_Opis postrojenja'!$Q:$Q,0)))","v":""},{"$f":"IF($E85=\"\",\"\",INDEX('C_Opis postrojenja'!M:M,MATCH($CJ85,'C_Opis postrojenja'!$Q:$Q,0)))","v":""},{"$f":"IF($E85=\"\",\"\",INDEX('C_Opis postrojenja'!N:N,MATCH($CJ85,'C_Opis postrojenja'!$Q:$Q,0)))","v":""},{"$f":"IF($E85=\"\",\"\",IF(INDEX('E_Tokovi izvora'!$A:$N,CN85,I$7)=\"\",\"\",INDEX('E_Tokovi izvora'!$A:$N,CN85,I$7)))","v":""},{"$f":"IF($E85=\"\",\"\",IF(INDEX('E_Tokovi izvora'!$A:$N,CO85,J$7)=\"\",\"\",INDEX('E_Tokovi izvora'!$A:$N,CO85,J$7)))","v":""},{"$f":"IF($E85=\"\",\"\",IF(INDEX('E_Tokovi izvora'!$A:$N,CP85,K$7)=\"\",\"\",INDEX('E_Tokovi izvora'!$A:$N,CP85,K$7)))","v":""},{"$f":"IF($E85=\"\",\"\",IF(INDEX('E_Tokovi izvora'!$A:$N,CQ85,L$7)=\"\",\"\",INDEX('E_Tokovi izvora'!$A:$N,CQ85,L$7)))","v":""},{"$f":"IF($E85=\"\",\"\",IF(INDEX('E_Tokovi izvora'!$A:$N,CR85,M$7)=\"\",\"\",INDEX('E_Tokovi izvora'!$A:$N,CR85,M$7)))","v":""},{"$f":"IF($E85=\"\",\"\",IF(INDEX('E_Tokovi izvora'!$A:$N,CS85,N$7)=\"\",\"\",INDEX('E_Tokovi izvora'!$A:$N,CS85,N$7)))","v":""},{"$f":"IF($E85=\"\",\"\",IF(INDEX('E_Tokovi izvora'!$A:$N,CT85,O$7)=\"\",\"\",INDEX('E_Tokovi izvora'!$A:$N,CT85,O$7)))","v":""},{"$f":"IF($E85=\"\",\"\",IF(INDEX('E_Tokovi izvora'!$A:$N,CU85,P$7)=\"\",\"\",INDEX('E_Tokovi izvora'!$A:$N,CU85,P$7)))","v":""},{"$f":"IF($E85=\"\",\"\",IF(INDEX('E_Tokovi izvora'!$A:$N,CV85,Q$7)=\"\",\"\",INDEX('E_Tokovi izvora'!$A:$N,CV85,Q$7)))","v":""},{"$f":"IF($E85=\"\",\"\",IF(INDEX('E_Tokovi izvora'!$A:$N,CW85,R$7)=\"\",\"\",INDEX('E_Tokovi izvora'!$A:$N,CW85,R$7)))","v":""},{"$f":"IF($E85=\"\",\"\",IF(INDEX('E_Tokovi izvora'!$A:$N,CX85,S$7)=\"\",\"\",INDEX('E_Tokovi izvora'!$A:$N,CX85,S$7)))","v":""},{"$f":"IF($E85=\"\",\"\",IF(INDEX('E_Tokovi izvora'!$A:$N,CY85,T$7)=\"\",\"\",INDEX('E_Tokovi izvora'!$A:$N,CY85,T$7)))","v":""},{"$f":"IF($E85=\"\",\"\",IF(INDEX('E_Tokovi izvora'!$A:$N,CZ85,U$7)=\"\",\"\",INDEX('E_Tokovi izvora'!$A:$N,CZ85,U$7)))","v":""},{"$f":"IF($E85=\"\",\"\",IF(INDEX('E_Tokovi izvora'!$A:$N,DA85,V$7)=\"\",\"\",INDEX('E_Tokovi izvora'!$A:$N,DA85,V$7)))","v":""},{"$f":"IF($E85=\"\",\"\",IF(INDEX('E_Tokovi izvora'!$A:$N,DB85,W$7)=\"\",\"\",INDEX('E_Tokovi izvora'!$A:$N,DB85,W$7)))","v":""},{"$f":"IF($E85=\"\",\"\",IF(INDEX('E_Tokovi izvora'!$A:$N,DC85,X$7)=\"\",\"\",INDEX('E_Tokovi izvora'!$A:$N,DC85,X$7)))","v":""},{"$f":"IF($E85=\"\",\"\",IF(INDEX('E_Tokovi izvora'!$A:$N,DD85,Y$7)=\"\",\"\",INDEX('E_Tokovi izvora'!$A:$N,DD85,Y$7)))","v":""},{"$f":"IF($E85=\"\",\"\",IF(INDEX('E_Tokovi izvora'!$A:$N,DE85,Z$7)=\"\",\"\",INDEX('E_Tokovi izvora'!$A:$N,DE85,Z$7)))","v":""},{"$f":"IF($E85=\"\",\"\",IF(INDEX('E_Tokovi izvora'!$A:$N,DF85,AA$7)=\"\",\"\",INDEX('E_Tokovi izvora'!$A:$N,DF85,AA$7)))","v":""},{"$f":"IF($E85=\"\",\"\",IF(INDEX('E_Tokovi izvora'!$A:$N,DG85,AB$7)=\"\",\"\",INDEX('E_Tokovi izvora'!$A:$N,DG85,AB$7)))","v":""},{"$f":"IF($E85=\"\",\"\",IF(INDEX('E_Tokovi izvora'!$A:$N,DH85,AC$7)=\"\",\"\",INDEX('E_Tokovi izvora'!$A:$N,DH85,AC$7)))","v":""},{"$f":"IF($E85=\"\",\"\",IF(INDEX('E_Tokovi izvora'!$A:$N,DI85,AD$7)=\"\",\"\",INDEX('E_Tokovi izvora'!$A:$N,DI85,AD$7)))","v":""},{"$f":"IF($E85=\"\",\"\",IF(INDEX('E_Tokovi izvora'!$A:$N,DJ85,AE$7)=\"\",\"\",INDEX('E_Tokovi izvora'!$A:$N,DJ85,AE$7)))","v":""},{"$f":"IF($E85=\"\",\"\",IF(INDEX('E_Tokovi izvora'!$A:$N,DK85,AF$7)=\"\",\"\",INDEX('E_Tokovi izvora'!$A:$N,DK85,AF$7)))","v":""},{"$f":"IF($E85=\"\",\"\",IF(INDEX('E_Tokovi izvora'!$A:$N,DL85,AG$7)=\"\",\"\",INDEX('E_Tokovi izvora'!$A:$N,DL85,AG$7)))","v":""},{"$f":"IF($E85=\"\",\"\",IF(INDEX('E_Tokovi izvora'!$A:$N,DM85,AH$7)=\"\",\"\",INDEX('E_Tokovi izvora'!$A:$N,DM85,AH$7)))","v":""},{"$f":"IF($E85=\"\",\"\",IF(INDEX('E_Tokovi izvora'!$A:$N,DN85,AI$7)=\"\",\"\",INDEX('E_Tokovi izvora'!$A:$N,DN85,AI$7)))","v":""},{"$f":"IF($E85=\"\",\"\",IF(INDEX('E_Tokovi izvora'!$A:$N,DO85,AJ$7)=\"\",\"\",INDEX('E_Tokovi izvora'!$A:$N,DO85,AJ$7)))","v":""},{"$f":"IF($E85=\"\",\"\",IF(INDEX('E_Tokovi izvora'!$A:$N,DP85,AK$7)=\"\",\"\",INDEX('E_Tokovi izvora'!$A:$N,DP85,AK$7)))","v":""},{"$f":"IF($E85=\"\",\"\",IF(INDEX('E_Tokovi izvora'!$A:$N,DQ85,AL$7)=\"\",\"\",INDEX('E_Tokovi izvora'!$A:$N,DQ85,AL$7)))","v":""},{"$f":"IF($E85=\"\",\"\",IF(INDEX('E_Tokovi izvora'!$A:$N,DR85,AM$7)=\"\",\"\",INDEX('E_Tokovi izvora'!$A:$N,DR85,AM$7)))","v":""},{"$f":"IF($E85=\"\",\"\",IF(INDEX('E_Tokovi izvora'!$A:$N,DS85,AN$7)=\"\",\"\",INDEX('E_Tokovi izvora'!$A:$N,DS85,AN$7)))","v":""},{"$f":"IF($E85=\"\",\"\",IF(INDEX('E_Tokovi izvora'!$A:$N,DT85,AO$7)=\"\",\"\",INDEX('E_Tokovi izvora'!$A:$N,DT85,AO$7)))","v":""},{"$f":"IF($E85=\"\",\"\",IF(INDEX('E_Tokovi izvora'!$A:$N,DU85,AP$7)=\"\",\"\",INDEX('E_Tokovi izvora'!$A:$N,DU85,AP$7)))","v":""},{"$f":"IF($E85=\"\",\"\",IF(INDEX('E_Tokovi izvora'!$A:$N,DV85,AQ$7)=\"\",\"\",INDEX('E_Tokovi izvora'!$A:$N,DV85,AQ$7)))","v":""},{"$f":"IF($E85=\"\",\"\",IF(INDEX('E_Tokovi izvora'!$A:$N,DW85,AR$7)=\"\",\"\",INDEX('E_Tokovi izvora'!$A:$N,DW85,AR$7)))","v":""},{"$f":"IF($E85=\"\",\"\",IF(INDEX('E_Tokovi izvora'!$A:$N,DX85,AS$7)=\"\",\"\",INDEX('E_Tokovi izvora'!$A:$N,DX85,AS$7)))","v":""},{"$f":"IF($E85=\"\",\"\",IF(INDEX('E_Tokovi izvora'!$A:$N,DY85,AT$7)=\"\",\"\",INDEX('E_Tokovi izvora'!$A:$N,DY85,AT$7)))","v":""},{"$f":"IF($E85=\"\",\"\",IF(INDEX('E_Tokovi izvora'!$A:$N,DZ85,AU$7)=\"\",\"\",INDEX('E_Tokovi izvora'!$A:$N,DZ85,AU$7)))","v":""},{"$f":"IF($E85=\"\",\"\",IF(INDEX('E_Tokovi izvora'!$A:$N,EA85,AV$7)=\"\",\"\",INDEX('E_Tokovi izvora'!$A:$N,EA85,AV$7)))","v":""},{"$f":"IF($E85=\"\",\"\",IF(INDEX('E_Tokovi izvora'!$A:$N,EB85,AW$7)=\"\",\"\",INDEX('E_Tokovi izvora'!$A:$N,EB85,AW$7)))","v":""},{"$f":"IF($E85=\"\",\"\",IF(INDEX('E_Tokovi izvora'!$A:$N,EC85,AX$7)=\"\",\"\",INDEX('E_Tokovi izvora'!$A:$N,EC85,AX$7)))","v":""},{"$f":"IF($E85=\"\",\"\",IF(INDEX('E_Tokovi izvora'!$A:$N,ED85,AY$7)=\"\",\"\",INDEX('E_Tokovi izvora'!$A:$N,ED85,AY$7)))","v":""},{"$f":"IF($E85=\"\",\"\",IF(INDEX('E_Tokovi izvora'!$A:$N,EE85,AZ$7)=\"\",\"\",INDEX('E_Tokovi izvora'!$A:$N,EE85,AZ$7)))","v":""},{"$f":"IF($E85=\"\",\"\",IF(INDEX('E_Tokovi izvora'!$A:$N,EF85,BA$7)=\"\",\"\",INDEX('E_Tokovi izvora'!$A:$N,EF85,BA$7)))","v":""},{"$f":"IF($E85=\"\",\"\",IF(INDEX('E_Tokovi izvora'!$A:$N,EG85,BB$7)=\"\",\"\",INDEX('E_Tokovi izvora'!$A:$N,EG85,BB$7)))","v":""},{"$f":"IF($E85=\"\",\"\",IF(INDEX('E_Tokovi izvora'!$A:$N,EH85,BC$7)=\"\",\"\",INDEX('E_Tokovi izvora'!$A:$N,EH85,BC$7)))","v":""},{"$f":"IF($E85=\"\",\"\",IF(INDEX('E_Tokovi izvora'!$A:$N,EI85,BD$7)=\"\",\"\",INDEX('E_Tokovi izvora'!$A:$N,EI85,BD$7)))","v":""},{"$f":"IF($E85=\"\",\"\",IF(INDEX('E_Tokovi izvora'!$A:$N,EJ85,BE$7)=\"\",\"\",INDEX('E_Tokovi izvora'!$A:$N,EJ85,BE$7)))","v":""},{"$f":"IF($E85=\"\",\"\",IF(INDEX('E_Tokovi izvora'!$A:$N,EK85,BF$7)=\"\",\"\",INDEX('E_Tokovi izvora'!$A:$N,EK85,BF$7)))","v":""},{"$f":"IF($E85=\"\",\"\",IF(INDEX('E_Tokovi izvora'!$A:$N,EL85,BG$7)=\"\",\"\",INDEX('E_Tokovi izvora'!$A:$N,EL85,BG$7)))","v":""},{"$f":"IF($E85=\"\",\"\",IF(INDEX('E_Tokovi izvora'!$A:$N,EM85,BH$7)=\"\",\"\",INDEX('E_Tokovi izvora'!$A:$N,EM85,BH$7)))","v":""},{"$f":"IF($E85=\"\",\"\",IF(INDEX('E_Tokovi izvora'!$A:$N,EN85,BI$7)=\"\",\"\",INDEX('E_Tokovi izvora'!$A:$N,EN85,BI$7)))","v":""},{"$f":"IF($E85=\"\",\"\",IF(INDEX('E_Tokovi izvora'!$A:$N,EO85,BJ$7)=\"\",\"\",INDEX('E_Tokovi izvora'!$A:$N,EO85,BJ$7)))","v":""},{"$f":"IF($E85=\"\",\"\",IF(INDEX('E_Tokovi izvora'!$A:$N,EP85,BK$7)=\"\",\"\",INDEX('E_Tokovi izvora'!$A:$N,EP85,BK$7)))","v":""},{"$f":"IF($E85=\"\",\"\",IF(INDEX('E_Tokovi izvora'!$A:$N,EQ85,BL$7)=\"\",\"\",INDEX('E_Tokovi izvora'!$A:$N,EQ85,BL$7)))","v":""},{"$f":"IF($E85=\"\",\"\",IF(INDEX('E_Tokovi izvora'!$A:$N,ER85,BM$7)=\"\",\"\",INDEX('E_Tokovi izvora'!$A:$N,ER85,BM$7)))","v":""},{"$f":"IF($E85=\"\",\"\",IF(INDEX('E_Tokovi izvora'!$A:$N,ES85,BN$7)=\"\",\"\",INDEX('E_Tokovi izvora'!$A:$N,ES85,BN$7)))","v":""},{"$f":"IF($E85=\"\",\"\",IF(INDEX('E_Tokovi izvora'!$A:$N,ET85,BO$7)=\"\",\"\",INDEX('E_Tokovi izvora'!$A:$N,ET85,BO$7)))","v":""},{"$f":"IF($E85=\"\",\"\",IF(INDEX('E_Tokovi izvora'!$A:$N,EU85,BP$7)=\"\",\"\",INDEX('E_Tokovi izvora'!$A:$N,EU85,BP$7)))","v":""},{"$f":"IF($E85=\"\",\"\",IF(INDEX('E_Tokovi izvora'!$A:$N,EV85,BQ$7)=\"\",\"\",INDEX('E_Tokovi izvora'!$A:$N,EV85,BQ$7)))","v":""},{"$f":"IF($E85=\"\",\"\",IF(INDEX('E_Tokovi izvora'!$A:$N,EW85,BR$7)=\"\",\"\",INDEX('E_Tokovi izvora'!$A:$N,EW85,BR$7)))","v":""},{"$f":"IF($E85=\"\",\"\",IF(INDEX('E_Tokovi izvora'!$A:$N,EX85,BS$7)=\"\",\"\",INDEX('E_Tokovi izvora'!$A:$N,EX85,BS$7)))","v":""},{"$f":"IF($E85=\"\",\"\",IF(INDEX('E_Tokovi izvora'!$A:$N,EY85,BT$7)=\"\",\"\",INDEX('E_Tokovi izvora'!$A:$N,EY85,BT$7)))","v":""},null,null,null,null,null,null,null,null,null,null,null,null,null,null,null,"SourceCategory_",{"$f":"INDEX('C_Opis postrojenja'!$A$226:$A$332,ROWS($CI$11:CI85))=\"ausblenden\"","v":true},"SourceStreamName_",null,5017,5019,5021,5023,5025,5027,5029,5029,5029,5029,5029,5032,5036,5037,5038,5045,5055,5055,5055,5055,5055,5055,5055,5046,5056,5056,5056,5056,5056,5056,5056,5047,5057,5057,5057,5057,5057,5057,5057,5048,5058,5058,5058,5058,5058,5058,5058,5049,5059,5059,5059,5059,5059,5059,5059,5050,5060,5060,5060,5060,5060,5060,5060,5066]
[]
["ausblenden",null,null,null,null,null,null,8,8,9,10,11,12,8,8,8,5,6,6,6,6,6,5,5]
[null,{"$f":"Translations!$B$323","v":"Izvori emisija"}]
[null,null,null,null,null,null,null,null,{"$f":"Translations!$B$472","v":"Korišteni mjerni instrumenti:"}]
[null,{"$f":"'C_Opis postrojenja'!$E$169","v":"Oznake točki mjerenja M1, M2,…"},{"$f":"'C_Opis postrojenja'!F169","v":"Opis"},{"$f":"'C_Opis postrojenja'!K169","v":"Oznaka točke emisija"},null,{"$f":"'C_Opis postrojenja'!L169","v":"Procijenjene emisije (t CO2e/godina)"},{"$f":"'C_Opis postrojenja'!M169","v":"Moguća kategorija"},{"$f":"'C_Opis postrojenja'!N169","v":"Izmjereni staklenički plinovi"},1,2,3,4,5,{"$f":"'F_Metodologija mjerenja'!$E$137","v":"Način rada:"},{"$f":"'F_Metodologija mjerenja'!$E$168","v":"Zahtijevana razina točnosti:"},{"$f":"'F_Metodologija mjerenja'!$E$169","v":"Korištena razina točnosti:"},{"$f":"'F_Metodologija mjerenja'!$E$170","v":"Postignuta nesigurnost:"},{"$f":"'F_Metodologija mjerenja'!$E$182","v":"Primjenjene norme i odstupanje od istih"},{"$f":"'F_Metodologija mjerenja'!F192","v":"Formule za objedinjavanje podataka i utvrđivanje godišnjih emisija."},{"$f":"'F_Metodologija mjerenja'!F195","v":"Metoda za utvrđivanje valjanih satnih vrijednosti ili kraćih referentnih razdoblja potrebnih za izračun svakog parametra sukladno uvjetu u članku 44. stavku 2. Uredbe i za utvrđivanje zamjenskih podataka koji nedostaju, u skladu sa člankom 45. Uredbe"},{"$f":"'F_Metodologija mjerenja'!F198","v":"Proračun protoka otpadnih plinova, ako je primjenjivo"},{"$f":"'F_Metodologija mjerenja'!F201","v":"Određivanje CO2 koji potječe iz biomase ili bilo kojeg drugog udjela s nultom stopom, ako je primjenjivo"},{"$f":"'F_Metodologija mjerenja'!F204","v":"Provedeni proračuni u skladu sa člankom 46. Uredbe, ako je primjenjivo "},{"$f":"Translations!$B$1202","v":"Komentari i obrazloženja ako nije primijenjena zahtijevana razina:"}]
[null,{"$f":"IF(COUNTIF($CK$90:CK91,TRUE)>0,\"\",INDEX('C_Opis postrojenja'!$E$171:$E$188,ROWS($A$91:A91)))","v":"M1"},{"$f":"IF(INDEX('C_Opis postrojenja'!F:F,MATCH($B91,'C_Opis postrojenja'!$E:$E,0))=\"\",\"\",INDEX('C_Opis postrojenja'!F:F,MATCH($B91,'C_Opis postrojenja'!$E:$E,0)))","v":""},{"$f":"IF($C91=\"\",\"\",INDEX('C_Opis postrojenja'!K:K,MATCH($B91,'C_Opis postrojenja'!$E:$E,0)))","v":""},null,{"$f":"IF($C91=\"\",\"\",INDEX('C_Opis postrojenja'!L:L,MATCH($B91,'C_Opis postrojenja'!$E:$E,0)))","v":""},{"$f":"IF($C91=\"\",\"\",INDEX('C_Opis postrojenja'!M:M,MATCH($B91,'C_Opis postrojenja'!$E:$E,0)))","v":""},{"$f":"IF($C91=\"\",\"\",INDEX('C_Opis postrojenja'!N:N,MATCH($B91,'C_Opis postrojenja'!$E:$E,0)))","v":""},{"$f":"IF($C91=\"\",\"\",IF($C91=\"\",\"\",INDEX('F_Metodologija mjerenja'!$A:$N,CM91,I$87)))","v":""},{"$f":"IF($C91=\"\",\"\",IF($C91=\"\",\"\",INDEX('F_Metodologija mjerenja'!$A:$N,CN91,J$87)))","v":""},{"$f":"IF($C91=\"\",\"\",IF($C91=\"\",\"\",INDEX('F_Metodologija mjerenja'!$A:$N,CO91,K$87)))","v":""},{"$f":"IF($C91=\"\",\"\",IF($C91=\"\",\"\",INDEX('F_Metodologija mjerenja'!$A:$N,CP91,L$87)))","v":""},{"$f":"IF($C91=\"\",\"\",IF($C91=\"\",\"\",INDEX('F_Metodologija mjerenja'!$A:$N,CQ91,M$87)))","v":""},{"$f":"IF($C91=\"\",\"\",IF($C91=\"\",\"\",INDEX('F_Metodologija mjerenja'!$A:$N,CL91,N$87)))","v":""},{"$f":"IF($C91=\"\",\"\",IF($C91=\"\",\"\",INDEX('F_Metodologija mjerenja'!$A:$N,CR91,N$87)))","v":""},{"$f":"IF($C91=\"\",\"\",IF($C91=\"\",\"\",INDEX('F_Metodologija mjerenja'!$A:$N,CS91,O$87)))","v":""},{"$f":"IF($C91=\"\",\"\",IF($C91=\"\",\"\",INDEX('F_Metodologija mjerenja'!$A:$N,CT91,P$87)))","v":""},{"$f":"IF($C91=\"\",\"\",IF($C91=\"\",\"\",INDEX('F_Metodologija mjerenja'!$A:$N,CU91,Q$87)))","v":""},{"$f":"IF($C91=\"\",\"\",IF($C91=\"\",\"\",INDEX('F_Metodologija mjerenja'!$A:$N,CV91,R$87)))","v":""},{"$f":"IF($C91=\"\",\"\",IF($C91=\"\",\"\",INDEX('F_Metodologija mjerenja'!$A:$N,CW91,S$87)))","v":""},{"$f":"IF($C91=\"\",\"\",IF($C91=\"\",\"\",INDEX('F_Metodologija mjerenja'!$A:$N,CX91,T$87)))","v":""},{"$f":"IF($C91=\"\",\"\",IF($C91=\"\",\"\",INDEX('F_Metodologija mjerenja'!$A:$N,CY91,U$87)))","v":""},{"$f":"IF($C91=\"\",\"\",IF($C91=\"\",\"\",INDEX('F_Metodologija mjerenja'!$A:$N,CZ91,V$87)))","v":""},{"$f":"IF($C91=\"\",\"\",IF($C91=\"\",\"\",INDEX('F_Metodologija mjerenja'!$A:$N,DA91,W$87)))","v":""},null,null,null,null,null,null,null,null,null,null,null,null,null,null,null,null,null,null,null,null,null,null,null,null,null,null,null,null,null,null,null,null,null,null,null,null,null,null,null,null,null,null,null,null,null,null,null,null,null,null,null,null,null,null,null,null,null,null,null,null,null,null,null,{"$f":"EUconst_CNTR_SourceCategory&B91","v":"SourceCategory_M1"},{"$f":"INDEX('C_Opis postrojenja'!$A$171:$A$188,ROWS($CI$91:CI91))=\"ausblenden\"","v":false},137,156,156,156,156,156,164,168,169,170,185,193,196,199,202,205,213]
[null,{"$f":"IF(COUNTIF($CK$90:CK92,TRUE)>0,\"\",INDEX('C_Opis postrojenja'!$E$171:$E$188,ROWS($A$91:A92)))","v":"M2"},{"$f":"IF(INDEX('C_Opis postrojenja'!F:F,MATCH($B92,'C_Opis postrojenja'!$E:$E,0))=\"\",\"\",INDEX('C_Opis postrojenja'!F:F,MATCH($B92,'C_Opis postrojenja'!$E:$E,0)))","v":""},{"$f":"IF($C92=\"\",\"\",INDEX('C_Opis postrojenja'!K:K,MATCH($B92,'C_Opis postrojenja'!$E:$E,0)))","v":""},null,{"$f":"IF($C92=\"\",\"\",INDEX('C_Opis postrojenja'!L:L,MATCH($B92,'C_Opis postrojenja'!$E:$E,0)))","v":""},{"$f":"IF($C92=\"\",\"\",INDEX('C_Opis postrojenja'!M:M,MATCH($B92,'C_Opis postrojenja'!$E:$E,0)))","v":""},{"$f":"IF($C92=\"\",\"\",INDEX('C_Opis postrojenja'!N:N,MATCH($B92,'C_Opis postrojenja'!$E:$E,0)))","v":""},{"$f":"IF($C92=\"\",\"\",IF($C92=\"\",\"\",INDEX('F_Metodologija mjerenja'!$A:$N,CM92,I$87)))","v":""},{"$f":"IF($C92=\"\",\"\",IF($C92=\"\",\"\",INDEX('F_Metodologija mjerenja'!$A:$N,CN92,J$87)))","v":""},{"$f":"IF($C92=\"\",\"\",IF($C92=\"\",\"\",INDEX('F_Metodologija mjerenja'!$A:$N,CO92,K$87)))","v":""},{"$f":"IF($C92=\"\",\"\",IF($C92=\"\",\"\",INDEX('F_Metodologija mjerenja'!$A:$N,CP92,L$87)))","v":""},{"$f":"IF($C92=\"\",\"\",IF($C92=\"\",\"\",INDEX('F_Metodologija mjerenja'!$A:$N,CQ92,M$87)))","v":""},{"$f":"IF($C92=\"\",\"\",IF($C92=\"\",\"\",INDEX('F_Metodologija mjerenja'!$A:$N,CL92,H$87)))","v":""},{"$f":"IF($C92=\"\",\"\",IF($C92=\"\",\"\",INDEX('F_Metodologija mjerenja'!$A:$N,CR92,N$87)))","v":""},{"$f":"IF($C92=\"\",\"\",IF($C92=\"\",\"\",INDEX('F_Metodologija mjerenja'!$A:$N,CS92,O$87)))","v":""},{"$f":"IF($C92=\"\",\"\",IF($C92=\"\",\"\",INDEX('F_Metodologija mjerenja'!$A:$N,CT92,P$87)))","v":""},{"$f":"IF($C92=\"\",\"\",IF($C92=\"\",\"\",INDEX('F_Metodologija mjerenja'!$A:$N,CU92,Q$87)))","v":""},{"$f":"IF($C92=\"\",\"\",IF($C92=\"\",\"\",INDEX('F_Metodologija mjerenja'!$A:$N,CV92,R$87)))","v":""},{"$f":"IF($C92=\"\",\"\",IF($C92=\"\",\"\",INDEX('F_Metodologija mjerenja'!$A:$N,CW92,S$87)))","v":""},{"$f":"IF($C92=\"\",\"\",IF($C92=\"\",\"\",INDEX('F_Metodologija mjerenja'!$A:$N,CX92,T$87)))","v":""},{"$f":"IF($C92=\"\",\"\",IF($C92=\"\",\"\",INDEX('F_Metodologija mjerenja'!$A:$N,CY92,U$87)))","v":""},{"$f":"IF($C92=\"\",\"\",IF($C92=\"\",\"\",INDEX('F_Metodologija mjerenja'!$A:$N,CZ92,V$87)))","v":""},{"$f":"IF($C92=\"\",\"\",IF($C92=\"\",\"\",INDEX('F_Metodologija mjerenja'!$A:$N,DA92,W$87)))","v":""},null,null,null,null,null,null,null,null,null,null,null,null,null,null,null,null,null,null,null,null,null,null,null,null,null,null,null,null,null,null,null,null,null,null,null,null,null,null,null,null,null,null,null,null,null,null,null,null,null,null,null,null,null,null,null,null,null,null,null,null,null,null,null,"SourceCategory_M2",{"$f":"INDEX('C_Opis postrojenja'!$A$171:$A$188,ROWS($CI$91:CI92))=\"ausblenden\"","v":false},220,229,229,229,229,229,233,237,238,239,246,253,256,259,262,265,271]
[null,{"$f":"IF(COUNTIF($CK$90:CK93,TRUE)>0,\"\",INDEX('C_Opis postrojenja'!$E$171:$E$188,ROWS($A$91:A93)))","v":"M3"},{"$f":"IF(INDEX('C_Opis postrojenja'!F:F,MATCH($B93,'C_Opis postrojenja'!$E:$E,0))=\"\",\"\",INDEX('C_Opis postrojenja'!F:F,MATCH($B93,'C_Opis postrojenja'!$E:$E,0)))","v":""},{"$f":"IF($C93=\"\",\"\",INDEX('C_Opis postrojenja'!K:K,MATCH($B93,'C_Opis postrojenja'!$E:$E,0)))","v":""},null,{"$f":"IF($C93=\"\",\"\",INDEX('C_Opis postrojenja'!L:L,MATCH($B93,'C_Opis postrojenja'!$E:$E,0)))","v":""},{"$f":"IF($C93=\"\",\"\",INDEX('C_Opis postrojenja'!M:M,MATCH($B93,'C_Opis postrojenja'!$E:$E,0)))","v":""},{"$f":"IF($C93=\"\",\"\",INDEX('C_Opis postrojenja'!N:N,MATCH($B93,'C_Opis postrojenja'!$E:$E,0)))","v":""},{"$f":"IF($C93=\"\",\"\",IF($C93=\"\",\"\",INDEX('F_Metodologija mjerenja'!$A:$N,CM93,I$87)))","v":""},{"$f":"IF($C93=\"\",\"\",IF($C93=\"\",\"\",INDEX('F_Metodologija mjerenja'!$A:$N,CN93,J$87)))","v":""},{"$f":"IF($C93=\"\",\"\",IF($C93=\"\",\"\",INDEX('F_Metodologija mjerenja'!$A:$N,CO93,K$87)))","v":""},{"$f":"IF($C93=\"\",\"\",IF($C93=\"\",\"\",INDEX('F_Metodologija mjerenja'!$A:$N,CP93,L$87)))","v":""},{"$f":"IF($C93=\"\",\"\",IF($C93=\"\",\"\",INDEX('F_Metodologija mjerenja'!$A:$N,CQ93,M$87)))","v":""},{"$f":"IF($C93=\"\",\"\",IF($C93=\"\",\"\",INDEX('F_Metodologija mjerenja'!$A:$N,CL93,H$87)))","v":""},{"$f":"IF($C93=\"\",\"\",IF($C93=\"\",\"\",INDEX('F_Metodologija mjerenja'!$A:$N,CR93,N$87)))","v":""},{"$f":"IF($C93=\"\",\"\",IF($C93=\"\",\"\",INDEX('F_Metodologija mjerenja'!$A:$N,CS93,O$87)))","v":""},{"$f":"IF($C93=\"\",\"\",IF($C93=\"\",\"\",INDEX('F_Metodologija mjerenja'!$A:$N,CT93,P$87)))","v":""},{"$f":"IF($C93=\"\",\"\",IF($C93=\"\",\"\",INDEX('F_Metodologija mjerenja'!$A:$N,CU93,Q$87)))","v":""},{"$f":"IF($C93=\"\",\"\",IF($C93=\"\",\"\",INDEX('F_Metodologija mjerenja'!$A:$N,CV93,R$87)))","v":""},{"$f":"IF($C93=\"\",\"\",IF($C93=\"\",\"\",INDEX('F_Metodologija mjerenja'!$A:$N,CW93,S$87)))","v":""},{"$f":"IF($C93=\"\",\"\",IF($C93=\"\",\"\",INDEX('F_Metodologija mjerenja'!$A:$N,CX93,T$87)))","v":""},{"$f":"IF($C93=\"\",\"\",IF($C93=\"\",\"\",INDEX('F_Metodologija mjerenja'!$A:$N,CY93,U$87)))","v":""},{"$f":"IF($C93=\"\",\"\",IF($C93=\"\",\"\",INDEX('F_Metodologija mjerenja'!$A:$N,CZ93,V$87)))","v":""},{"$f":"IF($C93=\"\",\"\",IF($C93=\"\",\"\",INDEX('F_Metodologija mjerenja'!$A:$N,DA93,W$87)))","v":""},null,null,null,null,null,null,null,null,null,null,null,null,null,null,null,null,null,null,null,null,null,null,null,null,null,null,null,null,null,null,null,null,null,null,null,null,null,null,null,null,null,null,null,null,null,null,null,null,null,null,null,null,null,null,null,null,null,null,null,null,null,null,null,"SourceCategory_M3",{"$f":"INDEX('C_Opis postrojenja'!$A$171:$A$188,ROWS($CI$91:CI93))=\"ausblenden\"","v":false},{"$f":"CL92+58","v":278},{"$f":"CM92+58","v":287},{"$f":"CN92+58","v":287},{"$f":"CO92+58","v":287},{"$f":"CP92+58","v":287},{"$f":"CQ92+58","v":287},{"$f":"CR92+58","v":291},{"$f":"CS92+58","v":295},{"$f":"CT92+58","v":296},{"$f":"CU92+58","v":297},{"$f":"CV92+58","v":304},{"$f":"CW92+58","v":311},{"$f":"CX92+58","v":314},{"$f":"CY92+58","v":317},{"$f":"CZ92+58","v":320},{"$f":"DA92+58","v":323},{"$f":"DB92+58","v":329}]
[null,{"$f":"IF(COUNTIF($CK$90:CK94,TRUE)>0,\"\",INDEX('C_Opis postrojenja'!$E$171:$E$188,ROWS($A$91:A94)))","v":"M4"},{"$f":"IF(INDEX('C_Opis postrojenja'!F:F,MATCH($B94,'C_Opis postrojenja'!$E:$E,0))=\"\",\"\",INDEX('C_Opis postrojenja'!F:F,MATCH($B94,'C_Opis postrojenja'!$E:$E,0)))","v":""},{"$f":"IF($C94=\"\",\"\",INDEX('C_Opis postrojenja'!K:K,MATCH($B94,'C_Opis postrojenja'!$E:$E,0)))","v":""},null,{"$f":"IF($C94=\"\",\"\",INDEX('C_Opis postrojenja'!L:L,MATCH($B94,'C_Opis postrojenja'!$E:$E,0)))","v":""},{"$f":"IF($C94=\"\",\"\",INDEX('C_Opis postrojenja'!M:M,MATCH($B94,'C_Opis postrojenja'!$E:$E,0)))","v":""},{"$f":"IF($C94=\"\",\"\",INDEX('C_Opis postrojenja'!N:N,MATCH($B94,'C_Opis postrojenja'!$E:$E,0)))","v":""},{"$f":"IF($C94=\"\",\"\",IF($C94=\"\",\"\",INDEX('F_Metodologija mjerenja'!$A:$N,CM94,I$87)))","v":""},{"$f":"IF($C94=\"\",\"\",IF($C94=\"\",\"\",INDEX('F_Metodologija mjerenja'!$A:$N,CN94,J$87)))","v":""},{"$f":"IF($C94=\"\",\"\",IF($C94=\"\",\"\",INDEX('F_Metodologija mjerenja'!$A:$N,CO94,K$87)))","v":""},{"$f":"IF($C94=\"\",\"\",IF($C94=\"\",\"\",INDEX('F_Metodologija mjerenja'!$A:$N,CP94,L$87)))","v":""},{"$f":"IF($C94=\"\",\"\",IF($C94=\"\",\"\",INDEX('F_Metodologija mjerenja'!$A:$N,CQ94,M$87)))","v":""},{"$f":"IF($C94=\"\",\"\",IF($C94=\"\",\"\",INDEX('F_Metodologija mjerenja'!$A:$N,CL94,H$87)))","v":""},{"$f":"IF($C94=\"\",\"\",IF($C94=\"\",\"\",INDEX('F_Metodologija mjerenja'!$A:$N,CR94,N$87)))","v":""},{"$f":"IF($C94=\"\",\"\",IF($C94=\"\",\"\",INDEX('F_Metodologija mjerenja'!$A:$N,CS94,O$87)))","v":""},{"$f":"IF($C94=\"\",\"\",IF($C94=\"\",\"\",INDEX('F_Metodologija mjerenja'!$A:$N,CT94,P$87)))","v":""},{"$f":"IF($C94=\"\",\"\",IF($C94=\"\",\"\",INDEX('F_Metodologija mjerenja'!$A:$N,CU94,Q$87)))","v":""},{"$f":"IF($C94=\"\",\"\",IF($C94=\"\",\"\",INDEX('F_Metodologija mjerenja'!$A:$N,CV94,R$87)))","v":""},{"$f":"IF($C94=\"\",\"\",IF($C94=\"\",\"\",INDEX('F_Metodologija mjerenja'!$A:$N,CW94,S$87)))","v":""},{"$f":"IF($C94=\"\",\"\",IF($C94=\"\",\"\",INDEX('F_Metodologija mjerenja'!$A:$N,CX94,T$87)))","v":""},{"$f":"IF($C94=\"\",\"\",IF($C94=\"\",\"\",INDEX('F_Metodologija mjerenja'!$A:$N,CY94,U$87)))","v":""},{"$f":"IF($C94=\"\",\"\",IF($C94=\"\",\"\",INDEX('F_Metodologija mjerenja'!$A:$N,CZ94,V$87)))","v":""},{"$f":"IF($C94=\"\",\"\",IF($C94=\"\",\"\",INDEX('F_Metodologija mjerenja'!$A:$N,DA94,W$87)))","v":""},null,null,null,null,null,null,null,null,null,null,null,null,null,null,null,null,null,null,null,null,null,null,null,null,null,null,null,null,null,null,null,null,null,null,null,null,null,null,null,null,null,null,null,null,null,null,null,null,null,null,null,null,null,null,null,null,null,null,null,null,null,null,null,"SourceCategory_M4",{"$f":"INDEX('C_Opis postrojenja'!$A$171:$A$188,ROWS($CI$91:CI94))=\"ausblenden\"","v":false},{"$f":"CL93+58","v":336},345,345,345,345,345,349,353,354,355,362,369,372,375,378,381,387]
[null,{"$f":"IF(COUNTIF($CK$90:CK95,TRUE)>0,\"\",INDEX('C_Opis postrojenja'!$E$171:$E$188,ROWS($A$91:A95)))","v":"M5"},{"$f":"IF(INDEX('C_Opis postrojenja'!F:F,MATCH($B95,'C_Opis postrojenja'!$E:$E,0))=\"\",\"\",INDEX('C_Opis postrojenja'!F:F,MATCH($B95,'C_Opis postrojenja'!$E:$E,0)))","v":""},{"$f":"IF($C95=\"\",\"\",INDEX('C_Opis postrojenja'!K:K,MATCH($B95,'C_Opis postrojenja'!$E:$E,0)))","v":""},null,{"$f":"IF($C95=\"\",\"\",INDEX('C_Opis postrojenja'!L:L,MATCH($B95,'C_Opis postrojenja'!$E:$E,0)))","v":""},{"$f":"IF($C95=\"\",\"\",INDEX('C_Opis postrojenja'!M:M,MATCH($B95,'C_Opis postrojenja'!$E:$E,0)))","v":""},{"$f":"IF($C95=\"\",\"\",INDEX('C_Opis postrojenja'!N:N,MATCH($B95,'C_Opis postrojenja'!$E:$E,0)))","v":""},{"$f":"IF($C95=\"\",\"\",IF($C95=\"\",\"\",INDEX('F_Metodologija mjerenja'!$A:$N,CM95,I$87)))","v":""},{"$f":"IF($C95=\"\",\"\",IF($C95=\"\",\"\",INDEX('F_Metodologija mjerenja'!$A:$N,CN95,J$87)))","v":""},{"$f":"IF($C95=\"\",\"\",IF($C95=\"\",\"\",INDEX('F_Metodologija mjerenja'!$A:$N,CO95,K$87)))","v":""},{"$f":"IF($C95=\"\",\"\",IF($C95=\"\",\"\",INDEX('F_Metodologija mjerenja'!$A:$N,CP95,L$87)))","v":""},{"$f":"IF($C95=\"\",\"\",IF($C95=\"\",\"\",INDEX('F_Metodologija mjerenja'!$A:$N,CQ95,M$87)))","v":""},{"$f":"IF($C95=\"\",\"\",IF($C95=\"\",\"\",INDEX('F_Metodologija mjerenja'!$A:$N,CL95,H$87)))","v":""},{"$f":"IF($C95=\"\",\"\",IF($C95=\"\",\"\",INDEX('F_Metodologija mjerenja'!$A:$N,CR95,N$87)))","v":""},{"$f":"IF($C95=\"\",\"\",IF($C95=\"\",\"\",INDEX('F_Metodologija mjerenja'!$A:$N,CS95,O$87)))","v":""},{"$f":"IF($C95=\"\",\"\",IF($C95=\"\",\"\",INDEX('F_Metodologija mjerenja'!$A:$N,CT95,P$87)))","v":""},{"$f":"IF($C95=\"\",\"\",IF($C95=\"\",\"\",INDEX('F_Metodologija mjerenja'!$A:$N,CU95,Q$87)))","v":""},{"$f":"IF($C95=\"\",\"\",IF($C95=\"\",\"\",INDEX('F_Metodologija mjerenja'!$A:$N,CV95,R$87)))","v":""},{"$f":"IF($C95=\"\",\"\",IF($C95=\"\",\"\",INDEX('F_Metodologija mjerenja'!$A:$N,CW95,S$87)))","v":""},{"$f":"IF($C95=\"\",\"\",IF($C95=\"\",\"\",INDEX('F_Metodologija mjerenja'!$A:$N,CX95,T$87)))","v":""},{"$f":"IF($C95=\"\",\"\",IF($C95=\"\",\"\",INDEX('F_Metodologija mjerenja'!$A:$N,CY95,U$87)))","v":""},{"$f":"IF($C95=\"\",\"\",IF($C95=\"\",\"\",INDEX('F_Metodologija mjerenja'!$A:$N,CZ95,V$87)))","v":""},{"$f":"IF($C95=\"\",\"\",IF($C95=\"\",\"\",INDEX('F_Metodologija mjerenja'!$A:$N,DA95,W$87)))","v":""},null,null,null,null,null,null,null,null,null,null,null,null,null,null,null,null,null,null,null,null,null,null,null,null,null,null,null,null,null,null,null,null,null,null,null,null,null,null,null,null,null,null,null,null,null,null,null,null,null,null,null,null,null,null,null,null,null,null,null,null,null,null,null,"SourceCategory_M5",{"$f":"INDEX('C_Opis postrojenja'!$A$171:$A$188,ROWS($CI$91:CI95))=\"ausblenden\"","v":false},394,403,403,403,403,403,407,411,412,413,420,427,430,433,436,439,445]
[null,{"$f":"IF(COUNTIF($CK$90:CK96,TRUE)>0,\"\",INDEX('C_Opis postrojenja'!$E$171:$E$188,ROWS($A$91:A96)))","v":""},{"$f":"IF(INDEX('C_Opis postrojenja'!F:F,MATCH($B96,'C_Opis postrojenja'!$E:$E,0))=\"\",\"\",INDEX('C_Opis postrojenja'!F:F,MATCH($B96,'C_Opis postrojenja'!$E:$E,0)))","v":""},{"$f":"IF($C96=\"\",\"\",INDEX('C_Opis postrojenja'!K:K,MATCH($B96,'C_Opis postrojenja'!$E:$E,0)))","v":""},null,{"$f":"IF($C96=\"\",\"\",INDEX('C_Opis postrojenja'!L:L,MATCH($B96,'C_Opis postrojenja'!$E:$E,0)))","v":""},{"$f":"IF($C96=\"\",\"\",INDEX('C_Opis postrojenja'!M:M,MATCH($B96,'C_Opis postrojenja'!$E:$E,0)))","v":""},{"$f":"IF($C96=\"\",\"\",INDEX('C_Opis postrojenja'!N:N,MATCH($B96,'C_Opis postrojenja'!$E:$E,0)))","v":""},{"$f":"IF($C96=\"\",\"\",IF($C96=\"\",\"\",INDEX('F_Metodologija mjerenja'!$A:$N,CM96,I$87)))","v":""},{"$f":"IF($C96=\"\",\"\",IF($C96=\"\",\"\",INDEX('F_Metodologija mjerenja'!$A:$N,CN96,J$87)))","v":""},{"$f":"IF($C96=\"\",\"\",IF($C96=\"\",\"\",INDEX('F_Metodologija mjerenja'!$A:$N,CO96,K$87)))","v":""},{"$f":"IF($C96=\"\",\"\",IF($C96=\"\",\"\",INDEX('F_Metodologija mjerenja'!$A:$N,CP96,L$87)))","v":""},{"$f":"IF($C96=\"\",\"\",IF($C96=\"\",\"\",INDEX('F_Metodologija mjerenja'!$A:$N,CQ96,M$87)))","v":""},{"$f":"IF($C96=\"\",\"\",IF($C96=\"\",\"\",INDEX('F_Metodologija mjerenja'!$A:$N,CL96,H$87)))","v":""},{"$f":"IF($C96=\"\",\"\",IF($C96=\"\",\"\",INDEX('F_Metodologija mjerenja'!$A:$N,CR96,N$87)))","v":""},{"$f":"IF($C96=\"\",\"\",IF($C96=\"\",\"\",INDEX('F_Metodologija mjerenja'!$A:$N,CS96,O$87)))","v":""},{"$f":"IF($C96=\"\",\"\",IF($C96=\"\",\"\",INDEX('F_Metodologija mjerenja'!$A:$N,CT96,P$87)))","v":""},{"$f":"IF($C96=\"\",\"\",IF($C96=\"\",\"\",INDEX('F_Metodologija mjerenja'!$A:$N,CU96,Q$87)))","v":""},{"$f":"IF($C96=\"\",\"\",IF($C96=\"\",\"\",INDEX('F_Metodologija mjerenja'!$A:$N,CV96,R$87)))","v":""},{"$f":"IF($C96=\"\",\"\",IF($C96=\"\",\"\",INDEX('F_Metodologija mjerenja'!$A:$N,CW96,S$87)))","v":""},{"$f":"IF($C96=\"\",\"\",IF($C96=\"\",\"\",INDEX('F_Metodologija mjerenja'!$A:$N,CX96,T$87)))","v":""},{"$f":"IF($C96=\"\",\"\",IF($C96=\"\",\"\",INDEX('F_Metodologija mjerenja'!$A:$N,CY96,U$87)))","v":""},{"$f":"IF($C96=\"\",\"\",IF($C96=\"\",\"\",INDEX('F_Metodologija mjerenja'!$A:$N,CZ96,V$87)))","v":""},{"$f":"IF($C96=\"\",\"\",IF($C96=\"\",\"\",INDEX('F_Metodologija mjerenja'!$A:$N,DA96,W$87)))","v":""},null,null,null,null,null,null,null,null,null,null,null,null,null,null,null,null,null,null,null,null,null,null,null,null,null,null,null,null,null,null,null,null,null,null,null,null,null,null,null,null,null,null,null,null,null,null,null,null,null,null,null,null,null,null,null,null,null,null,null,null,null,null,null,"SourceCategory_",{"$f":"INDEX('C_Opis postrojenja'!$A$171:$A$188,ROWS($CI$91:CI96))=\"ausblenden\"","v":true},452,461,461,461,461,461,465,469,470,471,478,485,488,491,494,497,503]
[null,{"$f":"IF(COUNTIF($CK$90:CK97,TRUE)>0,\"\",INDEX('C_Opis postrojenja'!$E$171:$E$188,ROWS($A$91:A97)))","v":""},{"$f":"IF(INDEX('C_Opis postrojenja'!F:F,MATCH($B97,'C_Opis postrojenja'!$E:$E,0))=\"\",\"\",INDEX('C_Opis postrojenja'!F:F,MATCH($B97,'C_Opis postrojenja'!$E:$E,0)))","v":""},{"$f":"IF($C97=\"\",\"\",INDEX('C_Opis postrojenja'!K:K,MATCH($B97,'C_Opis postrojenja'!$E:$E,0)))","v":""},null,{"$f":"IF($C97=\"\",\"\",INDEX('C_Opis postrojenja'!L:L,MATCH($B97,'C_Opis postrojenja'!$E:$E,0)))","v":""},{"$f":"IF($C97=\"\",\"\",INDEX('C_Opis postrojenja'!M:M,MATCH($B97,'C_Opis postrojenja'!$E:$E,0)))","v":""},{"$f":"IF($C97=\"\",\"\",INDEX('C_Opis postrojenja'!N:N,MATCH($B97,'C_Opis postrojenja'!$E:$E,0)))","v":""},{"$f":"IF($C97=\"\",\"\",IF($C97=\"\",\"\",INDEX('F_Metodologija mjerenja'!$A:$N,CM97,I$87)))","v":""},{"$f":"IF($C97=\"\",\"\",IF($C97=\"\",\"\",INDEX('F_Metodologija mjerenja'!$A:$N,CN97,J$87)))","v":""},{"$f":"IF($C97=\"\",\"\",IF($C97=\"\",\"\",INDEX('F_Metodologija mjerenja'!$A:$N,CO97,K$87)))","v":""},{"$f":"IF($C97=\"\",\"\",IF($C97=\"\",\"\",INDEX('F_Metodologija mjerenja'!$A:$N,CP97,L$87)))","v":""},{"$f":"IF($C97=\"\",\"\",IF($C97=\"\",\"\",INDEX('F_Metodologija mjerenja'!$A:$N,CQ97,M$87)))","v":""},{"$f":"IF($C97=\"\",\"\",IF($C97=\"\",\"\",INDEX('F_Metodologija mjerenja'!$A:$N,CL97,H$87)))","v":""},{"$f":"IF($C97=\"\",\"\",IF($C97=\"\",\"\",INDEX('F_Metodologija mjerenja'!$A:$N,CR97,N$87)))","v":""},{"$f":"IF($C97=\"\",\"\",IF($C97=\"\",\"\",INDEX('F_Metodologija mjerenja'!$A:$N,CS97,O$87)))","v":""},{"$f":"IF($C97=\"\",\"\",IF($C97=\"\",\"\",INDEX('F_Metodologija mjerenja'!$A:$N,CT97,P$87)))","v":""},{"$f":"IF($C97=\"\",\"\",IF($C97=\"\",\"\",INDEX('F_Metodologija mjerenja'!$A:$N,CU97,Q$87)))","v":""},{"$f":"IF($C97=\"\",\"\",IF($C97=\"\",\"\",INDEX('F_Metodologija mjerenja'!$A:$N,CV97,R$87)))","v":""},{"$f":"IF($C97=\"\",\"\",IF($C97=\"\",\"\",INDEX('F_Metodologija mjerenja'!$A:$N,CW97,S$87)))","v":""},{"$f":"IF($C97=\"\",\"\",IF($C97=\"\",\"\",INDEX('F_Metodologija mjerenja'!$A:$N,CX97,T$87)))","v":""},{"$f":"IF($C97=\"\",\"\",IF($C97=\"\",\"\",INDEX('F_Metodologija mjerenja'!$A:$N,CY97,U$87)))","v":""},{"$f":"IF($C97=\"\",\"\",IF($C97=\"\",\"\",INDEX('F_Metodologija mjerenja'!$A:$N,CZ97,V$87)))","v":""},{"$f":"IF($C97=\"\",\"\",IF($C97=\"\",\"\",INDEX('F_Metodologija mjerenja'!$A:$N,DA97,W$87)))","v":""},null,null,null,null,null,null,null,null,null,null,null,null,null,null,null,null,null,null,null,null,null,null,null,null,null,null,null,null,null,null,null,null,null,null,null,null,null,null,null,null,null,null,null,null,null,null,null,null,null,null,null,null,null,null,null,null,null,null,null,null,null,null,null,"SourceCategory_",{"$f":"INDEX('C_Opis postrojenja'!$A$171:$A$188,ROWS($CI$91:CI97))=\"ausblenden\"","v":false},510,519,519,519,519,519,523,527,528,529,536,543,546,549,552,555,561]
[null,{"$f":"IF(COUNTIF($CK$90:CK98,TRUE)>0,\"\",INDEX('C_Opis postrojenja'!$E$171:$E$188,ROWS($A$91:A98)))","v":""},{"$f":"IF(INDEX('C_Opis postrojenja'!F:F,MATCH($B98,'C_Opis postrojenja'!$E:$E,0))=\"\",\"\",INDEX('C_Opis postrojenja'!F:F,MATCH($B98,'C_Opis postrojenja'!$E:$E,0)))","v":""},{"$f":"IF($C98=\"\",\"\",INDEX('C_Opis postrojenja'!K:K,MATCH($B98,'C_Opis postrojenja'!$E:$E,0)))","v":""},null,{"$f":"IF($C98=\"\",\"\",INDEX('C_Opis postrojenja'!L:L,MATCH($B98,'C_Opis postrojenja'!$E:$E,0)))","v":""},{"$f":"IF($C98=\"\",\"\",INDEX('C_Opis postrojenja'!M:M,MATCH($B98,'C_Opis postrojenja'!$E:$E,0)))","v":""},{"$f":"IF($C98=\"\",\"\",INDEX('C_Opis postrojenja'!N:N,MATCH($B98,'C_Opis postrojenja'!$E:$E,0)))","v":""},{"$f":"IF($C98=\"\",\"\",IF($C98=\"\",\"\",INDEX('F_Metodologija mjerenja'!$A:$N,CM98,I$87)))","v":""},{"$f":"IF($C98=\"\",\"\",IF($C98=\"\",\"\",INDEX('F_Metodologija mjerenja'!$A:$N,CN98,J$87)))","v":""},{"$f":"IF($C98=\"\",\"\",IF($C98=\"\",\"\",INDEX('F_Metodologija mjerenja'!$A:$N,CO98,K$87)))","v":""},{"$f":"IF($C98=\"\",\"\",IF($C98=\"\",\"\",INDEX('F_Metodologija mjerenja'!$A:$N,CP98,L$87)))","v":""},{"$f":"IF($C98=\"\",\"\",IF($C98=\"\",\"\",INDEX('F_Metodologija mjerenja'!$A:$N,CQ98,M$87)))","v":""},{"$f":"IF($C98=\"\",\"\",IF($C98=\"\",\"\",INDEX('F_Metodologija mjerenja'!$A:$N,CL98,H$87)))","v":""},{"$f":"IF($C98=\"\",\"\",IF($C98=\"\",\"\",INDEX('F_Metodologija mjerenja'!$A:$N,CR98,N$87)))","v":""},{"$f":"IF($C98=\"\",\"\",IF($C98=\"\",\"\",INDEX('F_Metodologija mjerenja'!$A:$N,CS98,O$87)))","v":""},{"$f":"IF($C98=\"\",\"\",IF($C98=\"\",\"\",INDEX('F_Metodologija mjerenja'!$A:$N,CT98,P$87)))","v":""},{"$f":"IF($C98=\"\",\"\",IF($C98=\"\",\"\",INDEX('F_Metodologija mjerenja'!$A:$N,CU98,Q$87)))","v":""},{"$f":"IF($C98=\"\",\"\",IF($C98=\"\",\"\",INDEX('F_Metodologija mjerenja'!$A:$N,CV98,R$87)))","v":""},{"$f":"IF($C98=\"\",\"\",IF($C98=\"\",\"\",INDEX('F_Metodologija mjerenja'!$A:$N,CW98,S$87)))","v":""},{"$f":"IF($C98=\"\",\"\",IF($C98=\"\",\"\",INDEX('F_Metodologija mjerenja'!$A:$N,CX98,T$87)))","v":""},{"$f":"IF($C98=\"\",\"\",IF($C98=\"\",\"\",INDEX('F_Metodologija mjerenja'!$A:$N,CY98,U$87)))","v":""},{"$f":"IF($C98=\"\",\"\",IF($C98=\"\",\"\",INDEX('F_Metodologija mjerenja'!$A:$N,CZ98,V$87)))","v":""},{"$f":"IF($C98=\"\",\"\",IF($C98=\"\",\"\",INDEX('F_Metodologija mjerenja'!$A:$N,DA98,W$87)))","v":""},null,null,null,null,null,null,null,null,null,null,null,null,null,null,null,null,null,null,null,null,null,null,null,null,null,null,null,null,null,null,null,null,null,null,null,null,null,null,null,null,null,null,null,null,null,null,null,null,null,null,null,null,null,null,null,null,null,null,null,null,null,null,null,"SourceCategory_",{"$f":"INDEX('C_Opis postrojenja'!$A$171:$A$188,ROWS($CI$91:CI98))=\"ausblenden\"","v":false},568,577,577,577,577,577,581,585,586,587,594,601,604,607,610,613,619]
[null,{"$f":"IF(COUNTIF($CK$90:CK99,TRUE)>0,\"\",INDEX('C_Opis postrojenja'!$E$171:$E$188,ROWS($A$91:A99)))","v":""},{"$f":"IF(INDEX('C_Opis postrojenja'!F:F,MATCH($B99,'C_Opis postrojenja'!$E:$E,0))=\"\",\"\",INDEX('C_Opis postrojenja'!F:F,MATCH($B99,'C_Opis postrojenja'!$E:$E,0)))","v":""},{"$f":"IF($C99=\"\",\"\",INDEX('C_Opis postrojenja'!K:K,MATCH($B99,'C_Opis postrojenja'!$E:$E,0)))","v":""},null,{"$f":"IF($C99=\"\",\"\",INDEX('C_Opis postrojenja'!L:L,MATCH($B99,'C_Opis postrojenja'!$E:$E,0)))","v":""},{"$f":"IF($C99=\"\",\"\",INDEX('C_Opis postrojenja'!M:M,MATCH($B99,'C_Opis postrojenja'!$E:$E,0)))","v":""},{"$f":"IF($C99=\"\",\"\",INDEX('C_Opis postrojenja'!N:N,MATCH($B99,'C_Opis postrojenja'!$E:$E,0)))","v":""},{"$f":"IF($C99=\"\",\"\",IF($C99=\"\",\"\",INDEX('F_Metodologija mjerenja'!$A:$N,CM99,I$87)))","v":""},{"$f":"IF($C99=\"\",\"\",IF($C99=\"\",\"\",INDEX('F_Metodologija mjerenja'!$A:$N,CN99,J$87)))","v":""},{"$f":"IF($C99=\"\",\"\",IF($C99=\"\",\"\",INDEX('F_Metodologija mjerenja'!$A:$N,CO99,K$87)))","v":""},{"$f":"IF($C99=\"\",\"\",IF($C99=\"\",\"\",INDEX('F_Metodologija mjerenja'!$A:$N,CP99,L$87)))","v":""},{"$f":"IF($C99=\"\",\"\",IF($C99=\"\",\"\",INDEX('F_Metodologija mjerenja'!$A:$N,CQ99,M$87)))","v":""},{"$f":"IF($C99=\"\",\"\",IF($C99=\"\",\"\",INDEX('F_Metodologija mjerenja'!$A:$N,CL99,H$87)))","v":""},{"$f":"IF($C99=\"\",\"\",IF($C99=\"\",\"\",INDEX('F_Metodologija mjerenja'!$A:$N,CR99,N$87)))","v":""},{"$f":"IF($C99=\"\",\"\",IF($C99=\"\",\"\",INDEX('F_Metodologija mjerenja'!$A:$N,CS99,O$87)))","v":""},{"$f":"IF($C99=\"\",\"\",IF($C99=\"\",\"\",INDEX('F_Metodologija mjerenja'!$A:$N,CT99,P$87)))","v":""},{"$f":"IF($C99=\"\",\"\",IF($C99=\"\",\"\",INDEX('F_Metodologija mjerenja'!$A:$N,CU99,Q$87)))","v":""},{"$f":"IF($C99=\"\",\"\",IF($C99=\"\",\"\",INDEX('F_Metodologija mjerenja'!$A:$N,CV99,R$87)))","v":""},{"$f":"IF($C99=\"\",\"\",IF($C99=\"\",\"\",INDEX('F_Metodologija mjerenja'!$A:$N,CW99,S$87)))","v":""},{"$f":"IF($C99=\"\",\"\",IF($C99=\"\",\"\",INDEX('F_Metodologija mjerenja'!$A:$N,CX99,T$87)))","v":""},{"$f":"IF($C99=\"\",\"\",IF($C99=\"\",\"\",INDEX('F_Metodologija mjerenja'!$A:$N,CY99,U$87)))","v":""},{"$f":"IF($C99=\"\",\"\",IF($C99=\"\",\"\",INDEX('F_Metodologija mjerenja'!$A:$N,CZ99,V$87)))","v":""},{"$f":"IF($C99=\"\",\"\",IF($C99=\"\",\"\",INDEX('F_Metodologija mjerenja'!$A:$N,DA99,W$87)))","v":""},null,null,null,null,null,null,null,null,null,null,null,null,null,null,null,null,null,null,null,null,null,null,null,null,null,null,null,null,null,null,null,null,null,null,null,null,null,null,null,null,null,null,null,null,null,null,null,null,null,null,null,null,null,null,null,null,null,null,null,null,null,null,null,"SourceCategory_",{"$f":"INDEX('C_Opis postrojenja'!$A$171:$A$188,ROWS($CI$91:CI99))=\"ausblenden\"","v":false},626,635,635,635,635,635,639,643,644,645,652,659,662,665,668,671,677]
[null,{"$f":"IF(COUNTIF($CK$90:CK100,TRUE)>0,\"\",INDEX('C_Opis postrojenja'!$E$171:$E$188,ROWS($A$91:A100)))","v":""},{"$f":"IF(INDEX('C_Opis postrojenja'!F:F,MATCH($B100,'C_Opis postrojenja'!$E:$E,0))=\"\",\"\",INDEX('C_Opis postrojenja'!F:F,MATCH($B100,'C_Opis postrojenja'!$E:$E,0)))","v":""},{"$f":"IF($C100=\"\",\"\",INDEX('C_Opis postrojenja'!K:K,MATCH($B100,'C_Opis postrojenja'!$E:$E,0)))","v":""},null,{"$f":"IF($C100=\"\",\"\",INDEX('C_Opis postrojenja'!L:L,MATCH($B100,'C_Opis postrojenja'!$E:$E,0)))","v":""},{"$f":"IF($C100=\"\",\"\",INDEX('C_Opis postrojenja'!M:M,MATCH($B100,'C_Opis postrojenja'!$E:$E,0)))","v":""},{"$f":"IF($C100=\"\",\"\",INDEX('C_Opis postrojenja'!N:N,MATCH($B100,'C_Opis postrojenja'!$E:$E,0)))","v":""},{"$f":"IF($C100=\"\",\"\",IF($C100=\"\",\"\",INDEX('F_Metodologija mjerenja'!$A:$N,CM100,I$87)))","v":""},{"$f":"IF($C100=\"\",\"\",IF($C100=\"\",\"\",INDEX('F_Metodologija mjerenja'!$A:$N,CN100,J$87)))","v":""},{"$f":"IF($C100=\"\",\"\",IF($C100=\"\",\"\",INDEX('F_Metodologija mjerenja'!$A:$N,CO100,K$87)))","v":""},{"$f":"IF($C100=\"\",\"\",IF($C100=\"\",\"\",INDEX('F_Metodologija mjerenja'!$A:$N,CP100,L$87)))","v":""},{"$f":"IF($C100=\"\",\"\",IF($C100=\"\",\"\",INDEX('F_Metodologija mjerenja'!$A:$N,CQ100,M$87)))","v":""},{"$f":"IF($C100=\"\",\"\",IF($C100=\"\",\"\",INDEX('F_Metodologija mjerenja'!$A:$N,CL100,H$87)))","v":""},{"$f":"IF($C100=\"\",\"\",IF($C100=\"\",\"\",INDEX('F_Metodologija mjerenja'!$A:$N,CR100,N$87)))","v":""},{"$f":"IF($C100=\"\",\"\",IF($C100=\"\",\"\",INDEX('F_Metodologija mjerenja'!$A:$N,CS100,O$87)))","v":""},{"$f":"IF($C100=\"\",\"\",IF($C100=\"\",\"\",INDEX('F_Metodologija mjerenja'!$A:$N,CT100,P$87)))","v":""},{"$f":"IF($C100=\"\",\"\",IF($C100=\"\",\"\",INDEX('F_Metodologija mjerenja'!$A:$N,CU100,Q$87)))","v":""},{"$f":"IF($C100=\"\",\"\",IF($C100=\"\",\"\",INDEX('F_Metodologija mjerenja'!$A:$N,CV100,R$87)))","v":""},{"$f":"IF($C100=\"\",\"\",IF($C100=\"\",\"\",INDEX('F_Metodologija mjerenja'!$A:$N,CW100,S$87)))","v":""},{"$f":"IF($C100=\"\",\"\",IF($C100=\"\",\"\",INDEX('F_Metodologija mjerenja'!$A:$N,CX100,T$87)))","v":""},{"$f":"IF($C100=\"\",\"\",IF($C100=\"\",\"\",INDEX('F_Metodologija mjerenja'!$A:$N,CY100,U$87)))","v":""},{"$f":"IF($C100=\"\",\"\",IF($C100=\"\",\"\",INDEX('F_Metodologija mjerenja'!$A:$N,CZ100,V$87)))","v":""},{"$f":"IF($C100=\"\",\"\",IF($C100=\"\",\"\",INDEX('F_Metodologija mjerenja'!$A:$N,DA100,W$87)))","v":""},null,null,null,null,null,null,null,null,null,null,null,null,null,null,null,null,null,null,null,null,null,null,null,null,null,null,null,null,null,null,null,null,null,null,null,null,null,null,null,null,null,null,null,null,null,null,null,null,null,null,null,null,null,null,null,null,null,null,null,null,null,null,null,"SourceCategory_",{"$f":"INDEX('C_Opis postrojenja'!$A$171:$A$188,ROWS($CI$91:CI100))=\"ausblenden\"","v":false},684,693,693,693,693,693,697,701,702,703,710,717,720,723,726,729,735]
[null,{"$f":"IF(COUNTIF($CK$90:CK101,TRUE)>0,\"\",INDEX('C_Opis postrojenja'!$E$171:$E$188,ROWS($A$91:A101)))","v":""},{"$f":"IF(INDEX('C_Opis postrojenja'!F:F,MATCH($B101,'C_Opis postrojenja'!$E:$E,0))=\"\",\"\",INDEX('C_Opis postrojenja'!F:F,MATCH($B101,'C_Opis postrojenja'!$E:$E,0)))","v":""},{"$f":"IF($C101=\"\",\"\",INDEX('C_Opis postrojenja'!K:K,MATCH($B101,'C_Opis postrojenja'!$E:$E,0)))","v":""},null,{"$f":"IF($C101=\"\",\"\",INDEX('C_Opis postrojenja'!L:L,MATCH($B101,'C_Opis postrojenja'!$E:$E,0)))","v":""},{"$f":"IF($C101=\"\",\"\",INDEX('C_Opis postrojenja'!M:M,MATCH($B101,'C_Opis postrojenja'!$E:$E,0)))","v":""},{"$f":"IF($C101=\"\",\"\",INDEX('C_Opis postrojenja'!N:N,MATCH($B101,'C_Opis postrojenja'!$E:$E,0)))","v":""},{"$f":"IF($C101=\"\",\"\",IF($C101=\"\",\"\",INDEX('F_Metodologija mjerenja'!$A:$N,CM101,I$87)))","v":""},{"$f":"IF($C101=\"\",\"\",IF($C101=\"\",\"\",INDEX('F_Metodologija mjerenja'!$A:$N,CN101,J$87)))","v":""},{"$f":"IF($C101=\"\",\"\",IF($C101=\"\",\"\",INDEX('F_Metodologija mjerenja'!$A:$N,CO101,K$87)))","v":""},{"$f":"IF($C101=\"\",\"\",IF($C101=\"\",\"\",INDEX('F_Metodologija mjerenja'!$A:$N,CP101,L$87)))","v":""},{"$f":"IF($C101=\"\",\"\",IF($C101=\"\",\"\",INDEX('F_Metodologija mjerenja'!$A:$N,CQ101,M$87)))","v":""},{"$f":"IF($C101=\"\",\"\",IF($C101=\"\",\"\",INDEX('F_Metodologija mjerenja'!$A:$N,CL101,H$87)))","v":""},{"$f":"IF($C101=\"\",\"\",IF($C101=\"\",\"\",INDEX('F_Metodologija mjerenja'!$A:$N,CR101,N$87)))","v":""},{"$f":"IF($C101=\"\",\"\",IF($C101=\"\",\"\",INDEX('F_Metodologija mjerenja'!$A:$N,CS101,O$87)))","v":""},{"$f":"IF($C101=\"\",\"\",IF($C101=\"\",\"\",INDEX('F_Metodologija mjerenja'!$A:$N,CT101,P$87)))","v":""},{"$f":"IF($C101=\"\",\"\",IF($C101=\"\",\"\",INDEX('F_Metodologija mjerenja'!$A:$N,CU101,Q$87)))","v":""},{"$f":"IF($C101=\"\",\"\",IF($C101=\"\",\"\",INDEX('F_Metodologija mjerenja'!$A:$N,CV101,R$87)))","v":""},{"$f":"IF($C101=\"\",\"\",IF($C101=\"\",\"\",INDEX('F_Metodologija mjerenja'!$A:$N,CW101,S$87)))","v":""},{"$f":"IF($C101=\"\",\"\",IF($C101=\"\",\"\",INDEX('F_Metodologija mjerenja'!$A:$N,CX101,T$87)))","v":""},{"$f":"IF($C101=\"\",\"\",IF($C101=\"\",\"\",INDEX('F_Metodologija mjerenja'!$A:$N,CY101,U$87)))","v":""},{"$f":"IF($C101=\"\",\"\",IF($C101=\"\",\"\",INDEX('F_Metodologija mjerenja'!$A:$N,CZ101,V$87)))","v":""},{"$f":"IF($C101=\"\",\"\",IF($C101=\"\",\"\",INDEX('F_Metodologija mjerenja'!$A:$N,DA101,W$87)))","v":""},null,null,null,null,null,null,null,null,null,null,null,null,null,null,null,null,null,null,null,null,null,null,null,null,null,null,null,null,null,null,null,null,null,null,null,null,null,null,null,null,null,null,null,null,null,null,null,null,null,null,null,null,null,null,null,null,null,null,null,null,null,null,null,"SourceCategory_",{"$f":"INDEX('C_Opis postrojenja'!$A$171:$A$188,ROWS($CI$91:CI101))=\"ausblenden\"","v":false},742,751,751,751,751,751,755,759,760,761,768,775,778,781,784,787,793]
[null,{"$f":"IF(COUNTIF($CK$90:CK102,TRUE)>0,\"\",INDEX('C_Opis postrojenja'!$E$171:$E$188,ROWS($A$91:A102)))","v":""},{"$f":"IF(INDEX('C_Opis postrojenja'!F:F,MATCH($B102,'C_Opis postrojenja'!$E:$E,0))=\"\",\"\",INDEX('C_Opis postrojenja'!F:F,MATCH($B102,'C_Opis postrojenja'!$E:$E,0)))","v":""},{"$f":"IF($C102=\"\",\"\",INDEX('C_Opis postrojenja'!K:K,MATCH($B102,'C_Opis postrojenja'!$E:$E,0)))","v":""},null,{"$f":"IF($C102=\"\",\"\",INDEX('C_Opis postrojenja'!L:L,MATCH($B102,'C_Opis postrojenja'!$E:$E,0)))","v":""},{"$f":"IF($C102=\"\",\"\",INDEX('C_Opis postrojenja'!M:M,MATCH($B102,'C_Opis postrojenja'!$E:$E,0)))","v":""},{"$f":"IF($C102=\"\",\"\",INDEX('C_Opis postrojenja'!N:N,MATCH($B102,'C_Opis postrojenja'!$E:$E,0)))","v":""},{"$f":"IF($C102=\"\",\"\",IF($C102=\"\",\"\",INDEX('F_Metodologija mjerenja'!$A:$N,CM102,I$87)))","v":""},{"$f":"IF($C102=\"\",\"\",IF($C102=\"\",\"\",INDEX('F_Metodologija mjerenja'!$A:$N,CN102,J$87)))","v":""},{"$f":"IF($C102=\"\",\"\",IF($C102=\"\",\"\",INDEX('F_Metodologija mjerenja'!$A:$N,CO102,K$87)))","v":""},{"$f":"IF($C102=\"\",\"\",IF($C102=\"\",\"\",INDEX('F_Metodologija mjerenja'!$A:$N,CP102,L$87)))","v":""},{"$f":"IF($C102=\"\",\"\",IF($C102=\"\",\"\",INDEX('F_Metodologija mjerenja'!$A:$N,CQ102,M$87)))","v":""},{"$f":"IF($C102=\"\",\"\",IF($C102=\"\",\"\",INDEX('F_Metodologija mjerenja'!$A:$N,CL102,H$87)))","v":""},{"$f":"IF($C102=\"\",\"\",IF($C102=\"\",\"\",INDEX('F_Metodologija mjerenja'!$A:$N,CR102,N$87)))","v":""},{"$f":"IF($C102=\"\",\"\",IF($C102=\"\",\"\",INDEX('F_Metodologija mjerenja'!$A:$N,CS102,O$87)))","v":""},{"$f":"IF($C102=\"\",\"\",IF($C102=\"\",\"\",INDEX('F_Metodologija mjerenja'!$A:$N,CT102,P$87)))","v":""},{"$f":"IF($C102=\"\",\"\",IF($C102=\"\",\"\",INDEX('F_Metodologija mjerenja'!$A:$N,CU102,Q$87)))","v":""},{"$f":"IF($C102=\"\",\"\",IF($C102=\"\",\"\",INDEX('F_Metodologija mjerenja'!$A:$N,CV102,R$87)))","v":""},{"$f":"IF($C102=\"\",\"\",IF($C102=\"\",\"\",INDEX('F_Metodologija mjerenja'!$A:$N,CW102,S$87)))","v":""},{"$f":"IF($C102=\"\",\"\",IF($C102=\"\",\"\",INDEX('F_Metodologija mjerenja'!$A:$N,CX102,T$87)))","v":""},{"$f":"IF($C102=\"\",\"\",IF($C102=\"\",\"\",INDEX('F_Metodologija mjerenja'!$A:$N,CY102,U$87)))","v":""},{"$f":"IF($C102=\"\",\"\",IF($C102=\"\",\"\",INDEX('F_Metodologija mjerenja'!$A:$N,CZ102,V$87)))","v":""},{"$f":"IF($C102=\"\",\"\",IF($C102=\"\",\"\",INDEX('F_Metodologija mjerenja'!$A:$N,DA102,W$87)))","v":""},null,null,null,null,null,null,null,null,null,null,null,null,null,null,null,null,null,null,null,null,null,null,null,null,null,null,null,null,null,null,null,null,null,null,null,null,null,null,null,null,null,null,null,null,null,null,null,null,null,null,null,null,null,null,null,null,null,null,null,null,null,null,null,"SourceCategory_",{"$f":"INDEX('C_Opis postrojenja'!$A$171:$A$188,ROWS($CI$91:CI102))=\"ausblenden\"","v":false},800,809,809,809,809,809,813,817,818,819,826,833,836,839,842,845,851]
[null,{"$f":"IF(COUNTIF($CK$90:CK103,TRUE)>0,\"\",INDEX('C_Opis postrojenja'!$E$171:$E$188,ROWS($A$91:A103)))","v":""},{"$f":"IF(INDEX('C_Opis postrojenja'!F:F,MATCH($B103,'C_Opis postrojenja'!$E:$E,0))=\"\",\"\",INDEX('C_Opis postrojenja'!F:F,MATCH($B103,'C_Opis postrojenja'!$E:$E,0)))","v":""},{"$f":"IF($C103=\"\",\"\",INDEX('C_Opis postrojenja'!K:K,MATCH($B103,'C_Opis postrojenja'!$E:$E,0)))","v":""},null,{"$f":"IF($C103=\"\",\"\",INDEX('C_Opis postrojenja'!L:L,MATCH($B103,'C_Opis postrojenja'!$E:$E,0)))","v":""},{"$f":"IF($C103=\"\",\"\",INDEX('C_Opis postrojenja'!M:M,MATCH($B103,'C_Opis postrojenja'!$E:$E,0)))","v":""},{"$f":"IF($C103=\"\",\"\",INDEX('C_Opis postrojenja'!N:N,MATCH($B103,'C_Opis postrojenja'!$E:$E,0)))","v":""},{"$f":"IF($C103=\"\",\"\",IF($C103=\"\",\"\",INDEX('F_Metodologija mjerenja'!$A:$N,CM103,I$87)))","v":""},{"$f":"IF($C103=\"\",\"\",IF($C103=\"\",\"\",INDEX('F_Metodologija mjerenja'!$A:$N,CN103,J$87)))","v":""},{"$f":"IF($C103=\"\",\"\",IF($C103=\"\",\"\",INDEX('F_Metodologija mjerenja'!$A:$N,CO103,K$87)))","v":""},{"$f":"IF($C103=\"\",\"\",IF($C103=\"\",\"\",INDEX('F_Metodologija mjerenja'!$A:$N,CP103,L$87)))","v":""},{"$f":"IF($C103=\"\",\"\",IF($C103=\"\",\"\",INDEX('F_Metodologija mjerenja'!$A:$N,CQ103,M$87)))","v":""},{"$f":"IF($C103=\"\",\"\",IF($C103=\"\",\"\",INDEX('F_Metodologija mjerenja'!$A:$N,CL103,H$87)))","v":""},{"$f":"IF($C103=\"\",\"\",IF($C103=\"\",\"\",INDEX('F_Metodologija mjerenja'!$A:$N,CR103,N$87)))","v":""},{"$f":"IF($C103=\"\",\"\",IF($C103=\"\",\"\",INDEX('F_Metodologija mjerenja'!$A:$N,CS103,O$87)))","v":""},{"$f":"IF($C103=\"\",\"\",IF($C103=\"\",\"\",INDEX('F_Metodologija mjerenja'!$A:$N,CT103,P$87)))","v":""},{"$f":"IF($C103=\"\",\"\",IF($C103=\"\",\"\",INDEX('F_Metodologija mjerenja'!$A:$N,CU103,Q$87)))","v":""},{"$f":"IF($C103=\"\",\"\",IF($C103=\"\",\"\",INDEX('F_Metodologija mjerenja'!$A:$N,CV103,R$87)))","v":""},{"$f":"IF($C103=\"\",\"\",IF($C103=\"\",\"\",INDEX('F_Metodologija mjerenja'!$A:$N,CW103,S$87)))","v":""},{"$f":"IF($C103=\"\",\"\",IF($C103=\"\",\"\",INDEX('F_Metodologija mjerenja'!$A:$N,CX103,T$87)))","v":""},{"$f":"IF($C103=\"\",\"\",IF($C103=\"\",\"\",INDEX('F_Metodologija mjerenja'!$A:$N,CY103,U$87)))","v":""},{"$f":"IF($C103=\"\",\"\",IF($C103=\"\",\"\",INDEX('F_Metodologija mjerenja'!$A:$N,CZ103,V$87)))","v":""},{"$f":"IF($C103=\"\",\"\",IF($C103=\"\",\"\",INDEX('F_Metodologija mjerenja'!$A:$N,DA103,W$87)))","v":""},null,null,null,null,null,null,null,null,null,null,null,null,null,null,null,null,null,null,null,null,null,null,null,null,null,null,null,null,null,null,null,null,null,null,null,null,null,null,null,null,null,null,null,null,null,null,null,null,null,null,null,null,null,null,null,null,null,null,null,null,null,null,null,"SourceCategory_",{"$f":"INDEX('C_Opis postrojenja'!$A$171:$A$188,ROWS($CI$91:CI103))=\"ausblenden\"","v":false},858,867,867,867,867,867,871,875,876,877,884,891,894,897,900,903,909]
[null,{"$f":"IF(COUNTIF($CK$90:CK104,TRUE)>0,\"\",INDEX('C_Opis postrojenja'!$E$171:$E$188,ROWS($A$91:A104)))","v":""},{"$f":"IF(INDEX('C_Opis postrojenja'!F:F,MATCH($B104,'C_Opis postrojenja'!$E:$E,0))=\"\",\"\",INDEX('C_Opis postrojenja'!F:F,MATCH($B104,'C_Opis postrojenja'!$E:$E,0)))","v":""},{"$f":"IF($C104=\"\",\"\",INDEX('C_Opis postrojenja'!K:K,MATCH($B104,'C_Opis postrojenja'!$E:$E,0)))","v":""},null,{"$f":"IF($C104=\"\",\"\",INDEX('C_Opis postrojenja'!L:L,MATCH($B104,'C_Opis postrojenja'!$E:$E,0)))","v":""},{"$f":"IF($C104=\"\",\"\",INDEX('C_Opis postrojenja'!M:M,MATCH($B104,'C_Opis postrojenja'!$E:$E,0)))","v":""},{"$f":"IF($C104=\"\",\"\",INDEX('C_Opis postrojenja'!N:N,MATCH($B104,'C_Opis postrojenja'!$E:$E,0)))","v":""},{"$f":"IF($C104=\"\",\"\",IF($C104=\"\",\"\",INDEX('F_Metodologija mjerenja'!$A:$N,CM104,I$87)))","v":""},{"$f":"IF($C104=\"\",\"\",IF($C104=\"\",\"\",INDEX('F_Metodologija mjerenja'!$A:$N,CN104,J$87)))","v":""},{"$f":"IF($C104=\"\",\"\",IF($C104=\"\",\"\",INDEX('F_Metodologija mjerenja'!$A:$N,CO104,K$87)))","v":""},{"$f":"IF($C104=\"\",\"\",IF($C104=\"\",\"\",INDEX('F_Metodologija mjerenja'!$A:$N,CP104,L$87)))","v":""},{"$f":"IF($C104=\"\",\"\",IF($C104=\"\",\"\",INDEX('F_Metodologija mjerenja'!$A:$N,CQ104,M$87)))","v":""},{"$f":"IF($C104=\"\",\"\",IF($C104=\"\",\"\",INDEX('F_Metodologija mjerenja'!$A:$N,CL104,H$87)))","v":""},{"$f":"IF($C104=\"\",\"\",IF($C104=\"\",\"\",INDEX('F_Metodologija mjerenja'!$A:$N,CR104,N$87)))","v":""},{"$f":"IF($C104=\"\",\"\",IF($C104=\"\",\"\",INDEX('F_Metodologija mjerenja'!$A:$N,CS104,O$87)))","v":""},{"$f":"IF($C104=\"\",\"\",IF($C104=\"\",\"\",INDEX('F_Metodologija mjerenja'!$A:$N,CT104,P$87)))","v":""},{"$f":"IF($C104=\"\",\"\",IF($C104=\"\",\"\",INDEX('F_Metodologija mjerenja'!$A:$N,CU104,Q$87)))","v":""},{"$f":"IF($C104=\"\",\"\",IF($C104=\"\",\"\",INDEX('F_Metodologija mjerenja'!$A:$N,CV104,R$87)))","v":""},{"$f":"IF($C104=\"\",\"\",IF($C104=\"\",\"\",INDEX('F_Metodologija mjerenja'!$A:$N,CW104,S$87)))","v":""},{"$f":"IF($C104=\"\",\"\",IF($C104=\"\",\"\",INDEX('F_Metodologija mjerenja'!$A:$N,CX104,T$87)))","v":""},{"$f":"IF($C104=\"\",\"\",IF($C104=\"\",\"\",INDEX('F_Metodologija mjerenja'!$A:$N,CY104,U$87)))","v":""},{"$f":"IF($C104=\"\",\"\",IF($C104=\"\",\"\",INDEX('F_Metodologija mjerenja'!$A:$N,CZ104,V$87)))","v":""},{"$f":"IF($C104=\"\",\"\",IF($C104=\"\",\"\",INDEX('F_Metodologija mjerenja'!$A:$N,DA104,W$87)))","v":""},null,null,null,null,null,null,null,null,null,null,null,null,null,null,null,null,null,null,null,null,null,null,null,null,null,null,null,null,null,null,null,null,null,null,null,null,null,null,null,null,null,null,null,null,null,null,null,null,null,null,null,null,null,null,null,null,null,null,null,null,null,null,null,"SourceCategory_",{"$f":"INDEX('C_Opis postrojenja'!$A$171:$A$188,ROWS($CI$91:CI104))=\"ausblenden\"","v":false},916,925,925,925,925,925,929,933,934,935,942,949,952,955,958,961,967]
[null,{"$f":"IF(COUNTIF($CK$90:CK105,TRUE)>0,\"\",INDEX('C_Opis postrojenja'!$E$171:$E$188,ROWS($A$91:A105)))","v":""},{"$f":"IF(INDEX('C_Opis postrojenja'!F:F,MATCH($B105,'C_Opis postrojenja'!$E:$E,0))=\"\",\"\",INDEX('C_Opis postrojenja'!F:F,MATCH($B105,'C_Opis postrojenja'!$E:$E,0)))","v":""},{"$f":"IF($C105=\"\",\"\",INDEX('C_Opis postrojenja'!K:K,MATCH($B105,'C_Opis postrojenja'!$E:$E,0)))","v":""},null,{"$f":"IF($C105=\"\",\"\",INDEX('C_Opis postrojenja'!L:L,MATCH($B105,'C_Opis postrojenja'!$E:$E,0)))","v":""},{"$f":"IF($C105=\"\",\"\",INDEX('C_Opis postrojenja'!M:M,MATCH($B105,'C_Opis postrojenja'!$E:$E,0)))","v":""},{"$f":"IF($C105=\"\",\"\",INDEX('C_Opis postrojenja'!N:N,MATCH($B105,'C_Opis postrojenja'!$E:$E,0)))","v":""},{"$f":"IF($C105=\"\",\"\",IF($C105=\"\",\"\",INDEX('F_Metodologija mjerenja'!$A:$N,CM105,I$87)))","v":""},{"$f":"IF($C105=\"\",\"\",IF($C105=\"\",\"\",INDEX('F_Metodologija mjerenja'!$A:$N,CN105,J$87)))","v":""},{"$f":"IF($C105=\"\",\"\",IF($C105=\"\",\"\",INDEX('F_Metodologija mjerenja'!$A:$N,CO105,K$87)))","v":""},{"$f":"IF($C105=\"\",\"\",IF($C105=\"\",\"\",INDEX('F_Metodologija mjerenja'!$A:$N,CP105,L$87)))","v":""},{"$f":"IF($C105=\"\",\"\",IF($C105=\"\",\"\",INDEX('F_Metodologija mjerenja'!$A:$N,CQ105,M$87)))","v":""},{"$f":"IF($C105=\"\",\"\",IF($C105=\"\",\"\",INDEX('F_Metodologija mjerenja'!$A:$N,CL105,H$87)))","v":""},{"$f":"IF($C105=\"\",\"\",IF($C105=\"\",\"\",INDEX('F_Metodologija mjerenja'!$A:$N,CR105,N$87)))","v":""},{"$f":"IF($C105=\"\",\"\",IF($C105=\"\",\"\",INDEX('F_Metodologija mjerenja'!$A:$N,CS105,O$87)))","v":""},{"$f":"IF($C105=\"\",\"\",IF($C105=\"\",\"\",INDEX('F_Metodologija mjerenja'!$A:$N,CT105,P$87)))","v":""},{"$f":"IF($C105=\"\",\"\",IF($C105=\"\",\"\",INDEX('F_Metodologija mjerenja'!$A:$N,CU105,Q$87)))","v":""},{"$f":"IF($C105=\"\",\"\",IF($C105=\"\",\"\",INDEX('F_Metodologija mjerenja'!$A:$N,CV105,R$87)))","v":""},{"$f":"IF($C105=\"\",\"\",IF($C105=\"\",\"\",INDEX('F_Metodologija mjerenja'!$A:$N,CW105,S$87)))","v":""},{"$f":"IF($C105=\"\",\"\",IF($C105=\"\",\"\",INDEX('F_Metodologija mjerenja'!$A:$N,CX105,T$87)))","v":""},{"$f":"IF($C105=\"\",\"\",IF($C105=\"\",\"\",INDEX('F_Metodologija mjerenja'!$A:$N,CY105,U$87)))","v":""},{"$f":"IF($C105=\"\",\"\",IF($C105=\"\",\"\",INDEX('F_Metodologija mjerenja'!$A:$N,CZ105,V$87)))","v":""},{"$f":"IF($C105=\"\",\"\",IF($C105=\"\",\"\",INDEX('F_Metodologija mjerenja'!$A:$N,DA105,W$87)))","v":""},null,null,null,null,null,null,null,null,null,null,null,null,null,null,null,null,null,null,null,null,null,null,null,null,null,null,null,null,null,null,null,null,null,null,null,null,null,null,null,null,null,null,null,null,null,null,null,null,null,null,null,null,null,null,null,null,null,null,null,null,null,null,null,"SourceCategory_",{"$f":"INDEX('C_Opis postrojenja'!$A$171:$A$188,ROWS($CI$91:CI105))=\"ausblenden\"","v":false},974,983,983,983,983,983,987,991,992,993,1000,1007,1010,1013,1016,1019,1025]
[]
["ausblenden",null,null,null,null,null,null,null,null,8,8,8,8,8,8,8,8,8,8,8,8,8,8,8,8,8,9,10,11,12,13,14,8,8,9,10,11,12,13,14,8,8,9,10,11,12,13,14,9,10,11,12,13,14,5,5]
[null,{"$f":"Translations!$B$1239","v":"Emisije PFC-a"}]
[null,null,null,null,null,null,null,null,null,{"$f":"'I_Određivanje PFC emisija'!D89","v":"Primarna proizvodnja aluminija:"},null,null,{"$f":"'I_Određivanje PFC emisija'!D94","v":"Metoda A: broj anodnog učinka ćelija po danu"},null,null,{"$f":"'I_Određivanje PFC emisija'!D99","v":"Metoda A: prosjek anodnog učinka minute po pojavi "},null,null,{"$f":"'I_Određivanje PFC emisija'!D104","v":"Metoda B: anodni učinak prednapona po ćeliji"},null,null,{"$f":"'I_Određivanje PFC emisija'!D109","v":"Metoda B: Trenutna učinkovitost"},null,null,{"$f":"'I_Određivanje PFC emisija'!E118","v":"SEF (CF4) Nagibni emisijski faktor"},null,null,null,null,null,null,null,{"$f":"'I_Određivanje PFC emisija'!E119","v":"OVC (koeficijent prednapona)"},null,null,null,null,null,null,null,{"$f":"'I_Određivanje PFC emisija'!E120","v":"F(C2F6) Maseni udio C2F6"},null,null,null,null,null,null,null,{"$f":"'I_Određivanje PFC emisija'!E133","v":"Učinkovitost prikupljanja  "}]
[null,{"$f":"Translations!$B$287","v":"Oznaka tokova izvora F1, F2,…"},{"$f":"'I_Određivanje PFC emisija'!E49","v":"Naziv toka izvora"},{"$f":"'I_Određivanje PFC emisija'!H49","v":"Vrsta toka izvora"},{"$f":"Translations!$B$310","v":"Puni naziv tokova izvora (naziv + vrsta)"},{"$f":"Translations!$B$276","v":"Procijenjene emisije (t CO2e/godina)"},{"$f":"Translations!$B$277","v":"Moguća kategorija"},{"$f":"Translations!$B$311","v":"Odabrana kategorija"},{"$f":"Translations!$B$647","v":"Vrsta ćelija"},{"$f":"'I_Određivanje PFC emisija'!$E$90","v":"Zahtijevana razina točnosti za podatak o djelatnosti:"},{"$f":"'I_Određivanje PFC emisija'!$E$91","v":"Korištena razina točnosti za podatak o djelatnosti:"},{"$f":"'I_Određivanje PFC emisija'!$E$92","v":"Postignuta nesigurnost:"},{"$f":"'I_Određivanje PFC emisija'!$E$90","v":"Zahtijevana razina točnosti za podatak o djelatnosti:"},{"$f":"'I_Određivanje PFC emisija'!$E$91","v":"Korištena razina točnosti za podatak o djelatnosti:"},{"$f":"'I_Određivanje PFC emisija'!$E$92","v":"Postignuta nesigurnost:"},{"$f":"'I_Određivanje PFC emisija'!$E$90","v":"Zahtijevana razina točnosti za podatak o djelatnosti:"},{"$f":"'I_Određivanje PFC emisija'!$E$91","v":"Korištena razina točnosti za podatak o djelatnosti:"},{"$f":"'I_Određivanje PFC emisija'!$E$92","v":"Postignuta nesigurnost:"},{"$f":"'I_Određivanje PFC emisija'!$E$90","v":"Zahtijevana razina točnosti za podatak o djelatnosti:"},{"$f":"'I_Određivanje PFC emisija'!$E$91","v":"Korištena razina točnosti za podatak o djelatnosti:"},{"$f":"'I_Određivanje PFC emisija'!$E$92","v":"Postignuta nesigurnost:"},{"$f":"'I_Određivanje PFC emisija'!$E$90","v":"Zahtijevana razina točnosti za podatak o djelatnosti:"},{"$f":"'I_Određivanje PFC emisija'!$E$91","v":"Korištena razina točnosti za podatak o djelatnosti:"},{"$f":"'I_Određivanje PFC emisija'!$E$92","v":"Postignuta nesigurnost:"},{"$f":"'I_Određivanje PFC emisija'!$H$117","v":"Zahtijevana razina točnosti:"},{"$f":"'I_Određivanje PFC emisija'!$H$124","v":"Korištena razina točnosti:"},{"$f":"'I_Određivanje PFC emisija'!$I$124","v":"zadana ili najnovija vrijednost"},{"$f":"'I_Određivanje PFC emisija'!$J$124","v":"Jedinica"},{"$f":"'I_Određivanje PFC emisija'!$K$124","v":"Oznaka izvora"},{"$f":"'I_Određivanje PFC emisija'!$L$124","v":"Oznaka analize"},{"$f":"'I_Određivanje PFC emisija'!$M$124","v":"datum najnovije analize"},{"$f":"'I_Određivanje PFC emisija'!$N$124","v":"Učestalost analiza"},{"$f":"'I_Određivanje PFC emisija'!$H$117","v":"Zahtijevana razina točnosti:"},{"$f":"'I_Određivanje PFC emisija'!$H$124","v":"Korištena razina točnosti:"},{"$f":"'I_Određivanje PFC emisija'!$I$124","v":"zadana ili najnovija vrijednost"},{"$f":"'I_Određivanje PFC emisija'!$J$124","v":"Jedinica"},{"$f":"'I_Određivanje PFC emisija'!$K$124","v":"Oznaka izvora"},{"$f":"'I_Određivanje PFC emisija'!$L$124","v":"Oznaka analize"},{"$f":"'I_Određivanje PFC emisija'!$M$124","v":"datum najnovije analize"},{"$f":"'I_Određivanje PFC emisija'!$N$124","v":"Učestalost analiza"},{"$f":"'I_Određivanje PFC emisija'!$H$117","v":"Zahtijevana razina točnosti:"},{"$f":"'I_Određivanje PFC emisija'!$H$124","v":"Korištena razina točnosti:"},{"$f":"'I_Određivanje PFC emisija'!$I$124","v":"zadana ili najnovija vrijednost"},{"$f":"'I_Određivanje PFC emisija'!$J$124","v":"Jedinica"},{"$f":"'I_Određivanje PFC emisija'!$K$124","v":"Oznaka izvora"},{"$f":"'I_Određivanje PFC emisija'!$L$124","v":"Oznaka analize"},{"$f":"'I_Određivanje PFC emisija'!$M$124","v":"datum najnovije analize"},{"$f":"'I_Određivanje PFC emisija'!$N$124","v":"Učestalost analiza"},{"$f":"'I_Određivanje PFC emisija'!$I$124","v":"zadana ili najnovija vrijednost"},{"$f":"'I_Određivanje PFC emisija'!$J$124","v":"Jedinica"},{"$f":"'I_Određivanje PFC emisija'!$K$124","v":"Oznaka izvora"},{"$f":"'I_Određivanje PFC emisija'!$L$124","v":"Oznaka analize"},{"$f":"'I_Određivanje PFC emisija'!$M$124","v":"datum najnovije analize"},{"$f":"'I_Određivanje PFC emisija'!$N$124","v":"Učestalost analiza"},{"$f":"Translations!$B$546","v":"Komentari:"},{"$f":"Translations!$B$548","v":"Obrazloženje ako zahtijevane razine točnosti nisu primjenjene:\n"}]
[null,{"$f":"IF(OR(B110=\"\",CK111),\"\",'I_Određivanje PFC emisija'!D50)","v":""},{"$f":"IF(B111=\"\",\"\",'I_Određivanje PFC emisija'!E50)","v":""},{"$f":"IF(B111=\"\",\"\",'I_Određivanje PFC emisija'!H50)","v":""},{"$f":"IF($B111=\"\",\"\",INDEX('C_Opis postrojenja'!F:F,MATCH($CJ111,'C_Opis postrojenja'!$Q:$Q,0)))","v":""},{"$f":"IF($E111=\"\",\"\",INDEX('C_Opis postrojenja'!L:L,MATCH($CJ111,'C_Opis postrojenja'!$Q:$Q,0)))","v":""},{"$f":"IF($E111=\"\",\"\",INDEX('C_Opis postrojenja'!M:M,MATCH($CJ111,'C_Opis postrojenja'!$Q:$Q,0)))","v":""},{"$f":"IF($E111=\"\",\"\",INDEX('C_Opis postrojenja'!N:N,MATCH($CJ111,'C_Opis postrojenja'!$Q:$Q,0)))","v":""},{"$f":"IF(INDEX('I_Određivanje PFC emisija'!$L$50:$L$56,MATCH(B111,'I_Određivanje PFC emisija'!$D$50:$D$56,0))=\"\",\"\",INDEX('I_Određivanje PFC emisija'!$L$50:$L$56,MATCH(B111,'I_Određivanje PFC emisija'!$D$50:$D$56,0)))","v":""},{"$f":"IF($E111=\"\",\"\",INDEX('I_Određivanje PFC emisija'!$A:$N,CL111,J$107))","v":""},{"$f":"IF($E111=\"\",\"\",INDEX('I_Određivanje PFC emisija'!$A:$N,CM111,K$107))","v":""},{"$f":"IF($E111=\"\",\"\",INDEX('I_Određivanje PFC emisija'!$A:$N,CN111,L$107))","v":""},{"$f":"IF($E111=\"\",\"\",INDEX('I_Određivanje PFC emisija'!$A:$N,CO111,M$107))","v":""},{"$f":"IF($E111=\"\",\"\",INDEX('I_Određivanje PFC emisija'!$A:$N,CP111,N$107))","v":""},{"$f":"IF($E111=\"\",\"\",INDEX('I_Određivanje PFC emisija'!$A:$N,CQ111,O$107))","v":""},{"$f":"IF($E111=\"\",\"\",INDEX('I_Određivanje PFC emisija'!$A:$N,CR111,P$107))","v":""},{"$f":"IF($E111=\"\",\"\",INDEX('I_Određivanje PFC emisija'!$A:$N,CS111,Q$107))","v":""},{"$f":"IF($E111=\"\",\"\",INDEX('I_Određivanje PFC emisija'!$A:$N,CT111,R$107))","v":""},{"$f":"IF($E111=\"\",\"\",INDEX('I_Određivanje PFC emisija'!$A:$N,CU111,S$107))","v":""},{"$f":"IF($E111=\"\",\"\",INDEX('I_Određivanje PFC emisija'!$A:$N,CV111,T$107))","v":""},{"$f":"IF($E111=\"\",\"\",INDEX('I_Određivanje PFC emisija'!$A:$N,CW111,U$107))","v":""},{"$f":"IF($E111=\"\",\"\",INDEX('I_Određivanje PFC emisija'!$A:$N,CX111,V$107))","v":""},{"$f":"IF($E111=\"\",\"\",INDEX('I_Određivanje PFC emisija'!$A:$N,CY111,W$107))","v":""},{"$f":"IF($E111=\"\",\"\",INDEX('I_Određivanje PFC emisija'!$A:$N,CZ111,X$107))","v":""},{"$f":"IF($E111=\"\",\"\",INDEX('I_Određivanje PFC emisija'!$A:$N,DA111,Y$107))","v":""},{"$f":"IF($E111=\"\",\"\",INDEX('I_Određivanje PFC emisija'!$A:$N,DB111,Z$107))","v":""},{"$f":"IF($E111=\"\",\"\",INDEX('I_Određivanje PFC emisija'!$A:$N,DC111,AA$107))","v":""},{"$f":"IF($E111=\"\",\"\",INDEX('I_Određivanje PFC emisija'!$A:$N,DD111,AB$107))","v":""},{"$f":"IF($E111=\"\",\"\",INDEX('I_Određivanje PFC emisija'!$A:$N,DE111,AC$107))","v":""},{"$f":"IF($E111=\"\",\"\",INDEX('I_Određivanje PFC emisija'!$A:$N,DF111,AD$107))","v":""},{"$f":"IF($E111=\"\",\"\",INDEX('I_Određivanje PFC emisija'!$A:$N,DG111,AE$107))","v":""},{"$f":"IF($E111=\"\",\"\",INDEX('I_Određivanje PFC emisija'!$A:$N,DH111,AF$107))","v":""},{"$f":"IF($E111=\"\",\"\",INDEX('I_Određivanje PFC emisija'!$A:$N,DI111,AG$107))","v":""},{"$f":"IF($E111=\"\",\"\",INDEX('I_Određivanje PFC emisija'!$A:$N,DJ111,AH$107))","v":""},{"$f":"IF($E111=\"\",\"\",INDEX('I_Određivanje PFC emisija'!$A:$N,DK111,AI$107))","v":""},{"$f":"IF($E111=\"\",\"\",INDEX('I_Određivanje PFC emisija'!$A:$N,DL111,AJ$107))","v":""},{"$f":"IF($E111=\"\",\"\",INDEX('I_Određivanje PFC emisija'!$A:$N,DM111,AK$107))","v":""},{"$f":"IF($E111=\"\",\"\",INDEX('I_Određivanje PFC emisija'!$A:$N,DN111,AL$107))","v":""},{"$f":"IF($E111=\"\",\"\",INDEX('I_Određivanje PFC emisija'!$A:$N,DO111,AM$107))","v":""},{"$f":"IF($E111=\"\",\"\",INDEX('I_Određivanje PFC emisija'!$A:$N,DP111,AN$107))","v":""},{"$f":"IF($E111=\"\",\"\",INDEX('I_Određivanje PFC emisija'!$A:$N,DQ111,AO$107))","v":""},{"$f":"IF($E111=\"\",\"\",INDEX('I_Određivanje PFC emisija'!$A:$N,DR111,AP$107))","v":""},{"$f":"IF($E111=\"\",\"\",INDEX('I_Određivanje PFC emisija'!$A:$N,DS111,AQ$107))","v":""},{"$f":"IF($E111=\"\",\"\",INDEX('I_Određivanje PFC emisija'!$A:$N,DT111,AR$107))","v":""},{"$f":"IF($E111=\"\",\"\",INDEX('I_Određivanje PFC emisija'!$A:$N,DU111,AS$107))","v":""},{"$f":"IF($E111=\"\",\"\",INDEX('I_Određivanje PFC emisija'!$A:$N,DV111,AT$107))","v":""},{"$f":"IF($E111=\"\",\"\",INDEX('I_Određivanje PFC emisija'!$A:$N,DW111,AU$107))","v":""},{"$f":"IF($E111=\"\",\"\",INDEX('I_Određivanje PFC emisija'!$A:$N,DX111,AV$107))","v":""},{"$f":"IF($E111=\"\",\"\",INDEX('I_Određivanje PFC emisija'!$A:$N,DY111,AW$107))","v":""},{"$f":"IF($E111=\"\",\"\",INDEX('I_Određivanje PFC emisija'!$A:$N,DZ111,AX$107))","v":""},{"$f":"IF($E111=\"\",\"\",INDEX('I_Određivanje PFC emisija'!$A:$N,EA111,AY$107))","v":""},{"$f":"IF($E111=\"\",\"\",INDEX('I_Određivanje PFC emisija'!$A:$N,EB111,AZ$107))","v":""},{"$f":"IF($E111=\"\",\"\",INDEX('I_Određivanje PFC emisija'!$A:$N,EC111,BA$107))","v":""},{"$f":"IF($E111=\"\",\"\",INDEX('I_Određivanje PFC emisija'!$A:$N,ED111,BB$107))","v":""},{"$f":"IF($E111=\"\",\"\",INDEX('I_Određivanje PFC emisija'!$A:$N,EE111,BC$107))","v":""},{"$f":"IF($E111=\"\",\"\",INDEX('I_Određivanje PFC emisija'!$A:$N,EF111,BD$107))","v":""},null,null,null,null,null,null,null,null,null,null,null,null,null,null,null,null,null,null,null,null,null,null,null,null,null,null,null,null,null,null,null,{"$f":"EUconst_CNTR_SourceCategory&B111","v":"SourceCategory_"},{"$f":"INDEX('I_Određivanje PFC emisija'!$A$50:$A$60,ROWS($CI$111:CI111))=\"ausblenden\"","v":false},90,91,92,95,96,97,100,101,102,105,106,107,110,111,112,118,125,125,125,125,125,125,125,{"$f":"DA111+1","v":119},{"$f":"DB111+1","v":126},126,126,126,126,126,126,120,127,127,127,127,127,127,127,133,133,133,133,133,133,139,147]
[null,{"$f":"IF(OR(B111=\"\",CK112),\"\",'I_Određivanje PFC emisija'!D51)","v":""},{"$f":"IF(B112=\"\",\"\",'I_Određivanje PFC emisija'!E51)","v":""},{"$f":"IF(B112=\"\",\"\",'I_Određivanje PFC emisija'!H51)","v":""},{"$f":"IF($B112=\"\",\"\",INDEX('C_Opis postrojenja'!F:F,MATCH($CJ112,'C_Opis postrojenja'!$Q:$Q,0)))","v":""},{"$f":"IF($E112=\"\",\"\",INDEX('C_Opis postrojenja'!L:L,MATCH($CJ112,'C_Opis postrojenja'!$Q:$Q,0)))","v":""},{"$f":"IF($E112=\"\",\"\",INDEX('C_Opis postrojenja'!M:M,MATCH($CJ112,'C_Opis postrojenja'!$Q:$Q,0)))","v":""},{"$f":"IF($E112=\"\",\"\",INDEX('C_Opis postrojenja'!N:N,MATCH($CJ112,'C_Opis postrojenja'!$Q:$Q,0)))","v":""},{"$f":"IF(INDEX('I_Određivanje PFC emisija'!$L$50:$L$56,MATCH(B112,'I_Određivanje PFC emisija'!$D$50:$D$56,0))=\"\",\"\",INDEX('I_Određivanje PFC emisija'!$L$50:$L$56,MATCH(B112,'I_Određivanje PFC emisija'!$D$50:$D$56,0)))","v":""},{"$f":"IF($E112=\"\",\"\",INDEX('I_Određivanje PFC emisija'!$A:$N,CL112,J$107))","v":""},{"$f":"IF($E112=\"\",\"\",INDEX('I_Određivanje PFC emisija'!$A:$N,CM112,K$107))","v":""},{"$f":"IF($E112=\"\",\"\",INDEX('I_Određivanje PFC emisija'!$A:$N,CN112,L$107))","v":""},{"$f":"IF($E112=\"\",\"\",INDEX('I_Određivanje PFC emisija'!$A:$N,CO112,M$107))","v":""},{"$f":"IF($E112=\"\",\"\",INDEX('I_Određivanje PFC emisija'!$A:$N,CP112,N$107))","v":""},{"$f":"IF($E112=\"\",\"\",INDEX('I_Određivanje PFC emisija'!$A:$N,CQ112,O$107))","v":""},{"$f":"IF($E112=\"\",\"\",INDEX('I_Određivanje PFC emisija'!$A:$N,CR112,P$107))","v":""},{"$f":"IF($E112=\"\",\"\",INDEX('I_Određivanje PFC emisija'!$A:$N,CS112,Q$107))","v":""},{"$f":"IF($E112=\"\",\"\",INDEX('I_Određivanje PFC emisija'!$A:$N,CT112,R$107))","v":""},{"$f":"IF($E112=\"\",\"\",INDEX('I_Određivanje PFC emisija'!$A:$N,CU112,S$107))","v":""},{"$f":"IF($E112=\"\",\"\",INDEX('I_Određivanje PFC emisija'!$A:$N,CV112,T$107))","v":""},{"$f":"IF($E112=\"\",\"\",INDEX('I_Određivanje PFC emisija'!$A:$N,CW112,U$107))","v":""},{"$f":"IF($E112=\"\",\"\",INDEX('I_Određivanje PFC emisija'!$A:$N,CX112,V$107))","v":""},{"$f":"IF($E112=\"\",\"\",INDEX('I_Određivanje PFC emisija'!$A:$N,CY112,W$107))","v":""},{"$f":"IF($E112=\"\",\"\",INDEX('I_Određivanje PFC emisija'!$A:$N,CZ112,X$107))","v":""},{"$f":"IF($E112=\"\",\"\",INDEX('I_Određivanje PFC emisija'!$A:$N,DA112,Y$107))","v":""},{"$f":"IF($E112=\"\",\"\",INDEX('I_Određivanje PFC emisija'!$A:$N,DB112,Z$107))","v":""},{"$f":"IF($E112=\"\",\"\",INDEX('I_Određivanje PFC emisija'!$A:$N,DC112,AA$107))","v":""},{"$f":"IF($E112=\"\",\"\",INDEX('I_Određivanje PFC emisija'!$A:$N,DD112,AB$107))","v":""},{"$f":"IF($E112=\"\",\"\",INDEX('I_Određivanje PFC emisija'!$A:$N,DE112,AC$107))","v":""},{"$f":"IF($E112=\"\",\"\",INDEX('I_Određivanje PFC emisija'!$A:$N,DF112,AD$107))","v":""},{"$f":"IF($E112=\"\",\"\",INDEX('I_Određivanje PFC emisija'!$A:$N,DG112,AE$107))","v":""},{"$f":"IF($E112=\"\",\"\",INDEX('I_Određivanje PFC emisija'!$A:$N,DH112,AF$107))","v":""},{"$f":"IF($E112=\"\",\"\",INDEX('I_Određivanje PFC emisija'!$A:$N,DI112,AG$107))","v":""},{"$f":"IF($E112=\"\",\"\",INDEX('I_Određivanje PFC emisija'!$A:$N,DJ112,AH$107))","v":""},{"$f":"IF($E112=\"\",\"\",INDEX('I_Određivanje PFC emisija'!$A:$N,DK112,AI$107))","v":""},{"$f":"IF($E112=\"\",\"\",INDEX('I_Određivanje PFC emisija'!$A:$N,DL112,AJ$107))","v":""},{"$f":"IF($E112=\"\",\"\",INDEX('I_Određivanje PFC emisija'!$A:$N,DM112,AK$107))","v":""},{"$f":"IF($E112=\"\",\"\",INDEX('I_Određivanje PFC emisija'!$A:$N,DN112,AL$107))","v":""},{"$f":"IF($E112=\"\",\"\",INDEX('I_Određivanje PFC emisija'!$A:$N,DO112,AM$107))","v":""},{"$f":"IF($E112=\"\",\"\",INDEX('I_Određivanje PFC emisija'!$A:$N,DP112,AN$107))","v":""},{"$f":"IF($E112=\"\",\"\",INDEX('I_Određivanje PFC emisija'!$A:$N,DQ112,AO$107))","v":""},{"$f":"IF($E112=\"\",\"\",INDEX('I_Određivanje PFC emisija'!$A:$N,DR112,AP$107))","v":""},{"$f":"IF($E112=\"\",\"\",INDEX('I_Određivanje PFC emisija'!$A:$N,DS112,AQ$107))","v":""},{"$f":"IF($E112=\"\",\"\",INDEX('I_Određivanje PFC emisija'!$A:$N,DT112,AR$107))","v":""},{"$f":"IF($E112=\"\",\"\",INDEX('I_Određivanje PFC emisija'!$A:$N,DU112,AS$107))","v":""},{"$f":"IF($E112=\"\",\"\",INDEX('I_Određivanje PFC emisija'!$A:$N,DV112,AT$107))","v":""},{"$f":"IF($E112=\"\",\"\",INDEX('I_Određivanje PFC emisija'!$A:$N,DW112,AU$107))","v":""},{"$f":"IF($E112=\"\",\"\",INDEX('I_Određivanje PFC emisija'!$A:$N,DX112,AV$107))","v":""},{"$f":"IF($E112=\"\",\"\",INDEX('I_Određivanje PFC emisija'!$A:$N,DY112,AW$107))","v":""},{"$f":"IF($E112=\"\",\"\",INDEX('I_Određivanje PFC emisija'!$A:$N,DZ112,AX$107))","v":""},{"$f":"IF($E112=\"\",\"\",INDEX('I_Određivanje PFC emisija'!$A:$N,EA112,AY$107))","v":""},{"$f":"IF($E112=\"\",\"\",INDEX('I_Određivanje PFC emisija'!$A:$N,EB112,AZ$107))","v":""},{"$f":"IF($E112=\"\",\"\",INDEX('I_Određivanje PFC emisija'!$A:$N,EC112,BA$107))","v":""},{"$f":"IF($E112=\"\",\"\",INDEX('I_Određivanje PFC emisija'!$A:$N,ED112,BB$107))","v":""},{"$f":"IF($E112=\"\",\"\",INDEX('I_Određivanje PFC emisija'!$A:$N,EE112,BC$107))","v":""},{"$f":"IF($E112=\"\",\"\",INDEX('I_Određivanje PFC emisija'!$A:$N,EF112,BD$107))","v":""},null,null,null,null,null,null,null,null,null,null,null,null,null,null,null,null,null,null,null,null,null,null,null,null,null,null,null,null,null,null,null,"SourceCategory_",{"$f":"INDEX('I_Određivanje PFC emisija'!$A$50:$A$60,ROWS($CI$111:CI112))=\"ausblenden\"","v":false},{"$f":"CL111+75","v":165},{"$f":"CM111+75","v":166},167,170,171,172,175,176,177,180,181,182,185,186,187,193,200,200,200,200,200,200,200,194,201,201,201,201,201,201,201,195,202,202,202,202,202,202,202,208,208,208,208,208,208,213,219]
[null,{"$f":"IF(OR(B112=\"\",CK113),\"\",'I_Određivanje PFC emisija'!D52)","v":""},{"$f":"IF(B113=\"\",\"\",'I_Određivanje PFC emisija'!E52)","v":""},{"$f":"IF(B113=\"\",\"\",'I_Određivanje PFC emisija'!H52)","v":""},{"$f":"IF($B113=\"\",\"\",INDEX('C_Opis postrojenja'!F:F,MATCH($CJ113,'C_Opis postrojenja'!$Q:$Q,0)))","v":""},{"$f":"IF($E113=\"\",\"\",INDEX('C_Opis postrojenja'!L:L,MATCH($CJ113,'C_Opis postrojenja'!$Q:$Q,0)))","v":""},{"$f":"IF($E113=\"\",\"\",INDEX('C_Opis postrojenja'!M:M,MATCH($CJ113,'C_Opis postrojenja'!$Q:$Q,0)))","v":""},{"$f":"IF($E113=\"\",\"\",INDEX('C_Opis postrojenja'!N:N,MATCH($CJ113,'C_Opis postrojenja'!$Q:$Q,0)))","v":""},{"$f":"IF(INDEX('I_Određivanje PFC emisija'!$L$50:$L$56,MATCH(B113,'I_Određivanje PFC emisija'!$D$50:$D$56,0))=\"\",\"\",INDEX('I_Određivanje PFC emisija'!$L$50:$L$56,MATCH(B113,'I_Određivanje PFC emisija'!$D$50:$D$56,0)))","v":""},{"$f":"IF($E113=\"\",\"\",INDEX('I_Određivanje PFC emisija'!$A:$N,CL113,J$107))","v":""},{"$f":"IF($E113=\"\",\"\",INDEX('I_Određivanje PFC emisija'!$A:$N,CM113,K$107))","v":""},{"$f":"IF($E113=\"\",\"\",INDEX('I_Određivanje PFC emisija'!$A:$N,CN113,L$107))","v":""},{"$f":"IF($E113=\"\",\"\",INDEX('I_Određivanje PFC emisija'!$A:$N,CO113,M$107))","v":""},{"$f":"IF($E113=\"\",\"\",INDEX('I_Određivanje PFC emisija'!$A:$N,CP113,N$107))","v":""},{"$f":"IF($E113=\"\",\"\",INDEX('I_Određivanje PFC emisija'!$A:$N,CQ113,O$107))","v":""},{"$f":"IF($E113=\"\",\"\",INDEX('I_Određivanje PFC emisija'!$A:$N,CR113,P$107))","v":""},{"$f":"IF($E113=\"\",\"\",INDEX('I_Određivanje PFC emisija'!$A:$N,CS113,Q$107))","v":""},{"$f":"IF($E113=\"\",\"\",INDEX('I_Određivanje PFC emisija'!$A:$N,CT113,R$107))","v":""},{"$f":"IF($E113=\"\",\"\",INDEX('I_Određivanje PFC emisija'!$A:$N,CU113,S$107))","v":""},{"$f":"IF($E113=\"\",\"\",INDEX('I_Određivanje PFC emisija'!$A:$N,CV113,T$107))","v":""},{"$f":"IF($E113=\"\",\"\",INDEX('I_Određivanje PFC emisija'!$A:$N,CW113,U$107))","v":""},{"$f":"IF($E113=\"\",\"\",INDEX('I_Određivanje PFC emisija'!$A:$N,CX113,V$107))","v":""},{"$f":"IF($E113=\"\",\"\",INDEX('I_Određivanje PFC emisija'!$A:$N,CY113,W$107))","v":""},{"$f":"IF($E113=\"\",\"\",INDEX('I_Određivanje PFC emisija'!$A:$N,CZ113,X$107))","v":""},{"$f":"IF($E113=\"\",\"\",INDEX('I_Određivanje PFC emisija'!$A:$N,DA113,Y$107))","v":""},{"$f":"IF($E113=\"\",\"\",INDEX('I_Određivanje PFC emisija'!$A:$N,DB113,Z$107))","v":""},{"$f":"IF($E113=\"\",\"\",INDEX('I_Određivanje PFC emisija'!$A:$N,DC113,AA$107))","v":""},{"$f":"IF($E113=\"\",\"\",INDEX('I_Određivanje PFC emisija'!$A:$N,DD113,AB$107))","v":""},{"$f":"IF($E113=\"\",\"\",INDEX('I_Određivanje PFC emisija'!$A:$N,DE113,AC$107))","v":""},{"$f":"IF($E113=\"\",\"\",INDEX('I_Određivanje PFC emisija'!$A:$N,DF113,AD$107))","v":""},{"$f":"IF($E113=\"\",\"\",INDEX('I_Određivanje PFC emisija'!$A:$N,DG113,AE$107))","v":""},{"$f":"IF($E113=\"\",\"\",INDEX('I_Određivanje PFC emisija'!$A:$N,DH113,AF$107))","v":""},{"$f":"IF($E113=\"\",\"\",INDEX('I_Određivanje PFC emisija'!$A:$N,DI113,AG$107))","v":""},{"$f":"IF($E113=\"\",\"\",INDEX('I_Određivanje PFC emisija'!$A:$N,DJ113,AH$107))","v":""},{"$f":"IF($E113=\"\",\"\",INDEX('I_Određivanje PFC emisija'!$A:$N,DK113,AI$107))","v":""},{"$f":"IF($E113=\"\",\"\",INDEX('I_Određivanje PFC emisija'!$A:$N,DL113,AJ$107))","v":""},{"$f":"IF($E113=\"\",\"\",INDEX('I_Određivanje PFC emisija'!$A:$N,DM113,AK$107))","v":""},{"$f":"IF($E113=\"\",\"\",INDEX('I_Određivanje PFC emisija'!$A:$N,DN113,AL$107))","v":""},{"$f":"IF($E113=\"\",\"\",INDEX('I_Određivanje PFC emisija'!$A:$N,DO113,AM$107))","v":""},{"$f":"IF($E113=\"\",\"\",INDEX('I_Određivanje PFC emisija'!$A:$N,DP113,AN$107))","v":""},{"$f":"IF($E113=\"\",\"\",INDEX('I_Određivanje PFC emisija'!$A:$N,DQ113,AO$107))","v":""},{"$f":"IF($E113=\"\",\"\",INDEX('I_Određivanje PFC emisija'!$A:$N,DR113,AP$107))","v":""},{"$f":"IF($E113=\"\",\"\",INDEX('I_Određivanje PFC emisija'!$A:$N,DS113,AQ$107))","v":""},{"$f":"IF($E113=\"\",\"\",INDEX('I_Određivanje PFC emisija'!$A:$N,DT113,AR$107))","v":""},{"$f":"IF($E113=\"\",\"\",INDEX('I_Određivanje PFC emisija'!$A:$N,DU113,AS$107))","v":""},{"$f":"IF($E113=\"\",\"\",INDEX('I_Određivanje PFC emisija'!$A:$N,DV113,AT$107))","v":""},{"$f":"IF($E113=\"\",\"\",INDEX('I_Određivanje PFC emisija'!$A:$N,DW113,AU$107))","v":""},{"$f":"IF($E113=\"\",\"\",INDEX('I_Određivanje PFC emisija'!$A:$N,DX113,AV$107))","v":""},{"$f":"IF($E113=\"\",\"\",INDEX('I_Određivanje PFC emisija'!$A:$N,DY113,AW$107))","v":""},{"$f":"IF($E113=\"\",\"\",INDEX('I_Određivanje PFC emisija'!$A:$N,DZ113,AX$107))","v":""},{"$f":"IF($E113=\"\",\"\",INDEX('I_Određivanje PFC emisija'!$A:$N,EA113,AY$107))","v":""},{"$f":"IF($E113=\"\",\"\",INDEX('I_Određivanje PFC emisija'!$A:$N,EB113,AZ$107))","v":""},{"$f":"IF($E113=\"\",\"\",INDEX('I_Određivanje PFC emisija'!$A:$N,EC113,BA$107))","v":""},{"$f":"IF($E113=\"\",\"\",INDEX('I_Određivanje PFC emisija'!$A:$N,ED113,BB$107))","v":""},{"$f":"IF($E113=\"\",\"\",INDEX('I_Određivanje PFC emisija'!$A:$N,EE113,BC$107))","v":""},{"$f":"IF($E113=\"\",\"\",INDEX('I_Određivanje PFC emisija'!$A:$N,EF113,BD$107))","v":""},null,null,null,null,null,null,null,null,null,null,null,null,null,null,null,null,null,null,null,null,null,null,null,null,null,null,null,null,null,null,null,"SourceCategory_",{"$f":"INDEX('I_Određivanje PFC emisija'!$A$50:$A$60,ROWS($CI$111:CI113))=\"ausblenden\"","v":false},{"$f":"CL112+72","v":237},{"$f":"CM112+72","v":238},239,242,243,244,247,248,249,252,253,254,257,258,259,265,272,272,272,272,272,272,272,266,273,273,273,273,273,273,273,267,274,274,274,274,274,274,274,280,280,280,280,280,280,285,291]
[null,{"$f":"IF(OR(B113=\"\",CK114),\"\",'I_Određivanje PFC emisija'!D53)","v":""},{"$f":"IF(B114=\"\",\"\",'I_Određivanje PFC emisija'!E53)","v":""},{"$f":"IF(B114=\"\",\"\",'I_Određivanje PFC emisija'!H53)","v":""},{"$f":"IF($B114=\"\",\"\",INDEX('C_Opis postrojenja'!F:F,MATCH($CJ114,'C_Opis postrojenja'!$Q:$Q,0)))","v":""},{"$f":"IF($E114=\"\",\"\",INDEX('C_Opis postrojenja'!L:L,MATCH($CJ114,'C_Opis postrojenja'!$Q:$Q,0)))","v":""},{"$f":"IF($E114=\"\",\"\",INDEX('C_Opis postrojenja'!M:M,MATCH($CJ114,'C_Opis postrojenja'!$Q:$Q,0)))","v":""},{"$f":"IF($E114=\"\",\"\",INDEX('C_Opis postrojenja'!N:N,MATCH($CJ114,'C_Opis postrojenja'!$Q:$Q,0)))","v":""},{"$f":"IF(INDEX('I_Određivanje PFC emisija'!$L$50:$L$56,MATCH(B114,'I_Određivanje PFC emisija'!$D$50:$D$56,0))=\"\",\"\",INDEX('I_Određivanje PFC emisija'!$L$50:$L$56,MATCH(B114,'I_Određivanje PFC emisija'!$D$50:$D$56,0)))","v":""},{"$f":"IF($E114=\"\",\"\",INDEX('I_Određivanje PFC emisija'!$A:$N,CL114,J$107))","v":""},{"$f":"IF($E114=\"\",\"\",INDEX('I_Određivanje PFC emisija'!$A:$N,CM114,K$107))","v":""},{"$f":"IF($E114=\"\",\"\",INDEX('I_Određivanje PFC emisija'!$A:$N,CN114,L$107))","v":""},{"$f":"IF($E114=\"\",\"\",INDEX('I_Određivanje PFC emisija'!$A:$N,CO114,M$107))","v":""},{"$f":"IF($E114=\"\",\"\",INDEX('I_Određivanje PFC emisija'!$A:$N,CP114,N$107))","v":""},{"$f":"IF($E114=\"\",\"\",INDEX('I_Određivanje PFC emisija'!$A:$N,CQ114,O$107))","v":""},{"$f":"IF($E114=\"\",\"\",INDEX('I_Određivanje PFC emisija'!$A:$N,CR114,P$107))","v":""},{"$f":"IF($E114=\"\",\"\",INDEX('I_Određivanje PFC emisija'!$A:$N,CS114,Q$107))","v":""},{"$f":"IF($E114=\"\",\"\",INDEX('I_Određivanje PFC emisija'!$A:$N,CT114,R$107))","v":""},{"$f":"IF($E114=\"\",\"\",INDEX('I_Određivanje PFC emisija'!$A:$N,CU114,S$107))","v":""},{"$f":"IF($E114=\"\",\"\",INDEX('I_Određivanje PFC emisija'!$A:$N,CV114,T$107))","v":""},{"$f":"IF($E114=\"\",\"\",INDEX('I_Određivanje PFC emisija'!$A:$N,CW114,U$107))","v":""},{"$f":"IF($E114=\"\",\"\",INDEX('I_Određivanje PFC emisija'!$A:$N,CX114,V$107))","v":""},{"$f":"IF($E114=\"\",\"\",INDEX('I_Određivanje PFC emisija'!$A:$N,CY114,W$107))","v":""},{"$f":"IF($E114=\"\",\"\",INDEX('I_Određivanje PFC emisija'!$A:$N,CZ114,X$107))","v":""},{"$f":"IF($E114=\"\",\"\",INDEX('I_Određivanje PFC emisija'!$A:$N,DA114,Y$107))","v":""},{"$f":"IF($E114=\"\",\"\",INDEX('I_Određivanje PFC emisija'!$A:$N,DB114,Z$107))","v":""},{"$f":"IF($E114=\"\",\"\",INDEX('I_Određivanje PFC emisija'!$A:$N,DC114,AA$107))","v":""},{"$f":"IF($E114=\"\",\"\",INDEX('I_Određivanje PFC emisija'!$A:$N,DD114,AB$107))","v":""},{"$f":"IF($E114=\"\",\"\",INDEX('I_Određivanje PFC emisija'!$A:$N,DE114,AC$107))","v":""},{"$f":"IF($E114=\"\",\"\",INDEX('I_Određivanje PFC emisija'!$A:$N,DF114,AD$107))","v":""},{"$f":"IF($E114=\"\",\"\",INDEX('I_Određivanje PFC emisija'!$A:$N,DG114,AE$107))","v":""},{"$f":"IF($E114=\"\",\"\",INDEX('I_Određivanje PFC emisija'!$A:$N,DH114,AF$107))","v":""},{"$f":"IF($E114=\"\",\"\",INDEX('I_Određivanje PFC emisija'!$A:$N,DI114,AG$107))","v":""},{"$f":"IF($E114=\"\",\"\",INDEX('I_Određivanje PFC emisija'!$A:$N,DJ114,AH$107))","v":""},{"$f":"IF($E114=\"\",\"\",INDEX('I_Određivanje PFC emisija'!$A:$N,DK114,AI$107))","v":""},{"$f":"IF($E114=\"\",\"\",INDEX('I_Određivanje PFC emisija'!$A:$N,DL114,AJ$107))","v":""},{"$f":"IF($E114=\"\",\"\",INDEX('I_Određivanje PFC emisija'!$A:$N,DM114,AK$107))","v":""},{"$f":"IF($E114=\"\",\"\",INDEX('I_Određivanje PFC emisija'!$A:$N,DN114,AL$107))","v":""},{"$f":"IF($E114=\"\",\"\",INDEX('I_Određivanje PFC emisija'!$A:$N,DO114,AM$107))","v":""},{"$f":"IF($E114=\"\",\"\",INDEX('I_Određivanje PFC emisija'!$A:$N,DP114,AN$107))","v":""},{"$f":"IF($E114=\"\",\"\",INDEX('I_Određivanje PFC emisija'!$A:$N,DQ114,AO$107))","v":""},{"$f":"IF($E114=\"\",\"\",INDEX('I_Određivanje PFC emisija'!$A:$N,DR114,AP$107))","v":""},{"$f":"IF($E114=\"\",\"\",INDEX('I_Određivanje PFC emisija'!$A:$N,DS114,AQ$107))","v":""},{"$f":"IF($E114=\"\",\"\",INDEX('I_Određivanje PFC emisija'!$A:$N,DT114,AR$107))","v":""},{"$f":"IF($E114=\"\",\"\",INDEX('I_Određivanje PFC emisija'!$A:$N,DU114,AS$107))","v":""},{"$f":"IF($E114=\"\",\"\",INDEX('I_Određivanje PFC emisija'!$A:$N,DV114,AT$107))","v":""},{"$f":"IF($E114=\"\",\"\",INDEX('I_Određivanje PFC emisija'!$A:$N,DW114,AU$107))","v":""},{"$f":"IF($E114=\"\",\"\",INDEX('I_Određivanje PFC emisija'!$A:$N,DX114,AV$107))","v":""},{"$f":"IF($E114=\"\",\"\",INDEX('I_Određivanje PFC emisija'!$A:$N,DY114,AW$107))","v":""},{"$f":"IF($E114=\"\",\"\",INDEX('I_Određivanje PFC emisija'!$A:$N,DZ114,AX$107))","v":""},{"$f":"IF($E114=\"\",\"\",INDEX('I_Određivanje PFC emisija'!$A:$N,EA114,AY$107))","v":""},{"$f":"IF($E114=\"\",\"\",INDEX('I_Određivanje PFC emisija'!$A:$N,EB114,AZ$107))","v":""},{"$f":"IF($E114=\"\",\"\",INDEX('I_Određivanje PFC emisija'!$A:$N,EC114,BA$107))","v":""},{"$f":"IF($E114=\"\",\"\",INDEX('I_Određivanje PFC emisija'!$A:$N,ED114,BB$107))","v":""},{"$f":"IF($E114=\"\",\"\",INDEX('I_Određivanje PFC emisija'!$A:$N,EE114,BC$107))","v":""},{"$f":"IF($E114=\"\",\"\",INDEX('I_Određivanje PFC emisija'!$A:$N,EF114,BD$107))","v":""},null,null,null,null,null,null,null,null,null,null,null,null,null,null,null,null,null,null,null,null,null,null,null,null,null,null,null,null,null,null,null,"SourceCategory_",{"$f":"INDEX('I_Određivanje PFC emisija'!$A$50:$A$60,ROWS($CI$111:CI114))=\"ausblenden\"","v":false},309,310,311,314,315,316,319,320,321,324,325,326,329,330,331,337,344,344,344,344,344,344,344,338,345,345,345,345,345,345,345,339,346,346,346,346,346,346,346,352,352,352,352,352,352,357,363]
[null,{"$f":"IF(OR(B114=\"\",CK115),\"\",'I_Određivanje PFC emisija'!D54)","v":""},{"$f":"IF(B115=\"\",\"\",'I_Određivanje PFC emisija'!E54)","v":""},{"$f":"IF(B115=\"\",\"\",'I_Određivanje PFC emisija'!H54)","v":""},{"$f":"IF($B115=\"\",\"\",INDEX('C_Opis postrojenja'!F:F,MATCH($CJ115,'C_Opis postrojenja'!$Q:$Q,0)))","v":""},{"$f":"IF($E115=\"\",\"\",INDEX('C_Opis postrojenja'!L:L,MATCH($CJ115,'C_Opis postrojenja'!$Q:$Q,0)))","v":""},{"$f":"IF($E115=\"\",\"\",INDEX('C_Opis postrojenja'!M:M,MATCH($CJ115,'C_Opis postrojenja'!$Q:$Q,0)))","v":""},{"$f":"IF($E115=\"\",\"\",INDEX('C_Opis postrojenja'!N:N,MATCH($CJ115,'C_Opis postrojenja'!$Q:$Q,0)))","v":""},{"$f":"IF(INDEX('I_Određivanje PFC emisija'!$L$50:$L$56,MATCH(B115,'I_Određivanje PFC emisija'!$D$50:$D$56,0))=\"\",\"\",INDEX('I_Određivanje PFC emisija'!$L$50:$L$56,MATCH(B115,'I_Određivanje PFC emisija'!$D$50:$D$56,0)))","v":""},{"$f":"IF($E115=\"\",\"\",INDEX('I_Određivanje PFC emisija'!$A:$N,CL115,J$107))","v":""},{"$f":"IF($E115=\"\",\"\",INDEX('I_Određivanje PFC emisija'!$A:$N,CM115,K$107))","v":""},{"$f":"IF($E115=\"\",\"\",INDEX('I_Određivanje PFC emisija'!$A:$N,CN115,L$107))","v":""},{"$f":"IF($E115=\"\",\"\",INDEX('I_Određivanje PFC emisija'!$A:$N,CO115,M$107))","v":""},{"$f":"IF($E115=\"\",\"\",INDEX('I_Određivanje PFC emisija'!$A:$N,CP115,N$107))","v":""},{"$f":"IF($E115=\"\",\"\",INDEX('I_Određivanje PFC emisija'!$A:$N,CQ115,O$107))","v":""},{"$f":"IF($E115=\"\",\"\",INDEX('I_Određivanje PFC emisija'!$A:$N,CR115,P$107))","v":""},{"$f":"IF($E115=\"\",\"\",INDEX('I_Određivanje PFC emisija'!$A:$N,CS115,Q$107))","v":""},{"$f":"IF($E115=\"\",\"\",INDEX('I_Određivanje PFC emisija'!$A:$N,CT115,R$107))","v":""},{"$f":"IF($E115=\"\",\"\",INDEX('I_Određivanje PFC emisija'!$A:$N,CU115,S$107))","v":""},{"$f":"IF($E115=\"\",\"\",INDEX('I_Određivanje PFC emisija'!$A:$N,CV115,T$107))","v":""},{"$f":"IF($E115=\"\",\"\",INDEX('I_Određivanje PFC emisija'!$A:$N,CW115,U$107))","v":""},{"$f":"IF($E115=\"\",\"\",INDEX('I_Određivanje PFC emisija'!$A:$N,CX115,V$107))","v":""},{"$f":"IF($E115=\"\",\"\",INDEX('I_Određivanje PFC emisija'!$A:$N,CY115,W$107))","v":""},{"$f":"IF($E115=\"\",\"\",INDEX('I_Određivanje PFC emisija'!$A:$N,CZ115,X$107))","v":""},{"$f":"IF($E115=\"\",\"\",INDEX('I_Određivanje PFC emisija'!$A:$N,DA115,Y$107))","v":""},{"$f":"IF($E115=\"\",\"\",INDEX('I_Određivanje PFC emisija'!$A:$N,DB115,Z$107))","v":""},{"$f":"IF($E115=\"\",\"\",INDEX('I_Određivanje PFC emisija'!$A:$N,DC115,AA$107))","v":""},{"$f":"IF($E115=\"\",\"\",INDEX('I_Određivanje PFC emisija'!$A:$N,DD115,AB$107))","v":""},{"$f":"IF($E115=\"\",\"\",INDEX('I_Određivanje PFC emisija'!$A:$N,DE115,AC$107))","v":""},{"$f":"IF($E115=\"\",\"\",INDEX('I_Određivanje PFC emisija'!$A:$N,DF115,AD$107))","v":""},{"$f":"IF($E115=\"\",\"\",INDEX('I_Određivanje PFC emisija'!$A:$N,DG115,AE$107))","v":""},{"$f":"IF($E115=\"\",\"\",INDEX('I_Određivanje PFC emisija'!$A:$N,DH115,AF$107))","v":""},{"$f":"IF($E115=\"\",\"\",INDEX('I_Određivanje PFC emisija'!$A:$N,DI115,AG$107))","v":""},{"$f":"IF($E115=\"\",\"\",INDEX('I_Određivanje PFC emisija'!$A:$N,DJ115,AH$107))","v":""},{"$f":"IF($E115=\"\",\"\",INDEX('I_Određivanje PFC emisija'!$A:$N,DK115,AI$107))","v":""},{"$f":"IF($E115=\"\",\"\",INDEX('I_Određivanje PFC emisija'!$A:$N,DL115,AJ$107))","v":""},{"$f":"IF($E115=\"\",\"\",INDEX('I_Određivanje PFC emisija'!$A:$N,DM115,AK$107))","v":""},{"$f":"IF($E115=\"\",\"\",INDEX('I_Određivanje PFC emisija'!$A:$N,DN115,AL$107))","v":""},{"$f":"IF($E115=\"\",\"\",INDEX('I_Određivanje PFC emisija'!$A:$N,DO115,AM$107))","v":""},{"$f":"IF($E115=\"\",\"\",INDEX('I_Određivanje PFC emisija'!$A:$N,DP115,AN$107))","v":""},{"$f":"IF($E115=\"\",\"\",INDEX('I_Određivanje PFC emisija'!$A:$N,DQ115,AO$107))","v":""},{"$f":"IF($E115=\"\",\"\",INDEX('I_Određivanje PFC emisija'!$A:$N,DR115,AP$107))","v":""},{"$f":"IF($E115=\"\",\"\",INDEX('I_Određivanje PFC emisija'!$A:$N,DS115,AQ$107))","v":""},{"$f":"IF($E115=\"\",\"\",INDEX('I_Određivanje PFC emisija'!$A:$N,DT115,AR$107))","v":""},{"$f":"IF($E115=\"\",\"\",INDEX('I_Određivanje PFC emisija'!$A:$N,DU115,AS$107))","v":""},{"$f":"IF($E115=\"\",\"\",INDEX('I_Određivanje PFC emisija'!$A:$N,DV115,AT$107))","v":""},{"$f":"IF($E115=\"\",\"\",INDEX('I_Određivanje PFC emisija'!$A:$N,DW115,AU$107))","v":""},{"$f":"IF($E115=\"\",\"\",INDEX('I_Određivanje PFC emisija'!$A:$N,DX115,AV$107))","v":""},{"$f":"IF($E115=\"\",\"\",INDEX('I_Određivanje PFC emisija'!$A:$N,DY115,AW$107))","v":""},{"$f":"IF($E115=\"\",\"\",INDEX('I_Određivanje PFC emisija'!$A:$N,DZ115,AX$107))","v":""},{"$f":"IF($E115=\"\",\"\",INDEX('I_Određivanje PFC emisija'!$A:$N,EA115,AY$107))","v":""},{"$f":"IF($E115=\"\",\"\",INDEX('I_Određivanje PFC emisija'!$A:$N,EB115,AZ$107))","v":""},{"$f":"IF($E115=\"\",\"\",INDEX('I_Određivanje PFC emisija'!$A:$N,EC115,BA$107))","v":""},{"$f":"IF($E115=\"\",\"\",INDEX('I_Određivanje PFC emisija'!$A:$N,ED115,BB$107))","v":""},{"$f":"IF($E115=\"\",\"\",INDEX('I_Određivanje PFC emisija'!$A:$N,EE115,BC$107))","v":""},{"$f":"IF($E115=\"\",\"\",INDEX('I_Određivanje PFC emisija'!$A:$N,EF115,BD$107))","v":""},null,null,null,null,null,null,null,null,null,null,null,null,null,null,null,null,null,null,null,null,null,null,null,null,null,null,null,null,null,null,null,"SourceCategory_",{"$f":"INDEX('I_Određivanje PFC emisija'!$A$50:$A$60,ROWS($CI$111:CI115))=\"ausblenden\"","v":false},381,382,383,386,387,388,391,392,393,396,397,398,401,402,403,409,416,416,416,416,416,416,416,410,417,417,417,417,417,417,417,411,418,418,418,418,418,418,418,424,424,424,424,424,424,429,435]
[null,{"$f":"IF(OR(B115=\"\",CK116),\"\",'I_Određivanje PFC emisija'!D55)","v":""},{"$f":"IF(B116=\"\",\"\",'I_Određivanje PFC emisija'!E55)","v":""},{"$f":"IF(B116=\"\",\"\",'I_Određivanje PFC emisija'!H55)","v":""},{"$f":"IF($B116=\"\",\"\",INDEX('C_Opis postrojenja'!F:F,MATCH($CJ116,'C_Opis postrojenja'!$Q:$Q,0)))","v":""},{"$f":"IF($E116=\"\",\"\",INDEX('C_Opis postrojenja'!L:L,MATCH($CJ116,'C_Opis postrojenja'!$Q:$Q,0)))","v":""},{"$f":"IF($E116=\"\",\"\",INDEX('C_Opis postrojenja'!M:M,MATCH($CJ116,'C_Opis postrojenja'!$Q:$Q,0)))","v":""},{"$f":"IF($E116=\"\",\"\",INDEX('C_Opis postrojenja'!N:N,MATCH($CJ116,'C_Opis postrojenja'!$Q:$Q,0)))","v":""},{"$f":"IF(INDEX('I_Određivanje PFC emisija'!$L$50:$L$56,MATCH(B116,'I_Određivanje PFC emisija'!$D$50:$D$56,0))=\"\",\"\",INDEX('I_Određivanje PFC emisija'!$L$50:$L$56,MATCH(B116,'I_Određivanje PFC emisija'!$D$50:$D$56,0)))","v":""},{"$f":"IF($E116=\"\",\"\",INDEX('I_Određivanje PFC emisija'!$A:$N,CL116,J$107))","v":""},{"$f":"IF($E116=\"\",\"\",INDEX('I_Određivanje PFC emisija'!$A:$N,CM116,K$107))","v":""},{"$f":"IF($E116=\"\",\"\",INDEX('I_Određivanje PFC emisija'!$A:$N,CN116,L$107))","v":""},{"$f":"IF($E116=\"\",\"\",INDEX('I_Određivanje PFC emisija'!$A:$N,CO116,M$107))","v":""},{"$f":"IF($E116=\"\",\"\",INDEX('I_Određivanje PFC emisija'!$A:$N,CP116,N$107))","v":""},{"$f":"IF($E116=\"\",\"\",INDEX('I_Određivanje PFC emisija'!$A:$N,CQ116,O$107))","v":""},{"$f":"IF($E116=\"\",\"\",INDEX('I_Određivanje PFC emisija'!$A:$N,CR116,P$107))","v":""},{"$f":"IF($E116=\"\",\"\",INDEX('I_Određivanje PFC emisija'!$A:$N,CS116,Q$107))","v":""},{"$f":"IF($E116=\"\",\"\",INDEX('I_Određivanje PFC emisija'!$A:$N,CT116,R$107))","v":""},{"$f":"IF($E116=\"\",\"\",INDEX('I_Određivanje PFC emisija'!$A:$N,CU116,S$107))","v":""},{"$f":"IF($E116=\"\",\"\",INDEX('I_Određivanje PFC emisija'!$A:$N,CV116,T$107))","v":""},{"$f":"IF($E116=\"\",\"\",INDEX('I_Određivanje PFC emisija'!$A:$N,CW116,U$107))","v":""},{"$f":"IF($E116=\"\",\"\",INDEX('I_Određivanje PFC emisija'!$A:$N,CX116,V$107))","v":""},{"$f":"IF($E116=\"\",\"\",INDEX('I_Određivanje PFC emisija'!$A:$N,CY116,W$107))","v":""},{"$f":"IF($E116=\"\",\"\",INDEX('I_Određivanje PFC emisija'!$A:$N,CZ116,X$107))","v":""},{"$f":"IF($E116=\"\",\"\",INDEX('I_Određivanje PFC emisija'!$A:$N,DA116,Y$107))","v":""},{"$f":"IF($E116=\"\",\"\",INDEX('I_Određivanje PFC emisija'!$A:$N,DB116,Z$107))","v":""},{"$f":"IF($E116=\"\",\"\",INDEX('I_Određivanje PFC emisija'!$A:$N,DC116,AA$107))","v":""},{"$f":"IF($E116=\"\",\"\",INDEX('I_Određivanje PFC emisija'!$A:$N,DD116,AB$107))","v":""},{"$f":"IF($E116=\"\",\"\",INDEX('I_Određivanje PFC emisija'!$A:$N,DE116,AC$107))","v":""},{"$f":"IF($E116=\"\",\"\",INDEX('I_Određivanje PFC emisija'!$A:$N,DF116,AD$107))","v":""},{"$f":"IF($E116=\"\",\"\",INDEX('I_Određivanje PFC emisija'!$A:$N,DG116,AE$107))","v":""},{"$f":"IF($E116=\"\",\"\",INDEX('I_Određivanje PFC emisija'!$A:$N,DH116,AF$107))","v":""},{"$f":"IF($E116=\"\",\"\",INDEX('I_Određivanje PFC emisija'!$A:$N,DI116,AG$107))","v":""},{"$f":"IF($E116=\"\",\"\",INDEX('I_Određivanje PFC emisija'!$A:$N,DJ116,AH$107))","v":""},{"$f":"IF($E116=\"\",\"\",INDEX('I_Određivanje PFC emisija'!$A:$N,DK116,AI$107))","v":""},{"$f":"IF($E116=\"\",\"\",INDEX('I_Određivanje PFC emisija'!$A:$N,DL116,AJ$107))","v":""},{"$f":"IF($E116=\"\",\"\",INDEX('I_Određivanje PFC emisija'!$A:$N,DM116,AK$107))","v":""},{"$f":"IF($E116=\"\",\"\",INDEX('I_Određivanje PFC emisija'!$A:$N,DN116,AL$107))","v":""},{"$f":"IF($E116=\"\",\"\",INDEX('I_Određivanje PFC emisija'!$A:$N,DO116,AM$107))","v":""},{"$f":"IF($E116=\"\",\"\",INDEX('I_Određivanje PFC emisija'!$A:$N,DP116,AN$107))","v":""},{"$f":"IF($E116=\"\",\"\",INDEX('I_Određivanje PFC emisija'!$A:$N,DQ116,AO$107))","v":""},{"$f":"IF($E116=\"\",\"\",INDEX('I_Određivanje PFC emisija'!$A:$N,DR116,AP$107))","v":""},{"$f":"IF($E116=\"\",\"\",INDEX('I_Određivanje PFC emisija'!$A:$N,DS116,AQ$107))","v":""},{"$f":"IF($E116=\"\",\"\",INDEX('I_Određivanje PFC emisija'!$A:$N,DT116,AR$107))","v":""},{"$f":"IF($E116=\"\",\"\",INDEX('I_Određivanje PFC emisija'!$A:$N,DU116,AS$107))","v":""},{"$f":"IF($E116=\"\",\"\",INDEX('I_Određivanje PFC emisija'!$A:$N,DV116,AT$107))","v":""},{"$f":"IF($E116=\"\",\"\",INDEX('I_Određivanje PFC emisija'!$A:$N,DW116,AU$107))","v":""},{"$f":"IF($E116=\"\",\"\",INDEX('I_Određivanje PFC emisija'!$A:$N,DX116,AV$107))","v":""},{"$f":"IF($E116=\"\",\"\",INDEX('I_Određivanje PFC emisija'!$A:$N,DY116,AW$107))","v":""},{"$f":"IF($E116=\"\",\"\",INDEX('I_Određivanje PFC emisija'!$A:$N,DZ116,AX$107))","v":""},{"$f":"IF($E116=\"\",\"\",INDEX('I_Određivanje PFC emisija'!$A:$N,EA116,AY$107))","v":""},{"$f":"IF($E116=\"\",\"\",INDEX('I_Određivanje PFC emisija'!$A:$N,EB116,AZ$107))","v":""},{"$f":"IF($E116=\"\",\"\",INDEX('I_Određivanje PFC emisija'!$A:$N,EC116,BA$107))","v":""},{"$f":"IF($E116=\"\",\"\",INDEX('I_Određivanje PFC emisija'!$A:$N,ED116,BB$107))","v":""},{"$f":"IF($E116=\"\",\"\",INDEX('I_Određivanje PFC emisija'!$A:$N,EE116,BC$107))","v":""},{"$f":"IF($E116=\"\",\"\",INDEX('I_Određivanje PFC emisija'!$A:$N,EF116,BD$107))","v":""},null,null,null,null,null,null,null,null,null,null,null,null,null,null,null,null,null,null,null,null,null,null,null,null,null,null,null,null,null,null,null,"SourceCategory_",{"$f":"INDEX('I_Određivanje PFC emisija'!$A$50:$A$60,ROWS($CI$111:CI116))=\"ausblenden\"","v":true},453,454,455,458,459,460,463,464,465,468,469,470,473,474,475,481,488,488,488,488,488,488,488,482,489,489,489,489,489,489,489,483,490,490,490,490,490,490,490,496,496,496,496,496,496,501,507]
[null,{"$f":"IF(OR(B116=\"\",CK117),\"\",'I_Određivanje PFC emisija'!D56)","v":""},{"$f":"IF(B117=\"\",\"\",'I_Određivanje PFC emisija'!E56)","v":""},{"$f":"IF(B117=\"\",\"\",'I_Određivanje PFC emisija'!H56)","v":""},{"$f":"IF($B117=\"\",\"\",INDEX('C_Opis postrojenja'!F:F,MATCH($CJ117,'C_Opis postrojenja'!$Q:$Q,0)))","v":""},{"$f":"IF($E117=\"\",\"\",INDEX('C_Opis postrojenja'!L:L,MATCH($CJ117,'C_Opis postrojenja'!$Q:$Q,0)))","v":""},{"$f":"IF($E117=\"\",\"\",INDEX('C_Opis postrojenja'!M:M,MATCH($CJ117,'C_Opis postrojenja'!$Q:$Q,0)))","v":""},{"$f":"IF($E117=\"\",\"\",INDEX('C_Opis postrojenja'!N:N,MATCH($CJ117,'C_Opis postrojenja'!$Q:$Q,0)))","v":""},{"$f":"IF(INDEX('I_Određivanje PFC emisija'!$L$50:$L$56,MATCH(B117,'I_Određivanje PFC emisija'!$D$50:$D$56,0))=\"\",\"\",INDEX('I_Određivanje PFC emisija'!$L$50:$L$56,MATCH(B117,'I_Određivanje PFC emisija'!$D$50:$D$56,0)))","v":""},{"$f":"IF($E117=\"\",\"\",INDEX('I_Određivanje PFC emisija'!$A:$N,CL117,J$107))","v":""},{"$f":"IF($E117=\"\",\"\",INDEX('I_Određivanje PFC emisija'!$A:$N,CM117,K$107))","v":""},{"$f":"IF($E117=\"\",\"\",INDEX('I_Određivanje PFC emisija'!$A:$N,CN117,L$107))","v":""},{"$f":"IF($E117=\"\",\"\",INDEX('I_Određivanje PFC emisija'!$A:$N,CO117,M$107))","v":""},{"$f":"IF($E117=\"\",\"\",INDEX('I_Određivanje PFC emisija'!$A:$N,CP117,N$107))","v":""},{"$f":"IF($E117=\"\",\"\",INDEX('I_Određivanje PFC emisija'!$A:$N,CQ117,O$107))","v":""},{"$f":"IF($E117=\"\",\"\",INDEX('I_Određivanje PFC emisija'!$A:$N,CR117,P$107))","v":""},{"$f":"IF($E117=\"\",\"\",INDEX('I_Određivanje PFC emisija'!$A:$N,CS117,Q$107))","v":""},{"$f":"IF($E117=\"\",\"\",INDEX('I_Određivanje PFC emisija'!$A:$N,CT117,R$107))","v":""},{"$f":"IF($E117=\"\",\"\",INDEX('I_Određivanje PFC emisija'!$A:$N,CU117,S$107))","v":""},{"$f":"IF($E117=\"\",\"\",INDEX('I_Određivanje PFC emisija'!$A:$N,CV117,T$107))","v":""},{"$f":"IF($E117=\"\",\"\",INDEX('I_Određivanje PFC emisija'!$A:$N,CW117,U$107))","v":""},{"$f":"IF($E117=\"\",\"\",INDEX('I_Određivanje PFC emisija'!$A:$N,CX117,V$107))","v":""},{"$f":"IF($E117=\"\",\"\",INDEX('I_Određivanje PFC emisija'!$A:$N,CY117,W$107))","v":""},{"$f":"IF($E117=\"\",\"\",INDEX('I_Određivanje PFC emisija'!$A:$N,CZ117,X$107))","v":""},{"$f":"IF($E117=\"\",\"\",INDEX('I_Određivanje PFC emisija'!$A:$N,DA117,Y$107))","v":""},{"$f":"IF($E117=\"\",\"\",INDEX('I_Određivanje PFC emisija'!$A:$N,DB117,Z$107))","v":""},{"$f":"IF($E117=\"\",\"\",INDEX('I_Određivanje PFC emisija'!$A:$N,DC117,AA$107))","v":""},{"$f":"IF($E117=\"\",\"\",INDEX('I_Određivanje PFC emisija'!$A:$N,DD117,AB$107))","v":""},{"$f":"IF($E117=\"\",\"\",INDEX('I_Određivanje PFC emisija'!$A:$N,DE117,AC$107))","v":""},{"$f":"IF($E117=\"\",\"\",INDEX('I_Određivanje PFC emisija'!$A:$N,DF117,AD$107))","v":""},{"$f":"IF($E117=\"\",\"\",INDEX('I_Određivanje PFC emisija'!$A:$N,DG117,AE$107))","v":""},{"$f":"IF($E117=\"\",\"\",INDEX('I_Određivanje PFC emisija'!$A:$N,DH117,AF$107))","v":""},{"$f":"IF($E117=\"\",\"\",INDEX('I_Određivanje PFC emisija'!$A:$N,DI117,AG$107))","v":""},{"$f":"IF($E117=\"\",\"\",INDEX('I_Određivanje PFC emisija'!$A:$N,DJ117,AH$107))","v":""},{"$f":"IF($E117=\"\",\"\",INDEX('I_Određivanje PFC emisija'!$A:$N,DK117,AI$107))","v":""},{"$f":"IF($E117=\"\",\"\",INDEX('I_Određivanje PFC emisija'!$A:$N,DL117,AJ$107))","v":""},{"$f":"IF($E117=\"\",\"\",INDEX('I_Određivanje PFC emisija'!$A:$N,DM117,AK$107))","v":""},{"$f":"IF($E117=\"\",\"\",INDEX('I_Određivanje PFC emisija'!$A:$N,DN117,AL$107))","v":""},{"$f":"IF($E117=\"\",\"\",INDEX('I_Određivanje PFC emisija'!$A:$N,DO117,AM$107))","v":""},{"$f":"IF($E117=\"\",\"\",INDEX('I_Određivanje PFC emisija'!$A:$N,DP117,AN$107))","v":""},{"$f":"IF($E117=\"\",\"\",INDEX('I_Određivanje PFC emisija'!$A:$N,DQ117,AO$107))","v":""},{"$f":"IF($E117=\"\",\"\",INDEX('I_Određivanje PFC emisija'!$A:$N,DR117,AP$107))","v":""},{"$f":"IF($E117=\"\",\"\",INDEX('I_Određivanje PFC emisija'!$A:$N,DS117,AQ$107))","v":""},{"$f":"IF($E117=\"\",\"\",INDEX('I_Određivanje PFC emisija'!$A:$N,DT117,AR$107))","v":""},{"$f":"IF($E117=\"\",\"\",INDEX('I_Određivanje PFC emisija'!$A:$N,DU117,AS$107))","v":""},{"$f":"IF($E117=\"\",\"\",INDEX('I_Određivanje PFC emisija'!$A:$N,DV117,AT$107))","v":""},{"$f":"IF($E117=\"\",\"\",INDEX('I_Određivanje PFC emisija'!$A:$N,DW117,AU$107))","v":""},{"$f":"IF($E117=\"\",\"\",INDEX('I_Određivanje PFC emisija'!$A:$N,DX117,AV$107))","v":""},{"$f":"IF($E117=\"\",\"\",INDEX('I_Određivanje PFC emisija'!$A:$N,DY117,AW$107))","v":""},{"$f":"IF($E117=\"\",\"\",INDEX('I_Određivanje PFC emisija'!$A:$N,DZ117,AX$107))","v":""},{"$f":"IF($E117=\"\",\"\",INDEX('I_Određivanje PFC emisija'!$A:$N,EA117,AY$107))","v":""},{"$f":"IF($E117=\"\",\"\",INDEX('I_Određivanje PFC emisija'!$A:$N,EB117,AZ$107))","v":""},{"$f":"IF($E117=\"\",\"\",INDEX('I_Određivanje PFC emisija'!$A:$N,EC117,BA$107))","v":""},{"$f":"IF($E117=\"\",\"\",INDEX('I_Određivanje PFC emisija'!$A:$N,ED117,BB$107))","v":""},{"$f":"IF($E117=\"\",\"\",INDEX('I_Određivanje PFC emisija'!$A:$N,EE117,BC$107))","v":""},{"$f":"IF($E117=\"\",\"\",INDEX('I_Određivanje PFC emisija'!$A:$N,EF117,BD$107))","v":""},null,null,null,null,null,null,null,null,null,null,null,null,null,null,null,null,null,null,null,null,null,null,null,null,null,null,null,null,null,null,null,"SourceCategory_",{"$f":"INDEX('I_Određivanje PFC emisija'!$A$50:$A$60,ROWS($CI$111:CI117))=\"ausblenden\"","v":false},525,526,527,530,531,532,535,536,537,540,541,542,545,546,547,553,560,560,560,560,560,560,560,554,561,561,561,561,561,561,561,555,562,562,562,562,562,562,562,568,568,568,568,568,568,573,579]
[null,{"$f":"IF(OR(B117=\"\",CK118),\"\",'I_Određivanje PFC emisija'!D57)","v":""},{"$f":"IF(B118=\"\",\"\",'I_Određivanje PFC emisija'!E57)","v":""},{"$f":"IF(B118=\"\",\"\",'I_Određivanje PFC emisija'!H57)","v":""},{"$f":"IF($B118=\"\",\"\",INDEX('C_Opis postrojenja'!F:F,MATCH($CJ118,'C_Opis postrojenja'!$Q:$Q,0)))","v":""},{"$f":"IF($E118=\"\",\"\",INDEX('C_Opis postrojenja'!L:L,MATCH($CJ118,'C_Opis postrojenja'!$Q:$Q,0)))","v":""},{"$f":"IF($E118=\"\",\"\",INDEX('C_Opis postrojenja'!M:M,MATCH($CJ118,'C_Opis postrojenja'!$Q:$Q,0)))","v":""},{"$f":"IF($E118=\"\",\"\",INDEX('C_Opis postrojenja'!N:N,MATCH($CJ118,'C_Opis postrojenja'!$Q:$Q,0)))","v":""},{"$f":"IF(INDEX('I_Određivanje PFC emisija'!$L$50:$L$56,MATCH(B118,'I_Određivanje PFC emisija'!$D$50:$D$56,0))=\"\",\"\",INDEX('I_Određivanje PFC emisija'!$L$50:$L$56,MATCH(B118,'I_Određivanje PFC emisija'!$D$50:$D$56,0)))","v":""},{"$f":"IF($E118=\"\",\"\",INDEX('I_Određivanje PFC emisija'!$A:$N,CL118,J$107))","v":""},{"$f":"IF($E118=\"\",\"\",INDEX('I_Određivanje PFC emisija'!$A:$N,CM118,K$107))","v":""},{"$f":"IF($E118=\"\",\"\",INDEX('I_Određivanje PFC emisija'!$A:$N,CN118,L$107))","v":""},{"$f":"IF($E118=\"\",\"\",INDEX('I_Određivanje PFC emisija'!$A:$N,CO118,M$107))","v":""},{"$f":"IF($E118=\"\",\"\",INDEX('I_Određivanje PFC emisija'!$A:$N,CP118,N$107))","v":""},{"$f":"IF($E118=\"\",\"\",INDEX('I_Određivanje PFC emisija'!$A:$N,CQ118,O$107))","v":""},{"$f":"IF($E118=\"\",\"\",INDEX('I_Određivanje PFC emisija'!$A:$N,CR118,P$107))","v":""},{"$f":"IF($E118=\"\",\"\",INDEX('I_Određivanje PFC emisija'!$A:$N,CS118,Q$107))","v":""},{"$f":"IF($E118=\"\",\"\",INDEX('I_Određivanje PFC emisija'!$A:$N,CT118,R$107))","v":""},{"$f":"IF($E118=\"\",\"\",INDEX('I_Određivanje PFC emisija'!$A:$N,CU118,S$107))","v":""},{"$f":"IF($E118=\"\",\"\",INDEX('I_Određivanje PFC emisija'!$A:$N,CV118,T$107))","v":""},{"$f":"IF($E118=\"\",\"\",INDEX('I_Određivanje PFC emisija'!$A:$N,CW118,U$107))","v":""},{"$f":"IF($E118=\"\",\"\",INDEX('I_Određivanje PFC emisija'!$A:$N,CX118,V$107))","v":""},{"$f":"IF($E118=\"\",\"\",INDEX('I_Određivanje PFC emisija'!$A:$N,CY118,W$107))","v":""},{"$f":"IF($E118=\"\",\"\",INDEX('I_Određivanje PFC emisija'!$A:$N,CZ118,X$107))","v":""},{"$f":"IF($E118=\"\",\"\",INDEX('I_Određivanje PFC emisija'!$A:$N,DA118,Y$107))","v":""},{"$f":"IF($E118=\"\",\"\",INDEX('I_Određivanje PFC emisija'!$A:$N,DB118,Z$107))","v":""},{"$f":"IF($E118=\"\",\"\",INDEX('I_Određivanje PFC emisija'!$A:$N,DC118,AA$107))","v":""},{"$f":"IF($E118=\"\",\"\",INDEX('I_Određivanje PFC emisija'!$A:$N,DD118,AB$107))","v":""},{"$f":"IF($E118=\"\",\"\",INDEX('I_Određivanje PFC emisija'!$A:$N,DE118,AC$107))","v":""},{"$f":"IF($E118=\"\",\"\",INDEX('I_Određivanje PFC emisija'!$A:$N,DF118,AD$107))","v":""},{"$f":"IF($E118=\"\",\"\",INDEX('I_Određivanje PFC emisija'!$A:$N,DG118,AE$107))","v":""},{"$f":"IF($E118=\"\",\"\",INDEX('I_Određivanje PFC emisija'!$A:$N,DH118,AF$107))","v":""},{"$f":"IF($E118=\"\",\"\",INDEX('I_Određivanje PFC emisija'!$A:$N,DI118,AG$107))","v":""},{"$f":"IF($E118=\"\",\"\",INDEX('I_Određivanje PFC emisija'!$A:$N,DJ118,AH$107))","v":""},{"$f":"IF($E118=\"\",\"\",INDEX('I_Određivanje PFC emisija'!$A:$N,DK118,AI$107))","v":""},{"$f":"IF($E118=\"\",\"\",INDEX('I_Određivanje PFC emisija'!$A:$N,DL118,AJ$107))","v":""},{"$f":"IF($E118=\"\",\"\",INDEX('I_Određivanje PFC emisija'!$A:$N,DM118,AK$107))","v":""},{"$f":"IF($E118=\"\",\"\",INDEX('I_Određivanje PFC emisija'!$A:$N,DN118,AL$107))","v":""},{"$f":"IF($E118=\"\",\"\",INDEX('I_Određivanje PFC emisija'!$A:$N,DO118,AM$107))","v":""},{"$f":"IF($E118=\"\",\"\",INDEX('I_Određivanje PFC emisija'!$A:$N,DP118,AN$107))","v":""},{"$f":"IF($E118=\"\",\"\",INDEX('I_Određivanje PFC emisija'!$A:$N,DQ118,AO$107))","v":""},{"$f":"IF($E118=\"\",\"\",INDEX('I_Određivanje PFC emisija'!$A:$N,DR118,AP$107))","v":""},{"$f":"IF($E118=\"\",\"\",INDEX('I_Određivanje PFC emisija'!$A:$N,DS118,AQ$107))","v":""},{"$f":"IF($E118=\"\",\"\",INDEX('I_Određivanje PFC emisija'!$A:$N,DT118,AR$107))","v":""},{"$f":"IF($E118=\"\",\"\",INDEX('I_Određivanje PFC emisija'!$A:$N,DU118,AS$107))","v":""},{"$f":"IF($E118=\"\",\"\",INDEX('I_Određivanje PFC emisija'!$A:$N,DV118,AT$107))","v":""},{"$f":"IF($E118=\"\",\"\",INDEX('I_Određivanje PFC emisija'!$A:$N,DW118,AU$107))","v":""},{"$f":"IF($E118=\"\",\"\",INDEX('I_Određivanje PFC emisija'!$A:$N,DX118,AV$107))","v":""},{"$f":"IF($E118=\"\",\"\",INDEX('I_Određivanje PFC emisija'!$A:$N,DY118,AW$107))","v":""},{"$f":"IF($E118=\"\",\"\",INDEX('I_Određivanje PFC emisija'!$A:$N,DZ118,AX$107))","v":""},{"$f":"IF($E118=\"\",\"\",INDEX('I_Određivanje PFC emisija'!$A:$N,EA118,AY$107))","v":""},{"$f":"IF($E118=\"\",\"\",INDEX('I_Određivanje PFC emisija'!$A:$N,EB118,AZ$107))","v":""},{"$f":"IF($E118=\"\",\"\",INDEX('I_Određivanje PFC emisija'!$A:$N,EC118,BA$107))","v":""},{"$f":"IF($E118=\"\",\"\",INDEX('I_Određivanje PFC emisija'!$A:$N,ED118,BB$107))","v":""},{"$f":"IF($E118=\"\",\"\",INDEX('I_Određivanje PFC emisija'!$A:$N,EE118,BC$107))","v":""},{"$f":"IF($E118=\"\",\"\",INDEX('I_Određivanje PFC emisija'!$A:$N,EF118,BD$107))","v":""},null,null,null,null,null,null,null,null,null,null,null,null,null,null,null,null,null,null,null,null,null,null,null,null,null,null,null,null,null,null,null,"SourceCategory_",{"$f":"INDEX('I_Određivanje PFC emisija'!$A$50:$A$60,ROWS($CI$111:CI118))=\"ausblenden\"","v":false},597,598,599,602,603,604,607,608,609,612,613,614,617,618,619,625,632,632,632,632,632,632,632,626,633,633,{"$f":"DL117+72","v":633},633,633,633,633,627,634,634,634,634,634,634,634,640,640,640,640,640,640,645,651]
[null,{"$f":"IF(OR(B118=\"\",CK119),\"\",'I_Određivanje PFC emisija'!D58)","v":""},{"$f":"IF(B119=\"\",\"\",'I_Određivanje PFC emisija'!E58)","v":""},{"$f":"IF(B119=\"\",\"\",'I_Određivanje PFC emisija'!H58)","v":""},{"$f":"IF($B119=\"\",\"\",INDEX('C_Opis postrojenja'!F:F,MATCH($CJ119,'C_Opis postrojenja'!$Q:$Q,0)))","v":""},{"$f":"IF($E119=\"\",\"\",INDEX('C_Opis postrojenja'!L:L,MATCH($CJ119,'C_Opis postrojenja'!$Q:$Q,0)))","v":""},{"$f":"IF($E119=\"\",\"\",INDEX('C_Opis postrojenja'!M:M,MATCH($CJ119,'C_Opis postrojenja'!$Q:$Q,0)))","v":""},{"$f":"IF($E119=\"\",\"\",INDEX('C_Opis postrojenja'!N:N,MATCH($CJ119,'C_Opis postrojenja'!$Q:$Q,0)))","v":""},{"$f":"IF(INDEX('I_Određivanje PFC emisija'!$L$50:$L$56,MATCH(B119,'I_Određivanje PFC emisija'!$D$50:$D$56,0))=\"\",\"\",INDEX('I_Određivanje PFC emisija'!$L$50:$L$56,MATCH(B119,'I_Određivanje PFC emisija'!$D$50:$D$56,0)))","v":""},{"$f":"IF($E119=\"\",\"\",INDEX('I_Određivanje PFC emisija'!$A:$N,CL119,J$107))","v":""},{"$f":"IF($E119=\"\",\"\",INDEX('I_Određivanje PFC emisija'!$A:$N,CM119,K$107))","v":""},{"$f":"IF($E119=\"\",\"\",INDEX('I_Određivanje PFC emisija'!$A:$N,CN119,L$107))","v":""},{"$f":"IF($E119=\"\",\"\",INDEX('I_Određivanje PFC emisija'!$A:$N,CO119,M$107))","v":""},{"$f":"IF($E119=\"\",\"\",INDEX('I_Određivanje PFC emisija'!$A:$N,CP119,N$107))","v":""},{"$f":"IF($E119=\"\",\"\",INDEX('I_Određivanje PFC emisija'!$A:$N,CQ119,O$107))","v":""},{"$f":"IF($E119=\"\",\"\",INDEX('I_Određivanje PFC emisija'!$A:$N,CR119,P$107))","v":""},{"$f":"IF($E119=\"\",\"\",INDEX('I_Određivanje PFC emisija'!$A:$N,CS119,Q$107))","v":""},{"$f":"IF($E119=\"\",\"\",INDEX('I_Određivanje PFC emisija'!$A:$N,CT119,R$107))","v":""},{"$f":"IF($E119=\"\",\"\",INDEX('I_Određivanje PFC emisija'!$A:$N,CU119,S$107))","v":""},{"$f":"IF($E119=\"\",\"\",INDEX('I_Određivanje PFC emisija'!$A:$N,CV119,T$107))","v":""},{"$f":"IF($E119=\"\",\"\",INDEX('I_Određivanje PFC emisija'!$A:$N,CW119,U$107))","v":""},{"$f":"IF($E119=\"\",\"\",INDEX('I_Određivanje PFC emisija'!$A:$N,CX119,V$107))","v":""},{"$f":"IF($E119=\"\",\"\",INDEX('I_Određivanje PFC emisija'!$A:$N,CY119,W$107))","v":""},{"$f":"IF($E119=\"\",\"\",INDEX('I_Određivanje PFC emisija'!$A:$N,CZ119,X$107))","v":""},{"$f":"IF($E119=\"\",\"\",INDEX('I_Određivanje PFC emisija'!$A:$N,DA119,Y$107))","v":""},{"$f":"IF($E119=\"\",\"\",INDEX('I_Određivanje PFC emisija'!$A:$N,DB119,Z$107))","v":""},{"$f":"IF($E119=\"\",\"\",INDEX('I_Određivanje PFC emisija'!$A:$N,DC119,AA$107))","v":""},{"$f":"IF($E119=\"\",\"\",INDEX('I_Određivanje PFC emisija'!$A:$N,DD119,AB$107))","v":""},{"$f":"IF($E119=\"\",\"\",INDEX('I_Određivanje PFC emisija'!$A:$N,DE119,AC$107))","v":""},{"$f":"IF($E119=\"\",\"\",INDEX('I_Određivanje PFC emisija'!$A:$N,DF119,AD$107))","v":""},{"$f":"IF($E119=\"\",\"\",INDEX('I_Određivanje PFC emisija'!$A:$N,DG119,AE$107))","v":""},{"$f":"IF($E119=\"\",\"\",INDEX('I_Određivanje PFC emisija'!$A:$N,DH119,AF$107))","v":""},{"$f":"IF($E119=\"\",\"\",INDEX('I_Određivanje PFC emisija'!$A:$N,DI119,AG$107))","v":""},{"$f":"IF($E119=\"\",\"\",INDEX('I_Određivanje PFC emisija'!$A:$N,DJ119,AH$107))","v":""},{"$f":"IF($E119=\"\",\"\",INDEX('I_Određivanje PFC emisija'!$A:$N,DK119,AI$107))","v":""},{"$f":"IF($E119=\"\",\"\",INDEX('I_Određivanje PFC emisija'!$A:$N,DL119,AJ$107))","v":""},{"$f":"IF($E119=\"\",\"\",INDEX('I_Određivanje PFC emisija'!$A:$N,DM119,AK$107))","v":""},{"$f":"IF($E119=\"\",\"\",INDEX('I_Određivanje PFC emisija'!$A:$N,DN119,AL$107))","v":""},{"$f":"IF($E119=\"\",\"\",INDEX('I_Određivanje PFC emisija'!$A:$N,DO119,AM$107))","v":""},{"$f":"IF($E119=\"\",\"\",INDEX('I_Određivanje PFC emisija'!$A:$N,DP119,AN$107))","v":""},{"$f":"IF($E119=\"\",\"\",INDEX('I_Određivanje PFC emisija'!$A:$N,DQ119,AO$107))","v":""},{"$f":"IF($E119=\"\",\"\",INDEX('I_Određivanje PFC emisija'!$A:$N,DR119,AP$107))","v":""},{"$f":"IF($E119=\"\",\"\",INDEX('I_Određivanje PFC emisija'!$A:$N,DS119,AQ$107))","v":""},{"$f":"IF($E119=\"\",\"\",INDEX('I_Određivanje PFC emisija'!$A:$N,DT119,AR$107))","v":""},{"$f":"IF($E119=\"\",\"\",INDEX('I_Određivanje PFC emisija'!$A:$N,DU119,AS$107))","v":""},{"$f":"IF($E119=\"\",\"\",INDEX('I_Određivanje PFC emisija'!$A:$N,DV119,AT$107))","v":""},{"$f":"IF($E119=\"\",\"\",INDEX('I_Određivanje PFC emisija'!$A:$N,DW119,AU$107))","v":""},{"$f":"IF($E119=\"\",\"\",INDEX('I_Određivanje PFC emisija'!$A:$N,DX119,AV$107))","v":""},{"$f":"IF($E119=\"\",\"\",INDEX('I_Određivanje PFC emisija'!$A:$N,DY119,AW$107))","v":""},{"$f":"IF($E119=\"\",\"\",INDEX('I_Određivanje PFC emisija'!$A:$N,DZ119,AX$107))","v":""},{"$f":"IF($E119=\"\",\"\",INDEX('I_Određivanje PFC emisija'!$A:$N,EA119,AY$107))","v":""},{"$f":"IF($E119=\"\",\"\",INDEX('I_Određivanje PFC emisija'!$A:$N,EB119,AZ$107))","v":""},{"$f":"IF($E119=\"\",\"\",INDEX('I_Određivanje PFC emisija'!$A:$N,EC119,BA$107))","v":""},{"$f":"IF($E119=\"\",\"\",INDEX('I_Određivanje PFC emisija'!$A:$N,ED119,BB$107))","v":""},{"$f":"IF($E119=\"\",\"\",INDEX('I_Određivanje PFC emisija'!$A:$N,EE119,BC$107))","v":""},{"$f":"IF($E119=\"\",\"\",INDEX('I_Određivanje PFC emisija'!$A:$N,EF119,BD$107))","v":""},null,null,null,null,null,null,null,null,null,null,null,null,null,null,null,null,null,null,null,null,null,null,null,null,null,null,null,null,null,null,null,"SourceCategory_",{"$f":"INDEX('I_Određivanje PFC emisija'!$A$50:$A$60,ROWS($CI$111:CI119))=\"ausblenden\"","v":false},669,{"$f":"CM118+72","v":670},671,674,675,676,679,680,681,684,685,686,689,690,691,697,{"$f":"DB118+72","v":704},704,704,704,704,704,704,698,705,705,705,705,705,705,705,699,706,706,706,706,706,706,706,712,712,712,712,712,712,717,723]
[null,{"$f":"IF(OR(B119=\"\",CK120),\"\",'I_Određivanje PFC emisija'!D59)","v":""},{"$f":"IF(B120=\"\",\"\",'I_Određivanje PFC emisija'!E59)","v":""},{"$f":"IF(B120=\"\",\"\",'I_Određivanje PFC emisija'!H59)","v":""},{"$f":"IF($B120=\"\",\"\",INDEX('C_Opis postrojenja'!F:F,MATCH($CJ120,'C_Opis postrojenja'!$Q:$Q,0)))","v":""},{"$f":"IF($E120=\"\",\"\",INDEX('C_Opis postrojenja'!L:L,MATCH($CJ120,'C_Opis postrojenja'!$Q:$Q,0)))","v":""},{"$f":"IF($E120=\"\",\"\",INDEX('C_Opis postrojenja'!M:M,MATCH($CJ120,'C_Opis postrojenja'!$Q:$Q,0)))","v":""},{"$f":"IF($E120=\"\",\"\",INDEX('C_Opis postrojenja'!N:N,MATCH($CJ120,'C_Opis postrojenja'!$Q:$Q,0)))","v":""},{"$f":"IF(INDEX('I_Određivanje PFC emisija'!$L$50:$L$56,MATCH(B120,'I_Određivanje PFC emisija'!$D$50:$D$56,0))=\"\",\"\",INDEX('I_Određivanje PFC emisija'!$L$50:$L$56,MATCH(B120,'I_Određivanje PFC emisija'!$D$50:$D$56,0)))","v":""},{"$f":"IF($E120=\"\",\"\",INDEX('I_Određivanje PFC emisija'!$A:$N,CL120,J$107))","v":""},{"$f":"IF($E120=\"\",\"\",INDEX('I_Određivanje PFC emisija'!$A:$N,CM120,K$107))","v":""},{"$f":"IF($E120=\"\",\"\",INDEX('I_Određivanje PFC emisija'!$A:$N,CN120,L$107))","v":""},{"$f":"IF($E120=\"\",\"\",INDEX('I_Određivanje PFC emisija'!$A:$N,CO120,M$107))","v":""},{"$f":"IF($E120=\"\",\"\",INDEX('I_Određivanje PFC emisija'!$A:$N,CP120,N$107))","v":""},{"$f":"IF($E120=\"\",\"\",INDEX('I_Određivanje PFC emisija'!$A:$N,CQ120,O$107))","v":""},{"$f":"IF($E120=\"\",\"\",INDEX('I_Određivanje PFC emisija'!$A:$N,CR120,P$107))","v":""},{"$f":"IF($E120=\"\",\"\",INDEX('I_Određivanje PFC emisija'!$A:$N,CS120,Q$107))","v":""},{"$f":"IF($E120=\"\",\"\",INDEX('I_Određivanje PFC emisija'!$A:$N,CT120,R$107))","v":""},{"$f":"IF($E120=\"\",\"\",INDEX('I_Određivanje PFC emisija'!$A:$N,CU120,S$107))","v":""},{"$f":"IF($E120=\"\",\"\",INDEX('I_Određivanje PFC emisija'!$A:$N,CV120,T$107))","v":""},{"$f":"IF($E120=\"\",\"\",INDEX('I_Određivanje PFC emisija'!$A:$N,CW120,U$107))","v":""},{"$f":"IF($E120=\"\",\"\",INDEX('I_Određivanje PFC emisija'!$A:$N,CX120,V$107))","v":""},{"$f":"IF($E120=\"\",\"\",INDEX('I_Određivanje PFC emisija'!$A:$N,CY120,W$107))","v":""},{"$f":"IF($E120=\"\",\"\",INDEX('I_Određivanje PFC emisija'!$A:$N,CZ120,X$107))","v":""},{"$f":"IF($E120=\"\",\"\",INDEX('I_Određivanje PFC emisija'!$A:$N,DA120,Y$107))","v":""},{"$f":"IF($E120=\"\",\"\",INDEX('I_Određivanje PFC emisija'!$A:$N,DB120,Z$107))","v":""},{"$f":"IF($E120=\"\",\"\",INDEX('I_Određivanje PFC emisija'!$A:$N,DC120,AA$107))","v":""},{"$f":"IF($E120=\"\",\"\",INDEX('I_Određivanje PFC emisija'!$A:$N,DD120,AB$107))","v":""},{"$f":"IF($E120=\"\",\"\",INDEX('I_Određivanje PFC emisija'!$A:$N,DE120,AC$107))","v":""},{"$f":"IF($E120=\"\",\"\",INDEX('I_Određivanje PFC emisija'!$A:$N,DF120,AD$107))","v":""},{"$f":"IF($E120=\"\",\"\",INDEX('I_Određivanje PFC emisija'!$A:$N,DG120,AE$107))","v":""},{"$f":"IF($E120=\"\",\"\",INDEX('I_Određivanje PFC emisija'!$A:$N,DH120,AF$107))","v":""},{"$f":"IF($E120=\"\",\"\",INDEX('I_Određivanje PFC emisija'!$A:$N,DI120,AG$107))","v":""},{"$f":"IF($E120=\"\",\"\",INDEX('I_Određivanje PFC emisija'!$A:$N,DJ120,AH$107))","v":""},{"$f":"IF($E120=\"\",\"\",INDEX('I_Određivanje PFC emisija'!$A:$N,DK120,AI$107))","v":""},{"$f":"IF($E120=\"\",\"\",INDEX('I_Određivanje PFC emisija'!$A:$N,DL120,AJ$107))","v":""},{"$f":"IF($E120=\"\",\"\",INDEX('I_Određivanje PFC emisija'!$A:$N,DM120,AK$107))","v":""},{"$f":"IF($E120=\"\",\"\",INDEX('I_Određivanje PFC emisija'!$A:$N,DN120,AL$107))","v":""},{"$f":"IF($E120=\"\",\"\",INDEX('I_Određivanje PFC emisija'!$A:$N,DO120,AM$107))","v":""},{"$f":"IF($E120=\"\",\"\",INDEX('I_Određivanje PFC emisija'!$A:$N,DP120,AN$107))","v":""},{"$f":"IF($E120=\"\",\"\",INDEX('I_Određivanje PFC emisija'!$A:$N,DQ120,AO$107))","v":""},{"$f":"IF($E120=\"\",\"\",INDEX('I_Određivanje PFC emisija'!$A:$N,DR120,AP$107))","v":""},{"$f":"IF($E120=\"\",\"\",INDEX('I_Određivanje PFC emisija'!$A:$N,DS120,AQ$107))","v":""},{"$f":"IF($E120=\"\",\"\",INDEX('I_Određivanje PFC emisija'!$A:$N,DT120,AR$107))","v":""},{"$f":"IF($E120=\"\",\"\",INDEX('I_Određivanje PFC emisija'!$A:$N,DU120,AS$107))","v":""},{"$f":"IF($E120=\"\",\"\",INDEX('I_Određivanje PFC emisija'!$A:$N,DV120,AT$107))","v":""},{"$f":"IF($E120=\"\",\"\",INDEX('I_Određivanje PFC emisija'!$A:$N,DW120,AU$107))","v":""},{"$f":"IF($E120=\"\",\"\",INDEX('I_Određivanje PFC emisija'!$A:$N,DX120,AV$107))","v":""},{"$f":"IF($E120=\"\",\"\",INDEX('I_Određivanje PFC emisija'!$A:$N,DY120,AW$107))","v":""},{"$f":"IF($E120=\"\",\"\",INDEX('I_Određivanje PFC emisija'!$A:$N,DZ120,AX$107))","v":""},{"$f":"IF($E120=\"\",\"\",INDEX('I_Određivanje PFC emisija'!$A:$N,EA120,AY$107))","v":""},{"$f":"IF($E120=\"\",\"\",INDEX('I_Određivanje PFC emisija'!$A:$N,EB120,AZ$107))","v":""},{"$f":"IF($E120=\"\",\"\",INDEX('I_Određivanje PFC emisija'!$A:$N,EC120,BA$107))","v":""},{"$f":"IF($E120=\"\",\"\",INDEX('I_Određivanje PFC emisija'!$A:$N,ED120,BB$107))","v":""},{"$f":"IF($E120=\"\",\"\",INDEX('I_Određivanje PFC emisija'!$A:$N,EE120,BC$107))","v":""},{"$f":"IF($E120=\"\",\"\",INDEX('I_Određivanje PFC emisija'!$A:$N,EF120,BD$107))","v":""},null,null,null,null,null,null,null,null,null,null,null,null,null,null,null,null,null,null,null,null,null,null,null,null,null,null,null,null,null,null,null,"SourceCategory_",{"$f":"INDEX('I_Određivanje PFC emisija'!$A$50:$A$60,ROWS($CI$111:CI120))=\"ausblenden\"","v":false},741,742,743,746,747,748,751,752,753,756,757,758,761,762,763,769,776,776,776,776,776,776,776,770,777,777,777,777,777,777,777,771,778,778,778,778,778,778,778,784,784,784,784,784,784,789,795]
[]
["ausblenden"]
[null,{"$f":"Translations!$B$1240","v":"Preneseni CO2 i N2O"}]
[]
[null,{"$f":"'J_Preneseni ili inherentni CO2'!E53","v":"Oznaka prijenosa"},{"$f":"'J_Preneseni ili inherentni CO2'!F53","v":"Naziv postrojenja"},{"$f":"'J_Preneseni ili inherentni CO2'!H53","v":"Naziv operatera"},{"$f":"'J_Preneseni ili inherentni CO2'!J53","v":"Jedinstveni ID postrojenja"},{"$f":"'J_Preneseni ili inherentni CO2'!K53","v":"Vrsta prijenosa"},{"$f":"'J_Preneseni ili inherentni CO2'!M53","v":"Metodologija mjerenja"}]
[null,{"$f":"'J_Preneseni ili inherentni CO2'!E54","v":"TR1"},{"$f":"IF($B126=\"\",\"\",IF(INDEX('J_Preneseni ili inherentni CO2'!$F$54:$F$60,ROWS($A$126:A126))=\"\",\"\",INDEX('J_Preneseni ili inherentni CO2'!$F$54:$F$60,ROWS($A$126:A126))))","v":""},{"$f":"IF($B126=\"\",\"\",IF(INDEX('J_Preneseni ili inherentni CO2'!$H$54:$H$60,ROWS($A$126:B126))=\"\",\"\",INDEX('J_Preneseni ili inherentni CO2'!$H$54:$H$60,ROWS($A$126:B126))))","v":""},{"$f":"IF($B126=\"\",\"\",IF(INDEX('J_Preneseni ili inherentni CO2'!$J$54:$J$60,ROWS($A$126:C126))=\"\",\"\",INDEX('J_Preneseni ili inherentni CO2'!$J$54:$J$60,ROWS($A$126:C126))))","v":""},{"$f":"IF($B126=\"\",\"\",IF(INDEX('J_Preneseni ili inherentni CO2'!$K$54:$K$60,ROWS($A$126:D126))=\"\",\"\",INDEX('J_Preneseni ili inherentni CO2'!$K$54:$K$60,ROWS($A$126:D126))))","v":""},{"$f":"IF($B126=\"\",\"\",IF(INDEX('J_Preneseni ili inherentni CO2'!$M$54:$M$60,ROWS($A$126:E126))=\"\",\"\",INDEX('J_Preneseni ili inherentni CO2'!$M$54:$M$60,ROWS($A$126:E126))))","v":""},null,null,null,null,null,null,null,null,null,null,null,null,null,null,null,null,null,null,null,null,null,null,null,null,null,null,null,null,null,null,null,null,null,null,null,null,null,null,null,null,null,null,null,null,null,null,null,null,null,null,null,null,null,null,null,null,null,null,null,null,null,null,null,null,null,null,null,null,null,null,null,null,null,null,null,null,null,null,null,null,null,{"$f":"INDEX('J_Preneseni ili inherentni CO2'!$A$54:$A$64,ROWS($CI$126:CI126))=\"ausblenden\"","v":false}]
[null,{"$f":"'J_Preneseni ili inherentni CO2'!E55","v":"TR2"},{"$f":"IF($B127=\"\",\"\",IF(INDEX('J_Preneseni ili inherentni CO2'!$F$54:$F$60,ROWS($A$126:A127))=\"\",\"\",INDEX('J_Preneseni ili inherentni CO2'!$F$54:$F$60,ROWS($A$126:A127))))","v":""},{"$f":"IF($B127=\"\",\"\",IF(INDEX('J_Preneseni ili inherentni CO2'!$H$54:$H$60,ROWS($A$126:B127))=\"\",\"\",INDEX('J_Preneseni ili inherentni CO2'!$H$54:$H$60,ROWS($A$126:B127))))","v":""},{"$f":"IF($B127=\"\",\"\",IF(INDEX('J_Preneseni ili inherentni CO2'!$J$54:$J$60,ROWS($A$126:C127))=\"\",\"\",INDEX('J_Preneseni ili inherentni CO2'!$J$54:$J$60,ROWS($A$126:C127))))","v":""},{"$f":"IF($B127=\"\",\"\",IF(INDEX('J_Preneseni ili inherentni CO2'!$K$54:$K$60,ROWS($A$126:D127))=\"\",\"\",INDEX('J_Preneseni ili inherentni CO2'!$K$54:$K$60,ROWS($A$126:D127))))","v":""},{"$f":"IF($B127=\"\",\"\",IF(INDEX('J_Preneseni ili inherentni CO2'!$M$54:$M$60,ROWS($A$126:E127))=\"\",\"\",INDEX('J_Preneseni ili inherentni CO2'!$M$54:$M$60,ROWS($A$126:E127))))","v":""},null,null,null,null,null,null,null,null,null,null,null,null,null,null,null,null,null,null,null,null,null,null,null,null,null,null,null,null,null,null,null,null,null,null,null,null,null,null,null,null,null,null,null,null,null,null,null,null,null,null,null,null,null,null,null,null,null,null,null,null,null,null,null,null,null,null,null,null,null,null,null,null,null,null,null,null,null,null,null,null,null,{"$f":"INDEX('J_Preneseni ili inherentni CO2'!$A$54:$A$64,ROWS($CI$126:CI127))=\"ausblenden\"","v":false}]
[null,{"$f":"'J_Preneseni ili inherentni CO2'!E56","v":"TR3"},{"$f":"IF($B128=\"\",\"\",IF(INDEX('J_Preneseni ili inherentni CO2'!$F$54:$F$60,ROWS($A$126:A128))=\"\",\"\",INDEX('J_Preneseni ili inherentni CO2'!$F$54:$F$60,ROWS($A$126:A128))))","v":""},{"$f":"IF($B128=\"\",\"\",IF(INDEX('J_Preneseni ili inherentni CO2'!$H$54:$H$60,ROWS($A$126:B128))=\"\",\"\",INDEX('J_Preneseni ili inherentni CO2'!$H$54:$H$60,ROWS($A$126:B128))))","v":""},{"$f":"IF($B128=\"\",\"\",IF(INDEX('J_Preneseni ili inherentni CO2'!$J$54:$J$60,ROWS($A$126:C128))=\"\",\"\",INDEX('J_Preneseni ili inherentni CO2'!$J$54:$J$60,ROWS($A$126:C128))))","v":""},{"$f":"IF($B128=\"\",\"\",IF(INDEX('J_Preneseni ili inherentni CO2'!$K$54:$K$60,ROWS($A$126:D128))=\"\",\"\",INDEX('J_Preneseni ili inherentni CO2'!$K$54:$K$60,ROWS($A$126:D128))))","v":""},{"$f":"IF($B128=\"\",\"\",IF(INDEX('J_Preneseni ili inherentni CO2'!$M$54:$M$60,ROWS($A$126:E128))=\"\",\"\",INDEX('J_Preneseni ili inherentni CO2'!$M$54:$M$60,ROWS($A$126:E128))))","v":""},null,null,null,null,null,null,null,null,null,null,null,null,null,null,null,null,null,null,null,null,null,null,null,null,null,null,null,null,null,null,null,null,null,null,null,null,null,null,null,null,null,null,null,null,null,null,null,null,null,null,null,null,null,null,null,null,null,null,null,null,null,null,null,null,null,null,null,null,null,null,null,null,null,null,null,null,null,null,null,null,null,{"$f":"INDEX('J_Preneseni ili inherentni CO2'!$A$54:$A$64,ROWS($CI$126:CI128))=\"ausblenden\"","v":false}]
[null,{"$f":"'J_Preneseni ili inherentni CO2'!E57","v":"TR4"},{"$f":"IF($B129=\"\",\"\",IF(INDEX('J_Preneseni ili inherentni CO2'!$F$54:$F$60,ROWS($A$126:A129))=\"\",\"\",INDEX('J_Preneseni ili inherentni CO2'!$F$54:$F$60,ROWS($A$126:A129))))","v":""},{"$f":"IF($B129=\"\",\"\",IF(INDEX('J_Preneseni ili inherentni CO2'!$H$54:$H$60,ROWS($A$126:B129))=\"\",\"\",INDEX('J_Preneseni ili inherentni CO2'!$H$54:$H$60,ROWS($A$126:B129))))","v":""},{"$f":"IF($B129=\"\",\"\",IF(INDEX('J_Preneseni ili inherentni CO2'!$J$54:$J$60,ROWS($A$126:C129))=\"\",\"\",INDEX('J_Preneseni ili inherentni CO2'!$J$54:$J$60,ROWS($A$126:C129))))","v":""},{"$f":"IF($B129=\"\",\"\",IF(INDEX('J_Preneseni ili inherentni CO2'!$K$54:$K$60,ROWS($A$126:D129))=\"\",\"\",INDEX('J_Preneseni ili inherentni CO2'!$K$54:$K$60,ROWS($A$126:D129))))","v":""},{"$f":"IF($B129=\"\",\"\",IF(INDEX('J_Preneseni ili inherentni CO2'!$M$54:$M$60,ROWS($A$126:E129))=\"\",\"\",INDEX('J_Preneseni ili inherentni CO2'!$M$54:$M$60,ROWS($A$126:E129))))","v":""},null,null,null,null,null,null,null,null,null,null,null,null,null,null,null,null,null,null,null,null,null,null,null,null,null,null,null,null,null,null,null,null,null,null,null,null,null,null,null,null,null,null,null,null,null,null,null,null,null,null,null,null,null,null,null,null,null,null,null,null,null,null,null,null,null,null,null,null,null,null,null,null,null,null,null,null,null,null,null,null,null,{"$f":"INDEX('J_Preneseni ili inherentni CO2'!$A$54:$A$64,ROWS($CI$126:CI129))=\"ausblenden\"","v":false}]
[null,{"$f":"'J_Preneseni ili inherentni CO2'!E58","v":"TR5"},{"$f":"IF($B130=\"\",\"\",IF(INDEX('J_Preneseni ili inherentni CO2'!$F$54:$F$60,ROWS($A$126:A130))=\"\",\"\",INDEX('J_Preneseni ili inherentni CO2'!$F$54:$F$60,ROWS($A$126:A130))))","v":""},{"$f":"IF($B130=\"\",\"\",IF(INDEX('J_Preneseni ili inherentni CO2'!$H$54:$H$60,ROWS($A$126:B130))=\"\",\"\",INDEX('J_Preneseni ili inherentni CO2'!$H$54:$H$60,ROWS($A$126:B130))))","v":""},{"$f":"IF($B130=\"\",\"\",IF(INDEX('J_Preneseni ili inherentni CO2'!$J$54:$J$60,ROWS($A$126:C130))=\"\",\"\",INDEX('J_Preneseni ili inherentni CO2'!$J$54:$J$60,ROWS($A$126:C130))))","v":""},{"$f":"IF($B130=\"\",\"\",IF(INDEX('J_Preneseni ili inherentni CO2'!$K$54:$K$60,ROWS($A$126:D130))=\"\",\"\",INDEX('J_Preneseni ili inherentni CO2'!$K$54:$K$60,ROWS($A$126:D130))))","v":""},{"$f":"IF($B130=\"\",\"\",IF(INDEX('J_Preneseni ili inherentni CO2'!$M$54:$M$60,ROWS($A$126:E130))=\"\",\"\",INDEX('J_Preneseni ili inherentni CO2'!$M$54:$M$60,ROWS($A$126:E130))))","v":""},null,null,null,null,null,null,null,null,null,null,null,null,null,null,null,null,null,null,null,null,null,null,null,null,null,null,null,null,null,null,null,null,null,null,null,null,null,null,null,null,null,null,null,null,null,null,null,null,null,null,null,null,null,null,null,null,null,null,null,null,null,null,null,null,null,null,null,null,null,null,null,null,null,null,null,null,null,null,null,null,null,{"$f":"INDEX('J_Preneseni ili inherentni CO2'!$A$54:$A$64,ROWS($CI$126:CI130))=\"ausblenden\"","v":false}]
[null,{"$f":"IF(OR(B130=\"\",CK131),\"\",'I_Određivanje PFC emisija'!D70)","v":""},{"$f":"IF($B131=\"\",\"\",IF(INDEX('J_Preneseni ili inherentni CO2'!$F$54:$F$60,ROWS($A$126:A131))=\"\",\"\",INDEX('J_Preneseni ili inherentni CO2'!$F$54:$F$60,ROWS($A$126:A131))))","v":""},{"$f":"IF($B131=\"\",\"\",IF(INDEX('J_Preneseni ili inherentni CO2'!$H$54:$H$60,ROWS($A$126:B131))=\"\",\"\",INDEX('J_Preneseni ili inherentni CO2'!$H$54:$H$60,ROWS($A$126:B131))))","v":""},{"$f":"IF($B131=\"\",\"\",IF(INDEX('J_Preneseni ili inherentni CO2'!$J$54:$J$60,ROWS($A$126:C131))=\"\",\"\",INDEX('J_Preneseni ili inherentni CO2'!$J$54:$J$60,ROWS($A$126:C131))))","v":""},{"$f":"IF($B131=\"\",\"\",IF(INDEX('J_Preneseni ili inherentni CO2'!$K$54:$K$60,ROWS($A$126:D131))=\"\",\"\",INDEX('J_Preneseni ili inherentni CO2'!$K$54:$K$60,ROWS($A$126:D131))))","v":""},{"$f":"IF($B131=\"\",\"\",IF(INDEX('J_Preneseni ili inherentni CO2'!$M$54:$M$60,ROWS($A$126:E131))=\"\",\"\",INDEX('J_Preneseni ili inherentni CO2'!$M$54:$M$60,ROWS($A$126:E131))))","v":""},null,null,null,null,null,null,null,null,null,null,null,null,null,null,null,null,null,null,null,null,null,null,null,null,null,null,null,null,null,null,null,null,null,null,null,null,null,null,null,null,null,null,null,null,null,null,null,null,null,null,null,null,null,null,null,null,null,null,null,null,null,null,null,null,null,null,null,null,null,null,null,null,null,null,null,null,null,null,null,null,null,{"$f":"INDEX('J_Preneseni ili inherentni CO2'!$A$54:$A$64,ROWS($CI$126:CI131))=\"ausblenden\"","v":true}]
[null,{"$f":"IF(OR(B131=\"\",CK132),\"\",'I_Određivanje PFC emisija'!D71)","v":""},{"$f":"IF($B132=\"\",\"\",IF(INDEX('J_Preneseni ili inherentni CO2'!$F$54:$F$60,ROWS($A$126:A132))=\"\",\"\",INDEX('J_Preneseni ili inherentni CO2'!$F$54:$F$60,ROWS($A$126:A132))))","v":""},{"$f":"IF($B132=\"\",\"\",IF(INDEX('J_Preneseni ili inherentni CO2'!$H$54:$H$60,ROWS($A$126:B132))=\"\",\"\",INDEX('J_Preneseni ili inherentni CO2'!$H$54:$H$60,ROWS($A$126:B132))))","v":""},{"$f":"IF($B132=\"\",\"\",IF(INDEX('J_Preneseni ili inherentni CO2'!$J$54:$J$60,ROWS($A$126:C132))=\"\",\"\",INDEX('J_Preneseni ili inherentni CO2'!$J$54:$J$60,ROWS($A$126:C132))))","v":""},{"$f":"IF($B132=\"\",\"\",IF(INDEX('J_Preneseni ili inherentni CO2'!$K$54:$K$60,ROWS($A$126:D132))=\"\",\"\",INDEX('J_Preneseni ili inherentni CO2'!$K$54:$K$60,ROWS($A$126:D132))))","v":""},{"$f":"IF($B132=\"\",\"\",IF(INDEX('J_Preneseni ili inherentni CO2'!$M$54:$M$60,ROWS($A$126:E132))=\"\",\"\",INDEX('J_Preneseni ili inherentni CO2'!$M$54:$M$60,ROWS($A$126:E132))))","v":""},null,null,null,null,null,null,null,null,null,null,null,null,null,null,null,null,null,null,null,null,null,null,null,null,null,null,null,null,null,null,null,null,null,null,null,null,null,null,null,null,null,null,null,null,null,null,null,null,null,null,null,null,null,null,null,null,null,null,null,null,null,null,null,null,null,null,null,null,null,null,null,null,null,null,null,null,null,null,null,null,null,{"$f":"INDEX('J_Preneseni ili inherentni CO2'!$A$54:$A$64,ROWS($CI$126:CI132))=\"ausblenden\"","v":false}]
[null,{"$f":"IF(OR(B132=\"\",CK133),\"\",'I_Određivanje PFC emisija'!D72)","v":""},{"$f":"IF($B133=\"\",\"\",IF(INDEX('J_Preneseni ili inherentni CO2'!$F$54:$F$60,ROWS($A$126:A133))=\"\",\"\",INDEX('J_Preneseni ili inherentni CO2'!$F$54:$F$60,ROWS($A$126:A133))))","v":""},{"$f":"IF($B133=\"\",\"\",IF(INDEX('J_Preneseni ili inherentni CO2'!$H$54:$H$60,ROWS($A$126:B133))=\"\",\"\",INDEX('J_Preneseni ili inherentni CO2'!$H$54:$H$60,ROWS($A$126:B133))))","v":""},{"$f":"IF($B133=\"\",\"\",IF(INDEX('J_Preneseni ili inherentni CO2'!$J$54:$J$60,ROWS($A$126:C133))=\"\",\"\",INDEX('J_Preneseni ili inherentni CO2'!$J$54:$J$60,ROWS($A$126:C133))))","v":""},{"$f":"IF($B133=\"\",\"\",IF(INDEX('J_Preneseni ili inherentni CO2'!$K$54:$K$60,ROWS($A$126:D133))=\"\",\"\",INDEX('J_Preneseni ili inherentni CO2'!$K$54:$K$60,ROWS($A$126:D133))))","v":""},{"$f":"IF($B133=\"\",\"\",IF(INDEX('J_Preneseni ili inherentni CO2'!$M$54:$M$60,ROWS($A$126:E133))=\"\",\"\",INDEX('J_Preneseni ili inherentni CO2'!$M$54:$M$60,ROWS($A$126:E133))))","v":""},null,null,null,null,null,null,null,null,null,null,null,null,null,null,null,null,null,null,null,null,null,null,null,null,null,null,null,null,null,null,null,null,null,null,null,null,null,null,null,null,null,null,null,null,null,null,null,null,null,null,null,null,null,null,null,null,null,null,null,null,null,null,null,null,null,null,null,null,null,null,null,null,null,null,null,null,null,null,null,null,null,{"$f":"INDEX('J_Preneseni ili inherentni CO2'!$A$54:$A$64,ROWS($CI$126:CI133))=\"ausblenden\"","v":false}]
[null,{"$f":"IF(OR(B133=\"\",CK134),\"\",'I_Određivanje PFC emisija'!D73)","v":""},{"$f":"IF($B134=\"\",\"\",IF(INDEX('J_Preneseni ili inherentni CO2'!$F$54:$F$60,ROWS($A$126:A134))=\"\",\"\",INDEX('J_Preneseni ili inherentni CO2'!$F$54:$F$60,ROWS($A$126:A134))))","v":""},{"$f":"IF($B134=\"\",\"\",IF(INDEX('J_Preneseni ili inherentni CO2'!$H$54:$H$60,ROWS($A$126:B134))=\"\",\"\",INDEX('J_Preneseni ili inherentni CO2'!$H$54:$H$60,ROWS($A$126:B134))))","v":""},{"$f":"IF($B134=\"\",\"\",IF(INDEX('J_Preneseni ili inherentni CO2'!$J$54:$J$60,ROWS($A$126:C134))=\"\",\"\",INDEX('J_Preneseni ili inherentni CO2'!$J$54:$J$60,ROWS($A$126:C134))))","v":""},{"$f":"IF($B134=\"\",\"\",IF(INDEX('J_Preneseni ili inherentni CO2'!$K$54:$K$60,ROWS($A$126:D134))=\"\",\"\",INDEX('J_Preneseni ili inherentni CO2'!$K$54:$K$60,ROWS($A$126:D134))))","v":""},{"$f":"IF($B134=\"\",\"\",IF(INDEX('J_Preneseni ili inherentni CO2'!$M$54:$M$60,ROWS($A$126:E134))=\"\",\"\",INDEX('J_Preneseni ili inherentni CO2'!$M$54:$M$60,ROWS($A$126:E134))))","v":""},null,null,null,null,null,null,null,null,null,null,null,null,null,null,null,null,null,null,null,null,null,null,null,null,null,null,null,null,null,null,null,null,null,null,null,null,null,null,null,null,null,null,null,null,null,null,null,null,null,null,null,null,null,null,null,null,null,null,null,null,null,null,null,null,null,null,null,null,null,null,null,null,null,null,null,null,null,null,null,null,null,{"$f":"INDEX('J_Preneseni ili inherentni CO2'!$A$54:$A$64,ROWS($CI$126:CI134))=\"ausblenden\"","v":false}]
[null,{"$f":"IF(OR(B134=\"\",CK135),\"\",'I_Određivanje PFC emisija'!D74)","v":""},{"$f":"IF($B135=\"\",\"\",IF(INDEX('J_Preneseni ili inherentni CO2'!$F$54:$F$60,ROWS($A$126:A135))=\"\",\"\",INDEX('J_Preneseni ili inherentni CO2'!$F$54:$F$60,ROWS($A$126:A135))))","v":""},{"$f":"IF($B135=\"\",\"\",IF(INDEX('J_Preneseni ili inherentni CO2'!$H$54:$H$60,ROWS($A$126:B135))=\"\",\"\",INDEX('J_Preneseni ili inherentni CO2'!$H$54:$H$60,ROWS($A$126:B135))))","v":""},{"$f":"IF($B135=\"\",\"\",IF(INDEX('J_Preneseni ili inherentni CO2'!$J$54:$J$60,ROWS($A$126:C135))=\"\",\"\",INDEX('J_Preneseni ili inherentni CO2'!$J$54:$J$60,ROWS($A$126:C135))))","v":""},{"$f":"IF($B135=\"\",\"\",IF(INDEX('J_Preneseni ili inherentni CO2'!$K$54:$K$60,ROWS($A$126:D135))=\"\",\"\",INDEX('J_Preneseni ili inherentni CO2'!$K$54:$K$60,ROWS($A$126:D135))))","v":""},{"$f":"IF($B135=\"\",\"\",IF(INDEX('J_Preneseni ili inherentni CO2'!$M$54:$M$60,ROWS($A$126:E135))=\"\",\"\",INDEX('J_Preneseni ili inherentni CO2'!$M$54:$M$60,ROWS($A$126:E135))))","v":""},null,null,null,null,null,null,null,null,null,null,null,null,null,null,null,null,null,null,null,null,null,null,null,null,null,null,null,null,null,null,null,null,null,null,null,null,null,null,null,null,null,null,null,null,null,null,null,null,null,null,null,null,null,null,null,null,null,null,null,null,null,null,null,null,null,null,null,null,null,null,null,null,null,null,null,null,null,null,null,null,null,{"$f":"INDEX('J_Preneseni ili inherentni CO2'!$A$54:$A$64,ROWS($CI$126:CI135))=\"ausblenden\"","v":false}]

{"sheet":"UBA_Parameters","index":16,"n_rows":31,"n_cols":11,"rows_kept":31,"cut":false,"hidden":true,"merged":[[2,5,2,8],[18,3,18,4],[20,3,20,4],[2,10,4,10],[2,3,2,4],[4,3,4,4],[2,9,4,9],[14,3,14,4],[16,3,16,4],[6,3,6,4],[2,1,4,1],[8,3,8,4],[10,3,10,4],[28,3,28,4],[12,3,12,4],[32,3,32,4],[22,3,22,4],[24,3,24,4],[26,3,26,4],[30,3,30,4]]}
["Please be aware that these parameters are used by the macros. Do NOT make any changes to this page!"]
[]
[null,"ID",null,"RefColumn",null,"HelpAreaColumn",null,null,null,"Anchor name","Further macros attached"]
[null,null,null,"ColumnStart","ColumnEnd","Column","Column","Column","Column"]
[null,null,"# of lines","# of lines",null,"# of lines","# of lines","# of lines","# of lines"]
[null,"AddEmissionSource",1,"E","E","T","V","W",null,"ADD_EmissionSource"]
[null,null,null,1,null,1,1,1]
[null,"AddEmissionPoint",1,"E","E","T","V","W",null,"ADD_EmissionPoint"]
[null,null,null,1,null,1,1,1]
[null,"AddMeasurementPoint",1,"E","E","T","V","W",null,"ADD_MeasurementPoint","ADD_CompleteMeasurementPoint"]
[null,null,null,1,null,1,1,1]
[null,"AddSourceStream",1,"E","E","T","V","W",null,"ADD_SourceStream","ADD_CompleteSourceStream"]
[null,null,null,1,null,1,1,1]
[null,"AddAluSourceStream",1,null,null,"S",null,null,null,"ADD_AluSourceStream","ADD_CompleteAluSourceStream"]
[null,null,null,null,null,1]
[null,"AddActivitiesExcluded",1,"A","A",null,null,null,null,"ADD_ActivitiesExcluded"]
[null,null,null,1]
[null,"AddMPVersion",1,"A","A",null,null,null,null,"ADD_MPVersion"]
[null,null,null,1]
[null,"AddInformationSources",1,"E","E","T","V","W",null,"ADD_InformationSources"]
[null,null,null,1,null,1,1,1]
[null,"AddLaboratories",1,"E","E","T","V","W",null,"ADD_Laboratories"]
[null,null,null,1,null,1,1,1]
[null,"AddMeasuringInstrSheetD",2,"E","E","R","S","T","V","ADD_MeasurementInstrument"]
[null,null,null,2,null,1,2,2,1]
[null,"AddMeasuringInstrSheetF",2,"C","D","R","S","T","V","ADD_MeasurementInstrument"]
[null,null,null,2,null,1,2,2,1]
[null,"AddTransferCO2Installations",1,"E","E",null,null,null,null,"ADD_TransferCO2Installations"]
[null,null,null,1]
[null,"AddPipelineDevices",1,"E","E",null,null,null,null,"ADD_PipelineDevice"]
[null,null,null,1]

{"sheet":"MSParameters","index":17,"n_rows":2,"n_cols":2,"rows_kept":2,"cut":false,"hidden":true,"merged":[]}
[]
[null,"MS are free to use this sheet"]

{"sheet":"EUwideConstants","index":18,"n_rows":823,"n_cols":44,"rows_kept":823,"cut":false,"hidden":true,"merged":[[228,4,228,8]]}
[]
["EUconst_TrueFalse",true,false]
["EUconst_Fuel",{"$f":"Translations!$B$441","v":"Standardna metoda: Gorivo, članak 24. stavak 1.Uredbe"}]
["EUconst_ProcessCarbonate",{"$f":"Translations!$B$783","v":"Standardna metoda: Proces, članak 24. stavak 2."}]
["EUconst_MassBalance",{"$f":"Translations!$B$784","v":"Metoda masene bilance, članak 25."}]
["EUconst_CNTR_ActivityData","ActivityData_"]
["EUconst_CNTR_NCV","NCV_"]
["EUconst_CNTR_EF","EF_"]
["EUconst_CNTR_CarbonContent","CarbC_"]
["EUconst_CNTR_BiomassContent","BioC_"]
["EUconst_CNTR_OxidationFactor","OxF_"]
["EUconst_CNTR_ConversionFactor","ConvF_"]
["EUconst_CNTR_SourceCategory","SourceCategory_"]
["EUconst_CNTR_SourceStreamName","SourceStreamName_"]
["EUconst_CNTR_SourceStreamClass","SourceStreamClass_"]
["EUconst_CNTR_SmallEmitter","SmallEmitter_"]
["EUconst_CNTR_NoSmallEmitter","NoSmallEmitter_"]
["EUconst_CNTR_CEMS","CEMS_"]
["EUconst_MsgNextSheet",{"$f":"Translations!$B$785","v":"<<< Pritisnite ovdje kako bi prešli na slijedeći list >>> "}]
["EUconst_SourceStream",{"$f":"Translations!$B$786","v":"Tok izvora"}]
["EUconst_MeasurementPoint",{"$f":"Translations!$B$787","v":"Točka mjerenja"}]
["EUconst_OwnerInstrument",{"$f":"Translations!$B$149","v":"Operater"},{"$f":"Translations!$B$788","v":"Trgovinski partner"}]
["EUconst_ActivityDeterminationMethod",{"$f":"Translations!$B$789","v":"Šarža"},{"$f":"Translations!$B$457","v":"Kontinuirano mjerenje"}]
["EUconst_FurtherGuidancePoint1",{"$f":"Translations!$B$790","v":"Detaljne upute za unos podatka u ovaj alat mogu se pronaći na početku ovog poglavlja. "}]
["EUconst_NA",{"$f":"Translations!$B$530","v":"nije primjenjivo"}]
["EUconst_Relevant",{"$f":"Translations!$B$791","v":"relevantno"}]
["EUconst_NotRelevant",{"$f":"Translations!$B$792","v":"nije relevantno"}]
["EUconst_NotApplicable",{"$f":"Translations!$B$793","v":"nije primjenjivo!"}]
["EUconst_MsgTierActivityLevel",{"$f":"Translations!$B$794","v":"Nesigurnost ne bi trebala biti veća od"}]
["EUconst_MsgTierCKD",{"$f":"Translations!$B$795","v":"(nije primjenjivo; koristite procjenu temeljenu na najboljoj praksi)"}]
["EUconst_MsgNextSheet",{"$f":"Translations!$B$785","v":"<<< Pritisnite ovdje kako bi prešli na slijedeći list >>> "}]
["EUconst_MsgEnterThisSection",{"$f":"Translations!$B$796","v":"Molimo unesite podatke u ovo polje"}]
["EUconst_MsgGoOn",{"$f":"Translations!$B$797","v":"Molimo idite na sljedeće točke navedene dolje"}]
["EUconst_MsgSmallEmitters",{"$f":"Translations!$B$798","v":"Molimo obrazložite zašto povijesni podaci nisu dostupni ili su neadekvatni"}]
["EUconst_NoTier",{"$f":"Translations!$B$799","v":"Bez razine"}]
["EUconst_ERR_NoN2OSmallEmitters",{"$f":"Translations!$B$800","v":"Ovo pravilo nije primjenjivo na postrojenja s aktivnostima vezanim uz N2O!"}]
["EUconst_ERR_ThreshholdDeminimis",{"$f":"Translations!$B$801","v":"De-minimis prag je prekoračen!"}]
["EUconst_ERR_ThreshholdMinor",{"$f":"Translations!$B$802","v":"Manji prag je prekoračen!"}]
["EUconst_ERR_CheckEstimatedEmissions",{"$f":"Translations!$B$803","v":"Zbroj nije u 5% godišnjih emisija (poglavlje 6.c)!"}]
["Euconst_VersionTracking",{"$f":"Translations!$B$804","v":"Koristi isključivo Nadležno tijelo"},{"$f":"Translations!$B$805","v":"Ispunjava operater"}]
["EUconst_MSlist",{"$f":"Translations!$B$806","v":"Austrija"},{"$f":"Translations!$B$807","v":"Belgija"},{"$f":"Translations!$B$808","v":"Bugarska"},{"$f":"Translations!$B$809","v":"Hrvatska"},{"$f":"Translations!$B$810","v":"Cipar"},{"$f":"Translations!$B$811","v":"Republika Češka"},{"$f":"Translations!$B$812","v":"Danska"},{"$f":"Translations!$B$813","v":"Estonija"},{"$f":"Translations!$B$814","v":"Finland"},{"$f":"Translations!$B$815","v":"Francuska"},{"$f":"Translations!$B$816","v":"Njemačka"},{"$f":"Translations!$B$817","v":"Grčka"},{"$f":"Translations!$B$818","v":"Mađarska"},{"$f":"Translations!$B$819","v":"Island"},{"$f":"Translations!$B$820","v":"Irska"},{"$f":"Translations!$B$821","v":"Italija"},{"$f":"Translations!$B$822","v":"Latvija"},{"$f":"Translations!$B$823","v":"Lihtenštajn"},{"$f":"Translations!$B$824","v":"Litva"},{"$f":"Translations!$B$825","v":"Luksemburg"},{"$f":"Translations!$B$826","v":"Malta"},{"$f":"Translations!$B$827","v":"Nizozemska"},{"$f":"Translations!$B$828","v":"Norveška"},{"$f":"Translations!$B$829","v":"Poljska"},{"$f":"Translations!$B$830","v":"Portugal"},{"$f":"Translations!$B$831","v":"Rumunjska"},{"$f":"Translations!$B$832","v":"Slovačka"},{"$f":"Translations!$B$833","v":"Slovenija"},{"$f":"Translations!$B$834","v":"Španjolska"},{"$f":"Translations!$B$835","v":"Švedska"},{"$f":"Translations!$B$836","v":"Ujedinjeno kraljevstvo"}]
["EUconst_MSlistISOcodes","AT","BE","BG","HR","CY","CZ","DK","EE","FI","FR","DE","EL","HU","IS","IE","IT","LV","LI","LT","LU","MT","NL","NO","PL","PT","RO","SK","SI","ES","SE","UK"]
["Euconst_MPReferenceDateTypes",{"$f":"Translations!$B$140","v":"Podneseno nadležnom tijelu"},{"$f":"Translations!$B$145","v":"Odobreno od Zavoda za zaštitu okoliša i prirode "},{"$f":"Translations!$B$837","v":"odbijeno od strane nadležnog tijela"},{"$f":"Translations!$B$142","v":"Vraćeno s primjedbama"},{"$f":"Translations!$B$838","v":"radna verzija"}]
["EUConst_RelSectionCalc",{"$f":"Translations!$B$839","v":"Odgovarajuće sekcije: 6 (osim d), 7, 8"}]
["EUConst_RelSectionMeasure",{"$f":"Translations!$B$840","v":"Odgovarajuće sekcije: 6 (osim e), 9, 10, 11"}]
["EUConst_RelSectionFallback",{"$f":"Translations!$B$841","v":"Odgovarajuće sekcije: 12"}]
["EUConst_RelSectionN2O",{"$f":"Translations!$B$842","v":"Odgovarajuće sekcije: 6 (osim e), 9, 10, 11, 13"}]
["EUConst_RelSectionPFC",{"$f":"Translations!$B$843","v":"Odgovarajuće sekcije: 6 (osim d), 7, 14, 15, 16"}]
["EUConst_RelSectionCCS","Relevant sections: sheet J (other sections as selected above)"]
["EUConst_RelSectionCCU","Relevant sections: sheet J2 (other sections as selected above)"]
["EUconst_CEMSType","CO2","N2O",{"$f":"Translations!$B$845","v":"prijenos CO2 "},{"$f":"Translations!$B$1241","v":"Prijenos N2O"}]
["EUconst_ProcessPFC",{"$f":"Translations!$B$846","v":"Izračun sa specijalnim odredbama za PFC (Prilog IV, poglavlje 8.)"}]
["EUconst_CO2TransferTypes",{"$f":"Translations!$B$847","v":"Primanje inherentnog CO2"},{"$f":"Translations!$B$848","v":"Izvoz inherentnog CO2 u ETS postrojenje"},{"$f":"Translations!$B$849","v":"Izvoz inherentnog CO2 u postrojenje koje nije u  ETS-u "},{"$f":"Translations!$B$850","v":"Primanje prenesenog CO2"},{"$f":"Translations!$B$851","v":"Izvoz prenesenog CO2"},{"$f":"Translations!$B$1243","v":"Primanje prenesenog N2O"},{"$f":"Translations!$B$1244","v":"Izvoz prenesenog N2O"}]
["EUconst_TransCO2Approach",{"$f":"Translations!$B$852","v":"Korištenje vlastitih instrumenata"},{"$f":"Translations!$B$853","v":"Korištenje instrumenata drugih postrojenja"},{"$f":"Translations!$B$854","v":"Korištenje instrumenata oba partnera"}]
["EUconst_TransportApproaches",{"$f":"Translations!$B$855","v":"Metoda A"},{"$f":"Translations!$B$856","v":"Metoda B"}]
["EUconst_IRMonth",{"$f":"EUconst_NA","v":"nije primjenjivo"},{"$f":"Translations!$B$1245","v":"Lipanj"},{"$f":"Translations!$B$1246","v":"Srpanj"},{"$f":"Translations!$B$1247","v":"Kolovoz"},{"$f":"Translations!$B$1248","v":"Rujan"}]
[]
[]
[]
[{"$f":"Translations!$B$857","v":"Prilog I Aktivnosti"}]
[{"$f":"Translations!$B1307","v":"Izgaranje goriva "}]
[{"$f":"Translations!$B$1274","v":"Spaljivanje komunalnog otpada"}]
[{"$f":"Translations!$B1308","v":"Rafiniranje mineralnih ulja "}]
[{"$f":"Translations!$B1309","v":"Proizvodnja koksa"}]
[{"$f":"Translations!$B1310","v":"Pečenje i sinteriranje metalnih ruda"}]
[{"$f":"Translations!$B1311","v":"Proizvodnja željeza ili čelika"}]
[{"$f":"Translations!$B1312","v":"Proizvodnja ili prerada obojenih metala"}]
[{"$f":"Translations!$B1313","v":"Proizvodnja primarnog aluminija"}]
[{"$f":"Translations!$B1314","v":"Proizvodnja sekundarnog aluminija"}]
[{"$f":"Translations!$B1315","v":"Proizvodnja ili prerada neobojenih metala"}]
[{"$f":"Translations!$B1316","v":"Proizvodnja cementnog klinkera"}]
[{"$f":"Translations!$B1317","v":"Proizvodnja vapna ili kalcinacija dolomita/magnezita"}]
[{"$f":"Translations!$B1318","v":"Proizvodnja stakla"}]
[{"$f":"Translations!$B1319","v":"Proizvodnja keramike"}]
[{"$f":"Translations!$B1320","v":"Proizvodnja mineralne vune"}]
[{"$f":"Translations!$B1321","v":"Proizvodnja ili obrada gipsa ili gipsanih ploča"}]
[{"$f":"Translations!$B1322","v":"Proizvodnja celuloze"}]
[{"$f":"Translations!$B1323","v":"Proizvodnja papira ili kartona"}]
[{"$f":"Translations!$B1324","v":"Proizvodnja čađe "}]
[{"$f":"Translations!$B1325","v":"Proizvodnja dušične kiseline"}]
[{"$f":"Translations!$B1326","v":"Proizvodnja adipinske kiseline"}]
[{"$f":"Translations!$B1327","v":"Proizvodnja glioksala i glioksilne kiseline"}]
[{"$f":"Translations!$B1328","v":"Proizvodnja amonijaka"}]
[{"$f":"Translations!$B1329","v":"Proizvodnja kemikalija na veliko "}]
[{"$f":"Translations!$B1330","v":"Proizvodnja vodika i sintetskog plina"}]
[{"$f":"Translations!$B1331","v":"Proizvodnja natrij karbonata i natrij-bikarbonata"}]
[{"$f":"Translations!$B1332","v":"Hvatanje stakleničkih plinova prema Direktivi 2009/31/EC"}]
[{"$f":"Translations!$B1333","v":"Transport stakleničkih plinova prema Direktivi 2009/31/EC"}]
[{"$f":"Translations!$B1334","v":"Skladištenje stakleničkih plinova prema Direktivi 2009/31/EC"}]
[]
[{"$f":"Translations!$B$884","v":"Određene emisije 2 "}]
["CO2"]
["N2O"]
[{"$f":"Translations!$B$885","v":"PFCi"}]
[{"$f":"Translations!$B$886","v":"CO2 & N2O"}]
[{"$f":"Translations!$B$887","v":"CO2 & PFCi"}]
[]
[{"$f":"Translations!$B$888","v":"IzvorKategorija"}]
[{"$f":"Translations!$B$313","v":"Glavni"}]
[{"$f":"Translations!$B$889","v":"Manji"}]
[{"$f":"Translations!$B$890","v":"De-minimis"}]
[]
[{"$f":"Translations!$B$891","v":"IzvorKategorijaCEMS"}]
[{"$f":"Translations!$B$313","v":"Glavni"}]
[{"$f":"Translations!$B$889","v":"Manji"}]
[]
[]
[{"$f":"Translations!$B$892","v":"AnalizaUčestalost"}]
[{"$f":"Translations!$B$893","v":"Kontinuirano"}]
[{"$f":"Translations!$B$894","v":"Dnevno"}]
[{"$f":"Translations!$B$542","v":"Tjedno"}]
[{"$f":"Translations!$B$895","v":"Mjesečno"}]
[{"$f":"Translations!$B$896","v":"Kvartalno"}]
[{"$f":"Translations!$B$897","v":"Svake dvije godine"}]
[{"$f":"Translations!$B$898","v":"Godišnje"}]
[]
[]
[{"$f":"Translations!$B$899","v":"Način rada"}]
[{"$f":"Translations!$B$900","v":"Redovni rad"}]
[{"$f":"Translations!$B$901","v":"Izvanredni rad"}]
[{"$f":"Translations!$B$584","v":"Redovni i izvanredni rad"}]
[]
[{"$f":"Translations!$B$902","v":"PFCMetode"}]
[{"$f":"Translations!$B$903","v":"Metoda A - Metoda Nagiba"}]
[{"$f":"Translations!$B$904","v":"Metoda B - Metoda Prenapona"}]
[]
[{"$f":"Translations!$B$905","v":"PFCVrsteĆelija"}]
[{"$f":"Translations!$B$906","v":"Pretpečene anode s centralnim doziranjem (CWPB)"}]
[{"$f":"Translations!$B$907","v":"Søderbergove anode s vertikalnim klinovima (VSS)"}]
[{"$f":"Translations!$B$908","v":"Pretpečene anode s postraničnim doziranjem (SWPB)"}]
[{"$f":"Translations!$B$909","v":"Søderbergove anode s horizontalnim klinovima(HSS)"}]
[]
[{"$f":"Translations!$B$910","v":"Mjerni uređaji"}]
[{"$f":"Translations!$B$366","v":"Rotametar"}]
[{"$f":"Translations!$B$911","v":"Turbinsko mjerilo"}]
[{"$f":"Translations!$B$912","v":"Plinomjer s mjernim komorama (Bellows)"}]
[{"$f":"Translations!$B$913","v":"Mjerna prigušnica  (Orifice)"}]
[{"$f":"Translations!$B$914","v":"Venturijeva cijev"}]
[{"$f":"Translations!$B$915","v":"Ultrazvučni mjerač"}]
[{"$f":"Translations!$B$916","v":"Vrtložni mjerač"}]
[{"$f":"Translations!$B$917","v":"Coriolisov mjerač "}]
[{"$f":"Translations!$B$918","v":"Volumetar s ovalnim zupčanicima (Ovalrad)"}]
[{"$f":"Translations!$B$919","v":"Instrument za elektroničku pretvorbu volumena  (EVCI)"}]
[{"$f":"Translations!$B$920","v":"Plinski kromatograf"}]
[{"$f":"Translations!$B$367","v":"Kolna vaga"}]
[{"$f":"Translations!$B$921","v":"Tračna vaga"}]
[]
[]
["InformationSources"]
[{"$f":"Translations!$B$1249","v":"Uredba o praćenju i izvješćivanju, Prilog VI."}]
[{"$f":"Translations!$B$1250","v":"Nacionalni inventar"}]
[]
[]
[{"$f":"Translations!$B$922","v":"Razina točnosti Mjerenja"}]
[1]
[2]
[3]
[4]
[]
[{"$f":"Translations!$B$923","v":"PFCRazine točnosti"}]
[1]
[2]
[]
[{"$f":"Translations!$B$924","v":"RazineTočnostiBiomase"}]
[1]
[2]
["3a"]
["3b"]
[{"$f":"EUconst_NoTier","v":"Bez razine"}]
[{"$f":"EUconst_NA","v":"nije primjenjivo"}]
[]
[{"$f":"Translations!$B$925","v":"RazineTočnostiFaktoraProračuna"}]
[1]
[2]
[{"$f":"EUconst_NoTier","v":"Bez razine"}]
[{"$f":"EUconst_NA","v":"nije primjenjivo"}]
[]
[{"$f":"Translations!$B$926","v":"RazineTočnosti Podataka o Djelatnostima"}]
[1]
[2]
[3]
[4]
[{"$f":"EUconst_NoTier","v":"Bez razine"}]
[{"$f":"EUconst_NA","v":"nije primjenjivo"}]
[]
[{"$f":"Translations!$B$927","v":"DOVRazineTočnosti"}]
[1]
["2a"]
[{"$f":"Translations!$B$928","v":"2b"}]
[3]
[{"$f":"EUconst_NoTier","v":"Bez razine"}]
[{"$f":"EUconst_NA","v":"nije primjenjivo"}]
[]
[{"$f":"Translations!$B$929","v":"EFRazineTočnosti"}]
[1]
[2]
["2a"]
[{"$f":"Translations!$B$928","v":"2b"}]
[3]
[{"$f":"EUconst_NoTier","v":"Bez razine"}]
[{"$f":"EUconst_NA","v":"nije primjenjivo"}]
[]
[{"$f":"Translations!$B$930","v":"RazineTočnostiSadržajaUgljika "}]
[1]
["2a"]
[{"$f":"Translations!$B$928","v":"2b"}]
[3]
[{"$f":"EUconst_NoTier","v":"Bez razine"}]
[{"$f":"EUconst_NA","v":"nije primjenjivo"}]
[]
["NCVUnits"]
[{"$f":"Translations!$B$1251","v":"GJ/t"}]
[{"$f":"Translations!$B$1252","v":"GJ/1000Nm³"}]
[]
[]
["EFUnits"]
[{"$f":"Translations!$B$1253","v":"tCO2/TJ"}]
[{"$f":"Translations!$B$1254","v":"tCO2/t"}]
[{"$f":"Translations!$B$1255","v":"tCO2/1000Nm³"}]
[]
[]
["PctUnits"]
["%"]
[]
[]
[]
[]
[]
[null,{"$f":"Translations!$B$931","v":"Prilog I Uredbe"},"Directive Annex I (short)",null,"Source Stream Types",null,null,null,null,null,null,{"$f":"Translations!$B$212","v":"Emitirani staklenički plinovi"},null,null,"RowIndex"]
[1,{"$f":"IF(LEN(Translations!$B$933)>250,LEFT(Translations!$B$933,250),Translations!$B$933)","v":"Izgaranje goriva u postrojenjima s ukupnom toplinskom snagom većom od 20 MW (osim u postrojenjima za spaljivanje opasnog ili komunalnog otpada)"},{"$f":"INDEX(AnnexIActivities,A230)","v":"Izgaranje goriva "},null,null,null,null,null,null,null,null,"CO2"]
[{"$f":"A230+1","v":2},{"$f":"IF(LEN(Translations!$B$933)>250,LEFT(Translations!$B$933,250),Translations!$B$933)","v":"Izgaranje goriva u postrojenjima s ukupnom toplinskom snagom većom od 20 MW (osim u postrojenjima za spaljivanje opasnog ili komunalnog otpada)"},{"$f":"INDEX(AnnexIActivities,A231)","v":"Spaljivanje komunalnog otpada"},null,null,null,null,null,null,null,null,"CO2",null,null,{"$f":"IFERROR(MATCH(C231,$B$265:$B$325,0),\"\")","v":""}]
[{"$f":"A231+1","v":3},{"$f":"Translations!$B$858","v":"Rafiniranje mineralnog ulja "},"Rafiniranje mineralnih ulja ",null,{"$f":"IFERROR(IF(INDEX($B$265:$B$334,$O232+COLUMNS($E229:E229)-1)<>$C232,\"\",INDEX(EUConst_TierActivityListNames,$O232+COLUMNS($E229:E229)-1)),\"\")","v":"Rafinerije: Bilanca mase"},{"$f":"IFERROR(IF(INDEX($B$265:$B$334,$O232+COLUMNS($E229:F229)-1)<>$C232,\"\",INDEX(EUConst_TierActivityListNames,$O232+COLUMNS($E229:F229)-1)),\"\")","v":""},{"$f":"IFERROR(IF(INDEX($B$265:$B$334,$O232+COLUMNS($E229:G229)-1)<>$C232,\"\",INDEX(EUConst_TierActivityListNames,$O232+COLUMNS($E229:G229)-1)),\"\")","v":""},{"$f":"IFERROR(IF(INDEX($B$265:$B$334,$O232+COLUMNS($E229:H229)-1)<>$C232,\"\",INDEX(EUConst_TierActivityListNames,$O232+COLUMNS($E229:H229)-1)),\"\")","v":""},{"$f":"IFERROR(IF(INDEX($B$265:$B$334,$O232+COLUMNS($E229:I229)-1)<>$C232,\"\",INDEX(EUConst_TierActivityListNames,$O232+COLUMNS($E229:I229)-1)),\"\")","v":""},{"$f":"IFERROR(IF(INDEX($B$265:$B$334,$O232+COLUMNS($E229:J229)-1)<>$C232,\"\",INDEX(EUConst_TierActivityListNames,$O232+COLUMNS($E229:J229)-1)),\"\")","v":""},{"$f":"IFERROR(IF(INDEX($B$265:$B$334,$O232+COLUMNS($E229:K229)-1)<>$C232,\"\",INDEX(EUConst_TierActivityListNames,$O232+COLUMNS($E229:K229)-1)),\"\")","v":""},"CO2",null,null,{"$f":"IFERROR(MATCH(C232,$B$265:$B$334,0),\"\")","v":10}]
[{"$f":"A232+1","v":4},{"$f":"Translations!$B$859","v":"Proizvodnja koksa"},"Proizvodnja koksa",null,{"$f":"IFERROR(IF(INDEX($B$265:$B$334,$O233+COLUMNS($E230:E230)-1)<>$C233,\"\",INDEX(EUConst_TierActivityListNames,$O233+COLUMNS($E230:E230)-1)),\"\")","v":"Koks: Gorivo koje se koristi kao ulazni materijal procesa"},{"$f":"IFERROR(IF(INDEX($B$265:$B$334,$O233+COLUMNS($E230:F230)-1)<>$C233,\"\",INDEX(EUConst_TierActivityListNames,$O233+COLUMNS($E230:F230)-1)),\"\")","v":"Koks: Proces (metoda A): samo karbonat"},{"$f":"IFERROR(IF(INDEX($B$265:$B$334,$O233+COLUMNS($E230:G230)-1)<>$C233,\"\",INDEX(EUConst_TierActivityListNames,$O233+COLUMNS($E230:G230)-1)),\"\")","v":"Koks: Proces (metoda A): miješani (karbonat + nekarbonat)"},{"$f":"IFERROR(IF(INDEX($B$265:$B$334,$O233+COLUMNS($E230:H230)-1)<>$C233,\"\",INDEX(EUConst_TierActivityListNames,$O233+COLUMNS($E230:H230)-1)),\"\")","v":"Koks: Proces (metoda A): nekarbonat"},{"$f":"IFERROR(IF(INDEX($B$265:$B$334,$O233+COLUMNS($E230:I230)-1)<>$C233,\"\",INDEX(EUConst_TierActivityListNames,$O233+COLUMNS($E230:I230)-1)),\"\")","v":"Koks: Proces (metoda B): izlaz oksida"},{"$f":"IFERROR(IF(INDEX($B$265:$B$334,$O233+COLUMNS($E230:J230)-1)<>$C233,\"\",INDEX(EUConst_TierActivityListNames,$O233+COLUMNS($E230:J230)-1)),\"\")","v":"Koks: Bilanca mase"},{"$f":"IFERROR(IF(INDEX($B$265:$B$334,$O233+COLUMNS($E230:K230)-1)<>$C233,\"\",INDEX(EUConst_TierActivityListNames,$O233+COLUMNS($E230:K230)-1)),\"\")","v":""},"CO2",null,null,{"$f":"IFERROR(MATCH(C233,$B$265:$B$334,0),\"\")","v":13}]
[{"$f":"A233+1","v":5},{"$f":"IF(LEN(Translations!$B$934)>250,LEFT(Translations!$B$934,250),Translations!$B$934)","v":"Metalne rude (uključujući sulfidne rude) prženje ili sinteriranje, uključujući peletiranje"},"Pečenje i sinteriranje metalnih ruda",null,{"$f":"IFERROR(IF(INDEX($B$265:$B$334,$O234+COLUMNS($E231:E231)-1)<>$C234,\"\",INDEX(EUConst_TierActivityListNames,$O234+COLUMNS($E231:E231)-1)),\"\")","v":"Metalne rude: Proces (metoda A): samo karbonat"},{"$f":"IFERROR(IF(INDEX($B$265:$B$334,$O234+COLUMNS($E231:F231)-1)<>$C234,\"\",INDEX(EUConst_TierActivityListNames,$O234+COLUMNS($E231:F231)-1)),\"\")","v":"Metalne rude: Proces (metoda A): miješani (karbonat + nekarbonat)"},{"$f":"IFERROR(IF(INDEX($B$265:$B$334,$O234+COLUMNS($E231:G231)-1)<>$C234,\"\",INDEX(EUConst_TierActivityListNames,$O234+COLUMNS($E231:G231)-1)),\"\")","v":"Metalne rude: Proces (metoda A): nekarbonat"},{"$f":"IFERROR(IF(INDEX($B$265:$B$334,$O234+COLUMNS($E231:H231)-1)<>$C234,\"\",INDEX(EUConst_TierActivityListNames,$O234+COLUMNS($E231:H231)-1)),\"\")","v":"Metalne rude: Proces (metoda B): izlaz oksida"},{"$f":"IFERROR(IF(INDEX($B$265:$B$334,$O234+COLUMNS($E231:I231)-1)<>$C234,\"\",INDEX(EUConst_TierActivityListNames,$O234+COLUMNS($E231:I231)-1)),\"\")","v":"Metalne rude: Bilanca mase"},{"$f":"IFERROR(IF(INDEX($B$265:$B$334,$O234+COLUMNS($E231:J231)-1)<>$C234,\"\",INDEX(EUConst_TierActivityListNames,$O234+COLUMNS($E231:J231)-1)),\"\")","v":""},{"$f":"IFERROR(IF(INDEX($B$265:$B$334,$O234+COLUMNS($E231:K231)-1)<>$C234,\"\",INDEX(EUConst_TierActivityListNames,$O234+COLUMNS($E231:K231)-1)),\"\")","v":""},"CO2",null,null,19]
[6,{"$f":"IF(LEN(Translations!$B$935)>250,LEFT(Translations!$B$935,250),Translations!$B$935)","v":"Proizvodnja sirovog željeza ili čelika (primarno ili sekundarno taljenje) uključujući kontinuirano lijevanje, kapaciteta iznad 2,5 tona na sat"},"Proizvodnja željeza ili čelika",null,{"$f":"IFERROR(IF(INDEX($B$265:$B$334,$O235+COLUMNS($E232:E232)-1)<>$C235,\"\",INDEX(EUConst_TierActivityListNames,$O235+COLUMNS($E232:E232)-1)),\"\")","v":"Željezo i čelik: Gorivo koje se koristi kao ulazni materijal procesa"},{"$f":"IFERROR(IF(INDEX($B$265:$B$334,$O235+COLUMNS($E232:F232)-1)<>$C235,\"\",INDEX(EUConst_TierActivityListNames,$O235+COLUMNS($E232:F232)-1)),\"\")","v":"Željezo i čelik: Proces (metoda A): samo karbonat"},{"$f":"IFERROR(IF(INDEX($B$265:$B$334,$O235+COLUMNS($E232:G232)-1)<>$C235,\"\",INDEX(EUConst_TierActivityListNames,$O235+COLUMNS($E232:G232)-1)),\"\")","v":"Željezo i čelik: Proces (metoda A): miješani (karbonat + nekarbonat)"},{"$f":"IFERROR(IF(INDEX($B$265:$B$334,$O235+COLUMNS($E232:H232)-1)<>$C235,\"\",INDEX(EUConst_TierActivityListNames,$O235+COLUMNS($E232:H232)-1)),\"\")","v":"Željezo i čelik: Proces (metoda A): nekarbonat"},{"$f":"IFERROR(IF(INDEX($B$265:$B$334,$O235+COLUMNS($E232:I232)-1)<>$C235,\"\",INDEX(EUConst_TierActivityListNames,$O235+COLUMNS($E232:I232)-1)),\"\")","v":"Željezo i čelik: Proces (metoda B): izlaz oksida"},{"$f":"IFERROR(IF(INDEX($B$265:$B$334,$O235+COLUMNS($E232:J232)-1)<>$C235,\"\",INDEX(EUConst_TierActivityListNames,$O235+COLUMNS($E232:J232)-1)),\"\")","v":"Željezo i čelik: Bilanca mase"},{"$f":"IFERROR(IF(INDEX($B$265:$B$334,$O235+COLUMNS($E232:K232)-1)<>$C235,\"\",INDEX(EUConst_TierActivityListNames,$O235+COLUMNS($E232:K232)-1)),\"\")","v":""},"CO2",null,null,24]
[7,{"$f":"IF(LEN(Translations!$B$936)>250,LEFT(Translations!$B$936,250),Translations!$B$936)","v":"Proizvodnja ili obrada neobojenih metala (uključujući željezne legure) u slučaju da se koriste jedinice za izgaranje ukupne nazivne ulazne toplinske snage iznad 20 MW. Obrada između ostaloga uključuje valjaonice, jedinice za predgrijavanje, peći za ž"},"Proizvodnja ili prerada obojenih metala",null,{"$f":"IFERROR(IF(INDEX($B$265:$B$334,$O236+COLUMNS($E233:E233)-1)<>$C236,\"\",INDEX(EUConst_TierActivityListNames,$O236+COLUMNS($E233:E233)-1)),\"\")","v":"Neobojeni, sek. aluminij: Proces (metoda A): samo karbonat"},{"$f":"IFERROR(IF(INDEX($B$265:$B$334,$O236+COLUMNS($E233:F233)-1)<>$C236,\"\",INDEX(EUConst_TierActivityListNames,$O236+COLUMNS($E233:F233)-1)),\"\")","v":"Neobojeni, sek. aluminij: Proces (metoda A): miješani (karbonat + nekarbonat)"},{"$f":"IFERROR(IF(INDEX($B$265:$B$334,$O236+COLUMNS($E233:G233)-1)<>$C236,\"\",INDEX(EUConst_TierActivityListNames,$O236+COLUMNS($E233:G233)-1)),\"\")","v":"Neobojeni, sek. aluminij: Proces (metoda A): nekarbonat"},{"$f":"IFERROR(IF(INDEX($B$265:$B$334,$O236+COLUMNS($E233:H233)-1)<>$C236,\"\",INDEX(EUConst_TierActivityListNames,$O236+COLUMNS($E233:H233)-1)),\"\")","v":"Neobojeni, sek. aluminij: Proces (metoda B): izlaz oksida"},{"$f":"IFERROR(IF(INDEX($B$265:$B$334,$O236+COLUMNS($E233:I233)-1)<>$C236,\"\",INDEX(EUConst_TierActivityListNames,$O236+COLUMNS($E233:I233)-1)),\"\")","v":"Neobojeni, sek. aluminij: Metodologija masene bilance"},{"$f":"IFERROR(IF(INDEX($B$265:$B$334,$O236+COLUMNS($E233:J233)-1)<>$C236,\"\",INDEX(EUConst_TierActivityListNames,$O236+COLUMNS($E233:J233)-1)),\"\")","v":""},{"$f":"IFERROR(IF(INDEX($B$265:$B$334,$O236+COLUMNS($E233:K233)-1)<>$C236,\"\",INDEX(EUConst_TierActivityListNames,$O236+COLUMNS($E233:K233)-1)),\"\")","v":""},"CO2",null,null,53]
[8,{"$f":"Translations!$B$863","v":"Proizvodnja primarnog aluminija"},"Proizvodnja primarnog aluminija",null,{"$f":"IFERROR(IF(INDEX($B$265:$B$334,$O237+COLUMNS($E234:E234)-1)<>$C237,\"\",INDEX(EUConst_TierActivityListNames,$O237+COLUMNS($E234:E234)-1)),\"\")","v":"Primarni aluminij: Metodologija masene bilance"},{"$f":"IFERROR(IF(INDEX($B$265:$B$334,$O237+COLUMNS($E234:F234)-1)<>$C237,\"\",INDEX(EUConst_TierActivityListNames,$O237+COLUMNS($E234:F234)-1)),\"\")","v":"Primarni aluminij: Emisije PFC (Metoda nagiba)"},{"$f":"IFERROR(IF(INDEX($B$265:$B$334,$O237+COLUMNS($E234:G234)-1)<>$C237,\"\",INDEX(EUConst_TierActivityListNames,$O237+COLUMNS($E234:G234)-1)),\"\")","v":"Primarni aluminij: Emisije PFC (prenaponska metoda)"},{"$f":"IFERROR(IF(INDEX($B$265:$B$334,$O237+COLUMNS($E234:H234)-1)<>$C237,\"\",INDEX(EUConst_TierActivityListNames,$O237+COLUMNS($E234:H234)-1)),\"\")","v":""},{"$f":"IFERROR(IF(INDEX($B$265:$B$334,$O237+COLUMNS($E234:I234)-1)<>$C237,\"\",INDEX(EUConst_TierActivityListNames,$O237+COLUMNS($E234:I234)-1)),\"\")","v":""},{"$f":"IFERROR(IF(INDEX($B$265:$B$334,$O237+COLUMNS($E234:J234)-1)<>$C237,\"\",INDEX(EUConst_TierActivityListNames,$O237+COLUMNS($E234:J234)-1)),\"\")","v":""},{"$f":"IFERROR(IF(INDEX($B$265:$B$334,$O237+COLUMNS($E234:K234)-1)<>$C237,\"\",INDEX(EUConst_TierActivityListNames,$O237+COLUMNS($E234:K234)-1)),\"\")","v":""},{"$f":"Translations!$B$887","v":"CO2 & PFCi"},null,null,59]
[9,{"$f":"IF(LEN(Translations!$B$937)>250,LEFT(Translations!$B$937,250),Translations!$B$937)","v":"Proizvodnja sekundarnog aluminija u slučaju da se koriste jedinice za izgaranje ukupne nazivne ulazne toplinske snage iznad 20 MW"},"Proizvodnja sekundarnog aluminija",null,{"$f":"IF(E236=\"\",\"\",E236)","v":"Neobojeni, sek. aluminij: Proces (metoda A): samo karbonat"},"Neobojeni, sek. aluminij: Proces (metoda A): miješani (karbonat + nekarbonat)","Neobojeni, sek. aluminij: Proces (metoda A): nekarbonat","Neobojeni, sek. aluminij: Proces (metoda B): izlaz oksida","Neobojeni, sek. aluminij: Metodologija masene bilance","","","CO2",null,null,""]
[10,{"$f":"IF(LEN(Translations!$B$938)>250,LEFT(Translations!$B$938,250),Translations!$B$938)","v":"Proizvodnja ili prerada obojenih metala, uključujući proizvodnju legura, rafiniranje, lijevanje, itd., u slučaju da se koriste jedinice za izgaranje  (uključujući i goriva koja se koriste za smanjenje izgaranja) s ukupnom toplinskom snagom većom od 2"},"Proizvodnja ili prerada neobojenih metala",null,{"$f":"E238","v":"Neobojeni, sek. aluminij: Proces (metoda A): samo karbonat"},"Neobojeni, sek. aluminij: Proces (metoda A): miješani (karbonat + nekarbonat)","Neobojeni, sek. aluminij: Proces (metoda A): nekarbonat","Neobojeni, sek. aluminij: Proces (metoda B): izlaz oksida","Neobojeni, sek. aluminij: Metodologija masene bilance","","","CO2",null,null,""]
[11,{"$f":"IF(LEN(Translations!$B$939)>250,LEFT(Translations!$B$939,250),Translations!$B$939)","v":"Proizvodnja cementnog klinkera u rotacijskim pećima proizvodnog kapaciteta većeg od 500 tona na dan ili u drugim pećima proizvodnog kapaciteta preko 50 tona na dan"},"Proizvodnja cementnog klinkera",null,{"$f":"IFERROR(IF(INDEX($B$265:$B$334,$O240+COLUMNS($E237:E237)-1)<>$C240,\"\",INDEX(EUConst_TierActivityListNames,$O240+COLUMNS($E237:E237)-1)),\"\")","v":"Cementni klinker: Na temelju ulaza u peć (Metoda A)"},{"$f":"IFERROR(IF(INDEX($B$265:$B$334,$O240+COLUMNS($E237:F237)-1)<>$C240,\"\",INDEX(EUConst_TierActivityListNames,$O240+COLUMNS($E237:F237)-1)),\"\")","v":"Cementni klinker: Izlaz klinkera (Metoda B)"},{"$f":"IFERROR(IF(INDEX($B$265:$B$334,$O240+COLUMNS($E237:G237)-1)<>$C240,\"\",INDEX(EUConst_TierActivityListNames,$O240+COLUMNS($E237:G237)-1)),\"\")","v":"Cementni klinker: CKD"},{"$f":"IFERROR(IF(INDEX($B$265:$B$334,$O240+COLUMNS($E237:H237)-1)<>$C240,\"\",INDEX(EUConst_TierActivityListNames,$O240+COLUMNS($E237:H237)-1)),\"\")","v":"Cementni klinker: Ne-karbonatni ugljik"},{"$f":"IFERROR(IF(INDEX($B$265:$B$334,$O240+COLUMNS($E237:I237)-1)<>$C240,\"\",INDEX(EUConst_TierActivityListNames,$O240+COLUMNS($E237:I237)-1)),\"\")","v":""},{"$f":"IFERROR(IF(INDEX($B$265:$B$334,$O240+COLUMNS($E237:J237)-1)<>$C240,\"\",INDEX(EUConst_TierActivityListNames,$O240+COLUMNS($E237:J237)-1)),\"\")","v":""},{"$f":"IFERROR(IF(INDEX($B$265:$B$334,$O240+COLUMNS($E237:K237)-1)<>$C240,\"\",INDEX(EUConst_TierActivityListNames,$O240+COLUMNS($E237:K237)-1)),\"\")","v":""},"CO2",null,null,30]
[12,{"$f":"IF(LEN(Translations!$B$940)>250,LEFT(Translations!$B$940,250),Translations!$B$940)","v":"Proizvodnja vapna ili kalciniranje dolomita ili magnezita u rotacijskim pećima ili u drugim pećima s proizvodnim kapacitetom od preko 50 tona na dan"},"Proizvodnja vapna ili kalcinacija dolomita/magnezita",null,{"$f":"IFERROR(IF(INDEX($B$265:$B$334,$O241+COLUMNS($E238:E238)-1)<>$C241,\"\",INDEX(EUConst_TierActivityListNames,$O241+COLUMNS($E238:E238)-1)),\"\")","v":"Vapno / dolomit / magnezit: Proces (metoda A): samo karbonat"},{"$f":"IFERROR(IF(INDEX($B$265:$B$334,$O241+COLUMNS($E238:F238)-1)<>$C241,\"\",INDEX(EUConst_TierActivityListNames,$O241+COLUMNS($E238:F238)-1)),\"\")","v":"Vapno / dolomit / magnezit: Proces (metoda A): miješani (karbonat + nekarbonat)"},{"$f":"IFERROR(IF(INDEX($B$265:$B$334,$O241+COLUMNS($E238:G238)-1)<>$C241,\"\",INDEX(EUConst_TierActivityListNames,$O241+COLUMNS($E238:G238)-1)),\"\")","v":"Vapno / dolomit / magnezit: Proces (metoda A): nekarbonat"},{"$f":"IFERROR(IF(INDEX($B$265:$B$334,$O241+COLUMNS($E238:H238)-1)<>$C241,\"\",INDEX(EUConst_TierActivityListNames,$O241+COLUMNS($E238:H238)-1)),\"\")","v":"Vapno / dolomit / magnezit: Proces (metoda B): izlaz oksida"},{"$f":"IFERROR(IF(INDEX($B$265:$B$334,$O241+COLUMNS($E238:I238)-1)<>$C241,\"\",INDEX(EUConst_TierActivityListNames,$O241+COLUMNS($E238:I238)-1)),\"\")","v":"Vapno / dolomit / magnezit: Prašina iz peći (Metoda B)"},{"$f":"IFERROR(IF(INDEX($B$265:$B$334,$O241+COLUMNS($E238:J238)-1)<>$C241,\"\",INDEX(EUConst_TierActivityListNames,$O241+COLUMNS($E238:J238)-1)),\"\")","v":""},{"$f":"IFERROR(IF(INDEX($B$265:$B$334,$O241+COLUMNS($E238:K238)-1)<>$C241,\"\",INDEX(EUConst_TierActivityListNames,$O241+COLUMNS($E238:K238)-1)),\"\")","v":""},"CO2",null,null,34]
[13,{"$f":"IF(LEN(Translations!$B$941)>250,LEFT(Translations!$B$941,250),Translations!$B$941)","v":"Proizvodnja stakla uključujući staklena vlakna s kapacitetom taljenja od preko 20 tona na dan"},"Proizvodnja stakla",null,{"$f":"IFERROR(IF(INDEX($B$265:$B$334,$O242+COLUMNS($E239:E239)-1)<>$C242,\"\",INDEX(EUConst_TierActivityListNames,$O242+COLUMNS($E239:E239)-1)),\"\")","v":"Staklo i mineralna vuna: Proces (metoda A): samo karbonat"},{"$f":"IFERROR(IF(INDEX($B$265:$B$334,$O242+COLUMNS($E239:F239)-1)<>$C242,\"\",INDEX(EUConst_TierActivityListNames,$O242+COLUMNS($E239:F239)-1)),\"\")","v":"Staklo i mineralna vuna: Proces (metoda A): miješani (karbonat + nekarbonat)"},{"$f":"IFERROR(IF(INDEX($B$265:$B$334,$O242+COLUMNS($E239:G239)-1)<>$C242,\"\",INDEX(EUConst_TierActivityListNames,$O242+COLUMNS($E239:G239)-1)),\"\")","v":"Staklo i mineralna vuna: Proces (metoda A): nekarbonat"},{"$f":"IFERROR(IF(INDEX($B$265:$B$334,$O242+COLUMNS($E239:H239)-1)<>$C242,\"\",INDEX(EUConst_TierActivityListNames,$O242+COLUMNS($E239:H239)-1)),\"\")","v":""},{"$f":"IFERROR(IF(INDEX($B$265:$B$334,$O242+COLUMNS($E239:I239)-1)<>$C242,\"\",INDEX(EUConst_TierActivityListNames,$O242+COLUMNS($E239:I239)-1)),\"\")","v":""},{"$f":"IFERROR(IF(INDEX($B$265:$B$334,$O242+COLUMNS($E239:J239)-1)<>$C242,\"\",INDEX(EUConst_TierActivityListNames,$O242+COLUMNS($E239:J239)-1)),\"\")","v":""},{"$f":"IFERROR(IF(INDEX($B$265:$B$334,$O242+COLUMNS($E239:K239)-1)<>$C242,\"\",INDEX(EUConst_TierActivityListNames,$O242+COLUMNS($E239:K239)-1)),\"\")","v":""},"CO2",null,null,39]
[14,{"$f":"IF(LEN(Translations!$B$942)>250,LEFT(Translations!$B$942,250),Translations!$B$942)","v":"Proizvodnja keramičkih proizvoda pečenjem, osobito crijepova, opeke, vatrostalne opeke, keramičkih pločica, kamenine ili porculana, proizvodnog kapaciteta od preko 75 tona na dan"},"Proizvodnja keramike",null,{"$f":"IFERROR(IF(INDEX($B$265:$B$334,$O243+COLUMNS($E240:E240)-1)<>$C243,\"\",INDEX(EUConst_TierActivityListNames,$O243+COLUMNS($E240:E240)-1)),\"\")","v":"Keramika: Proces (metoda A): samo karbonat"},{"$f":"IFERROR(IF(INDEX($B$265:$B$334,$O243+COLUMNS($E240:F240)-1)<>$C243,\"\",INDEX(EUConst_TierActivityListNames,$O243+COLUMNS($E240:F240)-1)),\"\")","v":"Keramika: Proces (metoda A): miješani (karbonat + nekarbonat)"},{"$f":"IFERROR(IF(INDEX($B$265:$B$334,$O243+COLUMNS($E240:G240)-1)<>$C243,\"\",INDEX(EUConst_TierActivityListNames,$O243+COLUMNS($E240:G240)-1)),\"\")","v":"Keramika: Proces (metoda A): nekarbonat"},{"$f":"IFERROR(IF(INDEX($B$265:$B$334,$O243+COLUMNS($E240:H240)-1)<>$C243,\"\",INDEX(EUConst_TierActivityListNames,$O243+COLUMNS($E240:H240)-1)),\"\")","v":"Keramika: Proces (metoda B): izlaz oksida"},{"$f":"IFERROR(IF(INDEX($B$265:$B$334,$O243+COLUMNS($E240:I240)-1)<>$C243,\"\",INDEX(EUConst_TierActivityListNames,$O243+COLUMNS($E240:I240)-1)),\"\")","v":"Keramika: Čišćenje mokrim postupkom"},{"$f":"IFERROR(IF(INDEX($B$265:$B$334,$O243+COLUMNS($E240:J240)-1)<>$C243,\"\",INDEX(EUConst_TierActivityListNames,$O243+COLUMNS($E240:J240)-1)),\"\")","v":""},{"$f":"IFERROR(IF(INDEX($B$265:$B$334,$O243+COLUMNS($E240:K240)-1)<>$C243,\"\",INDEX(EUConst_TierActivityListNames,$O243+COLUMNS($E240:K240)-1)),\"\")","v":""},"CO2",null,null,42]
[15,{"$f":"IF(LEN(Translations!$B$943)>250,LEFT(Translations!$B$943,250),Translations!$B$943)","v":"Proizvodnja izolacijskog materijala - mineralne vune pomoću stakla, kamena ili šljake s kapacitetom taljenja preko 20 tona na dan"},"Proizvodnja mineralne vune",null,{"$f":"IF(E242=\"\",\"\",E242)","v":"Staklo i mineralna vuna: Proces (metoda A): samo karbonat"},"Staklo i mineralna vuna: Proces (metoda A): miješani (karbonat + nekarbonat)","Staklo i mineralna vuna: Proces (metoda A): nekarbonat","","","","","CO2",null,null,""]
[16,{"$f":"IF(LEN(Translations!$B$944)>250,LEFT(Translations!$B$944,250),Translations!$B$944)","v":"Sušenje ili kalciniranje gipsa ili proizvodnja gipsanih ploča i drugih gipsanih proizvoda, gdje su u pogon stavljene jedinice izgaranja s ukupnom toplinskom snagom većom od 20 MW"},"Proizvodnja ili obrada gipsa ili gipsanih ploča",null,null,null,null,null,null,null,null,"CO2",null,null,""]
[17,{"$f":"Translations!$B$945","v":"Proizvodnja celuloze iz drveta ili drugih vlaknastih materijala"},"Proizvodnja celuloze",null,{"$f":"IFERROR(IF(INDEX($B$265:$B$334,$O246+COLUMNS($E243:E243)-1)<>$C246,\"\",INDEX(EUConst_TierActivityListNames,$O246+COLUMNS($E243:E243)-1)),\"\")","v":"Celuloza i papir: Dodatne kemikalije"},{"$f":"IFERROR(IF(INDEX($B$265:$B$334,$O246+COLUMNS($E243:F243)-1)<>$C246,\"\",INDEX(EUConst_TierActivityListNames,$O246+COLUMNS($E243:F243)-1)),\"\")","v":""},{"$f":"IFERROR(IF(INDEX($B$265:$B$334,$O246+COLUMNS($E243:G243)-1)<>$C246,\"\",INDEX(EUConst_TierActivityListNames,$O246+COLUMNS($E243:G243)-1)),\"\")","v":""},{"$f":"IFERROR(IF(INDEX($B$265:$B$334,$O246+COLUMNS($E243:H243)-1)<>$C246,\"\",INDEX(EUConst_TierActivityListNames,$O246+COLUMNS($E243:H243)-1)),\"\")","v":""},{"$f":"IFERROR(IF(INDEX($B$265:$B$334,$O246+COLUMNS($E243:I243)-1)<>$C246,\"\",INDEX(EUConst_TierActivityListNames,$O246+COLUMNS($E243:I243)-1)),\"\")","v":""},{"$f":"IFERROR(IF(INDEX($B$265:$B$334,$O246+COLUMNS($E243:J243)-1)<>$C246,\"\",INDEX(EUConst_TierActivityListNames,$O246+COLUMNS($E243:J243)-1)),\"\")","v":""},{"$f":"IFERROR(IF(INDEX($B$265:$B$334,$O246+COLUMNS($E243:K243)-1)<>$C246,\"\",INDEX(EUConst_TierActivityListNames,$O246+COLUMNS($E243:K243)-1)),\"\")","v":""},"CO2",null,null,47]
[18,{"$f":"IF(LEN(Translations!$B$946)>250,LEFT(Translations!$B$946,250),Translations!$B$946)","v":"Proizvodnja papira ili kartona, proizvodnog kapaciteta preko 20 tona na dan"},"Proizvodnja papira ili kartona",null,{"$f":"IF(E246=\"\",\"\",E246)","v":"Celuloza i papir: Dodatne kemikalije"},{"$f":"IF(F246=\"\",\"\",F246)","v":""},"","","","","","CO2",null,null,""]
[19,{"$f":"IF(LEN(Translations!$B$947)>250,LEFT(Translations!$B$947,250),Translations!$B$947)","v":"Proizvodnja čađe uključujući karbonizaciju organskih tvari kao što su ulja, katran, kreker i destilacije ostataka, gdje su u pogon stavljene jedinice izgaranja s ukupnom toplinskom snagom većom od 20 MW"},"Proizvodnja čađe ",null,{"$f":"IFERROR(IF(INDEX($B$265:$B$334,$O248+COLUMNS($E245:E245)-1)<>$C248,\"\",INDEX(EUConst_TierActivityListNames,$O248+COLUMNS($E245:E245)-1)),\"\")","v":"Čađa: Metodologija masene bilance"},{"$f":"IFERROR(IF(INDEX($B$265:$B$334,$O248+COLUMNS($E245:F245)-1)<>$C248,\"\",INDEX(EUConst_TierActivityListNames,$O248+COLUMNS($E245:F245)-1)),\"\")","v":""},{"$f":"IFERROR(IF(INDEX($B$265:$B$334,$O248+COLUMNS($E245:G245)-1)<>$C248,\"\",INDEX(EUConst_TierActivityListNames,$O248+COLUMNS($E245:G245)-1)),\"\")","v":""},{"$f":"IFERROR(IF(INDEX($B$265:$B$334,$O248+COLUMNS($E245:H245)-1)<>$C248,\"\",INDEX(EUConst_TierActivityListNames,$O248+COLUMNS($E245:H245)-1)),\"\")","v":""},{"$f":"IFERROR(IF(INDEX($B$265:$B$334,$O248+COLUMNS($E245:I245)-1)<>$C248,\"\",INDEX(EUConst_TierActivityListNames,$O248+COLUMNS($E245:I245)-1)),\"\")","v":""},{"$f":"IFERROR(IF(INDEX($B$265:$B$334,$O248+COLUMNS($E245:J245)-1)<>$C248,\"\",INDEX(EUConst_TierActivityListNames,$O248+COLUMNS($E245:J245)-1)),\"\")","v":""},{"$f":"IFERROR(IF(INDEX($B$265:$B$334,$O248+COLUMNS($E245:K245)-1)<>$C248,\"\",INDEX(EUConst_TierActivityListNames,$O248+COLUMNS($E245:K245)-1)),\"\")","v":""},"CO2",null,null,48]
[20,{"$f":"Translations!$B$874","v":"Proizvodnja dušične kiseline"},"Proizvodnja dušične kiseline",null,null,null,null,null,null,null,null,{"$f":"Translations!$B$886","v":"CO2 & N2O"},null,null,""]
[21,{"$f":"Translations!$B$875","v":"Proizvodnja adipinske kiseline"},"Proizvodnja adipinske kiseline",null,null,null,null,null,null,null,null,{"$f":"Translations!$B$886","v":"CO2 & N2O"},null,null,""]
[22,{"$f":"Translations!$B$876","v":"Proizvodnja glioksala i glioksilne kiseline"},"Proizvodnja glioksala i glioksilne kiseline",null,null,null,null,null,null,null,null,{"$f":"Translations!$B$886","v":"CO2 & N2O"},null,null,""]
[23,{"$f":"Translations!$B$877","v":"Proizvodnja amonijaka"},"Proizvodnja amonijaka",null,{"$f":"IFERROR(IF(INDEX($B$265:$B$334,$O252+COLUMNS($E249:E249)-1)<>$C252,\"\",INDEX(EUConst_TierActivityListNames,$O252+COLUMNS($E249:E249)-1)),\"\")","v":"Amonijak: Gorivo koje se koristi kao ulazni materijal procesa"},{"$f":"IFERROR(IF(INDEX($B$265:$B$334,$O252+COLUMNS($E249:F249)-1)<>$C252,\"\",INDEX(EUConst_TierActivityListNames,$O252+COLUMNS($E249:F249)-1)),\"\")","v":""},{"$f":"IFERROR(IF(INDEX($B$265:$B$334,$O252+COLUMNS($E249:G249)-1)<>$C252,\"\",INDEX(EUConst_TierActivityListNames,$O252+COLUMNS($E249:G249)-1)),\"\")","v":""},{"$f":"IFERROR(IF(INDEX($B$265:$B$334,$O252+COLUMNS($E249:H249)-1)<>$C252,\"\",INDEX(EUConst_TierActivityListNames,$O252+COLUMNS($E249:H249)-1)),\"\")","v":""},{"$f":"IFERROR(IF(INDEX($B$265:$B$334,$O252+COLUMNS($E249:I249)-1)<>$C252,\"\",INDEX(EUConst_TierActivityListNames,$O252+COLUMNS($E249:I249)-1)),\"\")","v":""},{"$f":"IFERROR(IF(INDEX($B$265:$B$334,$O252+COLUMNS($E249:J249)-1)<>$C252,\"\",INDEX(EUConst_TierActivityListNames,$O252+COLUMNS($E249:J249)-1)),\"\")","v":""},{"$f":"IFERROR(IF(INDEX($B$265:$B$334,$O252+COLUMNS($E249:K249)-1)<>$C252,\"\",INDEX(EUConst_TierActivityListNames,$O252+COLUMNS($E249:K249)-1)),\"\")","v":""},"CO2",null,null,49]
[24,{"$f":"IF(LEN(Translations!$B$948)>250,LEFT(Translations!$B$948,250),Translations!$B$948)","v":"Proizvodnja organskih kemikalija na veliko  razbijanjem, pretvorbom, djelomičnom ili potpunom oksidacijom ili sličnim procesima, s proizvodnim kapacitetom od preko 100 tona na dan"},"Proizvodnja kemikalija na veliko ",null,{"$f":"IFERROR(IF(INDEX($B$265:$B$334,$O253+COLUMNS($E250:E250)-1)<>$C253,\"\",INDEX(EUConst_TierActivityListNames,$O253+COLUMNS($E250:E250)-1)),\"\")","v":"Organske kemikalije na veliko: Metodologija masene bilance"},{"$f":"IFERROR(IF(INDEX($B$265:$B$334,$O253+COLUMNS($E250:F250)-1)<>$C253,\"\",INDEX(EUConst_TierActivityListNames,$O253+COLUMNS($E250:F250)-1)),\"\")","v":""},{"$f":"IFERROR(IF(INDEX($B$265:$B$334,$O253+COLUMNS($E250:G250)-1)<>$C253,\"\",INDEX(EUConst_TierActivityListNames,$O253+COLUMNS($E250:G250)-1)),\"\")","v":""},{"$f":"IFERROR(IF(INDEX($B$265:$B$334,$O253+COLUMNS($E250:H250)-1)<>$C253,\"\",INDEX(EUConst_TierActivityListNames,$O253+COLUMNS($E250:H250)-1)),\"\")","v":""},{"$f":"IFERROR(IF(INDEX($B$265:$B$334,$O253+COLUMNS($E250:I250)-1)<>$C253,\"\",INDEX(EUConst_TierActivityListNames,$O253+COLUMNS($E250:I250)-1)),\"\")","v":""},{"$f":"IFERROR(IF(INDEX($B$265:$B$334,$O253+COLUMNS($E250:J250)-1)<>$C253,\"\",INDEX(EUConst_TierActivityListNames,$O253+COLUMNS($E250:J250)-1)),\"\")","v":""},{"$f":"IFERROR(IF(INDEX($B$265:$B$334,$O253+COLUMNS($E250:K250)-1)<>$C253,\"\",INDEX(EUConst_TierActivityListNames,$O253+COLUMNS($E250:K250)-1)),\"\")","v":""},"CO2",null,null,52]
[25,{"$f":"IF(LEN(Translations!$B$949)>250,LEFT(Translations!$B$949,250),Translations!$B$949)","v":"Proizvodnja vodika (H2) i sinteza plina kroz pretvorbu ili djelomičnu oksidaciju s proizvodnim kapacitetom od preko 25 tona na dan"},"Proizvodnja vodika i sintetskog plina",null,{"$f":"IFERROR(IF(INDEX($B$265:$B$334,$O254+COLUMNS($E251:E251)-1)<>$C254,\"\",INDEX(EUConst_TierActivityListNames,$O254+COLUMNS($E251:E251)-1)),\"\")","v":"Vodik i sintetski plin: Gorivo koje se koristi kao ulazni materijal procesa"},{"$f":"IFERROR(IF(INDEX($B$265:$B$334,$O254+COLUMNS($E251:F251)-1)<>$C254,\"\",INDEX(EUConst_TierActivityListNames,$O254+COLUMNS($E251:F251)-1)),\"\")","v":"Vodik i sintetski plin: Metodologija masene bilance"},{"$f":"IFERROR(IF(INDEX($B$265:$B$334,$O254+COLUMNS($E251:G251)-1)<>$C254,\"\",INDEX(EUConst_TierActivityListNames,$O254+COLUMNS($E251:G251)-1)),\"\")","v":""},{"$f":"IFERROR(IF(INDEX($B$265:$B$334,$O254+COLUMNS($E251:H251)-1)<>$C254,\"\",INDEX(EUConst_TierActivityListNames,$O254+COLUMNS($E251:H251)-1)),\"\")","v":""},{"$f":"IFERROR(IF(INDEX($B$265:$B$334,$O254+COLUMNS($E251:I251)-1)<>$C254,\"\",INDEX(EUConst_TierActivityListNames,$O254+COLUMNS($E251:I251)-1)),\"\")","v":""},{"$f":"IFERROR(IF(INDEX($B$265:$B$334,$O254+COLUMNS($E251:J251)-1)<>$C254,\"\",INDEX(EUConst_TierActivityListNames,$O254+COLUMNS($E251:J251)-1)),\"\")","v":""},{"$f":"IFERROR(IF(INDEX($B$265:$B$334,$O254+COLUMNS($E251:K251)-1)<>$C254,\"\",INDEX(EUConst_TierActivityListNames,$O254+COLUMNS($E251:K251)-1)),\"\")","v":""},"CO2",null,null,50]
[26,{"$f":"Translations!$B$950","v":"Proizvodnja kalcinirane sode (Na2CO3) i natrij bikarbonata (NaHCO3) "},"Proizvodnja natrij karbonata i natrij-bikarbonata",null,{"$f":"IFERROR(IF(INDEX($B$265:$B$334,$O255+COLUMNS($E252:E252)-1)<>$C255,\"\",INDEX(EUConst_TierActivityListNames,$O255+COLUMNS($E252:E252)-1)),\"\")","v":"Natrij karbonat / natrij bikarbonat: Metodologija masene bilance"},{"$f":"IFERROR(IF(INDEX($B$265:$B$334,$O255+COLUMNS($E252:F252)-1)<>$C255,\"\",INDEX(EUConst_TierActivityListNames,$O255+COLUMNS($E252:F252)-1)),\"\")","v":""},{"$f":"IFERROR(IF(INDEX($B$265:$B$334,$O255+COLUMNS($E252:G252)-1)<>$C255,\"\",INDEX(EUConst_TierActivityListNames,$O255+COLUMNS($E252:G252)-1)),\"\")","v":""},{"$f":"IFERROR(IF(INDEX($B$265:$B$334,$O255+COLUMNS($E252:H252)-1)<>$C255,\"\",INDEX(EUConst_TierActivityListNames,$O255+COLUMNS($E252:H252)-1)),\"\")","v":""},{"$f":"IFERROR(IF(INDEX($B$265:$B$334,$O255+COLUMNS($E252:I252)-1)<>$C255,\"\",INDEX(EUConst_TierActivityListNames,$O255+COLUMNS($E252:I252)-1)),\"\")","v":""},{"$f":"IFERROR(IF(INDEX($B$265:$B$334,$O255+COLUMNS($E252:J252)-1)<>$C255,\"\",INDEX(EUConst_TierActivityListNames,$O255+COLUMNS($E252:J252)-1)),\"\")","v":""},{"$f":"IFERROR(IF(INDEX($B$265:$B$334,$O255+COLUMNS($E252:K252)-1)<>$C255,\"\",INDEX(EUConst_TierActivityListNames,$O255+COLUMNS($E252:K252)-1)),\"\")","v":""},"CO2",null,null,58]
[27,{"$f":"IF(LEN(Translations!$B$951)>250,LEFT(Translations!$B$951,250),Translations!$B$951)","v":"Hvatanje stakleničkih plinova iz postrojenja obuhvaćenih ETS Direktivom u svrhu transporta i geološkog skladištenja u geološka skladišta dopuštena prema Direktivi 2009/31/EC"},"Hvatanje stakleničkih plinova prema Direktivi 2009/31/EC",null,{"$f":"IFERROR(IF(INDEX($B$265:$B$334,$O256+COLUMNS($E253:E253)-1)<>$C256,\"\",INDEX(EUConst_TierActivityListNames,$O256+COLUMNS($E253:E253)-1)),\"\")","v":"CCS: Capture: CO2 transferred"},{"$f":"IFERROR(IF(INDEX($B$265:$B$334,$O256+COLUMNS($E253:F253)-1)<>$C256,\"\",INDEX(EUConst_TierActivityListNames,$O256+COLUMNS($E253:F253)-1)),\"\")","v":""},{"$f":"IFERROR(IF(INDEX($B$265:$B$334,$O256+COLUMNS($E253:G253)-1)<>$C256,\"\",INDEX(EUConst_TierActivityListNames,$O256+COLUMNS($E253:G253)-1)),\"\")","v":""},{"$f":"IFERROR(IF(INDEX($B$265:$B$334,$O256+COLUMNS($E253:H253)-1)<>$C256,\"\",INDEX(EUConst_TierActivityListNames,$O256+COLUMNS($E253:H253)-1)),\"\")","v":""},{"$f":"IFERROR(IF(INDEX($B$265:$B$334,$O256+COLUMNS($E253:I253)-1)<>$C256,\"\",INDEX(EUConst_TierActivityListNames,$O256+COLUMNS($E253:I253)-1)),\"\")","v":""},{"$f":"IFERROR(IF(INDEX($B$265:$B$334,$O256+COLUMNS($E253:J253)-1)<>$C256,\"\",INDEX(EUConst_TierActivityListNames,$O256+COLUMNS($E253:J253)-1)),\"\")","v":""},{"$f":"IFERROR(IF(INDEX($B$265:$B$334,$O256+COLUMNS($E253:K253)-1)<>$C256,\"\",INDEX(EUConst_TierActivityListNames,$O256+COLUMNS($E253:K253)-1)),\"\")","v":""},"CO2",null,null,62]
[28,{"$f":"IF(LEN(Translations!$B$952)>250,LEFT(Translations!$B$952,250),Translations!$B$952)","v":"Transport stakleničkih plinova cijevima za geološko skladištenje na mjestima za skladištenje dopuštenim Direktivom 2009/31/EC"},"Transport stakleničkih plinova prema Direktivi 2009/31/EC",null,{"$f":"IFERROR(IF(INDEX($B$265:$B$334,$O257+COLUMNS($E254:E254)-1)<>$C257,\"\",INDEX(EUConst_TierActivityListNames,$O257+COLUMNS($E254:E254)-1)),\"\")","v":"CCS: Transport: CO2 transferred"},{"$f":"IFERROR(IF(INDEX($B$265:$B$334,$O257+COLUMNS($E254:F254)-1)<>$C257,\"\",INDEX(EUConst_TierActivityListNames,$O257+COLUMNS($E254:F254)-1)),\"\")","v":"CCS: Transport: CO2 vented"},{"$f":"IFERROR(IF(INDEX($B$265:$B$334,$O257+COLUMNS($E254:G254)-1)<>$C257,\"\",INDEX(EUConst_TierActivityListNames,$O257+COLUMNS($E254:G254)-1)),\"\")","v":"CCS: Transport: CO2 leaked"},{"$f":"IFERROR(IF(INDEX($B$265:$B$334,$O257+COLUMNS($E254:H254)-1)<>$C257,\"\",INDEX(EUConst_TierActivityListNames,$O257+COLUMNS($E254:H254)-1)),\"\")","v":"CCS: Transport: CO2 fugitive"},{"$f":"IFERROR(IF(INDEX($B$265:$B$334,$O257+COLUMNS($E254:I254)-1)<>$C257,\"\",INDEX(EUConst_TierActivityListNames,$O257+COLUMNS($E254:I254)-1)),\"\")","v":""},{"$f":"IFERROR(IF(INDEX($B$265:$B$334,$O257+COLUMNS($E254:J254)-1)<>$C257,\"\",INDEX(EUConst_TierActivityListNames,$O257+COLUMNS($E254:J254)-1)),\"\")","v":""},{"$f":"IFERROR(IF(INDEX($B$265:$B$334,$O257+COLUMNS($E254:K254)-1)<>$C257,\"\",INDEX(EUConst_TierActivityListNames,$O257+COLUMNS($E254:K254)-1)),\"\")","v":""},"CO2",null,null,63]
[29,{"$f":"IF(LEN(Translations!$B$953)>250,LEFT(Translations!$B$953,250),Translations!$B$953)","v":"Geološko skladištenje u geološka skladišta dopuštena prema Direktivi 2009/31/EC"},"Skladištenje stakleničkih plinova prema Direktivi 2009/31/EC",null,{"$f":"IFERROR(IF(INDEX($B$265:$B$334,$O258+COLUMNS($E255:E255)-1)<>$C258,\"\",INDEX(EUConst_TierActivityListNames,$O258+COLUMNS($E255:E255)-1)),\"\")","v":"CCS: Storage: CO2 transferred"},{"$f":"IFERROR(IF(INDEX($B$265:$B$334,$O258+COLUMNS($E255:F255)-1)<>$C258,\"\",INDEX(EUConst_TierActivityListNames,$O258+COLUMNS($E255:F255)-1)),\"\")","v":"CCS: Storage: CO2 vented"},{"$f":"IFERROR(IF(INDEX($B$265:$B$334,$O258+COLUMNS($E255:G255)-1)<>$C258,\"\",INDEX(EUConst_TierActivityListNames,$O258+COLUMNS($E255:G255)-1)),\"\")","v":"CCS: Storage: CO2 leaked"},{"$f":"IFERROR(IF(INDEX($B$265:$B$334,$O258+COLUMNS($E255:H255)-1)<>$C258,\"\",INDEX(EUConst_TierActivityListNames,$O258+COLUMNS($E255:H255)-1)),\"\")","v":"CCS: Storage: CO2 fugitive"},{"$f":"IFERROR(IF(INDEX($B$265:$B$334,$O258+COLUMNS($E255:I255)-1)<>$C258,\"\",INDEX(EUConst_TierActivityListNames,$O258+COLUMNS($E255:I255)-1)),\"\")","v":""},{"$f":"IFERROR(IF(INDEX($B$265:$B$334,$O258+COLUMNS($E255:J255)-1)<>$C258,\"\",INDEX(EUConst_TierActivityListNames,$O258+COLUMNS($E255:J255)-1)),\"\")","v":""},{"$f":"IFERROR(IF(INDEX($B$265:$B$334,$O258+COLUMNS($E255:K255)-1)<>$C258,\"\",INDEX(EUConst_TierActivityListNames,$O258+COLUMNS($E255:K255)-1)),\"\")","v":""},"CO2",null,null,67]
[]
[]
[]
[]
[null,{"$f":"Translations!$B$954","v":"Podaci o djelatnostima"},null,null,null,null,{"$f":"Translations!$B$955","v":"Razina točnosti"},{"$f":"Translations!$B$955","v":"Razina točnosti"},{"$f":"Translations!$B$955","v":"Razina točnosti"},{"$f":"Translations!$B$955","v":"Razina točnosti"},{"$f":"Translations!$B$955","v":"Razina točnosti"},{"$f":"Translations!$B$955","v":"Razina točnosti"},{"$f":"Translations!$B$955","v":"Razina točnosti"},{"$f":"Translations!$B$955","v":"Razina točnosti"},{"$f":"Translations!$B$955","v":"Razina točnosti"}]
[null,{"$f":"Translations!$B$956","v":"Djelatnost"},{"$f":"Translations!$B$957","v":"Skraćeno ime"},{"$f":"Translations!$B$958","v":"Pod-djelatnost"},{"$f":"Translations!$B$389","v":"Analitički parametar"},{"$f":"Translations!$B$959","v":"Tip izvora"},{"$f":"Translations!$B$960","v":"Minimum"},1,2,"2a",{"$f":"Translations!$B$928","v":"2b"},3,"3a","3b",4,{"$f":"Translations!$B$961","v":"Najviši"},null,null,null,null,null,null,"Is CO2 transfer?",null,null,{"$f":"Translations!$B$962","v":"označiti sivom bojom?"}]
[1,{"$f":"C230","v":"Izgaranje goriva "},{"$f":"Translations!$B$964","v":"Izgaranje"},{"$f":"Translations!$B$965","v":"Komercijalna standardna goriva"},{"$f":"Translations!$B$442","v":"Količina goriva (t) ili (Nm3)"},{"$f":"EUconst_Fuel","v":"Standardna metoda: Gorivo, članak 24. stavak 1.Uredbe"},2,{"$f":"Translations!$B$966","v":"± 7,5%"},{"$f":"Translations!$B$967","v":"± 5,0%"},null,null,{"$f":"Translations!$B$968","v":"± 2,5%"},null,null,{"$f":"Translations!$B$969","v":"± 1,5%"},{"$f":"COUNTA(H265:O265)","v":4},{"$f":"C265 & \": \" &D265","v":"Izgaranje: Komercijalna standardna goriva"},null,{"$f":"EUconst_CNTR_ActivityData&Q265","v":"ActivityData_Izgaranje: Komercijalna standardna goriva"},null,null,null,false,null,null,{"$f":"IF(G265=EUconst_NA,TRUE,FALSE)","v":false}]
[2,{"$f":"B265","v":"Izgaranje goriva "},"Izgaranje",{"$f":"Translations!$B$970","v":"Ostala plinovita & tekuća goriva"},{"$f":"Translations!$B$442","v":"Količina goriva (t) ili (Nm3)"},{"$f":"$F$265","v":"Standardna metoda: Gorivo, članak 24. stavak 1.Uredbe"},2,{"$f":"Translations!$B$966","v":"± 7,5%"},{"$f":"Translations!$B$967","v":"± 5,0%"},null,null,{"$f":"Translations!$B$968","v":"± 2,5%"},null,null,{"$f":"Translations!$B$969","v":"± 1,5%"},4,"Izgaranje: Ostala plinovita & tekuća goriva",null,"ActivityData_Izgaranje: Ostala plinovita & tekuća goriva",null,null,null,false,null,null,false]
[3,"Izgaranje goriva ","Izgaranje",{"$f":"Translations!$B$1278","v":"Kruta goriva isključujući otpad"},{"$f":"Translations!$B$972","v":"Količina goriva [t]"},{"$f":"$F$265","v":"Standardna metoda: Gorivo, članak 24. stavak 1.Uredbe"},1,{"$f":"Translations!$B$966","v":"± 7,5%"},{"$f":"Translations!$B$967","v":"± 5,0%"},null,null,{"$f":"Translations!$B$968","v":"± 2,5%"},null,null,{"$f":"Translations!$B$969","v":"± 1,5%"},4,"Izgaranje: Kruta goriva isključujući otpad",null,"ActivityData_Izgaranje: Kruta goriva isključujući otpad",null,null,null,false,null,null,false]
[4,{"$f":"B267","v":"Izgaranje goriva "},{"$f":"C267","v":"Izgaranje"},{"$f":"Translations!$B$1275","v":"Otpad"},{"$f":"Translations!$B$972","v":"Količina goriva [t]"},{"$f":"$F$265","v":"Standardna metoda: Gorivo, članak 24. stavak 1.Uredbe"},1,{"$f":"Translations!$B$966","v":"± 7,5%"},{"$f":"Translations!$B$967","v":"± 5,0%"},null,null,{"$f":"Translations!$B$968","v":"± 2,5%"},null,null,{"$f":"Translations!$B$969","v":"± 1,5%"},{"$f":"COUNTA(H268:O268)","v":4},{"$f":"C268 & \": \" &D268","v":"Izgaranje: Otpad"},null,{"$f":"EUconst_CNTR_ActivityData&Q268","v":"ActivityData_Izgaranje: Otpad"},null,null,null,false,null,null,{"$f":"IF(G268=EUconst_NA,TRUE,FALSE)","v":false}]
[5,{"$f":"B267","v":"Izgaranje goriva "},{"$f":"C267","v":"Izgaranje"},{"$f":"Translations!$B$973","v":"Terminali za obradu plina "},{"$f":"Translations!$B$974","v":"Pojedinačni ulazni i izlazni materijal [t]"},{"$f":"EUconst_MassBalance","v":"Metoda masene bilance, članak 25."},1,{"$f":"Translations!$B$966","v":"± 7,5%"},{"$f":"Translations!$B$967","v":"± 5,0%"},null,null,{"$f":"Translations!$B$968","v":"± 2,5%"},null,null,{"$f":"Translations!$B$969","v":"± 1,5%"},4,"Izgaranje: Terminali za obradu plina ",null,"ActivityData_Izgaranje: Terminali za obradu plina ",null,null,null,false,null,null,false]
[6,{"$f":"B267","v":"Izgaranje goriva "},{"$f":"C267","v":"Izgaranje"},{"$f":"Translations!$B$975","v":"Baklje"},{"$f":"Translations!$B$976","v":"Količina spaljenog plina [Nm3]"},{"$f":"$F$265","v":"Standardna metoda: Gorivo, članak 24. stavak 1.Uredbe"},1,{"$f":"Translations!$B$977","v":"± 17,5%"},{"$f":"Translations!$B$978","v":"± 12,5%"},null,null,{"$f":"Translations!$B$966","v":"± 7,5%"},null,null,null,3,"Izgaranje: Baklje",null,"ActivityData_Izgaranje: Baklje",null,null,null,false,null,null,false]
[7,"Izgaranje goriva ","Izgaranje",{"$f":"Translations!$B$979","v":"Čišćenje mokrim postupkom (karbonati)"},{"$f":"Translations!$B$980","v":"Količina utrošenog karbonata [t]"},{"$f":"EUconst_ProcessCarbonate","v":"Standardna metoda: Proces, članak 24. stavak 2."},1,{"$f":"Translations!$B$966","v":"± 7,5%"},null,null,null,null,null,null,null,1,"Izgaranje: Čišćenje mokrim postupkom (karbonati)",null,"ActivityData_Izgaranje: Čišćenje mokrim postupkom (karbonati)",null,null,null,false,null,null,false]
[8,"Izgaranje goriva ","Izgaranje",{"$f":"Translations!$B$981","v":"Čišćenje mokrim postupkom (gips)"},{"$f":"Translations!$B$982","v":"Količina proizvedenog gipsa [t]"},{"$f":"$F$271","v":"Standardna metoda: Proces, članak 24. stavak 2."},1,{"$f":"Translations!$B$966","v":"± 7,5%"},null,null,null,null,null,null,null,1,"Izgaranje: Čišćenje mokrim postupkom (gips)",null,"ActivityData_Izgaranje: Čišćenje mokrim postupkom (gips)",null,null,null,false,null,null,false]
[9,"Izgaranje goriva ","Izgaranje",{"$f":"Translations!$B$1256","v":"Čišćenje mokrim postupkom (urea)"},{"$f":"Translations!$B$1257","v":"Količina utrošene uree [t]"},{"$f":"$F$271","v":"Standardna metoda: Proces, članak 24. stavak 2."},1,{"$f":"Translations!$B$966","v":"± 7,5%"},null,null,null,null,null,null,null,{"$f":"COUNTA(H273:O273)","v":1},{"$f":"C273 & \": \" &D273","v":"Izgaranje: Čišćenje mokrim postupkom (urea)"},null,{"$f":"EUconst_CNTR_ActivityData&Q273","v":"ActivityData_Izgaranje: Čišćenje mokrim postupkom (urea)"},null,null,null,false,null,null,false]
[10,{"$f":"C232","v":"Rafiniranje mineralnih ulja "},{"$f":"Translations!$B$983","v":"Rafinerije"},{"$f":"Translations!$B$984","v":"Bilanca mase"},{"$f":"Translations!$B$974","v":"Pojedinačni ulazni i izlazni materijal [t]"},{"$f":"EUconst_MassBalance","v":"Metoda masene bilance, članak 25."},1,{"$f":"Translations!$B$966","v":"± 7,5%"},{"$f":"Translations!$B$967","v":"± 5,0%"},null,null,{"$f":"Translations!$B$968","v":"± 2,5%"},null,null,{"$f":"Translations!$B$969","v":"± 1,5%"},4,"Rafinerije: Bilanca mase",null,"ActivityData_Rafinerije: Bilanca mase",null,null,null,false,null,null,false]
[11,{"$f":"Translations!$B$858","v":"Rafiniranje mineralnog ulja "},{"$f":"C274","v":"Rafinerije"},{"$f":"Translations!$B$985","v":"Regeneriranje katalizatora iz procesa krekiranja "},{"$f":"Translations!$B$986","v":"Zahtjevi nesigurnosti koji se primjenjuju  posebno za svaki izvor emisije"},{"$f":"EUconst_MassBalance","v":"Metoda masene bilance, članak 25."},1,{"$f":"Translations!$B$987","v":"± 10,0% (as t CO2)"},{"$f":"Translations!$B$988","v":"± 7,5% (as t CO2)"},null,null,{"$f":"Translations!$B$989","v":"± 5,0% (as t CO2)"},null,null,{"$f":"Translations!$B$990","v":"± 2,5% (as t CO2)"},4,"Rafinerije: Regeneriranje katalizatora iz procesa krekiranja ",null,"ActivityData_Rafinerije: Regeneriranje katalizatora iz procesa krekiranja ",null,null,null,false,null,null,false]
[12,{"$f":"B275","v":"Rafiniranje mineralnog ulja "},{"$f":"C275","v":"Rafinerije"},{"$f":"Translations!$B$991","v":"Proizvodnja vodika"},{"$f":"Translations!$B$992","v":"Snabdijevanje ugljikovodicima [t]"},{"$f":"EUconst_MassBalance","v":"Metoda masene bilance, članak 25."},1,{"$f":"Translations!$B$966","v":"± 7,5%"},{"$f":"Translations!$B$967","v":"± 5,0%"},null,null,{"$f":"Translations!$B$968","v":"± 2,5%"},null,null,{"$f":"Translations!$B$969","v":"± 1,5%"},4,"Rafinerije: Proizvodnja vodika",null,"ActivityData_Rafinerije: Proizvodnja vodika",null,null,null,false,null,null,false]
[13,{"$f":"C233","v":"Proizvodnja koksa"},{"$f":"Translations!$B$993","v":"Koks"},{"$f":"Translations!$B$994","v":"Gorivo koje se koristi kao ulazni materijal procesa"},{"$f":"Translations!$B$442","v":"Količina goriva (t) ili (Nm3)"},{"$f":"EUconst_Fuel","v":"Standardna metoda: Gorivo, članak 24. stavak 1.Uredbe"},1,{"$f":"Translations!$B$966","v":"± 7,5%"},{"$f":"Translations!$B$967","v":"± 5,0%"},null,null,{"$f":"Translations!$B$968","v":"± 2,5%"},null,null,{"$f":"Translations!$B$969","v":"± 1,5%"},4,"Koks: Gorivo koje se koristi kao ulazni materijal procesa",null,"ActivityData_Koks: Gorivo koje se koristi kao ulazni materijal procesa",null,null,null,false,null,null,false]
[14,{"$f":"B277","v":"Proizvodnja koksa"},"Koks",{"$f":"Translations!$B$1258","v":"Proces (metoda A): samo karbonat"},{"$f":"Translations!$B$1259","v":"Ulazni materijal u proces [t]"},{"$f":"EUconst_ProcessCarbonate","v":"Standardna metoda: Proces, članak 24. stavak 2."},1,{"$f":"Translations!$B$966","v":"± 7,5%"},{"$f":"Translations!$B$967","v":"± 5,0%"},null,null,{"$f":"Translations!$B$968","v":"± 2,5%"},null,null,null,3,"Koks: Proces (metoda A): samo karbonat",null,"ActivityData_Koks: Proces (metoda A): samo karbonat",null,null,null,false,null,null,false]
[15,"Proizvodnja koksa","Koks",{"$f":"Translations!$B$1260","v":"Proces (metoda A): miješani (karbonat + nekarbonat)"},{"$f":"Translations!$B$1259","v":"Ulazni materijal u proces [t]"},{"$f":"EUconst_ProcessCarbonate","v":"Standardna metoda: Proces, članak 24. stavak 2."},1,{"$f":"Translations!$B$966","v":"± 7,5%"},{"$f":"Translations!$B$967","v":"± 5,0%"},null,null,{"$f":"Translations!$B$968","v":"± 2,5%"},null,null,null,{"$f":"COUNTA(H279:O279)","v":3},{"$f":"C279 & \": \" &D279","v":"Koks: Proces (metoda A): miješani (karbonat + nekarbonat)"},null,{"$f":"EUconst_CNTR_ActivityData&Q279","v":"ActivityData_Koks: Proces (metoda A): miješani (karbonat + nekarbonat)"},null,null,null,false,null,null,false]
[16,"Proizvodnja koksa","Koks",{"$f":"Translations!$B$1261","v":"Proces (metoda A): nekarbonat"},{"$f":"Translations!$B$1259","v":"Ulazni materijal u proces [t]"},{"$f":"EUconst_ProcessCarbonate","v":"Standardna metoda: Proces, članak 24. stavak 2."},1,{"$f":"Translations!$B$966","v":"± 7,5%"},{"$f":"Translations!$B$967","v":"± 5,0%"},null,null,{"$f":"Translations!$B$968","v":"± 2,5%"},null,null,null,{"$f":"COUNTA(H280:O280)","v":3},{"$f":"C280 & \": \" &D280","v":"Koks: Proces (metoda A): nekarbonat"},null,{"$f":"EUconst_CNTR_ActivityData&Q280","v":"ActivityData_Koks: Proces (metoda A): nekarbonat"},null,null,null,false,null,null,false]
[17,{"$f":"B278","v":"Proizvodnja koksa"},{"$f":"C278","v":"Koks"},{"$f":"Translations!$B$1262","v":"Proces (metoda B): izlaz oksida"},{"$f":"Translations!$B$998","v":"Izlaz oksida [t]"},{"$f":"EUconst_ProcessCarbonate","v":"Standardna metoda: Proces, članak 24. stavak 2."},1,{"$f":"Translations!$B$967","v":"± 5,0%"},{"$f":"Translations!$B$968","v":"± 2,5%"},null,null,null,null,null,null,2,"Koks: Proces (metoda B): izlaz oksida",null,"ActivityData_Koks: Proces (metoda B): izlaz oksida",null,null,null,false,null,null,false]
[18,"Proizvodnja koksa","Koks",{"$f":"Translations!$B$984","v":"Bilanca mase"},{"$f":"Translations!$B$974","v":"Pojedinačni ulazni i izlazni materijal [t]"},{"$f":"EUconst_MassBalance","v":"Metoda masene bilance, članak 25."},1,{"$f":"Translations!$B$966","v":"± 7,5%"},{"$f":"Translations!$B$967","v":"± 5,0%"},null,null,{"$f":"Translations!$B$968","v":"± 2,5%"},null,null,{"$f":"Translations!$B$969","v":"± 1,5%"},4,"Koks: Bilanca mase",null,"ActivityData_Koks: Bilanca mase",null,null,null,false,null,null,false]
[19,{"$f":"C234","v":"Pečenje i sinteriranje metalnih ruda"},{"$f":"Translations!$B$1000","v":"Metalne rude"},{"$f":"Translations!$B$1258","v":"Proces (metoda A): samo karbonat"},{"$f":"Translations!$B$1259","v":"Ulazni materijal u proces [t]"},{"$f":"$F$271","v":"Standardna metoda: Proces, članak 24. stavak 2."},1,{"$f":"Translations!$B$967","v":"± 5,0%"},{"$f":"Translations!$B$968","v":"± 2,5%"},null,null,null,null,null,null,2,"Metalne rude: Proces (metoda A): samo karbonat",null,"ActivityData_Metalne rude: Proces (metoda A): samo karbonat",null,null,null,false,null,null,false]
[20,{"$f":"B283","v":"Pečenje i sinteriranje metalnih ruda"},"Metalne rude",{"$f":"Translations!$B$1260","v":"Proces (metoda A): miješani (karbonat + nekarbonat)"},{"$f":"Translations!$B$1259","v":"Ulazni materijal u proces [t]"},{"$f":"EUconst_ProcessCarbonate","v":"Standardna metoda: Proces, članak 24. stavak 2."},1,{"$f":"Translations!$B$966","v":"± 7,5%"},{"$f":"Translations!$B$967","v":"± 5,0%"},null,null,{"$f":"Translations!$B$968","v":"± 2,5%"},null,null,null,{"$f":"COUNTA(H284:O284)","v":3},{"$f":"C284 & \": \" &D284","v":"Metalne rude: Proces (metoda A): miješani (karbonat + nekarbonat)"},null,{"$f":"EUconst_CNTR_ActivityData&Q284","v":"ActivityData_Metalne rude: Proces (metoda A): miješani (karbonat + nekarbonat)"},null,null,null,false,null,null,false]
[21,"Pečenje i sinteriranje metalnih ruda","Metalne rude",{"$f":"Translations!$B$1261","v":"Proces (metoda A): nekarbonat"},{"$f":"Translations!$B$1259","v":"Ulazni materijal u proces [t]"},{"$f":"EUconst_ProcessCarbonate","v":"Standardna metoda: Proces, članak 24. stavak 2."},1,{"$f":"Translations!$B$966","v":"± 7,5%"},{"$f":"Translations!$B$967","v":"± 5,0%"},null,null,{"$f":"Translations!$B$968","v":"± 2,5%"},null,null,null,{"$f":"COUNTA(H285:O285)","v":3},{"$f":"C285 & \": \" &D285","v":"Metalne rude: Proces (metoda A): nekarbonat"},null,{"$f":"EUconst_CNTR_ActivityData&Q285","v":"ActivityData_Metalne rude: Proces (metoda A): nekarbonat"},null,null,null,false,null,null,false]
[22,"Pečenje i sinteriranje metalnih ruda","Metalne rude",{"$f":"Translations!$B$1262","v":"Proces (metoda B): izlaz oksida"},{"$f":"Translations!$B$998","v":"Izlaz oksida [t]"},{"$f":"EUconst_ProcessCarbonate","v":"Standardna metoda: Proces, članak 24. stavak 2."},1,{"$f":"Translations!$B$967","v":"± 5,0%"},{"$f":"Translations!$B$968","v":"± 2,5%"},null,null,null,null,null,null,{"$f":"COUNTA(H286:O286)","v":2},{"$f":"C286 & \": \" &D286","v":"Metalne rude: Proces (metoda B): izlaz oksida"},null,{"$f":"EUconst_CNTR_ActivityData&Q286","v":"ActivityData_Metalne rude: Proces (metoda B): izlaz oksida"},null,null,null,false,null,null,false]
[23,{"$f":"B283","v":"Pečenje i sinteriranje metalnih ruda"},{"$f":"C283","v":"Metalne rude"},{"$f":"Translations!$B$984","v":"Bilanca mase"},{"$f":"Translations!$B$974","v":"Pojedinačni ulazni i izlazni materijal [t]"},{"$f":"EUconst_MassBalance","v":"Metoda masene bilance, članak 25."},1,{"$f":"Translations!$B$966","v":"± 7,5%"},{"$f":"Translations!$B$967","v":"± 5,0%"},null,null,{"$f":"Translations!$B$968","v":"± 2,5%"},null,null,{"$f":"Translations!$B$969","v":"± 1,5%"},4,"Metalne rude: Bilanca mase",null,"ActivityData_Metalne rude: Bilanca mase",null,null,null,false,null,null,false]
[24,{"$f":"C235","v":"Proizvodnja željeza ili čelika"},{"$f":"Translations!$B$1004","v":"Željezo i čelik"},{"$f":"Translations!$B$994","v":"Gorivo koje se koristi kao ulazni materijal procesa"},{"$f":"Translations!$B$1005","v":"Svaki ulazni i izlazni materijal iz postrojenja [t]"},{"$f":"$F$265","v":"Standardna metoda: Gorivo, članak 24. stavak 1.Uredbe"},1,{"$f":"Translations!$B$966","v":"± 7,5%"},{"$f":"Translations!$B$967","v":"± 5,0%"},null,null,{"$f":"Translations!$B$968","v":"± 2,5%"},null,null,{"$f":"Translations!$B$969","v":"± 1,5%"},4,"Željezo i čelik: Gorivo koje se koristi kao ulazni materijal procesa",null,"ActivityData_Željezo i čelik: Gorivo koje se koristi kao ulazni materijal procesa",null,null,null,false,null,null,false]
[25,{"$f":"B288","v":"Proizvodnja željeza ili čelika"},"Željezo i čelik",{"$f":"Translations!$B$1258","v":"Proces (metoda A): samo karbonat"},{"$f":"Translations!$B$1259","v":"Ulazni materijal u proces [t]"},{"$f":"$F$271","v":"Standardna metoda: Proces, članak 24. stavak 2."},1,{"$f":"Translations!$B$966","v":"± 7,5%"},{"$f":"Translations!$B$967","v":"± 5,0%"},null,null,{"$f":"Translations!$B$968","v":"± 2,5%"},null,null,null,3,"Željezo i čelik: Proces (metoda A): samo karbonat",null,"ActivityData_Željezo i čelik: Proces (metoda A): samo karbonat",null,null,null,false,null,null,false]
[26,"Proizvodnja željeza ili čelika","Željezo i čelik",{"$f":"Translations!$B$1260","v":"Proces (metoda A): miješani (karbonat + nekarbonat)"},{"$f":"Translations!$B$1259","v":"Ulazni materijal u proces [t]"},{"$f":"$F$271","v":"Standardna metoda: Proces, članak 24. stavak 2."},1,{"$f":"Translations!$B$966","v":"± 7,5%"},{"$f":"Translations!$B$967","v":"± 5,0%"},null,null,{"$f":"Translations!$B$968","v":"± 2,5%"},null,null,null,{"$f":"COUNTA(H290:O290)","v":3},{"$f":"C290 & \": \" &D290","v":"Željezo i čelik: Proces (metoda A): miješani (karbonat + nekarbonat)"},null,{"$f":"EUconst_CNTR_ActivityData&Q290","v":"ActivityData_Željezo i čelik: Proces (metoda A): miješani (karbonat + nekarbonat)"},null,null,null,false,null,null,false]
[27,"Proizvodnja željeza ili čelika","Željezo i čelik",{"$f":"Translations!$B$1261","v":"Proces (metoda A): nekarbonat"},{"$f":"Translations!$B$1259","v":"Ulazni materijal u proces [t]"},{"$f":"$F$271","v":"Standardna metoda: Proces, članak 24. stavak 2."},1,{"$f":"Translations!$B$966","v":"± 7,5%"},{"$f":"Translations!$B$967","v":"± 5,0%"},null,null,{"$f":"Translations!$B$968","v":"± 2,5%"},null,null,null,3,"Željezo i čelik: Proces (metoda A): nekarbonat",null,"ActivityData_Željezo i čelik: Proces (metoda A): nekarbonat",null,null,null,false,null,null,false]
[28,"Proizvodnja željeza ili čelika","Željezo i čelik",{"$f":"Translations!$B$1262","v":"Proces (metoda B): izlaz oksida"},{"$f":"Translations!$B$998","v":"Izlaz oksida [t]"},{"$f":"$F$271","v":"Standardna metoda: Proces, članak 24. stavak 2."},1,{"$f":"Translations!$B$967","v":"± 5,0%"},{"$f":"Translations!$B$968","v":"± 2,5%"},null,null,null,null,null,null,2,"Željezo i čelik: Proces (metoda B): izlaz oksida",null,"ActivityData_Željezo i čelik: Proces (metoda B): izlaz oksida",null,null,null,false,null,null,false]
[29,{"$f":"B288","v":"Proizvodnja željeza ili čelika"},{"$f":"C288","v":"Željezo i čelik"},{"$f":"Translations!$B$984","v":"Bilanca mase"},{"$f":"Translations!$B$974","v":"Pojedinačni ulazni i izlazni materijal [t]"},{"$f":"EUconst_MassBalance","v":"Metoda masene bilance, članak 25."},1,{"$f":"Translations!$B$966","v":"± 7,5%"},{"$f":"Translations!$B$967","v":"± 5,0%"},null,null,{"$f":"Translations!$B$968","v":"± 2,5%"},null,null,{"$f":"Translations!$B$969","v":"± 1,5%"},4,"Željezo i čelik: Bilanca mase",null,"ActivityData_Željezo i čelik: Bilanca mase",null,null,null,false,null,null,false]
[30,{"$f":"C240","v":"Proizvodnja cementnog klinkera"},{"$f":"Translations!$B$1006","v":"Cementni klinker"},{"$f":"Translations!$B$1007","v":"Na temelju ulaza u peć (Metoda A)"},{"$f":"Translations!$B$1008","v":"Svaki relevantni ulaz u peć [t]"},{"$f":"$F$271","v":"Standardna metoda: Proces, članak 24. stavak 2."},1,{"$f":"Translations!$B$966","v":"± 7,5%"},{"$f":"Translations!$B$967","v":"± 5,0%"},null,null,{"$f":"Translations!$B$968","v":"± 2,5%"},null,null,null,3,"Cementni klinker: Na temelju ulaza u peć (Metoda A)",null,"ActivityData_Cementni klinker: Na temelju ulaza u peć (Metoda A)",null,null,null,false,null,null,false]
[31,{"$f":"B294","v":"Proizvodnja cementnog klinkera"},"Cementni klinker",{"$f":"Translations!$B$1009","v":"Izlaz klinkera (Metoda B)"},{"$f":"Translations!$B$1010","v":"Proizvedeni klinker [t]"},"Standardna metoda: Proces, članak 24. stavak 2.",1,{"$f":"Translations!$B$967","v":"± 5,0%"},{"$f":"Translations!$B$968","v":"± 2,5%"},null,null,null,null,null,null,2,"Cementni klinker: Izlaz klinkera (Metoda B)",null,"ActivityData_Cementni klinker: Izlaz klinkera (Metoda B)",null,null,null,false,null,null,false]
[32,"Proizvodnja cementnog klinkera","Cementni klinker",{"$f":"Translations!$B$1011","v":"CKD"},{"$f":"Translations!$B$1012","v":"CKD ili prašina iz bypassa [t]"},"Standardna metoda: Proces, članak 24. stavak 2.",1,{"$f":"EUconst_MsgTierCKD","v":"(nije primjenjivo; koristite procjenu temeljenu na najboljoj praksi)"},{"$f":"Translations!$B$966","v":"± 7,5%"},null,null,null,null,null,null,2,"Cementni klinker: CKD",null,"ActivityData_Cementni klinker: CKD",null,null,null,false,null,null,false]
[33,"Proizvodnja cementnog klinkera","Cementni klinker",{"$f":"Translations!$B$1013","v":"Ne-karbonatni ugljik"},{"$f":"Translations!$B$1014","v":"Pojedina sirovina [t]"},"Standardna metoda: Proces, članak 24. stavak 2.",1,{"$f":"Translations!$B$1015","v":"± 15,0%"},{"$f":"Translations!$B$966","v":"± 7,5%"},null,null,null,null,null,null,2,"Cementni klinker: Ne-karbonatni ugljik",null,"ActivityData_Cementni klinker: Ne-karbonatni ugljik",null,null,null,false,null,null,false]
[34,{"$f":"C241","v":"Proizvodnja vapna ili kalcinacija dolomita/magnezita"},{"$f":"Translations!$B$1017","v":"Vapno / dolomit / magnezit"},{"$f":"Translations!$B$1258","v":"Proces (metoda A): samo karbonat"},{"$f":"Translations!$B$1259","v":"Ulazni materijal u proces [t]"},"Standardna metoda: Proces, članak 24. stavak 2.",1,{"$f":"Translations!$B$966","v":"± 7,5%"},{"$f":"Translations!$B$967","v":"± 5,0%"},null,null,{"$f":"Translations!$B$968","v":"± 2,5%"},null,null,null,3,"Vapno / dolomit / magnezit: Proces (metoda A): samo karbonat",null,"ActivityData_Vapno / dolomit / magnezit: Proces (metoda A): samo karbonat",null,null,null,false,null,null,false]
[35,{"$f":"B298","v":"Proizvodnja vapna ili kalcinacija dolomita/magnezita"},{"$f":"Translations!$B$1017","v":"Vapno / dolomit / magnezit"},{"$f":"Translations!$B$1260","v":"Proces (metoda A): miješani (karbonat + nekarbonat)"},{"$f":"Translations!$B$1259","v":"Ulazni materijal u proces [t]"},"Standardna metoda: Proces, članak 24. stavak 2.",1,{"$f":"Translations!$B$966","v":"± 7,5%"},{"$f":"Translations!$B$967","v":"± 5,0%"},null,null,{"$f":"Translations!$B$968","v":"± 2,5%"},null,null,null,3,"Vapno / dolomit / magnezit: Proces (metoda A): miješani (karbonat + nekarbonat)",null,"ActivityData_Vapno / dolomit / magnezit: Proces (metoda A): miješani (karbonat + nekarbonat)",null,null,null,false,null,null,false]
[36,{"$f":"B299","v":"Proizvodnja vapna ili kalcinacija dolomita/magnezita"},{"$f":"Translations!$B$1017","v":"Vapno / dolomit / magnezit"},{"$f":"Translations!$B$1261","v":"Proces (metoda A): nekarbonat"},{"$f":"Translations!$B$1259","v":"Ulazni materijal u proces [t]"},"Standardna metoda: Proces, članak 24. stavak 2.",1,{"$f":"Translations!$B$966","v":"± 7,5%"},{"$f":"Translations!$B$967","v":"± 5,0%"},null,null,{"$f":"Translations!$B$968","v":"± 2,5%"},null,null,null,3,"Vapno / dolomit / magnezit: Proces (metoda A): nekarbonat",null,"ActivityData_Vapno / dolomit / magnezit: Proces (metoda A): nekarbonat",null,null,null,false,null,null,false]
[37,{"$f":"B298","v":"Proizvodnja vapna ili kalcinacija dolomita/magnezita"},{"$f":"C298","v":"Vapno / dolomit / magnezit"},{"$f":"Translations!$B$1262","v":"Proces (metoda B): izlaz oksida"},{"$f":"Translations!$B$998","v":"Izlaz oksida [t]"},"Standardna metoda: Proces, članak 24. stavak 2.",1,{"$f":"Translations!$B$967","v":"± 5,0%"},{"$f":"Translations!$B$968","v":"± 2,5%"},null,null,null,null,null,null,2,"Vapno / dolomit / magnezit: Proces (metoda B): izlaz oksida",null,"ActivityData_Vapno / dolomit / magnezit: Proces (metoda B): izlaz oksida",null,null,null,false,null,null,false]
[38,{"$f":"B301","v":"Proizvodnja vapna ili kalcinacija dolomita/magnezita"},{"$f":"C301","v":"Vapno / dolomit / magnezit"},{"$f":"Translations!$B$1021","v":"Prašina iz peći (Metoda B)"},{"$f":"Translations!$B$1022","v":"Prašina iz peći [t]"},"Standardna metoda: Proces, članak 24. stavak 2.",1,{"$f":"EUconst_MsgTierCKD","v":"(nije primjenjivo; koristite procjenu temeljenu na najboljoj praksi)"},{"$f":"Translations!$B$966","v":"± 7,5%"},null,null,null,null,null,null,2,"Vapno / dolomit / magnezit: Prašina iz peći (Metoda B)",null,"ActivityData_Vapno / dolomit / magnezit: Prašina iz peći (Metoda B)",null,null,null,false,null,null,false]
[39,{"$f":"C242","v":"Proizvodnja stakla"},{"$f":"Translations!$B$1024","v":"Staklo i mineralna vuna"},{"$f":"Translations!$B$1258","v":"Proces (metoda A): samo karbonat"},{"$f":"Translations!$B$1259","v":"Ulazni materijal u proces [t]"},"Standardna metoda: Proces, članak 24. stavak 2.",1,{"$f":"Translations!$B$968","v":"± 2,5%"},{"$f":"Translations!$B$969","v":"± 1,5%"},null,null,null,null,null,null,2,"Staklo i mineralna vuna: Proces (metoda A): samo karbonat",null,"ActivityData_Staklo i mineralna vuna: Proces (metoda A): samo karbonat",null,null,null,false,null,null,false]
[40,{"$f":"C242","v":"Proizvodnja stakla"},{"$f":"Translations!$B$1024","v":"Staklo i mineralna vuna"},{"$f":"Translations!$B$1260","v":"Proces (metoda A): miješani (karbonat + nekarbonat)"},{"$f":"Translations!$B$1259","v":"Ulazni materijal u proces [t]"},"Standardna metoda: Proces, članak 24. stavak 2.",1,{"$f":"Translations!$B$968","v":"± 2,5%"},{"$f":"Translations!$B$969","v":"± 1,5%"},null,null,null,null,null,null,2,"Staklo i mineralna vuna: Proces (metoda A): miješani (karbonat + nekarbonat)",null,"ActivityData_Staklo i mineralna vuna: Proces (metoda A): miješani (karbonat + nekarbonat)",null,null,null,false,null,null,false]
[41,{"$f":"B304","v":"Proizvodnja stakla"},{"$f":"Translations!$B$1024","v":"Staklo i mineralna vuna"},{"$f":"Translations!$B$1261","v":"Proces (metoda A): nekarbonat"},{"$f":"Translations!$B$1259","v":"Ulazni materijal u proces [t]"},"Standardna metoda: Proces, članak 24. stavak 2.",1,{"$f":"Translations!$B$968","v":"± 2,5%"},{"$f":"Translations!$B$969","v":"± 1,5%"},null,null,null,null,null,null,2,"Staklo i mineralna vuna: Proces (metoda A): nekarbonat",null,"ActivityData_Staklo i mineralna vuna: Proces (metoda A): nekarbonat",null,null,null,false,null,null,false]
[42,{"$f":"C243","v":"Proizvodnja keramike"},{"$f":"Translations!$B$1028","v":"Keramika"},{"$f":"Translations!$B$1258","v":"Proces (metoda A): samo karbonat"},{"$f":"Translations!$B$1259","v":"Ulazni materijal u proces [t]"},"Standardna metoda: Proces, članak 24. stavak 2.",1,{"$f":"Translations!$B$966","v":"± 7,5%"},{"$f":"Translations!$B$967","v":"± 5,0%"},null,null,{"$f":"Translations!$B$968","v":"± 2,5%"},null,null,null,3,"Keramika: Proces (metoda A): samo karbonat",null,"ActivityData_Keramika: Proces (metoda A): samo karbonat",null,null,null,false,null,null,false]
[43,{"$f":"B306","v":"Proizvodnja keramike"},{"$f":"C306","v":"Keramika"},{"$f":"Translations!$B$1260","v":"Proces (metoda A): miješani (karbonat + nekarbonat)"},{"$f":"Translations!$B$1259","v":"Ulazni materijal u proces [t]"},{"$f":"EUconst_ProcessCarbonate","v":"Standardna metoda: Proces, članak 24. stavak 2."},1,{"$f":"Translations!$B$966","v":"± 7,5%"},{"$f":"Translations!$B$967","v":"± 5,0%"},null,null,{"$f":"Translations!$B$968","v":"± 2,5%"},null,null,null,3,"Keramika: Proces (metoda A): miješani (karbonat + nekarbonat)",null,"ActivityData_Keramika: Proces (metoda A): miješani (karbonat + nekarbonat)",null,null,null,false,null,null,false]
[44,{"$f":"B307","v":"Proizvodnja keramike"},{"$f":"C307","v":"Keramika"},{"$f":"Translations!$B$1261","v":"Proces (metoda A): nekarbonat"},{"$f":"Translations!$B$1259","v":"Ulazni materijal u proces [t]"},{"$f":"EUconst_ProcessCarbonate","v":"Standardna metoda: Proces, članak 24. stavak 2."},1,{"$f":"Translations!$B$966","v":"± 7,5%"},{"$f":"Translations!$B$967","v":"± 5,0%"},null,null,{"$f":"Translations!$B$968","v":"± 2,5%"},null,null,null,3,"Keramika: Proces (metoda A): nekarbonat",null,"ActivityData_Keramika: Proces (metoda A): nekarbonat",null,null,null,false,null,null,false]
[45,{"$f":"B308","v":"Proizvodnja keramike"},{"$f":"C306","v":"Keramika"},{"$f":"Translations!$B$1262","v":"Proces (metoda B): izlaz oksida"},{"$f":"Translations!$B$1032","v":"Bruto proizvodnja, uključujući i odbačene proizvode te reciklažno staklo iz peći i pošiljki [t]"},"Standardna metoda: Proces, članak 24. stavak 2.",1,{"$f":"Translations!$B$966","v":"± 7,5%"},{"$f":"Translations!$B$967","v":"± 5,0%"},null,null,{"$f":"Translations!$B$968","v":"± 2,5%"},null,null,null,3,"Keramika: Proces (metoda B): izlaz oksida",null,"ActivityData_Keramika: Proces (metoda B): izlaz oksida",null,null,null,false,null,null,false]
[46,{"$f":"B309","v":"Proizvodnja keramike"},{"$f":"C309","v":"Keramika"},{"$f":"Translations!$B$1033","v":"Čišćenje mokrim postupkom"},{"$f":"Translations!$B$1034","v":"Potrošeni suhi CaCO3 [t]"},"Standardna metoda: Proces, članak 24. stavak 2.",1,{"$f":"Translations!$B$966","v":"± 7,5%"},null,null,null,null,null,null,null,1,"Keramika: Čišćenje mokrim postupkom",null,"ActivityData_Keramika: Čišćenje mokrim postupkom",null,null,null,false,null,null,{"$f":"IF(G310=EUconst_NA,TRUE,FALSE)","v":false}]
[47,{"$f":"C246","v":"Proizvodnja celuloze"},{"$f":"Translations!$B$1036","v":"Celuloza i papir"},{"$f":"Translations!$B$1037","v":"Dodatne kemikalije"},{"$f":"Translations!$B$1038","v":"Količina CaCO3 i Na2CO3 [t]"},"Standardna metoda: Proces, članak 24. stavak 2.",1,{"$f":"Translations!$B$968","v":"± 2,5%"},{"$f":"Translations!$B$969","v":"± 1,5%"},null,null,null,null,null,null,2,"Celuloza i papir: Dodatne kemikalije",null,"ActivityData_Celuloza i papir: Dodatne kemikalije",null,null,null,false,null,null,false]
[48,{"$f":"C248","v":"Proizvodnja čađe "},{"$f":"Translations!$B$1039","v":"Čađa"},{"$f":"Translations!$B$1040","v":"Metodologija masene bilance"},{"$f":"Translations!$B$974","v":"Pojedinačni ulazni i izlazni materijal [t]"},{"$f":"EUconst_MassBalance","v":"Metoda masene bilance, članak 25."},1,{"$f":"Translations!$B$966","v":"± 7,5%"},{"$f":"Translations!$B$967","v":"± 5,0%"},null,null,{"$f":"Translations!$B$968","v":"± 2,5%"},null,null,{"$f":"Translations!$B$969","v":"± 1,5%"},4,"Čađa: Metodologija masene bilance",null,"ActivityData_Čađa: Metodologija masene bilance",null,null,null,false,null,null,false]
[49,{"$f":"C252","v":"Proizvodnja amonijaka"},{"$f":"Translations!$B$1041","v":"Amonijak"},{"$f":"Translations!$B$994","v":"Gorivo koje se koristi kao ulazni materijal procesa"},{"$f":"Translations!$B$1042","v":"Količina goriva korištena kao ulazni materijal procesa [t] ili [Nm3]"},{"$f":"$F$265","v":"Standardna metoda: Gorivo, članak 24. stavak 1.Uredbe"},2,{"$f":"Translations!$B$966","v":"± 7,5%"},{"$f":"Translations!$B$967","v":"± 5,0%"},null,null,{"$f":"Translations!$B$968","v":"± 2,5%"},null,null,{"$f":"Translations!$B$969","v":"± 1,5%"},4,"Amonijak: Gorivo koje se koristi kao ulazni materijal procesa",null,"ActivityData_Amonijak: Gorivo koje se koristi kao ulazni materijal procesa",null,null,null,false,null,null,false]
[50,{"$f":"C254","v":"Proizvodnja vodika i sintetskog plina"},{"$f":"Translations!$B$1043","v":"Vodik i sintetski plin"},{"$f":"Translations!$B$994","v":"Gorivo koje se koristi kao ulazni materijal procesa"},{"$f":"Translations!$B$1044","v":"Količina goriva korištena kao ulazni materijal procesa [t] ili [Nm3]"},{"$f":"$F$265","v":"Standardna metoda: Gorivo, članak 24. stavak 1.Uredbe"},2,{"$f":"Translations!$B$966","v":"± 7,5%"},{"$f":"Translations!$B$967","v":"± 5,0%"},null,null,{"$f":"Translations!$B$968","v":"± 2,5%"},null,null,{"$f":"Translations!$B$969","v":"± 1,5%"},4,"Vodik i sintetski plin: Gorivo koje se koristi kao ulazni materijal procesa",null,"ActivityData_Vodik i sintetski plin: Gorivo koje se koristi kao ulazni materijal procesa",null,null,null,false,null,null,false]
[51,{"$f":"B314","v":"Proizvodnja vodika i sintetskog plina"},{"$f":"C314","v":"Vodik i sintetski plin"},{"$f":"Translations!$B$1040","v":"Metodologija masene bilance"},{"$f":"Translations!$B$974","v":"Pojedinačni ulazni i izlazni materijal [t]"},{"$f":"EUconst_MassBalance","v":"Metoda masene bilance, članak 25."},1,{"$f":"Translations!$B$966","v":"± 7,5%"},{"$f":"Translations!$B$967","v":"± 5,0%"},null,null,{"$f":"Translations!$B$968","v":"± 2,5%"},null,null,{"$f":"Translations!$B$969","v":"± 1,5%"},4,"Vodik i sintetski plin: Metodologija masene bilance",null,"ActivityData_Vodik i sintetski plin: Metodologija masene bilance",null,null,null,false,null,null,false]
[52,{"$f":"C253","v":"Proizvodnja kemikalija na veliko "},{"$f":"Translations!$B$1046","v":"Organske kemikalije na veliko"},{"$f":"Translations!$B$1040","v":"Metodologija masene bilance"},{"$f":"Translations!$B$974","v":"Pojedinačni ulazni i izlazni materijal [t]"},{"$f":"EUconst_MassBalance","v":"Metoda masene bilance, članak 25."},1,{"$f":"Translations!$B$966","v":"± 7,5%"},{"$f":"Translations!$B$967","v":"± 5,0%"},null,null,{"$f":"Translations!$B$968","v":"± 2,5%"},null,null,{"$f":"Translations!$B$969","v":"± 1,5%"},4,"Organske kemikalije na veliko: Metodologija masene bilance",null,"ActivityData_Organske kemikalije na veliko: Metodologija masene bilance",null,null,null,false,null,null,false]
[53,{"$f":"C236","v":"Proizvodnja ili prerada obojenih metala"},{"$f":"Translations!$B$1048","v":"Neobojeni, sek. aluminij"},{"$f":"Translations!$B$1258","v":"Proces (metoda A): samo karbonat"},{"$f":"Translations!$B$1259","v":"Ulazni materijal u proces [t]"},{"$f":"$F$271","v":"Standardna metoda: Proces, članak 24. stavak 2."},1,{"$f":"Translations!$B$967","v":"± 5,0%"},{"$f":"Translations!$B$968","v":"± 2,5%"},null,null,null,null,null,null,2,"Neobojeni, sek. aluminij: Proces (metoda A): samo karbonat",null,"ActivityData_Neobojeni, sek. aluminij: Proces (metoda A): samo karbonat",null,null,null,false,null,null,false]
[54,{"$f":"B317","v":"Proizvodnja ili prerada obojenih metala"},{"$f":"Translations!$B$1048","v":"Neobojeni, sek. aluminij"},{"$f":"Translations!$B$1260","v":"Proces (metoda A): miješani (karbonat + nekarbonat)"},{"$f":"Translations!$B$1259","v":"Ulazni materijal u proces [t]"},{"$f":"$F$271","v":"Standardna metoda: Proces, članak 24. stavak 2."},1,{"$f":"Translations!$B$967","v":"± 5,0%"},{"$f":"Translations!$B$968","v":"± 2,5%"},null,null,null,null,null,null,2,"Neobojeni, sek. aluminij: Proces (metoda A): miješani (karbonat + nekarbonat)",null,"ActivityData_Neobojeni, sek. aluminij: Proces (metoda A): miješani (karbonat + nekarbonat)",null,null,null,false,null,null,false]
[55,{"$f":"B318","v":"Proizvodnja ili prerada obojenih metala"},{"$f":"Translations!$B$1048","v":"Neobojeni, sek. aluminij"},{"$f":"Translations!$B$1261","v":"Proces (metoda A): nekarbonat"},{"$f":"Translations!$B$1259","v":"Ulazni materijal u proces [t]"},{"$f":"$F$271","v":"Standardna metoda: Proces, članak 24. stavak 2."},1,{"$f":"Translations!$B$967","v":"± 5,0%"},{"$f":"Translations!$B$968","v":"± 2,5%"},null,null,null,null,null,null,2,"Neobojeni, sek. aluminij: Proces (metoda A): nekarbonat",null,"ActivityData_Neobojeni, sek. aluminij: Proces (metoda A): nekarbonat",null,null,null,false,null,null,false]
[56,{"$f":"B319","v":"Proizvodnja ili prerada obojenih metala"},{"$f":"Translations!$B$1048","v":"Neobojeni, sek. aluminij"},{"$f":"Translations!$B$1262","v":"Proces (metoda B): izlaz oksida"},{"$f":"Translations!$B$998","v":"Izlaz oksida [t]"},{"$f":"$F$271","v":"Standardna metoda: Proces, članak 24. stavak 2."},1,{"$f":"Translations!$B$967","v":"± 5,0%"},{"$f":"Translations!$B$968","v":"± 2,5%"},null,null,null,null,null,null,2,"Neobojeni, sek. aluminij: Proces (metoda B): izlaz oksida",null,"ActivityData_Neobojeni, sek. aluminij: Proces (metoda B): izlaz oksida",null,null,null,false,null,null,false]
[57,{"$f":"B320","v":"Proizvodnja ili prerada obojenih metala"},{"$f":"C317","v":"Neobojeni, sek. aluminij"},{"$f":"Translations!$B$1040","v":"Metodologija masene bilance"},{"$f":"Translations!$B$974","v":"Pojedinačni ulazni i izlazni materijal [t]"},{"$f":"EUconst_MassBalance","v":"Metoda masene bilance, članak 25."},1,{"$f":"Translations!$B$966","v":"± 7,5%"},{"$f":"Translations!$B$967","v":"± 5,0%"},null,null,{"$f":"Translations!$B$968","v":"± 2,5%"},null,null,{"$f":"Translations!$B$969","v":"± 1,5%"},4,"Neobojeni, sek. aluminij: Metodologija masene bilance",null,"ActivityData_Neobojeni, sek. aluminij: Metodologija masene bilance",null,null,null,false,null,null,false]
[58,{"$f":"C255","v":"Proizvodnja natrij karbonata i natrij-bikarbonata"},{"$f":"Translations!$B$1051","v":"Natrij karbonat / natrij bikarbonat"},{"$f":"Translations!$B$1040","v":"Metodologija masene bilance"},{"$f":"Translations!$B$974","v":"Pojedinačni ulazni i izlazni materijal [t]"},{"$f":"EUconst_MassBalance","v":"Metoda masene bilance, članak 25."},1,{"$f":"Translations!$B$966","v":"± 7,5%"},{"$f":"Translations!$B$967","v":"± 5,0%"},null,null,{"$f":"Translations!$B$968","v":"± 2,5%"},null,null,{"$f":"Translations!$B$969","v":"± 1,5%"},4,"Natrij karbonat / natrij bikarbonat: Metodologija masene bilance",null,"ActivityData_Natrij karbonat / natrij bikarbonat: Metodologija masene bilance",null,null,null,false,null,null,false]
[59,{"$f":"C237","v":"Proizvodnja primarnog aluminija"},{"$f":"Translations!$B$1053","v":"Primarni aluminij"},{"$f":"Translations!$B$1040","v":"Metodologija masene bilance"},{"$f":"Translations!$B$974","v":"Pojedinačni ulazni i izlazni materijal [t]"},{"$f":"EUconst_MassBalance","v":"Metoda masene bilance, članak 25."},1,{"$f":"Translations!$B$966","v":"± 7,5%"},{"$f":"Translations!$B$967","v":"± 5,0%"},null,null,{"$f":"Translations!$B$968","v":"± 2,5%"},null,null,{"$f":"Translations!$B$969","v":"± 1,5%"},4,"Primarni aluminij: Metodologija masene bilance",null,"ActivityData_Primarni aluminij: Metodologija masene bilance",null,null,null,false,null,null,false]
[60,{"$f":"B323","v":"Proizvodnja primarnog aluminija"},{"$f":"C323","v":"Primarni aluminij"},{"$f":"Translations!$B$1054","v":"Emisije PFC (Metoda nagiba)"},{"$f":"Translations!$B$1055","v":"Proizvodnja primarnog aluminija u [t], minute učinka anode [broj učinka anode/ćelija-dan] i [minute učinka anode /pojavi]"},{"$f":"EUconst_ProcessPFC","v":"Izračun sa specijalnim odredbama za PFC (Prilog IV, poglavlje 8.)"},1,{"$f":"Translations!$B$968","v":"± 2,5%"},{"$f":"Translations!$B$969","v":"± 1,5%"},null,null,null,null,null,null,2,"Primarni aluminij: Emisije PFC (Metoda nagiba)",null,"ActivityData_Primarni aluminij: Emisije PFC (Metoda nagiba)",null,null,null,false,null,null,false]
[61,{"$f":"B324","v":"Proizvodnja primarnog aluminija"},{"$f":"C324","v":"Primarni aluminij"},{"$f":"Translations!$B$1056","v":"Emisije PFC (prenaponska metoda)"},{"$f":"Translations!$B$1057","v":"Proizvodnja primarnog aluminija u [t], prenapon učinka anode  [mV] i učinkovitost struje [-]"},{"$f":"EUconst_ProcessPFC","v":"Izračun sa specijalnim odredbama za PFC (Prilog IV, poglavlje 8.)"},1,{"$f":"Translations!$B$968","v":"± 2,5%"},{"$f":"Translations!$B$969","v":"± 1,5%"},null,null,null,null,null,null,2,"Primarni aluminij: Emisije PFC (prenaponska metoda)",null,"ActivityData_Primarni aluminij: Emisije PFC (prenaponska metoda)",null,null,null,false,null,null,false]
[62,{"$f":"C256","v":"Hvatanje stakleničkih plinova prema Direktivi 2009/31/EC"},"CCS: Capture","CO2 transferred","CO2 [t]",{"$f":"EUconst_MassBalance","v":"Metoda masene bilance, članak 25."},1,{"$f":"Translations!$B$966","v":"± 7,5%"},{"$f":"Translations!$B$967","v":"± 5,0%"},null,null,{"$f":"Translations!$B$968","v":"± 2,5%"},null,null,{"$f":"Translations!$B$969","v":"± 1,5%"},4,{"$f":"C326 & \": \" &D326","v":"CCS: Capture: CO2 transferred"},null,{"$f":"EUconst_CNTR_ActivityData&Q326","v":"ActivityData_CCS: Capture: CO2 transferred"},null,null,null,true,null,null,false]
[63,{"$f":"C257","v":"Transport stakleničkih plinova prema Direktivi 2009/31/EC"},"CCS: Transport","CO2 transferred","CO2 [t]",{"$f":"EUconst_MassBalance","v":"Metoda masene bilance, članak 25."},1,{"$f":"Translations!$B$966","v":"± 7,5%"},{"$f":"Translations!$B$967","v":"± 5,0%"},null,null,{"$f":"Translations!$B$968","v":"± 2,5%"},null,null,{"$f":"Translations!$B$969","v":"± 1,5%"},4,"CCS: Transport: CO2 transferred",null,"ActivityData_CCS: Transport: CO2 transferred",null,null,null,true,null,null,false]
[64,{"$f":"B327","v":"Transport stakleničkih plinova prema Direktivi 2009/31/EC"},"CCS: Transport","CO2 vented","CO2 [t]",{"$f":"EUconst_ProcessCarbonate","v":"Standardna metoda: Proces, članak 24. stavak 2."},1,{"$f":"Translations!$B$977","v":"± 17,5%"},{"$f":"Translations!$B$978","v":"± 12,5%"},null,null,{"$f":"Translations!$B$966","v":"± 7,5%"},null,null,null,3,"CCS: Transport: CO2 vented",null,"ActivityData_CCS: Transport: CO2 vented",null,null,null,false,null,null,false]
[65,"Transport stakleničkih plinova prema Direktivi 2009/31/EC","CCS: Transport","CO2 leaked","CO2 [t]",{"$f":"EUconst_ProcessCarbonate","v":"Standardna metoda: Proces, članak 24. stavak 2."},1,{"$f":"Translations!$B$977","v":"± 17,5%"},{"$f":"Translations!$B$978","v":"± 12,5%"},null,null,{"$f":"Translations!$B$966","v":"± 7,5%"},null,null,null,3,"CCS: Transport: CO2 leaked",null,"ActivityData_CCS: Transport: CO2 leaked",null,null,null,false,null,null,false]
[66,"Transport stakleničkih plinova prema Direktivi 2009/31/EC","CCS: Transport","CO2 fugitive","CO2 [t]",{"$f":"EUconst_ProcessCarbonate","v":"Standardna metoda: Proces, članak 24. stavak 2."},1,{"$f":"Translations!$B$977","v":"± 17,5%"},{"$f":"Translations!$B$978","v":"± 12,5%"},null,null,{"$f":"Translations!$B$966","v":"± 7,5%"},null,null,null,3,"CCS: Transport: CO2 fugitive",null,"ActivityData_CCS: Transport: CO2 fugitive",null,null,null,false,null,null,false]
[67,{"$f":"C258","v":"Skladištenje stakleničkih plinova prema Direktivi 2009/31/EC"},"CCS: Storage","CO2 transferred","CO2 [t]",{"$f":"EUconst_MassBalance","v":"Metoda masene bilance, članak 25."},2,{"$f":"Translations!$B$966","v":"± 7,5%"},{"$f":"Translations!$B$967","v":"± 5,0%"},null,null,{"$f":"Translations!$B$968","v":"± 2,5%"},null,null,{"$f":"Translations!$B$969","v":"± 1,5%"},4,"CCS: Storage: CO2 transferred",null,"ActivityData_CCS: Storage: CO2 transferred",null,null,null,true,null,null,false]
[68,{"$f":"B331","v":"Skladištenje stakleničkih plinova prema Direktivi 2009/31/EC"},"CCS: Storage","CO2 vented","CO2 [t]",{"$f":"EUconst_ProcessCarbonate","v":"Standardna metoda: Proces, članak 24. stavak 2."},2,{"$f":"Translations!$B$977","v":"± 17,5%"},{"$f":"Translations!$B$978","v":"± 12,5%"},null,null,{"$f":"Translations!$B$966","v":"± 7,5%"},null,null,null,3,"CCS: Storage: CO2 vented",null,"ActivityData_CCS: Storage: CO2 vented",null,null,null,false,null,null,false]
[69,"Skladištenje stakleničkih plinova prema Direktivi 2009/31/EC","CCS: Storage","CO2 leaked","CO2 [t]",{"$f":"EUconst_ProcessCarbonate","v":"Standardna metoda: Proces, članak 24. stavak 2."},2,{"$f":"Translations!$B$977","v":"± 17,5%"},{"$f":"Translations!$B$978","v":"± 12,5%"},null,null,{"$f":"Translations!$B$966","v":"± 7,5%"},null,null,null,3,"CCS: Storage: CO2 leaked",null,"ActivityData_CCS: Storage: CO2 leaked",null,null,null,false,null,null,false]
[70,"Skladištenje stakleničkih plinova prema Direktivi 2009/31/EC","CCS: Storage","CO2 fugitive","CO2 [t]",{"$f":"EUconst_ProcessCarbonate","v":"Standardna metoda: Proces, članak 24. stavak 2."},2,{"$f":"Translations!$B$977","v":"± 17,5%"},{"$f":"Translations!$B$978","v":"± 12,5%"},null,null,{"$f":"Translations!$B$966","v":"± 7,5%"},null,null,null,3,"CCS: Storage: CO2 fugitive",null,"ActivityData_CCS: Storage: CO2 fugitive",null,null,null,false,null,null,false]
[null,null,null,null,null,null,null,null,null,null,null,null,null,null,null,null,null,null,null,null,null,null,null,null,null,false]
["NEW",{"$f":"Translations!$B$1059","v":"Emisijski faktor"},{"$f":"Translations!$B$957","v":"Skraćeno ime"},{"$f":"Translations!$B$958","v":"Pod-djelatnost"},{"$f":"Translations!$B$389","v":"Analitički parametar"},{"$f":"Translations!$B$959","v":"Tip izvora"},{"$f":"Translations!$B$960","v":"Minimum"},1,2,"2a",{"$f":"Translations!$B$928","v":"2b"},3,"3a","3b",4,{"$f":"Translations!$B$961","v":"Najviši"},null,null,null,null,null,null,null,null,null,{"$f":"Translations!$B$962","v":"označiti sivom bojom?"},null,null,null,null,null,null,null,null,null,null,"1=default value, 2=lab",1,2,"2a",{"$f":"Translations!$B$928","v":"2b"},3]
[1,{"$f":"B265","v":"Izgaranje goriva "},"Izgaranje","Komercijalna standardna goriva",null,{"$f":"F265","v":"Standardna metoda: Gorivo, članak 24. stavak 1.Uredbe"},"2a/2b",{"$f":"Translations!$B$493","v":"Zadane vrijednosti I:"},null,{"$f":"Translations!$B$528","v":"Zadane vrijednosti II:"},{"$f":"Translations!$B$1061","v":"Utemeljeni posredni faktori (ako je promijenjivo)"},{"$f":"Translations!$B$527","v":"Laboratorijske analize:"},null,null,null,{"$f":"G337","v":"2a/2b"},{"$f":"C337 & \": \" &D337","v":"Izgaranje: Komercijalna standardna goriva"},null,{"$f":"EUconst_CNTR_EF&Q337","v":"EF_Izgaranje: Komercijalna standardna goriva"},null,null,null,null,null,null,{"$f":"IF(G337=EUconst_NA,TRUE,FALSE)","v":false},null,null,null,null,null,null,null,null,null,null,null,1,"",1,2,2]
[2,"Izgaranje goriva ","Izgaranje","Ostala plinovita & tekuća goriva",null,"Standardna metoda: Gorivo, članak 24. stavak 1.Uredbe","2a/2b",{"$f":"Translations!$B$493","v":"Zadane vrijednosti I:"},null,{"$f":"Translations!$B$528","v":"Zadane vrijednosti II:"},{"$f":"Translations!$B$1061","v":"Utemeljeni posredni faktori (ako je promijenjivo)"},{"$f":"Translations!$B$527","v":"Laboratorijske analize:"},null,null,null,{"$f":"IF(G338=EUconst_NA,EUconst_NA,IF(ISBLANK(J338),COUNTA(H338:O338),COUNTA(H338,J338,L338)))","v":3},"Izgaranje: Ostala plinovita & tekuća goriva",null,"EF_Izgaranje: Ostala plinovita & tekuća goriva",null,null,null,null,null,null,false,null,null,null,null,null,null,null,null,null,null,null,1,"",1,2,2]
[3,"Izgaranje goriva ","Izgaranje","Kruta goriva isključujući otpad",null,"Standardna metoda: Gorivo, članak 24. stavak 1.Uredbe","2a/2b",{"$f":"Translations!$B$493","v":"Zadane vrijednosti I:"},null,{"$f":"Translations!$B$528","v":"Zadane vrijednosti II:"},{"$f":"Translations!$B$1061","v":"Utemeljeni posredni faktori (ako je promijenjivo)"},{"$f":"Translations!$B$527","v":"Laboratorijske analize:"},null,null,null,3,"Izgaranje: Kruta goriva isključujući otpad",null,"EF_Izgaranje: Kruta goriva isključujući otpad",null,null,null,null,null,null,false,null,null,null,null,null,null,null,null,null,null,null,1,"",1,2,2]
[4,"Izgaranje goriva ","Izgaranje","Otpad",null,"Standardna metoda: Gorivo, članak 24. stavak 1.Uredbe","2a/2b",{"$f":"Translations!$B$493","v":"Zadane vrijednosti I:"},null,{"$f":"Translations!$B$528","v":"Zadane vrijednosti II:"},{"$f":"Translations!$B$1061","v":"Utemeljeni posredni faktori (ako je promijenjivo)"},{"$f":"Translations!$B$527","v":"Laboratorijske analize:"},null,null,null,{"$f":"IF(G340=EUconst_NA,EUconst_NA,IF(ISBLANK(J340),COUNTA(H340:O340),COUNTA(H340,J340,L340)))","v":3},{"$f":"C340 & \": \" &D340","v":"Izgaranje: Otpad"},null,{"$f":"EUconst_CNTR_EF&Q340","v":"EF_Izgaranje: Otpad"},null,null,null,null,null,null,{"$f":"IF(G340=EUconst_NA,TRUE,FALSE)","v":false},null,null,null,null,null,null,null,null,null,null,null,1,"",1,2,2]
[5,"Izgaranje goriva ","Izgaranje","Terminali za obradu plina ",null,"Metoda masene bilance, članak 25.",{"$f":"EUconst_NA","v":"nije primjenjivo"},null,null,null,null,null,null,null,null,"nije primjenjivo","Izgaranje: Terminali za obradu plina ",null,"EF_Izgaranje: Terminali za obradu plina ",null,null,null,null,null,null,true,null,null,null,null,null,null,null,null,null,null,null,"","","","",""]
[6,"Izgaranje goriva ","Izgaranje","Baklje",null,"Standardna metoda: Gorivo, članak 24. stavak 1.Uredbe",1,{"$f":"Translations!$B$1066","v":"0.00393 t CO2/Nm3"},null,{"$f":"Translations!$B$528","v":"Zadane vrijednosti II:"},{"$f":"Translations!$B$1067","v":"Faktori specifični za postrojenje"},{"$f":"Translations!$B$527","v":"Laboratorijske analize:"},null,null,null,3,"Izgaranje: Baklje",null,"EF_Izgaranje: Baklje",null,null,null,null,null,null,false,null,null,null,null,null,null,null,null,null,null,null,1,"",1,{"$f":"Translations!$B$1067","v":"Faktori specifični za postrojenje"},2]
[7,"Izgaranje goriva ","Izgaranje","Čišćenje mokrim postupkom (karbonati)",null,"Standardna metoda: Proces, članak 24. stavak 2.",1,{"$f":"Translations!$B$1085","v":"Najbolja praksa"},null,null,null,null,null,null,null,1,"Izgaranje: Čišćenje mokrim postupkom (karbonati)",null,"EF_Izgaranje: Čišćenje mokrim postupkom (karbonati)",null,null,null,null,null,null,false,null,null,null,null,null,null,null,null,null,null,null,2,"","","",""]
[8,"Izgaranje goriva ","Izgaranje","Čišćenje mokrim postupkom (gips)",null,"Standardna metoda: Proces, članak 24. stavak 2.",1,{"$f":"Translations!$B$1263","v":"0,2558 t CO2/t gips"},null,null,null,null,null,null,null,1,"Izgaranje: Čišćenje mokrim postupkom (gips)",null,"EF_Izgaranje: Čišćenje mokrim postupkom (gips)",null,null,null,null,null,null,false,null,null,null,null,null,null,null,null,null,null,null,1,"","","",""]
[9,"Izgaranje goriva ","Izgaranje","Čišćenje mokrim postupkom (urea)",null,"Standardna metoda: Proces, članak 24. stavak 2.",1,{"$f":"Translations!$B$1264","v":"0,7328 t CO2/t urea"},null,null,null,null,null,null,null,1,"Izgaranje: Čišćenje mokrim postupkom (urea)",null,"EF_Izgaranje: Čišćenje mokrim postupkom (urea)",null,null,null,null,null,null,false,null,null,null,null,null,null,null,null,null,null,null,1,"","","",""]
[10,"Rafiniranje mineralnih ulja ","Rafinerije","Bilanca mase",null,"Metoda masene bilance, članak 25.",{"$f":"EUconst_NA","v":"nije primjenjivo"},null,null,null,null,null,null,null,null,"nije primjenjivo","Rafinerije: Bilanca mase",null,"EF_Rafinerije: Bilanca mase",null,null,null,null,null,null,true,null,null,null,null,null,null,null,null,null,null,null,"","","","",""]
[11,"Rafiniranje mineralnog ulja ","Rafinerije","Regeneriranje katalizatora iz procesa krekiranja ",null,"Metoda masene bilance, članak 25.",{"$f":"EUconst_NA","v":"nije primjenjivo"},null,null,null,null,null,null,null,null,{"$f":"IF(G347=EUconst_NA,EUconst_NA,IF(ISBLANK(J347),COUNTA(H347:O347),COUNTA(H347,J347,L347)))","v":"nije primjenjivo"},{"$f":"C347 & \": \" &D347","v":"Rafinerije: Regeneriranje katalizatora iz procesa krekiranja "},null,{"$f":"EUconst_CNTR_EF&Q347","v":"EF_Rafinerije: Regeneriranje katalizatora iz procesa krekiranja "},null,null,null,null,null,null,true,null,null,null,null,null,null,null,null,null,null,null,"","","","",""]
[12,"Rafiniranje mineralnog ulja ","Rafinerije","Proizvodnja vodika",null,"Metoda masene bilance, članak 25.",{"$f":"EUconst_NA","v":"nije primjenjivo"},null,null,null,null,null,null,null,null,{"$f":"IF(G348=EUconst_NA,EUconst_NA,IF(ISBLANK(J348),COUNTA(H348:O348),COUNTA(H348,J348,L348)))","v":"nije primjenjivo"},"Rafinerije: Proizvodnja vodika",null,"EF_Rafinerije: Proizvodnja vodika",null,null,null,null,null,null,true,null,null,null,null,null,null,null,null,null,null,null,1,"",1,2,2]
[13,"Proizvodnja koksa","Koks","Gorivo koje se koristi kao ulazni materijal procesa",null,"Standardna metoda: Gorivo, članak 24. stavak 1.Uredbe","2a/2b",{"$f":"Translations!$B$493","v":"Zadane vrijednosti I:"},{"$f":"Translations!$B$528","v":"Zadane vrijednosti II:"},null,null,{"$f":"Translations!$B$527","v":"Laboratorijske analize:"},null,null,null,3,"Koks: Gorivo koje se koristi kao ulazni materijal procesa",null,"EF_Koks: Gorivo koje se koristi kao ulazni materijal procesa",null,null,null,null,null,null,false,null,null,null,null,null,null,null,null,null,null,null,1,1,"","",2]
[14,"Proizvodnja koksa","Koks","Proces (metoda A): samo karbonat",null,"Standardna metoda: Proces, članak 24. stavak 2.",1,{"$f":"Translations!$B$493","v":"Zadane vrijednosti I:"},{"$f":"Translations!$B$528","v":"Zadane vrijednosti II:"},null,null,{"$f":"Translations!$B$527","v":"Laboratorijske analize:"},null,null,null,3,"Koks: Proces (metoda A): samo karbonat",null,"EF_Koks: Proces (metoda A): samo karbonat",null,null,null,null,null,null,false,null,null,null,null,null,null,null,null,null,null,null,1,1,"","",2]
[15,"Proizvodnja koksa","Koks","Proces (metoda A): miješani (karbonat + nekarbonat)",null,"Standardna metoda: Proces, članak 24. stavak 2.",1,{"$f":"EUconst_NA","v":"nije primjenjivo"},{"$f":"EUconst_NA","v":"nije primjenjivo"},null,null,{"$f":"Translations!$B$527","v":"Laboratorijske analize:"},null,null,null,3,"Koks: Proces (metoda A): miješani (karbonat + nekarbonat)",null,"EF_Koks: Proces (metoda A): miješani (karbonat + nekarbonat)",null,null,null,null,null,null,false,null,null,null,null,null,null,null,null,null,null,null,{"$f":"Translations!$B$530","v":"nije primjenjivo"},{"$f":"Translations!$B$530","v":"nije primjenjivo"},"","",2]
[16,"Proizvodnja koksa","Koks","Proces (metoda A): nekarbonat",null,"Standardna metoda: Proces, članak 24. stavak 2.",1,{"$f":"Translations!$B$493","v":"Zadane vrijednosti I:"},{"$f":"Translations!$B$528","v":"Zadane vrijednosti II:"},null,null,{"$f":"Translations!$B$527","v":"Laboratorijske analize:"},null,null,null,3,"Koks: Proces (metoda A): nekarbonat",null,"EF_Koks: Proces (metoda A): nekarbonat",null,null,null,null,null,null,false,null,null,null,null,null,null,null,null,null,null,null,1,1,"","",2]
[17,"Proizvodnja koksa","Koks","Proces (metoda B): izlaz oksida",null,"Standardna metoda: Proces, članak 24. stavak 2.",1,{"$f":"Translations!$B$493","v":"Zadane vrijednosti I:"},{"$f":"Translations!$B$528","v":"Zadane vrijednosti II:"},null,null,{"$f":"Translations!$B$527","v":"Laboratorijske analize:"},null,null,null,{"$f":"IF(G353=EUconst_NA,EUconst_NA,IF(ISBLANK(J353),COUNTA(H353:O353),COUNTA(H353,J353,L353)))","v":3},{"$f":"C353 & \": \" &D353","v":"Koks: Proces (metoda B): izlaz oksida"},null,{"$f":"EUconst_CNTR_EF&Q353","v":"EF_Koks: Proces (metoda B): izlaz oksida"},null,null,null,null,null,null,false,null,null,null,null,null,null,null,null,null,null,null,1,1,"","",2]
[18,"Proizvodnja koksa","Koks","Bilanca mase",null,"Metoda masene bilance, članak 25.",{"$f":"EUconst_NA","v":"nije primjenjivo"},null,null,null,null,null,null,null,null,"nije primjenjivo","Koks: Bilanca mase",null,"EF_Koks: Bilanca mase",null,null,null,null,null,null,true,null,null,null,null,null,null,null,null,null,null,null,"","","","",""]
[19,"Pečenje i sinteriranje metalnih ruda","Metalne rude","Proces (metoda A): samo karbonat",null,"Standardna metoda: Proces, članak 24. stavak 2.",1,{"$f":"Translations!$B$493","v":"Zadane vrijednosti I:"},{"$f":"Translations!$B$528","v":"Zadane vrijednosti II:"},null,null,{"$f":"Translations!$B$527","v":"Laboratorijske analize:"},null,null,null,3,"Metalne rude: Proces (metoda A): samo karbonat",null,"EF_Metalne rude: Proces (metoda A): samo karbonat",null,null,null,null,null,null,false,null,null,null,null,null,null,null,null,null,null,null,1,1,"","",2]
[20,"Pečenje i sinteriranje metalnih ruda","Metalne rude","Proces (metoda A): miješani (karbonat + nekarbonat)",null,"Standardna metoda: Proces, članak 24. stavak 2.",1,{"$f":"EUconst_NA","v":"nije primjenjivo"},{"$f":"EUconst_NA","v":"nije primjenjivo"},null,null,{"$f":"Translations!$B$527","v":"Laboratorijske analize:"},null,null,null,3,"Metalne rude: Proces (metoda A): miješani (karbonat + nekarbonat)",null,"EF_Metalne rude: Proces (metoda A): miješani (karbonat + nekarbonat)",null,null,null,null,null,null,false,null,null,null,null,null,null,null,null,null,null,null,{"$f":"Translations!$B$530","v":"nije primjenjivo"},{"$f":"Translations!$B$530","v":"nije primjenjivo"},"","",2]
[21,{"$f":"B285","v":"Pečenje i sinteriranje metalnih ruda"},"Metalne rude","Proces (metoda A): nekarbonat",null,"Standardna metoda: Proces, članak 24. stavak 2.",1,{"$f":"Translations!$B$493","v":"Zadane vrijednosti I:"},{"$f":"Translations!$B$528","v":"Zadane vrijednosti II:"},null,null,{"$f":"Translations!$B$527","v":"Laboratorijske analize:"},null,null,null,3,"Metalne rude: Proces (metoda A): nekarbonat",null,"EF_Metalne rude: Proces (metoda A): nekarbonat",null,null,null,null,null,null,false,null,null,null,null,null,null,null,null,null,null,null,1,1,"","",2]
[22,"Pečenje i sinteriranje metalnih ruda","Metalne rude","Proces (metoda B): izlaz oksida",null,"Standardna metoda: Proces, članak 24. stavak 2.",1,{"$f":"Translations!$B$493","v":"Zadane vrijednosti I:"},{"$f":"Translations!$B$528","v":"Zadane vrijednosti II:"},null,null,{"$f":"Translations!$B$527","v":"Laboratorijske analize:"},null,null,null,3,"Metalne rude: Proces (metoda B): izlaz oksida",null,"EF_Metalne rude: Proces (metoda B): izlaz oksida",null,null,null,null,null,null,false,null,null,null,null,null,null,null,null,null,null,null,1,1,"","",2]
[23,"Pečenje i sinteriranje metalnih ruda","Metalne rude","Bilanca mase",null,"Metoda masene bilance, članak 25.",{"$f":"EUconst_NA","v":"nije primjenjivo"},null,null,null,null,null,null,null,null,"nije primjenjivo","Metalne rude: Bilanca mase",null,"EF_Metalne rude: Bilanca mase",null,null,null,null,null,null,true,null,null,null,null,null,null,null,null,null,null,null,"","","","",""]
[24,"Proizvodnja željeza ili čelika","Željezo i čelik","Gorivo koje se koristi kao ulazni materijal procesa",null,"Standardna metoda: Gorivo, članak 24. stavak 1.Uredbe",2,{"$f":"Translations!$B$493","v":"Zadane vrijednosti I:"},null,{"$f":"Translations!$B$528","v":"Zadane vrijednosti II:"},{"$f":"Translations!$B$1061","v":"Utemeljeni posredni faktori (ako je promijenjivo)"},{"$f":"Translations!$B$527","v":"Laboratorijske analize:"},null,null,null,3,"Željezo i čelik: Gorivo koje se koristi kao ulazni materijal procesa",null,"EF_Željezo i čelik: Gorivo koje se koristi kao ulazni materijal procesa",null,null,null,null,null,null,false,null,null,null,null,null,null,null,null,null,null,null,1,"",1,2,2]
[25,"Proizvodnja željeza ili čelika","Željezo i čelik","Proces (metoda A): samo karbonat",null,"Standardna metoda: Proces, članak 24. stavak 2.",1,{"$f":"Translations!$B$493","v":"Zadane vrijednosti I:"},{"$f":"Translations!$B$528","v":"Zadane vrijednosti II:"},null,null,{"$f":"Translations!$B$527","v":"Laboratorijske analize:"},null,null,null,3,"Željezo i čelik: Proces (metoda A): samo karbonat",null,"EF_Željezo i čelik: Proces (metoda A): samo karbonat",null,null,null,null,null,null,false,null,null,null,null,null,null,null,null,null,null,null,1,1,"","",2]
[26,"Proizvodnja željeza ili čelika","Željezo i čelik","Proces (metoda A): miješani (karbonat + nekarbonat)",null,"Standardna metoda: Proces, članak 24. stavak 2.",1,{"$f":"EUconst_NA","v":"nije primjenjivo"},{"$f":"EUconst_NA","v":"nije primjenjivo"},null,null,{"$f":"Translations!$B$527","v":"Laboratorijske analize:"},null,null,null,3,"Željezo i čelik: Proces (metoda A): miješani (karbonat + nekarbonat)",null,"EF_Željezo i čelik: Proces (metoda A): miješani (karbonat + nekarbonat)",null,null,null,null,null,null,false,null,null,null,null,null,null,null,null,null,null,null,null,null,"","",""]
[27,"Proizvodnja željeza ili čelika","Željezo i čelik","Proces (metoda A): nekarbonat",null,"Standardna metoda: Proces, članak 24. stavak 2.",1,{"$f":"Translations!$B$493","v":"Zadane vrijednosti I:"},{"$f":"Translations!$B$528","v":"Zadane vrijednosti II:"},null,null,{"$f":"Translations!$B$527","v":"Laboratorijske analize:"},null,null,null,3,"Željezo i čelik: Proces (metoda A): nekarbonat",null,"EF_Željezo i čelik: Proces (metoda A): nekarbonat",null,null,null,null,null,null,false,null,null,null,null,null,null,null,null,null,null,null,2,2,"","",""]
[28,"Proizvodnja željeza ili čelika","Željezo i čelik","Proces (metoda B): izlaz oksida",null,"Standardna metoda: Proces, članak 24. stavak 2.",1,{"$f":"Translations!$B$493","v":"Zadane vrijednosti I:"},{"$f":"Translations!$B$528","v":"Zadane vrijednosti II:"},null,null,{"$f":"Translations!$B$527","v":"Laboratorijske analize:"},null,null,null,3,"Željezo i čelik: Proces (metoda B): izlaz oksida",null,"EF_Željezo i čelik: Proces (metoda B): izlaz oksida",null,null,null,null,null,null,false,null,null,null,null,null,null,null,null,null,null,null,1,1,"","",2]
[29,"Proizvodnja željeza ili čelika","Željezo i čelik","Bilanca mase",null,"Metoda masene bilance, članak 25.",{"$f":"EUconst_NA","v":"nije primjenjivo"},null,null,null,null,null,null,null,null,"nije primjenjivo","Željezo i čelik: Bilanca mase",null,"EF_Željezo i čelik: Bilanca mase",null,null,null,null,null,null,true,null,null,null,null,null,null,null,null,null,null,null,"","","","",""]
[30,"Proizvodnja cementnog klinkera","Cementni klinker","Na temelju ulaza u peć (Metoda A)",null,"Standardna metoda: Proces, članak 24. stavak 2.",1,{"$f":"Translations!$B$493","v":"Zadane vrijednosti I:"},{"$f":"Translations!$B$528","v":"Zadane vrijednosti II:"},null,null,{"$f":"Translations!$B$527","v":"Laboratorijske analize:"},null,null,null,{"$f":"IF(G366=EUconst_NA,EUconst_NA,IF(ISBLANK(J366),COUNTA(H366:O366),COUNTA(H366,J366,L366)))","v":3},{"$f":"C366 & \": \" &D366","v":"Cementni klinker: Na temelju ulaza u peć (Metoda A)"},null,{"$f":"EUconst_CNTR_EF&Q366","v":"EF_Cementni klinker: Na temelju ulaza u peć (Metoda A)"},null,null,null,null,null,null,{"$f":"IF(G366=EUconst_NA,TRUE,FALSE)","v":false},null,null,null,null,null,null,null,null,null,null,null,1,1,"","",2]
[31,"Proizvodnja cementnog klinkera","Cementni klinker","Izlaz klinkera (Metoda B)",null,"Standardna metoda: Proces, članak 24. stavak 2.",1,{"$f":"Translations!$B$1078","v":"0.525 t CO2/t klinker."},{"$f":"Translations!$B$528","v":"Zadane vrijednosti II:"},null,null,{"$f":"Translations!$B$527","v":"Laboratorijske analize:"},null,null,null,3,"Cementni klinker: Izlaz klinkera (Metoda B)",null,"EF_Cementni klinker: Izlaz klinkera (Metoda B)",null,null,null,null,null,null,false,null,null,null,null,null,null,null,null,null,null,null,1,1,"","",2]
[32,"Proizvodnja cementnog klinkera","Cementni klinker","CKD",null,"Standardna metoda: Proces, članak 24. stavak 2.",1,{"$f":"Translations!$B$1082","v":"0.525 t CO2/t prašine."},{"$f":"Translations!$B$527","v":"Laboratorijske analize:"},null,null,null,null,null,null,2,"Cementni klinker: CKD",null,"EF_Cementni klinker: CKD",null,null,null,null,null,null,false,null,null,null,null,null,null,null,null,null,null,null,1,2,"","",""]
[33,"Proizvodnja cementnog klinkera","Cementni klinker","Ne-karbonatni ugljik",null,{"$f":"F297","v":"Standardna metoda: Proces, članak 24. stavak 2."},1,{"$f":"Translations!$B$1085","v":"Najbolja praksa"},{"$f":"Translations!$B$527","v":"Laboratorijske analize:"},null,null,null,null,null,null,2,"Cementni klinker: Ne-karbonatni ugljik",null,"EF_Cementni klinker: Ne-karbonatni ugljik",null,null,null,null,null,null,false,null,null,null,null,null,null,null,null,null,null,null,2,2,"","",""]
[34,"Proizvodnja vapna ili kalcinacija dolomita/magnezita","Vapno / dolomit / magnezit","Proces (metoda A): samo karbonat",null,"Standardna metoda: Proces, članak 24. stavak 2.",1,{"$f":"Translations!$B$493","v":"Zadane vrijednosti I:"},{"$f":"Translations!$B$528","v":"Zadane vrijednosti II:"},null,null,{"$f":"Translations!$B$527","v":"Laboratorijske analize:"},null,null,null,3,"Vapno / dolomit / magnezit: Proces (metoda A): samo karbonat",null,"EF_Vapno / dolomit / magnezit: Proces (metoda A): samo karbonat",null,null,null,null,null,null,false,null,null,null,null,null,null,null,null,null,null,null,1,1,"","",2]
[35,"Proizvodnja vapna ili kalcinacija dolomita/magnezita","Vapno / dolomit / magnezit","Proces (metoda A): miješani (karbonat + nekarbonat)",null,"Standardna metoda: Proces, članak 24. stavak 2.",1,{"$f":"EUconst_NA","v":"nije primjenjivo"},{"$f":"EUconst_NA","v":"nije primjenjivo"},null,null,{"$f":"Translations!$B$527","v":"Laboratorijske analize:"},null,null,null,3,"Vapno / dolomit / magnezit: Proces (metoda A): miješani (karbonat + nekarbonat)",null,"EF_Vapno / dolomit / magnezit: Proces (metoda A): miješani (karbonat + nekarbonat)",null,null,null,null,null,null,false,null,null,null,null,null,null,null,null,null,null,null,{"$f":"Translations!$B$530","v":"nije primjenjivo"},{"$f":"Translations!$B$530","v":"nije primjenjivo"},"","",2]
[36,"Proizvodnja vapna ili kalcinacija dolomita/magnezita","Vapno / dolomit / magnezit","Proces (metoda A): nekarbonat",null,"Standardna metoda: Proces, članak 24. stavak 2.",1,{"$f":"Translations!$B$1085","v":"Najbolja praksa"},{"$f":"Translations!$B$527","v":"Laboratorijske analize:"},null,null,null,null,null,null,2,"Vapno / dolomit / magnezit: Proces (metoda A): nekarbonat",null,"EF_Vapno / dolomit / magnezit: Proces (metoda A): nekarbonat",null,null,null,null,null,null,false,null,null,null,null,null,null,null,null,null,null,null,2,2,"","",""]
[37,"Proizvodnja vapna ili kalcinacija dolomita/magnezita","Vapno / dolomit / magnezit","Proces (metoda B): izlaz oksida",null,"Standardna metoda: Proces, članak 24. stavak 2.",1,{"$f":"Translations!$B$493","v":"Zadane vrijednosti I:"},{"$f":"Translations!$B$528","v":"Zadane vrijednosti II:"},null,null,{"$f":"Translations!$B$527","v":"Laboratorijske analize:"},null,null,null,3,"Vapno / dolomit / magnezit: Proces (metoda B): izlaz oksida",null,"EF_Vapno / dolomit / magnezit: Proces (metoda B): izlaz oksida",null,null,null,null,null,null,false,null,null,null,null,null,null,null,null,null,null,null,1,1,"","",2]
[38,"Proizvodnja vapna ili kalcinacija dolomita/magnezita","Vapno / dolomit / magnezit","Prašina iz peći (Metoda B)",null,"Standardna metoda: Proces, članak 24. stavak 2.",1,{"$f":"Translations!$B$493","v":"Zadane vrijednosti I:"},{"$f":"Translations!$B$528","v":"Zadane vrijednosti II:"},null,null,{"$f":"Translations!$B$527","v":"Laboratorijske analize:"},null,null,null,3,"Vapno / dolomit / magnezit: Prašina iz peći (Metoda B)",null,"EF_Vapno / dolomit / magnezit: Prašina iz peći (Metoda B)",null,null,null,null,null,null,false,null,null,null,null,null,null,null,null,null,null,null,1,1,"","",2]
[39,"Proizvodnja stakla","Staklo i mineralna vuna","Proces (metoda A): samo karbonat",null,"Standardna metoda: Proces, članak 24. stavak 2.",1,{"$f":"Translations!$B$1085","v":"Najbolja praksa"},{"$f":"Translations!$B$527","v":"Laboratorijske analize:"},null,null,null,null,null,null,2,"Staklo i mineralna vuna: Proces (metoda A): samo karbonat",null,"EF_Staklo i mineralna vuna: Proces (metoda A): samo karbonat",null,null,null,null,null,null,false,null,null,null,null,null,null,null,null,null,null,null,2,2,"","",""]
[40,"Proizvodnja stakla","Staklo i mineralna vuna","Proces (metoda A): miješani (karbonat + nekarbonat)",null,"Standardna metoda: Proces, članak 24. stavak 2.",1,{"$f":"EUconst_NA","v":"nije primjenjivo"},{"$f":"EUconst_NA","v":"nije primjenjivo"},null,null,{"$f":"Translations!$B$527","v":"Laboratorijske analize:"},null,null,null,3,"Staklo i mineralna vuna: Proces (metoda A): miješani (karbonat + nekarbonat)",null,"EF_Staklo i mineralna vuna: Proces (metoda A): miješani (karbonat + nekarbonat)",null,null,null,null,null,null,false,null,null,null,null,null,null,null,null,null,null,null,{"$f":"Translations!$B$530","v":"nije primjenjivo"},{"$f":"Translations!$B$530","v":"nije primjenjivo"},"","",2]
[41,{"$f":"B305","v":"Proizvodnja stakla"},"Staklo i mineralna vuna","Proces (metoda A): nekarbonat",null,"Standardna metoda: Proces, članak 24. stavak 2.",1,{"$f":"Translations!$B$1070","v":"Zadana vrijednost Tipa I i najbolja praksa"},{"$f":"Translations!$B$527","v":"Laboratorijske analize:"},null,null,null,null,null,null,2,"Staklo i mineralna vuna: Proces (metoda A): nekarbonat",null,"EF_Staklo i mineralna vuna: Proces (metoda A): nekarbonat",null,null,null,null,null,null,false,null,null,null,null,null,null,null,null,null,null,null,1,2,"","",""]
[42,"Proizvodnja keramike","Keramika","Proces (metoda A): samo karbonat",null,"Standardna metoda: Proces, članak 24. stavak 2.",1,{"$f":"Translations!$B$1093","v":"0,08794 tona CO2 po toni suhe gline"},{"$f":"Translations!$B$1085","v":"Najbolja praksa"},null,null,{"$f":"Translations!$B$527","v":"Laboratorijske analize:"},null,null,null,3,"Keramika: Proces (metoda A): samo karbonat",null,"EF_Keramika: Proces (metoda A): samo karbonat",null,null,null,null,null,null,false,null,null,null,null,null,null,null,null,null,null,null,1,2,"","",2]
[43,"Proizvodnja keramike","Keramika","Proces (metoda A): miješani (karbonat + nekarbonat)",null,"Standardna metoda: Proces, članak 24. stavak 2.",1,{"$f":"Translations!$B$1093","v":"0,08794 tona CO2 po toni suhe gline"},{"$f":"Translations!$B$1085","v":"Najbolja praksa"},null,null,{"$f":"Translations!$B$527","v":"Laboratorijske analize:"},null,null,null,3,"Keramika: Proces (metoda A): miješani (karbonat + nekarbonat)",null,"EF_Keramika: Proces (metoda A): miješani (karbonat + nekarbonat)",null,null,null,null,null,null,false,null,null,null,null,null,null,null,null,null,null,null,1,2,"","",2]
[44,"Proizvodnja keramike","Keramika","Proces (metoda A): nekarbonat",null,"Standardna metoda: Proces, članak 24. stavak 2.",1,{"$f":"Translations!$B$1093","v":"0,08794 tona CO2 po toni suhe gline"},{"$f":"Translations!$B$1085","v":"Najbolja praksa"},null,null,{"$f":"Translations!$B$527","v":"Laboratorijske analize:"},null,null,null,3,"Keramika: Proces (metoda A): nekarbonat",null,"EF_Keramika: Proces (metoda A): nekarbonat",null,null,null,null,null,null,false,null,null,null,null,null,null,null,null,null,null,null,1,2,"","",2]
[45,"Proizvodnja keramike","Keramika","Proces (metoda B): izlaz oksida",null,"Standardna metoda: Proces, članak 24. stavak 2.",1,{"$f":"Translations!$B$1096","v":"0,09642 tone CO2 po toni proizvoda"},{"$f":"Translations!$B$1085","v":"Najbolja praksa"},null,null,{"$f":"Translations!$B$527","v":"Laboratorijske analize:"},null,null,null,3,"Keramika: Proces (metoda B): izlaz oksida",null,"EF_Keramika: Proces (metoda B): izlaz oksida",null,null,null,null,null,null,false,null,null,null,null,null,null,null,null,null,null,null,1,2,"","",2]
[46,"Proizvodnja keramike","Keramika","Čišćenje mokrim postupkom",null,"Standardna metoda: Proces, članak 24. stavak 2.",1,{"$f":"Translations!$B$493","v":"Zadane vrijednosti I:"},null,null,null,null,null,null,null,1,"Keramika: Čišćenje mokrim postupkom",null,"EF_Keramika: Čišćenje mokrim postupkom",null,null,null,null,null,null,false,null,null,null,null,null,null,null,null,null,null,null,1,"","","",""]
[47,"Proizvodnja celuloze","Celuloza i papir","Dodatne kemikalije",null,"Standardna metoda: Proces, članak 24. stavak 2.",1,{"$f":"Translations!$B$1070","v":"Zadana vrijednost Tipa I i najbolja praksa"},{"$f":"Translations!$B$527","v":"Laboratorijske analize:"},null,null,null,null,null,null,2,"Celuloza i papir: Dodatne kemikalije",null,"EF_Celuloza i papir: Dodatne kemikalije",null,null,null,null,null,null,false,null,null,null,null,null,null,null,null,null,null,null,1,2,"","",""]
[48,"Proizvodnja čađe ","Čađa","Metodologija masene bilance",null,"Metoda masene bilance, članak 25.",{"$f":"EUconst_NA","v":"nije primjenjivo"},null,null,null,null,null,null,null,null,"nije primjenjivo","Čađa: Metodologija masene bilance",null,"EF_Čađa: Metodologija masene bilance",null,null,null,null,null,null,true,null,null,null,null,null,null,null,null,null,null,null,"","","","",""]
[49,"Proizvodnja amonijaka","Amonijak","Gorivo koje se koristi kao ulazni materijal procesa",null,"Standardna metoda: Gorivo, članak 24. stavak 1.Uredbe","2a/2b",{"$f":"Translations!$B$493","v":"Zadane vrijednosti I:"},null,{"$f":"Translations!$B$528","v":"Zadane vrijednosti II:"},{"$f":"Translations!$B$1061","v":"Utemeljeni posredni faktori (ako je promijenjivo)"},{"$f":"Translations!$B$527","v":"Laboratorijske analize:"},null,null,null,3,"Amonijak: Gorivo koje se koristi kao ulazni materijal procesa",null,"EF_Amonijak: Gorivo koje se koristi kao ulazni materijal procesa",null,null,null,null,null,null,false,null,null,null,null,null,null,null,null,null,null,null,1,"",1,2,2]
[50,"Proizvodnja vodika i sintetskog plina","Vodik i sintetski plin","Gorivo koje se koristi kao ulazni materijal procesa",null,"Standardna metoda: Gorivo, članak 24. stavak 1.Uredbe","2a/2b",{"$f":"Translations!$B$493","v":"Zadane vrijednosti I:"},null,{"$f":"Translations!$B$528","v":"Zadane vrijednosti II:"},{"$f":"Translations!$B$1061","v":"Utemeljeni posredni faktori (ako je promijenjivo)"},{"$f":"Translations!$B$527","v":"Laboratorijske analize:"},null,null,null,3,"Vodik i sintetski plin: Gorivo koje se koristi kao ulazni materijal procesa",null,"EF_Vodik i sintetski plin: Gorivo koje se koristi kao ulazni materijal procesa",null,null,null,null,null,null,{"$f":"IF(G386=EUconst_NA,TRUE,FALSE)","v":false},null,null,null,null,null,null,null,null,null,null,null,1,"",1,2,2]
[51,"Proizvodnja vodika i sintetskog plina","Vodik i sintetski plin","Metodologija masene bilance",null,"Metoda masene bilance, članak 25.",{"$f":"EUconst_NA","v":"nije primjenjivo"},null,null,null,null,null,null,null,null,"nije primjenjivo","Vodik i sintetski plin: Metodologija masene bilance",null,"EF_Vodik i sintetski plin: Metodologija masene bilance",null,null,null,null,null,null,true,null,null,null,null,null,null,null,null,null,null,null,"","","","",""]
[52,"Proizvodnja kemikalija na veliko ","Organske kemikalije na veliko","Metodologija masene bilance",null,"Metoda masene bilance, članak 25.",{"$f":"EUconst_NA","v":"nije primjenjivo"},null,null,null,null,null,null,null,null,"nije primjenjivo","Organske kemikalije na veliko: Metodologija masene bilance",null,"EF_Organske kemikalije na veliko: Metodologija masene bilance",null,null,null,null,null,null,true,null,null,null,null,null,null,null,null,null,null,null,"","","","",""]
[53,"Proizvodnja ili prerada obojenih metala","Neobojeni, sek. aluminij","Proces (metoda A): samo karbonat",null,"Standardna metoda: Proces, članak 24. stavak 2.",1,{"$f":"Translations!$B$493","v":"Zadane vrijednosti I:"},{"$f":"Translations!$B$528","v":"Zadane vrijednosti II:"},null,null,{"$f":"Translations!$B$527","v":"Laboratorijske analize:"},null,null,null,3,"Neobojeni, sek. aluminij: Proces (metoda A): samo karbonat",null,"EF_Neobojeni, sek. aluminij: Proces (metoda A): samo karbonat",null,null,null,null,null,null,false,null,null,null,null,null,null,null,null,null,null,null,1,1,"","",2]
[54,"Proizvodnja ili prerada obojenih metala","Neobojeni, sek. aluminij","Proces (metoda A): miješani (karbonat + nekarbonat)",null,"Standardna metoda: Proces, članak 24. stavak 2.",1,{"$f":"EUconst_NA","v":"nije primjenjivo"},{"$f":"EUconst_NA","v":"nije primjenjivo"},null,null,{"$f":"Translations!$B$527","v":"Laboratorijske analize:"},null,null,null,3,"Neobojeni, sek. aluminij: Proces (metoda A): miješani (karbonat + nekarbonat)",null,"EF_Neobojeni, sek. aluminij: Proces (metoda A): miješani (karbonat + nekarbonat)",null,null,null,null,null,null,false,null,null,null,null,null,null,null,null,null,null,null,{"$f":"Translations!$B$530","v":"nije primjenjivo"},{"$f":"Translations!$B$530","v":"nije primjenjivo"},"","",2]
[55,"Proizvodnja ili prerada obojenih metala","Neobojeni, sek. aluminij","Proces (metoda A): nekarbonat",null,"Standardna metoda: Proces, članak 24. stavak 2.",1,{"$f":"Translations!$B$493","v":"Zadane vrijednosti I:"},{"$f":"Translations!$B$528","v":"Zadane vrijednosti II:"},null,null,{"$f":"Translations!$B$527","v":"Laboratorijske analize:"},null,null,null,3,"Neobojeni, sek. aluminij: Proces (metoda A): nekarbonat",null,"EF_Neobojeni, sek. aluminij: Proces (metoda A): nekarbonat",null,null,null,null,null,null,false,null,null,null,null,null,null,null,null,null,null,null,1,1,"","",2]
[56,"Proizvodnja ili prerada obojenih metala","Neobojeni, sek. aluminij","Proces (metoda B): izlaz oksida",null,"Standardna metoda: Proces, članak 24. stavak 2.",1,{"$f":"Translations!$B$493","v":"Zadane vrijednosti I:"},{"$f":"Translations!$B$528","v":"Zadane vrijednosti II:"},null,null,{"$f":"Translations!$B$527","v":"Laboratorijske analize:"},null,null,null,3,"Neobojeni, sek. aluminij: Proces (metoda B): izlaz oksida",null,"EF_Neobojeni, sek. aluminij: Proces (metoda B): izlaz oksida",null,null,null,null,null,null,false,null,null,null,null,null,null,null,null,null,null,null,1,1,"","",2]
[57,"Proizvodnja ili prerada obojenih metala","Neobojeni, sek. aluminij","Metodologija masene bilance",null,"Metoda masene bilance, članak 25.",{"$f":"EUconst_NA","v":"nije primjenjivo"},null,null,null,null,null,null,null,null,"nije primjenjivo","Neobojeni, sek. aluminij: Metodologija masene bilance",null,"EF_Neobojeni, sek. aluminij: Metodologija masene bilance",null,null,null,null,null,null,{"$f":"IF(G393=EUconst_NA,TRUE,FALSE)","v":true},null,null,null,null,null,null,null,null,null,null,null,"","","","",""]
[58,"Proizvodnja natrij karbonata i natrij-bikarbonata","Natrij karbonat / natrij bikarbonat","Metodologija masene bilance",null,"Metoda masene bilance, članak 25.",{"$f":"EUconst_NA","v":"nije primjenjivo"},null,null,null,null,null,null,null,null,"nije primjenjivo","Natrij karbonat / natrij bikarbonat: Metodologija masene bilance",null,"EF_Natrij karbonat / natrij bikarbonat: Metodologija masene bilance",null,null,null,null,null,null,{"$f":"IF(G394=EUconst_NA,TRUE,FALSE)","v":true},null,null,null,null,null,null,null,null,null,null,null,"","","","",""]
[59,"Proizvodnja primarnog aluminija","Primarni aluminij","Metodologija masene bilance",null,"Metoda masene bilance, članak 25.",{"$f":"EUconst_NA","v":"nije primjenjivo"},null,null,null,null,null,null,null,null,{"$f":"IF(G395=EUconst_NA,EUconst_NA,IF(ISBLANK(J395),COUNTA(H395:O395),COUNTA(H395,J395,L395)))","v":"nije primjenjivo"},{"$f":"C395 & \": \" &D395","v":"Primarni aluminij: Metodologija masene bilance"},null,{"$f":"EUconst_CNTR_EF&Q395","v":"EF_Primarni aluminij: Metodologija masene bilance"},null,null,null,null,null,null,{"$f":"IF(G395=EUconst_NA,TRUE,FALSE)","v":true},null,null,null,null,null,null,null,null,null,null,null,"","","","",""]
[60,"Proizvodnja primarnog aluminija","Primarni aluminij","Emisije PFC (Metoda nagiba)",null,"Izračun sa specijalnim odredbama za PFC (Prilog IV, poglavlje 8.)",1,{"$f":"Translations!$B$493","v":"Zadane vrijednosti I:"},{"$f":"Translations!$B$1101","v":"Emisijski faktori specifični za postrojenje"},null,null,null,null,null,null,2,"Primarni aluminij: Emisije PFC (Metoda nagiba)",null,"EF_Primarni aluminij: Emisije PFC (Metoda nagiba)",null,null,null,null,null,null,{"$f":"IF(G396=EUconst_NA,TRUE,FALSE)","v":false},null,null,null,null,null,null,null,null,null,null,null,1,2,"",""]
[61,{"$f":"B325","v":"Proizvodnja primarnog aluminija"},"Primarni aluminij","Emisije PFC (prenaponska metoda)",null,"Izračun sa specijalnim odredbama za PFC (Prilog IV, poglavlje 8.)",1,{"$f":"Translations!$B$493","v":"Zadane vrijednosti I:"},{"$f":"Translations!$B$1101","v":"Emisijski faktori specifični za postrojenje"},null,null,null,null,null,null,2,"Primarni aluminij: Emisije PFC (prenaponska metoda)",null,"EF_Primarni aluminij: Emisije PFC (prenaponska metoda)",null,null,null,null,null,null,{"$f":"IF(G397=EUconst_NA,TRUE,FALSE)","v":false},null,null,null,null,null,null,null,null,null,null,null,1,2,"","",""]
[62,"Hvatanje stakleničkih plinova prema Direktivi 2009/31/EC","CCS: Capture","CO2 transferred",null,{"$f":"F326","v":"Metoda masene bilance, članak 25."},{"$f":"EUconst_NA","v":"nije primjenjivo"},null,null,null,null,null,null,null,null,{"$f":"IF(G398=EUconst_NA,EUconst_NA,IF(ISBLANK(J398),COUNTA(H398:O398),COUNTA(H398,J398,L398)))","v":"nije primjenjivo"},{"$f":"C398 & \": \" &D398","v":"CCS: Capture: CO2 transferred"},null,{"$f":"EUconst_CNTR_EF&Q398","v":"EF_CCS: Capture: CO2 transferred"},null,null,null,null,null,null,{"$f":"IF(G398=EUconst_NA,TRUE,FALSE)","v":true}]
[63,"Transport stakleničkih plinova prema Direktivi 2009/31/EC","CCS: Transport","CO2 transferred",null,"Metoda masene bilance, članak 25.",{"$f":"EUconst_NA","v":"nije primjenjivo"},null,null,null,null,null,null,null,null,"nije primjenjivo","CCS: Transport: CO2 transferred",null,"EF_CCS: Transport: CO2 transferred",null,null,null,null,null,null,true]
[64,"Transport stakleničkih plinova prema Direktivi 2009/31/EC","CCS: Transport","CO2 vented",null,"Standardna metoda: Proces, članak 24. stavak 2.",2,{"$f":"Translations!$B$493","v":"Zadane vrijednosti I:"},{"$f":"Translations!$B$1085","v":"Najbolja praksa"},null,null,{"$f":"Translations!$B$527","v":"Laboratorijske analize:"},null,null,null,3,"CCS: Transport: CO2 vented",null,"EF_CCS: Transport: CO2 vented",null,null,null,null,null,null,false,null,null,null,null,null,null,null,null,null,null,null,1,2,null,null,2]
[65,"Transport stakleničkih plinova prema Direktivi 2009/31/EC","CCS: Transport","CO2 leaked",null,"Standardna metoda: Proces, članak 24. stavak 2.",2,{"$f":"Translations!$B$493","v":"Zadane vrijednosti I:"},{"$f":"Translations!$B$1085","v":"Najbolja praksa"},null,null,{"$f":"Translations!$B$527","v":"Laboratorijske analize:"},null,null,null,3,"CCS: Transport: CO2 leaked",null,"EF_CCS: Transport: CO2 leaked",null,null,null,null,null,null,false,null,null,null,null,null,null,null,null,null,null,null,1,2,null,null,2]
[66,"Transport stakleničkih plinova prema Direktivi 2009/31/EC","CCS: Transport","CO2 fugitive",null,"Standardna metoda: Proces, članak 24. stavak 2.",2,{"$f":"Translations!$B$493","v":"Zadane vrijednosti I:"},{"$f":"Translations!$B$1085","v":"Najbolja praksa"},null,null,{"$f":"Translations!$B$527","v":"Laboratorijske analize:"},null,null,null,3,"CCS: Transport: CO2 fugitive",null,"EF_CCS: Transport: CO2 fugitive",null,null,null,null,null,null,false,null,null,null,null,null,null,null,null,null,null,null,1,2,null,null,2]
[67,"Skladištenje stakleničkih plinova prema Direktivi 2009/31/EC","CCS: Storage","CO2 transferred",null,"Metoda masene bilance, članak 25.",{"$f":"EUconst_NA","v":"nije primjenjivo"},null,null,null,null,null,null,null,null,"nije primjenjivo","CCS: Storage: CO2 transferred",null,"EF_CCS: Storage: CO2 transferred",null,null,null,null,null,null,true]
[68,"Skladištenje stakleničkih plinova prema Direktivi 2009/31/EC","CCS: Storage","CO2 vented",null,"Standardna metoda: Proces, članak 24. stavak 2.",2,{"$f":"Translations!$B$493","v":"Zadane vrijednosti I:"},{"$f":"Translations!$B$1085","v":"Najbolja praksa"},null,null,{"$f":"Translations!$B$527","v":"Laboratorijske analize:"},null,null,null,3,"CCS: Storage: CO2 vented",null,"EF_CCS: Storage: CO2 vented",null,null,null,null,null,null,false,null,null,null,null,null,null,null,null,null,null,null,1,2,null,null,2]
[69,"Skladištenje stakleničkih plinova prema Direktivi 2009/31/EC","CCS: Storage","CO2 leaked",null,"Standardna metoda: Proces, članak 24. stavak 2.",2,{"$f":"Translations!$B$493","v":"Zadane vrijednosti I:"},{"$f":"Translations!$B$1085","v":"Najbolja praksa"},null,null,{"$f":"Translations!$B$527","v":"Laboratorijske analize:"},null,null,null,3,"CCS: Storage: CO2 leaked",null,"EF_CCS: Storage: CO2 leaked",null,null,null,null,null,null,false,null,null,null,null,null,null,null,null,null,null,null,1,2,null,null,2]
[70,"Skladištenje stakleničkih plinova prema Direktivi 2009/31/EC","CCS: Storage","CO2 fugitive",null,"Standardna metoda: Proces, članak 24. stavak 2.",2,{"$f":"Translations!$B$493","v":"Zadane vrijednosti I:"},{"$f":"Translations!$B$1085","v":"Najbolja praksa"},null,null,{"$f":"Translations!$B$527","v":"Laboratorijske analize:"},null,null,null,3,"CCS: Storage: CO2 fugitive",null,"EF_CCS: Storage: CO2 fugitive",null,null,null,null,null,null,false,null,null,null,null,null,null,null,null,null,null,null,1,2,null,null,2]
[null,null,null,null,null,null,null,null,null,null,null,null,null,null,null,null,null,null,null,null,null,null,null,null,null,{"$f":"IF(G407=EUconst_NA,TRUE,FALSE)","v":false}]
["NEW",{"$f":"Translations!$B$1108","v":"DOV"},{"$f":"Translations!$B$957","v":"Skraćeno ime"},{"$f":"Translations!$B$958","v":"Pod-djelatnost"},{"$f":"Translations!$B$389","v":"Analitički parametar"},{"$f":"Translations!$B$959","v":"Tip izvora"},{"$f":"Translations!$B$960","v":"Minimum"},1,2,"2a",{"$f":"Translations!$B$928","v":"2b"},3,"3a","3b",4,{"$f":"Translations!$B$961","v":"Najviši"},null,null,null,null,null,null,null,null,null,{"$f":"Translations!$B$962","v":"označiti sivom bojom?"},null,null,null,null,null,null,null,null,null,null,"1=default value, 2=lab",1,2,"2a",{"$f":"Translations!$B$928","v":"2b"},3]
[1,{"$f":"B337","v":"Izgaranje goriva "},"Izgaranje","Komercijalna standardna goriva",null,{"$f":"F337","v":"Standardna metoda: Gorivo, članak 24. stavak 1.Uredbe"},"2a/2b",{"$f":"Translations!$B$493","v":"Zadane vrijednosti I:"},null,{"$f":"Translations!$B$528","v":"Zadane vrijednosti II:"},{"$f":"Translations!$B$1109","v":"Fakture (ukoliko je primjenjivo)"},{"$f":"Translations!$B$527","v":"Laboratorijske analize:"},null,null,null,{"$f":"G409","v":"2a/2b"},{"$f":"C409 & \": \" &D409","v":"Izgaranje: Komercijalna standardna goriva"},null,{"$f":"EUconst_CNTR_NCV&Q409","v":"NCV_Izgaranje: Komercijalna standardna goriva"},null,null,null,null,null,null,{"$f":"IF(G409=EUconst_NA,TRUE,FALSE)","v":false},null,null,null,null,null,null,null,null,null,null,null,1,"",1,{"$f":"Translations!$B$1109","v":"Fakture (ukoliko je primjenjivo)"},2]
[2,"Izgaranje goriva ","Izgaranje","Ostala plinovita & tekuća goriva",null,"Standardna metoda: Gorivo, članak 24. stavak 1.Uredbe","2a/2b",{"$f":"Translations!$B$493","v":"Zadane vrijednosti I:"},null,{"$f":"Translations!$B$528","v":"Zadane vrijednosti II:"},{"$f":"Translations!$B$1109","v":"Fakture (ukoliko je primjenjivo)"},{"$f":"Translations!$B$527","v":"Laboratorijske analize:"},null,null,null,{"$f":"IF(G410=EUconst_NA,EUconst_NA,IF(ISBLANK(J410),COUNTA(H410:O410),COUNTA(H410,J410,L410)))","v":3},{"$f":"C410 & \": \" &D410","v":"Izgaranje: Ostala plinovita & tekuća goriva"},null,{"$f":"EUconst_CNTR_NCV&Q410","v":"NCV_Izgaranje: Ostala plinovita & tekuća goriva"},null,null,null,null,null,null,false,null,null,null,null,null,null,null,null,null,null,null,1,"",1,{"$f":"Translations!$B$1109","v":"Fakture (ukoliko je primjenjivo)"},2]
[3,"Izgaranje goriva ","Izgaranje","Kruta goriva isključujući otpad",null,"Standardna metoda: Gorivo, članak 24. stavak 1.Uredbe","2a/2b",{"$f":"Translations!$B$493","v":"Zadane vrijednosti I:"},null,{"$f":"Translations!$B$528","v":"Zadane vrijednosti II:"},{"$f":"Translations!$B$1109","v":"Fakture (ukoliko je primjenjivo)"},{"$f":"Translations!$B$527","v":"Laboratorijske analize:"},null,null,null,3,"Izgaranje: Kruta goriva isključujući otpad",null,"NCV_Izgaranje: Kruta goriva isključujući otpad",null,null,null,null,null,null,false,null,null,null,null,null,null,null,null,null,null,null,1,"",1,{"$f":"Translations!$B$1109","v":"Fakture (ukoliko je primjenjivo)"},2]
[4,"Izgaranje goriva ","Izgaranje","Otpad",null,"Standardna metoda: Gorivo, članak 24. stavak 1.Uredbe","2a/2b",{"$f":"Translations!$B$493","v":"Zadane vrijednosti I:"},null,{"$f":"Translations!$B$528","v":"Zadane vrijednosti II:"},{"$f":"Translations!$B$1109","v":"Fakture (ukoliko je primjenjivo)"},{"$f":"Translations!$B$527","v":"Laboratorijske analize:"},null,null,null,{"$f":"IF(G412=EUconst_NA,EUconst_NA,IF(ISBLANK(J412),COUNTA(H412:O412),COUNTA(H412,J412,L412)))","v":3},{"$f":"C412 & \": \" &D412","v":"Izgaranje: Otpad"},null,{"$f":"EUconst_CNTR_NCV&Q412","v":"NCV_Izgaranje: Otpad"},null,null,null,null,null,null,{"$f":"IF(G412=EUconst_NA,TRUE,FALSE)","v":false},null,null,null,null,null,null,null,null,null,null,null,1,"",1,{"$f":"Translations!$B$1109","v":"Fakture (ukoliko je primjenjivo)"},2]
[5,"Izgaranje goriva ","Izgaranje","Terminali za obradu plina ",null,"Metoda masene bilance, članak 25.",1,{"$f":"Translations!$B$493","v":"Zadane vrijednosti I:"},null,{"$f":"Translations!$B$528","v":"Zadane vrijednosti II:"},{"$f":"Translations!$B$1109","v":"Fakture (ukoliko je primjenjivo)"},{"$f":"Translations!$B$527","v":"Laboratorijske analize:"},null,null,null,3,"Izgaranje: Terminali za obradu plina ",null,"NCV_Izgaranje: Terminali za obradu plina ",null,null,null,null,null,null,false,null,null,null,null,null,null,null,null,null,null,null,1,"",1,{"$f":"Translations!$B$1109","v":"Fakture (ukoliko je primjenjivo)"},2]
[6,"Izgaranje goriva ","Izgaranje","Baklje",null,"Standardna metoda: Gorivo, članak 24. stavak 1.Uredbe",{"$f":"\"\"","v":""},{"$f":"Translations!$B$493","v":"Zadane vrijednosti I:"},null,{"$f":"Translations!$B$528","v":"Zadane vrijednosti II:"},{"$f":"Translations!$B$1109","v":"Fakture (ukoliko je primjenjivo)"},{"$f":"Translations!$B$527","v":"Laboratorijske analize:"},null,null,null,3,"Izgaranje: Baklje",null,"NCV_Izgaranje: Baklje",null,null,null,null,null,null,false,null,null,null,null,null,null,null,null,null,null,null,1,"",1,{"$f":"Translations!$B$1109","v":"Fakture (ukoliko je primjenjivo)"},2]
[7,"Izgaranje goriva ","Izgaranje","Čišćenje mokrim postupkom (karbonati)",null,"Standardna metoda: Proces, članak 24. stavak 2.",{"$f":"EUconst_NA","v":"nije primjenjivo"},null,null,null,null,null,null,null,null,"nije primjenjivo","Izgaranje: Čišćenje mokrim postupkom (karbonati)",null,"NCV_Izgaranje: Čišćenje mokrim postupkom (karbonati)",null,null,null,null,null,null,true,null,null,null,null,null,null,null,null,null,null,null,"","","","",""]
[8,"Izgaranje goriva ","Izgaranje","Čišćenje mokrim postupkom (gips)",null,"Standardna metoda: Proces, članak 24. stavak 2.",{"$f":"EUconst_NA","v":"nije primjenjivo"},null,null,null,null,null,null,null,null,"nije primjenjivo","Izgaranje: Čišćenje mokrim postupkom (gips)",null,"NCV_Izgaranje: Čišćenje mokrim postupkom (gips)",null,null,null,null,null,null,true,null,null,null,null,null,null,null,null,null,null,null,"","","","",""]
[9,"Izgaranje goriva ","Izgaranje","Čišćenje mokrim postupkom (urea)",null,"Standardna metoda: Proces, članak 24. stavak 2.",{"$f":"EUconst_NA","v":"nije primjenjivo"},null,null,null,null,null,null,null,null,"nije primjenjivo","Izgaranje: Čišćenje mokrim postupkom (urea)",null,"NCV_Izgaranje: Čišćenje mokrim postupkom (urea)",null,null,null,null,null,null,true,null,null,null,null,null,null,null,null,null,null,null,"","","","",""]
[10,"Rafiniranje mineralnih ulja ","Rafinerije","Bilanca mase",null,"Metoda masene bilance, članak 25.",{"$f":"\"\"","v":""},{"$f":"Translations!$B$493","v":"Zadane vrijednosti I:"},null,{"$f":"Translations!$B$528","v":"Zadane vrijednosti II:"},{"$f":"Translations!$B$1109","v":"Fakture (ukoliko je primjenjivo)"},{"$f":"Translations!$B$527","v":"Laboratorijske analize:"},null,null,null,3,"Rafinerije: Bilanca mase",null,"NCV_Rafinerije: Bilanca mase",null,null,null,null,null,null,false,null,null,null,null,null,null,null,null,null,null,null,1,"",1,{"$f":"Translations!$B$1109","v":"Fakture (ukoliko je primjenjivo)"},2]
[11,"Rafiniranje mineralnog ulja ","Rafinerije","Regeneriranje katalizatora iz procesa krekiranja ",null,"Metoda masene bilance, članak 25.",{"$f":"EUconst_NA","v":"nije primjenjivo"},null,null,null,null,null,null,null,null,"nije primjenjivo","Rafinerije: Regeneriranje katalizatora iz procesa krekiranja ",null,"NCV_Rafinerije: Regeneriranje katalizatora iz procesa krekiranja ",null,null,null,null,null,null,true,null,null,null,null,null,null,null,null,null,null,null,"","","","",""]
[12,"Rafiniranje mineralnog ulja ","Rafinerije","Proizvodnja vodika",null,"Metoda masene bilance, članak 25.",{"$f":"\"\"","v":""},{"$f":"Translations!$B$493","v":"Zadane vrijednosti I:"},null,{"$f":"Translations!$B$528","v":"Zadane vrijednosti II:"},{"$f":"Translations!$B$1109","v":"Fakture (ukoliko je primjenjivo)"},{"$f":"Translations!$B$527","v":"Laboratorijske analize:"},null,null,null,3,"Rafinerije: Proizvodnja vodika",null,"NCV_Rafinerije: Proizvodnja vodika",null,null,null,null,null,null,false,null,null,null,null,null,null,null,null,null,null,null,1,"",1,{"$f":"Translations!$B$1109","v":"Fakture (ukoliko je primjenjivo)"},2]
[13,"Proizvodnja koksa","Koks","Gorivo koje se koristi kao ulazni materijal procesa",null,"Standardna metoda: Gorivo, članak 24. stavak 1.Uredbe","2a/2b",{"$f":"Translations!$B$493","v":"Zadane vrijednosti I:"},null,{"$f":"Translations!$B$528","v":"Zadane vrijednosti II:"},{"$f":"Translations!$B$1109","v":"Fakture (ukoliko je primjenjivo)"},{"$f":"Translations!$B$527","v":"Laboratorijske analize:"},null,null,null,3,"Koks: Gorivo koje se koristi kao ulazni materijal procesa",null,"NCV_Koks: Gorivo koje se koristi kao ulazni materijal procesa",null,null,null,null,null,null,false,null,null,null,null,null,null,null,null,null,null,null,1,"",1,{"$f":"Translations!$B$1109","v":"Fakture (ukoliko je primjenjivo)"},2]
[14,"Proizvodnja koksa","Koks","Proces (metoda A): samo karbonat",null,"Standardna metoda: Proces, članak 24. stavak 2.",{"$f":"EUconst_NA","v":"nije primjenjivo"},null,null,null,null,null,null,null,null,"nije primjenjivo","Koks: Proces (metoda A): samo karbonat",null,"NCV_Koks: Proces (metoda A): samo karbonat",null,null,null,null,null,null,true,null,null,null,null,null,null,null,null,null,null,null,"","","","",""]
[15,"Proizvodnja koksa","Koks","Proces (metoda A): miješani (karbonat + nekarbonat)",null,"Standardna metoda: Proces, članak 24. stavak 2.","2a/2b",{"$f":"Translations!$B$493","v":"Zadane vrijednosti I:"},null,{"$f":"Translations!$B$528","v":"Zadane vrijednosti II:"},{"$f":"Translations!$B$1109","v":"Fakture (ukoliko je primjenjivo)"},{"$f":"Translations!$B$527","v":"Laboratorijske analize:"},null,null,null,3,"Koks: Proces (metoda A): miješani (karbonat + nekarbonat)",null,"NCV_Koks: Proces (metoda A): miješani (karbonat + nekarbonat)",null,null,null,null,null,null,false,null,null,null,null,null,null,null,null,null,null,null,1,"",1,{"$f":"Translations!$B$1109","v":"Fakture (ukoliko je primjenjivo)"},2]
[16,"Proizvodnja koksa","Koks","Proces (metoda A): nekarbonat",null,"Standardna metoda: Proces, članak 24. stavak 2.","2a/2b",{"$f":"Translations!$B$493","v":"Zadane vrijednosti I:"},null,{"$f":"Translations!$B$528","v":"Zadane vrijednosti II:"},{"$f":"Translations!$B$1109","v":"Fakture (ukoliko je primjenjivo)"},{"$f":"Translations!$B$527","v":"Laboratorijske analize:"},null,null,null,3,"Koks: Proces (metoda A): nekarbonat",null,"NCV_Koks: Proces (metoda A): nekarbonat",null,null,null,null,null,null,false,null,null,null,null,null,null,null,null,null,null,null,1,"",1,{"$f":"Translations!$B$1109","v":"Fakture (ukoliko je primjenjivo)"},2]
[17,"Proizvodnja koksa","Koks","Proces (metoda B): izlaz oksida",null,"Standardna metoda: Proces, članak 24. stavak 2.",{"$f":"EUconst_NA","v":"nije primjenjivo"},null,null,null,null,null,null,null,null,"nije primjenjivo","Koks: Proces (metoda B): izlaz oksida",null,"NCV_Koks: Proces (metoda B): izlaz oksida",null,null,null,null,null,null,true,null,null,null,null,null,null,null,null,null,null,null,"","","","",""]
[18,"Proizvodnja koksa","Koks","Bilanca mase",null,"Metoda masene bilance, članak 25.",{"$f":"\"\"","v":""},{"$f":"Translations!$B$493","v":"Zadane vrijednosti I:"},null,{"$f":"Translations!$B$528","v":"Zadane vrijednosti II:"},{"$f":"Translations!$B$1109","v":"Fakture (ukoliko je primjenjivo)"},{"$f":"Translations!$B$527","v":"Laboratorijske analize:"},null,null,null,3,"Koks: Bilanca mase",null,"NCV_Koks: Bilanca mase",null,null,null,null,null,null,false,null,null,null,null,null,null,null,null,null,null,null,1,"",1,{"$f":"Translations!$B$1109","v":"Fakture (ukoliko je primjenjivo)"},2]
[19,"Pečenje i sinteriranje metalnih ruda","Metalne rude","Proces (metoda A): samo karbonat",null,"Standardna metoda: Proces, članak 24. stavak 2.",{"$f":"EUconst_NA","v":"nije primjenjivo"},null,null,null,null,null,null,null,null,"nije primjenjivo","Metalne rude: Proces (metoda A): samo karbonat",null,"NCV_Metalne rude: Proces (metoda A): samo karbonat",null,null,null,null,null,null,true,null,null,null,null,null,null,null,null,null,null,null,"","","","",""]
[20,"Pečenje i sinteriranje metalnih ruda","Metalne rude","Proces (metoda A): miješani (karbonat + nekarbonat)",null,"Standardna metoda: Proces, članak 24. stavak 2.","2a/2b",{"$f":"Translations!$B$493","v":"Zadane vrijednosti I:"},null,{"$f":"Translations!$B$528","v":"Zadane vrijednosti II:"},{"$f":"Translations!$B$1109","v":"Fakture (ukoliko je primjenjivo)"},{"$f":"Translations!$B$527","v":"Laboratorijske analize:"},null,null,null,3,"Metalne rude: Proces (metoda A): miješani (karbonat + nekarbonat)",null,"NCV_Metalne rude: Proces (metoda A): miješani (karbonat + nekarbonat)",null,null,null,null,null,null,false,null,null,null,null,null,null,null,null,null,null,null,1,"",1,{"$f":"Translations!$B$1109","v":"Fakture (ukoliko je primjenjivo)"},2]
[21,{"$f":"B357","v":"Pečenje i sinteriranje metalnih ruda"},"Metalne rude","Proces (metoda A): nekarbonat",null,"Standardna metoda: Proces, članak 24. stavak 2.","2a/2b",{"$f":"Translations!$B$493","v":"Zadane vrijednosti I:"},null,{"$f":"Translations!$B$528","v":"Zadane vrijednosti II:"},{"$f":"Translations!$B$1109","v":"Fakture (ukoliko je primjenjivo)"},{"$f":"Translations!$B$527","v":"Laboratorijske analize:"},null,null,null,3,"Metalne rude: Proces (metoda A): nekarbonat",null,"NCV_Metalne rude: Proces (metoda A): nekarbonat",null,null,null,null,null,null,false,null,null,null,null,null,null,null,null,null,null,null,1,"",1,{"$f":"Translations!$B$1109","v":"Fakture (ukoliko je primjenjivo)"},2]
[22,"Pečenje i sinteriranje metalnih ruda","Metalne rude","Proces (metoda B): izlaz oksida",null,"Standardna metoda: Proces, članak 24. stavak 2.",{"$f":"EUconst_NA","v":"nije primjenjivo"},null,null,null,null,null,null,null,null,"nije primjenjivo","Metalne rude: Proces (metoda B): izlaz oksida",null,"NCV_Metalne rude: Proces (metoda B): izlaz oksida",null,null,null,null,null,null,true,null,null,null,null,null,null,null,null,null,null,null,"","","","",""]
[23,"Pečenje i sinteriranje metalnih ruda","Metalne rude","Bilanca mase",null,"Metoda masene bilance, članak 25.",{"$f":"\"\"","v":""},{"$f":"Translations!$B$493","v":"Zadane vrijednosti I:"},null,{"$f":"Translations!$B$528","v":"Zadane vrijednosti II:"},{"$f":"Translations!$B$1109","v":"Fakture (ukoliko je primjenjivo)"},{"$f":"Translations!$B$527","v":"Laboratorijske analize:"},null,null,null,3,"Metalne rude: Bilanca mase",null,"NCV_Metalne rude: Bilanca mase",null,null,null,null,null,null,false,null,null,null,null,null,null,null,null,null,null,null,1,"",1,{"$f":"Translations!$B$1109","v":"Fakture (ukoliko je primjenjivo)"},2]
[24,"Proizvodnja željeza ili čelika","Željezo i čelik","Gorivo koje se koristi kao ulazni materijal procesa",null,"Standardna metoda: Gorivo, članak 24. stavak 1.Uredbe","2a/2b",{"$f":"Translations!$B$493","v":"Zadane vrijednosti I:"},null,{"$f":"Translations!$B$528","v":"Zadane vrijednosti II:"},{"$f":"Translations!$B$1109","v":"Fakture (ukoliko je primjenjivo)"},{"$f":"Translations!$B$527","v":"Laboratorijske analize:"},null,null,null,3,"Željezo i čelik: Gorivo koje se koristi kao ulazni materijal procesa",null,"NCV_Željezo i čelik: Gorivo koje se koristi kao ulazni materijal procesa",null,null,null,null,null,null,false,null,null,null,null,null,null,null,null,null,null,null,1,"",1,{"$f":"Translations!$B$1109","v":"Fakture (ukoliko je primjenjivo)"},2]
[25,"Proizvodnja željeza ili čelika","Željezo i čelik","Proces (metoda A): samo karbonat",null,"Standardna metoda: Proces, članak 24. stavak 2.",{"$f":"EUconst_NA","v":"nije primjenjivo"},null,null,null,null,null,null,null,null,"nije primjenjivo","Željezo i čelik: Proces (metoda A): samo karbonat",null,"NCV_Željezo i čelik: Proces (metoda A): samo karbonat",null,null,null,null,null,null,true,null,null,null,null,null,null,null,null,null,null,null,"","","","",""]
[26,"Proizvodnja željeza ili čelika","Željezo i čelik","Proces (metoda A): miješani (karbonat + nekarbonat)",null,"Standardna metoda: Proces, članak 24. stavak 2.","2a/2b",{"$f":"Translations!$B$493","v":"Zadane vrijednosti I:"},null,{"$f":"Translations!$B$528","v":"Zadane vrijednosti II:"},{"$f":"Translations!$B$1109","v":"Fakture (ukoliko je primjenjivo)"},{"$f":"Translations!$B$527","v":"Laboratorijske analize:"},null,null,null,3,"Željezo i čelik: Proces (metoda A): miješani (karbonat + nekarbonat)",null,"NCV_Željezo i čelik: Proces (metoda A): miješani (karbonat + nekarbonat)",null,null,null,null,null,null,false,null,null,null,null,null,null,null,null,null,null,null,1,"",1,{"$f":"Translations!$B$1109","v":"Fakture (ukoliko je primjenjivo)"},2]
[27,"Proizvodnja željeza ili čelika","Željezo i čelik","Proces (metoda A): nekarbonat",null,"Standardna metoda: Proces, članak 24. stavak 2.","2a/2b",{"$f":"Translations!$B$493","v":"Zadane vrijednosti I:"},null,{"$f":"Translations!$B$528","v":"Zadane vrijednosti II:"},{"$f":"Translations!$B$1109","v":"Fakture (ukoliko je primjenjivo)"},{"$f":"Translations!$B$527","v":"Laboratorijske analize:"},null,null,null,3,"Željezo i čelik: Proces (metoda A): nekarbonat",null,"NCV_Željezo i čelik: Proces (metoda A): nekarbonat",null,null,null,null,null,null,false,null,null,null,null,null,null,null,null,null,null,null,1,"",1,{"$f":"Translations!$B$1109","v":"Fakture (ukoliko je primjenjivo)"},2]
[28,"Proizvodnja željeza ili čelika","Željezo i čelik","Proces (metoda B): izlaz oksida",null,"Standardna metoda: Proces, članak 24. stavak 2.",{"$f":"EUconst_NA","v":"nije primjenjivo"},null,null,null,null,null,null,null,null,"nije primjenjivo","Željezo i čelik: Proces (metoda B): izlaz oksida",null,"NCV_Željezo i čelik: Proces (metoda B): izlaz oksida",null,null,null,null,null,null,true,null,null,null,null,null,null,null,null,null,null,null,"","","","",""]
[29,"Proizvodnja željeza ili čelika","Željezo i čelik","Bilanca mase",null,"Metoda masene bilance, članak 25.",{"$f":"\"\"","v":""},{"$f":"Translations!$B$493","v":"Zadane vrijednosti I:"},null,{"$f":"Translations!$B$528","v":"Zadane vrijednosti II:"},{"$f":"Translations!$B$1109","v":"Fakture (ukoliko je primjenjivo)"},{"$f":"Translations!$B$527","v":"Laboratorijske analize:"},null,null,null,3,"Željezo i čelik: Bilanca mase",null,"NCV_Željezo i čelik: Bilanca mase",null,null,null,null,null,null,false,null,null,null,null,null,null,null,null,null,null,null,1,"",1,{"$f":"Translations!$B$1109","v":"Fakture (ukoliko je primjenjivo)"},2]
[30,"Proizvodnja cementnog klinkera","Cementni klinker","Na temelju ulaza u peć (Metoda A)",null,"Standardna metoda: Proces, članak 24. stavak 2.",{"$f":"EUconst_NA","v":"nije primjenjivo"},null,null,null,null,null,null,null,null,"nije primjenjivo","Cementni klinker: Na temelju ulaza u peć (Metoda A)",null,"NCV_Cementni klinker: Na temelju ulaza u peć (Metoda A)",null,null,null,null,null,null,true,null,null,null,null,null,null,null,null,null,null,null,"","","","",""]
[31,"Proizvodnja cementnog klinkera","Cementni klinker","Izlaz klinkera (Metoda B)",null,"Standardna metoda: Proces, članak 24. stavak 2.",{"$f":"EUconst_NA","v":"nije primjenjivo"},null,null,null,null,null,null,null,null,"nije primjenjivo","Cementni klinker: Izlaz klinkera (Metoda B)",null,"NCV_Cementni klinker: Izlaz klinkera (Metoda B)",null,null,null,null,null,null,true,null,null,null,null,null,null,null,null,null,null,null,"","","","",""]
[32,"Proizvodnja cementnog klinkera","Cementni klinker","CKD",null,"Standardna metoda: Proces, članak 24. stavak 2.",{"$f":"EUconst_NA","v":"nije primjenjivo"},null,null,null,null,null,null,null,null,"nije primjenjivo","Cementni klinker: CKD",null,"NCV_Cementni klinker: CKD",null,null,null,null,null,null,true,null,null,null,null,null,null,null,null,null,null,null,"","","","",""]
[33,"Proizvodnja cementnog klinkera","Cementni klinker","Ne-karbonatni ugljik",null,{"$f":"F369","v":"Standardna metoda: Proces, članak 24. stavak 2."},{"$f":"EUconst_NA","v":"nije primjenjivo"},null,null,null,null,null,null,null,null,"nije primjenjivo","Cementni klinker: Ne-karbonatni ugljik",null,"NCV_Cementni klinker: Ne-karbonatni ugljik",null,null,null,null,null,null,true,null,null,null,null,null,null,null,null,null,null,null,"","","","",""]
[34,"Proizvodnja vapna ili kalcinacija dolomita/magnezita","Vapno / dolomit / magnezit","Proces (metoda A): samo karbonat",null,"Standardna metoda: Proces, članak 24. stavak 2.",{"$f":"EUconst_NA","v":"nije primjenjivo"},null,null,null,null,null,null,null,null,"nije primjenjivo","Vapno / dolomit / magnezit: Proces (metoda A): samo karbonat",null,"NCV_Vapno / dolomit / magnezit: Proces (metoda A): samo karbonat",null,null,null,null,null,null,true,null,null,null,null,null,null,null,null,null,null,null,"","","","",""]
[35,"Proizvodnja vapna ili kalcinacija dolomita/magnezita","Vapno / dolomit / magnezit","Proces (metoda A): miješani (karbonat + nekarbonat)",null,"Standardna metoda: Proces, članak 24. stavak 2.","2a/2b",{"$f":"Translations!$B$493","v":"Zadane vrijednosti I:"},null,{"$f":"Translations!$B$528","v":"Zadane vrijednosti II:"},{"$f":"Translations!$B$1109","v":"Fakture (ukoliko je primjenjivo)"},{"$f":"Translations!$B$527","v":"Laboratorijske analize:"},null,null,null,3,"Vapno / dolomit / magnezit: Proces (metoda A): miješani (karbonat + nekarbonat)",null,"NCV_Vapno / dolomit / magnezit: Proces (metoda A): miješani (karbonat + nekarbonat)",null,null,null,null,null,null,false,null,null,null,null,null,null,null,null,null,null,null,1,"",1,{"$f":"Translations!$B$1109","v":"Fakture (ukoliko je primjenjivo)"},2]
[36,"Proizvodnja vapna ili kalcinacija dolomita/magnezita","Vapno / dolomit / magnezit","Proces (metoda A): nekarbonat",null,"Standardna metoda: Proces, članak 24. stavak 2.","2a/2b",{"$f":"Translations!$B$493","v":"Zadane vrijednosti I:"},null,{"$f":"Translations!$B$528","v":"Zadane vrijednosti II:"},{"$f":"Translations!$B$1109","v":"Fakture (ukoliko je primjenjivo)"},{"$f":"Translations!$B$527","v":"Laboratorijske analize:"},null,null,null,3,"Vapno / dolomit / magnezit: Proces (metoda A): nekarbonat",null,"NCV_Vapno / dolomit / magnezit: Proces (metoda A): nekarbonat",null,null,null,null,null,null,false,null,null,null,null,null,null,null,null,null,null,null,1,"",1,{"$f":"Translations!$B$1109","v":"Fakture (ukoliko je primjenjivo)"},2]
[37,"Proizvodnja vapna ili kalcinacija dolomita/magnezita","Vapno / dolomit / magnezit","Proces (metoda B): izlaz oksida",null,"Standardna metoda: Proces, članak 24. stavak 2.",{"$f":"EUconst_NA","v":"nije primjenjivo"},null,null,null,null,null,null,null,null,"nije primjenjivo","Vapno / dolomit / magnezit: Proces (metoda B): izlaz oksida",null,"NCV_Vapno / dolomit / magnezit: Proces (metoda B): izlaz oksida",null,null,null,null,null,null,true,null,null,null,null,null,null,null,null,null,null,null,"","","","",""]
[38,"Proizvodnja vapna ili kalcinacija dolomita/magnezita","Vapno / dolomit / magnezit","Prašina iz peći (Metoda B)",null,"Standardna metoda: Proces, članak 24. stavak 2.",{"$f":"EUconst_NA","v":"nije primjenjivo"},null,null,null,null,null,null,null,null,{"$f":"IF(G446=EUconst_NA,EUconst_NA,IF(ISBLANK(J446),COUNTA(H446:O446),COUNTA(H446,J446,L446)))","v":"nije primjenjivo"},"Vapno / dolomit / magnezit: Prašina iz peći (Metoda B)",null,"NCV_Vapno / dolomit / magnezit: Prašina iz peći (Metoda B)",null,null,null,null,null,null,true,null,null,null,null,null,null,null,null,null,null,null,"","","","",""]
[39,"Proizvodnja stakla","Staklo i mineralna vuna","Proces (metoda A): samo karbonat",null,"Standardna metoda: Proces, članak 24. stavak 2.",{"$f":"EUconst_NA","v":"nije primjenjivo"},null,null,null,null,null,null,null,null,"nije primjenjivo","Staklo i mineralna vuna: Proces (metoda A): samo karbonat",null,"NCV_Staklo i mineralna vuna: Proces (metoda A): samo karbonat",null,null,null,null,null,null,true,null,null,null,null,null,null,null,null,null,null,null,"","","","",""]
[40,"Proizvodnja stakla","Staklo i mineralna vuna","Proces (metoda A): miješani (karbonat + nekarbonat)",null,"Standardna metoda: Proces, članak 24. stavak 2.","2a/2b",{"$f":"Translations!$B$493","v":"Zadane vrijednosti I:"},null,{"$f":"Translations!$B$528","v":"Zadane vrijednosti II:"},{"$f":"Translations!$B$1109","v":"Fakture (ukoliko je primjenjivo)"},{"$f":"Translations!$B$527","v":"Laboratorijske analize:"},null,null,null,3,"Staklo i mineralna vuna: Proces (metoda A): miješani (karbonat + nekarbonat)",null,"NCV_Staklo i mineralna vuna: Proces (metoda A): miješani (karbonat + nekarbonat)",null,null,null,null,null,null,false,null,null,null,null,null,null,null,null,null,null,null,1,"",1,{"$f":"Translations!$B$1109","v":"Fakture (ukoliko je primjenjivo)"},2]
[41,{"$f":"B377","v":"Proizvodnja stakla"},"Staklo i mineralna vuna","Proces (metoda A): nekarbonat",null,"Standardna metoda: Proces, članak 24. stavak 2.","2a/2b",{"$f":"Translations!$B$493","v":"Zadane vrijednosti I:"},null,{"$f":"Translations!$B$528","v":"Zadane vrijednosti II:"},{"$f":"Translations!$B$1109","v":"Fakture (ukoliko je primjenjivo)"},{"$f":"Translations!$B$527","v":"Laboratorijske analize:"},null,null,null,3,"Staklo i mineralna vuna: Proces (metoda A): nekarbonat",null,"NCV_Staklo i mineralna vuna: Proces (metoda A): nekarbonat",null,null,null,null,null,null,false,null,null,null,null,null,null,null,null,null,null,null,1,"",1,{"$f":"Translations!$B$1109","v":"Fakture (ukoliko je primjenjivo)"},2]
[42,"Proizvodnja keramike","Keramika","Proces (metoda A): samo karbonat",null,"Standardna metoda: Proces, članak 24. stavak 2.",{"$f":"EUconst_NA","v":"nije primjenjivo"},null,null,null,null,null,null,null,null,"nije primjenjivo","Keramika: Proces (metoda A): samo karbonat",null,"NCV_Keramika: Proces (metoda A): samo karbonat",null,null,null,null,null,null,true,null,null,null,null,null,null,null,null,null,null,null,"","","","",""]
[43,"Proizvodnja keramike","Keramika","Proces (metoda A): miješani (karbonat + nekarbonat)",null,"Standardna metoda: Proces, članak 24. stavak 2.","2a/2b",{"$f":"Translations!$B$493","v":"Zadane vrijednosti I:"},null,{"$f":"Translations!$B$528","v":"Zadane vrijednosti II:"},{"$f":"Translations!$B$1109","v":"Fakture (ukoliko je primjenjivo)"},{"$f":"Translations!$B$527","v":"Laboratorijske analize:"},null,null,null,3,"Keramika: Proces (metoda A): miješani (karbonat + nekarbonat)",null,"NCV_Keramika: Proces (metoda A): miješani (karbonat + nekarbonat)",null,null,null,null,null,null,false,null,null,null,null,null,null,null,null,null,null,null,1,"",1,{"$f":"Translations!$B$1109","v":"Fakture (ukoliko je primjenjivo)"},2]
[44,"Proizvodnja keramike","Keramika","Proces (metoda A): nekarbonat",null,"Standardna metoda: Proces, članak 24. stavak 2.","2a/2b",{"$f":"Translations!$B$493","v":"Zadane vrijednosti I:"},null,{"$f":"Translations!$B$528","v":"Zadane vrijednosti II:"},{"$f":"Translations!$B$1109","v":"Fakture (ukoliko je primjenjivo)"},{"$f":"Translations!$B$527","v":"Laboratorijske analize:"},null,null,null,3,"Keramika: Proces (metoda A): nekarbonat",null,"NCV_Keramika: Proces (metoda A): nekarbonat",null,null,null,null,null,null,false,null,null,null,null,null,null,null,null,null,null,null,1,"",1,{"$f":"Translations!$B$1109","v":"Fakture (ukoliko je primjenjivo)"},2]
[45,"Proizvodnja keramike","Keramika","Proces (metoda B): izlaz oksida",null,"Standardna metoda: Proces, članak 24. stavak 2.",{"$f":"EUconst_NA","v":"nije primjenjivo"},null,null,null,null,null,null,null,null,"nije primjenjivo","Keramika: Proces (metoda B): izlaz oksida",null,"NCV_Keramika: Proces (metoda B): izlaz oksida",null,null,null,null,null,null,true,null,null,null,null,null,null,null,null,null,null,null,"","","","",""]
[46,"Proizvodnja keramike","Keramika","Čišćenje mokrim postupkom",null,"Standardna metoda: Proces, članak 24. stavak 2.",{"$f":"\"\"","v":""},{"$f":"Translations!$B$493","v":"Zadane vrijednosti I:"},null,null,null,null,null,null,null,1,"Keramika: Čišćenje mokrim postupkom",null,"NCV_Keramika: Čišćenje mokrim postupkom",null,null,null,null,null,null,false,null,null,null,null,null,null,null,null,null,null,null,1,"","","",""]
[47,"Proizvodnja celuloze","Celuloza i papir","Dodatne kemikalije",null,"Standardna metoda: Proces, članak 24. stavak 2.",{"$f":"EUconst_NA","v":"nije primjenjivo"},null,null,null,null,null,null,null,null,"nije primjenjivo","Celuloza i papir: Dodatne kemikalije",null,"NCV_Celuloza i papir: Dodatne kemikalije",null,null,null,null,null,null,true,null,null,null,null,null,null,null,null,null,null,null,"","","","",""]
[48,"Proizvodnja čađe ","Čađa","Metodologija masene bilance",null,"Metoda masene bilance, članak 25.",{"$f":"\"\"","v":""},{"$f":"Translations!$B$493","v":"Zadane vrijednosti I:"},null,{"$f":"Translations!$B$528","v":"Zadane vrijednosti II:"},{"$f":"Translations!$B$1109","v":"Fakture (ukoliko je primjenjivo)"},{"$f":"Translations!$B$527","v":"Laboratorijske analize:"},null,null,null,3,"Čađa: Metodologija masene bilance",null,"NCV_Čađa: Metodologija masene bilance",null,null,null,null,null,null,false,null,null,null,null,null,null,null,null,null,null,null,1,"",1,{"$f":"Translations!$B$1109","v":"Fakture (ukoliko je primjenjivo)"},2]
[49,"Proizvodnja amonijaka","Amonijak","Gorivo koje se koristi kao ulazni materijal procesa",null,"Standardna metoda: Gorivo, članak 24. stavak 1.Uredbe","2a/2b",{"$f":"Translations!$B$493","v":"Zadane vrijednosti I:"},null,{"$f":"Translations!$B$528","v":"Zadane vrijednosti II:"},{"$f":"Translations!$B$1109","v":"Fakture (ukoliko je primjenjivo)"},{"$f":"Translations!$B$527","v":"Laboratorijske analize:"},null,null,null,3,"Amonijak: Gorivo koje se koristi kao ulazni materijal procesa",null,"NCV_Amonijak: Gorivo koje se koristi kao ulazni materijal procesa",null,null,null,null,null,null,false,null,null,null,null,null,null,null,null,null,null,null,1,"",1,{"$f":"Translations!$B$1109","v":"Fakture (ukoliko je primjenjivo)"},2]
[50,"Proizvodnja vodika i sintetskog plina","Vodik i sintetski plin","Gorivo koje se koristi kao ulazni materijal procesa",null,"Standardna metoda: Gorivo, članak 24. stavak 1.Uredbe","2a/2b",{"$f":"Translations!$B$493","v":"Zadane vrijednosti I:"},null,{"$f":"Translations!$B$528","v":"Zadane vrijednosti II:"},{"$f":"Translations!$B$1109","v":"Fakture (ukoliko je primjenjivo)"},{"$f":"Translations!$B$527","v":"Laboratorijske analize:"},null,null,null,3,"Vodik i sintetski plin: Gorivo koje se koristi kao ulazni materijal procesa",null,"NCV_Vodik i sintetski plin: Gorivo koje se koristi kao ulazni materijal procesa",null,null,null,null,null,null,false,null,null,null,null,null,null,null,null,null,null,null,1,"",1,{"$f":"Translations!$B$1109","v":"Fakture (ukoliko je primjenjivo)"},2]
[51,"Proizvodnja vodika i sintetskog plina","Vodik i sintetski plin","Metodologija masene bilance",null,"Metoda masene bilance, članak 25.",{"$f":"\"\"","v":""},{"$f":"Translations!$B$493","v":"Zadane vrijednosti I:"},null,{"$f":"Translations!$B$528","v":"Zadane vrijednosti II:"},{"$f":"Translations!$B$1109","v":"Fakture (ukoliko je primjenjivo)"},{"$f":"Translations!$B$527","v":"Laboratorijske analize:"},null,null,null,3,"Vodik i sintetski plin: Metodologija masene bilance",null,"NCV_Vodik i sintetski plin: Metodologija masene bilance",null,null,null,null,null,null,false,null,null,null,null,null,null,null,null,null,null,null,1,"",1,{"$f":"Translations!$B$1109","v":"Fakture (ukoliko je primjenjivo)"},2]
[52,"Proizvodnja kemikalija na veliko ","Organske kemikalije na veliko","Metodologija masene bilance",null,"Metoda masene bilance, članak 25.",{"$f":"\"\"","v":""},{"$f":"Translations!$B$493","v":"Zadane vrijednosti I:"},null,{"$f":"Translations!$B$528","v":"Zadane vrijednosti II:"},{"$f":"Translations!$B$1109","v":"Fakture (ukoliko je primjenjivo)"},{"$f":"Translations!$B$527","v":"Laboratorijske analize:"},null,null,null,3,"Organske kemikalije na veliko: Metodologija masene bilance",null,"NCV_Organske kemikalije na veliko: Metodologija masene bilance",null,null,null,null,null,null,false,null,null,null,null,null,null,null,null,null,null,null,1,"",1,{"$f":"Translations!$B$1109","v":"Fakture (ukoliko je primjenjivo)"},2]
[53,"Proizvodnja ili prerada obojenih metala","Neobojeni, sek. aluminij","Proces (metoda A): samo karbonat",null,"Standardna metoda: Proces, članak 24. stavak 2.",{"$f":"EUconst_NA","v":"nije primjenjivo"},null,null,null,null,null,null,null,null,"nije primjenjivo","Neobojeni, sek. aluminij: Proces (metoda A): samo karbonat",null,"NCV_Neobojeni, sek. aluminij: Proces (metoda A): samo karbonat",null,null,null,null,null,null,true,null,null,null,null,null,null,null,null,null,null,null,"","","","",""]
[54,"Proizvodnja ili prerada obojenih metala","Neobojeni, sek. aluminij","Proces (metoda A): miješani (karbonat + nekarbonat)",null,"Standardna metoda: Proces, članak 24. stavak 2.","2a/2b",{"$f":"Translations!$B$493","v":"Zadane vrijednosti I:"},null,{"$f":"Translations!$B$528","v":"Zadane vrijednosti II:"},{"$f":"Translations!$B$1109","v":"Fakture (ukoliko je primjenjivo)"},{"$f":"Translations!$B$527","v":"Laboratorijske analize:"},null,null,null,3,"Neobojeni, sek. aluminij: Proces (metoda A): miješani (karbonat + nekarbonat)",null,"NCV_Neobojeni, sek. aluminij: Proces (metoda A): miješani (karbonat + nekarbonat)",null,null,null,null,null,null,false,null,null,null,null,null,null,null,null,null,null,null,1,"",1,{"$f":"Translations!$B$1109","v":"Fakture (ukoliko je primjenjivo)"},2]
[55,"Proizvodnja ili prerada obojenih metala","Neobojeni, sek. aluminij","Proces (metoda A): nekarbonat",null,"Standardna metoda: Proces, članak 24. stavak 2.","2a/2b",{"$f":"Translations!$B$493","v":"Zadane vrijednosti I:"},null,{"$f":"Translations!$B$528","v":"Zadane vrijednosti II:"},{"$f":"Translations!$B$1109","v":"Fakture (ukoliko je primjenjivo)"},{"$f":"Translations!$B$527","v":"Laboratorijske analize:"},null,null,null,3,"Neobojeni, sek. aluminij: Proces (metoda A): nekarbonat",null,"NCV_Neobojeni, sek. aluminij: Proces (metoda A): nekarbonat",null,null,null,null,null,null,false,null,null,null,null,null,null,null,null,null,null,null,1,"",1,{"$f":"Translations!$B$1109","v":"Fakture (ukoliko je primjenjivo)"},2]
[56,"Proizvodnja ili prerada obojenih metala","Neobojeni, sek. aluminij","Proces (metoda B): izlaz oksida",null,"Standardna metoda: Proces, članak 24. stavak 2.",{"$f":"EUconst_NA","v":"nije primjenjivo"},null,null,null,null,null,null,null,null,"nije primjenjivo","Neobojeni, sek. aluminij: Proces (metoda B): izlaz oksida",null,"NCV_Neobojeni, sek. aluminij: Proces (metoda B): izlaz oksida",null,null,null,null,null,null,true,null,null,null,null,null,null,null,null,null,null,null,"","","","",""]
[57,"Proizvodnja ili prerada obojenih metala","Neobojeni, sek. aluminij","Metodologija masene bilance",null,"Metoda masene bilance, članak 25.",{"$f":"\"\"","v":""},{"$f":"Translations!$B$493","v":"Zadane vrijednosti I:"},null,{"$f":"Translations!$B$528","v":"Zadane vrijednosti II:"},{"$f":"Translations!$B$1109","v":"Fakture (ukoliko je primjenjivo)"},{"$f":"Translations!$B$527","v":"Laboratorijske analize:"},null,null,null,3,"Neobojeni, sek. aluminij: Metodologija masene bilance",null,"NCV_Neobojeni, sek. aluminij: Metodologija masene bilance",null,null,null,null,null,null,false,null,null,null,null,null,null,null,null,null,null,null,1,"",1,{"$f":"Translations!$B$1109","v":"Fakture (ukoliko je primjenjivo)"},2]
[58,"Proizvodnja natrij karbonata i natrij-bikarbonata","Natrij karbonat / natrij bikarbonat","Metodologija masene bilance",null,"Metoda masene bilance, članak 25.",{"$f":"\"\"","v":""},{"$f":"Translations!$B$493","v":"Zadane vrijednosti I:"},null,{"$f":"Translations!$B$528","v":"Zadane vrijednosti II:"},{"$f":"Translations!$B$1109","v":"Fakture (ukoliko je primjenjivo)"},{"$f":"Translations!$B$527","v":"Laboratorijske analize:"},null,null,null,3,"Natrij karbonat / natrij bikarbonat: Metodologija masene bilance",null,"NCV_Natrij karbonat / natrij bikarbonat: Metodologija masene bilance",null,null,null,null,null,null,false,null,null,null,null,null,null,null,null,null,null,null,1,"",1,{"$f":"Translations!$B$1109","v":"Fakture (ukoliko je primjenjivo)"},2]
[59,"Proizvodnja primarnog aluminija","Primarni aluminij","Metodologija masene bilance",null,"Metoda masene bilance, članak 25.",{"$f":"\"\"","v":""},{"$f":"Translations!$B$493","v":"Zadane vrijednosti I:"},null,{"$f":"Translations!$B$528","v":"Zadane vrijednosti II:"},{"$f":"Translations!$B$1109","v":"Fakture (ukoliko je primjenjivo)"},{"$f":"Translations!$B$527","v":"Laboratorijske analize:"},null,null,null,3,"Primarni aluminij: Metodologija masene bilance",null,"NCV_Primarni aluminij: Metodologija masene bilance",null,null,null,null,null,null,false,null,null,null,null,null,null,null,null,null,null,null,1,"",1,{"$f":"Translations!$B$1109","v":"Fakture (ukoliko je primjenjivo)"},2]
[60,"Proizvodnja primarnog aluminija","Primarni aluminij","Emisije PFC (Metoda nagiba)",null,"Izračun sa specijalnim odredbama za PFC (Prilog IV, poglavlje 8.)",{"$f":"EUconst_NA","v":"nije primjenjivo"},null,null,null,null,null,null,null,null,"nije primjenjivo","Primarni aluminij: Emisije PFC (Metoda nagiba)",null,"NCV_Primarni aluminij: Emisije PFC (Metoda nagiba)",null,null,null,null,null,null,true,null,null,null,null,null,null,null,null,null,null,null,"","","","",""]
[61,{"$f":"B397","v":"Proizvodnja primarnog aluminija"},"Primarni aluminij","Emisije PFC (prenaponska metoda)",null,"Izračun sa specijalnim odredbama za PFC (Prilog IV, poglavlje 8.)","nije primjenjivo",null,null,null,null,null,null,null,null,"nije primjenjivo","Primarni aluminij: Emisije PFC (prenaponska metoda)",null,"NCV_Primarni aluminij: Emisije PFC (prenaponska metoda)",null,null,null,null,null,null,{"$f":"IF(G469=EUconst_NA,TRUE,FALSE)","v":true},null,null,null,null,null,null,null,null,null,null,null,"","","","",""]
[62,"Hvatanje stakleničkih plinova prema Direktivi 2009/31/EC","CCS: Capture","CO2 transferred",null,{"$f":"F398","v":"Metoda masene bilance, članak 25."},"nije primjenjivo",null,null,null,null,null,null,null,null,{"$f":"IF(G470=EUconst_NA,EUconst_NA,IF(ISBLANK(J470),COUNTA(H470:O470),COUNTA(H470,J470,L470)))","v":"nije primjenjivo"},{"$f":"C470 & \": \" &D470","v":"CCS: Capture: CO2 transferred"},null,{"$f":"EUconst_CNTR_NCV&Q470","v":"NCV_CCS: Capture: CO2 transferred"},null,null,null,null,null,null,true]
[63,"Transport stakleničkih plinova prema Direktivi 2009/31/EC","CCS: Transport","CO2 transferred",null,"Metoda masene bilance, članak 25.","nije primjenjivo",null,null,null,null,null,null,null,null,"nije primjenjivo","CCS: Transport: CO2 transferred",null,"NCV_CCS: Transport: CO2 transferred",null,null,null,null,null,null,true]
[64,"Transport stakleničkih plinova prema Direktivi 2009/31/EC","CCS: Transport","CO2 vented",null,"Standardna metoda: Proces, članak 24. stavak 2.","nije primjenjivo",null,null,null,null,null,null,null,null,"nije primjenjivo","CCS: Transport: CO2 vented",null,"NCV_CCS: Transport: CO2 vented",null,null,null,null,null,null,true]
[65,"Transport stakleničkih plinova prema Direktivi 2009/31/EC","CCS: Transport","CO2 leaked",null,"Standardna metoda: Proces, članak 24. stavak 2.","nije primjenjivo",null,null,null,null,null,null,null,null,"nije primjenjivo","CCS: Transport: CO2 leaked",null,"NCV_CCS: Transport: CO2 leaked",null,null,null,null,null,null,true]
[66,"Transport stakleničkih plinova prema Direktivi 2009/31/EC","CCS: Transport","CO2 fugitive",null,"Standardna metoda: Proces, članak 24. stavak 2.","nije primjenjivo",null,null,null,null,null,null,null,null,"nije primjenjivo","CCS: Transport: CO2 fugitive",null,"NCV_CCS: Transport: CO2 fugitive",null,null,null,null,null,null,true]
[67,"Skladištenje stakleničkih plinova prema Direktivi 2009/31/EC","CCS: Storage","CO2 transferred",null,"Metoda masene bilance, članak 25.","nije primjenjivo",null,null,null,null,null,null,null,null,"nije primjenjivo","CCS: Storage: CO2 transferred",null,"NCV_CCS: Storage: CO2 transferred",null,null,null,null,null,null,true]
[68,"Skladištenje stakleničkih plinova prema Direktivi 2009/31/EC","CCS: Storage","CO2 vented",null,"Standardna metoda: Proces, članak 24. stavak 2.","nije primjenjivo",null,null,null,null,null,null,null,null,"nije primjenjivo","CCS: Storage: CO2 vented",null,"NCV_CCS: Storage: CO2 vented",null,null,null,null,null,null,true]
[69,"Skladištenje stakleničkih plinova prema Direktivi 2009/31/EC","CCS: Storage","CO2 leaked",null,"Standardna metoda: Proces, članak 24. stavak 2.","nije primjenjivo",null,null,null,null,null,null,null,null,"nije primjenjivo","CCS: Storage: CO2 leaked",null,"NCV_CCS: Storage: CO2 leaked",null,null,null,null,null,null,true]
[70,"Skladištenje stakleničkih plinova prema Direktivi 2009/31/EC","CCS: Storage","CO2 fugitive",null,"Standardna metoda: Proces, članak 24. stavak 2.","nije primjenjivo",null,null,null,null,null,null,null,null,"nije primjenjivo","CCS: Storage: CO2 fugitive",null,"NCV_CCS: Storage: CO2 fugitive",null,null,null,null,null,null,true]
[null,null,null,null,null,null,null,null,null,null,null,null,null,null,null,null,null,null,null,null,null,null,null,null,null,false]
["NEW",{"$f":"Translations!$B$524","v":"Sadržaj ugljika"},{"$f":"Translations!$B$957","v":"Skraćeno ime"},{"$f":"Translations!$B$958","v":"Pod-djelatnost"},{"$f":"Translations!$B$389","v":"Analitički parametar"},{"$f":"Translations!$B$959","v":"Tip izvora"},{"$f":"Translations!$B$960","v":"Minimum"},1,2,"2a",{"$f":"Translations!$B$928","v":"2b"},3,"3a","3b",4,{"$f":"Translations!$B$961","v":"Najviši"},null,null,null,null,null,null,null,null,null,{"$f":"Translations!$B$962","v":"označiti sivom bojom?"},null,null,null,null,null,null,null,null,null,null,"1=default value, 2=lab",1,2,"2a",{"$f":"Translations!$B$928","v":"2b"},3]
[1,{"$f":"B409","v":"Izgaranje goriva "},"Izgaranje","Komercijalna standardna goriva",null,{"$f":"F409","v":"Standardna metoda: Gorivo, članak 24. stavak 1.Uredbe"},{"$f":"EUconst_NA","v":"nije primjenjivo"},null,null,null,null,null,null,null,null,{"$f":"G481","v":"nije primjenjivo"},{"$f":"C481 & \": \" &D481","v":"Izgaranje: Komercijalna standardna goriva"},null,{"$f":"EUconst_CNTR_CarbonContent&Q481","v":"CarbC_Izgaranje: Komercijalna standardna goriva"},null,null,null,null,null,null,{"$f":"IF(G481=EUconst_NA,TRUE,FALSE)","v":true},null,null,null,null,null,null,null,null,null,null,null,"","","","",""]
[2,"Izgaranje goriva ","Izgaranje","Ostala plinovita & tekuća goriva",null,"Standardna metoda: Gorivo, članak 24. stavak 1.Uredbe",{"$f":"EUconst_NA","v":"nije primjenjivo"},null,null,null,null,null,null,null,null,{"$f":"IF(G482=EUconst_NA,EUconst_NA,IF(ISBLANK(J482),COUNTA(H482:O482),COUNTA(H482,J482,L482)))","v":"nije primjenjivo"},{"$f":"C482 & \": \" &D482","v":"Izgaranje: Ostala plinovita & tekuća goriva"},null,"CarbC_Izgaranje: Ostala plinovita & tekuća goriva",null,null,null,null,null,null,true,null,null,null,null,null,null,null,null,null,null,null,"","","","",""]
[3,"Izgaranje goriva ","Izgaranje","Kruta goriva isključujući otpad",null,"Standardna metoda: Gorivo, članak 24. stavak 1.Uredbe",{"$f":"EUconst_NA","v":"nije primjenjivo"},null,null,null,null,null,null,null,null,"nije primjenjivo","Izgaranje: Kruta goriva isključujući otpad",null,"CarbC_Izgaranje: Kruta goriva isključujući otpad",null,null,null,null,null,null,true,null,null,null,null,null,null,null,null,null,null,null,"","","","",""]
[4,"Izgaranje goriva ","Izgaranje","Otpad",null,"Standardna metoda: Gorivo, članak 24. stavak 1.Uredbe",{"$f":"EUconst_NA","v":"nije primjenjivo"},null,null,null,null,null,null,null,null,{"$f":"IF(G484=EUconst_NA,EUconst_NA,IF(ISBLANK(J484),COUNTA(H484:O484),COUNTA(H484,J484,L484)))","v":"nije primjenjivo"},{"$f":"C484 & \": \" &D484","v":"Izgaranje: Otpad"},null,{"$f":"EUconst_CNTR_CarbonContent&Q484","v":"CarbC_Izgaranje: Otpad"},null,null,null,null,null,null,{"$f":"IF(G484=EUconst_NA,TRUE,FALSE)","v":true},null,null,null,null,null,null,null,null,null,null,null,"","","","",""]
[5,"Izgaranje goriva ","Izgaranje","Terminali za obradu plina ",null,"Metoda masene bilance, članak 25.",1,{"$f":"Translations!$B$493","v":"Zadane vrijednosti I:"},null,{"$f":"Translations!$B$528","v":"Zadane vrijednosti II:"},{"$f":"Translations!$B$1061","v":"Utemeljeni posredni faktori (ako je promijenjivo)"},{"$f":"Translations!$B$527","v":"Laboratorijske analize:"},null,null,null,3,"Izgaranje: Terminali za obradu plina ",null,"CarbC_Izgaranje: Terminali za obradu plina ",null,null,null,null,null,null,false,null,null,null,null,null,null,null,null,null,null,null,1,"",1,2,2]
[6,"Izgaranje goriva ","Izgaranje","Baklje",null,"Standardna metoda: Gorivo, članak 24. stavak 1.Uredbe",{"$f":"EUconst_NA","v":"nije primjenjivo"},null,null,null,null,null,null,null,null,"nije primjenjivo","Izgaranje: Baklje",null,"CarbC_Izgaranje: Baklje",null,null,null,null,null,null,true,null,null,null,null,null,null,null,null,null,null,null,"","","","",""]
[7,"Izgaranje goriva ","Izgaranje","Čišćenje mokrim postupkom (karbonati)",null,"Standardna metoda: Proces, članak 24. stavak 2.",{"$f":"EUconst_NA","v":"nije primjenjivo"},null,null,null,null,null,null,null,null,"nije primjenjivo","Izgaranje: Čišćenje mokrim postupkom (karbonati)",null,"CarbC_Izgaranje: Čišćenje mokrim postupkom (karbonati)",null,null,null,null,null,null,true,null,null,null,null,null,null,null,null,null,null,null,"","","","",""]
[8,"Izgaranje goriva ","Izgaranje","Čišćenje mokrim postupkom (gips)",null,"Standardna metoda: Proces, članak 24. stavak 2.",{"$f":"EUconst_NA","v":"nije primjenjivo"},null,null,null,null,null,null,null,null,"nije primjenjivo","Izgaranje: Čišćenje mokrim postupkom (gips)",null,"CarbC_Izgaranje: Čišćenje mokrim postupkom (gips)",null,null,null,null,null,null,true,null,null,null,null,null,null,null,null,null,null,null,"","","","",""]
[9,"Izgaranje goriva ","Izgaranje","Čišćenje mokrim postupkom (urea)",null,"Standardna metoda: Proces, članak 24. stavak 2.",{"$f":"EUconst_NA","v":"nije primjenjivo"},null,null,null,null,null,null,null,null,"nije primjenjivo","Izgaranje: Čišćenje mokrim postupkom (urea)",null,"CarbC_Izgaranje: Čišćenje mokrim postupkom (urea)",null,null,null,null,null,null,true,null,null,null,null,null,null,null,null,null,null,null,"","","","",""]
[10,"Rafiniranje mineralnih ulja ","Rafinerije","Bilanca mase",null,"Metoda masene bilance, članak 25.","2a/2b",{"$f":"Translations!$B$493","v":"Zadane vrijednosti I:"},null,{"$f":"Translations!$B$528","v":"Zadane vrijednosti II:"},{"$f":"Translations!$B$1061","v":"Utemeljeni posredni faktori (ako je promijenjivo)"},{"$f":"Translations!$B$527","v":"Laboratorijske analize:"},null,null,null,3,"Rafinerije: Bilanca mase",null,"CarbC_Rafinerije: Bilanca mase",null,null,null,null,null,null,false,null,null,null,null,null,null,null,null,null,null,null,1,"",1,2,2]
[11,"Rafiniranje mineralnog ulja ","Rafinerije","Regeneriranje katalizatora iz procesa krekiranja ",null,"Metoda masene bilance, članak 25.",{"$f":"EUconst_NA","v":"nije primjenjivo"},null,null,null,null,null,null,null,null,"nije primjenjivo","Rafinerije: Regeneriranje katalizatora iz procesa krekiranja ",null,"CarbC_Rafinerije: Regeneriranje katalizatora iz procesa krekiranja ",null,null,null,null,null,null,true,null,null,null,null,null,null,null,null,null,null,null,"","","","",""]
[12,"Rafiniranje mineralnog ulja ","Rafinerije","Proizvodnja vodika",null,"Metoda masene bilance, članak 25.","2a/2b",{"$f":"Translations!$B$493","v":"Zadane vrijednosti I:"},null,{"$f":"Translations!$B$528","v":"Zadane vrijednosti II:"},{"$f":"Translations!$B$1061","v":"Utemeljeni posredni faktori (ako je promijenjivo)"},{"$f":"Translations!$B$527","v":"Laboratorijske analize:"},null,null,null,3,"Rafinerije: Proizvodnja vodika",null,"CarbC_Rafinerije: Proizvodnja vodika",null,null,null,null,null,null,false,null,null,null,null,null,null,null,null,null,null,null,1,"",1,2,2]
[13,"Proizvodnja koksa","Koks","Gorivo koje se koristi kao ulazni materijal procesa",null,"Standardna metoda: Gorivo, članak 24. stavak 1.Uredbe","nije primjenjivo",null,null,null,null,null,null,null,null,{"$f":"IF(G493=EUconst_NA,EUconst_NA,IF(ISBLANK(J493),COUNTA(H493:O493),COUNTA(H493,J493,L493)))","v":"nije primjenjivo"},"Koks: Gorivo koje se koristi kao ulazni materijal procesa",null,"CarbC_Koks: Gorivo koje se koristi kao ulazni materijal procesa",null,null,null,null,null,null,true,null,null,null,null,null,null,null,null,null,null,null,"","","","",""]
[14,"Proizvodnja koksa","Koks","Proces (metoda A): samo karbonat",null,"Standardna metoda: Proces, članak 24. stavak 2.","nije primjenjivo",null,null,null,null,null,null,null,null,{"$f":"IF(G494=EUconst_NA,EUconst_NA,IF(ISBLANK(J494),COUNTA(H494:O494),COUNTA(H494,J494,L494)))","v":"nije primjenjivo"},"Koks: Proces (metoda A): samo karbonat",null,"CarbC_Koks: Proces (metoda A): samo karbonat",null,null,null,null,null,null,true,null,null,null,null,null,null,null,null,null,null,null,"","","","",""]
[15,"Proizvodnja koksa","Koks","Proces (metoda A): miješani (karbonat + nekarbonat)",null,"Standardna metoda: Proces, članak 24. stavak 2.","nije primjenjivo",null,null,null,null,null,null,null,null,{"$f":"IF(G495=EUconst_NA,EUconst_NA,IF(ISBLANK(J495),COUNTA(H495:O495),COUNTA(H495,J495,L495)))","v":"nije primjenjivo"},"Koks: Proces (metoda A): miješani (karbonat + nekarbonat)",null,"CarbC_Koks: Proces (metoda A): miješani (karbonat + nekarbonat)",null,null,null,null,null,null,true,null,null,null,null,null,null,null,null,null,null,null,"","","","",""]
[16,"Proizvodnja koksa","Koks","Proces (metoda A): nekarbonat",null,"Standardna metoda: Proces, članak 24. stavak 2.","nije primjenjivo",null,null,null,null,null,null,null,null,{"$f":"IF(G496=EUconst_NA,EUconst_NA,IF(ISBLANK(J496),COUNTA(H496:O496),COUNTA(H496,J496,L496)))","v":"nije primjenjivo"},"Koks: Proces (metoda A): nekarbonat",null,"CarbC_Koks: Proces (metoda A): nekarbonat",null,null,null,null,null,null,true,null,null,null,null,null,null,null,null,null,null,null,"","","","",""]
[17,"Proizvodnja koksa","Koks","Proces (metoda B): izlaz oksida",null,"Standardna metoda: Proces, članak 24. stavak 2.","nije primjenjivo",null,null,null,null,null,null,null,null,{"$f":"IF(G497=EUconst_NA,EUconst_NA,IF(ISBLANK(J497),COUNTA(H497:O497),COUNTA(H497,J497,L497)))","v":"nije primjenjivo"},"Koks: Proces (metoda B): izlaz oksida",null,"CarbC_Koks: Proces (metoda B): izlaz oksida",null,null,null,null,null,null,true,null,null,null,null,null,null,null,null,null,null,null,"","","","",""]
[18,"Proizvodnja koksa","Koks","Bilanca mase",null,"Metoda masene bilance, članak 25.","2a/2b",{"$f":"Translations!$B$493","v":"Zadane vrijednosti I:"},null,{"$f":"Translations!$B$528","v":"Zadane vrijednosti II:"},{"$f":"Translations!$B$1061","v":"Utemeljeni posredni faktori (ako je promijenjivo)"},{"$f":"Translations!$B$527","v":"Laboratorijske analize:"},null,null,null,{"$f":"IF(G498=EUconst_NA,EUconst_NA,IF(ISBLANK(J498),COUNTA(H498:O498),COUNTA(H498,J498,L498)))","v":3},"Koks: Bilanca mase",null,"CarbC_Koks: Bilanca mase",null,null,null,null,null,null,false,null,null,null,null,null,null,null,null,null,null,null,1,"",1,2,2]
[19,"Pečenje i sinteriranje metalnih ruda","Metalne rude","Proces (metoda A): samo karbonat",null,"Standardna metoda: Proces, članak 24. stavak 2.",{"$f":"EUconst_NA","v":"nije primjenjivo"},null,null,null,null,null,null,null,null,"nije primjenjivo","Metalne rude: Proces (metoda A): samo karbonat",null,"CarbC_Metalne rude: Proces (metoda A): samo karbonat",null,null,null,null,null,null,true,null,null,null,null,null,null,null,null,null,null,null,"","","","",""]
[20,"Pečenje i sinteriranje metalnih ruda","Metalne rude","Proces (metoda A): miješani (karbonat + nekarbonat)",null,"Standardna metoda: Proces, članak 24. stavak 2.",{"$f":"EUconst_NA","v":"nije primjenjivo"},null,null,null,null,null,null,null,null,"nije primjenjivo","Metalne rude: Proces (metoda A): miješani (karbonat + nekarbonat)",null,"CarbC_Metalne rude: Proces (metoda A): miješani (karbonat + nekarbonat)",null,null,null,null,null,null,true,null,null,null,null,null,null,null,null,null,null,null,1,"",1,2,2]
[21,{"$f":"B429","v":"Pečenje i sinteriranje metalnih ruda"},"Metalne rude","Proces (metoda A): nekarbonat",null,"Standardna metoda: Proces, članak 24. stavak 2.",{"$f":"EUconst_NA","v":"nije primjenjivo"},null,null,null,null,null,null,null,null,"nije primjenjivo","Metalne rude: Proces (metoda A): nekarbonat",null,"CarbC_Metalne rude: Proces (metoda A): nekarbonat",null,null,null,null,null,null,true,null,null,null,null,null,null,null,null,null,null,null,"","","","",""]
[22,"Pečenje i sinteriranje metalnih ruda","Metalne rude","Proces (metoda B): izlaz oksida",null,"Standardna metoda: Proces, članak 24. stavak 2.",{"$f":"EUconst_NA","v":"nije primjenjivo"},null,null,null,null,null,null,null,null,"nije primjenjivo","Metalne rude: Proces (metoda B): izlaz oksida",null,"CarbC_Metalne rude: Proces (metoda B): izlaz oksida",null,null,null,null,null,null,true,null,null,null,null,null,null,null,null,null,null,null,"","","","",""]
[23,"Pečenje i sinteriranje metalnih ruda","Metalne rude","Bilanca mase",null,"Metoda masene bilance, članak 25.","2a/2b",{"$f":"Translations!$B$493","v":"Zadane vrijednosti I:"},null,{"$f":"Translations!$B$528","v":"Zadane vrijednosti II:"},{"$f":"Translations!$B$1061","v":"Utemeljeni posredni faktori (ako je promijenjivo)"},{"$f":"Translations!$B$527","v":"Laboratorijske analize:"},null,null,null,3,"Metalne rude: Bilanca mase",null,"CarbC_Metalne rude: Bilanca mase",null,null,null,null,null,null,false,null,null,null,null,null,null,null,null,null,null,null,1,"",1,2,2]
[24,"Proizvodnja željeza ili čelika","Željezo i čelik","Gorivo koje se koristi kao ulazni materijal procesa",null,"Standardna metoda: Gorivo, članak 24. stavak 1.Uredbe",{"$f":"EUconst_NA","v":"nije primjenjivo"},null,null,null,null,null,null,null,null,"nije primjenjivo","Željezo i čelik: Gorivo koje se koristi kao ulazni materijal procesa",null,"CarbC_Željezo i čelik: Gorivo koje se koristi kao ulazni materijal procesa",null,null,null,null,null,null,true,null,null,null,null,null,null,null,null,null,null,null,"","","","",""]
[25,"Proizvodnja željeza ili čelika","Željezo i čelik","Proces (metoda A): samo karbonat",null,"Standardna metoda: Proces, članak 24. stavak 2.",{"$f":"EUconst_NA","v":"nije primjenjivo"},null,null,null,null,null,null,null,null,"nije primjenjivo","Željezo i čelik: Proces (metoda A): samo karbonat",null,"CarbC_Željezo i čelik: Proces (metoda A): samo karbonat",null,null,null,null,null,null,true,null,null,null,null,null,null,null,null,null,null,null,"","","","",""]
[26,"Proizvodnja željeza ili čelika","Željezo i čelik","Proces (metoda A): miješani (karbonat + nekarbonat)",null,"Standardna metoda: Proces, članak 24. stavak 2.",{"$f":"EUconst_NA","v":"nije primjenjivo"},null,null,null,null,null,null,null,null,"nije primjenjivo","Željezo i čelik: Proces (metoda A): miješani (karbonat + nekarbonat)",null,"CarbC_Željezo i čelik: Proces (metoda A): miješani (karbonat + nekarbonat)",null,null,null,null,null,null,true,null,null,null,null,null,null,null,null,null,null,null,"","","","",""]
[27,"Proizvodnja željeza ili čelika","Željezo i čelik","Proces (metoda A): nekarbonat",null,"Standardna metoda: Proces, članak 24. stavak 2.",{"$f":"EUconst_NA","v":"nije primjenjivo"},null,null,null,null,null,null,null,null,"nije primjenjivo","Željezo i čelik: Proces (metoda A): nekarbonat",null,"CarbC_Željezo i čelik: Proces (metoda A): nekarbonat",null,null,null,null,null,null,true,null,null,null,null,null,null,null,null,null,null,null,"","","","",""]
[28,"Proizvodnja željeza ili čelika","Željezo i čelik","Proces (metoda B): izlaz oksida",null,"Standardna metoda: Proces, članak 24. stavak 2.",{"$f":"EUconst_NA","v":"nije primjenjivo"},null,null,null,null,null,null,null,null,"nije primjenjivo","Željezo i čelik: Proces (metoda B): izlaz oksida",null,"CarbC_Željezo i čelik: Proces (metoda B): izlaz oksida",null,null,null,null,null,null,true,null,null,null,null,null,null,null,null,null,null,null,"","","","",""]
[29,"Proizvodnja željeza ili čelika","Željezo i čelik","Bilanca mase",null,"Metoda masene bilance, članak 25.","2a/2b",{"$f":"Translations!$B$493","v":"Zadane vrijednosti I:"},null,{"$f":"Translations!$B$528","v":"Zadane vrijednosti II:"},{"$f":"Translations!$B$1061","v":"Utemeljeni posredni faktori (ako je promijenjivo)"},{"$f":"Translations!$B$527","v":"Laboratorijske analize:"},null,null,null,3,"Željezo i čelik: Bilanca mase",null,"CarbC_Željezo i čelik: Bilanca mase",null,null,null,null,null,null,false,null,null,null,null,null,null,null,null,null,null,null,1,"",1,2,2]
[30,"Proizvodnja cementnog klinkera","Cementni klinker","Na temelju ulaza u peć (Metoda A)",null,"Standardna metoda: Proces, članak 24. stavak 2.",{"$f":"EUconst_NA","v":"nije primjenjivo"},null,null,null,null,null,null,null,null,{"$f":"IF(G510=EUconst_NA,EUconst_NA,IF(ISBLANK(J510),COUNTA(H510:O510),COUNTA(H510,J510,L510)))","v":"nije primjenjivo"},"Cementni klinker: Na temelju ulaza u peć (Metoda A)",null,"CarbC_Cementni klinker: Na temelju ulaza u peć (Metoda A)",null,null,null,null,null,null,true,null,null,null,null,null,null,null,null,null,null,null,"","","","",""]
[31,"Proizvodnja cementnog klinkera","Cementni klinker","Izlaz klinkera (Metoda B)",null,"Standardna metoda: Proces, članak 24. stavak 2.","nije primjenjivo",null,null,null,null,null,null,null,null,"nije primjenjivo","Cementni klinker: Izlaz klinkera (Metoda B)",null,"CarbC_Cementni klinker: Izlaz klinkera (Metoda B)",null,null,null,null,null,null,true,null,null,null,null,null,null,null,null,null,null,null,"","","","",""]
[32,"Proizvodnja cementnog klinkera","Cementni klinker","CKD",null,"Standardna metoda: Proces, članak 24. stavak 2.","nije primjenjivo",null,null,null,null,null,null,null,null,"nije primjenjivo","Cementni klinker: CKD",null,"CarbC_Cementni klinker: CKD",null,null,null,null,null,null,true,null,null,null,null,null,null,null,null,null,null,null,"","","","",""]
[33,"Proizvodnja cementnog klinkera","Cementni klinker","Ne-karbonatni ugljik",null,{"$f":"F441","v":"Standardna metoda: Proces, članak 24. stavak 2."},"nije primjenjivo",null,null,null,null,null,null,null,null,"nije primjenjivo","Cementni klinker: Ne-karbonatni ugljik",null,"CarbC_Cementni klinker: Ne-karbonatni ugljik",null,null,null,null,null,null,true,null,null,null,null,null,null,null,null,null,null,null,"","","","",""]
[34,"Proizvodnja vapna ili kalcinacija dolomita/magnezita","Vapno / dolomit / magnezit","Proces (metoda A): samo karbonat",null,"Standardna metoda: Proces, članak 24. stavak 2.","nije primjenjivo",null,null,null,null,null,null,null,null,"nije primjenjivo","Vapno / dolomit / magnezit: Proces (metoda A): samo karbonat",null,{"$f":"EUconst_CNTR_CarbonContent&Q514","v":"CarbC_Vapno / dolomit / magnezit: Proces (metoda A): samo karbonat"},null,null,null,null,null,null,true,null,null,null,null,null,null,null,null,null,null,null,"","","","",""]
[35,"Proizvodnja vapna ili kalcinacija dolomita/magnezita","Vapno / dolomit / magnezit","Proces (metoda A): miješani (karbonat + nekarbonat)",null,"Standardna metoda: Proces, članak 24. stavak 2.","nije primjenjivo",null,null,null,null,null,null,null,null,"nije primjenjivo","Vapno / dolomit / magnezit: Proces (metoda A): miješani (karbonat + nekarbonat)",null,"CarbC_Vapno / dolomit / magnezit: Proces (metoda A): miješani (karbonat + nekarbonat)",null,null,null,null,null,null,true,null,null,null,null,null,null,null,null,null,null,null,"","","","",""]
[36,"Proizvodnja vapna ili kalcinacija dolomita/magnezita","Vapno / dolomit / magnezit","Proces (metoda A): nekarbonat",null,"Standardna metoda: Proces, članak 24. stavak 2.","nije primjenjivo",null,null,null,null,null,null,null,null,"nije primjenjivo","Vapno / dolomit / magnezit: Proces (metoda A): nekarbonat",null,"CarbC_Vapno / dolomit / magnezit: Proces (metoda A): nekarbonat",null,null,null,null,null,null,true,null,null,null,null,null,null,null,null,null,null,null,"","","","",""]
[37,"Proizvodnja vapna ili kalcinacija dolomita/magnezita","Vapno / dolomit / magnezit","Proces (metoda B): izlaz oksida",null,"Standardna metoda: Proces, članak 24. stavak 2.","nije primjenjivo",null,null,null,null,null,null,null,null,"nije primjenjivo","Vapno / dolomit / magnezit: Proces (metoda B): izlaz oksida",null,"CarbC_Vapno / dolomit / magnezit: Proces (metoda B): izlaz oksida",null,null,null,null,null,null,true,null,null,null,null,null,null,null,null,null,null,null,"","","","",""]
[38,"Proizvodnja vapna ili kalcinacija dolomita/magnezita","Vapno / dolomit / magnezit","Prašina iz peći (Metoda B)",null,"Standardna metoda: Proces, članak 24. stavak 2.","nije primjenjivo",null,null,null,null,null,null,null,null,"nije primjenjivo","Vapno / dolomit / magnezit: Prašina iz peći (Metoda B)",null,"CarbC_Vapno / dolomit / magnezit: Prašina iz peći (Metoda B)",null,null,null,null,null,null,true,null,null,null,null,null,null,null,null,null,null,null,"","","","",""]
[39,"Proizvodnja stakla","Staklo i mineralna vuna","Proces (metoda A): samo karbonat",null,"Standardna metoda: Proces, članak 24. stavak 2.","nije primjenjivo",null,null,null,null,null,null,null,null,"nije primjenjivo","Staklo i mineralna vuna: Proces (metoda A): samo karbonat",null,"CarbC_Staklo i mineralna vuna: Proces (metoda A): samo karbonat",null,null,null,null,null,null,true,null,null,null,null,null,null,null,null,null,null,null,"","","","",""]
[40,"Proizvodnja stakla","Staklo i mineralna vuna","Proces (metoda A): miješani (karbonat + nekarbonat)",null,"Standardna metoda: Proces, članak 24. stavak 2.","nije primjenjivo",null,null,null,null,null,null,null,null,"nije primjenjivo","Staklo i mineralna vuna: Proces (metoda A): miješani (karbonat + nekarbonat)",null,"CarbC_Staklo i mineralna vuna: Proces (metoda A): miješani (karbonat + nekarbonat)",null,null,null,null,null,null,true,null,null,null,null,null,null,null,null,null,null,null,"","","","",""]
[41,{"$f":"B449","v":"Proizvodnja stakla"},"Staklo i mineralna vuna","Proces (metoda A): nekarbonat",null,"Standardna metoda: Proces, članak 24. stavak 2.","nije primjenjivo",null,null,null,null,null,null,null,null,"nije primjenjivo","Staklo i mineralna vuna: Proces (metoda A): nekarbonat",null,"CarbC_Staklo i mineralna vuna: Proces (metoda A): nekarbonat",null,null,null,null,null,null,true,null,null,null,null,null,null,null,null,null,null,null,"","","","",""]
[42,"Proizvodnja keramike","Keramika","Proces (metoda A): samo karbonat",null,"Standardna metoda: Proces, članak 24. stavak 2.","nije primjenjivo",null,null,null,null,null,null,null,null,"nije primjenjivo","Keramika: Proces (metoda A): samo karbonat",null,"CarbC_Keramika: Proces (metoda A): samo karbonat",null,null,null,null,null,null,true,null,null,null,null,null,null,null,null,null,null,null,"","","","",""]
[43,"Proizvodnja keramike","Keramika","Proces (metoda A): miješani (karbonat + nekarbonat)",null,"Standardna metoda: Proces, članak 24. stavak 2.","nije primjenjivo",null,null,null,null,null,null,null,null,"nije primjenjivo","Keramika: Proces (metoda A): miješani (karbonat + nekarbonat)",null,"CarbC_Keramika: Proces (metoda A): miješani (karbonat + nekarbonat)",null,null,null,null,null,null,true,null,null,null,null,null,null,null,null,null,null,null,"","","","",""]
[44,"Proizvodnja keramike","Keramika","Proces (metoda A): nekarbonat",null,"Standardna metoda: Proces, članak 24. stavak 2.","nije primjenjivo",null,null,null,null,null,null,null,null,"nije primjenjivo","Keramika: Proces (metoda A): nekarbonat",null,"CarbC_Keramika: Proces (metoda A): nekarbonat",null,null,null,null,null,null,true,null,null,null,null,null,null,null,null,null,null,null,"","","","",""]
[45,"Proizvodnja keramike","Keramika","Proces (metoda B): izlaz oksida",null,"Standardna metoda: Proces, članak 24. stavak 2.","nije primjenjivo",null,null,null,null,null,null,null,null,"nije primjenjivo","Keramika: Proces (metoda B): izlaz oksida",null,"CarbC_Keramika: Proces (metoda B): izlaz oksida",null,null,null,null,null,null,true,null,null,null,null,null,null,null,null,null,null,null,"","","","",""]
[46,"Proizvodnja keramike","Keramika","Čišćenje mokrim postupkom",null,"Standardna metoda: Proces, članak 24. stavak 2.","nije primjenjivo",null,null,null,null,null,null,null,null,"nije primjenjivo","Keramika: Čišćenje mokrim postupkom",null,"CarbC_Keramika: Čišćenje mokrim postupkom",null,null,null,null,null,null,true,null,null,null,null,null,null,null,null,null,null,null,"","","","",""]
[47,"Proizvodnja celuloze","Celuloza i papir","Dodatne kemikalije",null,"Standardna metoda: Proces, članak 24. stavak 2.","nije primjenjivo",null,null,null,null,null,null,null,null,"nije primjenjivo","Celuloza i papir: Dodatne kemikalije",null,"CarbC_Celuloza i papir: Dodatne kemikalije",null,null,null,null,null,null,true,null,null,null,null,null,null,null,null,null,null,null,"","","","",""]
[48,"Proizvodnja čađe ","Čađa","Metodologija masene bilance",null,"Metoda masene bilance, članak 25.",1,{"$f":"Translations!$B$493","v":"Zadane vrijednosti I:"},null,{"$f":"Translations!$B$528","v":"Zadane vrijednosti II:"},{"$f":"Translations!$B$1061","v":"Utemeljeni posredni faktori (ako je promijenjivo)"},{"$f":"Translations!$B$527","v":"Laboratorijske analize:"},null,null,null,{"$f":"IF(G528=EUconst_NA,EUconst_NA,IF(ISBLANK(J528),COUNTA(H528:O528),COUNTA(H528,J528,L528)))","v":3},"Čađa: Metodologija masene bilance",null,"CarbC_Čađa: Metodologija masene bilance",null,null,null,null,null,null,false,null,null,null,null,null,null,null,null,null,null,null,1,"",1,2,2]
[49,"Proizvodnja amonijaka","Amonijak","Gorivo koje se koristi kao ulazni materijal procesa",null,"Standardna metoda: Gorivo, članak 24. stavak 1.Uredbe",{"$f":"EUconst_NA","v":"nije primjenjivo"},null,null,null,null,null,null,null,null,"nije primjenjivo","Amonijak: Gorivo koje se koristi kao ulazni materijal procesa",null,"CarbC_Amonijak: Gorivo koje se koristi kao ulazni materijal procesa",null,null,null,null,null,null,true,null,null,null,null,null,null,null,null,null,null,null,"","","","",""]
[50,"Proizvodnja vodika i sintetskog plina","Vodik i sintetski plin","Gorivo koje se koristi kao ulazni materijal procesa",null,"Standardna metoda: Gorivo, članak 24. stavak 1.Uredbe",{"$f":"EUconst_NA","v":"nije primjenjivo"},null,null,null,null,null,null,null,null,"nije primjenjivo","Vodik i sintetski plin: Gorivo koje se koristi kao ulazni materijal procesa",null,"CarbC_Vodik i sintetski plin: Gorivo koje se koristi kao ulazni materijal procesa",null,null,null,null,null,null,true,null,null,null,null,null,null,null,null,null,null,null,"","","","",""]
[51,"Proizvodnja vodika i sintetskog plina","Vodik i sintetski plin","Metodologija masene bilance",null,"Metoda masene bilance, članak 25.","2a/2b",{"$f":"Translations!$B$493","v":"Zadane vrijednosti I:"},null,{"$f":"Translations!$B$528","v":"Zadane vrijednosti II:"},{"$f":"Translations!$B$1061","v":"Utemeljeni posredni faktori (ako je promijenjivo)"},{"$f":"Translations!$B$527","v":"Laboratorijske analize:"},null,null,null,3,"Vodik i sintetski plin: Metodologija masene bilance",null,"CarbC_Vodik i sintetski plin: Metodologija masene bilance",null,null,null,null,null,null,false,null,null,null,null,null,null,null,null,null,null,null,1,"",1,2,2]
[52,"Proizvodnja kemikalija na veliko ","Organske kemikalije na veliko","Metodologija masene bilance",null,"Metoda masene bilance, članak 25.","2a/2b",{"$f":"Translations!$B$493","v":"Zadane vrijednosti I:"},null,{"$f":"Translations!$B$528","v":"Zadane vrijednosti II:"},{"$f":"Translations!$B$1061","v":"Utemeljeni posredni faktori (ako je promijenjivo)"},{"$f":"Translations!$B$527","v":"Laboratorijske analize:"},null,null,null,3,"Organske kemikalije na veliko: Metodologija masene bilance",null,"CarbC_Organske kemikalije na veliko: Metodologija masene bilance",null,null,null,null,null,null,false,null,null,null,null,null,null,null,null,null,null,null,1,"",1,2,2]
[53,"Proizvodnja ili prerada obojenih metala","Neobojeni, sek. aluminij","Proces (metoda A): samo karbonat",null,"Standardna metoda: Proces, članak 24. stavak 2.",{"$f":"EUconst_NA","v":"nije primjenjivo"},null,null,null,null,null,null,null,null,"nije primjenjivo","Neobojeni, sek. aluminij: Proces (metoda A): samo karbonat",null,"CarbC_Neobojeni, sek. aluminij: Proces (metoda A): samo karbonat",null,null,null,null,null,null,true,null,null,null,null,null,null,null,null,null,null,null,"","","","",""]
[54,"Proizvodnja ili prerada obojenih metala","Neobojeni, sek. aluminij","Proces (metoda A): miješani (karbonat + nekarbonat)",null,"Standardna metoda: Proces, članak 24. stavak 2.",{"$f":"EUconst_NA","v":"nije primjenjivo"},null,null,null,null,null,null,null,null,"nije primjenjivo","Neobojeni, sek. aluminij: Proces (metoda A): miješani (karbonat + nekarbonat)",null,"CarbC_Neobojeni, sek. aluminij: Proces (metoda A): miješani (karbonat + nekarbonat)",null,null,null,null,null,null,true,null,null,null,null,null,null,null,null,null,null,null,"","","","",""]
[55,"Proizvodnja ili prerada obojenih metala","Neobojeni, sek. aluminij","Proces (metoda A): nekarbonat",null,"Standardna metoda: Proces, članak 24. stavak 2.",{"$f":"EUconst_NA","v":"nije primjenjivo"},null,null,null,null,null,null,null,null,"nije primjenjivo","Neobojeni, sek. aluminij: Proces (metoda A): nekarbonat",null,"CarbC_Neobojeni, sek. aluminij: Proces (metoda A): nekarbonat",null,null,null,null,null,null,true,null,null,null,null,null,null,null,null,null,null,null,"","","","",""]
[56,"Proizvodnja ili prerada obojenih metala","Neobojeni, sek. aluminij","Proces (metoda B): izlaz oksida",null,"Standardna metoda: Proces, članak 24. stavak 2.",{"$f":"EUconst_NA","v":"nije primjenjivo"},null,null,null,null,null,null,null,null,"nije primjenjivo","Neobojeni, sek. aluminij: Proces (metoda B): izlaz oksida",null,"CarbC_Neobojeni, sek. aluminij: Proces (metoda B): izlaz oksida",null,null,null,null,null,null,true,null,null,null,null,null,null,null,null,null,null,null,"","","","",""]
[57,"Proizvodnja ili prerada obojenih metala","Neobojeni, sek. aluminij","Metodologija masene bilance",null,"Metoda masene bilance, članak 25.","2a/2b",{"$f":"Translations!$B$493","v":"Zadane vrijednosti I:"},null,{"$f":"Translations!$B$528","v":"Zadane vrijednosti II:"},{"$f":"Translations!$B$1061","v":"Utemeljeni posredni faktori (ako je promijenjivo)"},{"$f":"Translations!$B$527","v":"Laboratorijske analize:"},null,null,null,3,"Neobojeni, sek. aluminij: Metodologija masene bilance",null,"CarbC_Neobojeni, sek. aluminij: Metodologija masene bilance",null,null,null,null,null,null,false,null,null,null,null,null,null,null,null,null,null,null,1,"",1,2,2]
[58,"Proizvodnja natrij karbonata i natrij-bikarbonata","Natrij karbonat / natrij bikarbonat","Metodologija masene bilance",null,"Metoda masene bilance, članak 25.","2a/2b",{"$f":"Translations!$B$493","v":"Zadane vrijednosti I:"},null,{"$f":"Translations!$B$528","v":"Zadane vrijednosti II:"},{"$f":"Translations!$B$1061","v":"Utemeljeni posredni faktori (ako je promijenjivo)"},{"$f":"Translations!$B$527","v":"Laboratorijske analize:"},null,null,null,3,"Natrij karbonat / natrij bikarbonat: Metodologija masene bilance",null,"CarbC_Natrij karbonat / natrij bikarbonat: Metodologija masene bilance",null,null,null,null,null,null,false,null,null,null,null,null,null,null,null,null,null,null,1,"",1,2,2]
[59,"Proizvodnja primarnog aluminija","Primarni aluminij","Metodologija masene bilance",null,"Metoda masene bilance, članak 25.","2a/2b",{"$f":"Translations!$B$493","v":"Zadane vrijednosti I:"},null,{"$f":"Translations!$B$528","v":"Zadane vrijednosti II:"},{"$f":"Translations!$B$1061","v":"Utemeljeni posredni faktori (ako je promijenjivo)"},{"$f":"Translations!$B$527","v":"Laboratorijske analize:"},null,null,null,3,"Primarni aluminij: Metodologija masene bilance",null,"CarbC_Primarni aluminij: Metodologija masene bilance",null,null,null,null,null,null,false,null,null,null,null,null,null,null,null,null,null,null,1,"",1,2,2]
[60,"Proizvodnja primarnog aluminija","Primarni aluminij","Emisije PFC (Metoda nagiba)",null,"Izračun sa specijalnim odredbama za PFC (Prilog IV, poglavlje 8.)",{"$f":"EUconst_NA","v":"nije primjenjivo"},null,null,null,null,null,null,null,null,"nije primjenjivo","Primarni aluminij: Emisije PFC (Metoda nagiba)",null,"CarbC_Primarni aluminij: Emisije PFC (Metoda nagiba)",null,null,null,null,null,null,true,null,null,null,null,null,null,null,null,null,null,null,"","","","",""]
[61,{"$f":"B469","v":"Proizvodnja primarnog aluminija"},"Primarni aluminij","Emisije PFC (prenaponska metoda)",null,"Izračun sa specijalnim odredbama za PFC (Prilog IV, poglavlje 8.)",{"$f":"EUconst_NA","v":"nije primjenjivo"},null,null,null,null,null,null,null,null,"nije primjenjivo","Primarni aluminij: Emisije PFC (prenaponska metoda)",null,"CarbC_Primarni aluminij: Emisije PFC (prenaponska metoda)",null,null,null,null,null,null,{"$f":"IF(G541=EUconst_NA,TRUE,FALSE)","v":true},null,null,null,null,null,null,null,null,null,null,null,"","","","",""]
[62,"Hvatanje stakleničkih plinova prema Direktivi 2009/31/EC","CCS: Capture","CO2 transferred",null,{"$f":"F470","v":"Metoda masene bilance, članak 25."},2,{"$f":"Translations!$B$493","v":"Zadane vrijednosti I:"},null,{"$f":"Translations!$B$528","v":"Zadane vrijednosti II:"},{"$f":"Translations!$B$1061","v":"Utemeljeni posredni faktori (ako je promijenjivo)"},{"$f":"Translations!$B$527","v":"Laboratorijske analize:"},null,null,null,{"$f":"IF(G542=EUconst_NA,EUconst_NA,IF(ISBLANK(J542),COUNTA(H542:O542),COUNTA(H542,J542,L542)))","v":3},{"$f":"C542 & \": \" &D542","v":"CCS: Capture: CO2 transferred"},null,{"$f":"EUconst_CNTR_CarbonContent&Q542","v":"CarbC_CCS: Capture: CO2 transferred"},null,null,null,null,null,null,false,null,null,null,null,null,null,null,null,null,null,null,1,"",1,2,2]
[63,"Transport stakleničkih plinova prema Direktivi 2009/31/EC","CCS: Transport","CO2 transferred",null,"Metoda masene bilance, članak 25.",2,{"$f":"Translations!$B$493","v":"Zadane vrijednosti I:"},null,{"$f":"Translations!$B$528","v":"Zadane vrijednosti II:"},{"$f":"Translations!$B$1061","v":"Utemeljeni posredni faktori (ako je promijenjivo)"},{"$f":"Translations!$B$527","v":"Laboratorijske analize:"},null,null,null,3,"CCS: Transport: CO2 transferred",null,"CarbC_CCS: Transport: CO2 transferred",null,null,null,null,null,null,false,null,null,null,null,null,null,null,null,null,null,null,1,"",1,2,2]
[64,"Transport stakleničkih plinova prema Direktivi 2009/31/EC","CCS: Transport","CO2 vented",null,"Standardna metoda: Proces, članak 24. stavak 2.",{"$f":"EUconst_NA","v":"nije primjenjivo"},null,null,null,null,null,null,null,null,"nije primjenjivo","CCS: Transport: CO2 vented",null,"CarbC_CCS: Transport: CO2 vented",null,null,null,null,null,null,true]
[65,"Transport stakleničkih plinova prema Direktivi 2009/31/EC","CCS: Transport","CO2 leaked",null,"Standardna metoda: Proces, članak 24. stavak 2.",{"$f":"EUconst_NA","v":"nije primjenjivo"},null,null,null,null,null,null,null,null,"nije primjenjivo","CCS: Transport: CO2 leaked",null,"CarbC_CCS: Transport: CO2 leaked",null,null,null,null,null,null,true]
[66,"Transport stakleničkih plinova prema Direktivi 2009/31/EC","CCS: Transport","CO2 fugitive",null,"Standardna metoda: Proces, članak 24. stavak 2.",{"$f":"EUconst_NA","v":"nije primjenjivo"},null,null,null,null,null,null,null,null,"nije primjenjivo","CCS: Transport: CO2 fugitive",null,"CarbC_CCS: Transport: CO2 fugitive",null,null,null,null,null,null,true]
[67,"Skladištenje stakleničkih plinova prema Direktivi 2009/31/EC","CCS: Storage","CO2 transferred",null,"Metoda masene bilance, članak 25.",2,{"$f":"Translations!$B$493","v":"Zadane vrijednosti I:"},null,{"$f":"Translations!$B$528","v":"Zadane vrijednosti II:"},{"$f":"Translations!$B$1061","v":"Utemeljeni posredni faktori (ako je promijenjivo)"},{"$f":"Translations!$B$527","v":"Laboratorijske analize:"},null,null,null,3,"CCS: Storage: CO2 transferred",null,"CarbC_CCS: Storage: CO2 transferred",null,null,null,null,null,null,false,null,null,null,null,null,null,null,null,null,null,null,1,"",1,2,2]
[68,"Skladištenje stakleničkih plinova prema Direktivi 2009/31/EC","CCS: Storage","CO2 vented",null,"Standardna metoda: Proces, članak 24. stavak 2.",{"$f":"EUconst_NA","v":"nije primjenjivo"},null,null,null,null,null,null,null,null,"nije primjenjivo","CCS: Storage: CO2 vented",null,"CarbC_CCS: Storage: CO2 vented",null,null,null,null,null,null,true]
[69,"Skladištenje stakleničkih plinova prema Direktivi 2009/31/EC","CCS: Storage","CO2 leaked",null,"Standardna metoda: Proces, članak 24. stavak 2.",{"$f":"EUconst_NA","v":"nije primjenjivo"},null,null,null,null,null,null,null,null,"nije primjenjivo","CCS: Storage: CO2 leaked",null,"CarbC_CCS: Storage: CO2 leaked",null,null,null,null,null,null,true]
[70,"Skladištenje stakleničkih plinova prema Direktivi 2009/31/EC","CCS: Storage","CO2 fugitive",null,"Standardna metoda: Proces, članak 24. stavak 2.",{"$f":"EUconst_NA","v":"nije primjenjivo"},null,null,null,null,null,null,null,null,"nije primjenjivo","CCS: Storage: CO2 fugitive",null,"CarbC_CCS: Storage: CO2 fugitive",null,null,null,null,null,null,true]
[null,null,null,null,null,null,null,null,null,null,null,null,null,null,null,null,null,null,null,null,null,null,null,null,null,false]
["NEW",{"$f":"Translations!$B$1265","v":"Udio biomase"},{"$f":"Translations!$B$957","v":"Skraćeno ime"},{"$f":"Translations!$B$958","v":"Pod-djelatnost"},{"$f":"Translations!$B$389","v":"Analitički parametar"},{"$f":"Translations!$B$959","v":"Tip izvora"},{"$f":"Translations!$B$960","v":"Minimum"},1,2,"2a",{"$f":"Translations!$B$928","v":"2b"},3,"3a","3b",4,{"$f":"Translations!$B$961","v":"Najviši"},null,null,null,null,null,null,null,null,null,{"$f":"Translations!$B$962","v":"označiti sivom bojom?"},null,null,null,null,null,null,null,null,null,null,"1=default value, 2=lab",1,2,"2a",{"$f":"Translations!$B$928","v":"2b"},3,"3a","3b"]
[1,{"$f":"B481","v":"Izgaranje goriva "},"Izgaranje","Komercijalna standardna goriva",null,{"$f":"F481","v":"Standardna metoda: Gorivo, članak 24. stavak 1.Uredbe"},1,{"$f":"Translations!$B$505","v":"Udio biomase I:"},{"$f":"Translations!$B$510","v":"Udio biomase II:"},null,null,null,{"$f":"Translations!$B$1266","v":"Analiza udjela biomase"},"Mass balance, e.g. in accordance with Article 30(1) of RED II",null,{"$f":"G553","v":1},{"$f":"C553 & \": \" &D553","v":"Izgaranje: Komercijalna standardna goriva"},null,{"$f":"EUconst_CNTR_BiomassContent&Q553","v":"BioC_Izgaranje: Komercijalna standardna goriva"},null,null,null,null,null,null,{"$f":"IF(G553=EUconst_NA,TRUE,FALSE)","v":false},null,null,null,null,null,null,null,null,null,null,null,1,{"$f":"Translations!$B$510","v":"Udio biomase II:"},"","",null,2,3]
[2,"Izgaranje goriva ","Izgaranje","Ostala plinovita & tekuća goriva",null,"Standardna metoda: Gorivo, članak 24. stavak 1.Uredbe",1,{"$f":"Translations!$B$505","v":"Udio biomase I:"},{"$f":"Translations!$B$510","v":"Udio biomase II:"},null,null,null,{"$f":"Translations!$B$1266","v":"Analiza udjela biomase"},"Mass balance, e.g. in accordance with Article 30(1) of RED II",null,3,{"$f":"C554 & \": \" &D554","v":"Izgaranje: Ostala plinovita & tekuća goriva"},null,"BioC_Izgaranje: Ostala plinovita & tekuća goriva",null,null,null,null,null,null,false,null,null,null,null,null,null,null,null,null,null,null,1,{"$f":"Translations!$B$510","v":"Udio biomase II:"},"","",null,2,3]
[3,"Izgaranje goriva ","Izgaranje","Kruta goriva isključujući otpad",null,"Standardna metoda: Gorivo, članak 24. stavak 1.Uredbe",1,{"$f":"Translations!$B$505","v":"Udio biomase I:"},{"$f":"Translations!$B$510","v":"Udio biomase II:"},null,null,null,{"$f":"Translations!$B$1266","v":"Analiza udjela biomase"},"Mass balance, e.g. in accordance with Article 30(1) of RED II",null,3,{"$f":"C555 & \": \" &D555","v":"Izgaranje: Kruta goriva isključujući otpad"},null,{"$f":"EUconst_CNTR_BiomassContent&Q555","v":"BioC_Izgaranje: Kruta goriva isključujući otpad"},null,null,null,null,null,null,false,null,null,null,null,null,null,null,null,null,null,null,1,{"$f":"Translations!$B$510","v":"Udio biomase II:"},"","",null,2,3]
[4,"Izgaranje goriva ","Izgaranje","Otpad",null,"Standardna metoda: Gorivo, članak 24. stavak 1.Uredbe",1,{"$f":"Translations!$B$505","v":"Udio biomase I:"},{"$f":"Translations!$B$510","v":"Udio biomase II:"},null,null,null,{"$f":"Translations!$B$1266","v":"Analiza udjela biomase"},"Mass balance, e.g. in accordance with Article 30(1) of RED II",null,3,{"$f":"C556 & \": \" &D556","v":"Izgaranje: Otpad"},null,{"$f":"EUconst_CNTR_BiomassContent&Q556","v":"BioC_Izgaranje: Otpad"},null,null,null,null,null,null,{"$f":"IF(G556=EUconst_NA,TRUE,FALSE)","v":false},null,null,null,null,null,null,null,null,null,null,null,1,{"$f":"Translations!$B$510","v":"Udio biomase II:"},"","",null,2,3]
[5,"Izgaranje goriva ","Izgaranje","Terminali za obradu plina ",null,"Metoda masene bilance, članak 25.",1,{"$f":"Translations!$B$505","v":"Udio biomase I:"},{"$f":"Translations!$B$510","v":"Udio biomase II:"},null,null,null,{"$f":"Translations!$B$1266","v":"Analiza udjela biomase"},"Mass balance, e.g. in accordance with Article 30(1) of RED II",null,3,{"$f":"C557 & \": \" &D557","v":"Izgaranje: Terminali za obradu plina "},null,"BioC_Izgaranje: Terminali za obradu plina ",null,null,null,null,null,null,false,null,null,null,null,null,null,null,null,null,null,null,1,{"$f":"Translations!$B$510","v":"Udio biomase II:"},"","",null,2,3]
[6,"Izgaranje goriva ","Izgaranje","Baklje",null,"Standardna metoda: Gorivo, članak 24. stavak 1.Uredbe",1,{"$f":"Translations!$B$505","v":"Udio biomase I:"},{"$f":"Translations!$B$510","v":"Udio biomase II:"},null,null,null,{"$f":"Translations!$B$1266","v":"Analiza udjela biomase"},"Mass balance, e.g. in accordance with Article 30(1) of RED II",null,3,"Izgaranje: Baklje",null,"BioC_Izgaranje: Baklje",null,null,null,null,null,null,false,null,null,null,null,null,null,null,null,null,null,null,1,{"$f":"Translations!$B$510","v":"Udio biomase II:"},"","",null,2,3]
[7,"Izgaranje goriva ","Izgaranje","Čišćenje mokrim postupkom (karbonati)",null,"Standardna metoda: Proces, članak 24. stavak 2.",{"$f":"EUconst_NA","v":"nije primjenjivo"},null,null,null,null,null,null,null,null,{"$f":"IF(G559=EUconst_NA,EUconst_NA,IF(ISBLANK(J559),COUNTA(H559:O559),COUNTA(H559,J559,L559)))","v":"nije primjenjivo"},"Izgaranje: Čišćenje mokrim postupkom (karbonati)",null,"BioC_Izgaranje: Čišćenje mokrim postupkom (karbonati)",null,null,null,null,null,null,true,null,null,null,null,null,null,null,null,null,null,null,"","","","",null,""]
[8,"Izgaranje goriva ","Izgaranje","Čišćenje mokrim postupkom (gips)",null,"Standardna metoda: Proces, članak 24. stavak 2.",{"$f":"EUconst_NA","v":"nije primjenjivo"},null,null,null,null,null,null,null,null,{"$f":"IF(G560=EUconst_NA,EUconst_NA,IF(ISBLANK(J560),COUNTA(H560:O560),COUNTA(H560,J560,L560)))","v":"nije primjenjivo"},"Izgaranje: Čišćenje mokrim postupkom (gips)",null,"BioC_Izgaranje: Čišćenje mokrim postupkom (gips)",null,null,null,null,null,null,true,null,null,null,null,null,null,null,null,null,null,null,"","","","",null,""]
[9,"Izgaranje goriva ","Izgaranje","Čišćenje mokrim postupkom (urea)",null,"Standardna metoda: Proces, članak 24. stavak 2.",{"$f":"EUconst_NA","v":"nije primjenjivo"},null,null,null,null,null,null,null,null,{"$f":"IF(G561=EUconst_NA,EUconst_NA,IF(ISBLANK(J561),COUNTA(H561:O561),COUNTA(H561,J561,L561)))","v":"nije primjenjivo"},"Izgaranje: Čišćenje mokrim postupkom (urea)",null,"BioC_Izgaranje: Čišćenje mokrim postupkom (urea)",null,null,null,null,null,null,true,null,null,null,null,null,null,null,null,null,null,null,"","","","",null,""]
[10,"Rafiniranje mineralnih ulja ","Rafinerije","Bilanca mase",null,"Metoda masene bilance, članak 25.",1,{"$f":"Translations!$B$505","v":"Udio biomase I:"},{"$f":"Translations!$B$510","v":"Udio biomase II:"},null,null,null,{"$f":"Translations!$B$1266","v":"Analiza udjela biomase"},"Mass balance, e.g. in accordance with Article 30(1) of RED II",null,3,"Rafinerije: Bilanca mase",null,"BioC_Rafinerije: Bilanca mase",null,null,null,null,null,null,false,null,null,null,null,null,null,null,null,null,null,null,1,{"$f":"Translations!$B$510","v":"Udio biomase II:"},"","",null,2,3]
[11,"Rafiniranje mineralnog ulja ","Rafinerije","Regeneriranje katalizatora iz procesa krekiranja ",null,"Metoda masene bilance, članak 25.",1,{"$f":"Translations!$B$505","v":"Udio biomase I:"},{"$f":"Translations!$B$510","v":"Udio biomase II:"},null,null,null,{"$f":"Translations!$B$1266","v":"Analiza udjela biomase"},"Mass balance, e.g. in accordance with Article 30(1) of RED II",null,3,"Rafinerije: Regeneriranje katalizatora iz procesa krekiranja ",null,"BioC_Rafinerije: Regeneriranje katalizatora iz procesa krekiranja ",null,null,null,null,null,null,false,null,null,null,null,null,null,null,null,null,null,null,1,{"$f":"Translations!$B$510","v":"Udio biomase II:"},"","",null,2,3]
[12,"Rafiniranje mineralnog ulja ","Rafinerije","Proizvodnja vodika",null,"Metoda masene bilance, članak 25.",1,{"$f":"Translations!$B$505","v":"Udio biomase I:"},{"$f":"Translations!$B$510","v":"Udio biomase II:"},null,null,null,{"$f":"Translations!$B$1266","v":"Analiza udjela biomase"},"Mass balance, e.g. in accordance with Article 30(1) of RED II",null,3,"Rafinerije: Proizvodnja vodika",null,"BioC_Rafinerije: Proizvodnja vodika",null,null,null,null,null,null,false,null,null,null,null,null,null,null,null,null,null,null,1,{"$f":"Translations!$B$510","v":"Udio biomase II:"},"","",null,2,3]
[13,"Proizvodnja koksa","Koks","Gorivo koje se koristi kao ulazni materijal procesa",null,"Standardna metoda: Gorivo, članak 24. stavak 1.Uredbe",1,{"$f":"Translations!$B$505","v":"Udio biomase I:"},{"$f":"Translations!$B$510","v":"Udio biomase II:"},null,null,null,{"$f":"Translations!$B$1266","v":"Analiza udjela biomase"},"Mass balance, e.g. in accordance with Article 30(1) of RED II",null,3,"Koks: Gorivo koje se koristi kao ulazni materijal procesa",null,"BioC_Koks: Gorivo koje se koristi kao ulazni materijal procesa",null,null,null,null,null,null,false,null,null,null,null,null,null,null,null,null,null,null,1,{"$f":"Translations!$B$510","v":"Udio biomase II:"},"","",null,2,3]
[14,"Proizvodnja koksa","Koks","Proces (metoda A): samo karbonat",null,"Standardna metoda: Proces, članak 24. stavak 2.",{"$f":"EUconst_NA","v":"nije primjenjivo"},null,null,null,null,null,null,null,null,{"$f":"IF(G566=EUconst_NA,EUconst_NA,IF(ISBLANK(J566),COUNTA(H566:O566),COUNTA(H566,J566,L566)))","v":"nije primjenjivo"},"Koks: Proces (metoda A): samo karbonat",null,"BioC_Koks: Proces (metoda A): samo karbonat",null,null,null,null,null,null,true,null,null,null,null,null,null,null,null,null,null,null,"","","","",null,""]
[15,"Proizvodnja koksa","Koks","Proces (metoda A): miješani (karbonat + nekarbonat)",null,"Standardna metoda: Proces, članak 24. stavak 2.",1,{"$f":"Translations!$B$505","v":"Udio biomase I:"},{"$f":"Translations!$B$510","v":"Udio biomase II:"},null,null,null,{"$f":"Translations!$B$1266","v":"Analiza udjela biomase"},"Mass balance, e.g. in accordance with Article 30(1) of RED II",null,3,"Koks: Proces (metoda A): miješani (karbonat + nekarbonat)",null,"BioC_Koks: Proces (metoda A): miješani (karbonat + nekarbonat)",null,null,null,null,null,null,false,null,null,null,null,null,null,null,null,null,null,null,1,{"$f":"Translations!$B$510","v":"Udio biomase II:"},"","",null,2,3]
[16,"Proizvodnja koksa","Koks","Proces (metoda A): nekarbonat",null,"Standardna metoda: Proces, članak 24. stavak 2.",1,{"$f":"Translations!$B$505","v":"Udio biomase I:"},{"$f":"Translations!$B$510","v":"Udio biomase II:"},null,null,null,{"$f":"Translations!$B$1266","v":"Analiza udjela biomase"},"Mass balance, e.g. in accordance with Article 30(1) of RED II",null,3,"Koks: Proces (metoda A): nekarbonat",null,"BioC_Koks: Proces (metoda A): nekarbonat",null,null,null,null,null,null,false,null,null,null,null,null,null,null,null,null,null,null,1,{"$f":"Translations!$B$510","v":"Udio biomase II:"},"","",null,2,3]
[17,"Proizvodnja koksa","Koks","Proces (metoda B): izlaz oksida",null,"Standardna metoda: Proces, članak 24. stavak 2.",{"$f":"EUconst_NA","v":"nije primjenjivo"},null,null,null,null,null,null,null,null,{"$f":"IF(G569=EUconst_NA,EUconst_NA,IF(ISBLANK(J569),COUNTA(H569:O569),COUNTA(H569,J569,L569)))","v":"nije primjenjivo"},"Koks: Proces (metoda B): izlaz oksida",null,"BioC_Koks: Proces (metoda B): izlaz oksida",null,null,null,null,null,null,true,null,null,null,null,null,null,null,null,null,null,null,"","","","",null,""]
[18,"Proizvodnja koksa","Koks","Bilanca mase",null,"Metoda masene bilance, članak 25.",1,{"$f":"Translations!$B$505","v":"Udio biomase I:"},{"$f":"Translations!$B$510","v":"Udio biomase II:"},null,null,null,{"$f":"Translations!$B$1266","v":"Analiza udjela biomase"},"Mass balance, e.g. in accordance with Article 30(1) of RED II",null,3,"Koks: Bilanca mase",null,"BioC_Koks: Bilanca mase",null,null,null,null,null,null,false,null,null,null,null,null,null,null,null,null,null,null,1,{"$f":"Translations!$B$510","v":"Udio biomase II:"},"","",null,2,3]
[19,"Pečenje i sinteriranje metalnih ruda","Metalne rude","Proces (metoda A): samo karbonat",null,"Standardna metoda: Proces, članak 24. stavak 2.",{"$f":"EUconst_NA","v":"nije primjenjivo"},null,null,null,null,null,null,null,null,{"$f":"IF(G571=EUconst_NA,EUconst_NA,IF(ISBLANK(J571),COUNTA(H571:O571),COUNTA(H571,J571,L571)))","v":"nije primjenjivo"},"Metalne rude: Proces (metoda A): samo karbonat",null,"BioC_Metalne rude: Proces (metoda A): samo karbonat",null,null,null,null,null,null,true,null,null,null,null,null,null,null,null,null,null,null,"","","","",null,""]
[20,"Pečenje i sinteriranje metalnih ruda","Metalne rude","Proces (metoda A): miješani (karbonat + nekarbonat)",null,"Standardna metoda: Proces, članak 24. stavak 2.",1,{"$f":"Translations!$B$505","v":"Udio biomase I:"},{"$f":"Translations!$B$510","v":"Udio biomase II:"},null,null,null,{"$f":"Translations!$B$1266","v":"Analiza udjela biomase"},"Mass balance, e.g. in accordance with Article 30(1) of RED II",null,3,"Metalne rude: Proces (metoda A): miješani (karbonat + nekarbonat)",null,"BioC_Metalne rude: Proces (metoda A): miješani (karbonat + nekarbonat)",null,null,null,null,null,null,false,null,null,null,null,null,null,null,null,null,null,null,1,{"$f":"Translations!$B$510","v":"Udio biomase II:"},"","",null,2,3]
[21,{"$f":"B501","v":"Pečenje i sinteriranje metalnih ruda"},"Metalne rude","Proces (metoda A): nekarbonat",null,"Standardna metoda: Proces, članak 24. stavak 2.",1,{"$f":"Translations!$B$505","v":"Udio biomase I:"},{"$f":"Translations!$B$510","v":"Udio biomase II:"},null,null,null,{"$f":"Translations!$B$1266","v":"Analiza udjela biomase"},"Mass balance, e.g. in accordance with Article 30(1) of RED II",null,3,"Metalne rude: Proces (metoda A): nekarbonat",null,"BioC_Metalne rude: Proces (metoda A): nekarbonat",null,null,null,null,null,null,false,null,null,null,null,null,null,null,null,null,null,null,1,{"$f":"Translations!$B$510","v":"Udio biomase II:"},"","",null,2,3]
[22,"Pečenje i sinteriranje metalnih ruda","Metalne rude","Proces (metoda B): izlaz oksida",null,"Standardna metoda: Proces, članak 24. stavak 2.",{"$f":"EUconst_NA","v":"nije primjenjivo"},null,null,null,null,null,null,null,null,{"$f":"IF(G574=EUconst_NA,EUconst_NA,IF(ISBLANK(J574),COUNTA(H574:O574),COUNTA(H574,J574,L574)))","v":"nije primjenjivo"},"Metalne rude: Proces (metoda B): izlaz oksida",null,"BioC_Metalne rude: Proces (metoda B): izlaz oksida",null,null,null,null,null,null,true,null,null,null,null,null,null,null,null,null,null,null,"","","","",null,""]
[23,"Pečenje i sinteriranje metalnih ruda","Metalne rude","Bilanca mase",null,"Metoda masene bilance, članak 25.",1,{"$f":"Translations!$B$505","v":"Udio biomase I:"},{"$f":"Translations!$B$510","v":"Udio biomase II:"},null,null,null,{"$f":"Translations!$B$1266","v":"Analiza udjela biomase"},"Mass balance, e.g. in accordance with Article 30(1) of RED II",null,3,"Metalne rude: Bilanca mase",null,"BioC_Metalne rude: Bilanca mase",null,null,null,null,null,null,false,null,null,null,null,null,null,null,null,null,null,null,1,{"$f":"Translations!$B$510","v":"Udio biomase II:"},"","",null,2,3]
[24,"Proizvodnja željeza ili čelika","Željezo i čelik","Gorivo koje se koristi kao ulazni materijal procesa",null,"Standardna metoda: Gorivo, članak 24. stavak 1.Uredbe",1,{"$f":"Translations!$B$505","v":"Udio biomase I:"},{"$f":"Translations!$B$510","v":"Udio biomase II:"},null,null,null,{"$f":"Translations!$B$1266","v":"Analiza udjela biomase"},"Mass balance, e.g. in accordance with Article 30(1) of RED II",null,3,"Željezo i čelik: Gorivo koje se koristi kao ulazni materijal procesa",null,"BioC_Željezo i čelik: Gorivo koje se koristi kao ulazni materijal procesa",null,null,null,null,null,null,false,null,null,null,null,null,null,null,null,null,null,null,1,{"$f":"Translations!$B$510","v":"Udio biomase II:"},"","",null,2,3]
[25,"Proizvodnja željeza ili čelika","Željezo i čelik","Proces (metoda A): samo karbonat",null,"Standardna metoda: Proces, članak 24. stavak 2.",{"$f":"EUconst_NA","v":"nije primjenjivo"},null,null,null,null,null,null,null,null,{"$f":"IF(G577=EUconst_NA,EUconst_NA,IF(ISBLANK(J577),COUNTA(H577:O577),COUNTA(H577,J577,L577)))","v":"nije primjenjivo"},"Željezo i čelik: Proces (metoda A): samo karbonat",null,"BioC_Željezo i čelik: Proces (metoda A): samo karbonat",null,null,null,null,null,null,true,null,null,null,null,null,null,null,null,null,null,null,"","","","",null,""]
[26,"Proizvodnja željeza ili čelika","Željezo i čelik","Proces (metoda A): miješani (karbonat + nekarbonat)",null,"Standardna metoda: Proces, članak 24. stavak 2.",1,{"$f":"Translations!$B$505","v":"Udio biomase I:"},{"$f":"Translations!$B$510","v":"Udio biomase II:"},null,null,null,{"$f":"Translations!$B$1266","v":"Analiza udjela biomase"},"Mass balance, e.g. in accordance with Article 30(1) of RED II",null,3,"Željezo i čelik: Proces (metoda A): miješani (karbonat + nekarbonat)",null,"BioC_Željezo i čelik: Proces (metoda A): miješani (karbonat + nekarbonat)",null,null,null,null,null,null,false,null,null,null,null,null,null,null,null,null,null,null,1,{"$f":"Translations!$B$510","v":"Udio biomase II:"},"","",null,2,3]
[27,"Proizvodnja željeza ili čelika","Željezo i čelik","Proces (metoda A): nekarbonat",null,"Standardna metoda: Proces, članak 24. stavak 2.",1,{"$f":"Translations!$B$505","v":"Udio biomase I:"},{"$f":"Translations!$B$510","v":"Udio biomase II:"},null,null,null,{"$f":"Translations!$B$1266","v":"Analiza udjela biomase"},"Mass balance, e.g. in accordance with Article 30(1) of RED II",null,3,"Željezo i čelik: Proces (metoda A): nekarbonat",null,"BioC_Željezo i čelik: Proces (metoda A): nekarbonat",null,null,null,null,null,null,false,null,null,null,null,null,null,null,null,null,null,null,1,{"$f":"Translations!$B$510","v":"Udio biomase II:"},"","",null,2,3]
[28,"Proizvodnja željeza ili čelika","Željezo i čelik","Proces (metoda B): izlaz oksida",null,"Standardna metoda: Proces, članak 24. stavak 2.",{"$f":"EUconst_NA","v":"nije primjenjivo"},null,null,null,null,null,null,null,null,{"$f":"IF(G580=EUconst_NA,EUconst_NA,IF(ISBLANK(J580),COUNTA(H580:O580),COUNTA(H580,J580,L580)))","v":"nije primjenjivo"},"Željezo i čelik: Proces (metoda B): izlaz oksida",null,"BioC_Željezo i čelik: Proces (metoda B): izlaz oksida",null,null,null,null,null,null,true,null,null,null,null,null,null,null,null,null,null,null,"","","","",null,""]
[29,"Proizvodnja željeza ili čelika","Željezo i čelik","Bilanca mase",null,"Metoda masene bilance, članak 25.",1,{"$f":"Translations!$B$505","v":"Udio biomase I:"},{"$f":"Translations!$B$510","v":"Udio biomase II:"},null,null,null,{"$f":"Translations!$B$1266","v":"Analiza udjela biomase"},"Mass balance, e.g. in accordance with Article 30(1) of RED II",null,3,"Željezo i čelik: Bilanca mase",null,"BioC_Željezo i čelik: Bilanca mase",null,null,null,null,null,null,false,null,null,null,null,null,null,null,null,null,null,null,1,{"$f":"Translations!$B$510","v":"Udio biomase II:"},"","",null,2,3]
[30,"Proizvodnja cementnog klinkera","Cementni klinker","Na temelju ulaza u peć (Metoda A)",null,"Standardna metoda: Proces, članak 24. stavak 2.",{"$f":"EUconst_NA","v":"nije primjenjivo"},null,null,null,null,null,null,null,null,{"$f":"IF(G582=EUconst_NA,EUconst_NA,IF(ISBLANK(J582),COUNTA(H582:O582),COUNTA(H582,J582,L582)))","v":"nije primjenjivo"},"Cementni klinker: Na temelju ulaza u peć (Metoda A)",null,"BioC_Cementni klinker: Na temelju ulaza u peć (Metoda A)",null,null,null,null,null,null,true,null,null,null,null,null,null,null,null,null,null,null,"","","","",null,""]
[31,"Proizvodnja cementnog klinkera","Cementni klinker","Izlaz klinkera (Metoda B)",null,"Standardna metoda: Proces, članak 24. stavak 2.",{"$f":"EUconst_NA","v":"nije primjenjivo"},null,null,null,null,null,null,null,null,{"$f":"IF(G583=EUconst_NA,EUconst_NA,IF(ISBLANK(J583),COUNTA(H583:O583),COUNTA(H583,J583,L583)))","v":"nije primjenjivo"},"Cementni klinker: Izlaz klinkera (Metoda B)",null,"BioC_Cementni klinker: Izlaz klinkera (Metoda B)",null,null,null,null,null,null,true,null,null,null,null,null,null,null,null,null,null,null,"","","","",null,""]
[32,"Proizvodnja cementnog klinkera","Cementni klinker","CKD",null,"Standardna metoda: Proces, članak 24. stavak 2.",{"$f":"EUconst_NA","v":"nije primjenjivo"},null,null,null,null,null,null,null,null,{"$f":"IF(G584=EUconst_NA,EUconst_NA,IF(ISBLANK(J584),COUNTA(H584:O584),COUNTA(H584,J584,L584)))","v":"nije primjenjivo"},"Cementni klinker: CKD",null,"BioC_Cementni klinker: CKD",null,null,null,null,null,null,true,null,null,null,null,null,null,null,null,null,null,null,"","","","",null,""]
[33,"Proizvodnja cementnog klinkera","Cementni klinker","Ne-karbonatni ugljik",null,{"$f":"F513","v":"Standardna metoda: Proces, članak 24. stavak 2."},1,{"$f":"Translations!$B$505","v":"Udio biomase I:"},{"$f":"Translations!$B$510","v":"Udio biomase II:"},null,null,null,{"$f":"Translations!$B$1266","v":"Analiza udjela biomase"},"Mass balance, e.g. in accordance with Article 30(1) of RED II",null,3,"Cementni klinker: Ne-karbonatni ugljik",null,"BioC_Cementni klinker: Ne-karbonatni ugljik",null,null,null,null,null,null,false,null,null,null,null,null,null,null,null,null,null,null,1,{"$f":"Translations!$B$510","v":"Udio biomase II:"},"","",null,2,3]
[34,"Proizvodnja vapna ili kalcinacija dolomita/magnezita","Vapno / dolomit / magnezit","Proces (metoda A): samo karbonat",null,"Standardna metoda: Proces, članak 24. stavak 2.",{"$f":"EUconst_NA","v":"nije primjenjivo"},null,null,null,null,null,null,null,null,{"$f":"IF(G586=EUconst_NA,EUconst_NA,IF(ISBLANK(J586),COUNTA(H586:O586),COUNTA(H586,J586,L586)))","v":"nije primjenjivo"},"Vapno / dolomit / magnezit: Proces (metoda A): samo karbonat",null,{"$f":"EUconst_CNTR_BiomassContent&Q586","v":"BioC_Vapno / dolomit / magnezit: Proces (metoda A): samo karbonat"},null,null,null,null,null,null,true,null,null,null,null,null,null,null,null,null,null,null,"","","","",null,""]
[35,"Proizvodnja vapna ili kalcinacija dolomita/magnezita","Vapno / dolomit / magnezit","Proces (metoda A): miješani (karbonat + nekarbonat)",null,"Standardna metoda: Proces, članak 24. stavak 2.",1,{"$f":"Translations!$B$505","v":"Udio biomase I:"},{"$f":"Translations!$B$510","v":"Udio biomase II:"},null,null,null,{"$f":"Translations!$B$1266","v":"Analiza udjela biomase"},"Mass balance, e.g. in accordance with Article 30(1) of RED II",null,3,"Vapno / dolomit / magnezit: Proces (metoda A): miješani (karbonat + nekarbonat)",null,"BioC_Vapno / dolomit / magnezit: Proces (metoda A): miješani (karbonat + nekarbonat)",null,null,null,null,null,null,false,null,null,null,null,null,null,null,null,null,null,null,1,{"$f":"Translations!$B$510","v":"Udio biomase II:"},"","",null,2,3]
[36,"Proizvodnja vapna ili kalcinacija dolomita/magnezita","Vapno / dolomit / magnezit","Proces (metoda A): nekarbonat",null,"Standardna metoda: Proces, članak 24. stavak 2.",1,{"$f":"Translations!$B$505","v":"Udio biomase I:"},{"$f":"Translations!$B$510","v":"Udio biomase II:"},null,null,null,{"$f":"Translations!$B$1266","v":"Analiza udjela biomase"},"Mass balance, e.g. in accordance with Article 30(1) of RED II",null,3,"Vapno / dolomit / magnezit: Proces (metoda A): nekarbonat",null,"BioC_Vapno / dolomit / magnezit: Proces (metoda A): nekarbonat",null,null,null,null,null,null,false,null,null,null,null,null,null,null,null,null,null,null,1,{"$f":"Translations!$B$510","v":"Udio biomase II:"},"","",null,2,3]
[37,"Proizvodnja vapna ili kalcinacija dolomita/magnezita","Vapno / dolomit / magnezit","Proces (metoda B): izlaz oksida",null,"Standardna metoda: Proces, članak 24. stavak 2.",{"$f":"EUconst_NA","v":"nije primjenjivo"},null,null,null,null,null,null,null,null,{"$f":"IF(G589=EUconst_NA,EUconst_NA,IF(ISBLANK(J589),COUNTA(H589:O589),COUNTA(H589,J589,L589)))","v":"nije primjenjivo"},"Vapno / dolomit / magnezit: Proces (metoda B): izlaz oksida",null,"BioC_Vapno / dolomit / magnezit: Proces (metoda B): izlaz oksida",null,null,null,null,null,null,true,null,null,null,null,null,null,null,null,null,null,null,"","","","",null,""]
[38,"Proizvodnja vapna ili kalcinacija dolomita/magnezita","Vapno / dolomit / magnezit","Prašina iz peći (Metoda B)",null,"Standardna metoda: Proces, članak 24. stavak 2.",{"$f":"EUconst_NA","v":"nije primjenjivo"},null,null,null,null,null,null,null,null,{"$f":"IF(G590=EUconst_NA,EUconst_NA,IF(ISBLANK(J590),COUNTA(H590:O590),COUNTA(H590,J590,L590)))","v":"nije primjenjivo"},"Vapno / dolomit / magnezit: Prašina iz peći (Metoda B)",null,"BioC_Vapno / dolomit / magnezit: Prašina iz peći (Metoda B)",null,null,null,null,null,null,true,null,null,null,null,null,null,null,null,null,null,null,"","","","",null,""]
[39,"Proizvodnja stakla","Staklo i mineralna vuna","Proces (metoda A): samo karbonat",null,"Standardna metoda: Proces, članak 24. stavak 2.",{"$f":"EUconst_NA","v":"nije primjenjivo"},null,null,null,null,null,null,null,null,{"$f":"IF(G591=EUconst_NA,EUconst_NA,IF(ISBLANK(J591),COUNTA(H591:O591),COUNTA(H591,J591,L591)))","v":"nije primjenjivo"},"Staklo i mineralna vuna: Proces (metoda A): samo karbonat",null,"BioC_Staklo i mineralna vuna: Proces (metoda A): samo karbonat",null,null,null,null,null,null,true,null,null,null,null,null,null,null,null,null,null,null,"","","","",null,""]
[40,"Proizvodnja stakla","Staklo i mineralna vuna","Proces (metoda A): miješani (karbonat + nekarbonat)",null,"Standardna metoda: Proces, članak 24. stavak 2.",1,{"$f":"Translations!$B$505","v":"Udio biomase I:"},{"$f":"Translations!$B$510","v":"Udio biomase II:"},null,null,null,{"$f":"Translations!$B$1266","v":"Analiza udjela biomase"},"Mass balance, e.g. in accordance with Article 30(1) of RED II",null,3,"Staklo i mineralna vuna: Proces (metoda A): miješani (karbonat + nekarbonat)",null,"BioC_Staklo i mineralna vuna: Proces (metoda A): miješani (karbonat + nekarbonat)",null,null,null,null,null,null,false,null,null,null,null,null,null,null,null,null,null,null,1,{"$f":"Translations!$B$510","v":"Udio biomase II:"},"","",null,2,3]
[41,{"$f":"B521","v":"Proizvodnja stakla"},"Staklo i mineralna vuna","Proces (metoda A): nekarbonat",null,"Standardna metoda: Proces, članak 24. stavak 2.",1,{"$f":"Translations!$B$505","v":"Udio biomase I:"},{"$f":"Translations!$B$510","v":"Udio biomase II:"},null,null,null,{"$f":"Translations!$B$1266","v":"Analiza udjela biomase"},"Mass balance, e.g. in accordance with Article 30(1) of RED II",null,3,"Staklo i mineralna vuna: Proces (metoda A): nekarbonat",null,"BioC_Staklo i mineralna vuna: Proces (metoda A): nekarbonat",null,null,null,null,null,null,false,null,null,null,null,null,null,null,null,null,null,null,1,{"$f":"Translations!$B$510","v":"Udio biomase II:"},"","",null,2,3]
[42,"Proizvodnja keramike","Keramika","Proces (metoda A): samo karbonat",null,"Standardna metoda: Proces, članak 24. stavak 2.",{"$f":"EUconst_NA","v":"nije primjenjivo"},null,null,null,null,null,null,null,null,{"$f":"IF(G594=EUconst_NA,EUconst_NA,IF(ISBLANK(J594),COUNTA(H594:O594),COUNTA(H594,J594,L594)))","v":"nije primjenjivo"},"Keramika: Proces (metoda A): samo karbonat",null,"BioC_Keramika: Proces (metoda A): samo karbonat",null,null,null,null,null,null,true,null,null,null,null,null,null,null,null,null,null,null,"","","","",null,""]
[43,"Proizvodnja keramike","Keramika","Proces (metoda A): miješani (karbonat + nekarbonat)",null,"Standardna metoda: Proces, članak 24. stavak 2.",1,{"$f":"Translations!$B$505","v":"Udio biomase I:"},{"$f":"Translations!$B$510","v":"Udio biomase II:"},null,null,null,{"$f":"Translations!$B$1266","v":"Analiza udjela biomase"},"Mass balance, e.g. in accordance with Article 30(1) of RED II",null,3,"Keramika: Proces (metoda A): miješani (karbonat + nekarbonat)",null,"BioC_Keramika: Proces (metoda A): miješani (karbonat + nekarbonat)",null,null,null,null,null,null,false,null,null,null,null,null,null,null,null,null,null,null,1,{"$f":"Translations!$B$510","v":"Udio biomase II:"},"","",null,2,3]
[44,"Proizvodnja keramike","Keramika","Proces (metoda A): nekarbonat",null,"Standardna metoda: Proces, članak 24. stavak 2.",1,{"$f":"Translations!$B$505","v":"Udio biomase I:"},{"$f":"Translations!$B$510","v":"Udio biomase II:"},null,null,null,{"$f":"Translations!$B$1266","v":"Analiza udjela biomase"},"Mass balance, e.g. in accordance with Article 30(1) of RED II",null,3,"Keramika: Proces (metoda A): nekarbonat",null,"BioC_Keramika: Proces (metoda A): nekarbonat",null,null,null,null,null,null,false,null,null,null,null,null,null,null,null,null,null,null,1,{"$f":"Translations!$B$510","v":"Udio biomase II:"},"","",null,2,3]
[45,"Proizvodnja keramike","Keramika","Proces (metoda B): izlaz oksida",null,"Standardna metoda: Proces, članak 24. stavak 2.",{"$f":"EUconst_NA","v":"nije primjenjivo"},null,null,null,null,null,null,null,null,{"$f":"IF(G597=EUconst_NA,EUconst_NA,IF(ISBLANK(J597),COUNTA(H597:O597),COUNTA(H597,J597,L597)))","v":"nije primjenjivo"},"Keramika: Proces (metoda B): izlaz oksida",null,"BioC_Keramika: Proces (metoda B): izlaz oksida",null,null,null,null,null,null,true,null,null,null,null,null,null,null,null,null,null,null,"","","","",null,""]
[46,"Proizvodnja keramike","Keramika","Čišćenje mokrim postupkom",null,"Standardna metoda: Proces, članak 24. stavak 2.",{"$f":"EUconst_NA","v":"nije primjenjivo"},null,null,null,null,null,null,null,null,{"$f":"IF(G598=EUconst_NA,EUconst_NA,IF(ISBLANK(J598),COUNTA(H598:O598),COUNTA(H598,J598,L598)))","v":"nije primjenjivo"},"Keramika: Čišćenje mokrim postupkom",null,"BioC_Keramika: Čišćenje mokrim postupkom",null,null,null,null,null,null,true,null,null,null,null,null,null,null,null,null,null,null,"","","","",null,""]
[47,"Proizvodnja celuloze","Celuloza i papir","Dodatne kemikalije",null,"Standardna metoda: Proces, članak 24. stavak 2.",{"$f":"EUconst_NA","v":"nije primjenjivo"},null,null,null,null,null,null,null,null,{"$f":"IF(G599=EUconst_NA,EUconst_NA,IF(ISBLANK(J599),COUNTA(H599:O599),COUNTA(H599,J599,L599)))","v":"nije primjenjivo"},"Celuloza i papir: Dodatne kemikalije",null,"BioC_Celuloza i papir: Dodatne kemikalije",null,null,null,null,null,null,true,null,null,null,null,null,null,null,null,null,null,null,"","","","",null,""]
[48,"Proizvodnja čađe ","Čađa","Metodologija masene bilance",null,"Metoda masene bilance, članak 25.",1,{"$f":"Translations!$B$505","v":"Udio biomase I:"},{"$f":"Translations!$B$510","v":"Udio biomase II:"},null,null,null,{"$f":"Translations!$B$1266","v":"Analiza udjela biomase"},"Mass balance, e.g. in accordance with Article 30(1) of RED II",null,3,"Čađa: Metodologija masene bilance",null,"BioC_Čađa: Metodologija masene bilance",null,null,null,null,null,null,false,null,null,null,null,null,null,null,null,null,null,null,1,{"$f":"Translations!$B$510","v":"Udio biomase II:"},"","",null,2,3]
[49,"Proizvodnja amonijaka","Amonijak","Gorivo koje se koristi kao ulazni materijal procesa",null,"Standardna metoda: Gorivo, članak 24. stavak 1.Uredbe",1,{"$f":"Translations!$B$505","v":"Udio biomase I:"},{"$f":"Translations!$B$510","v":"Udio biomase II:"},null,null,null,{"$f":"Translations!$B$1266","v":"Analiza udjela biomase"},"Mass balance, e.g. in accordance with Article 30(1) of RED II",null,3,"Amonijak: Gorivo koje se koristi kao ulazni materijal procesa",null,"BioC_Amonijak: Gorivo koje se koristi kao ulazni materijal procesa",null,null,null,null,null,null,false,null,null,null,null,null,null,null,null,null,null,null,1,{"$f":"Translations!$B$510","v":"Udio biomase II:"},"","",null,2,3]
[50,"Proizvodnja vodika i sintetskog plina","Vodik i sintetski plin","Gorivo koje se koristi kao ulazni materijal procesa",null,"Standardna metoda: Gorivo, članak 24. stavak 1.Uredbe",1,{"$f":"Translations!$B$505","v":"Udio biomase I:"},{"$f":"Translations!$B$510","v":"Udio biomase II:"},null,null,null,{"$f":"Translations!$B$1266","v":"Analiza udjela biomase"},"Mass balance, e.g. in accordance with Article 30(1) of RED II",null,3,"Vodik i sintetski plin: Gorivo koje se koristi kao ulazni materijal procesa",null,"BioC_Vodik i sintetski plin: Gorivo koje se koristi kao ulazni materijal procesa",null,null,null,null,null,null,false,null,null,null,null,null,null,null,null,null,null,null,1,{"$f":"Translations!$B$510","v":"Udio biomase II:"},"","",null,2,3]
[51,"Proizvodnja vodika i sintetskog plina","Vodik i sintetski plin","Metodologija masene bilance",null,"Metoda masene bilance, članak 25.",1,{"$f":"Translations!$B$505","v":"Udio biomase I:"},{"$f":"Translations!$B$510","v":"Udio biomase II:"},null,null,null,{"$f":"Translations!$B$1266","v":"Analiza udjela biomase"},"Mass balance, e.g. in accordance with Article 30(1) of RED II",null,3,"Vodik i sintetski plin: Metodologija masene bilance",null,"BioC_Vodik i sintetski plin: Metodologija masene bilance",null,null,null,null,null,null,false,null,null,null,null,null,null,null,null,null,null,null,1,{"$f":"Translations!$B$510","v":"Udio biomase II:"},"","",null,2,3]
[52,"Proizvodnja kemikalija na veliko ","Organske kemikalije na veliko","Metodologija masene bilance",null,"Metoda masene bilance, članak 25.",1,{"$f":"Translations!$B$505","v":"Udio biomase I:"},{"$f":"Translations!$B$510","v":"Udio biomase II:"},null,null,null,{"$f":"Translations!$B$1266","v":"Analiza udjela biomase"},"Mass balance, e.g. in accordance with Article 30(1) of RED II",null,3,"Organske kemikalije na veliko: Metodologija masene bilance",null,"BioC_Organske kemikalije na veliko: Metodologija masene bilance",null,null,null,null,null,null,false,null,null,null,null,null,null,null,null,null,null,null,1,{"$f":"Translations!$B$510","v":"Udio biomase II:"},"","",null,2,3]
[53,"Proizvodnja ili prerada obojenih metala","Neobojeni, sek. aluminij","Proces (metoda A): samo karbonat",null,"Standardna metoda: Proces, članak 24. stavak 2.",{"$f":"EUconst_NA","v":"nije primjenjivo"},null,null,null,null,null,null,null,null,{"$f":"IF(G605=EUconst_NA,EUconst_NA,IF(ISBLANK(J605),COUNTA(H605:O605),COUNTA(H605,J605,L605)))","v":"nije primjenjivo"},"Neobojeni, sek. aluminij: Proces (metoda A): samo karbonat",null,"BioC_Neobojeni, sek. aluminij: Proces (metoda A): samo karbonat",null,null,null,null,null,null,true,null,null,null,null,null,null,null,null,null,null,null,"","","","",null,""]
[54,"Proizvodnja ili prerada obojenih metala","Neobojeni, sek. aluminij","Proces (metoda A): miješani (karbonat + nekarbonat)",null,"Standardna metoda: Proces, članak 24. stavak 2.",1,{"$f":"Translations!$B$505","v":"Udio biomase I:"},{"$f":"Translations!$B$510","v":"Udio biomase II:"},null,null,null,{"$f":"Translations!$B$1266","v":"Analiza udjela biomase"},"Mass balance, e.g. in accordance with Article 30(1) of RED II",null,3,"Neobojeni, sek. aluminij: Proces (metoda A): miješani (karbonat + nekarbonat)",null,"BioC_Neobojeni, sek. aluminij: Proces (metoda A): miješani (karbonat + nekarbonat)",null,null,null,null,null,null,false,null,null,null,null,null,null,null,null,null,null,null,1,{"$f":"Translations!$B$510","v":"Udio biomase II:"},"","",null,2,3]
[55,"Proizvodnja ili prerada obojenih metala","Neobojeni, sek. aluminij","Proces (metoda A): nekarbonat",null,"Standardna metoda: Proces, članak 24. stavak 2.",1,{"$f":"Translations!$B$505","v":"Udio biomase I:"},{"$f":"Translations!$B$510","v":"Udio biomase II:"},null,null,null,{"$f":"Translations!$B$1266","v":"Analiza udjela biomase"},"Mass balance, e.g. in accordance with Article 30(1) of RED II",null,3,"Neobojeni, sek. aluminij: Proces (metoda A): nekarbonat",null,"BioC_Neobojeni, sek. aluminij: Proces (metoda A): nekarbonat",null,null,null,null,null,null,false,null,null,null,null,null,null,null,null,null,null,null,1,{"$f":"Translations!$B$510","v":"Udio biomase II:"},"","",null,2,3]
[56,"Proizvodnja ili prerada obojenih metala","Neobojeni, sek. aluminij","Proces (metoda B): izlaz oksida",null,"Standardna metoda: Proces, članak 24. stavak 2.",{"$f":"EUconst_NA","v":"nije primjenjivo"},null,null,null,null,null,null,null,null,{"$f":"IF(G608=EUconst_NA,EUconst_NA,IF(ISBLANK(J608),COUNTA(H608:O608),COUNTA(H608,J608,L608)))","v":"nije primjenjivo"},"Neobojeni, sek. aluminij: Proces (metoda B): izlaz oksida",null,"BioC_Neobojeni, sek. aluminij: Proces (metoda B): izlaz oksida",null,null,null,null,null,null,true,null,null,null,null,null,null,null,null,null,null,null,"","","","",null,""]
[57,"Proizvodnja ili prerada obojenih metala","Neobojeni, sek. aluminij","Metodologija masene bilance",null,"Metoda masene bilance, članak 25.",1,{"$f":"Translations!$B$505","v":"Udio biomase I:"},{"$f":"Translations!$B$510","v":"Udio biomase II:"},null,null,null,{"$f":"Translations!$B$1266","v":"Analiza udjela biomase"},"Mass balance, e.g. in accordance with Article 30(1) of RED II",null,3,"Neobojeni, sek. aluminij: Metodologija masene bilance",null,"BioC_Neobojeni, sek. aluminij: Metodologija masene bilance",null,null,null,null,null,null,false,null,null,null,null,null,null,null,null,null,null,null,1,{"$f":"Translations!$B$510","v":"Udio biomase II:"},"","",null,2,3]
[58,"Proizvodnja natrij karbonata i natrij-bikarbonata","Natrij karbonat / natrij bikarbonat","Metodologija masene bilance",null,"Metoda masene bilance, članak 25.",1,{"$f":"Translations!$B$505","v":"Udio biomase I:"},{"$f":"Translations!$B$510","v":"Udio biomase II:"},null,null,null,{"$f":"Translations!$B$1266","v":"Analiza udjela biomase"},"Mass balance, e.g. in accordance with Article 30(1) of RED II",null,3,"Natrij karbonat / natrij bikarbonat: Metodologija masene bilance",null,"BioC_Natrij karbonat / natrij bikarbonat: Metodologija masene bilance",null,null,null,null,null,null,false,null,null,null,null,null,null,null,null,null,null,null,1,{"$f":"Translations!$B$510","v":"Udio biomase II:"},"","",null,2,3]
[59,"Proizvodnja primarnog aluminija","Primarni aluminij","Metodologija masene bilance",null,"Metoda masene bilance, članak 25.",1,{"$f":"Translations!$B$505","v":"Udio biomase I:"},{"$f":"Translations!$B$510","v":"Udio biomase II:"},null,null,null,{"$f":"Translations!$B$1266","v":"Analiza udjela biomase"},"Mass balance, e.g. in accordance with Article 30(1) of RED II",null,3,"Primarni aluminij: Metodologija masene bilance",null,"BioC_Primarni aluminij: Metodologija masene bilance",null,null,null,null,null,null,false,null,null,null,null,null,null,null,null,null,null,null,1,{"$f":"Translations!$B$510","v":"Udio biomase II:"},"","",null,2,3]
[60,"Proizvodnja primarnog aluminija","Primarni aluminij","Emisije PFC (Metoda nagiba)",null,"Izračun sa specijalnim odredbama za PFC (Prilog IV, poglavlje 8.)",{"$f":"EUconst_NA","v":"nije primjenjivo"},null,null,null,null,null,null,null,null,{"$f":"IF(G612=EUconst_NA,EUconst_NA,IF(ISBLANK(J612),COUNTA(H612:O612),COUNTA(H612,J612,L612)))","v":"nije primjenjivo"},"Primarni aluminij: Emisije PFC (Metoda nagiba)",null,"BioC_Primarni aluminij: Emisije PFC (Metoda nagiba)",null,null,null,null,null,null,true,null,null,null,null,null,null,null,null,null,null,null,"","","","",null,""]
[61,{"$f":"B541","v":"Proizvodnja primarnog aluminija"},"Primarni aluminij","Emisije PFC (prenaponska metoda)",null,"Izračun sa specijalnim odredbama za PFC (Prilog IV, poglavlje 8.)",{"$f":"EUconst_NA","v":"nije primjenjivo"},null,null,null,null,null,null,null,null,{"$f":"IF(G613=EUconst_NA,EUconst_NA,IF(ISBLANK(J613),COUNTA(H613:O613),COUNTA(H613,J613,L613)))","v":"nije primjenjivo"},"Primarni aluminij: Emisije PFC (prenaponska metoda)",null,"BioC_Primarni aluminij: Emisije PFC (prenaponska metoda)",null,null,null,null,null,null,true,null,null,null,null,null,null,null,null,null,null,null,"","","","",null,""]
[62,"Hvatanje stakleničkih plinova prema Direktivi 2009/31/EC","CCS: Capture","CO2 transferred",null,{"$f":"F542","v":"Metoda masene bilance, članak 25."},1,{"$f":"Translations!$B$505","v":"Udio biomase I:"},{"$f":"Translations!$B$510","v":"Udio biomase II:"},null,null,null,{"$f":"Translations!$B$1266","v":"Analiza udjela biomase"},"Mass balance, e.g. in accordance with Article 30(1) of RED II",null,3,{"$f":"C614 & \": \" &D614","v":"CCS: Capture: CO2 transferred"},null,{"$f":"EUconst_CNTR_BiomassContent&Q614","v":"BioC_CCS: Capture: CO2 transferred"},null,null,null,null,null,null,{"$f":"IF(G614=EUconst_NA,TRUE,FALSE)","v":false},null,null,null,null,null,null,null,null,null,null,null,1,{"$f":"Translations!$B$510","v":"Udio biomase II:"},"","",null,2,3]
[63,"Transport stakleničkih plinova prema Direktivi 2009/31/EC","CCS: Transport","CO2 transferred",null,"Metoda masene bilance, članak 25.",{"$f":"EUconst_NA","v":"nije primjenjivo"},null,null,null,null,null,null,null,null,{"$f":"IF(G615=EUconst_NA,EUconst_NA,IF(ISBLANK(J615),COUNTA(H615:O615),COUNTA(H615,J615,L615)))","v":"nije primjenjivo"},"CCS: Transport: CO2 transferred",null,"BioC_CCS: Transport: CO2 transferred",null,null,null,null,null,null,true]
[64,"Transport stakleničkih plinova prema Direktivi 2009/31/EC","CCS: Transport","CO2 vented",null,"Standardna metoda: Proces, članak 24. stavak 2.","nije primjenjivo",null,null,null,null,null,null,null,null,"nije primjenjivo","CCS: Transport: CO2 vented",null,"BioC_CCS: Transport: CO2 vented",null,null,null,null,null,null,true]
[65,"Transport stakleničkih plinova prema Direktivi 2009/31/EC","CCS: Transport","CO2 leaked",null,"Standardna metoda: Proces, članak 24. stavak 2.","nije primjenjivo",null,null,null,null,null,null,null,null,"nije primjenjivo","CCS: Transport: CO2 leaked",null,"BioC_CCS: Transport: CO2 leaked",null,null,null,null,null,null,true]
[66,"Transport stakleničkih plinova prema Direktivi 2009/31/EC","CCS: Transport","CO2 fugitive",null,"Standardna metoda: Proces, članak 24. stavak 2.","nije primjenjivo",null,null,null,null,null,null,null,null,"nije primjenjivo","CCS: Transport: CO2 fugitive",null,"BioC_CCS: Transport: CO2 fugitive",null,null,null,null,null,null,true]
[67,"Skladištenje stakleničkih plinova prema Direktivi 2009/31/EC","CCS: Storage","CO2 transferred",null,"Metoda masene bilance, članak 25.","nije primjenjivo",null,null,null,null,null,null,null,null,"nije primjenjivo","CCS: Storage: CO2 transferred",null,"BioC_CCS: Storage: CO2 transferred",null,null,null,null,null,null,true]
[68,"Skladištenje stakleničkih plinova prema Direktivi 2009/31/EC","CCS: Storage","CO2 vented",null,"Standardna metoda: Proces, članak 24. stavak 2.","nije primjenjivo",null,null,null,null,null,null,null,null,"nije primjenjivo","CCS: Storage: CO2 vented",null,"BioC_CCS: Storage: CO2 vented",null,null,null,null,null,null,true]
[69,"Skladištenje stakleničkih plinova prema Direktivi 2009/31/EC","CCS: Storage","CO2 leaked",null,"Standardna metoda: Proces, članak 24. stavak 2.","nije primjenjivo",null,null,null,null,null,null,null,null,"nije primjenjivo","CCS: Storage: CO2 leaked",null,"BioC_CCS: Storage: CO2 leaked",null,null,null,null,null,null,true]
[70,"Skladištenje stakleničkih plinova prema Direktivi 2009/31/EC","CCS: Storage","CO2 fugitive",null,"Standardna metoda: Proces, članak 24. stavak 2.","nije primjenjivo",null,null,null,null,null,null,null,null,"nije primjenjivo","CCS: Storage: CO2 fugitive",null,"BioC_CCS: Storage: CO2 fugitive",null,null,null,null,null,null,true]
[null,null,null,null,null,null,null,null,null,null,null,null,null,null,null,null,null,null,null,null,null,null,null,null,null,{"$f":"IF(G623=EUconst_NA,TRUE,FALSE)","v":false}]
["NEW",{"$f":"Translations!$B$522","v":"Oksidacijski faktor"},{"$f":"Translations!$B$957","v":"Skraćeno ime"},{"$f":"Translations!$B$958","v":"Pod-djelatnost"},{"$f":"Translations!$B$389","v":"Analitički parametar"},{"$f":"Translations!$B$959","v":"Tip izvora"},{"$f":"Translations!$B$960","v":"Minimum"},1,2,"2a",{"$f":"Translations!$B$928","v":"2b"},3,"3a","3b",4,{"$f":"Translations!$B$961","v":"Najviši"},null,null,null,null,null,null,null,null,null,{"$f":"Translations!$B$962","v":"označiti sivom bojom?"},null,null,null,null,null,null,null,null,null,null,"1=default value, 2=lab",1,2,"2a",{"$f":"Translations!$B$928","v":"2b"},3]
[1,{"$f":"B553","v":"Izgaranje goriva "},"Izgaranje","Komercijalna standardna goriva",null,{"$f":"F553","v":"Standardna metoda: Gorivo, članak 24. stavak 1.Uredbe"},1,{"$f":"Translations!$B$529","v":"Zadana vrijednost OF=1"},{"$f":"Translations!$B$528","v":"Zadane vrijednosti II:"},null,null,{"$f":"Translations!$B$527","v":"Laboratorijske analize:"},null,null,null,{"$f":"G625","v":1},{"$f":"C625 & \": \" &D625","v":"Izgaranje: Komercijalna standardna goriva"},null,{"$f":"EUconst_CNTR_OxidationFactor&Q625","v":"OxF_Izgaranje: Komercijalna standardna goriva"},null,null,null,null,null,null,{"$f":"IF(G625=EUconst_NA,TRUE,FALSE)","v":false},null,null,null,null,null,null,null,null,null,null,null,1,1,"","",2]
[2,"Izgaranje goriva ","Izgaranje","Ostala plinovita & tekuća goriva",null,"Standardna metoda: Gorivo, članak 24. stavak 1.Uredbe",1,{"$f":"Translations!$B$529","v":"Zadana vrijednost OF=1"},{"$f":"Translations!$B$528","v":"Zadane vrijednosti II:"},null,null,{"$f":"Translations!$B$527","v":"Laboratorijske analize:"},null,null,null,{"$f":"G626","v":1},{"$f":"C626 & \": \" &D626","v":"Izgaranje: Ostala plinovita & tekuća goriva"},null,"OxF_Izgaranje: Ostala plinovita & tekuća goriva",null,null,null,null,null,null,false,null,null,null,null,null,null,null,null,null,null,null,1,1,"","",2]
[3,"Izgaranje goriva ","Izgaranje","Kruta goriva isključujući otpad",null,"Standardna metoda: Gorivo, članak 24. stavak 1.Uredbe",1,{"$f":"Translations!$B$529","v":"Zadana vrijednost OF=1"},{"$f":"Translations!$B$528","v":"Zadane vrijednosti II:"},null,null,{"$f":"Translations!$B$527","v":"Laboratorijske analize:"},null,null,null,{"$f":"G627","v":1},{"$f":"C627 & \": \" &D627","v":"Izgaranje: Kruta goriva isključujući otpad"},null,"OxF_Izgaranje: Kruta goriva isključujući otpad",null,null,null,null,null,null,false,null,null,null,null,null,null,null,null,null,null,null,1,1,"","",2]
[4,"Izgaranje goriva ","Izgaranje","Otpad",null,"Standardna metoda: Gorivo, članak 24. stavak 1.Uredbe",1,{"$f":"Translations!$B$529","v":"Zadana vrijednost OF=1"},{"$f":"Translations!$B$528","v":"Zadane vrijednosti II:"},null,null,{"$f":"Translations!$B$527","v":"Laboratorijske analize:"},null,null,null,{"$f":"G628","v":1},{"$f":"C628 & \": \" &D628","v":"Izgaranje: Otpad"},null,{"$f":"EUconst_CNTR_OxidationFactor&Q628","v":"OxF_Izgaranje: Otpad"},null,null,null,null,null,null,{"$f":"IF(G628=EUconst_NA,TRUE,FALSE)","v":false},null,null,null,null,null,null,null,null,null,null,null,1,1,"","",2]
[5,"Izgaranje goriva ","Izgaranje","Terminali za obradu plina ",null,"Metoda masene bilance, članak 25.",{"$f":"EUconst_NA","v":"nije primjenjivo"},null,null,null,null,null,null,null,null,{"$f":"G629","v":"nije primjenjivo"},"Izgaranje: Terminali za obradu plina ",null,"OxF_Izgaranje: Terminali za obradu plina ",null,null,null,null,null,null,true,null,null,null,null,null,null,null,null,null,null,null,"","","","",""]
[6,"Izgaranje goriva ","Izgaranje","Baklje",null,"Standardna metoda: Gorivo, članak 24. stavak 1.Uredbe",1,{"$f":"Translations!$B$529","v":"Zadana vrijednost OF=1"},{"$f":"Translations!$B$528","v":"Zadane vrijednosti II:"},null,null,null,null,null,null,1,"Izgaranje: Baklje",null,"OxF_Izgaranje: Baklje",null,null,null,null,null,null,false,null,null,null,null,null,null,null,null,null,null,null,1,1,"",""]
[7,"Izgaranje goriva ","Izgaranje","Čišćenje mokrim postupkom (karbonati)",null,"Standardna metoda: Proces, članak 24. stavak 2.",{"$f":"EUconst_NA","v":"nije primjenjivo"},null,null,null,null,null,null,null,null,"nije primjenjivo","Izgaranje: Čišćenje mokrim postupkom (karbonati)",null,"OxF_Izgaranje: Čišćenje mokrim postupkom (karbonati)",null,null,null,null,null,null,true,null,null,null,null,null,null,null,null,null,null,null,"","","","",""]
[8,"Izgaranje goriva ","Izgaranje","Čišćenje mokrim postupkom (gips)",null,"Standardna metoda: Proces, članak 24. stavak 2.","nije primjenjivo",null,null,null,null,null,null,null,null,"nije primjenjivo","Izgaranje: Čišćenje mokrim postupkom (gips)",null,"OxF_Izgaranje: Čišćenje mokrim postupkom (gips)",null,null,null,null,null,null,true,null,null,null,null,null,null,null,null,null,null,null,"","","","",""]
[9,"Izgaranje goriva ","Izgaranje","Čišćenje mokrim postupkom (urea)",null,"Standardna metoda: Proces, članak 24. stavak 2.","nije primjenjivo",null,null,null,null,null,null,null,null,"nije primjenjivo","Izgaranje: Čišćenje mokrim postupkom (urea)",null,"OxF_Izgaranje: Čišćenje mokrim postupkom (urea)",null,null,null,null,null,null,true,null,null,null,null,null,null,null,null,null,null,null,"","","","",""]
[10,"Rafiniranje mineralnih ulja ","Rafinerije","Bilanca mase",null,"Metoda masene bilance, članak 25.","nije primjenjivo",null,null,null,null,null,null,null,null,"nije primjenjivo","Rafinerije: Bilanca mase",null,"OxF_Rafinerije: Bilanca mase",null,null,null,null,null,null,true,null,null,null,null,null,null,null,null,null,null,null,"","","","",""]
[11,"Rafiniranje mineralnog ulja ","Rafinerije","Regeneriranje katalizatora iz procesa krekiranja ",null,"Metoda masene bilance, članak 25.","nije primjenjivo",null,null,null,null,null,null,null,null,"nije primjenjivo","Rafinerije: Regeneriranje katalizatora iz procesa krekiranja ",null,"OxF_Rafinerije: Regeneriranje katalizatora iz procesa krekiranja ",null,null,null,null,null,null,true,null,null,null,null,null,null,null,null,null,null,null,"","","","",""]
[12,"Rafiniranje mineralnog ulja ","Rafinerije","Proizvodnja vodika",null,"Metoda masene bilance, članak 25.","nije primjenjivo",null,null,null,null,null,null,null,null,"nije primjenjivo","Rafinerije: Proizvodnja vodika",null,"OxF_Rafinerije: Proizvodnja vodika",null,null,null,null,null,null,true,null,null,null,null,null,null,null,null,null,null,null,"","","","",""]
[13,"Proizvodnja koksa","Koks","Gorivo koje se koristi kao ulazni materijal procesa",null,"Standardna metoda: Gorivo, članak 24. stavak 1.Uredbe","nije primjenjivo",null,null,null,null,null,null,null,null,"nije primjenjivo","Koks: Gorivo koje se koristi kao ulazni materijal procesa",null,"OxF_Koks: Gorivo koje se koristi kao ulazni materijal procesa",null,null,null,null,null,null,true,null,null,null,null,null,null,null,null,null,null,null,"","","","",""]
[14,"Proizvodnja koksa","Koks","Proces (metoda A): samo karbonat",null,"Standardna metoda: Proces, članak 24. stavak 2.","nije primjenjivo",null,null,null,null,null,null,null,null,"nije primjenjivo","Koks: Proces (metoda A): samo karbonat",null,"OxF_Koks: Proces (metoda A): samo karbonat",null,null,null,null,null,null,true,null,null,null,null,null,null,null,null,null,null,null,"","","","",""]
[15,"Proizvodnja koksa","Koks","Proces (metoda A): miješani (karbonat + nekarbonat)",null,"Standardna metoda: Proces, članak 24. stavak 2.","nije primjenjivo",null,null,null,null,null,null,null,null,"nije primjenjivo","Koks: Proces (metoda A): miješani (karbonat + nekarbonat)",null,"OxF_Koks: Proces (metoda A): miješani (karbonat + nekarbonat)",null,null,null,null,null,null,true,null,null,null,null,null,null,null,null,null,null,null,"","","","",""]
[16,"Proizvodnja koksa","Koks","Proces (metoda A): nekarbonat",null,"Standardna metoda: Proces, članak 24. stavak 2.","nije primjenjivo",null,null,null,null,null,null,null,null,"nije primjenjivo","Koks: Proces (metoda A): nekarbonat",null,"OxF_Koks: Proces (metoda A): nekarbonat",null,null,null,null,null,null,true,null,null,null,null,null,null,null,null,null,null,null,"","","","",""]
[17,"Proizvodnja koksa","Koks","Proces (metoda B): izlaz oksida",null,"Standardna metoda: Proces, članak 24. stavak 2.","nije primjenjivo",null,null,null,null,null,null,null,null,"nije primjenjivo","Koks: Proces (metoda B): izlaz oksida",null,"OxF_Koks: Proces (metoda B): izlaz oksida",null,null,null,null,null,null,true,null,null,null,null,null,null,null,null,null,null,null,"","","","",""]
[18,"Proizvodnja koksa","Koks","Bilanca mase",null,"Metoda masene bilance, članak 25.","nije primjenjivo",null,null,null,null,null,null,null,null,"nije primjenjivo","Koks: Bilanca mase",null,"OxF_Koks: Bilanca mase",null,null,null,null,null,null,true,null,null,null,null,null,null,null,null,null,null,null,"","","","",""]
[19,"Pečenje i sinteriranje metalnih ruda","Metalne rude","Proces (metoda A): samo karbonat",null,"Standardna metoda: Proces, članak 24. stavak 2.","nije primjenjivo",null,null,null,null,null,null,null,null,"nije primjenjivo","Metalne rude: Proces (metoda A): samo karbonat",null,"OxF_Metalne rude: Proces (metoda A): samo karbonat",null,null,null,null,null,null,true,null,null,null,null,null,null,null,null,null,null,null,"","","","",""]
[20,"Pečenje i sinteriranje metalnih ruda","Metalne rude","Proces (metoda A): miješani (karbonat + nekarbonat)",null,"Standardna metoda: Proces, članak 24. stavak 2.","nije primjenjivo",null,null,null,null,null,null,null,null,"nije primjenjivo","Metalne rude: Proces (metoda A): miješani (karbonat + nekarbonat)",null,"OxF_Metalne rude: Proces (metoda A): miješani (karbonat + nekarbonat)",null,null,null,null,null,null,true,null,null,null,null,null,null,null,null,null,null,null,"","","","",""]
[21,{"$f":"B573","v":"Pečenje i sinteriranje metalnih ruda"},"Metalne rude","Proces (metoda A): nekarbonat",null,"Standardna metoda: Proces, članak 24. stavak 2.","nije primjenjivo",null,null,null,null,null,null,null,null,"nije primjenjivo","Metalne rude: Proces (metoda A): nekarbonat",null,"OxF_Metalne rude: Proces (metoda A): nekarbonat",null,null,null,null,null,null,true,null,null,null,null,null,null,null,null,null,null,null,"","","","",""]
[22,"Pečenje i sinteriranje metalnih ruda","Metalne rude","Proces (metoda B): izlaz oksida",null,"Standardna metoda: Proces, članak 24. stavak 2.","nije primjenjivo",null,null,null,null,null,null,null,null,"nije primjenjivo","Metalne rude: Proces (metoda B): izlaz oksida",null,"OxF_Metalne rude: Proces (metoda B): izlaz oksida",null,null,null,null,null,null,true,null,null,null,null,null,null,null,null,null,null,null,"","","","",""]
[23,"Pečenje i sinteriranje metalnih ruda","Metalne rude","Bilanca mase",null,"Metoda masene bilance, članak 25.","nije primjenjivo",null,null,null,null,null,null,null,null,"nije primjenjivo","Metalne rude: Bilanca mase",null,"OxF_Metalne rude: Bilanca mase",null,null,null,null,null,null,true,null,null,null,null,null,null,null,null,null,null,null,"","","","",""]
[24,"Proizvodnja željeza ili čelika","Željezo i čelik","Gorivo koje se koristi kao ulazni materijal procesa",null,"Standardna metoda: Gorivo, članak 24. stavak 1.Uredbe","nije primjenjivo",null,null,null,null,null,null,null,null,"nije primjenjivo","Željezo i čelik: Gorivo koje se koristi kao ulazni materijal procesa",null,"OxF_Željezo i čelik: Gorivo koje se koristi kao ulazni materijal procesa",null,null,null,null,null,null,true,null,null,null,null,null,null,null,null,null,null,null,"","","","",""]
[25,"Proizvodnja željeza ili čelika","Željezo i čelik","Proces (metoda A): samo karbonat",null,"Standardna metoda: Proces, članak 24. stavak 2.","nije primjenjivo",null,null,null,null,null,null,null,null,"nije primjenjivo","Željezo i čelik: Proces (metoda A): samo karbonat",null,"OxF_Željezo i čelik: Proces (metoda A): samo karbonat",null,null,null,null,null,null,true,null,null,null,null,null,null,null,null,null,null,null,"","","","",""]
[26,"Proizvodnja željeza ili čelika","Željezo i čelik","Proces (metoda A): miješani (karbonat + nekarbonat)",null,"Standardna metoda: Proces, članak 24. stavak 2.","nije primjenjivo",null,null,null,null,null,null,null,null,"nije primjenjivo","Željezo i čelik: Proces (metoda A): miješani (karbonat + nekarbonat)",null,"OxF_Željezo i čelik: Proces (metoda A): miješani (karbonat + nekarbonat)",null,null,null,null,null,null,true,null,null,null,null,null,null,null,null,null,null,null,"","","","",""]
[27,"Proizvodnja željeza ili čelika","Željezo i čelik","Proces (metoda A): nekarbonat",null,"Standardna metoda: Proces, članak 24. stavak 2.","nije primjenjivo",null,null,null,null,null,null,null,null,"nije primjenjivo","Željezo i čelik: Proces (metoda A): nekarbonat",null,"OxF_Željezo i čelik: Proces (metoda A): nekarbonat",null,null,null,null,null,null,true,null,null,null,null,null,null,null,null,null,null,null,"","","","",""]
[28,"Proizvodnja željeza ili čelika","Željezo i čelik","Proces (metoda B): izlaz oksida",null,"Standardna metoda: Proces, članak 24. stavak 2.","nije primjenjivo",null,null,null,null,null,null,null,null,"nije primjenjivo","Željezo i čelik: Proces (metoda B): izlaz oksida",null,"OxF_Željezo i čelik: Proces (metoda B): izlaz oksida",null,null,null,null,null,null,true,null,null,null,null,null,null,null,null,null,null,null,"","","","",""]
[29,"Proizvodnja željeza ili čelika","Željezo i čelik","Bilanca mase",null,"Metoda masene bilance, članak 25.","nije primjenjivo",null,null,null,null,null,null,null,null,"nije primjenjivo","Željezo i čelik: Bilanca mase",null,"OxF_Željezo i čelik: Bilanca mase",null,null,null,null,null,null,true,null,null,null,null,null,null,null,null,null,null,null,"","","","",""]
[30,"Proizvodnja cementnog klinkera","Cementni klinker","Na temelju ulaza u peć (Metoda A)",null,"Standardna metoda: Proces, članak 24. stavak 2.","nije primjenjivo",null,null,null,null,null,null,null,null,"nije primjenjivo","Cementni klinker: Na temelju ulaza u peć (Metoda A)",null,"OxF_Cementni klinker: Na temelju ulaza u peć (Metoda A)",null,null,null,null,null,null,true,null,null,null,null,null,null,null,null,null,null,null,"","","","",""]
[31,"Proizvodnja cementnog klinkera","Cementni klinker","Izlaz klinkera (Metoda B)",null,"Standardna metoda: Proces, članak 24. stavak 2.","nije primjenjivo",null,null,null,null,null,null,null,null,"nije primjenjivo","Cementni klinker: Izlaz klinkera (Metoda B)",null,"OxF_Cementni klinker: Izlaz klinkera (Metoda B)",null,null,null,null,null,null,true,null,null,null,null,null,null,null,null,null,null,null,"","","","",""]
[32,"Proizvodnja cementnog klinkera","Cementni klinker","CKD",null,"Standardna metoda: Proces, članak 24. stavak 2.","nije primjenjivo",null,null,null,null,null,null,null,null,"nije primjenjivo","Cementni klinker: CKD",null,"OxF_Cementni klinker: CKD",null,null,null,null,null,null,true,null,null,null,null,null,null,null,null,null,null,null,"","","","",""]
[33,"Proizvodnja cementnog klinkera","Cementni klinker","Ne-karbonatni ugljik",null,{"$f":"F585","v":"Standardna metoda: Proces, članak 24. stavak 2."},"nije primjenjivo",null,null,null,null,null,null,null,null,"nije primjenjivo","Cementni klinker: Ne-karbonatni ugljik",null,"OxF_Cementni klinker: Ne-karbonatni ugljik",null,null,null,null,null,null,true,null,null,null,null,null,null,null,null,null,null,null,"","","","",""]
[34,"Proizvodnja vapna ili kalcinacija dolomita/magnezita","Vapno / dolomit / magnezit","Proces (metoda A): samo karbonat",null,"Standardna metoda: Proces, članak 24. stavak 2.","nije primjenjivo",null,null,null,null,null,null,null,null,"nije primjenjivo","Vapno / dolomit / magnezit: Proces (metoda A): samo karbonat",null,{"$f":"EUconst_CNTR_OxidationFactor&Q658","v":"OxF_Vapno / dolomit / magnezit: Proces (metoda A): samo karbonat"},null,null,null,null,null,null,true,null,null,null,null,null,null,null,null,null,null,null,"","","","",""]
[35,"Proizvodnja vapna ili kalcinacija dolomita/magnezita","Vapno / dolomit / magnezit","Proces (metoda A): miješani (karbonat + nekarbonat)",null,"Standardna metoda: Proces, članak 24. stavak 2.","nije primjenjivo",null,null,null,null,null,null,null,null,"nije primjenjivo","Vapno / dolomit / magnezit: Proces (metoda A): miješani (karbonat + nekarbonat)",null,"OxF_Vapno / dolomit / magnezit: Proces (metoda A): miješani (karbonat + nekarbonat)",null,null,null,null,null,null,true,null,null,null,null,null,null,null,null,null,null,null,"","","","",""]
[36,"Proizvodnja vapna ili kalcinacija dolomita/magnezita","Vapno / dolomit / magnezit","Proces (metoda A): nekarbonat",null,"Standardna metoda: Proces, članak 24. stavak 2.","nije primjenjivo",null,null,null,null,null,null,null,null,"nije primjenjivo","Vapno / dolomit / magnezit: Proces (metoda A): nekarbonat",null,"OxF_Vapno / dolomit / magnezit: Proces (metoda A): nekarbonat",null,null,null,null,null,null,true,null,null,null,null,null,null,null,null,null,null,null,"","","","",""]
[37,"Proizvodnja vapna ili kalcinacija dolomita/magnezita","Vapno / dolomit / magnezit","Proces (metoda B): izlaz oksida",null,"Standardna metoda: Proces, članak 24. stavak 2.","nije primjenjivo",null,null,null,null,null,null,null,null,"nije primjenjivo","Vapno / dolomit / magnezit: Proces (metoda B): izlaz oksida",null,"OxF_Vapno / dolomit / magnezit: Proces (metoda B): izlaz oksida",null,null,null,null,null,null,true,null,null,null,null,null,null,null,null,null,null,null,"","","","",""]
[38,"Proizvodnja vapna ili kalcinacija dolomita/magnezita","Vapno / dolomit / magnezit","Prašina iz peći (Metoda B)",null,"Standardna metoda: Proces, članak 24. stavak 2.","nije primjenjivo",null,null,null,null,null,null,null,null,"nije primjenjivo","Vapno / dolomit / magnezit: Prašina iz peći (Metoda B)",null,"OxF_Vapno / dolomit / magnezit: Prašina iz peći (Metoda B)",null,null,null,null,null,null,true,null,null,null,null,null,null,null,null,null,null,null,"","","","",""]
[39,"Proizvodnja stakla","Staklo i mineralna vuna","Proces (metoda A): samo karbonat",null,"Standardna metoda: Proces, članak 24. stavak 2.",{"$f":"EUconst_NA","v":"nije primjenjivo"},null,null,null,null,null,null,null,null,"nije primjenjivo","Staklo i mineralna vuna: Proces (metoda A): samo karbonat",null,"OxF_Staklo i mineralna vuna: Proces (metoda A): samo karbonat",null,null,null,null,null,null,true,null,null,null,null,null,null,null,null,null,null,null,"","","","",""]
[40,"Proizvodnja stakla","Staklo i mineralna vuna","Proces (metoda A): miješani (karbonat + nekarbonat)",null,"Standardna metoda: Proces, članak 24. stavak 2.","nije primjenjivo",null,null,null,null,null,null,null,null,"nije primjenjivo","Staklo i mineralna vuna: Proces (metoda A): miješani (karbonat + nekarbonat)",null,"OxF_Staklo i mineralna vuna: Proces (metoda A): miješani (karbonat + nekarbonat)",null,null,null,null,null,null,true,null,null,null,null,null,null,null,null,null,null,null,"","","","",""]
[41,{"$f":"B593","v":"Proizvodnja stakla"},"Staklo i mineralna vuna","Proces (metoda A): nekarbonat",null,"Standardna metoda: Proces, članak 24. stavak 2.","nije primjenjivo",null,null,null,null,null,null,null,null,"nije primjenjivo","Staklo i mineralna vuna: Proces (metoda A): nekarbonat",null,"OxF_Staklo i mineralna vuna: Proces (metoda A): nekarbonat",null,null,null,null,null,null,true,null,null,null,null,null,null,null,null,null,null,null,"","","","",""]
[42,"Proizvodnja keramike","Keramika","Proces (metoda A): samo karbonat",null,"Standardna metoda: Proces, članak 24. stavak 2.","nije primjenjivo",null,null,null,null,null,null,null,null,"nije primjenjivo","Keramika: Proces (metoda A): samo karbonat",null,"OxF_Keramika: Proces (metoda A): samo karbonat",null,null,null,null,null,null,true,null,null,null,null,null,null,null,null,null,null,null,"","","","",""]
[43,"Proizvodnja keramike","Keramika","Proces (metoda A): miješani (karbonat + nekarbonat)",null,"Standardna metoda: Proces, članak 24. stavak 2.","nije primjenjivo",null,null,null,null,null,null,null,null,"nije primjenjivo","Keramika: Proces (metoda A): miješani (karbonat + nekarbonat)",null,"OxF_Keramika: Proces (metoda A): miješani (karbonat + nekarbonat)",null,null,null,null,null,null,true,null,null,null,null,null,null,null,null,null,null,null,"","","","",""]
[44,"Proizvodnja keramike","Keramika","Proces (metoda A): nekarbonat",null,"Standardna metoda: Proces, članak 24. stavak 2.","nije primjenjivo",null,null,null,null,null,null,null,null,"nije primjenjivo","Keramika: Proces (metoda A): nekarbonat",null,"OxF_Keramika: Proces (metoda A): nekarbonat",null,null,null,null,null,null,true,null,null,null,null,null,null,null,null,null,null,null,"","","","",""]
[45,"Proizvodnja keramike","Keramika","Proces (metoda B): izlaz oksida",null,"Standardna metoda: Proces, članak 24. stavak 2.","nije primjenjivo",null,null,null,null,null,null,null,null,"nije primjenjivo","Keramika: Proces (metoda B): izlaz oksida",null,"OxF_Keramika: Proces (metoda B): izlaz oksida",null,null,null,null,null,null,true,null,null,null,null,null,null,null,null,null,null,null,"","","","",""]
[46,"Proizvodnja keramike","Keramika","Čišćenje mokrim postupkom",null,"Standardna metoda: Proces, članak 24. stavak 2.","nije primjenjivo",null,null,null,null,null,null,null,null,"nije primjenjivo","Keramika: Čišćenje mokrim postupkom",null,"OxF_Keramika: Čišćenje mokrim postupkom",null,null,null,null,null,null,true,null,null,null,null,null,null,null,null,null,null,null,"","","","",""]
[47,"Proizvodnja celuloze","Celuloza i papir","Dodatne kemikalije",null,"Standardna metoda: Proces, članak 24. stavak 2.","nije primjenjivo",null,null,null,null,null,null,null,null,"nije primjenjivo","Celuloza i papir: Dodatne kemikalije",null,"OxF_Celuloza i papir: Dodatne kemikalije",null,null,null,null,null,null,true,null,null,null,null,null,null,null,null,null,null,null,"","","","",""]
[48,"Proizvodnja čađe ","Čađa","Metodologija masene bilance",null,"Metoda masene bilance, članak 25.","nije primjenjivo",null,null,null,null,null,null,null,null,"nije primjenjivo","Čađa: Metodologija masene bilance",null,"OxF_Čađa: Metodologija masene bilance",null,null,null,null,null,null,true,null,null,null,null,null,null,null,null,null,null,null,"","","","",""]
[49,"Proizvodnja amonijaka","Amonijak","Gorivo koje se koristi kao ulazni materijal procesa",null,"Standardna metoda: Gorivo, članak 24. stavak 1.Uredbe","nije primjenjivo",null,null,null,null,null,null,null,null,"nije primjenjivo","Amonijak: Gorivo koje se koristi kao ulazni materijal procesa",null,"OxF_Amonijak: Gorivo koje se koristi kao ulazni materijal procesa",null,null,null,null,null,null,true,null,null,null,null,null,null,null,null,null,null,null,"","","","",""]
[50,"Proizvodnja vodika i sintetskog plina","Vodik i sintetski plin","Gorivo koje se koristi kao ulazni materijal procesa",null,"Standardna metoda: Gorivo, članak 24. stavak 1.Uredbe","nije primjenjivo",null,null,null,null,null,null,null,null,"nije primjenjivo","Vodik i sintetski plin: Gorivo koje se koristi kao ulazni materijal procesa",null,"OxF_Vodik i sintetski plin: Gorivo koje se koristi kao ulazni materijal procesa",null,null,null,null,null,null,true,null,null,null,null,null,null,null,null,null,null,null,"","","","",""]
[51,"Proizvodnja vodika i sintetskog plina","Vodik i sintetski plin","Metodologija masene bilance",null,"Metoda masene bilance, članak 25.","nije primjenjivo",null,null,null,null,null,null,null,null,"nije primjenjivo","Vodik i sintetski plin: Metodologija masene bilance",null,"OxF_Vodik i sintetski plin: Metodologija masene bilance",null,null,null,null,null,null,true,null,null,null,null,null,null,null,null,null,null,null,"","","","",""]
[52,"Proizvodnja kemikalija na veliko ","Organske kemikalije na veliko","Metodologija masene bilance",null,"Metoda masene bilance, članak 25.","nije primjenjivo",null,null,null,null,null,null,null,null,"nije primjenjivo","Organske kemikalije na veliko: Metodologija masene bilance",null,"OxF_Organske kemikalije na veliko: Metodologija masene bilance",null,null,null,null,null,null,true,null,null,null,null,null,null,null,null,null,null,null,"","","","",""]
[53,"Proizvodnja ili prerada obojenih metala","Neobojeni, sek. aluminij","Proces (metoda A): samo karbonat",null,"Standardna metoda: Proces, članak 24. stavak 2.","nije primjenjivo",null,null,null,null,null,null,null,null,"nije primjenjivo","Neobojeni, sek. aluminij: Proces (metoda A): samo karbonat",null,"OxF_Neobojeni, sek. aluminij: Proces (metoda A): samo karbonat",null,null,null,null,null,null,true,null,null,null,null,null,null,null,null,null,null,null,"","","","",""]
[54,"Proizvodnja ili prerada obojenih metala","Neobojeni, sek. aluminij","Proces (metoda A): miješani (karbonat + nekarbonat)",null,"Standardna metoda: Proces, članak 24. stavak 2.","nije primjenjivo",null,null,null,null,null,null,null,null,"nije primjenjivo","Neobojeni, sek. aluminij: Proces (metoda A): miješani (karbonat + nekarbonat)",null,"OxF_Neobojeni, sek. aluminij: Proces (metoda A): miješani (karbonat + nekarbonat)",null,null,null,null,null,null,true,null,null,null,null,null,null,null,null,null,null,null,"","","","",""]
[55,"Proizvodnja ili prerada obojenih metala","Neobojeni, sek. aluminij","Proces (metoda A): nekarbonat",null,"Standardna metoda: Proces, članak 24. stavak 2.","nije primjenjivo",null,null,null,null,null,null,null,null,"nije primjenjivo","Neobojeni, sek. aluminij: Proces (metoda A): nekarbonat",null,"OxF_Neobojeni, sek. aluminij: Proces (metoda A): nekarbonat",null,null,null,null,null,null,true,null,null,null,null,null,null,null,null,null,null,null,"","","","",""]
[56,"Proizvodnja ili prerada obojenih metala","Neobojeni, sek. aluminij","Proces (metoda B): izlaz oksida",null,"Standardna metoda: Proces, članak 24. stavak 2.","nije primjenjivo",null,null,null,null,null,null,null,null,"nije primjenjivo","Neobojeni, sek. aluminij: Proces (metoda B): izlaz oksida",null,"OxF_Neobojeni, sek. aluminij: Proces (metoda B): izlaz oksida",null,null,null,null,null,null,true,null,null,null,null,null,null,null,null,null,null,null,"","","","",""]
[57,"Proizvodnja ili prerada obojenih metala","Neobojeni, sek. aluminij","Metodologija masene bilance",null,"Metoda masene bilance, članak 25.","nije primjenjivo",null,null,null,null,null,null,null,null,"nije primjenjivo","Neobojeni, sek. aluminij: Metodologija masene bilance",null,"OxF_Neobojeni, sek. aluminij: Metodologija masene bilance",null,null,null,null,null,null,true,null,null,null,null,null,null,null,null,null,null,null,"","","","",""]
[58,"Proizvodnja natrij karbonata i natrij-bikarbonata","Natrij karbonat / natrij bikarbonat","Metodologija masene bilance",null,"Metoda masene bilance, članak 25.","nije primjenjivo",null,null,null,null,null,null,null,null,"nije primjenjivo","Natrij karbonat / natrij bikarbonat: Metodologija masene bilance",null,"OxF_Natrij karbonat / natrij bikarbonat: Metodologija masene bilance",null,null,null,null,null,null,true,null,null,null,null,null,null,null,null,null,null,null,"","","","",""]
[59,"Proizvodnja primarnog aluminija","Primarni aluminij","Metodologija masene bilance",null,"Metoda masene bilance, članak 25.","nije primjenjivo",null,null,null,null,null,null,null,null,"nije primjenjivo","Primarni aluminij: Metodologija masene bilance",null,"OxF_Primarni aluminij: Metodologija masene bilance",null,null,null,null,null,null,true,null,null,null,null,null,null,null,null,null,null,null,"","","","",""]
[60,"Proizvodnja primarnog aluminija","Primarni aluminij","Emisije PFC (Metoda nagiba)",null,"Izračun sa specijalnim odredbama za PFC (Prilog IV, poglavlje 8.)","nije primjenjivo",null,null,null,null,null,null,null,null,"nije primjenjivo","Primarni aluminij: Emisije PFC (Metoda nagiba)",null,"OxF_Primarni aluminij: Emisije PFC (Metoda nagiba)",null,null,null,null,null,null,true,null,null,null,null,null,null,null,null,null,null,null,"","","","",""]
[61,{"$f":"B613","v":"Proizvodnja primarnog aluminija"},"Primarni aluminij","Emisije PFC (prenaponska metoda)",null,"Izračun sa specijalnim odredbama za PFC (Prilog IV, poglavlje 8.)","nije primjenjivo",null,null,null,null,null,null,null,null,"nije primjenjivo","Primarni aluminij: Emisije PFC (prenaponska metoda)",null,"OxF_Primarni aluminij: Emisije PFC (prenaponska metoda)",null,null,null,null,null,null,true,null,null,null,null,null,null,null,null,null,null,null,"","","","",""]
[62,"Hvatanje stakleničkih plinova prema Direktivi 2009/31/EC","CCS: Capture","CO2 transferred",null,{"$f":"F614","v":"Metoda masene bilance, članak 25."},"nije primjenjivo",null,null,null,null,null,null,null,null,{"$f":"G686","v":"nije primjenjivo"},{"$f":"C686 & \": \" &D686","v":"CCS: Capture: CO2 transferred"},null,{"$f":"EUconst_CNTR_OxidationFactor&Q686","v":"OxF_CCS: Capture: CO2 transferred"},null,null,null,null,null,null,{"$f":"IF(G686=EUconst_NA,TRUE,FALSE)","v":true}]
[63,"Transport stakleničkih plinova prema Direktivi 2009/31/EC","CCS: Transport","CO2 transferred",null,"Metoda masene bilance, članak 25.","nije primjenjivo",null,null,null,null,null,null,null,null,"nije primjenjivo","CCS: Transport: CO2 transferred",null,"OxF_CCS: Transport: CO2 transferred",null,null,null,null,null,null,true]
[64,"Transport stakleničkih plinova prema Direktivi 2009/31/EC","CCS: Transport","CO2 vented",null,"Standardna metoda: Proces, članak 24. stavak 2.","nije primjenjivo",null,null,null,null,null,null,null,null,"nije primjenjivo","CCS: Transport: CO2 vented",null,"OxF_CCS: Transport: CO2 vented",null,null,null,null,null,null,true]
[65,"Transport stakleničkih plinova prema Direktivi 2009/31/EC","CCS: Transport","CO2 leaked",null,"Standardna metoda: Proces, članak 24. stavak 2.","nije primjenjivo",null,null,null,null,null,null,null,null,"nije primjenjivo","CCS: Transport: CO2 leaked",null,"OxF_CCS: Transport: CO2 leaked",null,null,null,null,null,null,true]
[66,"Transport stakleničkih plinova prema Direktivi 2009/31/EC","CCS: Transport","CO2 fugitive",null,"Standardna metoda: Proces, članak 24. stavak 2.","nije primjenjivo",null,null,null,null,null,null,null,null,"nije primjenjivo","CCS: Transport: CO2 fugitive",null,"OxF_CCS: Transport: CO2 fugitive",null,null,null,null,null,null,true]
[67,"Skladištenje stakleničkih plinova prema Direktivi 2009/31/EC","CCS: Storage","CO2 transferred",null,"Metoda masene bilance, članak 25.","nije primjenjivo",null,null,null,null,null,null,null,null,"nije primjenjivo","CCS: Storage: CO2 transferred",null,"OxF_CCS: Storage: CO2 transferred",null,null,null,null,null,null,true]
[68,"Skladištenje stakleničkih plinova prema Direktivi 2009/31/EC","CCS: Storage","CO2 vented",null,"Standardna metoda: Proces, članak 24. stavak 2.","nije primjenjivo",null,null,null,null,null,null,null,null,"nije primjenjivo","CCS: Storage: CO2 vented",null,"OxF_CCS: Storage: CO2 vented",null,null,null,null,null,null,true]
[69,"Skladištenje stakleničkih plinova prema Direktivi 2009/31/EC","CCS: Storage","CO2 leaked",null,"Standardna metoda: Proces, članak 24. stavak 2.","nije primjenjivo",null,null,null,null,null,null,null,null,"nije primjenjivo","CCS: Storage: CO2 leaked",null,"OxF_CCS: Storage: CO2 leaked",null,null,null,null,null,null,true]
[70,"Skladištenje stakleničkih plinova prema Direktivi 2009/31/EC","CCS: Storage","CO2 fugitive",null,"Standardna metoda: Proces, članak 24. stavak 2.","nije primjenjivo",null,null,null,null,null,null,null,null,"nije primjenjivo","CCS: Storage: CO2 fugitive",null,"OxF_CCS: Storage: CO2 fugitive",null,null,null,null,null,null,true]
[null,null,null,null,null,null,null,null,null,null,null,null,null,null,null,null,null,null,null,null,null,null,null,null,null,{"$f":"IF(G695=EUconst_NA,TRUE,FALSE)","v":false}]
["NEW",{"$f":"Translations!$B$523","v":"Konverzijski faktor"},{"$f":"Translations!$B$957","v":"Skraćeno ime"},{"$f":"Translations!$B$958","v":"Pod-djelatnost"},{"$f":"Translations!$B$389","v":"Analitički parametar"},{"$f":"Translations!$B$959","v":"Tip izvora"},{"$f":"Translations!$B$960","v":"Minimum"},1,2,"2a",{"$f":"Translations!$B$928","v":"2b"},3,"3a","3b",4,{"$f":"Translations!$B$961","v":"Najviši"},null,null,null,null,null,null,null,null,null,{"$f":"Translations!$B$962","v":"označiti sivom bojom?"},null,null,null,null,null,null,null,null,null,null,"1=default value, 2=lab",1,2,"2a",{"$f":"Translations!$B$928","v":"2b"},3]
[1,{"$f":"B625","v":"Izgaranje goriva "},"Izgaranje","Komercijalna standardna goriva",null,{"$f":"F625","v":"Standardna metoda: Gorivo, članak 24. stavak 1.Uredbe"},{"$f":"EUconst_NA","v":"nije primjenjivo"},null,null,null,null,null,null,null,null,{"$f":"G697","v":"nije primjenjivo"},{"$f":"C697 & \": \" &D697","v":"Izgaranje: Komercijalna standardna goriva"},null,{"$f":"EUconst_CNTR_ConversionFactor&Q697","v":"ConvF_Izgaranje: Komercijalna standardna goriva"},null,null,null,null,null,null,{"$f":"IF(G697=EUconst_NA,TRUE,FALSE)","v":true},null,null,null,null,null,null,null,null,null,null,null,"","","","",""]
[2,"Izgaranje goriva ","Izgaranje","Ostala plinovita & tekuća goriva",null,"Standardna metoda: Gorivo, članak 24. stavak 1.Uredbe","nije primjenjivo",null,null,null,null,null,null,null,null,"nije primjenjivo",{"$f":"C698 & \": \" &D698","v":"Izgaranje: Ostala plinovita & tekuća goriva"},null,"ConvF_Izgaranje: Ostala plinovita & tekuća goriva",null,null,null,null,null,null,true,null,null,null,null,null,null,null,null,null,null,null,"","","","",""]
[3,"Izgaranje goriva ","Izgaranje","Kruta goriva isključujući otpad",null,"Standardna metoda: Gorivo, članak 24. stavak 1.Uredbe","nije primjenjivo",null,null,null,null,null,null,null,null,"nije primjenjivo","Izgaranje: Kruta goriva isključujući otpad",null,"ConvF_Izgaranje: Kruta goriva isključujući otpad",null,null,null,null,null,null,true,null,null,null,null,null,null,null,null,null,null,null,"","","","",""]
[4,"Izgaranje goriva ","Izgaranje","Otpad",null,"Standardna metoda: Gorivo, članak 24. stavak 1.Uredbe","nije primjenjivo",null,null,null,null,null,null,null,null,{"$f":"G700","v":"nije primjenjivo"},{"$f":"C700 & \": \" &D700","v":"Izgaranje: Otpad"},null,{"$f":"EUconst_CNTR_ConversionFactor&Q700","v":"ConvF_Izgaranje: Otpad"},null,null,null,null,null,null,{"$f":"IF(G700=EUconst_NA,TRUE,FALSE)","v":true},null,null,null,null,null,null,null,null,null,null,null,"","","","",""]
[5,"Izgaranje goriva ","Izgaranje","Terminali za obradu plina ",null,"Metoda masene bilance, članak 25.","nije primjenjivo",null,null,null,null,null,null,null,null,"nije primjenjivo","Izgaranje: Terminali za obradu plina ",null,"ConvF_Izgaranje: Terminali za obradu plina ",null,null,null,null,null,null,true,null,null,null,null,null,null,null,null,null,null,null,"","","","",""]
[6,"Izgaranje goriva ","Izgaranje","Baklje",null,"Standardna metoda: Gorivo, članak 24. stavak 1.Uredbe","nije primjenjivo",null,null,null,null,null,null,null,null,"nije primjenjivo","Izgaranje: Baklje",null,"ConvF_Izgaranje: Baklje",null,null,null,null,null,null,true,null,null,null,null,null,null,null,null,null,null,null,"","","","",""]
[7,"Izgaranje goriva ","Izgaranje","Čišćenje mokrim postupkom (karbonati)",null,"Standardna metoda: Proces, članak 24. stavak 2.","nije primjenjivo",null,null,null,null,null,null,null,null,"nije primjenjivo","Izgaranje: Čišćenje mokrim postupkom (karbonati)",null,"ConvF_Izgaranje: Čišćenje mokrim postupkom (karbonati)",null,null,null,null,null,null,true,null,null,null,null,null,null,null,null,null,null,null,"","","","",""]
[8,"Izgaranje goriva ","Izgaranje","Čišćenje mokrim postupkom (gips)",null,"Standardna metoda: Proces, članak 24. stavak 2.","nije primjenjivo",null,null,null,null,null,null,null,null,"nije primjenjivo","Izgaranje: Čišćenje mokrim postupkom (gips)",null,"ConvF_Izgaranje: Čišćenje mokrim postupkom (gips)",null,null,null,null,null,null,true,null,null,null,null,null,null,null,null,null,null,null,"","","","",""]
[9,"Izgaranje goriva ","Izgaranje","Čišćenje mokrim postupkom (urea)",null,"Standardna metoda: Proces, članak 24. stavak 2.","nije primjenjivo",null,null,null,null,null,null,null,null,"nije primjenjivo","Izgaranje: Čišćenje mokrim postupkom (urea)",null,"ConvF_Izgaranje: Čišćenje mokrim postupkom (urea)",null,null,null,null,null,null,true,null,null,null,null,null,null,null,null,null,null,null,"","","","",""]
[10,"Rafiniranje mineralnih ulja ","Rafinerije","Bilanca mase",null,"Metoda masene bilance, članak 25.","nije primjenjivo",null,null,null,null,null,null,null,null,{"$f":"G706","v":"nije primjenjivo"},"Rafinerije: Bilanca mase",null,"ConvF_Rafinerije: Bilanca mase",null,null,null,null,null,null,true,null,null,null,null,null,null,null,null,null,null,null,"","","","",""]
[11,"Rafiniranje mineralnog ulja ","Rafinerije","Regeneriranje katalizatora iz procesa krekiranja ",null,"Metoda masene bilance, članak 25.","nije primjenjivo",null,null,null,null,null,null,null,null,{"$f":"G707","v":"nije primjenjivo"},"Rafinerije: Regeneriranje katalizatora iz procesa krekiranja ",null,"ConvF_Rafinerije: Regeneriranje katalizatora iz procesa krekiranja ",null,null,null,null,null,null,true,null,null,null,null,null,null,null,null,null,null,null,"","","","",""]
[12,"Rafiniranje mineralnog ulja ","Rafinerije","Proizvodnja vodika",null,"Metoda masene bilance, članak 25.","nije primjenjivo",null,null,null,null,null,null,null,null,{"$f":"G708","v":"nije primjenjivo"},"Rafinerije: Proizvodnja vodika",null,"ConvF_Rafinerije: Proizvodnja vodika",null,null,null,null,null,null,true,null,null,null,null,null,null,null,null,null,null,null,"","","","",""]
[13,"Proizvodnja koksa","Koks","Gorivo koje se koristi kao ulazni materijal procesa",null,"Standardna metoda: Gorivo, članak 24. stavak 1.Uredbe","nije primjenjivo",null,null,null,null,null,null,null,null,{"$f":"G709","v":"nije primjenjivo"},"Koks: Gorivo koje se koristi kao ulazni materijal procesa",null,"ConvF_Koks: Gorivo koje se koristi kao ulazni materijal procesa",null,null,null,null,null,null,true,null,null,null,null,null,null,null,null,null,null,null,"","","","",""]
[14,"Proizvodnja koksa","Koks","Proces (metoda A): samo karbonat",null,"Standardna metoda: Proces, članak 24. stavak 2.",1,{"$f":"Translations!$B$1127","v":"Zadana vrijednost CF=1"},{"$f":"Translations!$B$527","v":"Laboratorijske analize:"},null,null,null,null,null,null,{"$f":"G710","v":1},"Koks: Proces (metoda A): samo karbonat",null,"ConvF_Koks: Proces (metoda A): samo karbonat",null,null,null,null,null,null,false,null,null,null,null,null,null,null,null,null,null,null,1,2,"","",""]
[15,"Proizvodnja koksa","Koks","Proces (metoda A): miješani (karbonat + nekarbonat)",null,"Standardna metoda: Proces, članak 24. stavak 2.",1,{"$f":"Translations!$B$1127","v":"Zadana vrijednost CF=1"},{"$f":"Translations!$B$527","v":"Laboratorijske analize:"},null,null,null,null,null,null,1,"Koks: Proces (metoda A): miješani (karbonat + nekarbonat)",null,"ConvF_Koks: Proces (metoda A): miješani (karbonat + nekarbonat)",null,null,null,null,null,null,false,null,null,null,null,null,null,null,null,null,null,null,1,2,"","",""]
[16,"Proizvodnja koksa","Koks","Proces (metoda A): nekarbonat",null,"Standardna metoda: Proces, članak 24. stavak 2.",1,{"$f":"Translations!$B$1127","v":"Zadana vrijednost CF=1"},{"$f":"Translations!$B$527","v":"Laboratorijske analize:"},null,null,null,null,null,null,1,"Koks: Proces (metoda A): nekarbonat",null,"ConvF_Koks: Proces (metoda A): nekarbonat",null,null,null,null,null,null,false,null,null,null,null,null,null,null,null,null,null,null,1,2,"","",""]
[17,"Proizvodnja koksa","Koks","Proces (metoda B): izlaz oksida",null,"Standardna metoda: Proces, članak 24. stavak 2.",1,{"$f":"Translations!$B$1127","v":"Zadana vrijednost CF=1"},{"$f":"Translations!$B$527","v":"Laboratorijske analize:"},null,null,null,null,null,null,1,"Koks: Proces (metoda B): izlaz oksida",null,"ConvF_Koks: Proces (metoda B): izlaz oksida",null,null,null,null,null,null,false,null,null,null,null,null,null,null,null,null,null,null,1,2,"","",""]
[18,"Proizvodnja koksa","Koks","Bilanca mase",null,"Metoda masene bilance, članak 25.",{"$f":"EUconst_NA","v":"nije primjenjivo"},null,null,null,null,null,null,null,null,"nije primjenjivo","Koks: Bilanca mase",null,"ConvF_Koks: Bilanca mase",null,null,null,null,null,null,true,null,null,null,null,null,null,null,null,null,null,null,"","","","",""]
[19,"Pečenje i sinteriranje metalnih ruda","Metalne rude","Proces (metoda A): samo karbonat",null,"Standardna metoda: Proces, članak 24. stavak 2.",1,{"$f":"Translations!$B$1127","v":"Zadana vrijednost CF=1"},{"$f":"Translations!$B$527","v":"Laboratorijske analize:"},null,null,null,null,null,null,1,"Metalne rude: Proces (metoda A): samo karbonat",null,"ConvF_Metalne rude: Proces (metoda A): samo karbonat",null,null,null,null,null,null,false,null,null,null,null,null,null,null,null,null,null,null,1,2,"","",""]
[20,"Pečenje i sinteriranje metalnih ruda","Metalne rude","Proces (metoda A): miješani (karbonat + nekarbonat)",null,"Standardna metoda: Proces, članak 24. stavak 2.",1,{"$f":"Translations!$B$1127","v":"Zadana vrijednost CF=1"},{"$f":"Translations!$B$527","v":"Laboratorijske analize:"},null,null,null,null,null,null,1,"Metalne rude: Proces (metoda A): miješani (karbonat + nekarbonat)",null,"ConvF_Metalne rude: Proces (metoda A): miješani (karbonat + nekarbonat)",null,null,null,null,null,null,false,null,null,null,null,null,null,null,null,null,null,null,1,2,"","",""]
[21,{"$f":"B645","v":"Pečenje i sinteriranje metalnih ruda"},"Metalne rude","Proces (metoda A): nekarbonat",null,"Standardna metoda: Proces, članak 24. stavak 2.",1,{"$f":"Translations!$B$1127","v":"Zadana vrijednost CF=1"},{"$f":"Translations!$B$527","v":"Laboratorijske analize:"},null,null,null,null,null,null,1,"Metalne rude: Proces (metoda A): nekarbonat",null,"ConvF_Metalne rude: Proces (metoda A): nekarbonat",null,null,null,null,null,null,false,null,null,null,null,null,null,null,null,null,null,null,1,2,"","",""]
[22,"Pečenje i sinteriranje metalnih ruda","Metalne rude","Proces (metoda B): izlaz oksida",null,"Standardna metoda: Proces, članak 24. stavak 2.",1,{"$f":"Translations!$B$1127","v":"Zadana vrijednost CF=1"},{"$f":"Translations!$B$527","v":"Laboratorijske analize:"},null,null,null,null,null,null,1,"Metalne rude: Proces (metoda B): izlaz oksida",null,"ConvF_Metalne rude: Proces (metoda B): izlaz oksida",null,null,null,null,null,null,false,null,null,null,null,null,null,null,null,null,null,null,1,2,"","",""]
[23,"Pečenje i sinteriranje metalnih ruda","Metalne rude","Bilanca mase",null,"Metoda masene bilance, članak 25.",{"$f":"EUconst_NA","v":"nije primjenjivo"},null,null,null,null,null,null,null,null,"nije primjenjivo","Metalne rude: Bilanca mase",null,"ConvF_Metalne rude: Bilanca mase",null,null,null,null,null,null,true,null,null,null,null,null,null,null,null,null,null,null,"","","","",""]
[24,"Proizvodnja željeza ili čelika","Željezo i čelik","Gorivo koje se koristi kao ulazni materijal procesa",null,"Standardna metoda: Gorivo, članak 24. stavak 1.Uredbe",{"$f":"EUconst_NA","v":"nije primjenjivo"},null,null,null,null,null,null,null,null,"nije primjenjivo","Željezo i čelik: Gorivo koje se koristi kao ulazni materijal procesa",null,"ConvF_Željezo i čelik: Gorivo koje se koristi kao ulazni materijal procesa",null,null,null,null,null,null,true,null,null,null,null,null,null,null,null,null,null,null,"","","","",""]
[25,"Proizvodnja željeza ili čelika","Željezo i čelik","Proces (metoda A): samo karbonat",null,"Standardna metoda: Proces, članak 24. stavak 2.",1,{"$f":"Translations!$B$1127","v":"Zadana vrijednost CF=1"},{"$f":"Translations!$B$527","v":"Laboratorijske analize:"},null,null,null,null,null,null,1,"Željezo i čelik: Proces (metoda A): samo karbonat",null,"ConvF_Željezo i čelik: Proces (metoda A): samo karbonat",null,null,null,null,null,null,false,null,null,null,null,null,null,null,null,null,null,null,1,2,"","",""]
[26,"Proizvodnja željeza ili čelika","Željezo i čelik","Proces (metoda A): miješani (karbonat + nekarbonat)",null,"Standardna metoda: Proces, članak 24. stavak 2.",1,{"$f":"Translations!$B$1127","v":"Zadana vrijednost CF=1"},{"$f":"Translations!$B$527","v":"Laboratorijske analize:"},null,null,null,null,null,null,1,"Željezo i čelik: Proces (metoda A): miješani (karbonat + nekarbonat)",null,"ConvF_Željezo i čelik: Proces (metoda A): miješani (karbonat + nekarbonat)",null,null,null,null,null,null,false,null,null,null,null,null,null,null,null,null,null,null,1,2,"","",""]
[27,"Proizvodnja željeza ili čelika","Željezo i čelik","Proces (metoda A): nekarbonat",null,"Standardna metoda: Proces, članak 24. stavak 2.",1,{"$f":"Translations!$B$1127","v":"Zadana vrijednost CF=1"},{"$f":"Translations!$B$527","v":"Laboratorijske analize:"},null,null,null,null,null,null,1,"Željezo i čelik: Proces (metoda A): nekarbonat",null,"ConvF_Željezo i čelik: Proces (metoda A): nekarbonat",null,null,null,null,null,null,false,null,null,null,null,null,null,null,null,null,null,null,1,2,"","",""]
[28,"Proizvodnja željeza ili čelika","Željezo i čelik","Proces (metoda B): izlaz oksida",null,"Standardna metoda: Proces, članak 24. stavak 2.",1,{"$f":"Translations!$B$1127","v":"Zadana vrijednost CF=1"},{"$f":"Translations!$B$527","v":"Laboratorijske analize:"},null,null,null,null,null,null,1,"Željezo i čelik: Proces (metoda B): izlaz oksida",null,"ConvF_Željezo i čelik: Proces (metoda B): izlaz oksida",null,null,null,null,null,null,false,null,null,null,null,null,null,null,null,null,null,null,1,2,"","",""]
[29,"Proizvodnja željeza ili čelika","Željezo i čelik","Bilanca mase",null,"Metoda masene bilance, članak 25.",{"$f":"EUconst_NA","v":"nije primjenjivo"},null,null,null,null,null,null,null,null,"nije primjenjivo","Željezo i čelik: Bilanca mase",null,"ConvF_Željezo i čelik: Bilanca mase",null,null,null,null,null,null,true,null,null,null,null,null,null,null,null,null,null,null,"","","","",""]
[30,"Proizvodnja cementnog klinkera","Cementni klinker","Na temelju ulaza u peć (Metoda A)",null,"Standardna metoda: Proces, članak 24. stavak 2.",1,{"$f":"Translations!$B$1127","v":"Zadana vrijednost CF=1"},{"$f":"Translations!$B$527","v":"Laboratorijske analize:"},null,null,null,null,null,null,1,"Cementni klinker: Na temelju ulaza u peć (Metoda A)",null,"ConvF_Cementni klinker: Na temelju ulaza u peć (Metoda A)",null,null,null,null,null,null,false,null,null,null,null,null,null,null,null,null,null,null,1,2,"","",""]
[31,"Proizvodnja cementnog klinkera","Cementni klinker","Izlaz klinkera (Metoda B)",null,"Standardna metoda: Proces, članak 24. stavak 2.",1,{"$f":"Translations!$B$1127","v":"Zadana vrijednost CF=1"},{"$f":"Translations!$B$527","v":"Laboratorijske analize:"},null,null,null,null,null,null,1,"Cementni klinker: Izlaz klinkera (Metoda B)",null,"ConvF_Cementni klinker: Izlaz klinkera (Metoda B)",null,null,null,null,null,null,false,null,null,null,null,null,null,null,null,null,null,null,1,2,"","",""]
[32,"Proizvodnja cementnog klinkera","Cementni klinker","CKD",null,"Standardna metoda: Proces, članak 24. stavak 2.",{"$f":"EUconst_NA","v":"nije primjenjivo"},null,null,null,null,null,null,null,null,"nije primjenjivo","Cementni klinker: CKD",null,"ConvF_Cementni klinker: CKD",null,null,null,null,null,null,true,null,null,null,null,null,null,null,null,null,null,null,"","","","",""]
[33,"Proizvodnja cementnog klinkera","Cementni klinker","Ne-karbonatni ugljik",null,{"$f":"F657","v":"Standardna metoda: Proces, članak 24. stavak 2."},1,{"$f":"Translations!$B$1127","v":"Zadana vrijednost CF=1"},{"$f":"Translations!$B$1085","v":"Najbolja praksa"},null,null,null,null,null,null,1,"Cementni klinker: Ne-karbonatni ugljik",null,"ConvF_Cementni klinker: Ne-karbonatni ugljik",null,null,null,null,null,null,false,null,null,null,null,null,null,null,null,null,null,null,1,2,"","",""]
[34,"Proizvodnja vapna ili kalcinacija dolomita/magnezita","Vapno / dolomit / magnezit","Proces (metoda A): samo karbonat",null,"Standardna metoda: Proces, članak 24. stavak 2.",1,{"$f":"Translations!$B$1127","v":"Zadana vrijednost CF=1"},{"$f":"Translations!$B$527","v":"Laboratorijske analize:"},null,null,null,null,null,null,1,"Vapno / dolomit / magnezit: Proces (metoda A): samo karbonat",null,{"$f":"EUconst_CNTR_ConversionFactor&Q730","v":"ConvF_Vapno / dolomit / magnezit: Proces (metoda A): samo karbonat"},null,null,null,null,null,null,false,null,null,null,null,null,null,null,null,null,null,null,1,2,"","",""]
[35,"Proizvodnja vapna ili kalcinacija dolomita/magnezita","Vapno / dolomit / magnezit","Proces (metoda A): miješani (karbonat + nekarbonat)",null,"Standardna metoda: Proces, članak 24. stavak 2.",1,{"$f":"Translations!$B$1127","v":"Zadana vrijednost CF=1"},{"$f":"Translations!$B$527","v":"Laboratorijske analize:"},null,null,null,null,null,null,1,"Vapno / dolomit / magnezit: Proces (metoda A): miješani (karbonat + nekarbonat)",null,"ConvF_Vapno / dolomit / magnezit: Proces (metoda A): miješani (karbonat + nekarbonat)",null,null,null,null,null,null,false,null,null,null,null,null,null,null,null,null,null,null,1,2,"","",""]
[36,"Proizvodnja vapna ili kalcinacija dolomita/magnezita","Vapno / dolomit / magnezit","Proces (metoda A): nekarbonat",null,"Standardna metoda: Proces, članak 24. stavak 2.",1,{"$f":"Translations!$B$1127","v":"Zadana vrijednost CF=1"},{"$f":"Translations!$B$1085","v":"Najbolja praksa"},null,null,null,null,null,null,1,"Vapno / dolomit / magnezit: Proces (metoda A): nekarbonat",null,"ConvF_Vapno / dolomit / magnezit: Proces (metoda A): nekarbonat",null,null,null,null,null,null,false,null,null,null,null,null,null,null,null,null,null,null,1,2,"","",""]
[37,"Proizvodnja vapna ili kalcinacija dolomita/magnezita","Vapno / dolomit / magnezit","Proces (metoda B): izlaz oksida",null,"Standardna metoda: Proces, članak 24. stavak 2.",1,{"$f":"Translations!$B$1127","v":"Zadana vrijednost CF=1"},{"$f":"Translations!$B$527","v":"Laboratorijske analize:"},null,null,null,null,null,null,1,"Vapno / dolomit / magnezit: Proces (metoda B): izlaz oksida",null,"ConvF_Vapno / dolomit / magnezit: Proces (metoda B): izlaz oksida",null,null,null,null,null,null,false,null,null,null,null,null,null,null,null,null,null,null,1,2,"","",""]
[38,"Proizvodnja vapna ili kalcinacija dolomita/magnezita","Vapno / dolomit / magnezit","Prašina iz peći (Metoda B)",null,"Standardna metoda: Proces, članak 24. stavak 2.",1,{"$f":"Translations!$B$1127","v":"Zadana vrijednost CF=1"},{"$f":"Translations!$B$527","v":"Laboratorijske analize:"},null,null,null,null,null,null,1,"Vapno / dolomit / magnezit: Prašina iz peći (Metoda B)",null,"ConvF_Vapno / dolomit / magnezit: Prašina iz peći (Metoda B)",null,null,null,null,null,null,false,null,null,null,null,null,null,null,null,null,null,null,1,2,"","",""]
[39,"Proizvodnja stakla","Staklo i mineralna vuna","Proces (metoda A): samo karbonat",null,"Standardna metoda: Proces, članak 24. stavak 2.",{"$f":"EUconst_NA","v":"nije primjenjivo"},null,null,null,null,null,null,null,null,"nije primjenjivo","Staklo i mineralna vuna: Proces (metoda A): samo karbonat",null,"ConvF_Staklo i mineralna vuna: Proces (metoda A): samo karbonat",null,null,null,null,null,null,true,null,null,null,null,null,null,null,null,null,null,null,"","","","",""]
[40,"Proizvodnja stakla","Staklo i mineralna vuna","Proces (metoda A): miješani (karbonat + nekarbonat)",null,"Standardna metoda: Proces, članak 24. stavak 2.",{"$f":"EUconst_NA","v":"nije primjenjivo"},null,null,null,null,null,null,null,null,"nije primjenjivo","Staklo i mineralna vuna: Proces (metoda A): miješani (karbonat + nekarbonat)",null,"ConvF_Staklo i mineralna vuna: Proces (metoda A): miješani (karbonat + nekarbonat)",null,null,null,null,null,null,true,null,null,null,null,null,null,null,null,null,null,null,"","","","",""]
[41,{"$f":"B665","v":"Proizvodnja stakla"},"Staklo i mineralna vuna","Proces (metoda A): nekarbonat",null,"Standardna metoda: Proces, članak 24. stavak 2.",{"$f":"EUconst_NA","v":"nije primjenjivo"},null,null,null,null,null,null,null,null,"nije primjenjivo","Staklo i mineralna vuna: Proces (metoda A): nekarbonat",null,"ConvF_Staklo i mineralna vuna: Proces (metoda A): nekarbonat",null,null,null,null,null,null,true,null,null,null,null,null,null,null,null,null,null,null,"","","","",""]
[42,"Proizvodnja keramike","Keramika","Proces (metoda A): samo karbonat",null,"Standardna metoda: Proces, članak 24. stavak 2.",1,{"$f":"Translations!$B$1127","v":"Zadana vrijednost CF=1"},{"$f":"Translations!$B$527","v":"Laboratorijske analize:"},null,null,null,null,null,null,1,"Keramika: Proces (metoda A): samo karbonat",null,"ConvF_Keramika: Proces (metoda A): samo karbonat",null,null,null,null,null,null,false,null,null,null,null,null,null,null,null,null,null,null,1,2,"","",""]
[43,"Proizvodnja keramike","Keramika","Proces (metoda A): miješani (karbonat + nekarbonat)",null,"Standardna metoda: Proces, članak 24. stavak 2.",1,{"$f":"Translations!$B$1127","v":"Zadana vrijednost CF=1"},{"$f":"Translations!$B$527","v":"Laboratorijske analize:"},null,null,null,null,null,null,1,"Keramika: Proces (metoda A): miješani (karbonat + nekarbonat)",null,"ConvF_Keramika: Proces (metoda A): miješani (karbonat + nekarbonat)",null,null,null,null,null,null,false,null,null,null,null,null,null,null,null,null,null,null,1,2,"","",""]
[44,"Proizvodnja keramike","Keramika","Proces (metoda A): nekarbonat",null,"Standardna metoda: Proces, članak 24. stavak 2.",1,{"$f":"Translations!$B$1127","v":"Zadana vrijednost CF=1"},{"$f":"Translations!$B$527","v":"Laboratorijske analize:"},null,null,null,null,null,null,1,"Keramika: Proces (metoda A): nekarbonat",null,"ConvF_Keramika: Proces (metoda A): nekarbonat",null,null,null,null,null,null,false,null,null,null,null,null,null,null,null,null,null,null,1,2,"","",""]
[45,"Proizvodnja keramike","Keramika","Proces (metoda B): izlaz oksida",null,"Standardna metoda: Proces, članak 24. stavak 2.",1,{"$f":"Translations!$B$1127","v":"Zadana vrijednost CF=1"},{"$f":"Translations!$B$527","v":"Laboratorijske analize:"},null,null,null,null,null,null,1,"Keramika: Proces (metoda B): izlaz oksida",null,"ConvF_Keramika: Proces (metoda B): izlaz oksida",null,null,null,null,null,null,false,null,null,null,null,null,null,null,null,null,null,null,1,2,"","",""]
[46,"Proizvodnja keramike","Keramika","Čišćenje mokrim postupkom",null,"Standardna metoda: Proces, članak 24. stavak 2.",{"$f":"EUconst_NA","v":"nije primjenjivo"},null,null,null,null,null,null,null,null,"nije primjenjivo","Keramika: Čišćenje mokrim postupkom",null,"ConvF_Keramika: Čišćenje mokrim postupkom",null,null,null,null,null,null,true,null,null,null,null,null,null,null,null,null,null,null,"","","","",""]
[47,"Proizvodnja celuloze","Celuloza i papir","Dodatne kemikalije",null,"Standardna metoda: Proces, članak 24. stavak 2.","nije primjenjivo",null,null,null,null,null,null,null,null,"nije primjenjivo","Celuloza i papir: Dodatne kemikalije",null,"ConvF_Celuloza i papir: Dodatne kemikalije",null,null,null,null,null,null,true,null,null,null,null,null,null,null,null,null,null,null,"","","","",""]
[48,"Proizvodnja čađe ","Čađa","Metodologija masene bilance",null,"Metoda masene bilance, članak 25.","nije primjenjivo",null,null,null,null,null,null,null,null,"nije primjenjivo","Čađa: Metodologija masene bilance",null,"ConvF_Čađa: Metodologija masene bilance",null,null,null,null,null,null,true,null,null,null,null,null,null,null,null,null,null,null,"","","","",""]
[49,"Proizvodnja amonijaka","Amonijak","Gorivo koje se koristi kao ulazni materijal procesa",null,"Standardna metoda: Gorivo, članak 24. stavak 1.Uredbe","nije primjenjivo",null,null,null,null,null,null,null,null,"nije primjenjivo","Amonijak: Gorivo koje se koristi kao ulazni materijal procesa",null,"ConvF_Amonijak: Gorivo koje se koristi kao ulazni materijal procesa",null,null,null,null,null,null,true,null,null,null,null,null,null,null,null,null,null,null,"","","","",""]
[50,"Proizvodnja vodika i sintetskog plina","Vodik i sintetski plin","Gorivo koje se koristi kao ulazni materijal procesa",null,"Standardna metoda: Gorivo, članak 24. stavak 1.Uredbe","nije primjenjivo",null,null,null,null,null,null,null,null,"nije primjenjivo","Vodik i sintetski plin: Gorivo koje se koristi kao ulazni materijal procesa",null,"ConvF_Vodik i sintetski plin: Gorivo koje se koristi kao ulazni materijal procesa",null,null,null,null,null,null,true,null,null,null,null,null,null,null,null,null,null,null,"","","","",""]
[51,"Proizvodnja vodika i sintetskog plina","Vodik i sintetski plin","Metodologija masene bilance",null,"Metoda masene bilance, članak 25.","nije primjenjivo",null,null,null,null,null,null,null,null,"nije primjenjivo","Vodik i sintetski plin: Metodologija masene bilance",null,"ConvF_Vodik i sintetski plin: Metodologija masene bilance",null,null,null,null,null,null,true,null,null,null,null,null,null,null,null,null,null,null,"","","","",""]
[52,"Proizvodnja kemikalija na veliko ","Organske kemikalije na veliko","Metodologija masene bilance",null,"Metoda masene bilance, članak 25.","nije primjenjivo",null,null,null,null,null,null,null,null,"nije primjenjivo","Organske kemikalije na veliko: Metodologija masene bilance",null,"ConvF_Organske kemikalije na veliko: Metodologija masene bilance",null,null,null,null,null,null,true,null,null,null,null,null,null,null,null,null,null,null,"","","","",""]
[53,"Proizvodnja ili prerada obojenih metala","Neobojeni, sek. aluminij","Proces (metoda A): samo karbonat",null,"Standardna metoda: Proces, članak 24. stavak 2.",1,{"$f":"Translations!$B$1127","v":"Zadana vrijednost CF=1"},{"$f":"Translations!$B$527","v":"Laboratorijske analize:"},null,null,null,null,null,null,1,"Neobojeni, sek. aluminij: Proces (metoda A): samo karbonat",null,"ConvF_Neobojeni, sek. aluminij: Proces (metoda A): samo karbonat",null,null,null,null,null,null,false,null,null,null,null,null,null,null,null,null,null,null,1,2,"","",""]
[54,"Proizvodnja ili prerada obojenih metala","Neobojeni, sek. aluminij","Proces (metoda A): miješani (karbonat + nekarbonat)",null,"Standardna metoda: Proces, članak 24. stavak 2.",1,{"$f":"Translations!$B$1127","v":"Zadana vrijednost CF=1"},{"$f":"Translations!$B$527","v":"Laboratorijske analize:"},null,null,null,null,null,null,1,"Neobojeni, sek. aluminij: Proces (metoda A): miješani (karbonat + nekarbonat)",null,"ConvF_Neobojeni, sek. aluminij: Proces (metoda A): miješani (karbonat + nekarbonat)",null,null,null,null,null,null,false,null,null,null,null,null,null,null,null,null,null,null,1,2,"","",""]
[55,"Proizvodnja ili prerada obojenih metala","Neobojeni, sek. aluminij","Proces (metoda A): nekarbonat",null,"Standardna metoda: Proces, članak 24. stavak 2.",1,{"$f":"Translations!$B$1127","v":"Zadana vrijednost CF=1"},{"$f":"Translations!$B$527","v":"Laboratorijske analize:"},null,null,null,null,null,null,1,"Neobojeni, sek. aluminij: Proces (metoda A): nekarbonat",null,"ConvF_Neobojeni, sek. aluminij: Proces (metoda A): nekarbonat",null,null,null,null,null,null,false,null,null,null,null,null,null,null,null,null,null,null,1,2,"","",""]
[56,"Proizvodnja ili prerada obojenih metala","Neobojeni, sek. aluminij","Proces (metoda B): izlaz oksida",null,"Standardna metoda: Proces, članak 24. stavak 2.",1,{"$f":"Translations!$B$1127","v":"Zadana vrijednost CF=1"},{"$f":"Translations!$B$527","v":"Laboratorijske analize:"},null,null,null,null,null,null,1,"Neobojeni, sek. aluminij: Proces (metoda B): izlaz oksida",null,"ConvF_Neobojeni, sek. aluminij: Proces (metoda B): izlaz oksida",null,null,null,null,null,null,false,null,null,null,null,null,null,null,null,null,null,null,1,2,"","",""]
[57,"Proizvodnja ili prerada obojenih metala","Neobojeni, sek. aluminij","Metodologija masene bilance",null,"Metoda masene bilance, članak 25.",{"$f":"EUconst_NA","v":"nije primjenjivo"},null,null,null,null,null,null,null,null,{"$f":"G753","v":"nije primjenjivo"},"Neobojeni, sek. aluminij: Metodologija masene bilance",null,"ConvF_Neobojeni, sek. aluminij: Metodologija masene bilance",null,null,null,null,null,null,true,null,null,null,null,null,null,null,null,null,null,null,"","","","",""]
[58,"Proizvodnja natrij karbonata i natrij-bikarbonata","Natrij karbonat / natrij bikarbonat","Metodologija masene bilance",null,"Metoda masene bilance, članak 25.","nije primjenjivo",null,null,null,null,null,null,null,null,{"$f":"G754","v":"nije primjenjivo"},"Natrij karbonat / natrij bikarbonat: Metodologija masene bilance",null,"ConvF_Natrij karbonat / natrij bikarbonat: Metodologija masene bilance",null,null,null,null,null,null,true,null,null,null,null,null,null,null,null,null,null,null,"","","","",""]
[59,"Proizvodnja primarnog aluminija","Primarni aluminij","Metodologija masene bilance",null,"Metoda masene bilance, članak 25.","nije primjenjivo",null,null,null,null,null,null,null,null,{"$f":"G755","v":"nije primjenjivo"},"Primarni aluminij: Metodologija masene bilance",null,"ConvF_Primarni aluminij: Metodologija masene bilance",null,null,null,null,null,null,{"$f":"IF(G755=EUconst_NA,TRUE,FALSE)","v":true},null,null,null,null,null,null,null,null,null,null,null,"","","","",""]
[60,"Proizvodnja primarnog aluminija","Primarni aluminij","Emisije PFC (Metoda nagiba)",null,"Izračun sa specijalnim odredbama za PFC (Prilog IV, poglavlje 8.)","nije primjenjivo",null,null,null,null,null,null,null,null,{"$f":"G756","v":"nije primjenjivo"},"Primarni aluminij: Emisije PFC (Metoda nagiba)",null,"ConvF_Primarni aluminij: Emisije PFC (Metoda nagiba)",null,null,null,null,null,null,true,null,null,null,null,null,null,null,null,null,null,null,"","","","",""]
[61,{"$f":"B685","v":"Proizvodnja primarnog aluminija"},"Primarni aluminij","Emisije PFC (prenaponska metoda)",null,"Izračun sa specijalnim odredbama za PFC (Prilog IV, poglavlje 8.)","nije primjenjivo",null,null,null,null,null,null,null,null,{"$f":"G757","v":"nije primjenjivo"},"Primarni aluminij: Emisije PFC (prenaponska metoda)",null,"ConvF_Primarni aluminij: Emisije PFC (prenaponska metoda)",null,null,null,null,null,null,true,null,null,null,null,null,null,null,null,null,null,null,"","","","",""]
[62,"Hvatanje stakleničkih plinova prema Direktivi 2009/31/EC","CCS: Capture","CO2 transferred",null,{"$f":"F686","v":"Metoda masene bilance, članak 25."},"nije primjenjivo",null,null,null,null,null,null,null,null,{"$f":"G758","v":"nije primjenjivo"},{"$f":"C758 & \": \" &D758","v":"CCS: Capture: CO2 transferred"},null,{"$f":"EUconst_CNTR_ConversionFactor&Q758","v":"ConvF_CCS: Capture: CO2 transferred"},null,null,null,null,null,null,{"$f":"IF(G758=EUconst_NA,TRUE,FALSE)","v":true}]
[63,"Transport stakleničkih plinova prema Direktivi 2009/31/EC","CCS: Transport","CO2 transferred",null,"Metoda masene bilance, članak 25.","nije primjenjivo",null,null,null,null,null,null,null,null,"nije primjenjivo","CCS: Transport: CO2 transferred",null,"ConvF_CCS: Transport: CO2 transferred",null,null,null,null,null,null,true]
[64,"Transport stakleničkih plinova prema Direktivi 2009/31/EC","CCS: Transport","CO2 vented",null,"Standardna metoda: Proces, članak 24. stavak 2.","nije primjenjivo",null,null,null,null,null,null,null,null,"nije primjenjivo","CCS: Transport: CO2 vented",null,"ConvF_CCS: Transport: CO2 vented",null,null,null,null,null,null,true]
[65,"Transport stakleničkih plinova prema Direktivi 2009/31/EC","CCS: Transport","CO2 leaked",null,"Standardna metoda: Proces, članak 24. stavak 2.","nije primjenjivo",null,null,null,null,null,null,null,null,"nije primjenjivo","CCS: Transport: CO2 leaked",null,"ConvF_CCS: Transport: CO2 leaked",null,null,null,null,null,null,true]
[66,"Transport stakleničkih plinova prema Direktivi 2009/31/EC","CCS: Transport","CO2 fugitive",null,"Standardna metoda: Proces, članak 24. stavak 2.","nije primjenjivo",null,null,null,null,null,null,null,null,"nije primjenjivo","CCS: Transport: CO2 fugitive",null,"ConvF_CCS: Transport: CO2 fugitive",null,null,null,null,null,null,true]
[67,"Skladištenje stakleničkih plinova prema Direktivi 2009/31/EC","CCS: Storage","CO2 transferred",null,"Metoda masene bilance, članak 25.","nije primjenjivo",null,null,null,null,null,null,null,null,"nije primjenjivo","CCS: Storage: CO2 transferred",null,"ConvF_CCS: Storage: CO2 transferred",null,null,null,null,null,null,true]
[68,"Skladištenje stakleničkih plinova prema Direktivi 2009/31/EC","CCS: Storage","CO2 vented",null,"Standardna metoda: Proces, članak 24. stavak 2.","nije primjenjivo",null,null,null,null,null,null,null,null,"nije primjenjivo","CCS: Storage: CO2 vented",null,"ConvF_CCS: Storage: CO2 vented",null,null,null,null,null,null,true]
[69,"Skladištenje stakleničkih plinova prema Direktivi 2009/31/EC","CCS: Storage","CO2 leaked",null,"Standardna metoda: Proces, članak 24. stavak 2.","nije primjenjivo",null,null,null,null,null,null,null,null,"nije primjenjivo","CCS: Storage: CO2 leaked",null,"ConvF_CCS: Storage: CO2 leaked",null,null,null,null,null,null,true]
[70,"Skladištenje stakleničkih plinova prema Direktivi 2009/31/EC","CCS: Storage","CO2 fugitive",null,"Standardna metoda: Proces, članak 24. stavak 2.","nije primjenjivo",null,null,null,null,null,null,null,null,"nije primjenjivo","CCS: Storage: CO2 fugitive",null,"ConvF_CCS: Storage: CO2 fugitive",null,null,null,null,null,null,true]
[null,null,null,null,null,null,null,null,null,null,null,null,null,null,null,null,null,null,null,null,null,null,null,null,null,{"$f":"IF(G767=EUconst_NA,TRUE,FALSE)","v":false}]
["CCU ",null,{"$f":"Translations!$B$957","v":"Skraćeno ime"},{"$f":"Translations!$B$958","v":"Pod-djelatnost"},{"$f":"Translations!$B$389","v":"Analitički parametar"},{"$f":"Translations!$B$959","v":"Tip izvora"},{"$f":"Translations!$B$960","v":"Minimum"},1,2,"2a",{"$f":"Translations!$B$928","v":"2b"},3,"3a","3b",4,{"$f":"Translations!$B$961","v":"Najviši"},null,null,null,null,null,null,null,null,null,{"$f":"Translations!$B$962","v":"označiti sivom bojom?"},null,null,null,null,null,null,null,null,null,null,"1=default value, 2=lab",1,2,"2a",{"$f":"Translations!$B$928","v":"2b"},3,"3a","3b"]
[null,null,"CCU","Process inputs & outputs",{"$f":"Translations!$B$974","v":"Pojedinačni ulazni i izlazni materijal [t]"},{"$f":"EUconst_MassBalance","v":"Metoda masene bilance, članak 25."},4,{"$f":"Translations!$B$966","v":"± 7,5%"},{"$f":"Translations!$B$967","v":"± 5,0%"},null,null,{"$f":"Translations!$B$968","v":"± 2,5%"},null,null,{"$f":"Translations!$B$969","v":"± 1,5%"},4,{"$f":"C769 & \": \" &D769","v":"CCU: Process inputs & outputs"},null,{"$f":"EUconst_CNTR_ActivityData&Q769","v":"ActivityData_CCU: Process inputs & outputs"},null,null,null,null,null,null,null,null,null,null,null,null,null,null,null,null,null,null,"","","","","","",""]
[null,null,{"$f":"C769","v":"CCU"},"Process inputs & outputs",null,"Metoda masene bilance, članak 25.",{"$f":"EUconst_NA","v":"nije primjenjivo"},null,null,null,null,null,null,null,null,{"$f":"G770","v":"nije primjenjivo"},{"$f":"C770 & \": \" &D770","v":"CCU: Process inputs & outputs"},null,{"$f":"EUconst_CNTR_EF&Q770","v":"EF_CCU: Process inputs & outputs"},null,null,null,null,null,null,null,null,null,null,null,null,null,null,null,null,null,null,"","","","","","",""]
[null,null,"CCU","Process inputs & outputs",null,"Metoda masene bilance, članak 25.",3,{"$f":"Translations!$B$493","v":"Zadane vrijednosti I:"},null,{"$f":"Translations!$B$528","v":"Zadane vrijednosti II:"},{"$f":"Translations!$B$1109","v":"Fakture (ukoliko je primjenjivo)"},{"$f":"Translations!$B$527","v":"Laboratorijske analize:"},null,null,null,{"$f":"IF(G771=EUconst_NA,EUconst_NA,IF(ISBLANK(J771),COUNTA(H771:O771),COUNTA(H771,J771,L771)))","v":3},"CCU: Process inputs & outputs",null,{"$f":"EUconst_CNTR_NCV&Q771","v":"NCV_CCU: Process inputs & outputs"},null,null,null,null,null,null,null,null,null,null,null,null,null,null,null,null,null,null,1,1,1,2,2]
[null,null,"CCU","Process inputs & outputs",null,"Metoda masene bilance, članak 25.",3,{"$f":"Translations!$B$493","v":"Zadane vrijednosti I:"},null,{"$f":"Translations!$B$528","v":"Zadane vrijednosti II:"},{"$f":"Translations!$B$1061","v":"Utemeljeni posredni faktori (ako je promijenjivo)"},{"$f":"Translations!$B$527","v":"Laboratorijske analize:"},null,null,null,{"$f":"IF(G772=EUconst_NA,EUconst_NA,IF(ISBLANK(J772),COUNTA(H772:O772),COUNTA(H772,J772,L772)))","v":3},"CCU: Process inputs & outputs",null,{"$f":"EUconst_CNTR_CarbonContent&Q772","v":"CarbC_CCU: Process inputs & outputs"},null,null,null,null,null,null,null,null,null,null,null,null,null,null,null,null,null,null,1,1,1,2,2]
[null,null,"CCU","Process inputs & outputs",null,"Metoda masene bilance, članak 25.",3,{"$f":"Translations!$B$505","v":"Udio biomase I:"},{"$f":"Translations!$B$510","v":"Udio biomase II:"},null,null,null,{"$f":"Translations!$B$1266","v":"Analiza udjela biomase"},"Mass balance, e.g. in accordance with Article 30(1) of RED II",null,3,"CCU: Process inputs & outputs",null,{"$f":"EUconst_CNTR_BiomassContent&Q773","v":"BioC_CCU: Process inputs & outputs"},null,null,null,null,null,null,null,null,null,null,null,null,null,null,null,null,null,null,1,"","","","",2,3]
[null,null,"CCU","Process inputs & outputs",null,"Metoda masene bilance, članak 25.",{"$f":"EUconst_NA","v":"nije primjenjivo"},null,null,null,null,null,null,null,null,{"$f":"G774","v":"nije primjenjivo"},"CCU: Process inputs & outputs",null,{"$f":"EUconst_CNTR_OxidationFactor&Q774","v":"OxF_CCU: Process inputs & outputs"},null,null,null,null,null,null,null,null,null,null,null,null,null,null,null,null,null,null,"","","","","","",""]
[null,null,"CCU","Process inputs & outputs",null,"Metoda masene bilance, članak 25.",{"$f":"EUconst_NA","v":"nije primjenjivo"},null,null,null,null,null,null,null,null,{"$f":"G775","v":"nije primjenjivo"},"CCU: Process inputs & outputs",null,{"$f":"EUconst_CNTR_ConversionFactor&Q775","v":"ConvF_CCU: Process inputs & outputs"},null,null,null,null,null,null,null,null,null,null,null,null,null,null,null,null,null,null,"","","","","","",""]
[null,null,null,null,null,null,null,null,null,null,null,null,null,null,null,null,null,null,null,null,null,null,null,null,null,null,null,null,null,null,null,null,null,null,null,null,null,"","","","","","",""]
[null,{"$f":"Translations!$B$1131","v":"Mjerenje"},null,null,null,null,{"$f":"Translations!$B$960","v":"Minimum"},1,2,"2a",{"$f":"Translations!$B$928","v":"2b"},3,"3a","3b",4,{"$f":"Translations!$B$961","v":"Najviši"}]
[null,{"$f":"B51","v":"CO2"},null,null,null,null,2,{"$f":"Translations!$B$1132","v":"± 10,0%"},{"$f":"Translations!$B$966","v":"± 7,5%"},null,null,{"$f":"Translations!$B$967","v":"± 5,0%"},null,null,{"$f":"Translations!$B$968","v":"± 2,5%"},{"$f":"IF(G778=EUconst_NA,EUconst_NA,IF(ISBLANK(J778),COUNTA(H778:O778),COUNTA(H778,J778,L778)))","v":4}]
[null,{"$f":"C51","v":"N2O"},null,null,null,null,2,{"$f":"Translations!$B$1132","v":"± 10,0%"},{"$f":"Translations!$B$966","v":"± 7,5%"},null,null,{"$f":"Translations!$B$967","v":"± 5,0%"},null,null,{"$f":"EUconst_NA","v":"nije primjenjivo"},3]
[null,{"$f":"D51","v":"prijenos CO2 "},null,null,null,null,2,{"$f":"Translations!$B$1132","v":"± 10,0%"},{"$f":"Translations!$B$966","v":"± 7,5%"},null,null,{"$f":"Translations!$B$967","v":"± 5,0%"},null,null,{"$f":"Translations!$B$968","v":"± 2,5%"},{"$f":"IF(G780=EUconst_NA,EUconst_NA,IF(ISBLANK(J780),COUNTA(H780:O780),COUNTA(H780,J780,L780)))","v":4}]
[null,{"$f":"Translations!$B$1241","v":"Prijenos N2O"},null,null,null,null,2,{"$f":"Translations!$B$1132","v":"± 10,0%"},{"$f":"Translations!$B$966","v":"± 7,5%"},null,null,{"$f":"Translations!$B$967","v":"± 5,0%"},null,null,{"$f":"EUconst_NA","v":"nije primjenjivo"},3]
[]
[]
[]
[]
[]
[]
[]
[]
[]
[]
[null,{"$f":"Translations!$B$1267","v":"Konverzija razine"},null,{"$f":"Translations!$B$1133","v":"Razine točnosti"}]
[null,null,1,1]
[null,null,2,2]
[null,null,3,"2a"]
[null,null,4,{"$f":"Translations!$B$928","v":"2b"}]
[null,null,5,3]
[null,null,6,"3a"]
[null,null,7,"3b"]
[null,null,8,4]
[{"$f":"Translations!$B$1134","v":"Izračun - primjenjive razine točnosti"}]
[null,{"$f":"Translations!$B$1135","v":"Mali onečišćivač"},{"$f":"Translations!$B$1136","v":"Kategorija"},{"$f":"Translations!$B$1137","v":"kategorija toka izvora"},null,{"$f":"Translations!$B$1138","v":"Poruka"}]
[null,{"$f":"EUconst_CNTR_SmallEmitter","v":"SmallEmitter_"},"A",1,{"$f":"B803 & C803 & \"_\" & D803","v":"SmallEmitter_A_1"},{"$f":"Translations!$B$1139","v":"Čl. 47. stavak 6. Uredbe Postrojenje s niskim emisijama (mali onečišćivač): za sve tokove izvora može koristiti razinu točnosti 1 kao minimum za podatke o djelatnostima i faktore izračuna, osim ako je veća preciznost ostvariva bez dodatnog napora za operatera, bez pružanja dokaza da primjena viših razina točnosti tehnički nije izvediva ili bi izazvala neopravdane troškove."}]
[null,{"$f":"EUconst_CNTR_SmallEmitter","v":"SmallEmitter_"},"A",2,{"$f":"B804 & C804 & \"_\" & D804","v":"SmallEmitter_A_2"},{"$f":"Translations!$B$1139","v":"Čl. 47. stavak 6. Uredbe Postrojenje s niskim emisijama (mali onečišćivač): za sve tokove izvora može koristiti razinu točnosti 1 kao minimum za podatke o djelatnostima i faktore izračuna, osim ako je veća preciznost ostvariva bez dodatnog napora za operatera, bez pružanja dokaza da primjena viših razina točnosti tehnički nije izvediva ili bi izazvala neopravdane troškove."}]
[null,{"$f":"EUconst_CNTR_SmallEmitter","v":"SmallEmitter_"},"A",3,"SmallEmitter_A_3",{"$f":"Translations!$B$1142","v":"Čl. 26. stavak 3. Uredbe: De-minimis tok izvora: Podaci o djelatnostima i svaki faktor izračuna mogu se odrediti korištenjem konzervativnih procjena umjesto korištenjem razina točnosti, osim ako je definiranu razinu točnosti moguće postići bez dodatnih napora."}]
[null,{"$f":"EUconst_CNTR_NoSmallEmitter","v":"NoSmallEmitter_"},"A",1,"NoSmallEmitter_A_1",{"$f":"Translations!$B$1140","v":"Čl. 26. stavak 1. Uredbe: Potrebno je primjeniti minimalne razine prikazane u nastavku.\nMeđutim, možete primjeniti i do dvije razine ispod tražene, ali minimalno razinu točnosti 1, ako dokažete nadležnom tijelu, da razina točnosti koja je tražena u skladu s prvim podstavkom, tehnički nije izvediva ili dovodi do neopravdano visokih troškova."}]
[null,"NoSmallEmitter_","A",2,"NoSmallEmitter_A_2",{"$f":"Translations!$B$1141","v":"Čl. 26. stavak 2. Uredbe: Manji tok izvora: Za podatke o djelatnostima i svaki faktor izračuna, primjenjuje se najviša razina točnosti koja je tehnički izvediva i ne izazva neopravdano visoke troškove, a minimalno razina točnosti 1."}]
[null,"NoSmallEmitter_","A",3,"NoSmallEmitter_A_3",{"$f":"Translations!$B$1142","v":"Čl. 26. stavak 3. Uredbe: De-minimis tok izvora: Podaci o djelatnostima i svaki faktor izračuna mogu se odrediti korištenjem konzervativnih procjena umjesto korištenjem razina točnosti, osim ako je definiranu razinu točnosti moguće postići bez dodatnih napora."}]
[null,"NoSmallEmitter_","B",1,"NoSmallEmitter_B_1",{"$f":"Translations!$B$453","v":"\n\"Članak 26. stavak 1. Uredbe: Primjenit će se barem minimalne razine točnosti prikazane u nastavku​​.\nMeđutim, može se koristiti do dvije razine nižu razinu točnosti, ali minimalno razinu točnosti 1. Tada je potrebno dokazati nadležnom tijelu da je zahtjevana razina točnosti tehnički neizvediva ili stvara neopravdano visoke troškove. \"\n\n\n\n\n"}]
[null,"NoSmallEmitter_","B",2,"NoSmallEmitter_B_2",{"$f":"Translations!$B$1141","v":"Čl. 26. stavak 2. Uredbe: Manji tok izvora: Za podatke o djelatnostima i svaki faktor izračuna, primjenjuje se najviša razina točnosti koja je tehnički izvediva i ne izazva neopravdano visoke troškove, a minimalno razina točnosti 1."}]
[null,"NoSmallEmitter_","B",3,"NoSmallEmitter_B_3",{"$f":"Translations!$B$1142","v":"Čl. 26. stavak 3. Uredbe: De-minimis tok izvora: Podaci o djelatnostima i svaki faktor izračuna mogu se odrediti korištenjem konzervativnih procjena umjesto korištenjem razina točnosti, osim ako je definiranu razinu točnosti moguće postići bez dodatnih napora."}]
[null,"NoSmallEmitter_","C",1,"NoSmallEmitter_C_1",{"$f":"Translations!$B$1143","v":"Čl. 26. stavak 1. Uredbe: Potrebno je primjeniti minimalne razine točnosti prikazane u nastavku. \nMeđutim, možete primjeniti jednu razinu točnosti niže, ali minimalno razinu točnosti 1, ako dokažete nadležnom tijelu da razina točnosti koja je tražena u skladu s prvim podstavkom nije tehnički izvediva ili dovodi do neopravdano visokih troškova."}]
[null,"NoSmallEmitter_","C",2,"NoSmallEmitter_C_2",{"$f":"Translations!$B$1141","v":"Čl. 26. stavak 2. Uredbe: Manji tok izvora: Za podatke o djelatnostima i svaki faktor izračuna, primjenjuje se najviša razina točnosti koja je tehnički izvediva i ne izazva neopravdano visoke troškove, a minimalno razina točnosti 1."}]
[null,"NoSmallEmitter_","C",3,"NoSmallEmitter_C_3",{"$f":"Translations!$B$1142","v":"Čl. 26. stavak 3. Uredbe: De-minimis tok izvora: Podaci o djelatnostima i svaki faktor izračuna mogu se odrediti korištenjem konzervativnih procjena umjesto korištenjem razina točnosti, osim ako je definiranu razinu točnosti moguće postići bez dodatnih napora."}]
[{"$f":"Translations!$B$1144","v":"Mjerenje - primjenjive razine"}]
[null,null,null,{"$f":"Translations!$B$1145","v":"Kategorija izvora emisije"},null,{"$f":"Translations!$B$1138","v":"Poruka"}]
[null,{"$f":"EUconst_CNTR_SmallEmitter","v":"SmallEmitter_"},null,1,{"$f":"B817 & \"_\" & D817","v":"SmallEmitter__1"},{"$f":"Translations!$B$1268","v":"Postrojenje s niskim emisijama / glavni izvor emisija: možete primijeniti razinu 1, osim ako se može postići veća točnost bez dodatnog opterećenja operatera."}]
[null,{"$f":"EUconst_CNTR_SmallEmitter","v":"SmallEmitter_"},null,2,{"$f":"B818 & \"_\" & D818","v":"SmallEmitter__2"},{"$f":"Translations!$B$1269","v":"Postrojenje s niskim emisijama / manji izvor emisija: možete primijeniti razinu 1, osim ako se može postići veća točnost bez dodatnog opterećenja operatora."}]
[null,{"$f":"EUconst_CNTR_NoSmallEmitter","v":"NoSmallEmitter_"},null,1,{"$f":"B819 & \"_\" & D819","v":"NoSmallEmitter__1"},{"$f":"Translations!$B$1270","v":"Glavni izvor emisija: primjenjuje se minimalna razina prikazana u nastavku. \nMeđutim, možete primijeniti jednu razinu točnosti niže, s tim da je minimalna razina 1, ako nadležnom tijelu možete dati zadovoljavajuće dokaze da zahtijevana razina u skladu s prvim podstavkom nije tehnički izvediva ili da se njome stvaraju neopravdano visoki troškovi.\n"}]
[null,{"$f":"EUconst_CNTR_NoSmallEmitter","v":"NoSmallEmitter_"},null,2,{"$f":"B820 & \"_\" & D820","v":"NoSmallEmitter__2"},{"$f":"Translations!$B$1271","v":"Manji izvor emisija: prema potrebi možete primijeniti nižu razinu od razine prikazane u nastavku, s tim da je minimalna razina 1, ako možete dokazati da primjena te razine nije tehnički izvediva ili da se njome stvaraju neopravdano visoki troškovi."}]
[]
[]
["<END of list>"]

{"sheet":"Translations","index":19,"n_rows":1382,"n_cols":4,"rows_kept":1382,"cut":false,"hidden":true,"merged":[]}
["Number","TEXT (Language Version)","TEXT (engl)"]
[1,"GODIŠNJI PLAN PRAĆENJA EMISIJA STAKLENIČKIH PLINOVA","ANNUAL EMISSIONS MONITORING PLAN"]
[2,"SADRŽAJ","CONTENTS"]
[3,"Imena listova prikazana su u podebljanom fontu, a imena poglavlja u normalnom.","Sheet names are given in bold font and section names in normal font."]
[4,"a_Sadržaj","a_Contents"]
[5,"b_Upute i uvjeti","b_Guidelines and conditions"]
[6,"A. Izdanja Plana praćenja","A. Monitoring Plan versions"]
[7,"Popis izdanja Planova praćenja","List of monitoring plan versions"]
[8,"B. Identifikacija operatera i postrojenja","B. Operator & Installation Identification"]
[9,"Podaci o operateru","About the operator"]
[10,"Podaci o postrojenju","About your installation"]
[11,"Kontakt podaci","Contact details "]
[12,"C. Opis postrojenja","C. Installation Description"]
[13,"Podaci o aktivnostima postrojenja","About the Installation Activities"]
[14,"Podaci o emisijama","About your emissions"]
[15,"D. Metodologija proračuna","D. Calculation Based Approaches"]
[16,"Izračun: Detalji potrebni za daljnje popunjavanje podataka u sljedećem listu","Calculation: Details which are needed for further input in the next sheet"]
[17,"E. Tokovi izvora","E. SourceStreams"]
[18,"Pojedinosti o primijenjenoj razini točnosti za podatke o djelatnostima i faktorima izračuna","Details on the applied tiers for activity data and calculation factors"]
[19,"F. Metodologija mjerenja","F. Measurement Based Approaches"]
[20,"Mjerenja emisija CO2 i N2O","Measurement of CO2 and N2O emissions "]
[21,"Pojedinosti o mjernim točkama","Details for measurement points"]
[22,"Upravljanje i procedure za metodologiju mjerenja","Management and procedures for measurement based approaches"]
[23,"G. Nadomjesni pristupi","G. Fall-back Approaches"]
[24,"Opis nadomjesnih pristupa","Description of the Fall-back approach"]
[25,"H. N2O emisije","H. N2O emissions"]
[26,"Upravljanje i procedure za praćenje emisija N2O ","Management and procedures for monitoring N2O emissions"]
[27,"I. Određivanje emisija PFC iz proizvodnje primarnog aluminija","I. Determination of PFC emissions from production of primary aluminium"]
[28,"Određivanje emisija PFC","Determination of PFC emissions"]
[29,"Pojedinosti praćenja za tokove izvora emisija PFC","Monitoring details for source streams of PFC emissions"]
[30,"Upravljanje i pisane procedure za praćenja emisija PFC","Management and written procedures for PFC monitoring"]
[31,"J. Određivanje prenesenog ili inherentnog CO2","J. Determination of transferred or inherent CO2"]
[32,"Određivanje prenesenog ili inherentnog CO2   ","Determination of inherent and transferred CO2"]
[33,"Relevantne informacije za cjevovodne sustave koji se koriste za transport CO2","Information relevant for pipeline systems used for transport of CO2"]
[34,"Relevantne informacije za postrojenja za geološko skladištenje CO2","Information relevant for installations for the geological storage of CO2"]
[35,"K. Upravljanje i kontrola","K. Management & Control"]
[36,"Upravljanje","Management "]
[37,"Aktivnosti protoka podataka","Data flow activities"]
[38,"Kontrolne aktivnosti","Control activities"]
[39,"Lista korištenih definicija i skraćenica","List of definitions and abbreviations used"]
[40,"Dodatne informacije","Additional information"]
[41,"Promjene u radu","Changes in operation"]
[42,"L. Specifične dodatne informacije države članice","L. Member State specific further information"]
[43,"Komentari","Comments"]
[44,"Informacije o ovom obrascu:","Information about this file:"]
[45,"Plan praćenja podnosi:","This monitoring plan was submitted by:"]
[46,"Naziv postrojenja:","Installation name:"]
[47,"Jedinstveni identifikacijski broj postrojenja:","Unique installation identifier:"]
[48,"Broj izdanja Plana praćenja:","Version Number of this monitoring plan:"]
[49,"Ukoliko Ministarstvo zaštite okoliša i zelene tranzicije zahtjeva da se podnese potpisana kopija Plana praćenja u papirnatom obliku, koristite prostor ispod za potpisivanje:","If your competent authority requires you to hand in a signed paper copy of the monitoring plan, please use the space below for signature:"]
[50,"Datum","Date"]
[51,"Ime i potpis odgovorne osobe za zastupanje:","Name and Signature of \nlegally responsible person"]
[52,"Informacija o izdanju obrasca:","Template version information:"]
[53,"Obrazac dostavljen od:","Template provided by:"]
[54,"Datum objave:","Publication date:"]
[55,"Službeni jezik: ","Language version:"]
[56,"Važeći naziv obrasca:","Reference filename:"]
[57,"b.\nUpute ","b.\nGuide-lines"]
[58,"Navigacijsko područje:","Navigation area:"]
[59,"Sadržaj","Table of contents"]
[60,"Prethodni list","Previous sheet"]
[61,"Sljedeći list","Next sheet"]
[62,"Vrh lista","Top of sheet"]
[63,"Dno lista","End of sheet"]
[64,"UPUTE I UVJETI ","GUIDELINES AND CONDITIONS"]
[65,"Zakon o klimatskim promjenama i zaštiti ozonskog sloja (NN 67/2025) propisuje da operateri postrojenja koji su uključeni u sustav trgovanja emisijskim jedinicama  (EU ETS) posjeduju važeću dozvolu za emisije stakleničkih plinova izdanu od Ministarstva zaštite okoliša i zelene tranzicije, također da prate i izvješćuju  o emisijama te da su izvješća verificirana od neovisnog i akreditiranog verifikatora.","Directive 2003/87/EC (the \"ETS Directive\") requires operators of installations which are included in the Union Emission Trading Scheme (the EU ETS) to hold a valid GHG emission permit issued by the relevant Competent Authority and to monitor and report their emissions, and have the reports verified by an independent and accredited verifier."]
[66,"Zakon o klimatskim promjenama i zaštiti ozonskog sloja (NN 67/2025) može se preuzeti s internetske stranice:","The Directive can be downloaded from:"]
[67,"https://narodne-novine.nn.hr/clanci/sluzbeni/2025_04_67_855.html","https://narodne-novine.nn.hr/clanci/sluzbeni/2025_04_67_855.html"]
[68,"Konsolidirana Uredba (EU) 2018/2066 o praćenju i izvješćivanju o emisijama stakleničkih plinova u skladu s Direktivom 2003/87/EZ definira daljnje zahtjeve za praćenje i izvješćivanje (u daljnjem tekstu: Uredba). Uredba se može preuzeti sa internetske stranice:","The Monitoring and Reporting Regulation (Commission Regulation (EU) No 601/2012 of 21 June 2012, hereinafter the \"MRR\"), defines further requirements for monitoring and reporting. The MRR can be downloaded from:"]
[69,"https://eur-lex.europa.eu/legal-content/HR/TXT/PDF/?uri=CELEX:02018R2066-20250527","http://eur-lex.europa.eu/LexUriServ/LexUriServ.do?uri=OJ:L:2012:181:0030:0104:EN:PDF"]
[70,"Članak 12. Uredbe propisuje posebne zahtjeve za sadržaj i predaju plana praćenja i njegovih dopuna. Članak 12. naglašava značaj plana praćenja kako slijedi:","Article 12 of the MRR sets out specific requirements for the content and submission of the monitoring plan and its updates. Article 12 outlines the importance of the Monitoring plan as follows:"]
[71,"Plan praćenja  se sastoji od podrobne, potpune i transparentne dokumentacije o metodologiji praćenja pojedinog postrojenja ili operatora zrakoplova te sadržava barem elemente utvrđene u Prilogu I.","The monitoring plan shall consist of a detailed, complete and transparent documentation of the monitoring methodology of a specific installation [or aircraft operator] and shall contain at least the elements laid down in Annex I."]
[72,"Nadalje, članak 74. stavak 1. propisuje:","Furthermore, Article 74(1) states:"]
[73,"Države članice mogu od operatera i operatora zrakoplova zahtijevati da koriste elektroničke obrasce ili specifične oblike datoteka za dostavljanje planova praćenja i izmjena plana praćenja kao i za dostavljanje godišnjih izvješća o emisijama, izvješća o tonskim kilometrima, izvješća o verifikaciji i izvješća o poboljšanjima.\nTi obrasci ili specifikacije oblika datoteka koje utvrđuju države članice sadržavaju barem informacije koje su obuhvaćene u elektroničkim obrascima ili specifikacijama oblika datoteka koje objavljuje Komisija.","Member States may require the operator and aircraft operator to use electronic templates or specific file formats for submission of monitoring plans and changes to the monitoring plan, as well as for submission of annual emissions reports, tonne-kilometre data reports, verification reports and improvement reports. \nThose templates or file format specifications established by the Member States shall, at least, contain the information contained in electronic templates or file format specifications published by the Commission."]
[74,"Ova datoteka predstavlja spomenuti obrazac za planove praćenja emisija stakleničkih plinova iz postrojenja, koje su službe Komisije razvile i uključuje zahtjeve definirane u Prilogu I. Uredbe, kao i daljnje zahtjeve za pomoć operaterima u dokazivanju usklađenosti s Uredbom. Pod određenim uvjetima kao što je opisano u nastavku, Ministarstvo zaštite okoliša i zelene tranzicije može obrazac u ograničenoj mjeri izmijeniti.","This file constitutes the said template for monitoring plans of installations developed by the Commission services and includes the requirements defined in Annex I as well as further requirements to assist the operator in demonstrating compliance with the MRR. Under certain conditions as described below, it may have been amended to a limited extent by a Member State's competent authority. "]
[75,"U skladu s članakom 13. Uredbe dopušta se Državama članicama da razviju pojednostavljen i standardiziran plan praćenja za \"jednostavna\" postrojenja.","Furthermore the MRR (Article 13) allows the Member States to develop simplified and standardised monitoring plans for \"simple\" installations. "]
[76,"Države članice mogu dopustiti operatorima postrojenja i operatorima zrakoplova korištenje standardiziranih ili pojednostavljenih planova praćenja, ne dovodeći u pitanje članak 12. stavak 3.\nU tu svrhu, Države članice mogu objavljivati obrasce za navedene planove praćenja, uključujući opis protoka podataka i kontrolnih postupaka iz članka 58. i članka 58., na temelju obrazaca i uputa koje je objavila Komisija. ","Member States may allow operators and aircraft operators to use standardised or simplified monitoring plans, without prejudice to Article 12(3). \nFor that purpose, Member States may publish templates for those monitoring plans, including the description of data flow and control procedures referred to in Article 57 and Article 58, based on the templates and guidelines published by the Commission."]
[77,"Prema Uputi Komisije broj 1 (\"Opće smjernice za postrojenja\"), takvi standardizirani obrasci se trebaju osigurati na način da se dodaju standardni tekstovi, gdje je to prikladno, u ovom obrascu.","According to the Commission's guidance document No. 1 (\"General guidance for installations\"), such standardised templates should be provided by adding standard texts where appropriate in this template here."]
[78,"Ako je postrojenje podobno za takav pojednostavljen i/ili standardiziran plan praćenja  u skladu sa zahtjevima utvrđenima u Uputi br. 1, provjerite s Ministarstvom zaštite okoliša i zelene tranzicije ili na internetskim stranicama Ministarstva da li je li vaša Država članica omogućila predmetne pojednostavljene obrasce.","If your installation is eligible for such simplified and/or standardised monitoring plan in accordance with the requirements laid down in guidance document 1, please check with your competent authority or its website whether your Member State provides such simplified templates."]
[79,"Sve upute Komisije o Uredbi o praćenju i izvješćivanju mogu se naći na internetskoj stranici:","All Commission guidance documents on the Monitoring and Reporting Regulation can be found at:"]
[80,"https://climate.ec.europa.eu/document/download/d4f11230-9126-41a8-8c42-6131cd4e742e_en?filename=gd1_guidance_installations_en.pdf","http://ec.europa.eu/clima/policies/ets/monitoring/index_en.htm"]
[81,"Prije nego što počnete koristiti ovaj obrazac, molimo provesti sljedeće korake:","Before you use this file, please carry out the following steps:"]
[82,"Pročitajte pažljivo upute u nastavku za ispunjavanje ovog obrasca:","Read carefully the instructions below for filling this template."]
[83,"Identificirajte nadležno tijelo odgovorno za vaše postrojenje u državi članici u kojoj se postrojenje nalazi. Imajte na umu da \"Država članica\" ovdje znači sve države koje sudjeluju u EU ETS, ne samo zemlje članice Europske unije.","Identify the Competent Authority (CA) responsible for your installation in the Member State where the installation is situated (there may be more than one CA per Member State). Note that \"Member State\" here means all States which are participating in the EU ETS, not only EU Member States."]
[84,"Provjerite internetsku stranicu ili izravno kontaktirajte Ministarstvo zaštite okoliša i zelene tranzicije kako biste saznali imate li važeće izdanje obrasca.Izdanje obrasca (vidi pod važeći naziv obrasca) jasno je istaknuto na naslovnoj stranici ovog obrasca.","Check the CA's webpage or directly contact the CA in order to find out if you have the correct version of the template. The template version (in particular the reference file name) is clearly indicated on the cover page of this file."]
[85,"Neke države članice mogu zahtjevati da koristite alternativni sustav, kao što su internet-baziran obrazac umjesto proračunske tablice. Provjerite zahtjeve svoje Države članice. U ovom slučaju Ministarstvo zaštite okoliša i zelene tranzicije će vam pružiti dodatne informacije.","Some Member States may require you to use an alternative system, such as internet-based form instead of a spreadsheet. Check your Member State requirements. In this case the CA will provide further information to you."]
[86,"Ovaj Plan praćenja mora se dostaviti Ministarstvu zaštite okoliša i zelene tranzicije na sljedeće adrese elektroničke pošte:","This monitoring plan must be submitted to your competent authority at the following address:"]
[87,"ets-postrojenja@mzozt.hr \nzavod.klima@mzozt.hr ","Detail address to be provided by the Member State"]
[88,"Ministarstvo zaštite okoliša i zelene tranzicije može kontaktirati operatera kako bi diskutiralo o izmjenama vašeg Plana praćenja u svrhu osiguranja točnog i pouzdanog praćenja i izvješćivanja o godišnjim emisijama, u skladu s općim i specifičnim zahtjevima iz Uredbe. Bez obzira na članak 16. stavak 1. Uredbe, nakon obavijesti o odobrenju Plana praćenja iz Ministarstva zaštite okoliša i zelene tranzicije  koristit ćete posljednje odobreno izdanje Plana praćenja kao temelj za utvrđivanje godišnjih emisija i primjeniti ​​aktivnosti za prikupljanje podataka i njihovu obradu te aktivnosti kontrole. To će poslužiti i kao referenca za verifikaciju vašeg godišnjeg izvješća o emisijama.\n\n\n\n\n","The CA may contact you to discuss modifications to your monitoring plan to ensure the accurate and verifiable monitoring and reporting of annual emissions, according to the general and specific requirements of the MRR. Notwithstanding Article 16(1) of the MRR, upon notification of approval from the CA you will use the latest approved version of the monitoring plan as the methodology to determine annual emissions and implement your data acquisition and handling activities and control activities. It will serve also as a reference for verification of your annual emissions report."]
[89,"Dužni ste bez odlaganja obavijestiti Ministarstvo zaštite okoliša i zelene tranzicije o prijedlogu  značajnih promjena u postrojenju koje dovode do izmjene plana praćenja. Svaka značajna promjena u vašoj metodologiji praćenja podliježe odobrenju Ministarstva zaštite okoliša i zelene tranzicije, kao što je navedeno u članku 14. i 15. Uredbe. U slučaju kada možete pretpostaviti (u skladu s člankom 15.) da potrebne nadopune plana praćenja nisu značajne, možete o istima obavijestiti Ministarstvo zaštite okoliša i zelene tranzicijea jednom godišnje u skladu s rokom navedenim u tom članku.","You must notify any proposals for significant modifications to the monitoring plan to the CA without undue delay. Any significant change in your monitoring methodology shall be subject to approval by the CA, as set in Article 14 and 15 of the MRR. Where you can assume reasonably (in accordance with Article 15) that necessary updates of the monitoring plan are not significant, you may notify the CA of those updates jointly once per year in accordance with the deadline specified in that Article (subject to competent authority agreement)."]
[90,"Sve promjene plana praćenja i zapisi o tim promjenama provede se sukladno članku 16. Uredbe.","You must implement and keep records of all modifications to the monitoring plan in accordance with Article 16 of the MRR."]
[91,"Za dodatne informacije o ovom obrascu kontaktirajte Ministarstvo zaštite okoliša i zelene tranzicije.","Contact your CA if you need assistance to complete your Monitoring Plan. Some Member States have produced guidance documents which you may find useful."]
[92,"Izjava o povjerljivosti podataka - informacije dostavljene u ovom zahtjevu mogu biti predmet zahtjeva o javnom pristupu informacijama, uključujući i Direktive 2003/4/EZ o pristupu javnosti informacijama o okolišu. Ako smatrate da je neke informacije, koje ste dali u okviru vašeg zahtjeva potrebno tretirati kao poslovnu tajnu, molimo vas da o tome obavijestite Ministarstvo zaštite okoliša i zelene tranzicije. Potrebno je obratiti pažnju da sukladno odredbama Direktive 2003/4/EZ, Ministarstvo zaštite okoliša i zelene tranzicije može biti dužno objaviti  informacije čak i kada podnositelj zahtjeva traži tajnost podataka.","Confidentiality statement- The information submitted in respect of this application may be subject to public access to information requirements, including Directive 2003/4/EC on public access to environmental information. If you consider that any information you provide in connection with your application should be treated as commercially confidential, please let your CA know. You should be aware that under the provisions Directive 2003/4/EC, the CA may be obliged to disclose information even where the applicant requests that it is kept confidential."]
[93,"Izvori informacija:","Information sources:"]
[94,"Internetske stranice EU:","EU Websites:"]
[95,"Zakonodavstvo EU:","EU-Legislation:"]
[96,"http://eur-lex.europa.eu/en/index.htm ","http://eur-lex.europa.eu/en/index.htm "]
[97,"EU ETS general:","EU ETS general:"]
[98,"https://climate.ec.europa.eu/eu-action/carbon-markets/eu-emissions-trading-system-eu-ets_en","http://ec.europa.eu/clima/policies/ets/index_en.htm"]
[99,"Praćenje i izvješćivanje u EU ETS: ","Monitoring and Reporting in the EU ETS: "]
[100,"Ostale web-stranice: ","Other Websites:"]
[101,"https://www.haop.hr/hr/tematska-podrucja/zrak-klima-tlo/klimatske-promjene","<to be provided by Member State>"]
[102,"Služba za podršku korisnicima: ","Helpdesk:"]
[103,"ets-postrojenja@mzozt.hr","<to be provided by Member State, if relevant>"]
[104,"Kako se služiti ovim obrascem:","How to use this file:"]
[105,"Ovaj obrazac je izrađen kako bi se ispunili minimalni zahtjevi sadržaja plana praćenja sukladno Uredbi. Operateri se stoga prilikom ispunjavanja trebaju pozvati na Uredbu.","This template has been developed to accommodate the minimum content of a monitoring plan required by the MRR. Operators should therefore refer to the MRR and additional Member State requirements (if any) when completing."]
[106,"Preporuča se ispunjavati obrazac od početka do kraja. Postoji nekoliko funkcija koje će vas voditi kroz obrazac, a ovisit će o prethodnom unosu podataka poput, primjerice, ćelije tablice koje mijenjaju boju ukoliko unos nije potreban (vidi kodove boja u nastavku).","It is recommended that you go through the file from start to end. There are a few functions which will guide you through the form which depend on previous input, such as cells changing colour if an input is not needed (see colour codes below)."]
[107,"U nekoliko polja možete odabrati između unaprijed ponuđenih mogućnosti za unos. Kako biste odabrali unos iz takvog \"padajućeg izbornika\" pritisnite mišem strelicu koja se pojavljuje na desnom rubu ćelije  ili pritisnite \"Alt +  ↓\" kada ste odabrali ćeliju. Neka vam polja dozvoljavaju unos vlastitog teksta, unatoč tome što postoji unaprijed ponuđeni padajući izbornik. To je slučaj kada padajući izbornik sadrži prostor za unos dodatnih mogućnosti.","In several fields you can choose from predefined inputs. For selecting from such a \"drop-down list\" either click with the mouse on the small arrow appearing at the right border of the cell, or press \"Alt-CursorDown\" when you have selected the cell. Some fields allow you to input your own text even if such drop-down list exists. This is the case when drop-down lists contain empty list entries."]
[108,"Oznake boja i fontova:","Colour codes and fonts:"]
[109,"Crno podebljani tekst:","Black bold text:"]
[110,"Ovo je tekst predviđen predloškom Komisije. Potrebno ga je ostaviti nepromijenjenim.","This is text provided by the Commission template. It should be kept as it is."]
[111,"Umanjeni tekst u kurzivu:","Smaller italic text:"]
[112,"Ovaj tekst pruža dodatna objašnjenja.","This text gives further explanations. Member States may add further explanations in MS specific versions of the template."]
[113,"Žuta polja upućuju na obavezan unos. Međutim, ako pitanje nije  relevantno  za postrojenje, unos je nepotreban.","Yellow fields indicate mandatory inputs. However, if the topic is not relevant for the installation, no input is required."]
[114,"Svjetložuta polja označavaju ćelije gdje se unose podaci prema potrebi.","Light yellow fields indicate that an input is optional."]
[115,"Zelena polja prikazuju automatski izračunate rezultate. Tekst u crvenoj boji predstavlja poruke koje upućuju na pogreške (nedostajući podatak i sl.).","Green fields show automatically calculated results. Red text indicates error messages (missing data etc)."]
[116,"Osjenčana polja upućuju da određeni unos iz drugog polja, čini ovaj unos nevažnim.","Shaded fields indicate that an input in another field makes the input here irrelevant."]
[117,"Države članice trebaju popuniti sivo osjenčana područja prije no što objave prilagođenu verziju obrasca. ","Grey shaded areas should be filled by Member States before publishing customized version of the template."]
[118,"Svjetlosiva područja su namijenjena za navigaciju i poveznice.","Light grey areas are dedicated for navigation and hyperlinks."]
[119,"Navigacijske ploče na vrhu svakog lista nude poveznice za brzi prijelaz na pojedinačne odjeljke za unos podataka. Prvi redak (\"Sadržaj\", \"Prethodni list\", \"Sljedeći list\", \"Sažetak\"), kao i oznake \"Vrh lista\" i \"Dno lista\" jednaki su za sve listove. Ovisno o pojedinačnom listu, dodane su i druge stavke za odabir. ","Navigation panels on top of each sheet provide hyperlinks for quick jumps to individual input sections. The first line (\"Table of contents\", \"Previous sheet\", \"next sheet\") and the points \"Top of sheet\" and \"End of sheet\" are the same for all sheets. Depending on the sheet, further menu items are added."]
[120,"Ovaj je obrazac zaključan radi onemogućavanja unosa podataka, osim u žuta polja. Međutim, zbog transparentnosti, nije postavljena zaporka. To omogućava potpun uvid u sve formule. Pri korištenju ovog obrasca za unos podataka, preporučljivo je koristiti zaštitu lista.  Zaštita bi trebala biti isključena jedino prilikom provjere ispravnosti formula.  Navedenu provjeru je uputno učiniti u kopiji obrasca.","This template has been locked against data entry except for yellow fields. However, for transparency reasons, no password has been set. This allows for complete viewing of all formulae. When using this file for data entry, it is recommended to keep the protection in force. The sheets should only be unprotected for checking the validity of formulae. It is recommended to do this in a separate file."]
[121,"Kako bi formule bile zaštićene od nenamjernih preinaka, koje obično dovode do pogrešnih i nejasnih rezultata, izrazito je važno NE KORISTITI OPCIJE 'IZREŽI & ZALIJEPI' ('CUT & PASTE'). Ukoliko želite pomicati podatke, prvo ih KOPIRAJTE (COPY) potom ZALIJEPITE (PASTE), a tek onda obrišite neželjene podatke na starom (pogrešnom) mjestu.","In order to protect formulae against unintended modifications, which usually lead to wrong and misleading results, \nit is of utmost importance NOT TO USE the CUT & PASTE function.\nIf you want to move data, first COPY and PASTE them, and thereafter delete the unwanted data in the old (wrong) place."]
[122,"Polja s podacima nisu optimizirana za brojčana i druga oblikovanja. Međutim, zaštita je ograničena kako biste mogli koristiti vlastite oblikovanja. Pogotovo, sami odlučujete koliko ćete decimalnih mjesta prikazati. Načelno, točnost izračuna ne ovisi o broju prikazanih decimalnih mjesta. U pravilu, trebalo bi onemogućiti opciju 'Preciznost prema prikazu' (\"Precision as displayed\") u MS Excelu. Za više pojedinosti o ovoj temi, koristite funkciju 'Pomoć' (\"Help\") u MS Excelu.","Data fields have not been optimized for specific numerical and other formats. However, sheet protection has been limited so as to allow you to use your own formats. In particular, you may decide about the number of decimal places displayed. The number of places is in principle independent from the precision of the calculation. In principle the option \"Precision as displayed\" of MS Excel should be deactivated. For more details, consult MS Excel's \"Help\" function on this topic."]
[123,"IZJAVA O OGRANIČENJU ODGOVORNOSTI: Sve su formule pažljivo i temeljito osmišljene. Međutim, pogreške se ne mogu potpuno isključiti. Kako je gore navedeno, u svrhu provjere valjanosti izračuna osigurana je potpuna transparentnost. Za moguće štete nastale uslijed pogrešnih ili nejasnih rezultata dostavljenih izračuna ne mogu biti odgovorni ni autori ovog obrasca, a niti Europska komisija.  \nPotpunu odgovornost dostave točnih podataka nadležnom tijelu snosi korisnik ovog obrasca (operater postrojenja obuhvaćenog  EU ETS-om).","DISCLAIMER: All formulae have been developed carefully and thoroughly. However, mistakes cannot be fully excluded.\nAs described above, full transparency for checking the validity of calculations is ensured. Neither the authors of this file nor the European Commission can be held liable for eventual damages resulting from wrong or misleading results of the provided calculations. \nIt is the full responsibility of the user of this file (i.e. the operator of an EU ETS installation) to ensure that correct data is reported to the competent authority."]
[124,"Na više mjesta u ovom obrascu morate ispuniti podatke s opisom postrojenja, njegove aktivnosti i specifične metode koje se primjenjuju za praćenje emisija. U takvim situacijama, tekstualna polja su predviđena za vaš unos, koja ponekad mogu biti nedovoljna za informacije koje želite unijeti.","In many cases in this template you are required to fill in descriptions of the installation, its functioning, and specific methods which you apply for monitoring. In such situations text fields are provided for your input, which may be sometimes insufficient for the information you want to enter."]
[125,"U takvim slučajevima, molimo priložite svoje podatke (tekst, formule, referentne podatke, sheme i crteže) kao zasebne dokumente pri dostavi Ministarstvu zaštite okoliša i zelene tranzicije. Pri tome je potrebno navesti referencu na te dokumente. U takvim situacijama navedite naziv priloga. Nadalje, preporučljivo je referencama dodati datum posljednje promjene dokumenta koji će biti vidljiv i u samom tiskanom primjerku dokumenta."," In such cases please attach your information (text, formulae, reference data, diagrams and drawings) as separate files when sending them to the competent authority. You are then requested to provide a reference to that file. Please indicate in such situations the filename of the attachment. It is furthermore advisable to add the date of the last change of the document to the reference, and to include a clearly readable indicator for that date directly in the (printable) file."]
[126,"Nadležno tijelo može ograničiti prihvatljive formate dokumenata. Molimo vas da koristite samo standardne vrste uredskih dokumenata kao što su .doc, .xls, .pdf. Za sve druge prihvatljive vrste dokumenata, obratite se Ministarstvu zaštite okoliša i zelene tranzicije (dalje u tekstu: nadležno tijelo).","The competent authority may restrict the acceptable file formats. Please ensure that you use only standard office file types such as .doc, .xls, .pdf. For further acceptable file types contact your competent authority or its website."]
[127,"Ovaj obrazac sadrži makronaredbe za nekoliko funkcija (dodavanje stavki na popise, i prikazivanje/skrivanje primjera). Ako su makronaredbe onemogućene na vašem računalu, i dalje ćete biti u mogućnosti koristiti obrazac, ali bez tih funkcija. Za osiguravanje da makronaredbe ne sadrže virus, one su elektronički potpisane. Molimo provjerite internetske stranice Komisije ili Ministarstva zaštite okoliša i zelene tranzicije za upute o provjeri vjerodostojnosti obrasca.","This file contains macros for a few functions (adding items to lists, and showing/hiding examples). If macros are disabled on your computer, you will still be able to use the template, but without those functions. \nFor ensuring that the macros don't contain a virus, they have been electronically signed. Please check on the Commission's or the competent authority's website for instructions on checking the authenticity of the template file."]
[128,"Upute specifične za Republiku Hrvatsku nalaze se ovdje:","Member State-specific guidance is listed here:"]
[129,"A. \nIzdanja Plana praćenja","A.\nMP Versions"]
[130,"Ovaj list koristi se za praćenje važećeg izdanja plana praćenja. Svako izdanje plana praćenja mora sadržavati jedinstveni broj izdanja i datum njegovog izdavanja.","This sheet is used for tracking the actual version of the monitoring plan. Each version of the monitoring plan should have a unique version number, and a reference date."]
[131,"Operator mora imati pohranjene kopije svih izdanja plana praćenja.","Depending on the requirements of the Member State, it is possible that the document is exchanged between competent authority and operator with various updates, or that the operator alone keeps track of the versions. In any case, the operator should keep in his files a copy of each version of the monitoring plan."]
[132,"Status plana praćenja treba biti opisan u stupcu \"status\". Mogući statusi uključuju: \"podneseno nadležnom tijelu\", \"odobreno od strane nadležnog tijela\", \"radna verzija\" itd.","The status of the monitoring plan at the reference date should be described in the \"status\" column. Possible status types include \"submitted to the competent authority (CA)\", \"approved by the CA\", \"working draft\" etc."]
[133,"Molimo obratite pažnju na to da praćenje emisija vašeg postrojenja mora uvijek biti provedeno u skladu s posljednjim odobrenim izdanjem plana praćenja, osim u slučaju kada je ažurirani plana praćenja već podnesen  nadležnom tijelu i/ili još u postupku odobrenja. U skladu sa člankom 16. stavak 1. Uredbe, u takvim slučajevima praćenje mora biti provedeno paralelno s korištenjem posljednjeg odobrenog izdanja plana praćenja ili posljednjeg izdanja plana praćenja podnesenog na odobrenje.","Please note that monitoring of the emissions of your installation must always be carried out in accordance with the latest approved version of the monitoring plan, except in cases where an update of the MP has already been submitted to the CA and/or is pending approval. In accordance with Article 16(1), in such situations the monitoring must be carried out in parallel using the latest approved as well as the latest MP submitted for approval."]
[134,"Za prikazivanje/skrivanje primjera, pritisnite na kućicu \"Primjeri\" unutar navigacijskog područja.","For showing/hiding examples, press the \"Examples\" button in the navigation area.","; 'I_PFC'!$D$68"]
[135,"Izdanje br.","Version No"]
[136,"Datum izdavanja","Reference date"]
[137,"Status na datum izdavanja","Status at reference date"]
[138,"Poglavlja u kojima su napravljene izmjene. \nKratko obrazloženje izmjena.","Chapters where modifications have been made. \nBrief explanation of changes"]
[139,"Podneseno nadležnom tijelu","submitted to competent authority"]
[140,"Novi Plan praćenja sukladan zahtjevima Uredbe.","New monitoring plan for meeting the requirements of the M&R Regulation."]
[141,"Vraćeno s primjedbama","returned with remarks"]
[142,"Zavod za zaštitu okoliša i prirode dao je primjedbe za tokove izvora 1 i 2 te je potrebno dopuniti Plan praćenja sukladno danim primjedbama prije ponovnog podnošenja.","CA has entered some corrections for source streams 1 and 2. Procedures on data flows should be improved before re-submission."]
[143,"Plan praćenja ažuriran sukladno preporukama Zavoda za zaštitu okoliša i prirode . Naknadno je dodan novi tok izvora br. 4 (ostaci drvenih ploča, onečišćeni s oko 5% fosilnih dijelova).","MP updated according to CA's suggestions. Furthermore added a new source stream No. 4 (wood panel wastes, contaminated with ca. 5% fossil fraction)."]
[144,"Odobreno od Zavoda za zaštitu okoliša i prirode ","approved by competent authority"]
[145,"Odobreno bez daljnjih promjena. Operater je zaprimio tiskanu kopiju zajedno s ažuriranom dozvolom za osiguravanje autentičnosti sadržaja Plana praćenja poslanog elektroničkim putem.","Approved without further changes. Operator has received paper copy together with the updated permit for ensuring authentic content of the MP file returned electronically."]
[146,"Pritisnite \"+\" kako bi dodali više izdanja plana praćenja","Click \"+\" to add more monitoring plan versions"]
[147,"B. \nID operatera postrojenja","B.\nOperatorInst ID"]
[148,"Operater","Operator"]
[149,"Postrojenje","Installation"]
[150,"Kontakti","Contacts"]
[151,"Nadležno tijelo","Competent Authority"]
[152,"Država članica","Member State"]
[153,"Broj dozvole za emisije stakleničkih plinova","Emissions trading permit number"]
[154,"HR","member state/CA prefix"]
[155,"Naziv operatera","Operator Name"]
[156,"Aktualan broj izdanja Plana praćenja","Actual version number of the monitoring plan"]
[157,"Napomena: Ovaj broj također će biti prikazan na naslovnoj stranici ovog obrasca","Note: This number will also be displayed on the cover page of this file."]
[158,"Naziv postrojenja i lokacija","Name of the installation and the site on which it is located:"]
[159,"Lokacija:","Site name:"]
[160,"Jedinstveni ID postrojenja (kao i u Obrascu o podacima o djelatnostima-NIMs)","Unique ID of the installation (as in NIMs):"]
[161,"EPRTR (nije potrebno ispuniti):","EPRTR (optional):"]
[162,"Potrebno je napisati potpuni naziv postrojenja kako što je navedeno u izvatku iz Sudskog registra Ministarstva pravosuđa","Include any Member State specific guidance on naming of installations."]
[163,"Adresa/lokacija na kojem se nalazi postrojenje:","Address / location of the site of the installation:"]
[164,"Adresa 1:","Address Line 1:"]
[165,"Adresa 2:","Address Line 2:"]
[166,"Grad:","City:"]
[167,"Država/Županija/Grad:","State/Province/Region:"]
[168,"Poštanski broj:","Postcode/ZIP:"]
[169,"Država:","Country:"]
[170,"Gauss-Krugerove koordinate dimnjaka (kao za ROO) za postrojenje:","Grid reference (map co-ordinates) of site main entrance (optional):"]
[171,"Može se priložiti kao zaseban dokument.","Include any Member State specific guidance regarding grid references."]
[172,"Osoba za kontakt","Who can we contact about your monitoring plan?"]
[173,"Osoba koju imenujete bi trebala imati ovlasti da djeluje u ime operatora.","It will help us to have someone who we can contact directly with any questions about your monitoring plan. The person you name should have the authority to act on behalf of the operator. "]
[174,"Glavni kontakt:","Primary contact:"]
[175,"Zvanje (npr. mag, ing., prof.):","Title:"]
[176,"Ime:","First Name:"]
[177,"Prezime:","Surname:"]
[178,"Naziv radnog mjesta:","Job title:"]
[179,"Naziv organizacije (ako je drugačiji od naziva operatera):","Organisation name (if different from the operator):"]
[180,"Broj telefona i mobitela:","Telephone number:"]
[181,"E-mail adresa:","Email address:"]
[182,"Zamjenski kontakt:","Alternative contact:"]
[183,"C. \nOpis postrojenja","C.\nInstallation Description"]
[184,"Aktivnosti postrojenja","Installation Activities"]
[185,"Metodologija praćenja","Monitoring approaches"]
[186,"Izvori emisija (točke)","Emission sources&points"]
[187,"Mjerne točke","Measurement points"]
[188,"Tokovi izvora","Source streams"]
[189,"Isključene aktivnosti","Activities excluded"]
[190,"Ovaj list koristite za opis postrojenja. Ovdje uneseni podaci su nužna podloga za detalje koje će biti potrebno upisati u sljedećim listovima.","Please use this sheet for describing your installation. The information entered here prepares the necessary detailed inputs in the following sheets."]
[191,"Tokovi izvora će biti detaljnije opisani u listu E_Tokovi_Izvora, a mjerne točke u listu F_Metodologija_Mjerenja.","In particular, source streams will be described in more detail in sheet E_SourceStreams, and measurement points in sheet F_MeasurementBasedApproaches."]
[192,"Opis postrojenja i njegovih aktivnosti:","Description of the installation and its activities:"]
[193,"Ovdje navedite kratak opis lokacije postrojenja i samog postrojenja. Opis također treba uključiti ne-tehnički sažetak aktivnosti koje se provode u postrojenju, ukratko opisujući svaku djelatnost koja se obavlja i tehničke jedinice koje se koriste u svakoj aktivnosti. Osim toga, opis također treba sadržavati i opis dijelova postrojenja koji nisu pod nadzorom podnositelja zahtjeva, i/ili dijelove za koje se smatra da ne pripadaju u djelokrug EU ETS.","Please provide here a brief outline description of the site and the installation, and describe the location of the installation on the site.  The description should also include a non-technical summary of the activities carried out at the installation, briefly describing each activity performed and the technical units used within each activity.  In particular, the description should also identify and explain any part(s) of the installation which are not operated by the applicant, or parts which are not deemed to fall under the scope of the EU ETS."]
[194,"Ovaj opis bi trebao pružiti povezane informacije koje su potrebne za razumijevanje informacija navedenih u drugim dijelovima ovog obrasca te kako se koriste zajedno za izračun emisija. Mogu biti kratke kao dani primjer u listu D_Metodologija proračuna, odjeljak 7(a).","This description should provide the linking information which is needed to understand, how the information given in other parts of this template are used together for calculating the emissions. It may be as short as the given example in sheet D_CalculationBasedApproaches, section 7(a).","; 'J2_PermCCU'!$E$18"]
[195,"Naziv i referenca dokumenta Dijagram tokova izvora","Source Stream Diagram document title and reference:"]
[196,"Za bolje razumijevanje opisa aktivnosti može pomoći jednostavni dijagram koji prikazuje izvore emisija, tokove izvora, točke uzorkovanja i mjernu opremu. Ako je takav dijagram dostupan navedite ovdje referencu (naziv i datum dokumenta) i priložite kopiju prilikom podnošenja ovog Plana praćenja nadležnom tijelu.","It may aid the description of activities to provide a simple diagram showing emissions sources, source streams, sampling points and metering/measurement equipment.  If such a diagram is available please provide here a reference (filename, date) and attach a copy when submitting this monitoring plan to your competent authority."]
[197,"Napominjemo da nadležno tijelo to zahtijeva kao obvezni prilog.","Note in some cases this may be specifically requested by the competent authority as mandatory."]
[198,"Lista djelatnosti u postrojenju sukladno Prilogu I. Uredbe o načinu trgovanja emisijskim jedinicama stakleničkih plinova (NN 89/20).","List of activities pursuant to Annex I of the EU ETS Directive carried out at the installation:"]
[199,"Navedite tehničke pojedinosti u postrojenju za svaku djelatnost u skladu s Prilogom I. Uredbe o načinu trgovanja emisijskim jedinicama stakleničkih plinova (NN 89/20).","Please provide the following technical details for each activity pursuant to Annex I of the EU ETS Directive carried out at your installation."]
[200,"Također molimo da navedete kapacitet svake djelatnosti postrojenja sukladno Prilogu I.","Please also provide the capacity of each Annex I activity relevant at your installation."]
[201,"\"Kapacitet\" u ovom kontekstu znači:","Please note that ‘capacity’ in this context means:"]
[202,"Nazivna toplinska ulazna instalirana snaga (veća od 20 MW) je podatak koji govori pri kojem maksimumu može biti spaljeno gorivo u postrojenju te koji se pomnožen s kaloričnom vrijednošću izražava u MW.","Rated thermal input (for activities whose inclusion in the EU ETS depends on the 20MW threshold), which is the rate at which fuel can be burned at the maximum continuous rating of the installation multiplied by the calorific value of the fuel and expressed as megawatts thermal. "]
[203,"Proizvodni kapaciteti za djelatnosti iz Priloga I.Uredbe o načinu trgovanja emisijskim jedinicama stakleničkih plinova (NN 89/2020) za koje kapacitet određuje uključivanje u EU ETS.","Production capacity for those specified Annex I activities for which production capacity determines the inclusion in the EU ETS. "]
[204,"Provjerite da su granice postrojenja točne, te u skladu s Prilogom I. Uredbe o načinu trgovanja emisijskim jedinicama stakleničkih plinova (NN 89/20). Za daljnje informacije obratite pažnju na relevantne dijelove Uputa Komisije o tumačenju Priloga I. Ovaj dokument može se naći pod sljedećim linkom:","Please make sure that the installation boundaries are correct and in line with Annex I of the EU ETS Directive. For further information please consult the relevant sections of the Commission's Guidance on Interpretation of Annex I. This document can be found under the following link:"]
[205,"https://narodne-novine.nn.hr/clanci/sluzbeni/2020_07_89_1678.html","http://ec.europa.eu/clima/policies/ets/docs/guidance_interpretation_en.pdf "]
[206,"Ovdje unesen popis biti će dostupan kao padajući izbornik u tablicama gdje je poveznica na pojedinu djelatnost potrebna za  opis postrojenja.","The list entered here will be available as a drop-down list in the tables below where a reference to the activity is required for the installation description."]
[207,"Oznaka djelatnosti (A1, A2…)","Activity Ref. (A1, A2…)"]
[208,"Djelatnosti Priloga I","Annex I Activity"]
[209,"Ukupni kapacitet djelatnosti","Total Activity Capacity "]
[210,"Jedinice kapaciteta","Capacity units"]
[211,"Emitirani staklenički plinovi","GHG emitted"]
[212,"Proizvodnja cementnog klinkera","Production of cement clinker"]
[213,"Tone po danu","tonnes per day"]
[214,"Izgaranje goriva ","Combustion of fuels"]
[215,"MW(th)","MW(th)"]
[216,"Procjenjene godišnje emisije:","Estimated annual emissions:"]
[217,"Unesite ovdje prosječne godišnje emisije postrojenja. Ova informacija je potrebna za kategorizaciju postrojenja u skladu sa člankom 19. Uredbe. Koristite prosječne verificirane godišnje emisije u prethodnom razdoblju trgovanja ili ukoliko taj podatak nije dostupan, ili je neprikladan, konzervativnu procjenu godišnjih prosječnih emisija CO2, uključujući i preneseni CO2, ali isključujući CO2 iz biomase","Please enter here the average annual emissions of your installation. This information is required for categorisation of the installation in accordance with Article 19 of the MRR. Use the average verified annual emissions of the previous trading period data OR if this data is not available, or is inappropriate, a conservative estimate of annual average emissions, including transferred CO2, but excluding CO2 from biomass."]
[218,"Kategorija se koristi za utvrđivanje zahtjeva minimalne razine točnosti u poglavlju 8 (Tokovi izvora).","The resulting category is used for identifying minimum tier requirements in section 8 (Source streams)."]
[219,"Procjenjene godišnje emisije","Estimated annual emissions"]
[220,"Kategorija postrojenja u skladu s člankom 19.","Installation category in accordance with Article 19"]
[221,"Postrojenje s niskim emisijama","Installation with low emissions?"]
[222,"Odabirom\"TRUE\"  znači da postrojenje zadovoljava kriterije za postrojenja s niskim emisijama kao što je definirano člankom 47.Uredbe","Entering \"TRUE\" here means that the installation satisfies the criteria for installations with low emissions as defined by Article 47."]
[223,"Sukladno tom članku, operater može podnijeti pojednostavljen plan praćenja za postrojenja gdje ne postoje aktivnosti ispuštanja didušikovih oksida te se to može dokazati:","According to that Article, the operator may submit a simplified monitoring plan for an installation where no nitrous oxide emitting activities are carried out and it can be demonstrated that: "]
[224,"prosječne verificirane godišnje emisije postrojenja tijekom prethodnog razdoblja trgovanja bile su manje od 25 000 tona CO2 (e) godišnje, ili","the average verified annual emissions of the installation during the previous trading period were less than 25 000 tonnes CO2(e) per year, or"]
[225,"gdje verificirane emisije nisu dostupne ili su neprimjerene, konzervativna procjena pokazuje da će emisije sljedećih pet godina biti manje od 25 000 tona CO2 (e) godišnje.","a conservative estimate shows that emissions for the next 5 years will be less than 25 000 tonnes CO2(e) per year, where the verified emissions are not available or inappropriate."]
[226,"Napomena: navedeni podaci moraju uključivati ​​preneseni CO2, ali isključuje CO2 iz biomase.","Note: the above data shall include transferred CO2, but exclude CO2 stemming from biomass."]
[227,"Ako je vaš izbor u suprotnosti s brojem procijenjenih emisija pod točkom (d) gore, poruka će istaknuti ovu činjenicu. Molimo dati odgovarajuće opravdanje u nastavku.","If your selection here contradicts the number for estimated emissions under point (d) above, a message will highlight this fact. Please give an appropriate justification below."]
[228,"Ako je vaše postrojenje s niskim emisijama kao što je definirano člankom 47. Uredbe, primijenite  pojednostavljeni plan praćenja.","If your installation is an installation with low emissions as defined by Article 47, several simplifications for the monitoring plan apply."]
[229,"Razlozi za procjenu vrijednosti","Justification for estimation value"]
[230,"Ako je vaš unos u vezi s postrojenjem s niskim emisijama u suprotnosti s unosom ​​u točki (d), ili ako se ta brojka ne temelji na provjerenim emisijama, već na konzervativnim procjenama, dajte kratko obrazloženje u nastavku.","If your input regarding being an installation with low emissions contradicts your entry in point (d), or if that figure is not based on verified emissions, but on a conservative estimate, please give a short justification below."]
[231,"Metodologija praćenja predložena za primjenu:","Monitoring approaches proposed to apply:"]
[232,"Potvrdite koju od sljedećih metodologija praćenja predlažete primijeniti:","Please confirm which of the following monitoring approaches you propose to apply:"]
[233,"U skladu s člankom 21. Uredbe, emisije se mogu odrediti na temelju metodologije proračuna (\"proračun\") ili metodologije mjerenja (\"mjerenje\"), osim gdje je uporaba određene metodologije obvezna prema odredbama Uredbe.","In accordance with Article 21, emissions may be determined using either a calculation based methodology (\"calculation\") or measurement based methodology (\"measurement\") except where the use of a specific methodology is mandatory according to the provisions of the MRR."]
[234,"Napomena: Operater može, uz odobrenje nadležnog tijela, kombinirati mjerenje i proračun za različite izvore. Operater je dužan osigurati da nema propusta niti dvostrukog izvještavanja o emisijama.","Note: the operator may, subject to competent authority approval, combine measurement and calculation for different sources.  The operator is required to ensure and demonstrate that neither gaps nor double counting of reportable emissions occurs. "]
[235,"Ne ostavljajte prazna polja, zato što unosi u ta polja pokreću uvjetno formatiranje, koje vas vodi kroz dokument.","Please make sure that you don't leave these fields empty, because inputs here will trigger conditional formatting, which guides you through the document."]
[236,"Metodologija proračuna CO2:","Calculation approach for CO2:"]
[237,"Metodologija mjerenja CO2:","Measurement approach for CO2:"]
[238,"Nadomjesna metodologija (članak 22.):","Fall-back approach (Article 22):"]
[239,"Praćenje N2O emisija:","Monitoring of N2O emissions:"]
[240,"Praćenje PFC emisija:","Monitoring of PFC emissions:"]
[241,"Praćenje prenesenog/inherentnog CO2 i CCS:","Monitoring of transferred/inherent CO2 and CCS:"]
[242,"Popunite ostatak ovog lista te relevantne odjeljke temeljem gore odabrane metodologije, prije nego što nastavite na list \"K_Upravljanje_i_kontrola\" (Poglavlje 20. do 25.) što je obavezno za sva postrojenja.","Please ensure you have completed the rest of this sheet, the relevant sections for each approach selected above, before you continue to sheet \"K_ManagementControl\" (sections 20 to 25), which is mandatory for all installations."]
[243,"Izvori emisija:","Emissions sources:"]
[244,"Prilog I. zahtijeva da planovi praćenja uključuju opis postrojenja i djelatnosti koje se provode i prate u postrojenju, uključujući  popis izvora emisija i tokove izvora. Informacije u ovom obrascu moraju se odnositi na  aktivnosti iz Priloga I. U ovom poglavlju uključite sve aktivnosti koje se provode u vašem postrojenju i isključite povezane aktivnosti koje provode drugi operateri.","Annex I requires that monitoring plans include a description of the installation and activities to be carried out and monitored, including a list of emission sources and source streams.  The information you provide in this template should relate to the Annex I activity(ies) comprised in the installation in question, and should relate to a single installation. Include in this section any activities carried out at your installation and exclude related activities carried out by other operators."]
[245,"Oznaka aktivnosti u zadnjem stupcu odnosi se na broj aktivnosti u poglavlju 5 (c) gore. Tamo gdje izvor emisije potječe iz više od jedne aktivnosti, unesite \"A1, A2\" ili \"A1 - A3\" ili slično, prema potrebi.","The activity reference in the last column relates to the activity reference in section 5(c) above. Where an emission source belongs to more than one activity, please enter \"A1, A2\" or \"A1 - A3\" or similar, as appropriate."]
[246,"Ovaj popis biti će dostupan kao padajući izbornik na sljedećim mjestima (c, d i e) gdje je potrebna oznaka za relevantne izvore emisija.","The list here will be available as a drop-down list at the following points below (c, d and e) where a reference to the relevant emission sources is needed."]
[247,"Oznaka izvora emisije S1, S2,…","Emission source ref.\nS1, S2,..."]
[248,"Izvor emisije (naziv, opis)","Emission source (name, description)"]
[249,"Oznaka aktivnosti","Activity Ref."]
[250,"Peć cementnog klinkera (dekarbonizacija sirovine, izgaranje goriva)","Cement clinker kiln (decarbonatisation of raw meal, combustion of fuels)"]
[251,"Kotao na ugljen (izgaranje goriva)","Coal fired boiler (combustion of fuels)"]
[252,"Kotao na ugljen (dekompozicija vapnenca za čišćenje dimnih plinova)","Coal fired boiler (decomposition of limestone for flue gas scrubbing)"]
[253,"Klikni \"+\" kako bi dodali nove izvore emisija","Click \"+\" to add more emissions sources"]
[254,"Točke emisija i ispušteni staklenički plinovi","Emission points and emitted GHGs:"]
[255,"Navedite i ukratko opišite sve relevantne točke emisija (uključujući i difuzne izvore emisija).","Please list and briefly describe all relevant emission points (including diffuse emission sources)."]
[256,"Odaberite aktivnosti Priloga I, izvore emisija i ispuštene stakleničke plinove iz padajućeg izbornika (sukladno podacima upisanim u poglavlju 5 (c) gore). Ako je u pitanju više od jedne aktivnosti ili izvora emisije, unesite npr. \"A1, A2\".","Please also select the Annex I activities, the emission sources and the GHGs emitted from the drop-down lists (relating to data entered in section 5(c) above). If more than one activity or emission source in concerned, please enter e.g. \"A1, A2\"."]
[257,"Ovaj popis biti će dostupan kao padajući izbornik na sljedećim mjestima dolje (d i e), gdje je potrebna oznaka na relevantnu točku emisije .","The list here will be available as a drop-down list at the following points below (d and e) where a reference to the relevant emission point is needed."]
[258,"Oznaka točke emisije EP1, EP2,…","Emission point ref\nEP1, EP2,..."]
[259,"Opis točke emisije","Emission point description"]
[260,"Oznaka Izvora emisije","Emission source ref."]
[261,"Ispust 1 (kotao na ugljen)","Stack 1 (coal fired boiler)"]
[262,"Ispust 2 (cementna peć)","Stack 2 (cement kiln)"]
[263,"Klikni \"+\" kako bi dodali nove izvore emisija","Click \"+\" to add more emission points"]
[264,"Mjerne točke, gdje su ugrađeni sustavi za kontinuirano mjerenje emisija : ","Measurement points, where continuous measurement systems are installed:"]
[265,"Kako bi se u ovom obrascu omogućilo automatsko predlaganje kategorije izvora emisije, prvo je potrebno definirati izvore emisija za koje su primijenjene metodologije mjerenja.","In order to allow this template to automatically propose emission source categories, it is necessary to define first any emission sources for which measurement based methods are applied."]
[266,"Navedite i opišite sve mjerne točke na kojima su staklenički plinovi mjereni sustavima za kontinuirano mjerenje emisija (CEMS). To uključuje mjerne točke u cjevovodnim sustavima koji se koriste za prijenos CO2 s ciljem geološkog skladištenja CO2.","Please list and describe here all measurements points at which GHGs are measured by continuous emission measuring systems (CEMS). This includes measurement points in pipeline systems used for the transfer of CO2 with the aim of geological storage of CO2."]
[267,"Nije potreban unos ako je u poglavlju 6 (a) definirano da nisu korištene te metode mjerenja.","No entries are required if you have defined that no measurement based methods are used in section 6(a) above."]
[268,"Za svaku mjernu točku, unesite i procjenu za odgovarajuće godišnje emisije. Ova informacija je potrebna za utvrđivanje primjenjive razine točnosti.","For each measurement point, please also enter an estimate for the respective annual emissions. This information is required for determining the applicable tier."]
[269,"Na temelju članka 41. stavak 1. Uredbe zahtjevi za nižom razinom točnosti mogu biti dopušteni za svaki izvor emisije koji emitira manje od 5 000 tona CO2 (e) godišnje, ili koji doprinosi manje od 10% od ukupnih godišnjih emisija postrojenja, ovisno o tome koja je veća u smislu apsolutnih emisija (\"manji\" izvor emisija).","Pursuant to Article 41(1) a lower tier requirement may be allowed for each emission source which emits less than 5 000 tonnes of CO2(e) per year, or which contributes less than 10% of the total annual emissions of the installation, whichever is higher in terms of absolute emissions (\"minor\" emission source)."]
[270,"Svi ostali izvori emisija će biti kategorizirani kao \"glavni\" izvor emisija.","All other emission sources will be categorised as \"major\" emission source."]
[271,"Procjenjene emisije također su relevantne za kategorizaciju tokova izvora i na temelju metodologije proračuna pod točkom (f) dolje, ukoliko se primjenjuje pristup proračuna.","Those estimated emissions are also relevant to categorise the calculated-based source streams under point (f) below, if calculation based approaches are applied. "]
[272,"Oznake točki mjerenja M1, M2,…","measurement point ref. M1, M2,..."]
[273,"Opis","Description"]
[274,"Oznaka točke emisija","Emission point ref."]
[275,"Procijenjene emisije (t CO2e/godina)","Estimated emissions [t CO2e / year]"]
[276,"Moguća kategorija","Possible category"]
[277,"Izmjereni staklenički plinovi","GHG measured"]
[278,"Ispust peći na ugljen, mjerna platforma A","Stack of coal fired boiler, measurement platform A"]
[279,"Klikni \"+\" kako bi dodali nove mjerne točke","Click \"+\" to add more measurement points"]
[280,"Relevantni tokovi izvora","Relevant source streams:"]
[281,"Nabrojite sve tokove izvora (gorivo, sirovine, proizvode…) koji se moraju pratiti u vašem postrojenju koristeći metodologiju proračuna (standardna metodologija masene bilance). Za definiciju izraza \"tokovi izvora\" molimo vidjeti Upute br.1 (\"Opće upute za postrojenja\"). Za definiciju tokova izvora za PFC, molimo vidjeti točku 14(c) u listu \"I_PFC\".","Please list here all source streams (fuels, materials, products,…) which are to be monitored at your installation using calculation based approaches (i.e. standard methodology or mass balance). For definition of the term \"source stream\" please see guidance document No. 1 (\"General guidance for installations\"). For definition of source streams for PFC, please see point 14(c) in sheet \"I_PFC\"."]
[282,"Tokovi izvora mogu biti nazvani npr. \"prirodni plin\", \"mazut\", \"vapnenac\".","The source streams may be named like e.g. \"natural gas\", \"heavy fuel oil\", \"cement raw meal\",.."]
[283,"Pod pojmom vrsta toka izvora podrazumijevamo set pravila koja će se koristiti a definirana su u Uredbi.Ova klasifikacija je osnova za daljnje obveze npr. za razine točnosti koje se trebaju primijeniti.","The source stream type is to be understood as a set of rules to be used according to the MRR. This classification is the basis for further obligations, e.g. tiers to be applied."]
[284,"Padajući izbornik za odabir Vrsta tokova izvora se temelji na aktivnostima odabranim u odjeljku 5 (c) gore. Unos podataka potreban je za utvrđivanje mjerodavne minimalne razine točnosti u listu \"E_Tokovi_izvora\".","The drop-down list for selection of the Source stream type is based upon the activities selected in section 5(c) above. The entry there is required for determining the applicable minimum tier in sheet \"E_SourceStreams\"."]
[285,"Kako bi nadležno tijelo, u potpunosti razumjelo funkcioniranje postrojenja, iz padajućeg izbornika odaberite jednu od odgovarajućih aktivnosti iz Priloga I, te izvore i točke emisija, koje odgovaraju svaki svom toku izvora. Ako je više od jedne aktivnosti ili izvora emisije u pitanju, unesite npr. \"A1, A2\".","For allowing the competent authority to fully understand the functioning of your installation, please select from the respective drop-down lists the Annex I activities, the emission sources and the emission points, which correspond which each source stream. If more than one activity or emission source in concerned, please enter e.g. \"A1, A2\"."]
[286,"Oznaka tokova izvora F1, F2,…","Source Stream ref. F1, F2,..."]
[287,"Naziv toka izvora","Source stream Name"]
[288,"Vrsta toka izvora","Source stream type"]
[289,"Sirovina","Raw meal"]
[290,"Cementni klinker: Na temelju ulaza u peć (Metoda A)","Cement clinker: Kiln input based (Method A)"]
[291,"A1: Proizvodnja cementnog klinkera","A1: Production of cement clinker"]
[292,"S1: Peć za cementni klinker (dekarbonizacija sirovina, izgaranje goriva)","S1: Cement clinker kiln (decarbonatisation of raw meal, combustion of fuels)"]
[293,"EP2: Ispust 2 (cementna peć)","EP2: Stack 2 (cement kiln)"]
[294,"Mazut","Heavy fuel oil"]
[295,"Izgaranje: druga plinovita i tekuća goriva","Combustion: Other gaseous & liquid fuels"]
[296,"Kliknite \"+\" kako bi dodali nove tokove izvora","Click \"+\" to add more source streams"]
[297,"Procijenjene  emisije i kategorije tokova izvora:","Estimated emissions and source stream categories:"]
[298,"Unesite za svaki tok izvora (metodologija proračuna, uključujući PFC) procijenjene emisije i odaberite odgovarajuću kategoriju toka izvora.","Please enter for each source stream (calculation-based method, including PFC)  the estimated emissions, and select an appropriate source stream category."]
[299,"Podaci o oznaci toka izvora i puno ime toka izvora (ime i vrstu toka izvora) automatski će se povući iz točke (d).","Data for the source stream references and the source stream full name (source stream name and source stream type) will be taken from point (d) above automatically."]
[300,"U slučaju primjene masene bilance, emisije moraju biti upisane kao negativne vrijednosti.","In case of source streams going out of a mass balance, the emissions must be entered as negative values."]
[301,"Napomena: Na temelju članka 19. stavak 3. Uredbe svaki tok izvora može se kategorizirati kao \"glavni\", \"manji\" ili \"de-minimis\".","Background: Pursuant to Article 19(3) you can categorise each source stream as \"major\", \"minor\" or \"de-minimis\"."]
[302,"\"Manji\" tokovi izvora zajedno emitiraju 5 000 tona  ili manje fosilnog CO2 godišnje ili koji sudjeluju s manje od 10% (do ukupno maksimalnog učešća od 100 000 tona fosilnog CO2 godišnje) u ukupnoj godišnjoj emisiji CO2 postrojenja prije oduzimanja prenesenog CO2, ovisno o tome koja je vrijednost veća u smislu apsolutnih emisija.","\"minor\" source streams jointly correspond to less than 5 000 tonnes of fossil CO2 per year or to less than 10%, up to a total maximum contribution of 100 000 tonnes of fossil CO2 per year, whichever is the highest in terms of absolute value"]
[303,"\"De minimis\" tokovi izvora  grupa manjih tokova izvora koje je odabrao operater i koji zajedno emitiraju 1 000 tona  ili manje fosilnog CO2 godišnje ili koji sudjeluju s manje od 2% (do ukupnog maksimalnog učešća od 20 000 tona fosilnog CO2 godišnje) u ukupnoj godišnjoj emisiji fosilnog CO2 toga postrojenja prije oduzimanja prenesenog CO2 ovisno o tome koja je vrijednost veća u smislu apsolutnih emisija.","\"de-minimis\" source streams jointly correspond to less than 1 000 tonnes of fossil CO2 per year or to less than 2%, up to a total maximum contribution of 20 000 tonnes of fossil CO2 per year, whichever is the highest in terms of absolute value"]
[304,"\"Glavni\" tokovi izvora su skupina tokova izvora koji ne pripadaju skupini \"manji\" tokovi izvora niti  \"de minimis\" tokova izvora","\"major\" source streams are all source streams not classified as \"minor\" or \"de-minimis\""]
[305,"Kod klasifikacije tokova izvora iz masene bilance u obzir će se uzeti najviša (apsolutna) vrijednost.","For mass balance source streams the absolute values will be taken into account for the classification."]
[306,"Za pomoć odabira odgovarajuće kategorije, moguće kategorije biti će automatski prikazane za svaki tok izvora u zelenom polju.","To help you selecting an appropriate category, the possible category will be displayed automatically for each source stream in the green field."]
[307,"Ovaj automatski prikaz  pruža informacije samo o mogućim kategorijama za svaki samostalan tok izvora. Ukoliko je bilo koji od gore navedenih uvjeta prekoračen, moguće kategorije se neće promijeniti, ali će se pojaviti poruka o pogrešci. U tom slučaju molimo odaberite kategoriju koja je najmanje za jednu razinu viša.","Please note that this automatic display only provides information about the possible category for each source stream as a stand-alone. If any of the thresholds explained above are exceeded, the possible categories will not change but an error message will occur. In that case please select at least a category one level higher."]
[308,"Nakon što je unos procijenjenih emisija za sve tokove izvora završen, zbroj emisija biti će uspoređen s ukupnim godišnjim emisijama unesenim pod 5.d. iznad. Ako se zbroj procijenjenih emisija razlikuje za više od 5% ukupnih godišnjih emisija pojaviti će se automatska poruka o pogrešci.","After you have completed entering the estimated emissions for all source streams the sum will be compared to the total annual emissions entered under 5.d. above. If the sum of estimated emissions differs by more than 5% of total annual emissions an automatic error message will be displayed. "]
[309,"Puni naziv tokova izvora (naziv + vrsta)","Source stream full name (name + type)"]
[310,"Odabrana kategorija","Selected category"]
[311,"Sirovina; Cementni klinker; Na temelju ulaza u peć (Metoda A)","Raw meal; Cement clinker: Kiln input based (Method A)"]
[312,"Glavni","Major"]
[313,"Mazut; Izgaranje; Druga plinovita i tekuća goriva","Heavy fuel oil; Combustion: Other gaseous & liquid fuels"]
[314,"Poruka o pogrešci (zbroj manjih tokova izvora):","Error message (sum of minor source streams):"]
[315,"Poruka o pogrešci (zbroj \"de minimis\" tokova izvora):","Error message (sum of de-minimis source streams):"]
[316,"Poruka o pogrešci (ukupne emisije, razlika do 5(d)):","Error message (Total Emissions, difference to 5(d) ):"]
[317,"Dijelovi postrojenja i djelatnosti koje nisu uključene u EU ETS, ako je relevantno:","Installation parts and activities not included in the EU ETS, if relevant:"]
[318,"Navedite pojedinosti za bilo koje dijelove postrojenja ili aktivnosti koje nisu uključene u EU ETS gdje se goriva ili sirovine koji se koriste u tim aktivnostima obračunavaju mjernim uređajima koji se također nalaze u aktivnostima Priloga I.","Please provide details for any installation parts or activities not included in the EU ETS where fuel or materials used by these activities are accounted for by measurement devices that also supply Annex I activities."]
[319,"Za daljnje upute obratite pažnju na točke (b), (c) i (e).","For further guidance please consult points (b), (c) and (e) above. "]
[320,"Oznake izvora emisija","Emission source ref"]
[321,"Tokovi izvora (goriva/sirovine)","Source streams (fuels/materials)"]
[322,"Izvori emisija","Emission sources"]
[323,"Točke emisija","Emission points"]
[324,"Prirodni plin (koji prolazi kroz postrojenje do vanjskog korisnika)","Natural gas (passed through the installation to external consumer)"]
[325,"nekoliko kotlova (<3MW svaki)","several boilers (< 3MWth each)"]
[326,"Ispusti povezanih postrojenja (grijanje od susjedne bolnice)","Stack of connected installation (Heating of adjacent hospital)"]
[327,"Pritisnite \"+\" kako bi dodali nove aktivnosti isključene iz EU ETS-a","Click \"+\" to add more activities excluded from EU ETS"]
[328,"D.\nMetodologija proračuna","D.\nCalculation Approach"]
[329,"Mjerni instrumenti","Measuring Instruments"]
[330,"Izvori informacija:","Information Sources"]
[331,"Laboratoriji","Laboratories"]
[332,"Procedure","Procedures"]
[333,"Koristite ovaj list za davanje informacija potrebnih za metodologiju proračuna. Ovdje unesene informacije koriste se kao referenca za detaljne unose u sljedećem listu (E_Tokovi_Izvora).","Please use this sheet for providing information necessary for calculation based approaches. The information entered here is used as reference for the detailed inputs in the following sheet (E_SourceStreams)."]
[334,"Konkretno, popis mjernih instrumenata je potreban za praćenje podataka o aktivnostima, popis izvora informacija je potreban za zadane vrijednosti za faktore proračuna u skladu sa člankom 31. Uredbe, a analitičke metode će biti navedene u slučaju da su potrebne analize za faktore proračuna.","In particular, the list of measuring instruments is required for the monitoring of activity data, the list of information sources is required for default values for calculation factors in accordance with Article 31, and the analytical methods will be referenced in case analyses are required for calculation factors."]
[335,"Ukoliko je primjenjivo opišite metodologiju proračuna za praćenje emisija CO2 iz vašeg postrojenja:","Description of the calculation based approach for monitoring CO2 emissions at your installation, if applicable:"]
[336,"Navedite kratak opis metodologije proračuna, uključujući i formule, korištene za utvrđivanje godišnje emisije CO2 u polju ispod.","Please provide a concise description of the calculation approach, including formulae, used to determine your annual CO2 emissions in the text box below."]
[337,"Ako je opis presložen, npr. ako su korištene složene formule, možete dati opis u zasebnom dokumentu pomoću formata prihvatljivog za nadležno tijelo. U tom slučaju molimo da ovdje stavite referencu na dokument, koristeći ime i datum dokumenta.","If the description is too complex, e.g. complex formulas are applied, you may provide the description in a separate document using a file format acceptable for the CA. In this case please reference this file here, by using the file name and date."]
[338,"Ovaj opis bi trebao pružiti povezane informacije koje su potrebne za razumijevanje informacija navedenih u drugim dijelovima ovog obrasca, a koje se  zajedno koriste za proračun emisija. Opis može biti kratak poput danog primjera.","This description should provide the linking information which is needed to understand, how the information given in other parts of this template are used together for calculating the emissions. It may be as short as the given example."]
[339,"U principu, metodologija proračuna korištena za ovo postrojenje napravljena je u skladu sa sljedećim postavkama:","In principle, the calculation approach used at this installation is done according to the following sequence:"]
[340,"a) za svaki tok izvora, gdje su korištene zadane vrijednosti faktora proračuna (prirodni plin, mazut i svi manji tokovi izvora), podaci o aktivnosti se prvo zbrajaju, a potom se koristi računska formula sukladno članku 24. stavak 1. Uredbe","a) for each source stream, where default values for calculation factors are used (natural gas, heavy fuel oil, and all minor source streams), the activity data is first summed up, then the calculation formula according to Article 24(1) is used."]
[341,"b) za svaki tok izvora, gdje se rezultati analiza koriste za faktore proračuna (ugljen, sirovine), podaci o djelatnostima i faktori proračuna za svaku šaržu, na koje se analize odnose, unose se u formulu proračuna prema članku  24. stavak 1. Uredbe. Dobivene emisije svake šarže se zatim zbrajaju i predstavljaju godišnje emisije toka izvora.","b) for each source stream, where analyses results are used for calculation factors (coal, raw meal), the activity data and calculation factors of each batch, to which the analyses relate, are first used for the calculation formula according to Article 24(1). The resulting emissions for each batch are then summed up to the annual emissions value of the source stream."]
[342,"c) u slučaju b) za izvješćivanje se određuje ponderirani prosjek faktora proračuna.","c) In cases b), weighted average calculation factors are determined for reporting."]
[343,"d) emisije svih tokova izvora se zbrajaju u ukupnu godišnju emisiju postrojenja.","d) the emissions of all source streams are added up to give the annual emissions of the installation."]
[344,"Za kruta goriva, koristi se mjerenje šarže u skladu s člankom 27. stavak 2. Uredbe. Svi drugi tokovi izvora prate se pomoću kontinuiranog mjerenja.","For solid fuels, batch metering in accordance with Article 27(2) is used. All other source streams are monitored using continual metering."]
[345,"Svi detalji o tokovima izvora (određivanje podataka o djelatnostima, utvrđivanje faktora proračuna) navedeni su u drugim dijelovima ovog plana praćenja.","All details on source streams (determination of activity data, determination of calculation factors) are outlined in other sections of this monitoring plan."]
[346,"Specifikacija i lokacija mjernih sustava za određivanje podataka o djelatnostima za tokove izvora:","Specification and location of measurement systems for determining the activity data for source streams:"]
[347,"Opišite specifikaciju i lokaciju mjernih sustava koji će se koristiti za svaki tok izvora gdje se emisije određuju proračunom.","Please describe the specification and location of the measurement systems to be used for each source stream where emissions are determined by calculation."]
[348,"Pod \"Lokacija\" treba specificirati gdje se u postrojenju nalazi mjerilo, i kako je označeno na shemi tijeka procesa.","Under \"Location\" you should specify where the meter is found in the installation, and how it is identified in the process flow chart."]
[349,"Za svaki mjerni instrument unesite određenu nesigurnost, uključujući raspon na koji se odnosi nesigurnosti, kako je navedeno u specifikaciji proizvođača. U nekim slučajevima nesigurnost se može odrediti za dva različita raspona. U tom slučaju unesite oba.","For each measuring instrument please enter the specified uncertainty, including the range this uncertainty is related to, as given in the manufacturer's specification. In some cases an uncertainty may be specified for two different ranges. In that case please enter both of them."]
[350,"Uobičajeni raspon korištenja odnosi se na raspon vrijednosti za relevantni mjerni instrument koji se koristi u vašem postrojenju. ","The typical use range refers to the range the relevant measuring instrument is usually used in your installation."]
[351,"Potrebno je opisati sve mjerne instrumente koji su relevantni za praćenje emisija, uključujući glavna i kontrolna mjerila koji se koriste za oduzimanje količina goriva i/ili sirovina koje se koriste izvan granica postrojenja. Mjerni uređaji koji se koriste za kontinuirano mjerenje emisije (CEMS) trebaju se specificirati u listu F_Metodologija_Mjerenja, poglavlje 9.c.","A description should be provided for all measurement devices which are relevant for emissions monitoring, including sub-meters and meters used to deduct quantities which are used outside the installation boundaries. Measurement devices used for continuous emissions measurement (CEMS) are to be specified in sheet F_MeasurementBasedApproaches, section 9.c."]
[352,"\"Tip mjernog instrumenta\": odaberite odgovarajući tip iz padajućeg izbornika ili unesite tip koji Vam bolje odgovara.","\"Type of measuring instrument\": Please select the appropriate type from the drop-down list, or enter a more appropriate type."]
[353,"Ovdje unesen popis instrumenata bit će na raspolaganju kao padajući izbornik za svaki tok izvora u listu E_Tokovi_Izvora (točka b) s pripadajućim oznakama korištenih mjernih instrumenta.","The list of instruments entered here will be available as a drop-down list for each source stream in sheet E_SourceStreams (point b), where the relevant measuring instruments used are to be referenced."]
[354,"U slučaju mjerila protoka plina navedite Nm³/h ukoliko je kompenzacija p/T uključena u instrument.  Navedite m³ ukoliko je kompenzacija p/T napravljena pomoću posebnog instrumenta te navedite o kojem se posebnom instrumentu radi.","In case of gas flow meters please refer to Nm³/h if the p/T compensation is implemented into the instrument and relate to m³ in operating state if the p/T compensation is done by a separate instrument. In the latter case please also list those separate instruments."]
[355,"Svi instrumenti koji se koriste moraju biti jasno prepoznatljivi na temelju jedinstvenog ID-a (kao što je serijski broj instrumenta). Promjena instrumenata (npr. potrebno primjerice zbog posljedice oštećenja) neće predstavljati značajnu promjenu plana praćenja u smislu članka 15. stavak 3. Uredbe. Jedinstvena identifikacija bi stoga trebala biti dokumentirana odvojeno od plana praćenja  i za to imati odgovarajuću pisanu proceduru.","All instruments used must be clearly identifiable using a unique ID (such as the serial number of the instrument). However, exchange of instruments (e.g. necessary as consequence of a damage) will not constitute a significant change of the monitoring plan within the meaning of Article 15(3). The unique identification should therefore be documented separately from the monitoring plan. Please make sure that you establish an appropriate written procedure for this purpose."]
[356,"Oznaka","Ref"]
[357,"Tip mjernog instrumenta","Type of measuring instrument"]
[358,"lokacija (interni ID)","location (internal ID)"]
[359,"Raspon mjerenja","Measurement range"]
[360,"Specificirana\nnesigurnost\n(+/-%)","Specified\nuncertainty\n(+/-%)"]
[361,"Uobičajen raspon korištenja","Typical use range"]
[362,"jedinica","unit"]
[363,"donja granica","lower end"]
[364,"gornja granica","upper end"]
[365,"Rotametar","Rotary meter"]
[366,"Kolna vaga","Weigh bridge"]
[367,"Pritisnite \"+\" kako bi dodali više mjernih instrumenata","Click \"+\" to add more measurement instruments"]
[368,"Naslov i referenca dokumenta za procjenu izračuna nesigurnosti:","Uncertainty calculations assessment document title and reference:"]
[369,"Morate osigurati dokaze o usklađenosti s primijenjenim razinama točnosti, u skladu s člankom 12. Uredbe. Navedite reference o izračunu nesigurnosti i/ili shematske prikaze u polje iznad.","You must provide evidence to demonstrate compliance with the applied tiers, in accordance with Article 12. Please list references to uncertainty calculations and/or schematics in the box above. "]
[370,"Imajte na umu da u skladu s člankom 47. stavkom 3. Uredbe, postrojenja s niskim emisijama ne moraju podnijeti ovaj dokument nadležnom tijelu.","Note that in accordance with Article 47(3), installation with low emissions do not have to submit this document to the CA."]
[371,"Popis izvora informacija za zadane vrijednosti faktora proračuna:","List of information sources for default values of calculation factors:"]
[372,"Navedite sve relevantne izvore informacija, iz kojih ste izveli zadane vrijednosti za faktore proračuna u skladu s člankom 31. Uredbe","Please list all relevant information sources, from which you derive default values for calculation factors according to Article 31. "]
[373,"Preproruka je da se koristi Uredba Prilog VI, Izvješće o inventaru stakleničkih plinova za područje RH (NIR), IPCC…","These are usually static sources such as e.g. National Inventory, IPCC, MRR Annex VI, Handbook of Chemistry & Physics...)."]
[374,"Ukoliko zadane vrijednosti operater uzima iz NIR-a, potrebno je navesti referencu na Izvješće o inventaru stakleničkih plinova na području RH (npr. NIR 2021). Izvješće NIR nalazi se na internetskim stranica nadležnog tijela (MZOZT-a i ZZOIP-a).","Only where the default values change on an annual basis, the operator shall specify the authoritative applicable source of that value by means of a dynamic source, such as the CA's Website."]
[375,"Ovaj popis će biti dostupan kao padajući izbornik u listu E_Tokovi_izvora tablica (g) s pripadajućim oznakama na izvore informacija s relevantnim faktorima proračuna za svaki tok izvora.","This list will be available as a drop-down in sheet E_SourceStreams (table (g) to reference the information sources to the relevant calculation factors of each source stream."]
[376,"Oznaka izvora informacija ","Information Source Ref."]
[377,"Opis izvora informacija","Description of Information source "]
[378,"Nacionalni inventar stakleničkih plinova, ažuriran na godišnjoj razini (http://www.haop.hr/hr/tematska-podrucja/zrak-klima-tlo/klimatske-promjene). Koriste se najnovije vrijednosti objavljene u tekućoj godini. ","National GHG Inventory, annually updated (see http:/Dummy.address.test). Most recent value published in 2011 is used."]
[379,"Handbook of Chemistry and Physics, 92. izdanje, http://www.hbcpnetbase.com/","Handbook of Chemistry and Physics, 92nd ed., http://www.hbcpnetbase.com/"]
[380,"DOV i EF analize za tok izvora \"mazut\" NIR-a 2013.g.","NCV and EF analysis of source stream \"heavy fuel oil\" from August 2011"]
[381,"Pritisnite \"+\" kako bi dodali više izvora informacija","Click \"+\" to add more information sources"]
[382,"Laboratoriji i analitičke metode korištene za određivanje faktora proračuna:","Laboratories and methods used for analyses for calculation factors:"]
[383,"Navedite sve analitičke metode koje se koriste za analizu goriva i sirovina za određivanje svih faktora proračuna gdje je to primjenjivo s obzirom na odabranu razinu. Tamo gdje laboratorij nije akreditiran sukladno normi HRN EN ISO / IEC 17025, dužni ste pružiti dokaze da je laboratorij tehnički osposobljen u skladu s člankom 34.Uredbe. Za tu svrhu navedite referencu na priloženi dokument.","Please list the methods to be used for analysing fuels and materials for the determination of all calculation factors where applicable due to the selected tier. Where the laboratory is not accredited according to EN ISO/IEC 17025, you have to provide evidence that the laboratory is technically competent in accordance with Article 34. For this purpose please provide reference to an attached document."]
[384,"Kada se koriste online plinski kromatografi ili ekstraktivni ili neekstraktivni analizatori plina, moraju se ispuniti zahtjevi iz članka 32. Uredbe","Where online gas chromatographs or extractive or non-extractive gas analysers are used, the requirements of Article 32 shall be met."]
[385,"Ovaj popis će biti dostupan kao padajući izbornik u listu E_Tokovi_Izvora tablica (g) za upućivanje na analitičke metode za relevantne faktore proračuna za svaki tok izvora.","This list will be available as a drop-down in sheet E_SourceStreams (table (g)) to reference the analytical methods to the relevant calculation factors of each source stream."]
[386,"Oznaka laboratorija","Lab Ref"]
[387,"Ime laboratorija","Name of laboratory"]
[388,"Analitički parametar","Parameter"]
[389,"Analitička metoda\n(uključujući oznaku procedure i kratki opis metode)","Method of analysis\n(include procedure reference and brief description of method)"]
[390,"Je li laboratorij  akreditiran sukladno normi HRN EN ISO/IEC 17025 za ovu analizu?","Is lab EN ISO/IEC 17025 accredited for this analysis?"]
[391,"Ako nije, navedite oznaku dokumenta u kojem se referirate na taj dokaz.","If no, reference the evidence to be submitted"]
[392,"Laboratorij d.o.o.","Example lab"]
[393,"Sadržaj ugljika","C-Content"]
[394,"HRN EN 15104:2011. Vidi postupak ANA-1233/UBA","EN 15104:2011. See procedure ANA-1233/UBA"]
[395,"Analiza d.o.o.","Example lab 2"]
[396,"Udio biomase","Biomass content"]
[397,"HRN EN 15440:2011 - postoje određena odstupanja u veličini uzorka i obradi. Vidi postupak ANA-1234/UBA","EN 15440:2011 - some deviations regarding sample size and treatment. See procedure ANA-1234/UBA"]
[398,"Lab_kompetentnost.pdf, 2/3/2012","Lab_competence.pdf, 2/3/2012"]
[399,"Pritisnite \"+\" kako bi dodali više metoda & laboratorija","Click \"+\" to add more methods & laboratories"]
[400,"Opis pisanih pstupaka za analize:","Description of the written procedures for analyses:"]
[401,"Navedite pojedinosti o pisanim postupcima za analize navedene u tablici 7(e).Opis bi trebao obuhvatiti osnovne parametre i postupke koji se provode.","Please provide details about the written procedures for the analyses listed above in table 7(e). The description should cover the essential parameters and operations performed."]
[402,"Gdje se više postupaka koristi u slične svrhe, ali za različite tokove izvora ili parametre, navedite zajedničke elemente i osiguranje kvalitete primijenjenih postupaka.","Where a number of procedures are used for a similar purpose but for different source streams or parameters, please provide details of an overarching procedure which covers the common elements and quality assurance of the applied methods."]
[403,"Ovdje možete navesti oznake pojedinih \"podpostupaka\". Ukoliko želite možete dati opise svakog relevantnog postupka odvojeno, pri tome kliknite na \"Pritisnite \"+\" kako bi dodali više postupaka\"  na kraju ovog lista. Navedite jasnu oznaku na odgovarajući (pod)postupak u poglavlju 8  List E_Tokovi_Izvora, tablica (g).","You may then either give here references to individual \"sub-procedures\", or you may provide details of each relevant procedure separately. For the latter, please use the \"add procedure\" button at the end of this sheet. However, please ensure that clear reference to the appropriate (sub-)procedure can be given in section 8, table g."]
[404,"Naziv postupka","Title of procedure"]
[405,"Analiza DOV krutih i tekućih goriva.","Analysis of NCV of solid and liquid fuels."]
[406,"Oznaka postupka","Reference for procedure"]
[407,"Kruta goriva: ANA 1-1/UBA; Tekuća goriva: ANA 1-2/UBA; Usporedba s vanjskim (akreditiranim) laboratorijem: ANA 1-3/ext","Solid fuels: ANA 1-1/UBA; Liquid fuels: ANA 1-2/UBA;  Comparison by external (accredited) laboratory: ANA 1-3/ext"]
[408,"Oznaka dijagrama (ukoliko je primjenjivo)","Diagram reference (where applicable)"]
[409,"N.P. nije primjenjivo","N.A."]
[410,"Kratki opis postupka","Brief description of procedure    "]
[411,"Koristi se  kalorimetrijska bomba. Odgovarajuća količina uzorka temelji se na iskustvima iz ranijih mjerenja na sličnim materijalima.\nUzorci se koriste u suhom stanju (sušeni na 120°C najmanje 6 h). DOV se korigira s obzirom na sadržaj vlage.","Bomb calorimeter method is used. Appropriate amount of sample is based on experience from earlier measurements of similar materials.\nSamples are used in dry state (dried at 120°C for at least 6h). NCV is corrected for moisture content by calculation."]
[412,"Kruta goriva: kao i u normi. Tekuća goriva: samo djelomično prilagođena normi; uzorci nisu sušeni.","Solid fuels: as in standard. Liquid fuels: Only slightly adapted from standard; samples are not dried."]
[413,"Ustrojstvena jedinica tvrtke odgovorna za postupke i za obradu podataka.","Post or department responsible for the procedure and for any data generated"]
[414,"Pogonski laboratorij  - Voditelj odjela. Zamjenik: Voditelj kvalitete.","Company's Laboratory - Head of department. Deputy: HSEQ manager."]
[415,"Lokacija na kojoj se pohranjuju zapisi","Location where records are kept"]
[416,"Tiskani primjerak: Ured laboratorija, ormar xy, naziv mape “ETS 01-ANA-yyyy”  (yyyy predstavlja tekuću  godinu).\nElektronički: “P:\\ETS_MRV\\labs\\ETS_01-ANA-yyyy.xls”\n","Hardcopy: Laboratory Office, shelf 27/9, Folder identified “ETS 01-ANA-yyyy” (where yyyy is the current year).\nElectronically: “P:\\ETS_MRV\\labs\\ETS_01-ANA-yyyy.xls”\n"]
[417,"Naziv informatičkog sustava koji se koristi (ako je primjenjivo).","Name of IT system used (where applicable)."]
[418,"Interna evidencija laboratorija (MS Access datoteka): brojevi uzoraka i porijeklo/naziv uzoraka mogu se pratiti zajedno s pripadajućim rezultatima.","Internal log of the lab (MS Access database): sample numbers and origin/name of sample are tracked together with the results."]
[419,"Popis HRN EN i ostalih primjenjenih normi (ako je primjenjivo)","List of EN or other standards applied (where relevant)"]
[420,"HRN EN 14918:2010 s izmjenama za analize tekućih goriva i uzoraka koji nisu biomasa.","EN 14918:2009 with modifications for using also for non-biomass and liquid fuels."]
[421,"Opis postupka za planove uzorkovanja:","Description of the procedure for the sampling plans for the analyses:"]
[422,"Postupci u nastavku trebaju opisati elemente plana uzorkovanja sukladno članku 33. Uredbe. Kopiju postupka treba dostaviti nadležnom tijelu zajedno s planom praćenja.","The procedures below should cover the elements of a sampling plan as required by Article 33.  A copy of the procedure should be submitted to the competent authority with the monitoring plan."]
[423,"Opis postupka za provjeru primjenjivosti provedbe plana uzorkovanja:","Description of the procedure to be used to revise the appropriateness of the sampling plan:"]
[424,"Opis postupka za procjenu zaliha na početku/kraju izvještajne godine (ako je primjenjivo):","Description of the procedure to be used to estimate stocks at the beginning/end of the reporting year (if applicable):"]
[425,"Opišite postupke koji će se koristiti za procjenu promjena zaliha svih tokova izvora koji se prate šaržno, npr.navedite gdje se koriste fakture ","Please describe the procedure to be used to estimate stock changes of any source streams which are monitored using batch metering, e.g. where invoices are used."]
[426,"Opis postupka za nadzor instrumenata instaliranih u postrojenju koji se koriste za određivanje podataka o aktivnosti","Description of the procedure used to keep track of instruments installed in the installation used for determining activity data."]
[427,"Ovj postupak je relevantan samo kad operater koristi mjerne instrumente koji su pod njegovom kontrolom.","This procedure is only relevant where the operator uses measuring instruments under his own control."]
[428,"Pritisnite \"+\" kako bi dodali više postupaka","Click \"+\" to add more procedures"]
[429,"E. \nTokovi izvora","E.\nSource streams"]
[430,"6 do 10","6 to 10"]
[431,"E. Tokovi izvora","E. Source Streams"]
[432,"Napomena: upute su dane samo za prvi tok izvora.","Please note that the guiding text is only displayed for the first source stream."]
[433,"Ukoliko nisu vidljivi svi podaci za svaki tok izvora, kliknite na znak \"+\" koji se nalazi s lijeve strane, u sivom području.","If you want to display data for further source streams, please click on the \"+\" signs at the left (data grouping function)."]
[434,"Za dodavanje dodatnih tokova izvora, idite na poglavlje 6.e u listu C_Opis_Postrojenja i koristite makronaredbu.","For adding further source streams, please go to section 6.e in sheet C_InstallationDescription, and use the macro there."]
[435,"Primjer je prikazan u prvom toku izvora.","The example is integrated in the first source stream.","; 'I_PFC'!$D$69"]
[436,"Vrsta toka izvora:","Source stream type:"]
[437,"Primijenjiva metoda prema Uredbi:","Method applicable according to MRR:"]
[438,"Parametar na koji se odnosi nesigurnost:","Parameter to which uncertainty applies:"]
[439,"Primjer toka izvora:","Example Source Stream:"]
[440,"Standardna metoda: Gorivo, članak 24. stavak 1.Uredbe","Standard method: Fuel, Article 24(1)"]
[441,"Količina goriva (t) ili (Nm3)","Amount of fuel [t] or [Nm3]"]
[442,"Naziv toka izvora, vrsta toka izvora i kategorija će se prikazati automatski na temelju unesenih podataka u poglavlju 6.e u listu C_Opis_Postrojenja.","The source stream name, the source stream type, and the category will be displayed automatically based on your entries in section 6.e in sheet C_InstallationDescription."]
[443,"Ako niste pripisali tok izvora odgovarajućoj kategoriji (glavni, mali, de-minimis), koristit će se kategorija koja je automatski prikazana. U tom slučaju, obrazac ne može automatski točno prikazati razine točnosti koje će se primjenjivati​​. Stoga ispravno odaberite odgovarajuću kategoriju u gore navedenom poglavlju.","If you have not attributed the source stream to an applicable category (major, minor, de-minimis) there, the category which is automatically displayed in that section will be used. If this is the case, the template cannot correctly indicate below which tiers are to be applied. Therefore please make sure to select an applicable category correctly in the section mentioned above."]
[444,"Vrsta toka izvora je jasno povezana s metodom praćenja koja se primjenjuje sukladno Uredbi (članci 24. i 25. Uredbe) i parametara na koje se odnosi nesigurnost podataka o aktivnostima (Prilog II). Ova informacija se automatski prikazuje sukladno Uredbi.","As the source stream type can be clearly assigned to a monitoring method applicable according to the MRR (Articles 24 and 25) and the parameters to which the uncertainty of the activity data applies (Annex II), this information is provided automatically based on the MRR."]
[445,"Automatske upute o primjenjivim razinama točnosti:","Automatic guidance on applicable tiers:"]
[446,"U poglavljima (c) i (f) potrebne razine točnosti za podatke o djelatnosti i faktore proračuna prikazane su u zelenim poljima na temelju unosa u poglavljima 5 (d) i (e) i 6 (e) i 6 (f). To su minimalne razine točnosti za glavne tokove izvora u postrojenjima kategorije C. Međutim, niže razine točnosti mogu biti dopuštene. Upute su prikazane u zelenim poljima u nastavku, ovisno o sljedećim točkama:","Below in sections (c) and (f) the required tiers for activity data and calculation factors are displayed in the green fields based on your inputs in section 5(d) and (e), and 6(e) and 6(f). Those are the minimum tiers for major source streams in category C installations. However, lower requirements may be allowed. An appropriate guidance is displayed in the green text box below, depending on the following points:"]
[447,"Smanjeni zahtjevi za postrojenja s niskim emisijama u skladu s člankom 47. stavak 2.Uredbe","Reduced requirements apply to installations with low emissions in accordance with Article 47(2);"]
[448,"Kategorija postrojenja (A, B ili C) u skladu s člankom 19. Uredbe;","The installation category (A, B or C) in accordance with Article 19;"]
[449,"Smanjeni zahtjevi primijenjuju se na manje i de-minimimis tokove izvora prema klasifikaciji u skladu sa člankom 19. stavak 3.Uredbe","Reduced requirements apply to minor source streams and de-minimimis source streams as classified pursuant to Article 19(3)."]
[450,"Ova poruka se odnosi na primjenjive razine točnosti za podatke o aktivnostima i za sve faktore proračuna:","This message on applicable tiers is relevant for the activity data and for all calculation factors."]
[451,"Primjer:","Example data:"]
[452,"\n\"Članak 26. stavak 1. Uredbe: Primjenit će se barem minimalne razine točnosti prikazane u nastavku​​.\nMeđutim, može se koristiti do dvije razine nižu razinu točnosti, ali minimalno razinu točnosti 1. Tada je potrebno dokazati nadležnom tijelu da je zahtjevana razina točnosti tehnički neizvediva ili stvara neopravdano visoke troškove. \"\n\n\n\n\n","Art. 26(1): The minimum tiers displayed below shall at least apply.\nHowever, you may apply a tier up to two levels lower, with a minimum of tier 1, where you can show to the satisfaction of the competent authority that the tier required in accordance with the first subparagraph is technically not feasible or incurs unreasonable costs."]
[453,"Podaci o aktivnosti:","Activity Data:"]
[454,"Metoda određivanja podataka o aktivnosti:","Activity data determination method:"]
[455,"Metoda određivanja:","Determination method:"]
[456,"Kontinuirano mjerenje","Continual"]
[457,"Na temelju članka 27. stavka 1.  podaci o aktivnosti toka izvora mogu se utvrditi (a) kontinuiranim mjerenjem količine ili (b) na temelju zbroja količina pojedinačnih isporuka uzimajući u obzir  promjene zaliha (šaržno)","Pursuant to Article 27(1) the activity data of a source stream can be determined (a) by continual metering at the process which causes the emissions, or (b) based on aggregation of metering of the amount separately delivered taking into account relevant stock changes (batch metering)."]
[458,"Oznaka postupka za utvrđivanje zaliha na kraju godine:","Reference to procedure used for determining stock piles at end of year:"]
[459,"Važno ukoliko ste odabrali \"Šarža\" kao metodu određivanja. Pogledajte postupak opisan u poglavlju 7 (i), list D_Metodologija_proračuna.","This is only relevant if you selected \"Batch\" as determination method. Please refer to the procedure described under section 7(i). "]
[460,"Postrojenja s niskim emisijama (poglavlje 5 (e)) ne moraju uključiti određivanje podataka o zalihama u svojoj procjeni nesigurnosti (članak 47. stavak 5. Uredbe)","Installations with low emissions (section 5(e)) are not required to include the stocks determination in their uncertainty assessment (Article 47(5))."]
[461,"Instrumenti pod nadzorom:","Instrument under control of:"]
[462,"Odaberite \"Operater\" ako su mjerni instrumenti pod vašim nadzorom ili \"Trgovinski partner\" ako nisu pod vašim nadzorom.","Please choose \"operator\" if the measurement instrument is under your own control and \"Trade partner\" if it is outside your own control."]
[463,"Ukoliko je za tok izvora relevantno više od jednog instrumenta, a barem jedan od instrumenata nije pod vašim nadzorom odaberite \"Trgovinski partner\" .U tom slučaju koristite polje za komentare pod točkom (b) da se utvrdi koji instrumenti su pod nadzorom operatera i koji su pod nadzorom trgovinskog partnera.","If more than one instrument is relevant, please choose \"trade partner\" if this is the case for at least one of the instruments used for this source streams. In this case use the comment box under point (b) below to identify which instruments are under the operator's control and which ones are under the trading partner's control."]
[464,"Potvrdite da su ispunjeni zahtjevi iz članka 29. stavka 1. Uredbe","Please confirm that the conditions of Article 29(1) are satisfied:"]
[465,"Ova točka je relevantna ako niste vlasnik mjernog instrumenta.","This point is only relevant if you are not the owner of the measurement instrument."]
[466,"Na temelju članka 29. stavka 1. Uredbe kao izvor podataka mogu se koristiti  instrumenti koji nisu pod vašim nadzorom, samo ako ti instrumenti odgovaraju najmanje istoj razini točnosti kao i vaši instrumenti, a daju pouzdanije rezultate i manje su skloni rizicima pri nadzoru.","Pursuant to Article 29(1) you are only allowed to rely on instruments that are not under your own control if the instruments comply at least with as high a tier as own instruments, give more reliable results, and are less prone to control risks."]
[467,"Koristite li fakture za utvrđivanje količine goriva ili sirovina?","Do you use invoices for determining the amount of this fuel or material?"]
[468,"Potvrdite da su trgovinski partner i operater neovisni.","Please confirm that the trade partner and the operator are independent:"]
[469,"Ova točka je relevantna ako niste vlasnik mjernog instrumenta.","This point is only relevant if you are not the owner of the measurement instrument "]
[470,"Na temelju članka 29. stavka 1. točke (a) Uredbe smijete koristiti podatke s fakture ako su trgovinski partneri neovisni.","Pursuant to Article 29(1) point (a) you may only rely on invoices if the trade partners are independent."]
[471,"Korišteni mjerni instrumenti:","Measurement instruments used:"]
[472,"Odaberite jedan ili više instrumenata koji su definirani u poglavlju 7(b), list D_Metodologija_proračuna","Please select here one or more from the instruments which you have defined in section 7(b). "]
[473,"Ako se koristi više od 5 mjernih instrumenata za tok izvora, npr. ako se p/T kompenzacija utvrđuje različitim instrumentima, unesite detaljan opis u polje za komentar.  ","If more than 5 measurement instruments are used for this source stream, e.g. if the p/T compensation is done using separate instruments, please use the comment box below for further description."]
[474,"Komentar/opis pristupa ako se koristi više instrumenata:","Comment / Description of approach, if several instruments used:"]
[475,"Objasniti zašto i kada se koristi više od jednog instrumenta. Npr. moguće je da je jedan instrument potreban za oduzimanje dijela goriva koji je izvan ETS-a.Vage se mogu koristiti alternativno, ili u svrhu potvrde, itd.","Please explain why and how more than one instrument are relevant, if applicable. E.g it may be the case that one instrument is needed for subtracting a non-ETS part of the fuel. Weighing instruments might be used alternatively, or for corroboration purposes, etc."]
[476,"Zahtijevana razina točnosti za podatak o djelatnosti:","Activity data tier level required:"]
[477,"Korištena razina točnosti za podatak o djelatnosti:","Activity data tier used:"]
[478,"Postignuta nesigurnost:","Uncertainty achieved:"]
[479,"Komentar:","Comment:"]
[480,"Nesigurnost ne smije biti viša od ± 5,0%","Uncertainty shall not be more than ± 5.0%"]
[481,"Nesigurnost ne smije biti viša od ± 2,5%","Uncertainty shall not be more than ± 2.5%"]
[482,"Podliježe nadzoru zakonskog mjeriteljstva ---> NDP u radu","Covered by national legal metrological control --> MPE in service"]
[483,"S obzirom na zahtijevanu i korištenu razinu točnosti, navedite postignutu nesigurnost tijekom cijelog izvještajnog razdoblja.","With regard to the tier level required and the tier level used, please provide here the uncertainty achieved in service over the whole reporting period."]
[484,"Navedena vrijednost treba biti rezultat procjene nesigurnosti (vidjeti odjeljak 7 (c), list D_Metodologija_proračuna). Međutim, članak 28. stavak  2., članak 28. stavak 3 . i članak 29. stavak 2. Uredbe omogućuju primjenu nekoliko pojednostavljenja:","In general, this value should be the result of an uncertainty assessment (see section 7(c)). However, Articles 28(2), (3) and 29(2) allow to apply several simplifications:"]
[485,"Možete koristiti najveću dopuštenu pogrešku specificiranu za mjerni instrument u uporabi ili niža odstupanja kada je nesigurnost dobivena umjeravanjem i pomnožena s konzervativnim faktorom prilagodbe (uzevši u obzir utjecaj nesigurnosti u radu), pod uvjetom da su mjerni instrumenti instalirani u skladu sa specifikacijama.","You may use the maximum permissible errors specified for the measuring instrument in service, or where lower, the uncertainty obtained by calibration, multiplied by a conservative adjustment factor for taking into account the effect of uncertainty in service, provided that measuring instruments are installed in an environment appropriate for their use specifications, or"]
[486,"Možete koristiti najveću dopuštena pogrešku u uporabi kao postignutu nesigurnost pod uvjetom da mjerni instrument podliježe nadzoru zakonskog mjeriteljstva.","You may use the maximum permissible error in service as the uncertainty achieved provided that the measuring instrument is subject to national legal metrological control."]
[487,"Koristite polje za komentar (točka (h) u nastavku) za opis određivanja nesigurnosti koja je postignuta tijekom cijelog razdoblja.","Please use the comment box (point (h) below) to describe how the uncertainty achieved over the whole period is determined."]
[488,"Za daljnje upute provjerite članke 28. i 29. Uredbe i dijela 5.3 Uputa br. 1.","For further guidance please consult Articles 28 and 29 of the MRR and section 5.3 of Guidance Document 1."]
[489,"Faktori proračuna:","Calculation factors:"]
[490,"Prema članku 30. stavku 1. faktori proračuna mogu biti određeni kao zadane vrijednosti ili kao laboratorijske analize. Koja od ovih opcija se koristi određuje se prema korištenoj razini točnosti.","According to Article 30(1) calculation factors can be determined either as default values or by laboratory analyses. Which of these options is used is determined by the applicable tier.\n"]
[491,"Koristite sljedeće razine točnosti u skladu s Uputama br. 1:","The following categories of tiers are used for your guidance (in accordance with guidance document 1):"]
[492,"Zadane vrijednosti I:","Type I default values"]
[493,"Zadane vrijednosti I su standardni faktori navedeni u Prilogu VI (tj. u principu IPCC vrijednosti) ili druge konstante u skladu s točkama (d) ili (e) članka 31. stavak 1.Uredbe tj. ugovorne vrijednosti zajamčene od strane dobavljača ili analize provedene u prošlosti te još uvijek vrijede.","Type I default values: Either standard factors listed in Annex VI (i.e. in principle IPCC values) or other constant values in accordance with points (d) or (e) of Article 31(1), i.e. values guaranteed by the supplier or analyses carried out in the past but still valid."]
[494,"Zadane vrijednosti II:","Type II default values:"]
[495,"Zadane vrijednosti II su emisijski faktori specifični za državu u skladu s točkama (b) i (c) članka 31. stavka 1.Uredbe, tj. vrijednosti koje se koriste za Izvješće o nacionalnom inventaru stakleničkih plinova na području RH (NIR). Za posebne vrste goriva moguće je koristiti literaturne vrijednosti odobrene od strane nadležnog tijela.\n","Type II default values: Country specific emission factors in accordance with points (b) and (c) of Article 31(1), i.e. values used for the national GHG inventory , more values published by the CA for more disaggregated fuel types, or other literature values which are agreed by the competent authority .\n"]
[496,"Utvrđeni posredni faktori:","Established proxies: "]
[497,"To su metode koje se temelje na empirijskim korelacijama koje se određuju najmanje jednom godišnje u skladu sa zahtjevima primjenjivim za laboratorijske analize. Kako se ove analize provode samo jednom godišnje to je razina točnosti koja se smatra nižom razinom od potpune analize. Posredni faktori korelacije mogu se temeljiti na:","These are methods based on empirical correlations as determined at least once per year in accordance with the requirements applicable for laboratory analyses. However, these analyses are only carried out once per year, therefore this tier is considered a lower level than full analyses. The proxy correlations may be based on:"]
[498,"mjerenju gustoće specifičnih ulja ili plinova, uključujući one koje su uobičajene za rafinerije ili  industriju čelika, ili","density measurement of specific oils or gases, including those common to the refinery or steel industry, or"]
[499,"neto kalorična vrijednost za specifične vrste ugljena.","net calorific value for specific coal types."]
[500,"Zapisi o nabavi:","Purchasing records: "]
[501,"Neto kalorična vrijednost može biti preuzeta s fakture dobavljača goriva, pod uvjetom da je određena na temelju prihvaćenih nacionalnih ili međunarodnih normi. (Primjenjivo samo u slučaju komercijalnih goriva).","The net calorific value may be derived from the purchasing records provided by the fuel supplier, provided it has been derived based on accepted national or international standards. (Applicable only in case of commercially traded fuels)."]
[502,"Laboratorijske analize:","Laboratory analyses: "]
[503,"U ovom su slučaju potpuno primjenjivi zahtjevi iz članka 32. do 35.Uredbe","In this case the requirements of Article 32 to 35 on analyses are fully applicable."]
[504,"Udio biomase I:","Type I biomass fraction"]
[505,"Primjenjuje se jedna od sljedećih ekvivalentnih metoda:","One of the following methods is applied, which are considered equivalent:"]
[506,"Koriste se zadane vrijednost ili metoda procjene objavljene od strane Komisije u skladu s člankom 39. stavkom 2.;","Use of a default value or an estimation method published by the Commission in accordance with Article 39(2);"]
[507,"Koriste se vrijednosti utvrđene sukladno članku 39. stavkom 2. Uredbe, tj. pretpostavlja se da je materijal u potpunosti fosilnog podrijekla (BF = 0), ili se koriste metode procjene odobrene od strane nadležnog tijela;","Use of a value determined in accordance with the second subparagraph of Article 39(2), i.e. assume the material fully fossil (BF=0), or use an estimation method approved by the competent authority;"]
[508,"Primjena članka 39. stavka 3. Uredbe u slučaju da se bioplin ubrizgava u distribucijsku mrežu prirodnog plina, koristi se jamstvo podrijetla u skladu s člankom 2.(j) i 15 Direktive 2009/28/EZ [Direktiva o obnovljivim izvorima energije]. ","Application of Article 39(3) in case of natural gas grids, into which biogas is injected, i.e. use a guarantee of origin scheme established in accordance with Articles 2(j) and 15 of Directive 2009/28/EC [Renewable Energy Sources Directive], where such scheme has been set up. "]
[509,"Udio biomase II:","Type II biomass fraction"]
[510,"Udio biomase utvrđuje se u skladu s člankom 39. stavkom 1. Uredbe, odnosno laboratorijskom analizom. U tom slučaju, relevantna norma i analitičke metode koje će se koristiti zahtijevaju obaveznu suglasnost nadležnog tijela.\n","The biomass fraction is determined in accordance with Article 39(1), i.e. by laboratory analyses. In that case the relevant standard and the analytical methods therein to be used require the explicit approval by the competent authority."]
[511,"Napomena:","Note:"]
[512,"Zahtijevane razine točnosti u tablici u nastavku, uvijek se odnose na glavne tokove izvora. Pogledajte informacije u polju poruke u zaglavlju ovog toka izvora jesu li dopuštene niže razine točnosti.\n\n","The required tiers in the table below always refer to major source streams. Please refer to the information in the message box in the header area of this source stream whether lower requirements are allowed."]
[513,"U skladu s člankom 26. stavkom 4. Uredbe, za oksidacijski faktor i konverzijski faktor operater će kao minimum, primjeniti najniže razine točnosti navedene u Prilogu II.\n","In accordance with Article 26(4), for the oxidation factor and conversion factor, the operator shall, as a minimum, apply the lowest tiers listed in Annex II."]
[514,"Korištene razine točnosti za faktore proračuna:","Applied tiers for calculation factors:"]
[515,"Faktor proračuna:","calculation factor"]
[516,"Zahtijevana razina točnosti:","required tier"]
[517,"Korištena razina točnosti:","applied tier"]
[518,"Puni tekst za korištenu razinu točnosti","full text for applied tier"]
[519,"Donja ogrjevna vrijednost (DOV)","Net calorific value (NCV)"]
[520,"Emisijski faktor (preliminarni)","Emission factor (preliminary)"]
[521,"Oksidacijski faktor","Oxidation factor"]
[522,"Konverzijski faktor","Conversion factor"]
[523,"Sadržaj ugljika","Carbon content"]
[524,"Udio biomase (ukoliko je primjenjiv)","Biomass fraction (if applicable)"]
[525,"Puni tekst za korištenu razinu točnosti","full text for applied tier"]
[526,"Laboratorijske analize:","Laboratory analyses"]
[527,"Zadane vrijednosti II:","Type II default values"]
[528,"Zadana vrijednost OF=1","Default value OF=1 "]
[529,"nije primjenjivo","n.a."]
[530,"Ovisno o odabranoj razini točnosti (zadane vrijednosti ili laboratorijska analiza) od vas se traži da, gdje je primjenjivo, unesete sljedeće informacije za svaki faktor proračuna:\n","Depending on the tier selected (default values or laboratory analysis), you are required to enter the following information for each calculation factor as applicable:"]
[531,"Tamo gdje se koristi zadana vrijednost unesite vrijednost, jedinicu i referencu na izvor literature u tablici 7 (d) na prethodnom listu. Vrijednost treba odražavati konstantnu vrijednost u trenutku objave plana praćenja.","Where a default value is used, please enter the value, the unit and the literature source by reference to table 7(d) on the previous sheet. The value should reflect the constant value at the time of notification of the monitoring plan."]
[532,"Gdje je potrebna laboratorijska analiza, unesite analitičku metodu/laboratorij pozivanjem na referencu u tablici 7(e) na prethodnom listu, referencu na vaš Plan uzorkovanja te odaberite na padajućem izborniku učestalost analiza.","Where a laboratory analysis is required, please enter analytical method/laboratory by reference to table 7(e) on the previous sheet, a reference to your sampling plan, and the analysis frequency to be applied."]
[533,"Detalji faktora proračuna:","Details for calculation factors:"]
[534,"Zadana vrijednost","default value"]
[535,"Jedinica","Unit"]
[536,"Oznaka izvora","source ref"]
[537,"Oznaka analize","analysis ref"]
[538,"Oznaka uzorkovanja","sampling ref"]
[539,"Učestalost analiza","Analysis frequency"]
[540,"DOV_uzorak","NCV_Sample"]
[541,"Tjedno","Weekly"]
[542,"IS5: IPCC","IS5: IPCC"]
[543,"IS1: MRR","IS1: MRR"]
[544,"Komentari i objašnjenja","Comments and explanations:"]
[545,"Komentari:","Comments:"]
[546,"Ispod navedite sve relevantne komentare. Objašnjenja su potrebna za npr. metodu procjene biomase, metodu posrednih faktora (korelacije), itd.","Please provide any relevant comments below. Explanations may in particular be required for e.g. the biomass estimation method, the proxy method (correlation), etc."]
[547,"Obrazloženje ako zahtijevane razine točnosti nisu primjenjene:\n","Justification if required tiers are not applied:"]
[548,"Ovdje navedite obrazloženje ukoliko se prema članku 26. Uredbe bilo koja od potrebnih razina točnosti ne primjenjuje za podatke o djelatnosti ili bilo koji od važećih faktora proračuna.","If any of the tiers required pursuant to Article 26 is not applied for activity data or any of the applicable calculation factors, please give a justification here."]
[549,"Gdje je u skladu sa člankom 26. potrebno dostaviti plan poboljšanja, treba ga dostaviti s ovim Planom praćenja te navesti referencu na isti u obrazloženju ispod. Gdje je obrazloženje temeljeno na neopravdano visokim troškovima, u skladu s člankom 18. Uredbe, tu procjenu treba dostaviti s ovim Planom praćenja i navesti referencu na isti u obrazloženju ispod.\n","Where an improvement plan is required in accordance with Article 26, this should be submitted with this monitoring plan and referenced below. Where justification is based upon unreasonable costs, in accordance with Article 18, this calculation should be submitted with this monitoring plan and referenced within the justification below."]
[550,"F.\nMetodologija mjerenja","F.\nMeasurement Approach"]
[551,"Mjerenje emisija","Measurement of emissions"]
[552,"Upravljanje i procedure","Management & Procedures"]
[553,"Napomena: Ovo poglavlje se mora popuniti za kontinuirana mjerenja emisija CO2 kao i emisija N2O. ","Note: This section is to be completed for continuous measurement of CO2 emissions as well as N2O emissions."]
[554,"Ovdje se prijavljuju podaci potrebni za praćenje prenesenog CO2 i inherentnog CO2. ","Furthermore some of the information required for the monitoring of transferred CO2 and inherent CO2 is to be reported here."]
[555,"Opis metodologije mjerenja","Description of the measurement based approach"]
[556,"Unesite sažet opis metodologije mjerenja korištene za određivanje godišnjih emisija CO2 i N2O u donje tekstualno polje. Ukoliko se mjere emisije N2O potrebno je uključiti izračun tih emisija u CO2e.","Please provide a concise description of the measurement approach used to determine your annual CO2 or N2O emissions in the text box below. If N2O is measured, include the approach for converting these emissions into CO2(e) data."]
[557,"Opis treba uključivati vrste korištenih instrumenata, bilo da su mjerenja izvršena pri mokrim ili suhim uvjetima; formule za primjenu faktora korekcije (p, T, O2 i H20). Tamo gdje je primijenjena norma HRN EN 14181 treba priložiti kalibracijske faktore za proceduru QAL2. Ako se računa volumen dimnih plinova, opišite ukratko metodu određivanja.","Your description should include the type of instrument(s) used, whether measurements are carried out under wet or dry conditions; the formulae for applying correction factors (p, T, O2 and H2O). Where EN 14181 is applied, the calibration factors required for QAL2 procedures should be given. If flue gas volume is calculated, please describe briefly the method for determination of the flue gas volume. "]
[558,"Opišete kako se određuju godišnje emisije s obzirom na koncentraciju i protok dimnih plinova, uzimajući u obzir učestalost određivanja koncentracije i protoka dimnih plinova. U opis također uključite i kako ste pribavili zamjenske podatke ukoliko se ne može odrediti stvarni broj radnih sati. ","Please describe how annual emissions are determined based on concentration and flue gas flow data, taking into account the frequency of determination of concentration and flue gas flow. Include also how data is substituted where no valid hour of data can be determined."]
[559,"Ukoliko je primjenjivo, opišete metodologiju po kojoj je određena emisija iz biomase (korištenjem metode proračuna) oduzimanjem od ukupnih emisija. ","If applicable, please describe also the methodology by which emissions from biomass are determined (using a calculation approach) for subtraction from the total emissions."]
[560,"Dijagram procesa:","Process diagram where requested by the Competent Authority:"]
[561,"Osigurajte dijagram procesa koji sadrži sve relevantne točke emisija tijekom redovnog rada i izvanrednog rada npr. tijekom faza restrikcije i tranzicije, uključujući razdoblja prekida proizvodnje ili faze puštanja u pogon.","Please provide a process diagram containing all relevant emission points during typical operation and during 'non-typical' operations, i.e. restrictive and transition phases, including breakdown periods or commissioning phases."]
[562,"Specifikacija i lokacija mjernih sustava za mjerne točke:","Specification and location of measurement systems for measurement points:"]
[563,"Opišete specifikacije i lokacije mjernih sustava koji će se koristiti za svaki izvor emisija, tamo gdje će se emisije utvrđivati mjerenjem kao i za mjerne točke za prijenos CO2. ","Please describe the specification and location of the measurement systems to be used for each emission source where emissions are determined by measurement, and for measurement points for transfer of CO2."]
[564,"Uključite i instrumente za dodatne parametre kao što su udio O2 i vlage te u slučaju indirektnih mjerenja i instrumente za mjerenje koncentracije za druge sastavnice otpadnog plina osim CO2.","Include also instruments for auxiliary parameters, such as e.g. O2 content and moisture, and in case of indirect measurements, also concentration measurement instruments for other constituents of the gas than CO2."]
[565,"Popis instrumenata unesenih ovdje bit će dostupan kao padajući izbornik za svaki izvor emisija u poglavlju 10, u slučaju da se odnosi na odgovarajuće mjerne instrumente. ","The list of instruments entered here will be available as a drop-down list for each emission source in section 10 below, where the relevant measuring instruments used are to be referenced."]
[566,"Učestalost mjerenja bi trebala pokazivati učestalost podatkovnih zapisa koje je napravio mjerni instrument prije nego što su podaci združeni kako bi se dobili satni prosjeci ili prosjeci u kraćim razdobljima.","The measurement frequency should indicate the frequency of data points produced by the instrument before the data is aggregated to give hourly averages or averages of shorter periods."]
[567,"Učestalost mjerenja","Measurement frequency"]
[568,"koncentracija CO2 (NDIR)","CO2 concentration (NDIR)"]
[569,"Ispust1 platforma A (graf: St.1-A)","Stack 1 platform A (chart: St.1-A)"]
[570,"1 u sekundi","1 per second"]
[571,"Mjerenje protoka (Pitotova cijev, uprosječeno mjerenje)","Flow measurement (averaging pitot tube)"]
[572,"Laboratoriji i metode korištene za primjenu kontinuiranog mjerenja:","Laboratories and methods used for application of continuous measurement methods:"]
[573,"Ova lista će biti dostupna kao padajući izbornik u poglavlju 10 za analitičke metode za navedene mjerne točke.","This list will be available as a drop-down below in section 10 for referencing the analytical methods to the relevant measurement points."]
[574,"QAL procedure","QAL procedures"]
[575,"HRN EN 14181","EN 14181"]
[576,"CO2 koncentracija","CO2 concentration"]
[577,"ISO 12039","ISO 12039"]
[578,"Ova uputa prikazana je samo za prvu mjernu točku.","Please note that the guiding text is only displayed for the first measurement point."]
[579,"Ukoliko želite prikazati podatke za sljedeće mjerne točke, kliknite na znak \"+\" na lijevoj strani u sivom području (funkcija grupiranja podataka).","If you want to display data for further measurement points, please click on the \"+\" signs at the left (data grouping function)."]
[580,"Za dodavanje dodatnih mjernih točaka vratite se na poglavlje 6.d na listu C_Opis_postrojenja i tamo ih dodajte.","For adding further measurement points, please go to section 6.d in sheet C_InstallationDescription, and use the macro there."]
[581,"Primjer je prikazan u prvoj mjernoj točki.","The example is integrated in the first measurement point."]
[582,"Način rada:","Operation type:"]
[583,"Redovni i izvanredni rad","Typical and non-typical operation"]
[584,"Potvrdite je li ova mjerna točka mjesto mjerenja emisije tokom redovnog rada ili izvanrednog rada (tijekom razdoblja restrikcije i tranzicije, uključujući vrijeme kada je postrojenje u kvaru i probnom radu).","Please select here if this measurement point is an emission/measurement point during typical operation or non-typical operation (during restrictive and transition phases, including breakdown periods or commissioning phases)."]
[585,"Informacija u zelenom polju preuzeta je automatski iz točke 6(d) u listu C_Opis_postrojenja.","The information in the green fields is taken automatically from point 6(d) in sheet C_InstallationDescription."]
[586,"Temeljem unosa u poglavljima 5(d) i 6(d) zahtjevane razine točnosti za metodologiju mjerenja prikazat će se u zelenim poljima. To su minimalne razine točnosti za glavne izvore emisija. Ipak, mogu biti dozvoljene i niže razine točnosti. Upute će biti prikazane dolje u zelenom polju, ovisno o sljedećim točkama:  ","Below in the green fields the required tiers for measurement based approaches are displayed based on your inputs in sections 5(d), and 6(d). Those are the minimum tiers for major emission sources. However, lower requirements may be allowed. An appropriate guidance will be displayed in the green text box below, depending on the following points:"]
[587,"Niže razine točnosti primjenjuju se na izvore emisija koji emitiraju manje od 5000 tona CO2(e) godišnje ili koji doprinose ukupnoj godišnjoj emisiji postrojenja s manje od 10% , odnosno ono što iznosi više u skladu s člankom 41. stavkom 1. Uredbe","Reduced requirements apply to emission sources which emit less than 5 000 tonnes of CO2(e) per year, or which contributes less than 10% of the total annual emissions of the installation, whichever is higher pursuant to Article 41(1)."]
[588,"Članak 41. Uredbe: Minimalna razina točnosti prikazana ispod biti će primjenjena. \nNiža razina točnosti može se koristiti uz minimum razine točnosti 1 samo tamo, gdje možete dokazati do zadovoljavajuće mjere nadležnom tijelu, da primjena zahtijevane razine točnosti tehnički nije izvediva ili će dovesti do neopravdano visokih troškova. Odnosno,  da primjena metodologije proračuna korištenjem pragova razina prema članku 26.Uredbe tehnički nije izvediva ili će dovesti do neopravdano visokih troškova.","Article 41: The minimum tier displayed below shall apply.\nOnly where you can demonstrate to the satisfaction of the competent authority that application of the tier required is technically not feasible or incurs unreasonable costs, and application of a calculation methodology using the tier levels required by Article 26 is technically not feasible or incurs unreasonable costs, a next lower tier may be used, with a minimum of tier 1."]
[589,"Instrumenti i razine točnosti:","Instruments and tier levels:"]
[590,"MM1: CO2","MM1: CO2"]
[591,"MM2: Protok","MM2: Flow"]
[592,"Odaberite jedan ili više instrumenata koje ste definirali u odjeljku 9 (c).","Please select here one or more from the instruments which you have defined in section 9(c) above."]
[593,"Ako se koristi više od pet mjernih instrumenata za ovu mjernu točku, u polje za komentar dodajte objašnjenje.","If more than 5 measurement instruments are used for this measurement point, please use the comment box below for further explanation."]
[594,"Zahtijevana razina točnosti:","Tier level required:"]
[595,"Korištena razina točnosti:","Tier used:"]
[596,"Obzirom na zahtijevanu i korištenu razinu točnosti unesite ukupnu nesigurnost ostvarenu tijekom cjelokupnog izvještajnog razdoblja.","With regard to the tier level required and the tier level used, please provide here the overall uncertainty achieved for over the whole reporting period."]
[597,"Ova vrijednost treba biti rezultat procjene nesigurnosti (vidi  poglavlje 7(c)).","In general, this value should be the result of an uncertainty assessment (see section 7(c)). "]
[598,"Norme i postupci:","Standards and procedures:"]
[599,"Primjenjene norme i odstupanje od istih","Applied standards and of any deviations from those standards"]
[600,"Koristite reference na prikazanu tablicu 9(e), prema potrebi.","Please use references to table 9(e) above as appropriate."]
[601,"Reference na postupke","References to procedures"]
[602,"Kako bi mogli u potpunosti opisati primijenjenu metodologiju mjerenja, navedite slijedeće informacije. Navedite reference na korištene pisane postupke. Postupci moraju biti navedeni u poglavlju 11 na ovom listu.","In order to describe the applied approaches in full, the following information has to be provided. Please provide references to the appropriate written procedures. The procedures are to be outlined in section 11 below in this sheet."]
[603,"Formule za objedinjavanje podataka i utvrđivanje godišnjih emisija.","Any calculation formulae used for data aggregation and used to determine the annual emissions"]
[604,"Metoda za utvrđivanje valjanih satnih vrijednosti ili kraćih referentnih razdoblja potrebnih za izračun svakog parametra sukladno uvjetu u članku 44. stavku 2. Uredbe i za utvrđivanje zamjenskih podataka koji nedostaju, u skladu sa člankom 45. Uredbe","Method for determining whether valid hours or shorter reference periods for each parameter can be calculated (using the threshold given in Article 44(2)), and for substitution of missing data in accordance with Article 45"]
[605,"Proračun protoka otpadnih plinova, ako je primjenjivo","Calculation of the flue gas flow, if applicable"]
[606,"Određivanje CO2 koji proizlazi iz biomase i koji je oduzet od izmjerenih CO2 emisija, ako je primjenjivo","Determination of CO2 stemming from biomass and subtracted from the measured CO2 emissions, if applicable"]
[607,"Provedeni proračuni u skladu sa člankom 46. Uredbe, ako je primjenjivo ","Corroborating calculations in accordance with Article 46 that are carried out, if applicable"]
[608,"Navedite sve relevantne komentare ispod. Obrazloženja osobito mogu biti potrebna za npr.Metodu procjene biomase, dodatne QA / QC mjere, itd.","Please provide any relevant comments below. Explanations may in particular be required for e.g. the biomass estimation method, further QA/QC measures, etc."]
[609,"Obrazložite ukoliko zahtijevana razina točnosti nije primjenjena sukladno članku 41.Uredbe za ovu mjernu točku.\n","If the tier required pursuant to Article 41 is not applied for this measurement point, please give a justification here."]
[610,"Navedite pojedinosti iz pisanih postupaka navodeći detalje metode te sve formule korištene za prikupljanje podataka i utvrđivanje godišnjih CO2e emisija gdje su primjenjene metodologije mjerenja.","Please provide details about the written procedures detailing the method and any calculation formulae used for data aggregation and to determine the annual CO2e emissions where measurement based methodologies are applied."]
[611,"Navedite detalje o pisanim postupcima u skladu s člankom 44. Uredbe.","Please provide details about the written procedures in accordance with Article 44 of the MRR."]
[612,"Gdje se brojni postupci koriste u slične svrhe, ali za različite izvore emisije ili mjerne točke, navedite pojedinosti o sveobuhvatnom postupku koji obuhvaća zajedničke elemente i osiguranje kvalitete primijenjenih metoda.","Where a number of procedures are used for a similar purpose but for different emission sources or measurement points, please provide details of an overarching procedure which covers the common elements and quality assurance of the applied methods."]
[613,"Nakon toga možete dati ovdje reference na pojedine \"pod-postupke\", ili možete dati pojedinosti svakog relevantnog postupka odvojeno. Za potonje, molimo da koristite \"dodaj postupak\" gumb na kraju ovog lista. Međutim, molimo vas da osigurate jasnu referencu na odgovarajući (pod-)postupak.","You may then either give here references to individual \"sub-procedures\", or you may provide details of each relevant procedure separately. For the latter, please use the \"add procedure\" button at the end of this sheet. However, please ensure that clear reference to the appropriate (sub-)procedure can be given."]
[614,"Kratak opis postupka (Opis treba pokriti osnovne parametre i provedene operacije)","Brief description of procedure    (Description should cover the essential parameters and operations performed)"]
[615,"Navedite pojedinosti o pisanim postupcima koje opisuju metode korištene za utvrđivanje valjanih sati (ili kraćih referentnih razdoblja) za svaki parametar i za zamjenu nedostajućih podataka.","Please provide details about the written procedures which describe the methods used for determining the valid hours (or shorter reference periods) for each parameter and for substitution of missing data."]
[616,"Navedite pojedinosti o pisanim postupcima koje opisuju metode za utvrđivanje je li moguće osigurati valjane sate ili kraća referentna razdoblja za svaki pojedini parametar, i za zamjenu nedostajućih podataka u skladu s člankom 45. Uredbe","Please provide details about the written procedures which describe the methods for determining if valid hours or shorter reference periods for each parameter can be provided, and for substitution of missing data in accordance with Article 45 of the MRR."]
[617,"Kada se protok dimnih plinova određuje izračunom, navedite pojedinosti o pisanom postupku i za ovaj izračun za svaku odgovarajući izvor emisije u skladu s člankom 43. stavkom 5a. Uredbe.","Where flue gas flow is determined by calculation, please provide details about the written procedure for this calculation for each relevant emission source in accordance with Article 43(5)(a) of the MRR."]
[618,"Kada su u mjerenja emisija CO2 uključene i emisije proizašle iz biomase, navedite pojedinosti o pisanom postupku o tome kako se određuje CO2 iz biomase i kako se oduzima od izmjerenih emisija CO2, tamo gdje je to primjenjivo, u skladu s člankom 43. stavkom 4. Uredbe.","Where CO2 stemming from biomass is included in the emissions measurement, please provide details about the written procedure detailing how the biomass CO2 is to be determined and subtracted from the measured CO2 emissions, where applicable, in accordance with Article 43(4) of the MRR."]
[619,"Molimo navedite pojedinosti o pisanom postupku za obavljanje potvrdnog izračuna, gdje je to primjenjivo, u skladu s člankom 46. Uredbe.","Please provide details about the written procedure for carrying out the corroborating calculations, where applicable, in accordance with Article 46 of the MRR."]
[620,"G. Nadomjesni pristupi","G. Fall-back approaches"]
[621,"Ukoliko su određeni kriteriji navedeni u članku 22.Uredbe zadovoljeni, operater može koristiti metodologiju koja se ne temelji na razinama točnosti za odabrane tokove izvora ili izvora emisije. Ispunite ovo poglavlje ukoliko želite koristiti nadomjesni pristup za bilo koji tok izvora ili izvora emisija. Nadležno tijelo može zatražiti dodatne informacije kako bi se opravdao ovaj pristup.","Article 22 of the MRR provides that an operator may use a methodology that is not based on tiers for selected source streams or emission sources, where certain criteria set out in that article are met.  Please complete this section if you propose to apply such a fall-back approach to any source streams or emission sources.  Your competent authority may ask for further information to justify this approach."]
[622,"Gdje se primjenjuje nadomjesni pristup u skladu sa člankom 22. Uredbe, navedite detaljan opis metodologije praćenja primjenjen za sve tokove izvora ili izvora emisija, za koje se ne primjenjuju razine točnosti.","Where a fall-back monitoring methodology is applied in accordance with Article 22 of the MRR, please provide a detailed description of the monitoring methodology applied for all source streams or emission sources, for which no tier approach is used."]
[623,"Navedite kratak opis metodologije praćenja, uključujući i formule korištene za utvrđivanje ​​godišnjih emisija CO2 ili CO2 (e) u polju ispod.","Please provide a concise description of the monitoring approach, including formulae, used to determine your annual CO2 or CO2(e) emissions in the text box below."]
[624,"Navedite kratko obrazloženje za primjenu nadomjesnog pristupa navedenih izvora emisije, u skladu s odredbama iz članka 22. Uredbe","Please provide a concise justification for the application of a fall-back approach to the above emission sources, in line with the provisions set out in Article 22."]
[625,"Morate dokazati da ukupna nesigurnost za godišnju razinu emisija stakleničkih plinova za čitavo postrojenje ne prelazi 7,5% za kategoriju A, 5,0% za kategoriju B i 2,5% za kategoriju C postrojenja. Napomena: nadležno tijelo može zatražiti dodatne pojedinosti o primjeni nadomjesnog pristupa da bi se dokazalo kako primjena metodologije proračuna ili metodologije mjerenja nije tehnički izvediva ili bi dovela do nerazumnih troškova.","You must be able to demonstrate that the overall uncertainty for the annual level of greenhouse gas emissions for the whole installation does not exceed 7.5% for category A, 5.0% for category B and 2.5 % for category C installations. Note: Your competent authority may request full details of your justification to demonstrate that application of a tiered calculation based method or measurement approach is technically not feasible or would lead to unreasonable costs."]
[626,"Navedite pojedinosti o pisanim postupcima koji se koriste za godišnju analizu nesigurnosti sukladno članku 22. Uredbe.","Please provide details about the written procedures used for carrying out the annual uncertainty analysis required under Article 22 of the MRR."]
[627,"\nNapomena: ovaj dio treba popuniti kako bi se odredile emisije N2O iz određenih proizvodnih aktivnosti u postrojenju. Emisije N2O iz izgaranja goriva nisu uključene. Provjerite jesu li informacije o vašem mjernom sustavu unesene u listu F_Metodologija_mjerenja.\n\n\n\n\n","Note: this section is to be completed for determination of N2O emissions from specified production activities at an installation. N2O emissions from combustion of fuels are not covered.  Please make sure that the information on your measurement system is entered in sheet F_MeasurementBasedApproaches as appropriate."]
[628,"U ovom listu potrebno je navesti zahtjeve koji nisu relevantni za praćenje CO2.","In this sheet only requirements are to be laid down which are not relevant to CO2 monitoring."]
[629,"Navedite pojedinosti o pisanom postupku koji opisuje metodu i parametre kojima se određuje upotrebljena količina materijala u proizvodnom procesu i maksimalna količina materijala upotrebljena pri punom kapacitetu proizvodnje.","Please provide details about the written procedure which describes the method and parameters used to determine the quantity of materials used in the production process and the maximum quantity of material used at full capacity."]
[630,"Navedite pojedinosti o pisanom postupku koji opisuje metodu i parametre kojima se određuje količina proizvoda kao satno opterećenje izraženo kao dušična kiselina (100%), adipinska kiselina (100%), glioksalna i glioksilna kiselina i kaprolaktam po satu.","Please provide details about the written procedure which describes the method and parameters used to determine the quantity of product produced as an hourly load expressed as nitric acid (100%), adipic acid (100%), glyoxal and glyoxylic acid and caprolactam per hour."]
[631,"Navedite pojedinosti o pisanom postupku koji opisuje metodu i parametre kojima se određuje koncentracija N2O u dimnom plinu iz svakog izvora emisije, operativni raspon, nesigurnost, te detalje o svim alternativnim metodama koje se primjenjuju ako je koncentracija izvan opearativnih raspona i situacije u kojima se to može dogoditi.","Please provide details about the written procedure describing the method and parameters used to determine the N2O concentration in the flue gas from each emission source, its operating range, and its uncertainty, and details of any alternative methods to be applied if concentrations fall outside the operating range and the situations when this may occur."]
[632,"Navedite pojedinosti o pisanom postupku koji detaljno opisuje metodologiju proračuna za određivanje emisija N2O iz periodičnih, nesmanjenih izvora u proizvodnji dušične kiseline, adipinske kiseline, kaprolaktama, glioksalne i glioksilne kiseline.","Please provide details about the written procedure detailing the calculation method used to determine N2O emissions from periodic, unabated sources in nitric acid, adipic acid, caprolactam, glyoxal and glyoxylic acid production."]
[633,"Navedite pojedinosti o pisanom postupku koji opisuje na koji način ili u kojoj mjeri postrojenje radi s promjenjivim opterećenjima i načinu na koji se  upravlja u tim situacijama.","Please provide details about the written procedure describing the way in which or the extent to which the installation operates with variable loads and the manner in which the operational management is carried out."]
[634,"Dostavite podatke o procesnim uvjetima koji odstupaju od normalnih.","Please provide information on process conditions that deviate from normal operations. "]
[635,"Ove informacije trebaju uključiti moguće učestalosti i trajanje takvih procesnih uvjeta, kao i naznaku volumena emisija N2O tijekom odstupanja od procesnih uvjeta (npr., kao što je kvar uređaja za smanjenje). ","This information should include an indication of the potential frequency and the duration of such process conditions, as well as an indication of the volume of the N2O emissions during the deviating process conditions such as abatement equipment malfunction."]
[636,"I. PFC emisije","I. PFC emissions"]
[637,"Napomena: ovo poglavlje potrebno je popuniti za određivanje emisija perfluorougljika iz proizvodnje ili prerade primarnog aluminija u postrojenju. Budući da ovdje koristite \"Metodologiju proračuna\"  provjerite da ste unijeli sve odgovarajuće podatke (osim detalja o tokovima izvora i procedurama koji se prikazuju na ovom listu) u poglavlju 7 (list D_Metodologija_proračuna).","Note: this section is to be completed for determination of emissions of perfluorocarbons from production or processing of primary aluminium at an installation.  As a \"calculation based approach\" is used here, make sure you have entered all appropriate data (except the source stream details and procedures to be provided in this sheet) in section 7 (sheet D_CalculationBasedApproaches)."]
[638,"U tekstualno polje ispod navedite kratak opis za određivanje vaših PFC emisija i kako ste ih pretvorili u godišnje CO2(e) emisije. ","Please provide a concise description of the approach used to determine your PFC emissions and to convert these to annual CO2(e) emissions in the text box below."]
[639,"U polje ispod navedite kratak opis metodologije praćenja, uključujući i formule, koje se koriste za određivanje godišnje CO2(e) emisije .","Please provide a concise description of the monitoring approach, including formulae, used to determine your annual CO2(e) emissions in the text box below."]
[640,"Navedite referencu na dijagram procesa koji sadrži sve relevantne izvore emisija i točke emisija tijekom normalnog rada i tijekom neuobičajenog rada, odnosno restriktivne i prijelazne faze, uključujući razdoblja prekida proizvodnje ili faze puštanja u pogon.","Please provide the reference to a process diagram containing all relevant emission sources and emission points during typical operation and during 'non-typical' operations, i.e. restrictive and transition phases, including breakdown periods or commissioning phases."]
[641,"Popis tokova izvora za praćenje PFC-a:","List of source streams to be monitored regarding PFCs:"]
[642,"U slučaju PFC emisija mogu se koristiti dvije metodologije (A: Metoda nagiba, B: Metoda prenapona). Nekoliko vrsta ćelija (kada) može postojati u postrojenju (npr. različite tehnologije ili godine izgradnje) koji mogu prouzročiti različite karakteristike emisija.","In the case of PFC emissions, two methodologies (A: Slope method, B: Overvoltage Method) may be used. Several cell types may exist in an installation (e.g. different technologies or years of construction) which may exhibit different emission characteristics."]
[643,"Grupe ćelija koje se prate na isti način i koje pokazuju iste karakteristike emisija (isti emisijski faktori) treba smatrati \"tokovima izvora\" (tj. subjekte koje treba pratiti) u usporedbi s drugim metodologijama praćenja baziranima na proračunu.","Groups of cells which are monitored using the same method and which exhibit the same emission characteristics (same emission factors) should be considered as \"source streams\" (i.e. entities to be monitored) in analogy to other calculation based monitoring approaches. "]
[644,"U popisu \"tokova izvora\"  iz vašeg postrojenja navedite metodologiju praćenja i vrstu ćelija/anoda. Popis je automatski preuzet iz poglavlja 6.e s lista C_Opis_postrojenja.","Please indicate here in the list of the \"source streams\" of your installation the monitoring methodology and cell/anode type as appropriate. The list is automatically taken from section 6.e in sheet C_InstallationDescription."]
[645,"Ovaj popis će se koristiti u sljedećem poglavlju za definiranje daljnjih pojedinosti za svaki tok izvora.","This list will then be used in the following section for defining further details for each source stream."]
[646,"Vrsta ćelija","Cell type"]
[647,"Metodologija praćenja","Monitoring method","; 'I_PFC'!$U$49"]
[648,"\nU zelenim poljima su prikazane razine točnosti za podatke o djelatnosti i faktore proračuna na temelju vaših unosa u poglavlju 5 (d) i (e), i 6 (e) i 6 (f). To su minimalne razine točnosti za glavne tokove izvora za postrojenje kategorije C. Međutim, niži zahtjevi mogu biti dopušteni. Odgovarajuće upute biti će prikazane u zelenom polju u nastavku, ovisno o sljedećim točkama:","Below in the green fields the required tiers for activity data and calculation factors are displayed based on your inputs in section 5(d) and (e), and 6(e) and 6(f). Those are the minimum tiers for major source streams in category C installations. However, lower requirements may be allowed. An appropriate guidance will be displayed in the green text box below, depending on the following points:"]
[649,"Smanjeni zahtjevi primjenjuju se na postrojenja s niskim emisijama u skladu s člankom 47. stavkom 2. Uredbe;","Reduced requirements apply to installations with low emissions in accordance to Article 47(2);"]
[650,"Kategorija (A, B ili C) postrojenja u skladu s člankom 19. Uredbe;","The installation category (A, B or C) in accordance to Article 19;"]
[651,"Podaci o djelatnostima","Activity Data"]
[652,"Primarna proizvodnja aluminija:","Primary aluminium production:"]
[653,"Metoda A: broj anodnog učinka ćelija po danu","Method A: number of Anode effects per cell-day"]
[654,"Metoda A: prosjek anodnog učinka minute po pojavi ","Method A: average anode effect minutes per occurrence"]
[655,"Metoda B: anodni učinak prednapona po ćeliji","Method B: anode effect overvoltage per cell"]
[656,"Metoda B: Trenutna učinkovitost","Method B: Current efficiency"]
[657,"Faktori proračuna","Calculation factors"]
[658,"Primjenjene razine točnosti","Tiers applied"]
[659,"SEF (CF4) Nagibni emisijski faktor","SEF(CF4) Slope emission factor"]
[660,"OVC (koeficijent prednapona)","OVC (Overvoltage coefficient)"]
[661,"F(C2F6) Maseni udio C2F6","F(C2F6) Weight fraction of C2F6"]
[662,"Detalji o razini točnosti","Tier details"]
[663,"zadana ili najnovija vrijednost","default or latest value"]
[664,"datum najnovije analize","date of latest analysis"]
[665,"Učinkovitost prikupljanja podataka o fugitivnim emisijama","Collection efficiency for accounting for fugitive emissions"]
[666,"Određivanje učinkovitosti prikupljanja podataka","Determination of the collection efficiency"]
[667,"Učinkovitost prikupljanja  ","Collection efficiency"]
[668,"Ispod navedite sve relevantne komentare. Objašnjenja su posebno potrebna za opis kako se određuju faktori proračuna,  te koji se mjerni instrumenti i uređaji za kontrolu procesa koriste za određivanje podataka o djelatnostima, itd.","Please provide any relevant comments below. Explanations may in particular be required for how the calculation factors are determined, which measuring instruments and process control equipment are used for determining the activity data, etc."]
[669,"Gdje se primjenjuje razina točnosti 2 za emisijski faktor, navedite pojedinosti o pisanoj proceduri kojom se utvrđuje raspored ponavljanja mjerenja koji treba provesti u skladu s točkom 8. Priloga IV Uredbe (emisijski faktori i učinkovitost prikupljanja).","Where a tier 2 emission factor is applied, please provide details about the written procedure setting out the schedule for repetitions of the measurements to be carried out in accordance with Section 8 of Annex IV of the MRR (emission factors and collection efficiency)."]
[670,"Gdje se primjenjuje razina točnosti 2 za emisijski faktor, navedite pojedinosti o postupku kojim se opisuje pisana procedura korištena za određivanje  emisijskih faktora CF4 i C2F6, specifičnih za postrojenje.","Where a tier 2 emission factor is applied, please provide details about the protocol describing the written procedure used to determine the installation specific emission factors for CF4 and C2F6. "]
[671,"Napomena: Procedurom treba pokazati da su mjerenja bila provođena i da će se provoditi dovoljno dugo vremena kako bi izmjerene vrijednosti konvergirale, ali najmanje 72 sata.","Note: the procedure should also show that the measurements have been and will be carried out for a sufficiently long time for measured values to converge, but at least for 72 hours."]
[672,"Gdje je primjenjivo navedite pojedinosti o pisanoj proceduri za metodologiju određivanje učinkovitosti prikupljanja podataka za fugitivne emisije.","Please provide details about the written procedure detailing the methodology for determining the collection efficiency for fugitive emissions, where applicable."]
[673,"J. Preneseni CO2 & CCS","J. Transferred CO2 & CCS"]
[674,"Napomena: ovo poglavlje se ispunjava u slučaju prijenosa inherentnog CO2 kao dijela goriva u skladu s člankom 48. Uredbe ili prijenosa CO2 u skladu s člankom 49. Uredbe.","Note: this section is to be completed where transfer of inherent CO2 as part of a fuel in accordance with Article 48 of the MRR or transfer of CO2 in accordance with Article 49 of the MRR are carried out."]
[675,"U ovom listu potrebno je navesti informacije o aktivnostima hvatanja CO2, aktivnostima transporta u cjevovodima ili geološkog skladištenja CO2 obuhvaćenih Prilogom I. Uredbe (NN 89/20)","Furthermore this sheet is relevant for information to be provided where activities of CO2 capture, transport in pipelines or geological storage of CO2 as covered by Annex I of the EU ETS Directive are carried out."]
[676,"Informacije o mjernim točkama i mjernim instrumentima trebaju biti navedene u listu F_Metodologija_mjerenja.","Information regarding the measurement points and measuring instruments are to be provided in sheet F_MeasurementBasedApproaches."]
[677,"Navedite detaljan opis metodologije praćenja korištene za određivanje inherentnog ili prenesenog CO2.","Please provide a detailed description of the monitoring methodology used to determine inherent or transferred CO2. "]
[678,"Potrebno je obuhvatiti količine CO2 koje su dodane zbog prihvaćanja prenesenog CO2 ili one koje su oduzete zbog prijenosa izvan postrojenja. Izračun treba biti u skladu sčlancima 48. i 49.Uredbe.","This should cover in particular the amounts of CO2 to be added due to receiving transferred CO2, or for subtracting CO2 due to transfer out of the installation, as appropriate. Please make sure that this calculation is in line with Articles 48 and 49 of the MRR."]
[679,"Ako je opis previše složen, npr. primjenjuju se složene formula ili je potrebno napraviti dijagram za pojašnjenje opisa, može se dati opis u posebnom dokumentu. U tom slučaju navedite referencu na taj dokument (navesti naziv i datum dokumenta).","If the description is too complex, e.g. complex formulas are applied or a diagram is needed for facilitating the description, you may provide the description in a separate document using a file format acceptable for the CA. In this case please reference this file here, by using the file name and date.","; 'J2_PermCCU'!$E$17"]
[680,"Navedite pojedinosti o postrojenjima koja zaprimaju i prenose CO2","Please provide details of the receiving and transferring installations"]
[681,"Navedite sljedeće podatke za svako postrojenje (ili neki drugi subjekt) iz kojeg ste primili ili na koje ste prenijeli inherentni ili preneseni CO2, :","Please give here for each installation (or other entity) from which you receive or to which you transfer inherent or transferred CO2 the following information:"]
[682,"Naziv postrojenja","Installation name"]
[683,"Navedite naziv postrojenja ili gospodarskog ubjekta koji nije u ETS-u, od kojih ili na koje se prenosi CO2. Koristite isti naziv koji koristite u komunikaciji s nadležnim tijelom  ili/i pri korištenju Registra.","Give here the name of the installation or non-ETS entity, from which or to which CO2 is transferred. To the extent feasible use the same name as the competent authority and the Registry use."]
[684,"Naziv operatera postrojenja ili subjekta koji nije u ETS-u.","Name of the operator of that installation or non-ETS entity."]
[685,"Jedinstveni ID","Unique ID"]
[686,"Za EU ETS postrojenja, navedite jedinstveni ID postrojenja kao što je korišteno u sustavu Registra. Ako imate nedoumica, kontaktirajte nadležno tijelo  (Zavod za zaštitu okoliša i prirodu) za točan format ID-a,.","For EU ETS installations, give the unique ID of the installation as used by the Registry system. In case of doubt contact the competent authority for the correct format of the ID."]
[687,"Vrsta prijenosa","Type of transfer"]
[688,"Odaberite iz padajućeg izbornika je li prijenos CO2 iz ili u postrojenje ili subjekt koji nije u ETS-u te da li je to povezano sa inherentnim CO2 (članak 48. Uredbe) ili prenesenim CO2 (članak 49. Uredbe) kao što je definirano Uredbom.","Select here from the drop-down list whether it is a transfer from or to an installation or non-ETS entity, and whether this deals with inherent CO2 (Article 48) or transferred CO2 (Article 49) as defined by the MRR."]
[689,"Metodologija mjerenja","Measurement approach"]
[690,"Sukladno članku 48. stavkom 3. Uredbe, može se odrediti preneseni ili inherentni CO2 vlastitim instrumentima ili mjerenjem od strane drugog postrojenja, ili se mogu koristiti obje metodologije mjerenja te kao razultat uzeti prosjek mjerenja. Navedite ovdje, koja se metodologija koristi.","According to Article 48(3), you can determine transferred or inherent CO2 either by your own instruments, or using the measurement by the other installation, or you can use both and determine the result as the average of the measurements. Please indicate here, which of these approaches are used."]
[691,"Napomena: Detalji o kontinuiranoj metodologiji mjerenja, mjernim točkama i mjernim instrumentima trebaju biti upisani u list F_Metodologija_mjerenja.","Note: Details about the continuous measurement approach, the measurement points and measuring instruments have to be entered in sheet F_MeasurementBasedApproaches."]
[692,"Oznaka prijenosa","Transfer Ref."]
[693,"Naziv postrojenja","Installation Name"]
[694,"Jedinstveni ID postrojenja","Unique ID of Installation"]
[695,"Kliknite \"+\" za dodavanje više postrojenja","Click \"+\" to add more installations"]
[696,"Tamo gdje je dio prenesenog CO2 dobiven iz biomase, ili gdje postrojenje samo djelomično pokriva Direktiva EU ETS, navedite pojedinosti o pisanoj proceduri koja se koristi za oduzimanje iznosa prenesenog CO2 koji ne potječe iz aktivnosti fosilnih ugljika obuhvaćenih Direktivom EU ETS.","Where part of the transferred CO2 is generated from biomass, or where an installation is only partially covered by the EU ETS Directive, please provide details of the written procedure used for deducting the amount of transferred CO2 which does not originate from fossil carbon activities covered by the EU ETS Directive."]
[697,"Navedite odabranu metodologiju praćenja transportne mreže:","Please indicate the monitoring approach selected for your transport network:"]
[698,"U skladu s člankom 22. B Priloga IV Uredbe, može se odabrati bilo koju od dvije metode. Metoda A uključuje mjerenje temeljeno na masenoj bilanci ukupno emitiranog CO2, ulaza i izlaza CO2 iz mreže, dok se Metoda B temelji na određivanju fugitivnih i ispuštenih emisija, kao i propuštanja i  emisija određenih za postrojenje.","In accordance with section 22.B of Annex IV of the MRR, you may choose either of two methods. Method A involves a measurement based mass balance of all CO2 emitted, entering and leaving the network, while Method B is based on determining fugitive and vented emissions, as well as leakages and installation based emissions."]
[699,"Gdje je primijenjivo treba navesti referencu za analizu nesigurnosti:","Where applicable, please give a reference to the uncertainty analysis:"]
[700,"Ako je odabrana metoda B, potrebno je dokazati usklađenost s ukupnom nesigurnošću ne većom od 7,5% za emisije cijele transportne mreže, te da metoda B daje pouzdanije rezultate. Prema potrebi navedite referencu na priloženi dokument.","If you have chosen method B, you must provide evidence to demonstrate compliance with an overall uncertainty of not more than 7.5% for the emissions of the whole transport network, and that method B will give more reliable results. Please give here a reference to the attached document as appropriate."]
[701,"Gdje je primjenjivo opišite opremu koja se koristi za mjerenje temperature i tlaka u transportnoj mreži.","Where applicable, please describe the equipment used for temperature and pressure measurement in the transport network."]
[702,"Navedite svu opremu koja se koristi za mjerenje temperature i tlaka u transportnoj mreži za utvrđivanje emisija tijekom propuštanja u skladu s točkom 22. Priloga IV Uredbe.","Please list all equipment used for measurement of temperature and pressure in the transport network in the determination of emissions from leakage events in accordance with section 22 of Annex IV of the MRR."]
[703,"Oznaka","Reference"]
[704,"Lokacija","Location"]
[705,"Vrsta mjernog uređaja ","Type of measurement device"]
[706,"Oznaka uređaja","Reference to the device"]
[707,"Kliknite \"+\" za dodavanje više mjernih uređaja","Click \"+\" to add more measurement devices"]
[708,"Referenca na detaljniji opis, ako je relevantno","Reference to more detailed description, if relevant:"]
[709,"Ako je potrebno, možete dati popis u točki (c) i detaljniji opis u zasebnom dokumentu. U tom slučaju navedite referencu na taj dokument (navesti naziv i datuma dokumenta).","If necessary, you may provide the list of point (c) and a more detailed description in a separate document using a file format acceptable for the CA. In this case please reference this file here, by using the file name and date."]
[710,"Gdje je primjenjivo, navedite pojedinosti pisane procedure za sprječavanje, otkrivanje i kvantifikaciju propuštanja iz transportnih mreža.","Where applicable, please provide details of the written procedure for preventing, detecting and quantification of leakage events from transport networks."]
[711,"Za transportne mreže, navedite pojedinosti pisanog postupka kako bi se osiguralo da je CO2 prenesen samo na postrojenja koja imaju valjanu dozvolu za emisije stakleničkih plinova, odnosno gdje je bilo koja emitirana količina CO2 učinkovito praćena i obračunata u skladu s člankom 49. Uredbe\n\n\n\n","For transport networks, please provide details of the written procedure for ensuring that CO2 is transferred only to installations which have a valid greenhouse gas emission permit, or where any emitted CO2 is effectively monitored and accounted for in accordance with Article 49."]
[712,"Ako se za cjevovodne sustave koristi metoda B, ovdje opišite postupak koji se koristi za potvrdu rezultata metode B s metodom A barem jednom godišnje:","If Method B is applied for pipeline systems, please provide here the description of the procedure used for validating the result of method B with method A at least annually:"]
[713,"Ako se koristi metoda B, ovdje navedite opis postupka korištenog za određivanje fugitivnih emisija:","If method B is applied, provide here a description of the procedure used for determining fugitive emissions:"]
[714,"Ako se primjenjuje metoda B, ovdje navedite opis postupka korištenog za određivanje ispuštenih emisija:","If method B is applied, provide here a description of the procedure used for determining vented emissions:"]
[715,"Napomena: U slučaju geološkog skladištenja CO2, emisije iz skladišnog kompleksa, kao i oslobađanje CO2 u vodenom stupcu treba pratiti samo ako se otkrije propuštanje. Gdje propuštanje nije otkriveno, plan praćenja ne mora imati nikakvih posebnih odredbi za praćenje.","Note: In case of the geological storage of CO2, emissions from the storage complex as well as release of CO2 to the water column have to be monitored only where a leakage is detected. Where no leakage is detected, the monitoring plan may have no particular provisions for monitoring. "]
[716,"Od iznimne je važnosti da je uspostavljen postupak za hitnu reakciju ako se otkrije propuštanje. U tom slučaju plan praćenja mora biti ažuriran bez nepotrebnog odgađanja.","Therefore it is of utmost importance that a procedure is in place for immediate reaction if a leakage is detected. In such case the monitoring plan must be updated without undue delay."]
[717,"Navedite pojedinosti o postupku koja se koristi za redovitu procjenu prikladnosti plana praćenja. U tu svrhu koristite točku 19 (c) u listu K_Kontrola_upravljanja.","Please provide details about the procedure used for regular evaluation of the monitoring plan's appropriateness. For this purpose, please use point 19(c) in sheet K_ManagementControl."]
[718,"Gdje je primjenjivo treba navesti pojedinosti o pisanom postupku koji opisuje metodologiju kvantifikacije emisija ili CO2 puštenog na stupcu vode od potencijalnih propuštanja, kao i primijenjenih i eventualno prilagođenih  kvantitativnih metodologija za stvarne emisije ili CO2 ispuštenog u stupcu vode od propuštanja, kao što je navedeno u poglavlju 23. Priloga IV. Uredbe","Where applicable, please provide details of the written procedure which describe the quantification methodologies for emissions or CO2 released to the water column from potential leakages as well as the applied and possibly adapted quantification methodologies for actual emissions or CO2 released to the water column from leakages, as specified in section 23 of Annex IV."]
[719,"Navedite opis metodologije i postupaka koji se koriste kako bi se utvrdile fugitivne ili ispuštene emisije, uključujući emisije koje potječu od mjesta gdje se provodi poboljšano crpljenje ugljikovodika. Ako se metode mjerenja u skladu s člancima 41. do 46. ne primjenjuju, potrebno je priložiti obrazloženje za neopravdano visoke troškove.\n","Please provide here a description of the methodology and procedure used to determine any fugitive or vented emissions, including from sites where enhanced hydrocarbon recovery is carried out. If measurement based methods in Accordance with Articles 41 to 46 are not applied, a justification regarding unreasonable costs must be enclosed."]
[720,"Ako je primjenjivo navedite opis postupka korištenog za određivanje nesigurnosti emisija uslijed propuštanja, u svrhu ispravljanja iznosa emisija u skladu sa stavkom B.3 članka 23. Priloga IV Uredbe.","Provide here a description of the procedure used to determine the uncertainty of emissions from leakages, if applicable, for the purpose of correcting the emissions figure in accordance with subsection B.3 of section 23 of Annex IV of the MRR."]
[721,"K. Kontrola upravljanja","K.\nManagement Control"]
[722,"Definicije i kratice","Definitions and abbreviations"]
[723,"Ovaj list je relevantan za sva  postrojenja","This sheet is relevant for all types of installations"]
[724,"Utvrdite odgovornosti za praćenje i izvješćivanje o emisijama iz postrojenja, u skladu s člankom 61. Uredbe.","Please identify the responsibilities for monitoring and reporting emissions from the installation, in accordance with Article 61 of the MRR."]
[725,"Utvrdite relevantne nazive poslova/radnih mjesta i pružite kratak opis njihovih zadaća relevantnih za praćenje i izvješćivanje. Samo oni sa potpunom odgovornosti i drugi s ključnim ulogama trebaju biti navedeni u nastavku (tj. ne uključujte delegirane odgovornosti).","Please identify the relevant job titles/posts and provide a succinct summary of their role relevant to monitoring and reporting. Only those with overall responsibility and other key roles should be listed below (i.e. do not include delegated responsibilities)."]
[726,"Ovo se može prikazati na organizacijskom dijagramu priloženom uz ovaj obrazac","These could be outlined in a tree diagram or organisational chart attached to your submission"]
[727,"Ako su protoci podataka (i zapisi s audita) potpuni, sve odgovornosti moraju biti pronađene u opisima procedura i nije potrebno dodavati druge osobe.","If the data flow (and audit trail) is complete, all responsibilities should be found in descriptions of procedures and no further persons need to be added."]
[728,"Naziv radnog mjesta","Job title/post"]
[729,"Odgovornosti","Responsibilities"]
[730,"Navedite pojedinosti o proceduri koja se koristi za upravljanje raspodjelom zadataka i odgovornosti za praćenje i izvješćivanje unutar postrojenja te za upravljanje kompetencijama odgovornih osoba, u skladu s člankom 58. stavakom 3(c) Uredbe.","Please provide details about the procedure used for managing the assignment of responsibilities for monitoring and reporting within the installation and for managing the competencies of responsible personnel, in accordance with Article 58(3)(c) of the MRR."]
[731,"Ova procedura treba utvrditi kako su raspodijeljene odgovornosti za praćenje i izvješćivanje te kako su organizirane edukacije i auditi. Također opisati kako su zadaci raspodijeljeni tako da sve relevantne podatke potvrđuje osoba koja nije sudjelovala na prikupljanju i arhiviranju  podataka.","This procedure should identify how the monitoring and reporting responsibilities for the roles identified above are assigned and how training and reviews are undertaken and how duties are segregated such that all relevant data is confirmed by a person not involved with the recording and collection of the data."]
[732,"ETS upravljanje osobljem","ETS personnel management"]
[733,"• Odgovorna osoba ažurira popis osoblja koje je uključeno u ETS upravljanje podacima.\n\n","• Responsible person maintains a list of personnel involved in ETS data management\n\n"]
[734,"• Odgovorna osoba organizira barem jedan sastanak godišnje sa svakom uključenom osobom, najmanje četiri sastanka s ključnim osobljem kao što je definirano u prilogu procedure; Cilj: Identifikacija potreba za edukacijom.","• Responsible person holds at least one meeting per year with each involved person, at least 4 meetings with key staff as defined in the annex of the procedure; Aim: Identification of training needs "]
[735,"• Odgovorna osoba upravlja internom i vanjskom edukacijom prema utvrđenim potrebama.","• Responsible person manages internal and external training according to identified needs."]
[736,"Zaštita okoliša, zamjenik voditelja ureda","HSEQ deputy head of unit"]
[737,"Papirnata kopija: Ured Zaštite okoliša, Registrator oznake \"ETS 01-P\". Elektronički: “P:\\ETS_MRV\\upravljanje-kvalitetom\\ETS_01-P.xls","Hardcopy: HSEQ Office, shelf 27/9, Folder identified “ETS 01-P”. Electronically: “P:\\ETS_MRV\\manag\\ETS_01-P.xls”\n"]
[738,"N.P. (uobičajeni operativni sustav)","N.A. (Normal network drives)"]
[739,"Navedite pojedinosti o proceduri koja se koristi za redovitu procjenu prikladnosti plana praćenja, obuhvaćajući osobito sve potencijalne mjere za poboljšanje metodologije praćenja.","Please provide details about the procedure used for regular evaluation of the monitoring plan's appropriateness, covering in particular any potential measures for the improvement of the monitoring methodology."]
[740,"Procedura treba obuhvatiti slijedeće:","The procedure specified below should cover the following:"]
[741,"i - provjeru popisa izvora emisija i tokova izvora, osiguranje cjelovitosti emisija i tokova izvora i da su sve relevantne promjene u  funkcioniranju postrojenja uključene u plan praćenja;","i - checking the list of emissions sources and source streams, ensuring completeness of the emissions and source streams and that all relevant changes in the nature and functioning of the installation will be included in the monitoring plan;"]
[742,"ii - ocjenu usklađenosti s pragovima nesigurnosti za podatke o djelatnosti i ostale parametre (gdje je primjenjivo) za primijenjene razine točnosti za svaki tok izvora i izvora emisije; i","ii - assessing compliance with the uncertainty thresholds for activity data and other parameters (where applicable) for the applied tiers for each source stream and emission source; and"]
[743,"iii - procjenu mogućih mjera za poboljšanje primjenjene metodologije praćenja.","iii - assessment of potential measures for improvement of the monitoring methodology applied."]
[744,"Navedite pojedinosti o procedurama koji se koriste za upravljanje aktivnostima protoka podataka, u skladu sa člankom 57. Uredbe","Please provide details about the procedures used to manage data flow activities in accordance with Article 57 of the MRR."]
[745,"Kada se koristi više procedura, navedite pojedinosti o \"Proceduri za upravljanje dokumentima\" koja pokriva glavne korake aktivnosti protoka podataka. Također priložite dijagram koji pokazuje kako se povezuju procedure upravljanja podacima  (navedite referencu na ovaj dijagram te ga priložite uz plan praćenja). Kratki opis dodatnih procedura možete navesti na posebnom listu.\n\n\n\n\n","Where a number of procedures are used, please provide details of an overarching procedure which covers the main steps of data flow activities along with a diagram showing how the data management procedures link together (please reference this diagram below and include when submitting your monitoring plan).  Alternatively please provide details of additional relevant procedures on a separate sheet."]
[746,"Pod \"Opis relevantnih procesnih koraka\", utvrdite sve korake u protoku podataka od primarnih podataka do godišnjih emisija koje opisuju slijed i interakciju između aktivnosti protoka podataka te uključuju formule i podatke koji se koriste kako bi se utvrdile emisije iz primarnih podataka. Uključite podatke o svim relevantnim elektronskim obradama podataka i sustavima za pohranu i ostalih čimbenika (uključujući ručne unose) i potvrdite kako se snimaju aktivnosti izlaznih protoka podataka.","Under \"Description of the relevant processing steps\", please identify each step in the data flow from primary data to annual emissions which reflect the sequence and interaction between data flow activities and include the formulas and data used to determine emissions from the primary data.  Include details of any relevant electronic data processing and storage systems and other inputs (including manual inputs) and confirm how outputs of data flow activities are recorded."]
[747,"Popis primarnih izvora podataka","List of primary data sources"]
[748,"Opis relevantnih procesnih koraka za svaku specfičnu aktivnost protoka podataka","Description of the relevant processing steps for each specific data flow activity "]
[749,"Navedite pojedinosti o procedurama koje se koriste za procjenu inherentnih rizika i rizika pri nadzoru u skladu s člankom 59. Uredbe.","Please provide details about the procedures used to assess inherent risks and control risks in accordance with Article 58 of the MRR."]
[750,"Kratki opis bi trebao  utvrditi kako se provode procjene inherentih rizika i rizika pri nadzoru prilikom uspostavljanja učinkovitog nadzornog sustava.","The brief description should identify how the assessments of inherent risks and control risks are undertaken when establishing an effective control system."]
[751,"Navedite pojedinosti o procedurama koje se koriste za osiguravanje održavanja kvalitete mjerne opreme u skladu s člankom 58. i  59. Uredbe.","Please provide details about the procedures used to ensure quality assurance of measuring equipment in accordance with Article 58 and 59 of the MRR."]
[752,"Kratak opis bi trebao utvrditi kako se mjerna oprema kalibrira i provjerava u pravilnim razmacima, ako je primijenjivo, i kako se rješava nesukladnost sa zahtijevanom izvedbom.","The brief description should identify how all relevant measurement equipment is calibrated and checked at regular intervals, if applicable, and how non-compliance with the required performance is dealt with."]
[753,"Navedite pojedinosti o procedurama koje se koriste za osiguravanje održavanje kvalitete informacijske tehnologije korištene za aktivnosti protoka podataka u skladu s člankom 58. i 60. Uredbe.","Please provide details about the procedures used to ensure quality assurance of information technology used for data flow activities in accordance with Article 58 and 60 of the MRR."]
[754,"Kratak opis bi trebao identificirati kako se testira i kontrolira informacijska tehnologija, uključujući kontrolu pristupa, pohranjivanje (back-up), oporavak i sigurnost.","The brief description should identify how information technology is tested and controlled, including access control, back-up, recovery and security."]
[755,"Navedite pojedinosti o procedurama koje se koriste kako bi se osigurali redoviti interni pregledi i ocjena podataka u skladu s člankom 58. i 62. Uredbe.","Please provide details about the procedures used to ensure regular internal reviews and validation of data in accordance with Articles 58 and 62 of the MRR."]
[756,"Kratak opis treba utvrditi da proces pregleda i ocjene uključuje provjeru da li su podaci potpuni, usporedbu s podacima prethodnih godina, usporedbu potrošnje goriva u izvještaju  s evidencijom o kupnji, usporedbu faktora dobivenih za gorivo od dobavljača s međunarodnim referentnim faktorima, ako je moguće, te kriterije za odbijanje podataka.","The brief description should identify that the review and validation process includes a check on whether data is complete, comparisons with data over previous years, comparison of fuel consumption reported with purchase records and factor obtained for fuel suppliers with international reference factors, if applicable, and criteria for rejecting data."]
[757,"Navedite pojedinosti o procedurama koje se koriste za rukovanje ispravkama i korektivnim mjerama u skladu s člancima 58. i 63. Uredbe.","Please provide details about the procedures used to handle corrections and corrective actions in accordance with Articles 58 and 63 of the MRR."]
[758,"Kratak opis bi trebao utvrditi koje odgovarajuće mjere se poduzimaju ako aktivnosti protoka podataka i kontrole aktivnosti ne funkcioniraju učinkovito. Postupak bi trebao naznačiti kako se procjenjuje valjanost rezultata, provođenje postupka utvrđivanja uzroka pogreške i kako se pogreška rješava.","The brief description should outline what appropriate actions are undertaken if data flow activities and control activities are found not to function effectively. The procedure should outline how the validity of the outputs is assessed, the process of determining the cause of the error and of correcting it."]
[759,"Navedite pojedinosti o procedurama koje se koriste za kontrolu vanjskih procesa u skladu s člancima 59. i 64. Uredbe.","Please provide details about the procedures used to control outsourced processes in accordance with Articles 59 and 64 of the MRR."]
[760,"Kratak opis bi trebao utvrditi kako se provjeravaju aktivnosti protoka podataka i kontrolnih aktivnosti vanjskih procesa i koje provjere se poduzimaju da bi se osigurala kvaliteta dobivenih podataka.","The brief description should identify how data flow activities and control activities of outsourced processes are checked and what checks are undertaken on the quality of the resulting data."]
[761,"Navedite pojedinosti o procedurama koje se koriste za upravljanje vođenja evidencije i dokumentacije u skladu s člankcima 58. i 66. Uredbe.","Please provide details about the procedures used to manage record keeping and documentation in accordance with Articles 58 and 66 of the MRR."]
[762,"Kratak opis bi trebao utvrditi proces čuvanja dokumenata, posebno u odnosu na podatke i informacije propisane u Prilogu IX Uredbe te kako se podaci pohranjuju, na način da su podaci dostupni na zahtjev nadležnog tijela ili verifikatora.","The brief description should identify the process of document retention, specifically in relation to the data and information stipulated in Annex IX of the MRR and to how the data is stored such that information is made readily available upon request of the competent authority or verifier."]
[763,"Navedite referencu na dokumentirane rezultate procjene rizika koji pokazuju da su kontrolne aktivnosti i postupci primjereni utvrđenim rizicima u skladu s člankom 12. stavkom 1b. Uredbe. (Napomena: Zahtjev za dostavu procjene rizika nadležnom tijelu ne primjenjuje se na postrojenja s niskim emisijama, u skladu s člankom 47. stavkom  3. Uredbe.\n\n\n\n\n","Please provide the reference to the documented results of a risk assessment that demonstrates that the control activities and procedures are commensurate with the risks identified in accordance with Article 12(1)(b) of the MRR.  (Note: The requirement to submit the risk assessment to the CA does not apply to installations with low emissions, in accordance with Article 47(3) of the MRR)"]
[764,"Navedite referencu dokumenta priloženog uz vaš plan praćenja u polju iznad.","Please reference the file/document attached to your monitoring plan in the box below."]
[765,"Ima li vaša organizacija dokumentiran sustav upravljanja okolišem?","Does your organisation have a documented environmental management system?"]
[766,"Ako je sustav upravljanja okolišem certificiran od akreditirane organizacije, molimo specificirajte na koje se standarde to odnosi npr. ISO14001, EMAS, itd.","If the Environmental Management System is certified by an accredited organisation, please specify to which standard e.g. ISO14001, EMAS, etc."]
[767,"Navedite listu kratica, akronima ili definicija koje ste koristili za kompletiranje plana praćenja.","Please list any abbreviations, acronyms or definitions that you have used in completing this monitoring plan."]
[768,"Kratice","Abbreviation"]
[769,"Definicije   ","Definition"]
[770,"Ako pružate bilo kakve druge informacije koje želite da uzmemo u obzir vezano za vaš ​​plan, navedite to ovdje. Molimo dostavite te informacije u elektroničkom obliku, gdje god je to moguće. Informacije možete pružiti u Microsoft Word, Excel ili Adobe Acrobat formatu.","If you are providing any other information that you wish us to take into account in considering your plan, tell us here. Please provide this information in an electronic format wherever possible. You can provide information as Microsoft Word, Excel, or Adobe Acrobat formats."]
[771,"Savjetujemo vam da izbjegavate pružanje nevažnih informacija iz razloga što to može usporiti odobrenje. Dodatna dokumentacija koju treba navesti mora biti jasno referencirana i naziv datoteke/referentni broj mora biti naveden u nastavku. Ako je potrebno, provjerite sa svojim nadležnim tijelom","You are advised to avoid supplying non-relevant information as it can slow down the approval. Additional documentation provided should be clearly referenced, and the file name / reference number provided below. If needed, check with your competent authority"]
[772,"Navedite naziv datoteke(a)(ako je u elektronskom formatu) ili referencu dokumenta (ako je u papirnatoj kopiji) dolje niže:","Please provide file name(s) (if in an electronic format) or document reference number(s) (if hard copy) below:"]
[773,"Ime datoteke/referenca","File name/Reference"]
[774,"Opis dokumenta","Document description"]
[775,"Ovaj odjeljak dan je na izbor državi članici.","This section is optional for Member States"]
[776,"Članak 24(1) Odluke Komisije 2011/278/EC, zahtijeva da države članice moraju osigurati da sve relevantne informacije o planiranim ili efektivnim promjenama kapaciteta, razini aktivnosti i radu postrojenja podnosi operater nadležnom tijelu do 31. prosinca svake godine. Članak 12. stavak 3. Uredbe dalje predviđa da države članice mogu zahtijevati informacije koje će biti uključene u plan praćenja postrojenja za potrebe ispunjavanja tih zahtjeva.","Article 24(1) of Commission Decision 2011/278/EC requires that Member States must ensure that all relevant information about any planned or effective changes to the capacity, activity level and operation of an installation is submitted by the operator to the competent authority by 31 December each year.  Article 12(3) of the MRR further provides that Member States may require information to be included in the monitoring plan of an installation for the purposes of meeting these requirements."]
[777,"Navedite pojedinosti o postupku koji se koristi kako bi se osiguralo provođenje redovitih pregleda kako bi se  utvrdile eventualne planirane ili učinkovite promjene kapaciteta, razine aktivnosti i rada postrojenja koji imaju utjecaja na raspodjelu postrojenja.","Please provide details about the procedure used to ensure regular reviews are carried out to identify any planned or effective changes to the capacity, activity level and operation of the installation that have an impact on the installation's allocation."]
[778,"_Planiranje i provođenje redovite provjere kako bi se utvrdilo da li su bilo koja planirana ili učinkovita promjena kapaciteta, razina aktivnosti i rad postrojenja relevantni prema Odluci Komisije 2011/278/EC i","- planning and carrying out regular checks to determine whether any planned or effective changes to the capacity, activity level and operation of an installation are relevant under Commission Decision 2011/278/EC; and"]
[779,"_Procedure koje osiguravaju takve informacije podnose se nadležnom tijelu do 31. prosinca svake godine.","- procedures to ensure such information is submitted to the competent authority by 31 December of each year."]
[780,"L. Specifični sadržaj za Republiku Hrvatsku","L. Member State specific content"]
[781,"Prostor za dodatne komentare:","Space for further Comments:"]
[782,"Standardna metoda: Proces, članak 24. stavak 2.","Standard method: Process, Article 24(2)"]
[783,"Metoda masene bilance, članak 25.","Mass balance method, Article 25"]
[784,"<<< Pritisnite ovdje kako bi prešli na slijedeći list >>> ","<<< Click here to proceed to next sheet >>> "]
[785,"Tok izvora","Source Stream"]
[786,"Točka mjerenja","Measurement Point"]
[787,"Trgovinski partner","Trade partner"]
[788,"Šarža","Batch"]
[789,"Detaljne upute za unos podatka u ovaj alat mogu se pronaći na početku ovog poglavlja. ","Detailed instructions for data entries in this tool can be found at  the first  occurrence of this entry section. "]
[790,"relevantno","relevant"]
[791,"nije relevantno","not relevant"]
[792,"nije primjenjivo!","not applicable!"]
[793,"Nesigurnost ne bi trebala biti veća od","Uncertainty shall not be more than"]
[794,"(nije primjenjivo; koristite procjenu temeljenu na najboljoj praksi)","(n.a.; use estimation based on best practice)"]
[795,"Molimo unesite podatke u ovo polje","Please enter data in this section"]
[796,"Molimo idite na sljedeće točke navedene dolje","Please go to the next points below"]
[797,"Molimo obrazložite zašto povijesni podaci nisu dostupni ili su neadekvatni","Please justify why historic data is not available or inappropriate"]
[798,"Bez razine","No tier"]
[799,"Ovo pravilo nije primjenjivo na postrojenja s aktivnostima vezanim uz N2O!","This rule does not apply for installations with N2O activities!"]
[800,"De-minimis prag je prekoračen!","De-minimis threshold exceeded!"]
[801,"Manji prag je prekoračen!","Minor threshold exceeded!"]
[802,"Zbroj nije u 5% godišnjih emisija (poglavlje 6.c)!","Sum not within 5% of annual emissions (section 6.c)!"]
[803,"Koristi isključivo Nadležno tijelo","Use by Competent Authority only"]
[804,"Ispunjava operater","To be filled in by operator"]
[805,"Austrija","Austria"]
[806,"Belgija","Belgium"]
[807,"Bugarska","Bulgaria"]
[808,"Hrvatska","Croatia"]
[809,"Cipar","Cyprus"]
[810,"Republika Češka","Czech Republic"]
[811,"Danska","Denmark"]
[812,"Estonija","Estonia"]
[813,"Finland","Finland"]
[814,"Francuska","France"]
[815,"Njemačka","Germany"]
[816,"Grčka","Greece"]
[817,"Mađarska","Hungary"]
[818,"Island","Iceland"]
[819,"Irska","Ireland"]
[820,"Italija","Italy"]
[821,"Latvija","Latvia"]
[822,"Lihtenštajn","Liechtenstein"]
[823,"Litva","Lithuania"]
[824,"Luksemburg","Luxembourg"]
[825,"Malta","Malta"]
[826,"Nizozemska","Netherlands"]
[827,"Norveška","Norway"]
[828,"Poljska","Poland"]
[829,"Portugal","Portugal"]
[830,"Rumunjska","Romania"]
[831,"Slovačka","Slovakia"]
[832,"Slovenija","Slovenia"]
[833,"Španjolska","Spain"]
[834,"Švedska","Sweden"]
[835,"Ujedinjeno kraljevstvo","United Kingdom"]
[836,"odbijeno od strane nadležnog tijela","rejected by competent authority"]
[837,"radna verzija","working draft"]
[838,"Odgovarajuće sekcije: 6 (osim d), 7, 8","Relevant sections: 6 (except d), 7, 8"]
[839,"Odgovarajuće sekcije: 6 (osim e), 9, 10, 11","Relevant sections: 6 (except e), 9, 10, 11"]
[840,"Odgovarajuće sekcije: 12","Relevant sections: 12"]
[841,"Odgovarajuće sekcije: 6 (osim e), 9, 10, 11, 13","Relevant sections: 6 (except e), 9, 10, 11, 13"]
[842,"Odgovarajuće sekcije: 6 (osim d), 7, 14, 15, 16","Relevant sections: 6 (except d), 7, 14, 15, 16"]
[843,"Odgovarajuće sekcije: 6 (osim e), 9, 10, 11, 17, 18, 19","Relevant sections: 6 (except e), 9, 10, 11, 17, 18, 19"]
[844,"prijenos CO2 ","CO2 transfer"]
[845,"Izračun sa specijalnim odredbama za PFC (Prilog IV, poglavlje 8.)","Calculation with special provisions for PFC (Annex IV section 8)"]
[846,"Primanje inherentnog CO2","Receiving inherent CO2"]
[847,"Izvoz inherentnog CO2 u ETS postrojenje","Exporting inherent CO2 to ETS installation"]
[848,"Izvoz inherentnog CO2 u postrojenje koje nije u  ETS-u ","Exporting inherent CO2 to non-ETS consumer"]
[849,"Primanje prenesenog CO2","Receiving transferred CO2"]
[850,"Izvoz prenesenog CO2","Exporting transferred CO2"]
[851,"Korištenje vlastitih instrumenata","Use of own instruments"]
[852,"Korištenje instrumenata drugih postrojenja","use of other installation's instruments"]
[853,"Korištenje instrumenata oba partnera","Use both partners' instruments"]
[854,"Metoda A","Method A"]
[855,"Metoda B","Method B"]
[856,"Prilog I Aktivnosti","AnnexIActivities"]
[857,"Rafiniranje mineralnog ulja ","Refining of mineral oil "]
[858,"Proizvodnja koksa","Production of coke"]
[859,"Pečenje i sinteriranje metalnih ruda","Metal ore roasting or sintering"]
[860,"Proizvodnja sirovog željeza ili čelika","Production of pig iron or steel"]
[861,"Proizvodnja ili prerada obojenih metala","Production or processing of ferrous metals"]
[862,"Proizvodnja primarnog aluminija","Production of primary aluminium"]
[863,"Proizvodnja sekundarnog aluminija","Production of secondary aluminium"]
[864,"Proizvodnja ili prerada neobojenih metala","Production or processing of non-ferrous metals"]
[865,"Proizvodnja vapna ili kalciniranje dolomita/magnezita","Production of lime, or calcination of dolomite/magnesite"]
[866,"Proizvodnja stakla","Manufacture of glass"]
[867,"Proizvodnja keramike","Manufacture of ceramics"]
[868,"Proizvodnja mineralne vune","Manufacture of mineral wool"]
[869,"Proizvodnja ili obrada gipsa ili gipsanih ploča","Production or processing of gypsum or plasterboard"]
[870,"Proizvodnja celuloze","Production of pulp"]
[871,"Proizvodnja papira ili kartona","Production of paper or cardboard"]
[872,"Proizvodnja čađe ","Production of carbon black"]
[873,"Proizvodnja dušične kiseline","Production of nitric acid"]
[874,"Proizvodnja adipinske kiseline","Production of adipic acid"]
[875,"Proizvodnja glioksala i glioksilne kiseline","Production of glyoxal and glyoxylic acid"]
[876,"Proizvodnja amonijaka","Production of ammonia"]
[877,"Proizvodnja kemikalija na veliko ","Production of bulk chemicals"]
[878,"Proizvodnja vodika i sintetskog plina","Production of hydrogen and synthesis gas"]
[879,"Proizvodnja natrij karbonata i natrij-bikarbonata","Production of soda ash and sodium bicarbonate"]
[880,"Hvatanje stakleničkih plinova prema Direktivi 2009/31/EC","Capture of greenhouse gases under Directive 2009/31/EC"]
[881,"Transport stakleničkih plinova prema Direktivi 2009/31/EC","Transport of greenhouse gases under Directive 2009/31/EC"]
[882,"Skladištenje stakleničkih plinova prema Direktivi 2009/31/EC","Storage of greenhouse gases under Directive 2009/31/EC"]
[883,"Određene emisije 2 ","SpecifiedEmissions2"]
[884,"PFCi","PFCs"]
[885,"CO2 & N2O","CO2 & N2O"]
[886,"CO2 & PFCi","CO2 & PFCs"]
[887,"IzvorKategorija","SourceCategory"]
[888,"Manji","Minor"]
[889,"De-minimis","De-minimis"]
[890,"IzvorKategorijaCEMS","SourceCategoryCEMS"]
[891,"AnalizaUčestalost","AnalysisFrequency"]
[892,"Kontinuirano","Continuous"]
[893,"Dnevno","Daily"]
[894,"Mjesečno","Monthly"]
[895,"Kvartalno","Quarterly"]
[896,"Svake dvije godine","Biannual"]
[897,"Godišnje","Annual"]
[898,"Način rada","OperationType"]
[899,"Redovni rad","Typical operation"]
[900,"Izvanredni rad","Non-typical operation"]
[901,"PFCMetode","PFCMethods"]
[902,"Metoda A - Metoda Nagiba","Method A - Slope Method"]
[903,"Metoda B - Metoda Prenapona","Method B - Overvoltage Method"]
[904,"PFCVrsteĆelija","PFCCellTypes"]
[905,"Pretpečene anode s centralnim doziranjem (CWPB)","Centre Worked Pre-Bake (CWPB)"]
[906,"Søderbergove anode s vertikalnim klinovima (VSS)","Vertical Stud Søderberg (VSS)"]
[907,"Pretpečene anode s postraničnim doziranjem (SWPB)","Side-Worked Pre-Bake (SWPB)"]
[908,"Søderbergove anode s horizontalnim klinovima(HSS)","Horizontal Stud Søderberg (HSS)"]
[909,"Mjerni uređaji","MeteringDevices"]
[910,"Turbinsko mjerilo","Turbine meter"]
[911,"Plinomjer s mjernim komorama (Bellows)","Bellows meter"]
[912,"Mjerna prigušnica  (Orifice)","Orifice meter"]
[913,"Venturijeva cijev","Venturi meter"]
[914,"Ultrazvučni mjerač","Ultrasonic meter"]
[915,"Vrtložni mjerač","Vortex meter"]
[916,"Coriolisov mjerač ","Coriolis meter"]
[917,"Volumetar s ovalnim zupčanicima (Ovalrad)","Ovalrad meter"]
[918,"Instrument za elektroničku pretvorbu volumena  (EVCI)","Electronic volume conversion instrument (EVCI)"]
[919,"Plinski kromatograf","Gas Chromatograph"]
[920,"Tračna vaga","Weighing conveyor belt"]
[921,"Razina točnosti Mjerenja","MeasurementTiers"]
[922,"PFCRazine točnosti","PFCTiers"]
[923,"RazineTočnostiBiomase","BiomassTiers"]
[924,"RazineTočnostiFaktoraProračuna","ConversionFactorTiers"]
[925,"RazineTočnosti Podataka o Djelatnostima","ActivityDataTiers"]
[926,"DOVRazineTočnosti","NCVTiers"]
[927,"2b","2b"]
[928,"EFRazineTočnosti","EFTiers"]
[929,"RazineTočnostiSadržajaUgljika ","CarbonContentTiers"]
[930,"Prilog I Uredbe","Directive Annex I"]
[931,"Posebne djelatnosti:","Special activities"]
[932,"Izgaranje goriva u postrojenjima s ukupnom toplinskom snagom većom od 20 MW (osim u postrojenjima za spaljivanje opasnog ili komunalnog otpada)","Combustion of fuels in installations with a total rated thermal input exceeding 20 MW (except in installations for the incineration of hazardous or municipal waste)"]
[933,"Metalne rude (uključujući sulfidne rude) prženje ili sinteriranje, uključujući peletiranje","Metal ore (including sulphide ore) roasting or sintering, including pelletisation "]
[934,"Proizvodnja sirovog željeza ili čelika (primarno ili sekundarno taljenje) uključujući kontinuirano lijevanje, kapaciteta iznad 2,5 tona na sat","Production of pig iron or steel (primary or secondary fusion) including continuous casting, with a capacity exceeding 2,5 tonnes per hour "]
[935,"Proizvodnja ili obrada neobojenih metala (uključujući željezne legure) u slučaju da se koriste jedinice za izgaranje ukupne nazivne ulazne toplinske snage iznad 20 MW. Obrada između ostaloga uključuje valjaonice, jedinice za predgrijavanje, peći za žarenje, kovačnice, ljevaonice, jedinice za prevlačenje i dekapiranje","Production or processing of ferrous metals (including ferro-alloys) where combustion units with a total rated thermal input exceeding 20 MW are operated. Processing includes, inter alia, rolling mills, re-heaters, annealing furnaces, smitheries, foundries, coating and pickling"]
[936,"Proizvodnja sekundarnog aluminija u slučaju da se koriste jedinice za izgaranje ukupne nazivne ulazne toplinske snage iznad 20 MW","Production of secondary aluminium where combustion units with a total rated thermal input exceeding 20 MW are operated"]
[937,"Proizvodnja ili prerada obojenih metala, uključujući proizvodnju legura, rafiniranje, lijevanje, itd., u slučaju da se koriste jedinice za izgaranje  (uključujući i goriva koja se koriste za smanjenje izgaranja) s ukupnom toplinskom snagom većom od 20 MW.","Production or processing of non-ferrous metals, including production of alloys, refining, foundry casting, etc., where combustion units with a total rated thermal input (including fuels used as reducing agents) exceeding 20 MW are operated"]
[938,"Proizvodnja cementnog klinkera u rotacijskim pećima proizvodnog kapaciteta većeg od 500 tona na dan ili u drugim pećima proizvodnog kapaciteta preko 50 tona na dan","Production of cement clinker in rotary kilns with a production capacity exceeding 500 tonnes per day or in other furnaces with a production capacity exceeding 50 tonnes per day "]
[939,"Proizvodnja vapna ili kalciniranje dolomita ili magnezita u rotacijskim pećima ili u drugim pećima s proizvodnim kapacitetom od preko 50 tona na dan","Production of lime or calcination of dolomite or magnesite in rotary kilns or in other furnaces with a production capacity exceeding 50 tonnes per day "]
[940,"Proizvodnja stakla uključujući staklena vlakna s kapacitetom taljenja od preko 20 tona na dan","Manufacture of glass including glass fibre with a melting capacity exceeding 20 tonnes per day "]
[941,"Proizvodnja keramičkih proizvoda pečenjem, osobito crijepova, opeke, vatrostalne opeke, keramičkih pločica, kamenine ili porculana, proizvodnog kapaciteta od preko 75 tona na dan","Manufacture of ceramic products by firing, in particular roofing tiles, bricks, refractory bricks, tiles, stoneware or porcelain, with a production capacity exceeding 75 tonnes per day "]
[942,"Proizvodnja izolacijskog materijala - mineralne vune pomoću stakla, kamena ili šljake s kapacitetom taljenja preko 20 tona na dan","Manufacture of mineral wool insulation material using glass, rock or slag with a melting capacity exceeding 20 tonnes per day "]
[943,"Sušenje ili kalciniranje gipsa ili proizvodnja gipsanih ploča i drugih gipsanih proizvoda, gdje su u pogon stavljene jedinice izgaranja s ukupnom toplinskom snagom većom od 20 MW","Drying or calcination of gypsum or production of plaster boards and other gypsum products, where combustion units with a total rated thermal input exceeding 20 MW are operated "]
[944,"Proizvodnja celuloze iz drveta ili drugih vlaknastih materijala","Production of pulp from timber or other fibrous materials "]
[945,"Proizvodnja papira ili kartona, proizvodnog kapaciteta preko 20 tona na dan","Production of paper or cardboard with a production capacity exceeding 20 tonnes per day "]
[946,"Proizvodnja čađe uključujući karbonizaciju organskih tvari kao što su ulja, katran, kreker i destilacije ostataka, gdje su u pogon stavljene jedinice izgaranja s ukupnom toplinskom snagom većom od 20 MW","Production of carbon black involving the carbonisation of organic substances such as oils, tars, cracker and distillation residues, where combustion units with a total rated thermal input exceeding 20 MW are operated "]
[947,"Proizvodnja organskih kemikalija na veliko  razbijanjem, pretvorbom, djelomičnom ili potpunom oksidacijom ili sličnim procesima, s proizvodnim kapacitetom od preko 100 tona na dan","Production of bulk organic chemicals by cracking, reforming, partial or full oxidation or by similar processes, with a production capacity exceeding 100 tonnes per day "]
[948,"Proizvodnja vodika (H2) i sinteza plina kroz pretvorbu ili djelomičnu oksidaciju s proizvodnim kapacitetom od preko 25 tona na dan","Production of hydrogen (H2) and synthesis gas by reforming or partial oxidation with a production capacity exceeding 25 tonnes per day "]
[949,"Proizvodnja kalcinirane sode (Na2CO3) i natrij bikarbonata (NaHCO3) ","Production of soda ash (Na2CO3) and sodium bicarbonate (NaHCO3) "]
[950,"Hvatanje stakleničkih plinova iz postrojenja obuhvaćenih ETS Direktivom u svrhu transporta i geološkog skladištenja u geološka skladišta dopuštena prema Direktivi 2009/31/EC","Capture of greenhouse gases from installations covered by this Directive for the purpose of transport and geological storage in a storage site permitted under Directive 2009/31/EC"]
[951,"Transport stakleničkih plinova cijevima za geološko skladištenje na mjestima za skladištenje dopuštenim Direktivom 2009/31/EC","Transport of greenhouse gases by pipelines for geological storage in a storage site permitted under Directive 2009/31/EC"]
[952,"Geološko skladištenje u geološka skladišta dopuštena prema Direktivi 2009/31/EC","Geological storage of greenhouse gases in a storage site permitted under Directive 2009/31/EC"]
[953,"Podaci o djelatnostima","Activity data"]
[954,"Razina točnosti","Tier"]
[955,"Djelatnost","Activity","; 'C_InstallationDescription'!$F$271"]
[956,"Skraćeno ime","Short name"]
[957,"Pod-djelatnost","Sub-activity"]
[958,"Tip izvora","Source type"]
[959,"Minimum","Minimum"]
[960,"Najviši","Highest"]
[961,"označiti sivom bojom?","make grey?"]
[962,"Izgaranje goriva i goriva korištena kao procesni ulazni materijal","Combustion of fuels and fuels used as process input"]
[963,"Izgaranje","Combustion"]
[964,"Komercijalna standardna goriva","Commercial standard fuels"]
[965,"± 7,5%","± 7,5%"]
[966,"± 5,0%","± 5,0%"]
[967,"± 2,5%","± 2,5%"]
[968,"± 1,5%","± 1,5%"]
[969,"Ostala plinovita & tekuća goriva","Other gaseous & liquid fuels"]
[970,"Kruta goriva","Solid fuels"]
[971,"Količina goriva [t]","Amount of fuel [t]"]
[972,"Terminali za obradu plina ","Gas Processing Terminals"]
[973,"Pojedinačni ulazni i izlazni materijal [t]","Each input and output material [t]"]
[974,"Baklje","Flares"]
[975,"Količina spaljenog plina [Nm3]","Amount of flare gas [Nm3]"]
[976,"± 17,5%","± 17,5%"]
[977,"± 12,5%","± 12,5%"]
[978,"Čišćenje mokrim postupkom (karbonati)","Scrubbing (carbonate)"]
[979,"Količina utrošenog karbonata [t]","Amount carbonate consumed [t]"]
[980,"Čišćenje mokrim postupkom (gips)","Scrubbing (gypsum)"]
[981,"Količina proizvedenog gipsa [t]","Amount gypsum produced [t]"]
[982,"Rafinerije","Refineries"]
[983,"Bilanca mase","Mass balance"]
[984,"Regeneriranje katalizatora iz procesa krekiranja ","Catalytic cracker regeneration"]
[985,"Zahtjevi nesigurnosti koji se primjenjuju  posebno za svaki izvor emisije","Uncertainty requirements apply separately for each emission source"]
[986,"± 10,0% (as t CO2)","± 10,0% (as t CO2)"]
[987,"± 7,5% (as t CO2)","± 7,5% (as t CO2)"]
[988,"± 5,0% (as t CO2)","± 5,0% (as t CO2)"]
[989,"± 2,5% (as t CO2)","± 2,5% (as t CO2)"]
[990,"Proizvodnja vodika","Hydrogen production"]
[991,"Snabdijevanje ugljikovodicima [t]","Hydrocarbon feed [t]"]
[992,"Koks","Coke"]
[993,"Gorivo koje se koristi kao ulazni materijal procesa","Fuel as process input"]
[994,"Ulaz karbonata (Metoda A)","Carbonate input (Method A)"]
[995,"Ulaz karbonata [t] ","Carbonate input material [t]"]
[996,"Izlaz oksida (Metoda B)","Oxide output (Method B)"]
[997,"Izlaz oksida [t]","Oxide output [t]"]
[998,"Pečenje i sintetiranje metalnih ruda","Metal ore roasting & sintering"]
[999,"Metalne rude","Metal ore"]
[1000,"Ulaz karbonata ","Carbonate input"]
[1001,"Karbonat kao ulazni materijal i procesni ostaci [t]","Carbonate input material and process residues [t]"]
[1002,"Proizvodnja željeza i čelika","Production of iron & steel"]
[1003,"Željezo i čelik","Iron & steel"]
[1004,"Svaki ulazni i izlazni materijal iz postrojenja [t]","Each mass flow into and from the installation [t]"]
[1005,"Cementni klinker","Cement clinker"]
[1006,"Na temelju ulaza u peć (Metoda A)","Kiln input based (Method A)"]
[1007,"Svaki relevantni ulaz u peć [t]","Each relevant kiln input [t]"]
[1008,"Izlaz klinkera (Metoda B)","Clinker output (Method B)"]
[1009,"Proizvedeni klinker [t]","Clinker produced [t]"]
[1010,"CKD","CKD"]
[1011,"CKD ili prašina iz bypassa [t]","CKD or bypass dust [t]"]
[1012,"Ne-karbonatni ugljik","Non-carbonate carbon"]
[1013,"Pojedina sirovina [t]","Each raw material [t]"]
[1014,"± 15,0%","± 15,0%"]
[1015,"Proizvodnja vapna i kalcinacija dolomita i magnezita","Production of lime and calcination of dolomite and magnesite"]
[1016,"Vapno / dolomit / magnezit","Lime / dolomite / magnesite"]
[1017,"Karbonati (Metoda A)","Carbonates (Method A)"]
[1018,"Oksidi zemnoalkalijskih metala (Metoda B)","Alkali earth oxide (Method B)"]
[1019,"Proizvedeno vapno [t]","Lime produced [t]"]
[1020,"Prašina iz peći (Metoda B)","Kiln dust (Method B)"]
[1021,"Prašina iz peći [t]","Kiln dust [t]"]
[1022,"Proizvodnja stakla i mineralne vune","Manufacture of glass and mineral wool"]
[1023,"Staklo i mineralna vuna","Glass and mineral wool"]
[1024,"Karbonati (ulaz)","Carbonates (input)"]
[1025,"Svaka karbonatna sirovina ili dodatak povezan s emisijom CO2 [t]","Each carbonate raw material or additive associated with CO2 emissions [t]"]
[1026,"Proizvodnja keramičkih proizvoda","Manufacture of ceramic products"]
[1027,"Keramika","Ceramics"]
[1028,"Ulaz ugljika (Metoda A)","Carbon inputs (Method A)"]
[1029,"Svaka karbonatna sirovina ili dodatak povezan s emisijom CO2 [t]","Each carbonate raw material or additive associated with CO2 emissions [t]"]
[1030,"Oksidi alkalijskih metala (Metoda B) ","Alkali oxide (Method B)"]
[1031,"Bruto proizvodnja, uključujući i odbačene proizvode te reciklažno staklo iz peći i pošiljki [t]","Gross production including rejected products and cullet from the kilns and shipment [t]"]
[1032,"Čišćenje mokrim postupkom","Scrubbing"]
[1033,"Potrošeni suhi CaCO3 [t]","Dry CaCO3 consumed [t]"]
[1034,"Proizvodnja celuloze i papira","Production of pulp & paper"]
[1035,"Celuloza i papir","Pulp & paper"]
[1036,"Dodatne kemikalije","Make up chemicals"]
[1037,"Količina CaCO3 i Na2CO3 [t]","Amount of CaCO3 and Na2CO3 [t]"]
[1038,"Čađa","Carbon black"]
[1039,"Metodologija masene bilance","Mass balance methodology"]
[1040,"Amonijak","Ammonia"]
[1041,"Količina goriva korištena kao ulazni materijal procesa [t] ili [Nm3]","Amount fuel used as process input [t] or [Nm3]"]
[1042,"Vodik i sintetski plin","Hydrogen and synthesis gas"]
[1043,"Količina goriva korištena kao ulazni materijal procesa [t] ili [Nm3]","Amount fuel used as process input for hydrogen production [t] or [Nm3]"]
[1044,"Proizvodnja  organskih kemikalija na veliko","Production of bulk organic chemicals"]
[1045,"Organske kemikalije na veliko","Bulk organic chemicals"]
[1046,"Proizvodnja ili obrada obojenih i neobojenih metala, uključujući sekundarni aluminij","Production or processing of ferrous and non-ferrous metals, including secondary aluminium"]
[1047,"Neobojeni, sek. aluminij","(Non) ferrous, sec. aluminium"]
[1048,"Procesne emisije","Process emissions"]
[1049,"Svaki ulazni materijal ili procesni ostatak korišten kao ulazni materijal za proces [t]","Each input material or process residue used as input material in the process [t]"]
[1050,"Natrij karbonat / natrij bikarbonat","Soda ash / sodium bicarbonate"]
[1051,"Proizvodnja primarnog aluminija","Primary aluminium production"]
[1052,"Primarni aluminij","Primary aluminium"]
[1053,"Emisije PFC (Metoda nagiba)","PFC emissions (slope method)"]
[1054,"Proizvodnja primarnog aluminija u [t], minute učinka anode [broj učinka anode/ćelija-dan] i [minute učinka anode /pojavi]","primary aluminium production in [t], anode effect minutes in [number anode effects/cell day] and [anode effect minutes/ occurrence]"]
[1055,"Emisije PFC (prenaponska metoda)","PFC emissions (overvoltage method)"]
[1056,"Proizvodnja primarnog aluminija u [t], prenapon učinka anode  [mV] i učinkovitost struje [-]","primary aluminium production in [t], anode effect overvoltage [mV] and current efficiency [-]"]
[1057,"masena bilanca","mass balance"]
[1058,"Emisijski faktor","Emission factor"]
[1059,"zadana vrijednost?","default value?"]
[1060,"Utemeljeni posredni faktori (ako je promijenjivo)","Established proxies (if applicable)"]
[1061,"Operater primjenjuje jedno od sljedećeg:\n(a) standardni faktori navedeni u poglavlju 1. Priloga VI;\n(b) druge konstantne vrijednosti u skladu s točkama (d) ili (e) članka 31. stavka 1. Uredbe\nkada primjenjive vrijednosti nisu sadržane u poglavlju 1. Priloga VI.","The operator shall apply one of the following:\n(a) the standard factors listed in section 1 of Annex VI;\n(b) other constant values in accordance with points (d) or (e) of Article 31(1),\nwhere no applicable value is contained in section 1 of Annex VI."]
[1062,"Razina točnosti 2a: Operater primjenjuje emisijske faktore specifične za pojedinu državu za odgovarajuće gorivo ili materijal u skladu s točkama (b) i (c) članka 31. stavka 1. Uredbe","Tier 2a: The operator shall apply country specific emission factors for the respective fuel or\nmaterial in accordance with points (b) and (c) of Article 31(1)"]
[1063,"Razina točnosti 2b: Operater će izvesti emisijske faktore za gorivo na temelju jednog od sljedećih utemeljenih posrednih faktora, u kombinaciji s empirijskom korelacijom određenom najmanje jednom godišnje u skladu s člancima 32. do 35. i 39. Uredbe:","Tier 2b: The operator shall derive emission factors for the fuel based on one of the following\nestablished proxies, in combination with an empirical correlation as determined at least once\nper year in accordance with Articles 32 to 35 and 39:"]
[1064,"Operater utvrđuje faktor emisije u skladu s relevantnim odredbama članaka 32. - 35. Uredbe","The operator shall determine the emission factor in accordance with the relevant\nprovisions of Articles 32 to 35."]
[1065,"0.00393 t CO2/Nm3","0.00393 t CO2/Nm3"]
[1066,"Faktori specifični za postrojenje","Installation-specific factors"]
[1067,"Operater će koristiti referentni emisijski faktor od 0,00393 t CO2/Nm3 koji proizlazi iz izgaranja čistoga etana korištenog kao konzervativni posredni faktor za spaljene plinove.","The operator shall use a reference emission factor of 0.00393 t CO2/Nm3 derived from the combustion of pure ethane used as a conservative proxy for flare gases."]
[1068,"Razina točnosti 2b: Emisijski faktori specifični za postrojenje izvode se iz procjene molekularne težine toka baklje, koristeći modeliranje procesa na temelju standardnih industrijskih modela. Vodeći računa o relativnim omjerima i molekularnim težinama svakog od tokova koji sudjeluju, dobiva se ponderirani godišnji prosječni iznos za molekularnu težinu spaljenog plina.","Tier 2b: Installation-specific emission factors shall be derived from an estimate of the\nmolecular weight of the flare stream, using process modelling based on industry standard\nmodels. By considering the relative proportions and the molecular weights of each of the\ncontributing streams, a weighted annual average figure shall be derived for the molecular\nweight of the flare gas."]
[1069,"Zadana vrijednost Tipa I i najbolja praksa","Type I default value & best practice"]
[1070,"Emisijski faktor se određuje iz stehiometrijskih omjera kako je propisano u\npoglavlju 2. priloga VI. Određivanje količine CaCO3 i MgCO3 u relevantnom\nulaznom materijalu provodi se pomoću uputa najbolje industrijske prakse.","The emission factor shall be determined from stoichiometric ratios as laid down in\nsection 2 of Annex VI. The determination of the amount of CaCO3 and MgCO3 in the relevant\ninput material shall be carried out using best industry practice guidelines."]
[1071,"0,2558 t CO2/ t gipsa.","0.2558 t CO2/ t gypsum."]
[1072,"Emisijski faktor trebao bi biti stehiometrijski omjer suhog gipsa (CaSO4.2H2O) za emitirani CO2: 0.2558 t CO2/ t gipsa.","The emission factor shall be the stoichiometric ratio of dry gypsum (CaSO4.2H2O) to CO2 emitted: 0.2558 t CO2/ t gypsum."]
[1073,"2.9 t CO2 po toni procesirane sirovine\n","2.9 t CO2 per tonne feed processed\n"]
[1074,"Operater treba koristiti referentnu vrijednost od 2.9 t CO2 po toni procesirane sirovine, konzervativno određene na temelju etana.","The operator shall use a reference value of 2.9 t CO2 per tonne feed processed,\nconservatively based on ethane."]
[1075,"Operater će koristiti emisijski faktor specifičan za djelatnost izračunat iz sadržaja ugljika pri ulazu plina određenog u skladu s člancima 32. do 35.","The operator shall use an activity-specific emission factor calculated from the carbon\ncontent of the feed gas determined in accordance with Articles 32 to 35."]
[1076," "," "]
[1077,"0.525 t CO2/t klinker.","0.525 t CO2/t clinker."]
[1078,"Operater treba koristiti emisijski faktor 0.525 t CO2/t klinker.","The operator shall apply an emission factor of 0.525 t CO2/t clinker."]
[1079,"Utvrđivanje iznosa relevantnih metalnih oksida koji proizlaze iz\nrazgradnje karbonata iz proizvoda, mora se provoditi u skladu s člancima 32.\ndo 35. Uredbe. Stehiometrijski omjeri navedeni u prilogu VI poglavlju 2. Tablica 3. će se koristiti za pretvaranje podataka o sastavu u emisijske faktore uz pretpostavku da su svi relevantni metalni oksidi izvedeni iz odgovarajućih karbonata.","The determination of the amount of relevant metal oxides stemming from the\ndecomposition of carbonates in the product shall be carried out in accordance with Articles 32\nto 35. Stoichiometric ratios referred to in Annex VI section 2 Table 3 shall be used to convert\ncomposition data into emission factors assuming that all of the relevant metal oxides have\nbeen derived from respective carbonates."]
[1080,"Prilog VI, poglavlje 2. i analize","Annex VI, section 2 & Analyses"]
[1081,"0.525 t CO2/t prašine.","0.525 t CO2/t dust."]
[1082,"Operater treba koristiti emisijski faktor 0.525 t CO2/t prašine.","The operator shall apply an emission factor of 0.525 t CO2/t dust."]
[1083,"Operater treba odrediti emisijski faktor (EF) barem jednom godišnje u skladu s člancima 32. do 35. Uredbe i koristeći sljedeću formulu:","The operator shall determine the emission factor (EF) at least once annually following\nArticles 32 to 35 and using the following formula:"]
[1084,"Najbolja praksa","Best practice"]
[1085,"Sadržaj ne-karbonatnog ugljika u relevantnoj sirovini potrebno je procijeniti korištenjem uputa najbolje industrijske prakse.","The content of non-carbonate carbon in the relevant raw material shall be estimated\nusing industry best practice guidelines."]
[1086,"Sadržaj ne-karbonatnog ugljika u relevantnoj sirovini potrebno je procijeniti \nbarem jednom godišnje u skladu s uputama članaka 32. do 35. Uredbe","The content of non-carbonate carbon in the relevant raw material shall be determined\nat least annually following the provisions of Article 32 to 35."]
[1087,"Procjena količine odgovarajućih karbonata u svakom odgovarajućem ulaznom materijalu treba se provoditi sukladno člancima 32. do 35. Uredbe. Za pretvorbu podataka o sastavu u  emisijske faktore potrebno je koristiti stehiometrijske omjere opisane u poglavlju 2. Priloga VI.","The determination of the amount of relevant carbonates in each relevant input material shall be carried out according Articles 32 to 35. Stoichiometric ratios as listed in section 2 of Annex VI shall be used to convert composition data into emission factors. "]
[1088,"Operater primjenjuje standardne čimbenike navedene u Prilogu VI poglavlju 2. Tablica 3.","The operator shall apply the standard factors listed in Annex VI section 2 Table 3."]
[1089,"Operater će primijeniti faktore emisije specifične za državu u skladu s točkama\n(b) ili (c) članka 31. stavka 1.","The operator shall apply a country specific emission factor in accordance with points\n(b) or (c) of Article 31(1)."]
[1090,"Koristit će se stehiometrijski omjeri navedeni u poglavlju  2. Priloga VI. Čistoća\r odgovarajućih ulaznih materijala utvrđuje se pomoću najbolje industrijske prakse. ","Stoichiometric ratios as listed in section 2 of Annex VI shall be used. The purity of\nrelevant input materials shall be determined by means of industry best practice."]
[1091,"Procjena količnine odgovarajućih karbonata u svakom odgovarajućem ulaznom materijalu treba se provoditi sukladno člancima 32. do 35. Uredbe. ","The determination of the amount of relevant carbonates in each relevant input material\nshall be carried out in accordance with Articles 32 to 35."]
[1092,"0,08794 tona CO2 po toni suhe gline","0.08794 tonnes of CO2 per tonne of dry clay"]
[1093,"Konzervativna vrijednost od 0,2 tone CaCO3 (što odgovara 0,08794 tone CO2)\npo toni suhe gline koristi se za izračun emisijskog faktora umjesto rezultata analize.","A conservative value of 0.2 tonnes CaCO3 (corresponding to 0.08794 tonnes of CO2)\nper tonne of dry clay shall be applied for the calculation of the emission factor instead of\nresults of analyses."]
[1094,"Emisijski faktor za svaki tok izvora biti će izveden i ažuriran najmanje jednom\ngodišnje koristeći najbolje industrijske prakse i to na način da odražava specifične uvjete na lokaciji i mješavinu proizvoda u postrojenju\n","An emission factor for each source stream shall be derived and updated at least once\nper year using best industry practice reflecting site-specific conditions and the product mix of\nthe installation."]
[1095,"0,09642 tone CO2 po toni proizvoda","0.09642 tonnes of CO2 per tonne of product"]
[1096,"Tip I zadane vrijednosti","Type I default value"]
[1097,"Operater treba koristiti stehiometrijski omjer CaCO3 kako je prikazano u poglavlju 2. Priloga VI.","The operator shall apply the stoichiometric ratio of CaCO3 as shown in section 2 of\nAnnex VI."]
[1098,"Tip I zadane vrijednosti & najbolja praksa","Type I default value & best practice"]
[1099,"Koristit će se stehiometrijski omjeri navedeni u poglavlju 2. Priloga VI. Čistoća\r odgovarajućih ulaznih materijala utvrđuje se na temelju najbolje industrijske prakse. Izvedene vrijednosti bit će prilagođene u skladu sa sadržajem vlage i minerala jalovine korištenih karbonatnih materijala.","Stoichiometric ratios as listed in section 2 of Annex VI shall be used. The purity of\nrelevant input materials shall be determined by means of best industry practice. The derived\nvalues shall be adjusted in accordance with the moisture and gangue content of the applied\ncarbonate materials."]
[1100,"Emisijski faktori specifični za postrojenje","Installation-specific emission factors"]
[1101,"Operater će koristiti emisijske faktore za specifične tehnologije iz tablice 1. članka 8. Priloga IV. ","The operator shall use technology-specific emission factors from Table 1 of section 8 of Annex IV."]
[1102,"Operater će koristiti emisijske faktore za CF4 i C2F6 specifične za postrojenje, koji su ustanovljeni kontinuiranim ili povremenim terenskim mjerenjima. Za određivanje\ntih emisijskih faktora operater treba koristiti najnoviju verziju uputa\nspomenutih pod razinom točnosti 3 odjeljka 4.4.2.4 IPCC Uputa za 2006. godinu. Operater utvrđuje svaki emisijski faktor uz maksimalnu nesigurnost od ± 15%.","The operator shall use installation-specific emission factors for CF4 and C2F6\nestablished through continuous or intermittent field measurements. For the determination of\nthose emission factors the operator shall use the most recent version of the guidance\nmentioned under Tier 3 of section 4.4.2.4 of the 2006 IPCC Guidelines. The operator shall\ndetermine each emission factor with a maximum uncertainty of ±15%."]
[1103,"Operater treba primijeniti emisijske faktore specifične za tehnologiju iz tablice 2. poglavlja  8. Priloga IV.\n","The operator shall apply technology-specific emission factors from Table 2 of section 8 of Annex IV\n"]
[1104,"Operater će koristiti emisijske faktore za CF4 [(kg CF4 / t Al) /(mV)] i C2F6 [t C2F6 / t CF4] specifične za postrojenje koji su ustanovljeni kontinuiranim ili povremenim terenskim mjerenjima. Za određivanje\ntih emisijskih faktora operater treba koristiti najnoviju verziju uputa\nspomenutih pod razinom  točnosti 3. poglavlja 4.4.2.4 IPCC Uputa za 2006. godinu. Operater utvrđuje svaki emisijski faktor uz maksimalnu nesigurnost od ± 15%.","The operator shall use installation-specific emission factors for CF4 [(kg CF4 / t Al ) /\n(mV)] and C2F6 [t C2F6/ t CF4] established through continuous or intermittent field\nmeasurements. For the determination of those emission factors, the operator shall use the\nmost recent version of the guidance mentioned under Tier 3 of section 4.4.2.4 of the 2006\nIPCC Guidelines. The operator shall determine the emission factors with a maximum\nuncertainty of ±15% each."]
[1105,"Laboratorijske analize & stehiometrijske vrijednosti","Laboratory analyses & stoichiometric values"]
[1106,"Utvrđivanje iznosa odgovarajućih karbonata u svakom relevantnom ulaznom\nmaterijalu provodi se prema člancima 32. do 35. Uredbe. Stehiometrijski omjeri navedeni u poglavlju 2. priloga VI koristi se za pretvaranje podataka o sastavu u emisijske faktore. ","The determination of the amount of relevant carbonates in each relevant input\nmaterial shall be carried out according Articles 32 to 35. Stoichiometric ratios as listed in\nsection 2 of Annex VI shall be used to convert composition data into emission factors."]
[1107,"DOV","NCV"]
[1108,"Fakture (ukoliko je primjenjivo)","Purchasing records (if applicable)"]
[1109,"Razina točnosti 2a: Operater treba primjeniti faktore za odgovarajuće gorivo specifične za državu u skladu s točkama (b) ili (c) članka 31 stavka 1. Uredbe.","Tier 2a: The operator shall apply country specific factors for the respective fuel in\naccordance with points (b) or (c) of Article 31(1)."]
[1110,"Razina točnosti 2b: Za komercijalna goriva mora se koristiti donja ogrjevna vrijednost dobivena iz faktura dobavljača goriva za odgovarajuće gorivo, pod uvjetom da je vrijednost iste dobivena na temelju prihvaćenih nacionalnih ili međunarodnih normi.","Tier 2b: For commercially traded fuels the net calorific value as derived from the purchasing\nrecords for the respective fuel provided by the fuel supplier shall be used provided it has been\nderived based on accepted national or international standards."]
[1111,"Operater treba odrediti donju ogrjevnu vrijednost u skladu s člancima 32. do 35. Uredbe","The operator shall determine the net calorific value in accordance with Article 32 to\n35."]
[1112,"Sadržaj ugljika","Carbon Content"]
[1113,"Operater primjenjuje jedno od sljedećeg:\n(a) sadržaj ugljika izveden iz standardnih faktora navedenih u Prilogu VI poglavlja 1.\ni 2.;\n(b) druge konstantne vrijednosti u skladu s točkama (d) ili (e) članka 31. stavka 1. Uredbe,\nkada nije moguće primjeniti niti jednu vrijednost iz Priloga VI poglavlja 1. i 2.","The operator shall apply one of the following:\n(a) the carbon content derived from standard factors listed in Annex VI sections 1\nand 2;\n(b) other constant values in accordance with points (d) or (e) of Article 31(1),\nwhere no applicable value is contained in Annex VI sections 1 and 2."]
[1114,"Razina točnosti 2a: Operater treba odrediti sadržaj ugljika pomoću emisijskih faktora za odgovarajuće gorivo ili materijal specifičnih za državu, u skladu s točkama (b) ili (c) članka 31. stavka 1.","Tier 2a: The operator shall derive the carbon content from country specific emission factors\nfor the respective fuel or material in accordance with points (b) or (c) of Article 31(1)."]
[1115,"Razina točnosti 2b: Operater treba izvesti sadržaj ugljika iz emisijskih faktora za gorivo, na temelju jednog od sljedećih uspostavljenih propisa u kombinaciji s empirijskom korelacijom određenom najmanje jednom godišnje u skladu s člancima 32. do 35. Uredbe\n(a) mjerenje gustoće specifičnih ulja ili plinova, zajedničkih, primjerice, rafineriji ili industriji čelika;\n(b) neto kalorična vrijednost za specifične vrste ugljena.","Tier 2b: The operator shall derive the carbon content from emission factors for the fuel based\non one of the following established proxies in combination with an empirical correlation as\ndetermined at least once per year in accordance with Articles 32 to 35:\n(a) density measurement of specific oils or gases common, for example, to the\nrefinery or steel industry;\n(b) net calorific value for specific coals types."]
[1116,"Operater treba odrediti sadržaj ugljika u skladu s relevantnim propisima članaka 32.-35. Uredbe","The operator shall determine the carbon content in accordance with the relevant\nprovisions of Articles 32 to 35."]
[1117,"Sadržaj biomase","Biomass Content"]
[1118,"Operater primjenjuje jednu od vrijednosti objavljenih u skladu s prvim\npodstavkom članka 39. stavkom 2. Uredbe ili vrijednost određenu u skladu s drugim\npodstavkom članka 39 stavkom 2. ili članka 39. stavkom 3. Uredbe","The operator shall apply a value from those published in accordance with the first\nsubparagraph of Article 39(2) or a value determined in accordance with the second\nsubparagraph of Article 39(2) or Article 39(3)."]
[1119,"Operater određuje specifične faktore u skladu s člankom 39. stavkom 1. Uredbe","The operator shall determine specific factors in accordance with Article 39(1)."]
[1120,"Operater primjenjuje oksidacijski faktor 1.","The operator shall apply an oxidation factor of 1."]
[1121,"Operater primjenjuje oksidacijske faktore za odgovarajuće gorivo u skladu s točkom (b) ili (c) članka 31. stavka 1. Uredbe","The operator shall apply oxidation factors for the respective fuel in accordance with\npoints (b) or (c) of Article 31(1)."]
[1122,"Za goriva, operater će izvesti faktore specifične za djelatnost na temelju odgovarajućeg sadržaja ugljika u pepelu, ispustima i drugih vrstama otpada i nusproizvoda, i drugim relevantnim nepotpuno oksidiranim emitiranim plinovitim oblicima ugljika, osim CO. Podaci o sastavu utvrđuju se u skladu s člancima 32. do 35. Uredbe","For fuels, the operator shall derive activity-specific factors based on the relevant carbon contents of ashes, effluents and other wastes and by-products, and other relevant incompletely oxidised gaseous forms of carbon emitted except CO. Composition data shall be\ndetermined in accordance with Article 32 to 35."]
[1123,"Anm.: odnosi se na poglavlje 4 Priloga II ali se karbonati ne spominju ","Anm.: refers to section 4 of Annex II but no carbonates mentioned anywhere!"]
[1124,"Konverzijski faktor se računa primjenom najbolje industrijske prakse.","The conversion factor shall be calculated applying best industry practice."]
[1125,"Anm.: minimalna razina točnosti nije primjenjiva ali razina točnosti 1 je primjenjiva","Anm.: mimimum tier n.a. but tier 1 applicable??"]
[1126,"Zadana vrijednost CF=1","Default value CF=1"]
[1127,"Potrebno je koristiti konverzijski faktor 1.","A conversion factor of 1 shall be used."]
[1128,"Karbonate i ostali ugljik koji nastaje u procesu, potrebno je uzeti u obzir korištenjem konverzijskih faktora s vrijednošću između 0 i 1. Operater može pretpostaviti potpunu pretvorbu za jedan ili više ulaznih materijala i dodijeliti nekonvertirani materijal ili druge vrste ugljika preostalom ulaznom materijalu. Dodatno određivanje relevantnih kemijskih parametara proizvoda provodi se u skladu s člancima 32. do 35. Uredbe","Carbonates and other carbon leaving the process shall be considered by means of a conversion factor with a value between 0 and 1. The operator may assume complete\nconversion for one or several inputs and attribute unconverted materials or other carbon to the\nremaining inputs. The additional determination of relevant chemical parameters of the\nproducts shall be carried out in accordance with Articles 32 to 35."]
[1129,"Iznos nekarbonatnih spojeva relevantnih metala u sirovini, uključujući povratnu prašinu ili leteći pepeo ili druge već kalcinirane materijale, mora se odražavati u konverzijskim faktorima vrijednosti između 0 i 1, pri čemu vrijednost 1 odgovara potpunoj konverziji karbonatne sirovine u okside. Dodatno određivanje\nrelevantnih kemijskih parametara ulaznih materijala u proces potrebno je provesti u skladu s člancima 32. do 35. Uredbe","The amount of non-carbonate compounds of the relevant metals in the raw materials,\nincluding return dust or fly ash or other already calcined materials, shall be reflected by\nmeans of conversion factors with a value between 0 and 1 with a value of 1 corresponding to\na full conversion of raw material carbonates into oxides. The additional determination of\nrelevant chemical parameters of the process inputs shall be carried out in accordance with\nArticles 32 to 35."]
[1130,"Mjerenje","Measurement"]
[1131,"± 10,0%","± 10,0%"]
[1132,"Razine točnosti","Tiers"]
[1133,"Izračun - primjenjive razine točnosti","Calculation - applicable tiers"]
[1134,"Mali onečišćivač","Small emitter"]
[1135,"Kategorija","Category"]
[1136,"kategorija toka izvora","source stream cat."]
[1137,"Poruka","Message"]
[1138,"Čl. 47. stavak 6. Uredbe Postrojenje s niskim emisijama (mali onečišćivač): za sve tokove izvora može koristiti razinu točnosti 1 kao minimum za podatke o djelatnostima i faktore izračuna, osim ako je veća preciznost ostvariva bez dodatnog napora za operatera, bez pružanja dokaza da primjena viših razina točnosti tehnički nije izvediva ili bi izazvala neopravdane troškove.","Art. 47(6) Installation with low emissions (small emitter): for all source streams tier 1 may be used as a minimum for activity data and calculation factors, unless higher accuracy is achievable without additional effort for the operator, without providing evidence that applying higher tiers is technically not feasible or would incur unreasonable costs."]
[1139,"Čl. 26. stavak 1. Uredbe: Potrebno je primjeniti minimalne razine prikazane u nastavku.\nMeđutim, možete primjeniti i do dvije razine ispod tražene, ali minimalno razinu točnosti 1, ako dokažete nadležnom tijelu, da razina točnosti koja je tražena u skladu s prvim podstavkom, tehnički nije izvediva ili dovodi do neopravdano visokih troškova.","Art. 26(1): The minimum tiers displayed below shall at least apply. \nHowever, you may apply a tier up to two levels lower, with a minimum of tier 1, where you can show to the satisfaction of the competent authority that the tier required in accordance with the first subparagraph is technically not feasible or incurs unreasonable costs."]
[1140,"Čl. 26. stavak 2. Uredbe: Manji tok izvora: Za podatke o djelatnostima i svaki faktor izračuna, primjenjuje se najviša razina točnosti koja je tehnički izvediva i ne izazva neopravdano visoke troškove, a minimalno razina točnosti 1.","Art. 26(2) Minor source stream: For activity data and each calculation factor, the highest tier which is technically feasible and does not incur unreasonable costs, with a minimum of tier 1, shall apply."]
[1141,"Čl. 26. stavak 3. Uredbe: De-minimis tok izvora: Podaci o djelatnostima i svaki faktor izračuna mogu se odrediti korištenjem konzervativnih procjena umjesto korištenjem razina točnosti, osim ako je definiranu razinu točnosti moguće postići bez dodatnih napora.","Art. 26(3) De-minimis source stream: Activity data and each calculation factor may be determined by using conservative estimations instead of using tiers, unless a defined tier is achievable without additional effort."]
[1142,"Čl. 26. stavak 1. Uredbe: Potrebno je primjeniti minimalne razine točnosti prikazane u nastavku. \nMeđutim, možete primjeniti jednu razinu točnosti niže, ali minimalno razinu točnosti 1, ako dokažete nadležnom tijelu da razina točnosti koja je tražena u skladu s prvim podstavkom nije tehnički izvediva ili dovodi do neopravdano visokih troškova.","Art. 26(1): The minimum tiers displayed below shall at least apply.\nHowever, you may apply a tier one level lower, with a minimum of tier 1, where you can show to the satisfaction of the competent authority that the tier required in accordance with the first subparagraph is technically not feasible or incurs unreasonable costs."]
[1143,"Mjerenje - primjenjive razine","Measurement - applicable tiers"]
[1144,"Kategorija izvora emisije","Emission source cat."]
[1145,"Članak 41. Uredbe: Jednu razinu točnosti niže od dolje prikazane razine točnosti treba  koristiti kao minimum. \nSamo gdje možete dokazati nadležnom tijelu da primjena tražene razine točnosti nije tehnički izvediva ili uzrokuje neopravdano visoke troškove, također da primjena metodologije izračuna korištenjem određenog stupnja razine točnosti, kao što zahtijeva članak 26. Uredbe, nije tehnički izvediva ili uzrokuje neopravdano visoke troškove, tada se može koristiti sljedeća niža razina točnosti, ali minimalno razina točnosti 1.","Article 41: One tier lower than the tier displayed below shall apply as a minimum.\nOnly where you can demonstrate to the satisfaction of the competent authority that application of the tier required is technically not feasible or incurs unreasonable costs, and application of a calculation methodology using the tier levels required by Article 26 is technically not feasible or incurs unreasonable costs, a next lower tier may be used, with a minimum of tier 1."]
[1146,"Ovaj obrazac plana praćenja predstavlja stavove službe Komisije u vrijeme objave.","This monitoring plan template represents the views of the Commission services at the time of publication. "]
[1147,"Ovo je finalna verzija obrasca plana praćenja za postrojenja, odobrena od strane Odbor za klimatske promjene na sastanku održanom 7. srpnja 2012. godine.","This is the final version of the monitoring plan template for installations, as endorsed by the Climate Change Committee in its meeting 7 June 2012."]
[1148,"Opravdanje, ako nije primjenjena potrebna razina:","Justification if required tier is not applied:"]
[1149,"Daljnji postupak dodan od strane postrojenja","Further procedure added by the operator"]
[1500,"Novosti u 4. fazi ( dopunjeno 2020.)","NEW for Phase 4 (Update 2020)"]
[1501,"Daljni postupci","Further procedures"]
[1502,"M.Izračun","M. Accounting"]
[1503,"https://eur-lex.europa.eu/eli/dir/2003/87/2018-04-08?locale=hr","https://eur-lex.europa.eu/eli/dir/2003/87/2018-04-08"]
[1504,"U Uredbi o praćenju i izvješćivanju (Uredba Komisije (EU) 2018/2066, kako je izmijenjena, dalje u tekstu Uredba) utvrđeni su daljnji zahtjevi za praćenje i izvješćivanje. Uredba o praćenju i izvješćivanju može se preuzeti s adrese:","The Monitoring and Reporting Regulation (Commission Regulation (EU) No 2018/2066, as amended, hereinafter the \"MRR\"), defines further requirements for monitoring and reporting. The MRR can be downloaded from:"]
[1505,"https://eur-lex.europa.eu/legal-content/EN/TXT/?uri=CELEX%3A02018R2066-20250527","https://eur-lex.europa.eu/eli/reg_impl/2018/2066/oj"]
[1506,"Ovo je konačna verzija obrasca plana praćenja za postrojenja u 4. fazi ETS-a EU-a, koji je Odbor za klimatske promjene  odobrio pisanim postupkom u studenome 2020.","This is the final version of the monitoring plan template for installations for phase 4 of the EU ETS, as ensorsed by the Climate Change Committee by written procedure in November 2020."]
[1507,"https://climate.ec.europa.eu/document/download/535fc76c-4466-4568-a88a-e205a5ee0d6f_en?filename=quick_guide_operators_en.pdf","https://ec.europa.eu/clima/policies/ets/monitoring_en#tab-0-1"]
[1508,"Preporučuje se da počnete s „Brzim vodičem za operatere stacionarnih postrojenja” i „Uputama br. 1”.","It is recommended to start with the \"Quick guide for operators of stationary installations\" and \"Guidance Document 1\""]
[1509,"Ovaj se list upotrebljava za utvrđivanje trenutačne verzije plana praćenja. Svaka verzija plana praćenja mora imati jedinstveni broj verzije koji se ne podudara s planovima iz prethodne faze te referentni datum.","This sheet is used to identify the current version of the monitoring plan. Each version of the monitoring plan must have a unique version number that does not coincide with previous phase plans, and a reference date."]
[1510,"U stupcu „datum početka primjene”, ako je primjenjivo, upisuje se datum od kojeg se primjenjuje metodologija praćenja kako je opisana u planu.","In the \"date of application\" column, the date as of which the monitoring methodology as described in the plan applies, if applicable."]
[1511,"Datum početka primjene","Date of application"]
[1512,"Nazivna ulazna toplinska snaga u MW (th) (ako je kapacitet izražen u tonama)","Rated thermal input in MW(th) (if capacity expressed in tonnes)"]
[1513,"Procijenjene emisije pod točkom d) ili e) na temelju konzervativnih procjena?","Estimated emissions under d) or e) based on conservative estimates?"]
[1514,"Ako vaš unos u vezi s postrojenjem s niskim emisijama proturječi unosu pod točkom (d) ili ako se brojka pod točkom (d) temelji na konzervativnoj procjeni umjesto na verificiranim emisijama, odaberite „TRUE” i u nastavku navedite kratko obrazloženje.","If your input regarding being an installation with low emissions contradicts your entry in point (d), or if the figure under point (d) is not based on verified emissions, but on a conservative estimate, please select \"TRUE\" and provide a short justification below."]
[1515,"Ako su emisije iz proizvodnih procesa relevantne, jasno opišite uključuje li izračun anorganski ugljik (karbonati), organski ugljik ili oboje, u skladu s odjeljkom 4. Priloga II. Uredbe o praćenju i izvješćivanju.","Where process emissions are relevant, please clearly describe whether the calculation includes inorganic carbon (carbonates), organic carbon, or both, pursuant to section of 4 of Annex II of the MRR."]
[1516,"Opis postupka za procjenu sukladnosti tokova izvora biomase u skladu s člankom 38. stavkom 5. Uredbe, ako je primjenjivo.","Description of the procedure used to assess if biomass source streams comply with Article 38(5), if applicable."]
[1517,"Postupak se odnosi samo na biomasu koja podliježe primjenjivim kriterijima održivosti i smanjenja emisija stakleničkih plinova iz Direktive o energiji iz obnovljivih izvora (2018/2001).","This procedure is only relevant for biomass which is subject to the applicable sustainability and GHG savings criteria in the Renewable Energy Directive (2018/2001)."]
[1518,"Opis postupka za utvrđivanje količina bioplina na temelju evidencije o kupovini u skladu s člankom 39. stavkom 4. Uredbe, ako je primjenjivo.","Description of the procedure used to determine biogas quantities based on purchase records in accordance with Article 39(4), if applicable."]
[1519,"Taj je postupak relevantan samo ako operater tvrdi da upotrebljava bioplin primljen iz mreže (prirodnog) plina.","This procedure is only relevant where the operator wants to claim the use of biogas received from a (natural) gas grid."]
[1520,"Daljnje smjernice potražite u člancima 28. i 29. Uredbe o praćenju i izvješćivanju i Uputama br. 4 te upotrijebite „Alat za procjenu nesigurnosti”.","For further guidance please consult Articles 28 and 29 of the MRR and Guidance Document 4 and use the \"Tool for uncertainty assessment\"."]
[1521,"Zadane vrijednosti tipa I. (razina 1):","Type I default values (tier 1):"]
[1522,"Zadane vrijednosti tipa I. uključuju bilo koju od sljedećih metoda:","Type I default values include either of the following methods:"]
[1523,"upotrebu standardnih faktora navedenih u Prilogu VI. (tj. u načelu vrijednosti IPCC-a) ili ","Use standard factors listed in Annex VI (i.e. in principle IPCC values), or "]
[1524,"upotrebu drugih konstantnih vrijednosti u skladu s člankom 31. stavkom 1. točkom (e) Uredbe ako takvi standardni faktori nisu dostupni, tj. analize provedene u prošlosti koje su i dalje valjane.","Use other constant values in accordance with point (e) of Article 31(1) where such standard factors are not available, i.e. analyses carried out in the past but still valid."]
[1525,"Zadane vrijednosti tipa II. (razina 2):","Type II default values (tier 2):"]
[1526,"Zadane vrijednosti tipa II. uključuju jednu od sljedećih metoda, koje se smatraju istovrijednima:","Type II default values include either of the following methods, which are considered equivalent:"]
[1527,"upotrebu nacionalnih emisijskih faktora u skladu s člankom 31. stavkom 1. točkom (b) Uredbe, tj. vrijednosti upotrijebljenih za nacionalni inventar stakleničkih plinova ili ","Use country specific emission factors in accordance with point (b) of Article 31(1), i.e. values used for the national GHG inventory, or "]
[1528,"upotrebu drugih vrijednosti koje je objavilo nadležno tijelo za razdvojenije vrste goriva u skladu s člankom 31. stavkom 1. točkom (c) ili drugih vrijednosti iz literature dogovorenih s nadležnim tijelom ili ","Use other values published by the CA for more disaggregated fuel types in accordance with point (c) of Article 31(1), or other literature values which are agreed with the CA, or "]
[1529,"upotrebu drugih konstantnih vrijednosti u skladu s člankom 31. stavkom 1. točkom (d) Uredbe, tj. vrijednosti za koje jamči dobavljač sa sadržajem ugljika unutar 1 %.","Use other constant values in accordance with point (d) of Article 31(1), i.e. values guaranteed by the supplier with a carbon content within 1%."]
[1530,"Utvrđeni posredni faktori (razina 2b): ","Established proxies (tier 2b): "]
[1531,"Podaci s faktura (razina 2b): ","Purchasing records (tier 2b): "]
[1532,"Laboratorijske analize (najviša razina): ","Laboratory analyses (highest tier): "]
[1533,"U tom su slučaju potpuno primjenjivi zahtjevi iz članaka od 32. do 35.Uredbe u pogledu analiza, među ostalim upotreba „utvrđenih posrednih faktora”, ako je primjenjivo i ako nesigurnost empirijske korelacije nije veća od jedne trećine vrijednosti nesigurnosti povezane s primjenjivom razinom za podatke o djelatnostima. ","In this case the requirements of Article 32 to 35 on analyses are fully applicable, including the use of the 'established proxies', if applicable and where the uncertainty of the empirical correlation does not exceed 1/3 of the uncertainty value associated with the applicable tier for activity data. "]
[1534,"Za čiste kemijske tvari nadležno tijelo može prihvatiti da se upotrebom stehiometrijskog sadržaja ugljika ispunjava razina koju zahtijeva laboratorijska analiza pod uvjetom da operater dokaže da bi takve analize dovele do neopravdano visokih troškova i da stehiometrijska vrijednost neće dovesti do podcjenjivanja emisija.","For pure chemical substances, the competent authority can accept the use of the stoichiometric carbon content as meeting the tier that requires laboratory analysis, provided that the operator demonstrates that such analyses would lead to unreasonable costs and the stoichiometric value will not lead to under-estimation of the emissions."]
[1535,"Udio biomase tipa I. (razina 1):","Type I biomass fraction (tier 1):"]
[1536,"Treba primijeniti jednu od sljedećih metoda, koje se smatraju istovrijednima:","One of the following methods has to be applied, which are considered equivalent:"]
[1537,"upotreba vrijednosti koje je objavilo nadležno tijelo ili Komisija za tu vrstu goriva ili materijala, ili","Use values from those published by the competent authority or the Commission for this type of fuel or material, or"]
[1538,"upotreba vrijednosti u skladu s člankom 31. stavkom 1. Uredbe, tj. „zadane vrijednosti tipa I.”.","Use values in accordance with Article 31(1), i.e. a \"Type I default value\"."]
[1539,"Alternativno, operater uvijek može pretpostaviti fosilni udio od 100 %. To se smatra metodologijom „bez razine” te se primjenjuje zadana vrijednost od 0 % udjela biomase. ","Alternatively, the operator can always assume a fossil fraction of 100%. This is considered a \"No tier\" methodology and a default value of 0% biomass fraction is applied. "]
[1540,"Primjena članka 39. stavaka 3. i 4. u slučaju mreža prirodnog plina u koje se ubrizgava bioplin, tj. ako nadležno tijelo dopušta da se udio biomase utvrdi s pomoću evidencije o kupovini bioplina istovrijednog sadržaja energije.","Application of Articles 39(3) and 39(4) in case of natural gas grids, into which biogas is injected, i.e. where the competent authority allows the biomass fraction to be determined using purchase records of biogas of equivalent energy content."]
[1541,"Udio biomase tipa II. (razina 2):","Type II biomass fraction (tier 2):"]
[1542,"Udio biomase utvrđuje se metodom procjene u skladu s člankom 39. stavkom 2. drugim podstavkom Uredbe i dostavlja se nadležnom tijelu na odobrenje uzimajući u obzir sljedeće:","The biomass fraction is determined based on an estimation method in accordance with the second subparagraph of Article 39(2), submitted to the competent authority for approval, taking into account the following:"]
[1543,"za goriva ili materijale koji potječu iz proizvodnog postupka u kojem su tokovi ulaznih materijala utvrđeni i sljedivi, operater procjenu može utemeljiti na masenoj bilanci fosilnog ugljika i ugljika iz biomase koji ulazi u postupak i izlazi iz njega","for fuels or materials originating from a production process with defined and traceable input streams, the operator may base the estimation on a mass balance of fossil and biomass carbon entering and leaving the process."]
[1544,"upute o dodatnim primjenjivim metodama procjene koje je objavila Komisija <razradit će se u Uputama br. 3>.","any guidelines on further applicable estimation methods published by the Commission <to be developed in Guidance Document 3>."]
[1545,"Analiza udjela biomase (razina 3):","Analyse biomass fraction (tier 3):"]
[1546,"U tom slučaju treba provesti laboratorijske analize u skladu s člankom 39. stavkom 2. prvim podstavkom i člancima od 32. do 35. Uredbe","In this case laboratory analyses are to be carried out, in accordance with the first sub-paragraph of Article 39 (2) and Articles 32 to 35."]
[1547,"Komentari i obrazloženja ako nisu primijenjene zahtijevane razine:","Comments and justification if required tiers are not applied:"]
[1548,"U nastavku navedite eventualne relevantne komentare. Objašnjenja se posebno mogu zahtijevati npr. za metodu procjene biomase, metodu posrednih faktora (korelacija), primjenu članka 31. stavka 4., članka 37. stavka 2. Uredbe itd.","Please provide any relevant comments below. Explanations may in particular be required for e.g. the biomass estimation method, the proxy method (correlation), application of Article 31(4), Article 37(2), etc."]
[1549,"Nadalje, ovdje treba navesti neke od informacija potrebnih za praćenje prenesenog CO2 i N2O, kao i inherentnog CO2.","Furthermore some of the information required for the monitoring of transferred CO2 and N2O, as well as inherent CO2 is to be reported here."]
[1550,"g CO2/Nm³","g CO2/Nm³"]
[1551,"Komentari i obrazloženja ako nije primijenjena zahtijevana razina:","Comments and justification if required tier is not applied:"]
[1552,"U skladu s člankom 43. stavkom 4. i stavkom 4. točkom (a) Uredbe o praćenju i izvješćivanju, ako se u mjerenje emisija uključi CO2 koji potječe iz biomase, navedite pojedinosti o pisanom postupku za utvrđivanje CO2 iz biomase i njegovo oduzimanje od izmjerenih emisija CO2 ako je primjenjivo.","Where CO2 stemming from biomass is included in the emissions measurement, please provide details about the written procedure detailing how the biomass CO2 is to be determined and subtracted from the measured CO2 emissions, where applicable, in accordance with Article 43(4) and 43(4a) of the MRR."]
[1553,"J. Utvrđivanje prenesenog ili inherentnog CO2 i prenesenog N2O","J. Determination of transferred or inherent CO2 and transferred N2O"]
[1554,"Utvrđivanje inherentnog i prenesenog CO2  i N2O","Determination of inherent and transferred CO2 and N2O"]
[1555,"Napomena: ovaj odjeljak treba popuniti ako se obavlja prijenos inherentnog CO2 kao dijela toka izvora u skladu s člankom 48. Uredbe, prijenos CO2 u skladu s člankom 49. ili prijenos N2O u skladu s člankom 50. Uredbe o praćenju i izvješćivanju.","Note: this section is to be completed where transfer of inherent CO2 as part of a source stream in accordance with Article 48 of the MRR or transfer of CO2 or N2O in accordance with Article 49 and 50, respectively, of the MRR are carried out."]
[1556,"Navedite detaljan opis metodologije praćenja korištene za određivanje inherentnog ili prenesenog CO2 ili N2O. ","Please provide a detailed description of the monitoring methodology used to determine inherent or transferred CO2 or N2O. "]
[1557,"U okviru u nastavku navedite sažeti opis metodologije praćenja, uključujući formule, korištene za utvrđivanje vaših godišnjih emisija CO2, N2O ili ekvivalenta CO2.","Please provide a concise description of the monitoring approach, including formulae, used to determine your annual CO2, N2O or CO2(e) emissions in the text box below."]
[1558,"Posebno bi trebalo obuhvatiti količine CO2 i N2O koje treba dodati zbog primanja prenesenog CO2 i N2O ili za oduzimanje ekvivalenta CO2 zbog prijenosa izvan postrojenja, ovisno o slučaju. Pripazite da izračun bude u skladu s člancima 48., 49. i 50. Uredbe o praćenju i izvješćivanju.","This should cover in particular the amounts of CO2 and N2O to be added due to receiving transferred CO2 and N2O, or for subtracting CO2(e) due to transfer out of the installation, as appropriate. Please make sure that this calculation is in line with Articles 48, 49 and 50 of the MRR."]
[1559,"Za svako postrojenje (ili drugi objekt) od kojeg primate ili u koji prenosite inherentni ili preneseni ekvivalent CO2 navedite sljedeće informacije:","Please give here for each installation (or other entity) from which you receive or to which you transfer inherent or transferred CO2(e) the following information:"]
[1560,"Ovdje navedite ime postrojenja ili objekta koji nije obuhvaćen ETS-om iz kojeg ili u koji se prenosi ekvivalent CO2. U mjeri u kojoj je to izvedivo upotrijebite isto ime koje upotrebljavaju nadležno tijelo i Registar.","Give here the name of the installation or non-ETS entity, from which or to which CO2(e) is transferred. To the extent feasible use the same name as the competent authority and the Registry use."]
[1561,"Iz padajućeg izbornika odaberite je li riječ o prijenosu iz postrojenja ili objekta koji nije obuhvaćen ETS-om ili u njega te odnosi li se to na inherentni CO2 (članak 48. Uredbe) ili preneseni CO2 (članak 49.) ili N2O (članak 50. Uredbe) kako je utvrđeno u Uredbi o praćenju i izvješćivanju.","Select here from the drop-down list whether it is a transfer from or to an installation or non-ETS entity, and whether this deals with inherent CO2 (Article 48) or transferred CO2 (Article 49) or N2O (Article 50) as defined by the MRR."]
[1562,"Podaci relevantni za cjevovodne sustave koji se upotrebljavaju za prijevoz CO2 i N2O","Information relevant for pipeline systems used for transport of CO2 and N2O"]
[1563,"U skladu s odjeljkom 22.B Priloga IV. Uredbi o praćenju i izvješćivanju možete odabrati bilo koju od dviju metoda. Metoda A uključuje bilancu mase na temelju mjerenja za ukupno ispušteni CO2 i N2O koji ulaze u mrežu ili izlaze iz nje, dok se metoda B temelji na određivanju fugitivnih i ispuštenih emisija te istjecanja i emisija iz postrojenja.","In accordance with section 22.B of Annex IV of the MRR, you may choose either of two methods. Method A involves a measurement based mass balance of all CO2 and N2O emitted, entering and leaving the network, while Method B is based on determining fugitive and vented emissions, as well as leakages and installation based emissions."]
[1564,"Za prijevozne mreže navedite pojedinosti o pisanom postupku kojim se osigurava da se ekvivalent CO2 prenosi samo u postrojenja koja imaju valjanu dozvolu za emisije stakleničkih plinova ili u kojima se sve emisije CO2 ili N2O učinkovito prate i obračunavaju u skladu s člancima 49. i 50. Uredbe","For transport networks, please provide details of the written procedure for ensuring that CO2(e) is transferred only to installations which have a valid greenhouse gas emission permit, or where any emitted CO2 or N2O is effectively monitored and accounted for in accordance with Articles 49 and 50."]
[1565,"Utvrdite odgovornosti za praćenje i izvješćivanje o emisijama iz postrojenja u skladu s člankom 62. Uredbe o praćenju i izvješćivanju.","Please identify the responsibilities for monitoring and reporting emissions from the installation, in accordance with Article 62 of the MRR."]
[1566,"Navedite pojedinosti o postupku za upravljanje dodjelom odgovornosti za praćenje i izvješćivanje unutar postrojenja te za upravljanje kompetencijama odgovornog osoblja u skladu s člankom 59. stavkom 3. točkom (c) Uredbe o praćenju i izvješćivanju.","Please provide details about the procedure used for managing the assignment of responsibilities for monitoring and reporting within the installation and for managing the competencies of responsible personnel, in accordance with Article 59(3)(c) of the MRR."]
[1567,"Izvješća o poboljšanjima na temelju članka 69. stavka 1. Uredbe o praćenju i izvješćivanju","Improvement reports pursuant to Article 69(1) of the MRR"]
[1568,"Da li neka od zahtijevanih razina nije postignuta ili je primijenjena nadomjesna metodologija?","Any required tier not met or fall-back applied?"]
[1569,"Odaberite „TRUE” ako za bilo koji parametar glavnog ili manjeg toka izvora ili izvora emisija nisu postignute zahtijevane razine ili ako je primijenjena nadomjesna metodologija (članak 22.). U tom slučaju operater mora redovito podnositi izvješća o poboljšanjima na temelju članka 69. stavka 1. Uredbe","Select \"TRUE\" if for any parameter of a major or minor source stream or emission sources, either the required tiers are not met or a fall-back (Article 22) is applied. If this is the case, the operator has to submit improvement reports regularly, pursuant to Article 69(1)."]
[1570,"Imajte na umu da se ovim odjeljkom operateri ne izuzimaju od obveze podnošenja izvješća o poboljšanjima na temelju članka 69. stavka 4. Uredbe","Please note that this section does not exempt operators from the obligation to submit an improvement report pursuant to Article 69(4). "]
[1571,"Rok za sljedeće izvješće o poboljšanjima na temelju članka 69. stavka 1. Uredbe, ako je primjenjivo","Deadline for the next improvement report pursuant to Article 69(1), if relevant"]
[1572,"Ovaj je odjeljak relevantan samo ako je operater odabrao „TRUE” u prethodnoj točki i.","This section is only relevant if the operator selected \"TRUE\" under point i. above."]
[1573,"Izvješća o poboljšanjima postrojenja kategorije C moraju podnositi svake godine, postrojenja kategorije B svake dvije godine, a postrojenja kategorije A svake četiri godine. ","The deadline for the improvement reports is every year for category C, every two years for category B and four years for category A installations. "]
[1574,"Međutim, nadležno tijelo može produljiti to razdoblje na tri, četiri, odnosno pet godina ako mu operater može dokazati da razlozi neopravdano visokih troškova ili tehničke neizvedivosti ostaju na snazi dulje vrijeme.","However, the CA can extend that period to three, four, five years, respectively, if the operator can demonstrate to the CA that the reasons for unreasonable costs or for improvement measures being technically not feasible remain valid for a longer period of time.","; 'K_ManagementControl'!$E$78"]
[1575,"Navedite pojedinosti o postupcima za upravljanje aktivnostima protoka podataka u skladu s člankom 58. Uredbe o praćenju i izvješćivanju.","Please provide details about the procedures used to manage data flow activities in accordance with Article 58 of the MRR."]
[1576,"Navedite pojedinosti o postupcima za procjenu inherentnih rizika i rizika pri nadzoru u skladu s člankom 59. Uredbe o praćenju i izvješćivanju.","Please provide details about the procedures used to assess inherent risks and control risks in accordance with Article 59 of the MRR."]
[1577,"Navedite pojedinosti o postupcima za osiguravanje kvalitete mjerne opreme u skladu s člancima 59. i 60. Uredbe o praćenju i izvješćivanju.","Please provide details about the procedures used to ensure quality assurance of measuring equipment in accordance with Article 59 and 60 of the MRR."]
[1578,"Navedite pojedinosti o postupcima za osiguravanje kvalitete informacijske tehnologije koja se upotrebljava za aktivnosti protoka podataka u skladu s člancima 59 i 61. Uredbe o praćenju i izvješćivanju.","Please provide details about the procedures used to ensure quality assurance of information technology used for data flow activities in accordance with Article 59 and 61 of the MRR."]
[1579,"Navedite pojedinosti o postupcima za osiguravanje redovitih internih pregleda i potvrđivanja podataka u skladu s člancima 59. i 63. Uredbe o praćenju i izvješćivanju.","Please provide details about the procedures used to ensure regular internal reviews and validation of data in accordance with Articles 59 and 63 of the MRR."]
[1580,"Navedite pojedinosti o postupcima za obavljanje ispravaka i korektivnih radnji u skladu s člancima 59. i 64. Uredbe o praćenju i izvješćivanju.","Please provide details about the procedures used to handle corrections and corrective actions in accordance with Articles 59 and 64 of the MRR."]
[1581,"Navedite pojedinosti o postupcima za nadzor nad procesima koje obavljaju vanjski izvođači u skladu s člancima 59. i 65. Uredbe o praćenju i izvješćivanju.","Please provide details about the procedures used to control outsourced processes in accordance with Articles 59 and 65 of the MRR."]
[1582,"Navedite pojedinosti o postupcima za rješavanje problema u pogledu podataka koji nedostaju u skladu s člankom 66. Uredbe o praćenju i izvješćivanju.","Please provide details about the procedures used to close any data gaps in accordance with Article 66 of the MRR."]
[1583,"U kratkom opisu treba utvrditi kako će se nedostatak podataka ukloniti primjenom odgovarajuće metode procjene za određivanje konzervativnih zamjenskih podataka za odgovarajuće razdoblje i parametar koji nedostaje.","The brief description should identify how data gaps will be closed by the use of an appropriate estimation method for determining conservative surrogate data for the respective time period and missing parameter."]
[1584,"Taj je postupak obavezan samo ako nedostaju relevantni podaci, ali preporučuje se da se u svakom slučaju uspostavi radi osiguravanja sukladnosti čak i u slučaju nedostatka podataka.","This procedure is only mandatory where relevant data is missing, but it is recommended to establish such a procedure in any case to ensure compliance even when data gaps occur."]
[1585,"U okviru u nastavku navedite datoteku/dokument s procjenom rizika.","Please reference the file/document containing the risk assessment in the box below."]
[1586,"Opće informacije","General information"]
[1587,"Tokovi izvora (bez PFC-a)","Source streams (excl. PFC)"]
[1588,"Emisije PFC-a","PFC Emissions"]
[1589,"Preneseni CO2 i N2O","Tranferred CO2 & N2O"]
[1590,"Prijenos N2O","N2O transfer"]
[1591,"Izvoz prenesenog CO2 (PCC)","Exporting transferred CO2 (PCC)"]
[1592,"Primanje prenesenog N2O","Receiving transferred N2O"]
[1593,"Izvoz prenesenog N2O","Exporting transferred N2O"]
[1594,"Lipanj","June"]
[1595,"Srpanj","July"]
[1596,"Kolovoz","August"]
[1597,"Rujan","September"]
[1598,"Uredba o praćenju i izvješćivanju, Prilog VI.","Monitoring and Reporting Regulation, Annex VI"]
[1599,"Nacionalni inventar","National Inventory"]
[1600,"GJ/t","GJ/t"]
[1601,"GJ/1000Nm³","GJ/1000Nm³"]
[1602,"tCO2/TJ","tCO2/TJ"]
[1603,"tCO2/t","tCO2/t"]
[1604,"tCO2/1000Nm³","tCO2/1000Nm³"]
[1605,"Čišćenje mokrim postupkom (urea)","Scrubbing (urea)"]
[1606,"Količina utrošene uree [t]","Amount urea consumed [t]"]
[1607,"Proces (metoda A): samo karbonat","Process (method A): carbonate only"]
[1608,"Ulazni materijal u proces [t]","Process input [t]"]
[1609,"Proces (metoda A): miješani (karbonat + nekarbonat)","Process (method A): mixed (carbonate + non-carbonate)"]
[1610,"Proces (metoda A): nekarbonat","Process (method A): non-carbonate"]
[1611,"Proces (metoda B): izlaz oksida","Process (method B): oxide output"]
[1612,"0,2558 t CO2/t gips","0.2558 t CO2/t gypsum"]
[1613,"0,7328 t CO2/t urea","0,7328 t CO2/t urea"]
[1614,"Udio biomase","Biomass fraction","; 'EUwideConstants'!$B$552"]
[1615,"Analiza udjela biomase","Analyse biomass fraction"]
[1616,"Konverzija razine","Tier conversion","; 'EUwideConstants'!$B$792"]
[1617,"Postrojenje s niskim emisijama / glavni izvor emisija: možete primijeniti razinu 1, osim ako se može postići veća točnost bez dodatnog opterećenja operatera.","Installation with low emissions / major emission source: you may apply tier 1, unless higher accuracy is achievable without additional effort for the operator."]
[1618,"Postrojenje s niskim emisijama / manji izvor emisija: možete primijeniti razinu 1, osim ako se može postići veća točnost bez dodatnog opterećenja operatora.","Installation with low emissions / minor emission source: you may apply tier 1, unless higher accuracy is achievable without additional effort for the operator."]
[1619,"Glavni izvor emisija: primjenjuje se minimalna razina prikazana u nastavku. \nMeđutim, možete primijeniti jednu razinu točnosti niže, s tim da je minimalna razina 1, ako nadležnom tijelu možete dati zadovoljavajuće dokaze da zahtijevana razina u skladu s prvim podstavkom nije tehnički izvediva ili da se njome stvaraju neopravdano visoki troškovi.\n","Major emission source: The minimum tier displayed below shall apply.\nHowever, you may apply a tier one level lower, with a minimum of tier 1, where you can show to the satisfaction of the competent authority that the tier required in accordance with the first subparagraph is technically not feasible or incurs unreasonable costs."]
[1620,"Manji izvor emisija: prema potrebi možete primijeniti nižu razinu od razine prikazane u nastavku, s tim da je minimalna razina 1, ako možete dokazati da primjena te razine nije tehnički izvediva ili da se njome stvaraju neopravdano visoki troškovi.","Minor emission source: You may apply a low apply a lower tier than the one shown below as required, with a minimum of tier 1, where you can demonstrate that applying that tier is technically not feasible or incurs unreasonable costs."]
[1621,"Navedite pojedinosti o postupcima za upravljanje vođenjem evidencije i dokumentacije u skladu s člancima 59. i 67. Uredbe o praćenju i izvješćivanju.","Please provide details about the procedures used to manage record keeping and documentation in accordance with Articles 59 and 67 of the MRR."]
[1622,"U skladu s člankom 19. stavkom 4., zahtjev u pogledu niže razine dopustiv je za svaki izvor emisija koji godišnje emitira manje od 5000 tona ekvivalenta CO2 ili manje od 10 % ukupnih godišnjih emisija postrojenja, do maksimalnog godišnjeg iznosa od 100 000 tona ekvivalenta CO2, ovisno o tome koja je vrijednost veća u smislu apsolutnih emisija („manji” izvor emisija).","Pursuant to Article 19(4) a lower tier requirement may be allowed for each emission source which emits less than 5 000 tonnes of CO2(e) per year, or which contributes less than 10% of the total annual emissions of the installation, up to a maximum of 100 000 to CO2(e) per year, whichever is higher in terms of absolute emissions (\"minor\" emission source)."]
[1623,"Spaljivanje komunalnog otpada","Municipal waste incineration"]
[1624,"Otpad","Waste"]
[1625,"Jedinstveni ID postrojenja (kao i u Obrascu o podacima o djelatnostima-NIMs)","Unique ID of the installation (e.g. as in NIMs):"]
[1626,"Ovo je konačna verzija obrasca  plana praćenja za postrojenja u četvrtom razdoblju EU ETS-a, kako je potvrđeno pisanom procedurom Odbora za klimatske promjene u studenom 2020. te ažurirano 30.11.2023. zbog uključivanja relevantnih elemenata odnosno uključivanja spaljivanja komunalnog otpada.","This is the final version of the monitoring plan template for installations for phase 4 of the EU ETS, as ensorsed by the Climate Change Committee by written procedure in November 2020, updated on 30 November 2023 to include relevant elements to include municipal waste incinerators."]
[1627,"Kruta goriva isključujući otpad","Solid fuels, excluding waste"]
[1628,"Izgaranje goriva u postrojenjima s ukupnom toplinskom snagom većom od 20 MW (osim u postrojenjima za spaljivanje opasnog ili komunalnog otpada)","Combustion of fuels in installations with a total rated thermal input exceeding 20 MW (except in installations for the incineration of hazardous or municipal waste)"]
[1629,"Rafiniranje mineralnog ulja ","Refining of mineral oil "]
[1630,"Proizvodnja koksa","Production of coke"]
[1631,"Pečenje ili sinteriranje, kao i peletiziranje metalnih ruda (uključujući sulfidne rude)","Metal ore (including sulphide ore) roasting or sintering, including pelletisation"]
[1632,"Proizvodnja željeza ili čelika (primarno ili sekundarno taljenje), uključujući kontinuirano lijevanje, kapaciteta većeg od 2,5 tona na sat","Production of iron or steel (primary or secondary fusion) including continuous casting, with a capacity exceeding 2,5 tonnes per hour"]
[1633,"Proizvodnja i prerada neobojenih kovina (uključujući željezne slitine) kod kojih se koriste jedinice za izgaranje ukupne nazivne ulazne toplinske snage iznad 20 MW. Prerada između ostalog uključuje valjaonice, jedinice za predgrijavanje, peći za žarenje, kovačnice, ljevaonice, jedinice za prevlačenje i dekapiranje","Production or processing of ferrous metals (including ferro-alloys) where combustion units with a total rated thermal input exceeding 20 MW are operated. Processing includes, inter alia, rolling mills, re-heaters, annealing furnaces, smitheries, foun"]
[1634,"Proizvodnja primarnog aluminija","Production of primary aluminium"]
[1635,"Proizvodnja sekundarnog aluminija za koju se koriste jedinice za izgaranje ukupne nazivne ulazne toplinske snage iznad 20 MW","Production of secondary aluminium where combustion units with a total rated thermal input exceeding 20 MW are operated"]
[1636,"Proizvodnja i prerada obojenih kovina, uključujući proizvodnju slitina, rafiniranje, lijevanje u ljevaonicama itd. za koje se koriste jedinice za izgaranje čija je ukupna nazivna ulazna toplinska snaga (uključujući goriva koja se koriste kao redukcijska sredstva) iznad 20 MW","Production or processing of non-ferrous metals, including production of alloys, refining, foundry casting, etc., where combustion units with a total rated thermal input (including fuels used as reducing agents) exceeding 20 MW are operated"]
[1637,"Proizvodnja cementnog klinkera u rotacijskim pećima proizvodnog kapaciteta iznad 500 tona na dan ili u drugim pećima proizvodnog kapaciteta iznad 50 tona na dan.","Production of cement clinker in rotary kilns with a production capacity exceeding 500 tonnes per day or in other furnaces with a production capacity exceeding 50 tonnes per day "]
[1638,"Proizvodnja vapna ili kalciniranje dolomita ili magnezita u rotacijskim ili drugim pećima proizvodnog kapaciteta iznad 50 tona na dan","Production of lime or calcination of dolomite or magnesite in rotary kilns or in other furnaces with a production capacity exceeding 50 tonnes per day "]
[1639,"Proizvodnja stakla uključujući staklenu vunu kapaciteta taljenja iznad 20 tona na dan","Manufacture of glass including glass fibre with a melting capacity exceeding 20 tonnes per day "]
[1640,"Proizvodnja keramičkih proizvoda pečenjem, posebno krovnog crijepa, cigle, vatrostalne cigle, keramičkih pločica, kamenine ili porculana, proizvodnog kapaciteta iznad 75 tona na dan","Manufacture of ceramic products by firing, in particular roofing tiles, bricks, refractory bricks, tiles, stoneware or porcelain, with a production capacity exceeding 75 tonnes per day "]
[1641,"Proizvodnja izolacijskih materijala od mineralne vune uz korištenje stakla, kamena ili troske, kapaciteta taljenja iznad 20 tona na dan","Manufacture of mineral wool insulation material using glass, rock or slag with a melting capacity exceeding 20 tonnes per day "]
[1642,"Sušenje ili kalciniranje gipsa ili proizvodnja gipsanih ploča i drugih proizvoda od gipsa proizvodnog kapaciteta za kalcinirani gips ili sušeni sekundarni gips iznad ukupno 20 tona na dan","Drying or calcination of gypsum or production of plaster boards and other gypsum products, with a production capacity of calcined gypsum or dried secondary gypsum exceeding a total of 20 tonnes per day"]
[1643,"Proizvodnja papirne kaše od drva ili drugih vlaknastih materijala","Production of pulp from timber or other fibrous materials "]
[1644,"Proizvodnja papira ili kartona, proizvodnog kapaciteta iznad 20 tona na dan","Production of paper or cardboard with a production capacity exceeding 20 tonnes per day "]
[1645,"Proizvodnja čađe koja uključuje karbonizaciju organskih tvari kao što su ulja, katrani, ostaci nakon krekiranja i destilacije, proizvodnog kapaciteta iznad 50 tona na dan","Production of carbon black involving the carbonisation of organic substances such as oils, tars, cracker and distillation residues with a production capacity exceeding 50 tonnes per day"]
[1646,"Proizvodnja dušične kiseline","Production of nitric acid"]
[1647,"Proizvodnja adipinske kiseline","Production of adipic acid"]
[1648,"Proizvodnja glioksala i glioksilne kiseline","Production of glyoxal and glyoxylic acid"]
[1649,"Proizvodnja amonijaka","Production of ammonia"]
[1650,"Proizvodnja na veliko organskih kemikalija, uz primjenu procesa krekiranja, reforminga, djelomične ili potpune oksidacije ili sličnih procesa, proizvodnog kapaciteta iznad 100 tona na dan","Production of bulk organic chemicals by cracking, reforming, partial or full oxidation or by similar processes, with a production capacity exceeding 100 tonnes per day "]
[1651,"Proizvodnja vodika (H2) i sintetskog plina proizvodnog kapaciteta iznad 5 tona na dan","Production of hydrogen (H2) and synthesis gas with a production capacity exceeding 5 tonnes per day"]
[1652,"Proizvodnja natrijevog karbonata (Na2CO3) i natrijevog bikarbonata (NaHCO3)","Production of soda ash (Na2CO3) and sodium bicarbonate (NaHCO3) "]
[1653,"Hvatanje stakleničkih plinova iz postrojenja na koje se odnosi EU ETS Direktiva  radi transporta i geološkog skladištenja na lokaciji odobrenoj u skladu s Direktivom 2009/31/EZ","Capture of greenhouse gases from installations covered by this Directive for the purpose of transport and geological storage in a storage site permitted under Directive 2009/31/EC"]
[1654,"Transport stakleničkih plinova u svrhu geološkog skladištenja na lokaciji odobrenoj u skladu s Direktivom 2009/31/EZ, osim emisija obuhvaćenih nekom drugom djelatnošću EU ETS Direktive","Transport of greenhouse gases for geological storage in a storage site permitted under Directive 2009/31/EC, with the exclusion of those emissions covered by another activity under this Directive"]
[1655,"Geološko skladištenje stakleničkih plinova na lokaciji odobrenoj u skladu s Direktivom 2009/31/EZ","Geological storage of greenhouse gases in a storage site permitted under Directive 2009/31/EC"]
[1656,"Izgaranje goriva ","Combustion of fuels"]
[1657,"Rafiniranje mineralnih ulja ","Refining of oil "]
[1658,"Proizvodnja koksa","Production of coke"]
[1659,"Pečenje i sinteriranje metalnih ruda","Metal ore roasting or sintering"]
[1660,"Proizvodnja željeza ili čelika","Production of iron or steel"]
[1661,"Proizvodnja ili prerada obojenih metala","Production or processing of ferrous metals"]
[1662,"Proizvodnja primarnog aluminija","Production of primary aluminium"]
[1663,"Proizvodnja sekundarnog aluminija","Production of secondary aluminium"]
[1664,"Proizvodnja ili prerada neobojenih metala","Production or processing of non-ferrous metals"]
[1665,"Proizvodnja cementnog klinkera","Production of cement clinker"]
[1666,"Proizvodnja vapna ili kalcinacija dolomita/magnezita","Production of lime, or calcination of dolomite/magnesite"]
[1667,"Proizvodnja stakla","Manufacture of glass"]
[1668,"Proizvodnja keramike","Manufacture of ceramics"]
[1669,"Proizvodnja mineralne vune","Manufacture of mineral wool"]
[1670,"Proizvodnja ili obrada gipsa ili gipsanih ploča","Production or processing of gypsum or plasterboard"]
[1671,"Proizvodnja celuloze","Production of pulp"]
[1672,"Proizvodnja papira ili kartona","Production of paper or cardboard"]
[1673,"Proizvodnja čađe ","Production of carbon black"]
[1674,"Proizvodnja dušične kiseline","Production of nitric acid"]
[1675,"Proizvodnja adipinske kiseline","Production of adipic acid"]
[1676,"Proizvodnja glioksala i glioksilne kiseline","Production of glyoxal and glyoxylic acid"]
[1677,"Proizvodnja amonijaka","Production of ammonia"]
[1678,"Proizvodnja kemikalija na veliko ","Production of bulk chemicals"]
[1679,"Proizvodnja vodika i sintetskog plina","Production of hydrogen and synthesis gas"]
[1680,"Proizvodnja natrij karbonata i natrij-bikarbonata","Production of soda ash and sodium bicarbonate"]
[1681,"Hvatanje stakleničkih plinova prema Direktivi 2009/31/EC","Capture of greenhouse gases under Directive 2009/31/EC"]
[1682,"Transport stakleničkih plinova prema Direktivi 2009/31/EC","Transport of greenhouse gases under Directive 2009/31/EC"]
[1683,"Skladištenje stakleničkih plinova prema Direktivi 2009/31/EC","Storage of greenhouse gases under Directive 2009/31/EC"]
[1684,"Ovo je ažurirana verzija obrasca plana praćenja za postrojenja od 17. prosinca 2024.","This is the updated version of the monitoring plan template for installations, as of 17 December 2024.","b_Guidelines and conditions'!$B$19"]
[1685,"Države članice mogu dopustiti operaterima i operatorima zrakoplova korištenje standardiziranih ili pojednostavljenih planova praćenja, ne dovodeći u pitanje članak 12. stavak 3. Uredbe\nU tu svrhu države članice mogu objaviti obrasce za te planove praćenja, uključujući opis protoka podataka i kontrolnih postupaka iz članka 58. i članka 59. Uredbe, na temelju predložaka i smjernica koje je objavila Komisija.","Member States may allow operators and aircraft operators to use standardised or simplified monitoring plans, without prejudice to Article 12(3). \nFor that purpose, Member States may publish templates for those monitoring plans, including the description of data flow and control procedures referred to in Article 58 and Article 59, based on the templates and guidelines published by the Commission.","b_Guidelines and conditions'!$B$22"]
[1686,"Ovdje unesite prosječne godišnje emisije vašeg postrojenja. Ovi podaci su potrebni za kategorizaciju postrojenja sukladno članku 19. Uredbe. Upotrijebite podatke o prosječnim verificiranim godišnjim emisijama iz prethodnog razdoblja trgovanja ILI ako ti podaci nisu dostupni ili su neprikladni, konzervativnu procjenu prosječnih godišnjih emisija, sve prije oduzimanja bilo kojeg CO2 prenesenog iz postrojenja, ali isključujući CO2 biomase, obnovljivih goriva nebiološkog podrijetla ili goriva iz recikliranog ugljika ili sintetičkih niskougljičnih goriva .","Please enter here the average annual emissions of your installation. This information is required for categorisation of the installation in accordance with Article 19 of the MRR. Use the average verified annual emissions of the previous trading period data OR if this data is not available, or is inappropriate, a conservative estimate of annual average emissions, all before substraction of any CO2 transferred out of the installation, but excluding CO2 from zero-rated carbon (biomass, RFNBO/RCF, SLCF).","C_InstallationDescription'!$E$66"]
[1687,"Napomena: mogu postojati slučajevi u kojima iz postrojenja proizlaze nulte emisije (tj. čak ni iz jedinice za napajanje u nuždi, kotlova za grijanje ureda itd., a također nema emisija iz biomase, obnovljivih goriva nebiološkog podrijetla ili goriva iz recikliranog ugljika ili sintetičkih niskougljičnih goriva. U takvim slučajevima, procijenjene emisije bile bi nula i potrebno je ispuniti samo ovaj odjeljak i list \"K_Management\" ovog plana praćenja.","Note: there can be cases where zero emissions arise from the installation (i.e. not even from a emergency power unit, boilers for heating offices, etc. and also no emissions from biomass, RFNBO/RCF, SCLF). In such cases, the estimated emissions would be zero and only this section and sheet \"K_Management\" of this monitoring plan have to completed.","C_InstallationDescription'!$E$68"]
[1688,"Napomena: gornji podaci uključuju preneseni CO2, ali isključuju CO2 koji proizlazi iz biomase, obnovljivih goriva nebiološkog podrijetla ili goriva iz recikliranog ugljika ili sintetičkih niskougljičnih goriva ","Note: the above data shall include transferred CO2, but exclude CO2 stemming from zero-rated carbon (biomass, RFNBO/RCF, SLCF).","C_InstallationDescription'!$E$78"]
[1689,"Praćenje trajno vezanog ugljika ","Monitoring of 'permanent CCU'","C_InstallationDescription'!$E$102"]
[1690,"U slučaju da tokovi izvora izlaze iz bilance mase, emisije se moraju unijeti kao negativne vrijednosti. U slučaju nulte stope ugljika koji je uključen u bilancu mase, primjenjuje se članak 25. stavak 3. Uredbe","In case of source streams going out of a mass balance, the emissions must be entered as negative values. In the case of zero-rated carbon being involved in the mass balance, Article 25(3) applies.","C_InstallationDescription'!$E$213"]
[1691,"Opis postupka koji se koristi za procjenu jesu li biomasa ili bilo koji drugi tokovi izvora nulte stope ugljika u skladu s člankom 38. stavkom 5., 39.a stavkom 3. ili 39.a stavkom 4. Uredbe, ako je primjenjivo.","Description of the procedure used to assess if biomass or any other zero-rated source streams comply with Article 38(5), 39a(3) or 39a(4), if applicable.","D_CalculationBasedApproaches'!$E$244"]
[1692,"Ovaj postupak je relevantan samo za biomasu, RFNBO (obnovljiva goriva nebiološkog podrijetla), RCF (reciklirana ugljična goriva) i SLCF (sintetička goriva s niskim udjelom ugljika) koji podliježu primjenjivim kriterijima održivosti i uštede stakleničkih plinova u Direktivi o obnovljivoj energiji (2018/2001).","This procedure is only relevant for biomass, RFNBOs (renewable fuels of non-biological origin), RCFs (recycled carbon fuels) and SLCF (synthetic low carbon fuels) which are subject to the applicable sustainability and GHG savings criteria in the Renewable Energy Directive (2018/2001).","D_CalculationBasedApproaches'!$E$245"]
[1693,"Opis postupka koji se koristi za određivanje količina bioplina na temelju evidencije o nabavi u skladu s člankom 39. stavkom 4. ili RFNBO ili RCF količina prema nultoj stopi u skladu s člankom 39.a stavkom 5. Uredbe, ako je primjenjivo.","Description of the procedure used to determine biogas quantities based on purchase records in accordance with Article 39(4), or zero-rated RFNBO or RCF quantities in accordance with Article 39a(5), if applicable.","D_CalculationBasedApproaches'!$E$258"]
[1694,"Ovaj postupak je relevantan samo ako operater želi zatražiti korištenje bioplina ili RFNBO-a/RCF-a primljenih iz mreže (prirodnog) plina.","This procedure is only relevant where the operator wants to claim the use of biogas or RFNBOs/RCFs received from a (natural) gas grid.","D_CalculationBasedApproaches'!$E$259"]
[1695,"Opis postupka koji se koristi za određivanje informacija za svaku kupnju kako se zahtijeva člankom 75v(2) i Prilogom Xa. Uredbe","Description of the procedure used to determine the information for each purchase as required by Article 75v(2) and Annex Xa.","D_CalculationBasedApproaches'!$E$272"]
[1696,"Ovaj postupak trebao bi opisati kako pratiti svaku kupnju goriva od svakog dobavljača goriva, količine godišnje potrošene za aktivnosti obuhvaćene Prilogom I. Direktive, količine preuzete/stavljene na zalihe i količine izvezene.","This procedure should describe how to keep track of each purchase of fuel from each fuel supplier, the amounts annually consumed for activities covered by Annex I of the Directive, amounts taken from / put on stock and amounts exported.","D_CalculationBasedApproaches'!$E$273"]
[1697,"Ako je primjenjivo, opis postupka korištenog za određivanje mogu li se procesne emisije iz materijala ocijeniti kao nula, gdje je odgovarajući CO2 prijavilo postrojenje koje proizvodi materijal.","If appplicable, a description of the procedure used to determine whether process emissions from a material can be rated as zero, where corresponding CO2 has been reported by the installation producing the material.","D_CalculationBasedApproaches'!$E$286"]
[1698,"Gdje je to relevantno (npr. natrij karbonat koja se koristi u industriji stakla, urea koja se koristi za DeNOx), ovaj postupak treba opisati kako osiguravate da takvi materijali ispunjavaju uvjete navedene u zadnjem podstavku Priloga II., odjeljak 4.","Where this is relevant (e.g. soda ash used in glass industries, urea used for DeNOx), this procedure should describe how you ensure such materials meet the conditions listed in the last sub-paragraph of Annex II, section 4.","D_CalculationBasedApproaches'!$E$287"]
[1699,"Primjena članaka 39. stavka 3., 39. stavka 4. i 39.a stavka 5. Uredbe, u slučaju mreža prirodnog plina u koje se ubrizgava bioplin ili RFNBO/RCF, tj. kada nadležno tijelo dopušta da se udio nulte stope odredi računima o sadržaju ekvivalentne energije.","Application of Articles 39(3), 39(4) and 39a(5) in case of natural gas grids, into which biogas or RFNBO/RCF is injected, i.e. where the competent authority allows the zero-rated fraction to be determined using purchase records of equivalent energy content.","E_SourceStreams'!$G$126"]
[1700,"Udio biomase određuje se na temelju metode procjene u skladu s drugim podstavkom članka 39. stavka 2. Uredbe, koja se podnosi nadležnom tijelu na odobrenje, uzimajući u obzir sve smjernice o daljnjim primjenjivim metodama procjene koje je objavila Komisija (vidi Smjernice 3 ).","The biomass fraction is determined based on an estimation method in accordance with the second subparagraph of Article 39(2), submitted to the competent authority for approval, taking into account any guidelines on further applicable estimation methods published by the Commission (see Guidance Document 3).","E_SourceStreams'!$F$127"]
[1701,"Analiza udjela biomase (razina 3a):","Analyse biomass fraction (tier 3a):","E_SourceStreams'!$E$128"]
[1702,"Masena bilanca udio biomase (razina 3b)","Mass balance biomass fraction (tier 3b):","E_SourceStreams'!$E$129"]
[1703,"Biomasa: Za goriva koja potječu iz proizvodnog procesa s definiranim i sljedivim ulaznim tokovima, operater može temeljiti procjenu na materijalnoj bilanci fosilnog ugljika i ugljika iz biomase koji ulazi u proces i izlazi iz njega, kao što je sustav bilance mase u skladu s člankom 30. stavkom 1.  Direktive (EU) 2018/2001.","Biomass: For fuels originating from a production process with defined and traceable input streams, the operator may base the estimation on a material balance of fossil and biomass carbon entering and leaving the process, such as the mass balance system in accordance with Article 30(1) of Directive (EU) 2018/2001.","E_SourceStreams'!$F$129"]
[1704,"Ako je primjenjivo, opišite i metodologiju prema kojoj se emisije ocjenjuju nultom stopom (članak 43. stavci 4. do (4.c) Uredbe ) za oduzimanje od ukupnih emisija.","If applicable, please describe also the methodology by which emissions are zero-rated (Article 43(4) to (4c)) for subtraction from the total emissions.","F_MeasurementBasedApproaches'!$E$19"]
[1705,"Određivanje CO2 koji potječe iz biomase ili bilo kojeg drugog udjela s nultom stopom, ako je primjenjivo","Determination of CO2 stemming from biomass or from any other zero-rated fraction, if applicable","F_MeasurementBasedApproaches'!$F$201; 'F_MeasurementBasedApproaches'!$F$261; 'F_MeasurementBasedApproaches'!$F$319; 'F_MeasurementBasedApproaches'!$F$377; 'F_MeasurementBasedApproaches'!$F$435"]
[1706,"Nadalje, ovaj list relevantan je za informacije koje je potrebno pružiti kada se provode aktivnosti hvatanja CO2, transporta ili geološkog skladištenja CO2 kako je obuhvaćeno Prilogom I EU ETS Direktive.","Furthermore this sheet is relevant for information to be provided where activities of CO2 capture, transport or geological storage of CO2 as covered by Annex I of the EU ETS Directive are carried out.","J_Transferred GHG'!$D$13"]
[1707,"Ovisno o odabranom pristupu praćenja, informacije o svim tokovima izvora moraju se dostaviti na stranici E_SourceStreams, a sve informacije o mjernim točkama i mjernim instrumentima moraju se dostaviti na stranici F_MeasurementBasedApproaches.","Subject to the monitoring approach chosen, information regarding any source streams are to be provided in sheet E_SourceStreams and any information regarding the measurement points and measuring instruments are to be provided in sheet F_MeasurementBasedApproaches.","J_Transferred GHG'!$D$14"]
[1708,"Ako je dio prenesenog CO2 proizveden iz bilo kojeg ugljika nulte stope (npr. biomasa), ili gdje je postrojenje samo djelomično obuhvaćeno EU ETS Direktivom, navedite detalje pisanog postupka koji se koristi za oduzimanje količine prenesenog CO2 koji ne potječu od aktivnosti fosilnog ugljika obuhvaćenih EU ETS Direktivom.","Where part of the transferred CO2 is generated from any zero-rated carbon (e.g. biomass), or where an installation is only partially covered by the EU ETS Directive, please provide details of the written procedure used for deducting the amount of transferred CO2 which does not originate from fossil carbon activities covered by the EU ETS Directive.","J_Transferred GHG'!$E$66"]
[1709,"Informacije relevantne za transportnu infrastrukturu CO2 koja se koristi za transport CO2 i N2O","Information relevant for CO2 transport infrastructure used for transport of CO2 and N2O","J_Transferred GHG'!$D$80"]
[1710,"Infrastruktura za transport CO2 obuhvaća sve načine transporta CO2 (cjevovodi, brodovi, kamioni, vlakovi itd.) u svrhu geološkog skladištenja. Stoga molimo da u odjeljku C.5.a detaljno opišete organizacijsku strukturu, broj i vrstu uključenih vozila, granice sustava, uključujući sve pomoćne objekte koji su funkcionalno povezani s prometnom infrastrukturom, kao što su međuskladište CO2, uređaj za povećanje tlaka, ukapljivanje, rasplinjavanje, stanice za pročišćavanje ili grijalice itd.","The CO2 transport infrastructure comprises all modes of CO2 transport (pipelines, ships, trucks, train, etc.) for the purpose of geological storage. Please therefore describe in detail in section C.5.a on the organisational structure, the number and type of vehicles involved, the system boundaries, including all ancillary facilities functionally connected to the transport infrastructure, such as CO2 intermediate storage, booster, liquefaction, gasification, purification stations or heaters, etc.","J_Transferred GHG'!$D$82"]
[1711,"Navedite odabrani pristup praćenja za vašu prometnu infrastrukturu:","Please indicate the monitoring approach selected for your transport infrastructure:","J_Transferred GHG'!$E$84"]
[1712,"U skladu s odjeljkom 22.B Priloga IV Uredbe, možete odabrati jednu od dvije metode za transportirani CO2. Metoda A uključuje bilancu mase svih emitiranih CO2 i N2O koji ulaze i izlaze iz prometne infrastrukture, dok se Metoda B temelji na određivanju fugitivnih i ispuštenih emisija, kao i istjecanja, iz svih pojedinačnih izvora emisije.","In accordance with section 22.B of Annex IV of the MRR, you may choose either of two methods for the CO2 transported. Method A involves a mass balance of all CO2 and N2O emitted, entering and leaving the transport infrastructure, while Method B is based on determining fugitive and vented emissions, as well as leakages, from all individual emission sources.","J_Transferred GHG'!$E$85"]
[1713,"Prednost se daje metodi B, osim ako možete dokazati da će metoda A dovesti do pouzdanijih rezultata s manjom nesigurnošću, bez stvaranja neopravdanih troškova.","Preference is given to Method B, unless you can demonstrate that Method A will lead to more reliable results with lower uncertainty, without incurring unreasonable costs.","J_Transferred GHG'!$E$86"]
[1714,"Ako ste odabrali metodu B, morate pružiti dokaze za dokazivanje usklađenosti s ukupnom nesigurnošću od najviše 7,5% za emisije cijele prometne infrastrukture. Ako ste odabrali metodu A, morate dokazati razloge navedene pod a). Ovdje navedite referencu na priloženi dokument prema potrebi.","If you have chosen Method B, you must provide evidence to demonstrate compliance with an overall uncertainty of not more than 7.5% for the emissions of the whole transport infrastructure. If you have chosen Method A, you have to demonstrate the reasons as mentioned under a) above. Please give here a reference to the attached document as appropriate.","J_Transferred GHG'!$E$89"]
[1715,"Gdje je primjenjivo, opišite opremu koja se koristi za mjerenje temperature i tlaka u prometnoj infrastrukturi.","Where applicable, please describe the equipment used for temperature and pressure measurement in the transport infrastructure.","J_Transferred GHG'!$E$91"]
[1716,"Navedite svu opremu koja se koristi za mjerenje temperature i tlaka u prometnoj infrastrukturi u određivanju emisija prilikom događaja istjecanja u skladu s odjeljkom 22. Priloga IV. Uredbe.","Please list all equipment used for measurement of temperature and pressure in the transport infrastructure in the determination of emissions from leakage events in accordance with section 22 of Annex IV of the MRR.","J_Transferred GHG'!$E$92"]
[1717,"Gdje je primjenjivo, navedite pojedinosti pisanog postupka za sprječavanje, otkrivanje i kvantifikaciju događaja istjecanja iz prometne infrastrukture.","Where applicable, please provide details of the written procedure for preventing, detecting and quantification of leakage events from the transport infrastructure.","J_Transferred GHG'!$E$114"]
[1718,"Za prometnu infrastrukturu navedite pojedinosti o pisanom postupku kojim se osigurava da se CO2(e) prenosi samo u postrojenja koja imaju važeću dozvolu za emisiju stakleničkih plinova ili gdje se svaki ispušteni CO2 ili N2O učinkovito prati i obračunava u skladu s člancima 49. i 50. Uredbe","For transport infrastructures, please provide details of the written procedure for ensuring that CO2(e) is transferred only to installations which have a valid greenhouse gas emission permit, or where any emitted CO2 or N2O is effectively monitored and accounted for in accordance with Articles 49 and 50.","J_Transferred GHG'!$E$127"]
[1719,"Ako se Metoda B primjenjuje za prometnu infrastrukturu, ovdje navedite opis postupka korištenog za validaciju rezultata metode B metodom A najmanje jednom godišnje:","If Method B is applied for transport infrastructure, please provide here the description of the procedure used for validating the result of method B with method A at least annually:","J_Transferred GHG'!$E$140"]
[1720,"Ako se primjenjuje metoda A, ovdje navedite opis postupka koji se koristi za sastavljanje godišnjeg inventara CO2 koji godišnje ulazi i izlazi iz transportne infrastrukture CO2 i za praćenje bilo kojeg CO2 u tranzitu, u skladu s člankom 49. stavkom 6. Uredbe","If method A is applied, provide here a description of the procedure used for compiling inventory of CO2 annually entering and leaving the CO2 transport infrastructure and for monitoring any CO2 in transit, in accordance with Article 49(6).","J_Transferred GHG'!$E$179"]
[1721,"J2. Trajni CCU (hvatanje i korištenje ugljika)","J2. Permanent CCU","J2_PermCCU'!$B$2"]
[1722,"J2. CO2 trajno kemijski vezan u proizvodu","J2. CO2 permanently chemically bound in a product","J2_PermCCU'!$C$6"]
[1723,"Određivanje količina CO2 trajno kemijski vezanog","Determination of amounts of CO2 permanently chemically bound","J2_PermCCU'!$D$10"]
[1724,"Napomena: ovaj odjeljak treba ispuniti ako se CO2 hvata i koristi (CCU) u proizvodu u kojem je CO2 trajno kemijski vezan, u skladu s člankom 49a Uredbe. CO2 vezan u proizvodima koji ne zadovoljavaju specifikacije navedene u članku 49.a Uredbe nije ovdje obuhvaćen.","Note: this section is to be completed where CO2 is captured and used (CCU) in a product where the CO2 is permanently chemically bound, in accordance with Article 49a. CO2 bound in any products not meeting the specifications set out in Article 49a is not covered here.","J2_PermCCU'!$D$12"]
[1725,"Navedite detaljan opis procesa u kojem je CO2 trajno kemijski vezan.","Please provide a detailed description of the process in which the CO2 is permanently chemically bound. ","J2_PermCCU'!$E$14"]
[1726,"Navedite sažeti opis pristupa praćenju, uključujući formule, koje se koriste za određivanje godišnje količine CO2 koji je trajno kemijski vezan u proizvodu.","Please provide a concise description of the monitoring approach, including formulae, used to determine the annual amount of CO2 being permanently chemically bound in a product.","J2_PermCCU'!$E$15"]
[1727,"Ovo bi posebno trebalo obuhvatiti proces u kojem je CO2 kemijski vezan, granice sustava procesa, lokaciju (bilo na licu mjesta ili u drugom postrojenju ili subjektu), te relevantni ulazni i izlazni materijal i njihov kemijski sastav, posebno sadržaj ugljika. Provjerite je li ovaj izračun u skladu s člankom 49.a Uredbe.","This should cover in particular the process in which the CO2 is chemically bound, the system boundaries of the process, the location (either onsite or in another installation or entity), and the relevant input and output material and their chemical composition, in particular the carbon contents. Please make sure that this calculation is in line with Article 49a of the MRR.","J2_PermCCU'!$E$16"]
[1728,"Ovdje navedite opis postupka koji se koristi za utvrđivanje ispunjava li ili ne proizvod u kojem je CO2 trajno kemijski vezan u skladu s člankom 49.a stavkom 1. Uredbe zahtjeve utvrđene u delegiranoj Uredbi 2024/2620  i vrste uporabe tih proizvoda.","Provide here a description of the procedure used to determine whether or not a product in which the CO2 is permanently chemically bound in accordance with Article 49a(1) of this Regulation, meets the requirements set out in the delegated Regulation pursuant to Article 12(3b) of Directive 2003/87/EC and the types of uses of those products.","J2_PermCCU'!$E$41"]
[1729,"Ovdje navedite opis postupka korištenog za metodologiju izračuna za određivanje količina trajno kemijski vezanog CO2 u skladu s člankom 49.a stavkom 2. Uredbe","Provide here a description of the procedure used for the calculation methodology for determining the CO2 amounts permanently chemically bound in accordance with Article 49a(2). ","J2_PermCCU'!$E$54"]
[1730,"Rok za izvješća o poboljšanju je svake dvije godine za kategoriju C, svake tri godine za kategoriju B i pet godina za postrojenja kategorije A.","The deadline for the improvement reports is every two years for category C, every three years for category B and five years for category A installations. ","K_ManagementControl'!$E$77"]
[1731,"Ovo je ažurirana verzija obrasca plana praćenja za postrojenja od 17. prosinca 2024., s manjim izmjenama od 2. rujna 2025.","This is the updated version of the monitoring plan template for installations, as of 17 December 2024, with further minor updates of 2 September 2025."]

{"sheet":"VersionDocumentation","index":20,"n_rows":91,"n_cols":3,"rows_kept":91,"cut":false,"hidden":true,"merged":[]}
["Info for automatic Version detection"]
["Template type:","Phase 4 Installation Monitoring Plan"]
["Version:","2025-09-02",{"$f":"IF(ISNUMBER(MATCH(B3,A18:A29,0)),VLOOKUP(B3,A18:B29,2,FALSE),\"---\")","v":"MP P4 Inst_COM_hr_020925.xls"}]
["Issued by:","European Commission"]
["Language:","Croatian"]
[]
["Type list:"]
["Monitoring plan tonne-kilometre data",null,"MP TKM"]
["Monitoring plan annual emissions",null,"MP AEm"]
["Report tonne-kilometre data",null,"Report TKM"]
["Report annual emissions",null,"Report AEm"]
["Phase 3 Installation Monitoring Plan",null,"MP P3 Inst"]
["Phase 4 Installation Monitoring Plan",null,"MP P4 Inst"]
["Phase 4 Monitoring Plan Aircraft operators",null,"MP P3 Aircraft"]
["Phase 4 Monitoring Plan Aircraft t-km",null,"MP P3 TKM"]
[]
["Version list","Reference File Name","Version comments"]
["2020-08-06",{"$f":"IF(ISBLANK($A18),\"---\", VLOOKUP($B$2,$A$8:$C$15,3,0) & \"_\" & VLOOKUP($B$4,$A$32:$B$64,2,0)&\"_\"&VLOOKUP($B$5,$A$67:$B$91,2,0)&\"_\"& TEXT(DAY($A18),\"0#\")& TEXT(MONTH($A18),\"0#\")& TEXT(YEAR($A18)-2000,\"0#\")&\".xls\")","v":"MP P4 Inst_COM_hr_060820.xls"},"First draft Amendments UBA based on 3rd phase template"]
["2020-11-02","MP P4 Inst_COM_hr_021120.xls","2nd draft to CCC"]
["2020-11-03","MP P4 Inst_COM_hr_031120.xls","updated for translations"]
["2020-12-04",{"$f":"IF(ISBLANK($A21),\"---\", VLOOKUP($B$2,$A$8:$C$15,3,0) & \"_\" & VLOOKUP($B$4,$A$32:$B$64,2,0)&\"_\"&VLOOKUP($B$5,$A$67:$B$91,2,0)&\"_\"& TEXT(DAY($A21),\"0#\")& TEXT(MONTH($A21),\"0#\")& TEXT(YEAR($A21)-2000,\"0#\")&\".xls\")","v":"MP P4 Inst_COM_hr_041220.xls"},"endorsed by CCC"]
["2023-02-08","MP P4 Inst_COM_hr_080223.xls","Cement EF tier fix"]
["2023-11-30","MP P4 Inst_COM_hr_301123.xls","update for inclusion of muncipal waste incinerators (new Annex I activity and source stream name \"waste\")"]
["2024-12-17","MP P4 Inst_COM_hr_171224.xls","update for MRR as amended incl. 2024"]
["2025-07-21","MP P4 Inst_COM_hr_210725.xls","Minor update (sheet F relevance for CCS, Accounting sheet errors)"]
["2025-09-02","MP P4 Inst_COM_hr_020925.xls","Minor update to conditional formatting related to CCS"]
[null,"---"]
[null,"---"]
[null,"---"]
[]
["Issued by:"]
["European Commission","COM"]
["Umweltbundesamt","UBA"]
["Austria","AT"]
["Belgium","BE"]
["Bulgaria","BG"]
["Croatia","HR"]
["Cyprus","CY"]
["Czech Republic","CZ"]
["Denmark","DK"]
["Estonia","EE"]
["Finland","FI"]
["France","FR"]
["Germany","DE"]
["Greece","EL"]
["Hungary","HU"]
["Iceland","IC"]
["Ireland","IE"]
["Italy","IT"]
["Latvia","LV"]
["Liechtenstein","LI"]
["Lithuania","LT"]
["Luxembourg","LU"]
["Malta","MT"]
["Netherlands","NL"]
["Norway","NO"]
["Poland","PL"]
["Portugal","PT"]
["Romania","RO"]
["Slovakia","SK"]
["Slovenia","SI"]
["Spain","ES"]
["Sweden","SE"]
["United Kingdom","UK"]
[]
["Languages list"]
["Bulgarian","bg"]
["Spanish","es"]
["Croatian","hr"]
["Czech","cs"]
["Danish","da"]
["German","de"]
["Estonian","et"]
["Greek","el"]
["English","en"]
["French","fr"]
["Icelandic","ic"]
["Italian","it"]
["Latvian","lv"]
["Lithuanian","lt"]
["Hungarian","hu"]
["Maltese","mt"]
["Norwegian","no"]
["Dutch","nl"]
["Polish","pl"]
["Portuguese","pt"]
["Romanian","ro"]
["Slovak","sk"]
["Slovenian","sl"]
["Finnish","fi"]
["Swedish","sv"]

{"sheet":"empty","index":21,"n_rows":0,"n_cols":0,"rows_kept":0,"cut":false,"hidden":false,"merged":[]}